{"text_format":"1","workbook":"xlsx","n_sheets":2,"sheets":["data","score"],"not_rendered":{"charts":0,"images":0,"macros":1,"external_links":1,"defined_names":27,"comments":1,"pivot_tables":0},"unopened":[],"bounds":{"document_bytes":16777216,"sheet_cells":100000,"rows_first":2000,"rows_last":500,"rows_between":2000,"halvings":0,"cell_chars":16384,"cell_head_chars":4096},"cells_cut":0,"cells_raw":0,"read":"whole","date_system":"1900"}

{"sheet":"data","index":0,"n_rows":1177,"n_cols":20,"rows_kept":1177,"cut":false,"hidden":false,"merged":[[0,0,0,24]]}
[]
[]
["2020-01-27",null,null,null,1,"06:00:00","07:10:00",{"$f":"IF((G3-F3)<=0,\"\",(G3-F3))","v":4.8611111111111105E-2},"06:00:00","07:10:00",{"$f":"IF((J3-I3)<=0,\"\",(J3-I3))","v":4.8611111111111105E-2},4.1666666666666664E-2,{"$f":"IFERROR(IF((K3-L3)<=0,\"0\",(K3-L3)),\"\")","v":6.9444444444444406E-3},3.8194444444444441E-2,0,0.63049999999999995,0.54,{"$f":"IF(P3=\"\",\"\",IFERROR(P3-Q3,\"\"))","v":9.0499999999999914E-2},{"$f":"IF( N3 <> \"\", IF(AND(E3<\"100%\", M3>0, O3>N3), \"Miss\", \"Hit\"), \"\")","v":"Hit"}]
["2020-01-27",null,null,null,1,"06:00:00","06:49:00",{"$f":"IF((G4-F4)<=0,\"\",(G4-F4))","v":3.4027777777777768E-2},"06:00:00","06:53:00",{"$f":"IF((J4-I4)<=0,\"\",(J4-I4))","v":3.6805555555555536E-2},3.8194444444444441E-2,"0",1.7361111111111112E-2,3.0439814814814821E-3,0.54979999999999996,0.63739999999999997,{"$f":"IF(P4=\"\",\"\",IFERROR(P4-Q4,\"\"))","v":-8.7600000000000011E-2},{"$f":"IF( N4 <> \"\", IF(AND(E4<\"100%\", M4>0, O4>N4), \"Miss\", \"Hit\"), \"\")","v":"Hit"}]
["2020-02-03",null,null,null,1,"06:00:00","07:20:00",{"$f":"IF((G5-F5)<=0,\"\",(G5-F5))","v":5.5555555555555525E-2},"06:00:00","07:30:00",6.25E-2,6.25E-2,"0",3.8194444444444441E-2,1.0335648148148148E-2,0.5645,0.32679999999999998,0.23770000000000002,"Hit"]
["2020-02-10",null,null,null,1,"06:00:00","06:20:00",1.3888888888888895E-2,"06:00:00","06:40:00",2.777777777777779E-2,4.5138888888888888E-2,"0","",null,0.53459999999999996,0.47949999999999998,5.5099999999999982E-2,""]
["2020-02-10",null,null,null,1,"06:00:00","06:35:00",2.4305555555555525E-2,"06:00:00","06:25:00",1.7361111111111105E-2,3.125E-2,"0",1.3888888888888888E-2,0,0.56010000000000004,0.60229999999999995,-4.2199999999999904E-2,"Hit"]
["2020-02-18",null,null,null,1,"06:00:00","07:00:00",4.1666666666666685E-2,"06:00:00","09:00:00",0.125,4.8611111111111112E-2,7.6388888888888895E-2,1.7361111111111112E-2,1.5462962962962901E-2,0.54110000000000003,0.46879999999999999,7.2300000000000031E-2,"Hit"]
["2020-02-18",null,null,null,1,"06:00:00","06:25:00",1.7361111111111105E-2,"06:00:00","07:00:00",4.1666666666666685E-2,3.8194444444444441E-2,3.4722222222222446E-3,1.7361111111111112E-2,0,0.6361,0.43919999999999998,0.19690000000000002,"Hit"]
["2020-02-24",null,null,null,1,"06:00:00","06:30:00",2.0833333333333315E-2,"06:00:00","06:40:00",2.777777777777779E-2,4.1666666666666664E-2,"0",1.7361111111111112E-2,6.2731481481481484E-3,0.4758,0.57320000000000004,-9.7400000000000042E-2,"Hit"]
["2020-02-25",null,null,null,1,"06:00:00","06:27:00",1.8749999999999989E-2,"06:00:00","06:50:00",3.472222222222221E-2,5.2083333333333336E-2,"0",1.3888888888888888E-2,4.8379629629629632E-3,0.60429999999999995,0.57899999999999996,2.5299999999999989E-2,"Hit"]
["2020-03-02",null,null,null,1,"06:00:00","07:00:00",4.1666666666666685E-2,"06:00:00","06:50:00",3.472222222222221E-2,3.8194444444444441E-2,"0",1.7361111111111112E-2,5.9722222222222225E-2,0.4798,0.44369999999999998,3.6100000000000021E-2,"Miss"]
["2020-03-02",null,null,null,1,"06:00:00","06:30:00",2.0833333333333315E-2,"06:00:00","07:05:00",4.5138888888888895E-2,4.1666666666666664E-2,3.4722222222222307E-3,1.3888888888888888E-2,1.3078703703703705E-3,0.57899999999999996,0.5181,6.0899999999999954E-2,"Hit"]
["2020-03-09",null,null,null,1,"06:00:00","07:00:00",4.1666666666666685E-2,"06:00:00","07:00:00",4.1666666666666685E-2,4.5138888888888888E-2,"0",1.7361111111111112E-2,8.4722222222222213E-3,0.57730000000000004,0.50249999999999995,7.4800000000000089E-2,"Hit"]
["2020-03-09",null,null,null,1,"06:00:00","06:35:00",2.4305555555555525E-2,"06:30:00","07:40:00",4.861111111111116E-2,4.5138888888888888E-2,3.4722222222222723E-3,3.8194444444444441E-2,9.2708333333333341E-3,0.52229999999999999,0.3947,0.12759999999999999,"Hit"]
["2020-03-09",null,null,null,1,"06:00:00","06:20:00",1.3888888888888895E-2,"06:00:00","06:30:00",2.0833333333333315E-2,2.7777777777777776E-2,"0",1.3888888888888888E-2,1.861111111111111E-2,0.6048,0.67,-6.5200000000000036E-2,"Miss"]
["2020-03-09",null,null,null,1,"06:00:00","06:30:00",2.0833333333333315E-2,"06:00:00","06:40:00",2.777777777777779E-2,4.5138888888888888E-2,"0",1.7361111111111112E-2,0,0.54,0.59319999999999995,-5.3199999999999914E-2,"Hit"]
["2020-03-18",null,null,null,1,"04:00:00","04:30:00",{"$f":"IF((G18-F18)<=0,\"\",(G18-F18))","v":2.0833333333333343E-2},"04:50:00","05:52:00",{"$f":"IF((J18-I18)<=0,\"\",(J18-I18))","v":4.3055555555555597E-2},4.5138888888888888E-2,"0",3.8194444444444441E-2,0,0.46339999999999998,0.59209999999999996,{"$f":"IF(P18=\"\",\"\",IFERROR(P18-Q18,\"\"))","v":-0.12869999999999998},"Hit"]
["2020-03-30",null,null,null,1,"06:00:00","06:15:00",1.0416666666666685E-2,"06:00:00","06:50:00",3.472222222222221E-2,4.5138888888888888E-2,"0",1.7361111111111112E-2,3.6574074074074425E-3,0.60870000000000002,0.35099999999999998,{"$f":"IF(P19=\"\",\"\",IFERROR(P19-Q19,\"\"))","v":0.25770000000000004},"Hit"]
["2020-04-21",null,null,null,1,"06:00:00","06:20:00",1.3888888888888895E-2,"06:00:00","06:45:00",3.125E-2,4.1666666666666664E-2,"0",1.7361111111111112E-2,3.3564814814814811E-3,0.57920000000000005,0.65,-7.0799999999999974E-2,"Hit"]
["2020-04-21",null,null,null,1,"06:00:00","06:30:00",{"$f":"IF((G21-F21)<=0,\"\",(G21-F21))","v":2.0833333333333315E-2},"06:00:00","06:45:00",{"$f":"IF((J21-I21)<=0,\"\",(J21-I21))","v":3.125E-2},3.8194444444444441E-2,"0",1.3888888888888888E-2,5.9143518518518521E-3,0.5554,0.45900000000000002,9.6399999999999986E-2,"Hit"]
["2020-04-21",null,null,null,1,"06:00:00","06:30:00",2.0833333333333315E-2,"06:00:00","07:00:00",4.1666666666666685E-2,4.8611111111111112E-2,"0",3.8194444444444441E-2,0.12630787037037039,0.63049999999999995,0.52629999999999999,0.10419999999999996,"Miss"]
["2020-04-27",null,null,null,1,"06:00:00","06:30:00",2.0833333333333315E-2,"06:00:00","07:00:00",4.1666666666666685E-2,5.2083333333333336E-2,"0",3.8194444444444441E-2,8.5972222222222228E-2,0.61529999999999996,0.63959999999999995,-2.4299999999999988E-2,"Miss"]
["2020-04-27",null,null,null,1,"06:00:00","06:30:00",2.0833333333333315E-2,"06:00:00","07:00:00",4.1666666666666685E-2,5.5555555555555552E-2,"0",1.7361111111111112E-2,0.23037037037037036,0.54079999999999995,0.6169,-7.6100000000000056E-2,"Miss"]
["2020-04-27",null,null,null,1,"06:00:00","06:30:00",2.0833333333333315E-2,"06:00:00","06:45:00",3.125E-2,5.2083333333333336E-2,"0",1.7361111111111112E-2,3.9849537037037031E-2,0.62770000000000004,0.56910000000000005,5.8599999999999985E-2,"Miss"]
["2020-04-27",null,null,null,1,"06:00:00","06:30:00",2.0833333333333315E-2,"06:00:00","07:15:00",5.2083333333333315E-2,4.8611111111111112E-2,3.4722222222222029E-3,1.3888888888888888E-2,5.1712962962962961E-2,0.55010000000000003,0.58399999999999996,-3.389999999999993E-2,"Miss"]
["2020-05-04",null,null,null,1,"06:00:00","06:20:00",1.3888888888888895E-2,"06:00:00","06:50:00",3.472222222222221E-2,4.1666666666666664E-2,"0",1.7361111111111112E-2,0,0.61639999999999995,0.57340000000000002,4.2999999999999927E-2,"Hit"]
["2020-05-04",null,null,null,1,"06:00:00","06:30:00",2.0833333333333315E-2,"06:00:00","06:45:00",3.125E-2,4.8611111111111112E-2,"0",1.3888888888888888E-2,1.0868055555555534E-2,0.52049999999999996,0.5847,-6.4200000000000035E-2,"Hit"]
["2020-05-04",null,null,null,1,"06:00:00","06:40:00",2.777777777777779E-2,"06:00:00","06:55:00",3.8194444444444475E-2,4.8611111111111112E-2,"0",3.8194444444444441E-2,1.1458333333333348E-2,0.56630000000000003,0.46239999999999998,0.10390000000000005,"Hit"]
["2020-05-11",null,null,null,1,"06:00:00","06:25:00",1.7361111111111105E-2,"06:00:00","06:45:00",3.125E-2,4.8611111111111112E-2,"0",1.7361111111111112E-2,1.4710648148148153E-2,0.62219999999999998,0.58550000000000002,3.6699999999999955E-2,"Hit"]
["2020-05-11",null,null,null,1,"06:00:00","07:40:00",6.9444444444444475E-2,"07:30:00","08:35:00",4.5138888888888895E-2,5.2083333333333336E-2,"0",1.7361111111111112E-2,0,0.49669999999999997,0.57969999999999999,-8.3000000000000018E-2,"Hit"]
["2020-05-21",null,null,null,1,"06:00:00","06:30:00",2.0833333333333315E-2,"06:00:00","06:45:00",3.125E-2,3.8194444444444441E-2,"0","",null,0.4698,0.4708,-1.0000000000000009E-3,""]
["2020-05-25",null,null,null,1,"06:00:00","06:45:00",3.125E-2,"06:00:00","07:15:00",5.2083333333333315E-2,5.2083333333333336E-2,"0",1.7361111111111112E-2,1.6446759259259258E-2,0.62339999999999995,0.52639999999999998,9.6999999999999975E-2,"Hit"]
["2020-05-26",null,null,null,1,"02:00:00","02:30:00",2.0833333333333343E-2,"06:00:00","07:00:00",4.1666666666666685E-2,5.2083333333333336E-2,"0","",null,0.4078,0.54890000000000005,-0.14110000000000006,""]
["2020-05-27",null,null,null,1,"06:00:00","06:30:00",2.0833333333333315E-2,"06:00:00","07:31:00",6.3194444444444442E-2,5.2083333333333336E-2,1.1111111111111106E-2,1.7361111111111112E-2,3.8194444444444864E-3,0.57169999999999999,0.35759999999999997,0.21410000000000001,"Hit"]
["2020-06-03",null,null,null,1,"06:00:00","06:10:00",6.9444444444444753E-3,"05:30:00","06:10:00",2.7777777777777818E-2,5.2083333333333336E-2,"0",3.8194444444444441E-2,1.6423611111111069E-2,0.63039999999999996,0.67069999999999996,-4.0300000000000002E-2,"Hit"]
["2020-06-16",null,null,null,1,"10:00:00","12:00:00",8.3333333333333315E-2,"11:00:00","12:00:00",4.1666666666666685E-2,5.2083333333333336E-2,"0","",null,0.53849999999999998,0.53269999999999995,5.8000000000000274E-3,""]
["2020-06-22",null,null,null,1,"06:00:00","06:30:00",2.0833333333333315E-2,"06:00:00","06:45:00",3.125E-2,3.125E-2,"0",1.7361111111111112E-2,0,0.47339999999999999,0.39700000000000002,7.6399999999999968E-2,"Hit"]
["2020-07-27",null,null,null,1,"06:00:00","08:30:00",{"$f":"IF((G39-F39)<=0,\"\",(G39-F39))","v":0.10416666666666669},"06:00:00","08:25:00",{"$f":"IF((J39-I39)<=0,\"\",(J39-I39))","v":0.10069444444444442},0.10416666666666667,"0",1.7361111111111112E-2,0,0.48380000000000001,0.52769999999999995,{"$f":"IF(P39=\"\",\"\",IFERROR(P39-Q39,\"\"))","v":-4.3899999999999939E-2},"Hit"]
["2020-07-27",null,null,null,1,"06:00:00","08:00:00",8.3333333333333315E-2,"06:00:00","08:00:00",8.3333333333333315E-2,8.3333333333333329E-2,"0",1.7361111111111112E-2,1.9236111111111065E-2,0.57189999999999996,0.50490000000000002,6.6999999999999948E-2,"Miss"]
["2020-07-27",null,null,null,0.8387,"06:00:00","07:00:00",4.1666666666666685E-2,"06:00:00","08:00:00",8.3333333333333315E-2,0.11805555555555557,"0",1.3888888888888888E-2,0,0.56440000000000001,0.55889999999999995,5.5000000000000604E-3,"Hit"]
["2020-07-29",null,null,null,1,"22:00:00","23:45:00",{"$f":"IF((G42-F42)<=0,\"\",(G42-F42))","v":7.2916666666666741E-2},"22:00:00","23:43:00",{"$f":"IF((J42-I42)<=0,\"\",(J42-I42))","v":7.1527777777777746E-2},7.2916666666666671E-2,"0","",null,0.54269999999999996,0.5504,{"$f":"IF(P42=\"\",\"\",IFERROR(P42-Q42,\"\"))","v":-7.7000000000000401E-3},""]
["2020-08-03",null,null,null,1,"06:00:00","06:30:00",2.0833333333333315E-2,"06:00:00","06:30:00",2.0833333333333315E-2,4.1666666666666664E-2,"0",1.7361111111111112E-2,2.6041666666666297E-3,0.59240000000000004,0.64810000000000001,-5.5699999999999972E-2,"Hit"]
["2020-08-10",null,null,null,1,"06:00:00","06:30:00",2.0833333333333315E-2,"06:00:00","07:15:00",5.2083333333333315E-2,5.2083333333333336E-2,"0","",null,0.51339999999999997,0.38109999999999999,0.13229999999999997,"","No"]
["2020-08-10",null,null,null,1,"06:00:00","06:30:00",2.0833333333333315E-2,"06:00:00","07:00:00",4.1666666666666685E-2,4.8611111111111112E-2,"0",3.8194444444444441E-2,5.4502314814814767E-2,0.68259999999999998,0.47149999999999997,0.21110000000000001,"Miss","No"]
["2020-08-17",null,null,null,1,"06:00:00","06:50:00",3.472222222222221E-2,"06:00:00","06:50:00",3.472222222222221E-2,4.1666666666666664E-2,{"$f":"IFERROR(IF((K46-L46)<=0,\"0\",(K46-L46)),\"\")","v":"0"},3.8194444444444441E-2,0,0.56930000000000003,0.64329999999999998,-7.3999999999999955E-2,"Hit"]
[null,null,{"$f":"IFERROR(VLOOKUP(B47,#REF!,2,FALSE),\"\")","v":""},{"$f":"IFERROR(VLOOKUP(B47,#REF!,3,FALSE),\"\")","v":""},null,null,null,"",null,null,"",null,{"$f":"IFERROR(IF((K47-L47)<=0,\"0\",(K47-L47)),\"\")","v":""},{"$f":"IFERROR(VLOOKUP(B47,#REF!,9,FALSE),\"\")","v":""},null,null,null,"",""]
[null,null,{"$f":"IFERROR(VLOOKUP(B48,#REF!,2,FALSE),\"\")","v":""},{"$f":"IFERROR(VLOOKUP(B48,#REF!,3,FALSE),\"\")","v":""},null,null,null,"",null,null,"",null,"",{"$f":"IFERROR(VLOOKUP(B48,#REF!,9,FALSE),\"\")","v":""},null,null,null,"",""]
[null,null,{"$f":"IFERROR(VLOOKUP(B49,#REF!,2,FALSE),\"\")","v":""},{"$f":"IFERROR(VLOOKUP(B49,#REF!,3,FALSE),\"\")","v":""},null,null,null,"",null,null,"",null,"",{"$f":"IFERROR(VLOOKUP(B49,#REF!,9,FALSE),\"\")","v":""},null,null,null,"",""]
[null,null,{"$f":"IFERROR(VLOOKUP(B50,#REF!,2,FALSE),\"\")","v":""},{"$f":"IFERROR(VLOOKUP(B50,#REF!,3,FALSE),\"\")","v":""},null,null,null,"",null,null,"",null,"",{"$f":"IFERROR(VLOOKUP(B50,#REF!,9,FALSE),\"\")","v":""},null,null,null,"",""]
[null,null,{"$f":"IFERROR(VLOOKUP(B51,#REF!,2,FALSE),\"\")","v":""},{"$f":"IFERROR(VLOOKUP(B51,#REF!,3,FALSE),\"\")","v":""},null,null,null,"",null,null,"",null,"",{"$f":"IFERROR(VLOOKUP(B51,#REF!,9,FALSE),\"\")","v":""},null,null,null,"",""]
[null,null,{"$f":"IFERROR(VLOOKUP(B52,#REF!,2,FALSE),\"\")","v":""},{"$f":"IFERROR(VLOOKUP(B52,#REF!,3,FALSE),\"\")","v":""},null,null,null,"",null,null,"",null,"",{"$f":"IFERROR(VLOOKUP(B52,#REF!,9,FALSE),\"\")","v":""},null,null,null,"",""]
[null,null,{"$f":"IFERROR(VLOOKUP(B53,#REF!,2,FALSE),\"\")","v":""},{"$f":"IFERROR(VLOOKUP(B53,#REF!,3,FALSE),\"\")","v":""},null,null,null,"",null,null,"",null,"",{"$f":"IFERROR(VLOOKUP(B53,#REF!,9,FALSE),\"\")","v":""},null,null,null,"",""]
[null,null,{"$f":"IFERROR(VLOOKUP(B54,#REF!,2,FALSE),\"\")","v":""},{"$f":"IFERROR(VLOOKUP(B54,#REF!,3,FALSE),\"\")","v":""},null,null,null,"",null,null,"",null,"",{"$f":"IFERROR(VLOOKUP(B54,#REF!,9,FALSE),\"\")","v":""},null,null,null,"",""]
[null,null,{"$f":"IFERROR(VLOOKUP(B55,#REF!,2,FALSE),\"\")","v":""},{"$f":"IFERROR(VLOOKUP(B55,#REF!,3,FALSE),\"\")","v":""},null,null,null,"",null,null,"",null,"",{"$f":"IFERROR(VLOOKUP(B55,#REF!,9,FALSE),\"\")","v":""},null,null,null,"",""]
[null,null,{"$f":"IFERROR(VLOOKUP(B56,#REF!,2,FALSE),\"\")","v":""},{"$f":"IFERROR(VLOOKUP(B56,#REF!,3,FALSE),\"\")","v":""},null,null,null,"",null,null,"",null,"",{"$f":"IFERROR(VLOOKUP(B56,#REF!,9,FALSE),\"\")","v":""},null,null,null,"",""]
[null,null,{"$f":"IFERROR(VLOOKUP(B57,#REF!,2,FALSE),\"\")","v":""},{"$f":"IFERROR(VLOOKUP(B57,#REF!,3,FALSE),\"\")","v":""},null,null,null,"",null,null,"",null,"",{"$f":"IFERROR(VLOOKUP(B57,#REF!,9,FALSE),\"\")","v":""},null,null,null,"",""]
[null,null,{"$f":"IFERROR(VLOOKUP(B58,#REF!,2,FALSE),\"\")","v":""},{"$f":"IFERROR(VLOOKUP(B58,#REF!,3,FALSE),\"\")","v":""},null,null,null,"",null,null,"",null,"",{"$f":"IFERROR(VLOOKUP(B58,#REF!,9,FALSE),\"\")","v":""},null,null,null,"",""]
[null,null,{"$f":"IFERROR(VLOOKUP(B59,#REF!,2,FALSE),\"\")","v":""},{"$f":"IFERROR(VLOOKUP(B59,#REF!,3,FALSE),\"\")","v":""},null,null,null,"",null,null,"",null,"",{"$f":"IFERROR(VLOOKUP(B59,#REF!,9,FALSE),\"\")","v":""},null,null,null,"",""]
[null,null,{"$f":"IFERROR(VLOOKUP(B60,#REF!,2,FALSE),\"\")","v":""},{"$f":"IFERROR(VLOOKUP(B60,#REF!,3,FALSE),\"\")","v":""},null,null,null,"",null,null,"",null,"",{"$f":"IFERROR(VLOOKUP(B60,#REF!,9,FALSE),\"\")","v":""},null,null,null,"",""]
[null,null,{"$f":"IFERROR(VLOOKUP(B61,#REF!,2,FALSE),\"\")","v":""},{"$f":"IFERROR(VLOOKUP(B61,#REF!,3,FALSE),\"\")","v":""},null,null,null,"",null,null,"",null,"",{"$f":"IFERROR(VLOOKUP(B61,#REF!,9,FALSE),\"\")","v":""},null,null,null,"",""]
[null,null,{"$f":"IFERROR(VLOOKUP(B62,#REF!,2,FALSE),\"\")","v":""},{"$f":"IFERROR(VLOOKUP(B62,#REF!,3,FALSE),\"\")","v":""},null,null,null,"",null,null,"",null,"",{"$f":"IFERROR(VLOOKUP(B62,#REF!,9,FALSE),\"\")","v":""},null,null,null,"",""]
[null,null,{"$f":"IFERROR(VLOOKUP(B63,#REF!,2,FALSE),\"\")","v":""},{"$f":"IFERROR(VLOOKUP(B63,#REF!,3,FALSE),\"\")","v":""},null,null,null,"",null,null,"",null,"",{"$f":"IFERROR(VLOOKUP(B63,#REF!,9,FALSE),\"\")","v":""},null,null,null,"",""]
[null,null,{"$f":"IFERROR(VLOOKUP(B64,#REF!,2,FALSE),\"\")","v":""},{"$f":"IFERROR(VLOOKUP(B64,#REF!,3,FALSE),\"\")","v":""},null,null,null,"",null,null,"",null,"",{"$f":"IFERROR(VLOOKUP(B64,#REF!,9,FALSE),\"\")","v":""},null,null,null,"",""]
[null,null,{"$f":"IFERROR(VLOOKUP(B65,#REF!,2,FALSE),\"\")","v":""},{"$f":"IFERROR(VLOOKUP(B65,#REF!,3,FALSE),\"\")","v":""},null,null,null,"",null,null,"",null,"",{"$f":"IFERROR(VLOOKUP(B65,#REF!,9,FALSE),\"\")","v":""},null,null,null,"",""]
[null,null,{"$f":"IFERROR(VLOOKUP(B66,#REF!,2,FALSE),\"\")","v":""},{"$f":"IFERROR(VLOOKUP(B66,#REF!,3,FALSE),\"\")","v":""},null,null,null,"",null,null,"",null,"",{"$f":"IFERROR(VLOOKUP(B66,#REF!,9,FALSE),\"\")","v":""},null,null,null,"",""]
[null,null,{"$f":"IFERROR(VLOOKUP(B67,#REF!,2,FALSE),\"\")","v":""},{"$f":"IFERROR(VLOOKUP(B67,#REF!,3,FALSE),\"\")","v":""},null,null,null,"",null,null,"",null,"",{"$f":"IFERROR(VLOOKUP(B67,#REF!,9,FALSE),\"\")","v":""},null,null,null,"",""]
[null,null,{"$f":"IFERROR(VLOOKUP(B68,#REF!,2,FALSE),\"\")","v":""},{"$f":"IFERROR(VLOOKUP(B68,#REF!,3,FALSE),\"\")","v":""},null,null,null,"",null,null,"",null,"",{"$f":"IFERROR(VLOOKUP(B68,#REF!,9,FALSE),\"\")","v":""},null,null,null,"",{"$f":"IF( N68 <> \"\", IF(AND(E68<\"100%\", M68>0, O68>N68), \"Miss\", \"Hit\"), \"\")","v":""}]
[null,null,{"$f":"IFERROR(VLOOKUP(B69,#REF!,2,FALSE),\"\")","v":""},{"$f":"IFERROR(VLOOKUP(B69,#REF!,3,FALSE),\"\")","v":""},null,null,null,"",null,null,"",null,"",{"$f":"IFERROR(VLOOKUP(B69,#REF!,9,FALSE),\"\")","v":""},null,null,null,"",""]
[null,null,{"$f":"IFERROR(VLOOKUP(B70,#REF!,2,FALSE),\"\")","v":""},{"$f":"IFERROR(VLOOKUP(B70,#REF!,3,FALSE),\"\")","v":""},null,null,null,"",null,null,"",null,"",{"$f":"IFERROR(VLOOKUP(B70,#REF!,9,FALSE),\"\")","v":""},null,null,null,"",""]
[null,null,{"$f":"IFERROR(VLOOKUP(B71,#REF!,2,FALSE),\"\")","v":""},{"$f":"IFERROR(VLOOKUP(B71,#REF!,3,FALSE),\"\")","v":""},null,null,null,"",null,null,"",null,"",{"$f":"IFERROR(VLOOKUP(B71,#REF!,9,FALSE),\"\")","v":""},null,null,null,"",""]
[null,null,{"$f":"IFERROR(VLOOKUP(B72,#REF!,2,FALSE),\"\")","v":""},{"$f":"IFERROR(VLOOKUP(B72,#REF!,3,FALSE),\"\")","v":""},null,null,null,"",null,null,"",null,"",{"$f":"IFERROR(VLOOKUP(B72,#REF!,9,FALSE),\"\")","v":""},null,null,null,"",""]
[null,null,{"$f":"IFERROR(VLOOKUP(B73,#REF!,2,FALSE),\"\")","v":""},{"$f":"IFERROR(VLOOKUP(B73,#REF!,3,FALSE),\"\")","v":""},null,null,null,"",null,null,"",null,"",{"$f":"IFERROR(VLOOKUP(B73,#REF!,9,FALSE),\"\")","v":""},null,null,null,"",""]
[null,null,{"$f":"IFERROR(VLOOKUP(B74,#REF!,2,FALSE),\"\")","v":""},{"$f":"IFERROR(VLOOKUP(B74,#REF!,3,FALSE),\"\")","v":""},null,null,null,"",null,null,"",null,"",{"$f":"IFERROR(VLOOKUP(B74,#REF!,9,FALSE),\"\")","v":""},null,null,null,"",""]
[null,null,{"$f":"IFERROR(VLOOKUP(B75,#REF!,2,FALSE),\"\")","v":""},{"$f":"IFERROR(VLOOKUP(B75,#REF!,3,FALSE),\"\")","v":""},null,null,null,"",null,null,"",null,"",{"$f":"IFERROR(VLOOKUP(B75,#REF!,9,FALSE),\"\")","v":""},null,null,null,"",""]
[null,null,{"$f":"IFERROR(VLOOKUP(B76,#REF!,2,FALSE),\"\")","v":""},{"$f":"IFERROR(VLOOKUP(B76,#REF!,3,FALSE),\"\")","v":""},null,null,null,"",null,null,"",null,"",{"$f":"IFERROR(VLOOKUP(B76,#REF!,9,FALSE),\"\")","v":""},null,null,null,"",""]
[null,null,{"$f":"IFERROR(VLOOKUP(B77,#REF!,2,FALSE),\"\")","v":""},{"$f":"IFERROR(VLOOKUP(B77,#REF!,3,FALSE),\"\")","v":""},null,null,null,"",null,null,"",null,"",{"$f":"IFERROR(VLOOKUP(B77,#REF!,9,FALSE),\"\")","v":""},null,null,null,"",""]
[null,null,{"$f":"IFERROR(VLOOKUP(B78,#REF!,2,FALSE),\"\")","v":""},{"$f":"IFERROR(VLOOKUP(B78,#REF!,3,FALSE),\"\")","v":""},null,null,null,"",null,null,"",null,"",{"$f":"IFERROR(VLOOKUP(B78,#REF!,9,FALSE),\"\")","v":""},null,null,null,"",""]
[null,null,{"$f":"IFERROR(VLOOKUP(B79,#REF!,2,FALSE),\"\")","v":""},{"$f":"IFERROR(VLOOKUP(B79,#REF!,3,FALSE),\"\")","v":""},null,null,null,"",null,null,"",null,"",{"$f":"IFERROR(VLOOKUP(B79,#REF!,9,FALSE),\"\")","v":""},null,null,null,"",""]
[null,null,{"$f":"IFERROR(VLOOKUP(B80,#REF!,2,FALSE),\"\")","v":""},{"$f":"IFERROR(VLOOKUP(B80,#REF!,3,FALSE),\"\")","v":""},null,null,null,"",null,null,"",null,"",{"$f":"IFERROR(VLOOKUP(B80,#REF!,9,FALSE),\"\")","v":""},null,null,null,"",""]
[null,null,{"$f":"IFERROR(VLOOKUP(B81,#REF!,2,FALSE),\"\")","v":""},{"$f":"IFERROR(VLOOKUP(B81,#REF!,3,FALSE),\"\")","v":""},null,null,null,"",null,null,"",null,"",{"$f":"IFERROR(VLOOKUP(B81,#REF!,9,FALSE),\"\")","v":""},null,null,null,"",""]
[null,null,{"$f":"IFERROR(VLOOKUP(B82,#REF!,2,FALSE),\"\")","v":""},{"$f":"IFERROR(VLOOKUP(B82,#REF!,3,FALSE),\"\")","v":""},null,null,null,"",null,null,"",null,"",{"$f":"IFERROR(VLOOKUP(B82,#REF!,9,FALSE),\"\")","v":""},null,null,null,"",""]
[null,null,{"$f":"IFERROR(VLOOKUP(B83,#REF!,2,FALSE),\"\")","v":""},{"$f":"IFERROR(VLOOKUP(B83,#REF!,3,FALSE),\"\")","v":""},null,null,null,"",null,null,"",null,"",{"$f":"IFERROR(VLOOKUP(B83,#REF!,9,FALSE),\"\")","v":""},null,null,null,{"$f":"IF(P83=\"\",\"\",IFERROR(P83-Q83,\"\"))","v":""},""]
[null,null,{"$f":"IFERROR(VLOOKUP(B84,#REF!,2,FALSE),\"\")","v":""},{"$f":"IFERROR(VLOOKUP(B84,#REF!,3,FALSE),\"\")","v":""},null,null,null,"",null,null,"",null,"",{"$f":"IFERROR(VLOOKUP(B84,#REF!,9,FALSE),\"\")","v":""},null,null,null,"",""]
[null,null,{"$f":"IFERROR(VLOOKUP(B85,#REF!,2,FALSE),\"\")","v":""},{"$f":"IFERROR(VLOOKUP(B85,#REF!,3,FALSE),\"\")","v":""},null,null,null,{"$f":"IF((G85-F85)<=0,\"\",(G85-F85))","v":""},null,null,{"$f":"IF((J85-I85)<=0,\"\",(J85-I85))","v":""},null,"",{"$f":"IFERROR(VLOOKUP(B85,#REF!,9,FALSE),\"\")","v":""},null,null,null,"",""]
[null,null,{"$f":"IFERROR(VLOOKUP(B86,#REF!,2,FALSE),\"\")","v":""},{"$f":"IFERROR(VLOOKUP(B86,#REF!,3,FALSE),\"\")","v":""},null,null,null,"",null,null,"",null,"",{"$f":"IFERROR(VLOOKUP(B86,#REF!,9,FALSE),\"\")","v":""},null,null,null,"",""]
[null,null,{"$f":"IFERROR(VLOOKUP(B87,#REF!,2,FALSE),\"\")","v":""},{"$f":"IFERROR(VLOOKUP(B87,#REF!,3,FALSE),\"\")","v":""},null,null,null,"",null,null,"",null,"",{"$f":"IFERROR(VLOOKUP(B87,#REF!,9,FALSE),\"\")","v":""},null,null,null,"",""]
[null,null,{"$f":"IFERROR(VLOOKUP(B88,#REF!,2,FALSE),\"\")","v":""},{"$f":"IFERROR(VLOOKUP(B88,#REF!,3,FALSE),\"\")","v":""},null,null,null,"",null,null,"",null,"",{"$f":"IFERROR(VLOOKUP(B88,#REF!,9,FALSE),\"\")","v":""},null,null,null,"",""]
[null,null,{"$f":"IFERROR(VLOOKUP(B89,#REF!,2,FALSE),\"\")","v":""},{"$f":"IFERROR(VLOOKUP(B89,#REF!,3,FALSE),\"\")","v":""},null,null,null,"",null,null,"",null,"",{"$f":"IFERROR(VLOOKUP(B89,#REF!,9,FALSE),\"\")","v":""},null,null,null,"",""]
[null,null,{"$f":"IFERROR(VLOOKUP(B90,#REF!,2,FALSE),\"\")","v":""},{"$f":"IFERROR(VLOOKUP(B90,#REF!,3,FALSE),\"\")","v":""},null,null,null,"",null,null,"",null,"",{"$f":"IFERROR(VLOOKUP(B90,#REF!,9,FALSE),\"\")","v":""},null,null,null,"",""]
[null,null,{"$f":"IFERROR(VLOOKUP(B91,#REF!,2,FALSE),\"\")","v":""},{"$f":"IFERROR(VLOOKUP(B91,#REF!,3,FALSE),\"\")","v":""},null,null,null,"",null,null,"",null,"",{"$f":"IFERROR(VLOOKUP(B91,#REF!,9,FALSE),\"\")","v":""},null,null,null,"",""]
[null,null,{"$f":"IFERROR(VLOOKUP(B92,#REF!,2,FALSE),\"\")","v":""},{"$f":"IFERROR(VLOOKUP(B92,#REF!,3,FALSE),\"\")","v":""},null,null,null,"",null,null,"",null,"",{"$f":"IFERROR(VLOOKUP(B92,#REF!,9,FALSE),\"\")","v":""},null,null,null,"",""]
[null,null,{"$f":"IFERROR(VLOOKUP(B93,#REF!,2,FALSE),\"\")","v":""},{"$f":"IFERROR(VLOOKUP(B93,#REF!,3,FALSE),\"\")","v":""},null,null,null,"",null,null,"",null,"",{"$f":"IFERROR(VLOOKUP(B93,#REF!,9,FALSE),\"\")","v":""},null,null,null,"",""]
[null,null,{"$f":"IFERROR(VLOOKUP(B94,#REF!,2,FALSE),\"\")","v":""},{"$f":"IFERROR(VLOOKUP(B94,#REF!,3,FALSE),\"\")","v":""},null,null,null,"",null,null,"",null,"",{"$f":"IFERROR(VLOOKUP(B94,#REF!,9,FALSE),\"\")","v":""},null,null,null,"",""]
[null,null,{"$f":"IFERROR(VLOOKUP(B95,#REF!,2,FALSE),\"\")","v":""},{"$f":"IFERROR(VLOOKUP(B95,#REF!,3,FALSE),\"\")","v":""},null,null,null,"",null,null,"",null,"",{"$f":"IFERROR(VLOOKUP(B95,#REF!,9,FALSE),\"\")","v":""},null,null,null,"",""]
[null,null,{"$f":"IFERROR(VLOOKUP(B96,#REF!,2,FALSE),\"\")","v":""},{"$f":"IFERROR(VLOOKUP(B96,#REF!,3,FALSE),\"\")","v":""},null,null,null,"",null,null,"",null,"",{"$f":"IFERROR(VLOOKUP(B96,#REF!,9,FALSE),\"\")","v":""},null,null,null,"",""]
[null,null,{"$f":"IFERROR(VLOOKUP(B97,#REF!,2,FALSE),\"\")","v":""},{"$f":"IFERROR(VLOOKUP(B97,#REF!,3,FALSE),\"\")","v":""},null,null,null,"",null,null,"",null,"",{"$f":"IFERROR(VLOOKUP(B97,#REF!,9,FALSE),\"\")","v":""},null,null,null,"",""]
[null,null,{"$f":"IFERROR(VLOOKUP(B98,#REF!,2,FALSE),\"\")","v":""},{"$f":"IFERROR(VLOOKUP(B98,#REF!,3,FALSE),\"\")","v":""},null,null,null,"",null,null,"",null,"",{"$f":"IFERROR(VLOOKUP(B98,#REF!,9,FALSE),\"\")","v":""},null,null,null,"",""]
[null,null,{"$f":"IFERROR(VLOOKUP(B99,#REF!,2,FALSE),\"\")","v":""},{"$f":"IFERROR(VLOOKUP(B99,#REF!,3,FALSE),\"\")","v":""},null,null,null,"",null,null,"",null,"",{"$f":"IFERROR(VLOOKUP(B99,#REF!,9,FALSE),\"\")","v":""},null,null,null,"",""]
[null,null,{"$f":"IFERROR(VLOOKUP(B100,#REF!,2,FALSE),\"\")","v":""},{"$f":"IFERROR(VLOOKUP(B100,#REF!,3,FALSE),\"\")","v":""},null,null,null,"",null,null,"",null,"",{"$f":"IFERROR(VLOOKUP(B100,#REF!,9,FALSE),\"\")","v":""},null,null,null,"",""]
[null,null,{"$f":"IFERROR(VLOOKUP(B101,#REF!,2,FALSE),\"\")","v":""},{"$f":"IFERROR(VLOOKUP(B101,#REF!,3,FALSE),\"\")","v":""},null,null,null,"",null,null,"",null,"",{"$f":"IFERROR(VLOOKUP(B101,#REF!,9,FALSE),\"\")","v":""},null,null,null,"",""]
[null,null,{"$f":"IFERROR(VLOOKUP(B102,#REF!,2,FALSE),\"\")","v":""},{"$f":"IFERROR(VLOOKUP(B102,#REF!,3,FALSE),\"\")","v":""},null,null,null,"",null,null,"",null,"",{"$f":"IFERROR(VLOOKUP(B102,#REF!,9,FALSE),\"\")","v":""},null,null,null,"",""]
[null,null,{"$f":"IFERROR(VLOOKUP(B103,#REF!,2,FALSE),\"\")","v":""},{"$f":"IFERROR(VLOOKUP(B103,#REF!,3,FALSE),\"\")","v":""},null,null,null,"",null,null,"",null,"",{"$f":"IFERROR(VLOOKUP(B103,#REF!,9,FALSE),\"\")","v":""},null,null,null,"",""]
[null,null,{"$f":"IFERROR(VLOOKUP(B104,#REF!,2,FALSE),\"\")","v":""},{"$f":"IFERROR(VLOOKUP(B104,#REF!,3,FALSE),\"\")","v":""},null,null,null,"",null,null,"",null,"",{"$f":"IFERROR(VLOOKUP(B104,#REF!,9,FALSE),\"\")","v":""},null,null,null,"",""]
[null,null,{"$f":"IFERROR(VLOOKUP(B105,#REF!,2,FALSE),\"\")","v":""},{"$f":"IFERROR(VLOOKUP(B105,#REF!,3,FALSE),\"\")","v":""},null,null,null,"",null,null,"",null,"",{"$f":"IFERROR(VLOOKUP(B105,#REF!,9,FALSE),\"\")","v":""},null,null,null,"",""]
[null,null,{"$f":"IFERROR(VLOOKUP(B106,#REF!,2,FALSE),\"\")","v":""},{"$f":"IFERROR(VLOOKUP(B106,#REF!,3,FALSE),\"\")","v":""},null,null,null,"",null,null,"",null,"",{"$f":"IFERROR(VLOOKUP(B106,#REF!,9,FALSE),\"\")","v":""},null,null,null,"",""]
[null,null,{"$f":"IFERROR(VLOOKUP(B107,#REF!,2,FALSE),\"\")","v":""},{"$f":"IFERROR(VLOOKUP(B107,#REF!,3,FALSE),\"\")","v":""},null,null,null,"",null,null,"",null,"",{"$f":"IFERROR(VLOOKUP(B107,#REF!,9,FALSE),\"\")","v":""},null,null,null,"",""]
[null,null,{"$f":"IFERROR(VLOOKUP(B108,#REF!,2,FALSE),\"\")","v":""},{"$f":"IFERROR(VLOOKUP(B108,#REF!,3,FALSE),\"\")","v":""},null,null,null,"",null,null,"",null,"",{"$f":"IFERROR(VLOOKUP(B108,#REF!,9,FALSE),\"\")","v":""},null,null,null,"",""]
[null,null,{"$f":"IFERROR(VLOOKUP(B109,#REF!,2,FALSE),\"\")","v":""},{"$f":"IFERROR(VLOOKUP(B109,#REF!,3,FALSE),\"\")","v":""},null,null,null,"",null,null,"",null,"",{"$f":"IFERROR(VLOOKUP(B109,#REF!,9,FALSE),\"\")","v":""},null,null,null,"",""]
[null,null,{"$f":"IFERROR(VLOOKUP(B110,#REF!,2,FALSE),\"\")","v":""},{"$f":"IFERROR(VLOOKUP(B110,#REF!,3,FALSE),\"\")","v":""},null,null,null,"",null,null,"",null,"",{"$f":"IFERROR(VLOOKUP(B110,#REF!,9,FALSE),\"\")","v":""},null,null,null,"",""]
[null,null,{"$f":"IFERROR(VLOOKUP(B111,#REF!,2,FALSE),\"\")","v":""},{"$f":"IFERROR(VLOOKUP(B111,#REF!,3,FALSE),\"\")","v":""},null,null,null,"",null,null,"",null,{"$f":"IFERROR(IF((K111-L111)<=0,\"0\",(K111-L111)),\"\")","v":""},{"$f":"IFERROR(VLOOKUP(B111,#REF!,9,FALSE),\"\")","v":""},null,null,null,"",""]
[null,null,{"$f":"IFERROR(VLOOKUP(B112,#REF!,2,FALSE),\"\")","v":""},{"$f":"IFERROR(VLOOKUP(B112,#REF!,3,FALSE),\"\")","v":""},null,null,null,"",null,null,"",null,"",{"$f":"IFERROR(VLOOKUP(B112,#REF!,9,FALSE),\"\")","v":""},null,null,null,"",""]
[null,null,{"$f":"IFERROR(VLOOKUP(B113,#REF!,2,FALSE),\"\")","v":""},{"$f":"IFERROR(VLOOKUP(B113,#REF!,3,FALSE),\"\")","v":""},null,null,null,"",null,null,"",null,"",{"$f":"IFERROR(VLOOKUP(B113,#REF!,9,FALSE),\"\")","v":""},null,null,null,"",""]
[null,null,{"$f":"IFERROR(VLOOKUP(B114,#REF!,2,FALSE),\"\")","v":""},{"$f":"IFERROR(VLOOKUP(B114,#REF!,3,FALSE),\"\")","v":""},null,null,null,"",null,null,"",null,"",{"$f":"IFERROR(VLOOKUP(B114,#REF!,9,FALSE),\"\")","v":""},null,null,null,"",""]
[null,null,{"$f":"IFERROR(VLOOKUP(B115,#REF!,2,FALSE),\"\")","v":""},{"$f":"IFERROR(VLOOKUP(B115,#REF!,3,FALSE),\"\")","v":""},null,null,null,"",null,null,"",null,"",{"$f":"IFERROR(VLOOKUP(B115,#REF!,9,FALSE),\"\")","v":""},null,null,null,"",""]
[null,null,{"$f":"IFERROR(VLOOKUP(B116,#REF!,2,FALSE),\"\")","v":""},{"$f":"IFERROR(VLOOKUP(B116,#REF!,3,FALSE),\"\")","v":""},null,null,null,"",null,null,"",null,"",{"$f":"IFERROR(VLOOKUP(B116,#REF!,9,FALSE),\"\")","v":""},null,null,null,"",""]
[null,null,{"$f":"IFERROR(VLOOKUP(B117,#REF!,2,FALSE),\"\")","v":""},{"$f":"IFERROR(VLOOKUP(B117,#REF!,3,FALSE),\"\")","v":""},null,null,null,"",null,null,"",null,"",{"$f":"IFERROR(VLOOKUP(B117,#REF!,9,FALSE),\"\")","v":""},null,null,null,"",""]
[null,null,{"$f":"IFERROR(VLOOKUP(B118,#REF!,2,FALSE),\"\")","v":""},{"$f":"IFERROR(VLOOKUP(B118,#REF!,3,FALSE),\"\")","v":""},null,null,null,"",null,null,"",null,"",{"$f":"IFERROR(VLOOKUP(B118,#REF!,9,FALSE),\"\")","v":""},null,null,null,"",""]
[null,null,{"$f":"IFERROR(VLOOKUP(B119,#REF!,2,FALSE),\"\")","v":""},{"$f":"IFERROR(VLOOKUP(B119,#REF!,3,FALSE),\"\")","v":""},null,null,null,"",null,null,"",null,"",{"$f":"IFERROR(VLOOKUP(B119,#REF!,9,FALSE),\"\")","v":""},null,null,null,"",""]
[null,null,{"$f":"IFERROR(VLOOKUP(B120,#REF!,2,FALSE),\"\")","v":""},{"$f":"IFERROR(VLOOKUP(B120,#REF!,3,FALSE),\"\")","v":""},null,null,null,"",null,null,"",null,"",{"$f":"IFERROR(VLOOKUP(B120,#REF!,9,FALSE),\"\")","v":""},null,null,null,"",""]
[null,null,{"$f":"IFERROR(VLOOKUP(B121,#REF!,2,FALSE),\"\")","v":""},{"$f":"IFERROR(VLOOKUP(B121,#REF!,3,FALSE),\"\")","v":""},null,null,null,"",null,null,"",null,"",{"$f":"IFERROR(VLOOKUP(B121,#REF!,9,FALSE),\"\")","v":""},null,null,null,"",""]
[null,null,{"$f":"IFERROR(VLOOKUP(B122,#REF!,2,FALSE),\"\")","v":""},{"$f":"IFERROR(VLOOKUP(B122,#REF!,3,FALSE),\"\")","v":""},null,null,null,"",null,null,"",null,"",{"$f":"IFERROR(VLOOKUP(B122,#REF!,9,FALSE),\"\")","v":""},null,null,null,"",""]
[null,null,{"$f":"IFERROR(VLOOKUP(B123,#REF!,2,FALSE),\"\")","v":""},{"$f":"IFERROR(VLOOKUP(B123,#REF!,3,FALSE),\"\")","v":""},null,null,null,"",null,null,"",null,"",{"$f":"IFERROR(VLOOKUP(B123,#REF!,9,FALSE),\"\")","v":""},null,null,null,"",""]
[null,null,{"$f":"IFERROR(VLOOKUP(B124,#REF!,2,FALSE),\"\")","v":""},{"$f":"IFERROR(VLOOKUP(B124,#REF!,3,FALSE),\"\")","v":""},null,null,null,"",null,null,"",null,"",{"$f":"IFERROR(VLOOKUP(B124,#REF!,9,FALSE),\"\")","v":""},null,null,null,"",""]
[null,null,{"$f":"IFERROR(VLOOKUP(B125,#REF!,2,FALSE),\"\")","v":""},{"$f":"IFERROR(VLOOKUP(B125,#REF!,3,FALSE),\"\")","v":""},null,null,null,"",null,null,"",null,"",{"$f":"IFERROR(VLOOKUP(B125,#REF!,9,FALSE),\"\")","v":""},null,null,null,"",""]
[null,null,{"$f":"IFERROR(VLOOKUP(B126,#REF!,2,FALSE),\"\")","v":""},{"$f":"IFERROR(VLOOKUP(B126,#REF!,3,FALSE),\"\")","v":""},null,null,null,"",null,null,"",null,"",{"$f":"IFERROR(VLOOKUP(B126,#REF!,9,FALSE),\"\")","v":""},null,null,null,"",""]
[null,null,{"$f":"IFERROR(VLOOKUP(B127,#REF!,2,FALSE),\"\")","v":""},{"$f":"IFERROR(VLOOKUP(B127,#REF!,3,FALSE),\"\")","v":""},null,null,null,"",null,null,"",null,"",{"$f":"IFERROR(VLOOKUP(B127,#REF!,9,FALSE),\"\")","v":""},null,null,null,"",""]
[null,null,{"$f":"IFERROR(VLOOKUP(B128,#REF!,2,FALSE),\"\")","v":""},{"$f":"IFERROR(VLOOKUP(B128,#REF!,3,FALSE),\"\")","v":""},null,null,null,"",null,null,"",null,"",{"$f":"IFERROR(VLOOKUP(B128,#REF!,9,FALSE),\"\")","v":""},null,null,null,"",""]
[null,null,{"$f":"IFERROR(VLOOKUP(B129,#REF!,2,FALSE),\"\")","v":""},{"$f":"IFERROR(VLOOKUP(B129,#REF!,3,FALSE),\"\")","v":""},null,null,null,"",null,null,"",null,"",{"$f":"IFERROR(VLOOKUP(B129,#REF!,9,FALSE),\"\")","v":""},null,null,null,"",""]
[null,null,{"$f":"IFERROR(VLOOKUP(B130,#REF!,2,FALSE),\"\")","v":""},{"$f":"IFERROR(VLOOKUP(B130,#REF!,3,FALSE),\"\")","v":""},null,null,null,"",null,null,"",null,"",{"$f":"IFERROR(VLOOKUP(B130,#REF!,9,FALSE),\"\")","v":""},null,null,null,"",""]
[null,null,{"$f":"IFERROR(VLOOKUP(B131,#REF!,2,FALSE),\"\")","v":""},{"$f":"IFERROR(VLOOKUP(B131,#REF!,3,FALSE),\"\")","v":""},null,null,null,"",null,null,"",null,"",{"$f":"IFERROR(VLOOKUP(B131,#REF!,9,FALSE),\"\")","v":""},null,null,null,"",""]
[null,null,{"$f":"IFERROR(VLOOKUP(B132,#REF!,2,FALSE),\"\")","v":""},{"$f":"IFERROR(VLOOKUP(B132,#REF!,3,FALSE),\"\")","v":""},null,null,null,"",null,null,"",null,"",{"$f":"IFERROR(VLOOKUP(B132,#REF!,9,FALSE),\"\")","v":""},null,null,null,"",{"$f":"IF( N132 <> \"\", IF(AND(E132<\"100%\", M132>0, O132>N132), \"Miss\", \"Hit\"), \"\")","v":""}]
[null,null,{"$f":"IFERROR(VLOOKUP(B133,#REF!,2,FALSE),\"\")","v":""},{"$f":"IFERROR(VLOOKUP(B133,#REF!,3,FALSE),\"\")","v":""},null,null,null,"",null,null,"",null,"",{"$f":"IFERROR(VLOOKUP(B133,#REF!,9,FALSE),\"\")","v":""},null,null,null,"",""]
[null,null,{"$f":"IFERROR(VLOOKUP(B134,#REF!,2,FALSE),\"\")","v":""},{"$f":"IFERROR(VLOOKUP(B134,#REF!,3,FALSE),\"\")","v":""},null,null,null,"",null,null,"",null,"",{"$f":"IFERROR(VLOOKUP(B134,#REF!,9,FALSE),\"\")","v":""},null,null,null,"",""]
[null,null,{"$f":"IFERROR(VLOOKUP(B135,#REF!,2,FALSE),\"\")","v":""},{"$f":"IFERROR(VLOOKUP(B135,#REF!,3,FALSE),\"\")","v":""},null,null,null,"",null,null,"",null,"",{"$f":"IFERROR(VLOOKUP(B135,#REF!,9,FALSE),\"\")","v":""},null,null,null,"",""]
[null,null,{"$f":"IFERROR(VLOOKUP(B136,#REF!,2,FALSE),\"\")","v":""},{"$f":"IFERROR(VLOOKUP(B136,#REF!,3,FALSE),\"\")","v":""},null,null,null,"",null,null,"",null,"",{"$f":"IFERROR(VLOOKUP(B136,#REF!,9,FALSE),\"\")","v":""},null,null,null,"",""]
[null,null,{"$f":"IFERROR(VLOOKUP(B137,#REF!,2,FALSE),\"\")","v":""},{"$f":"IFERROR(VLOOKUP(B137,#REF!,3,FALSE),\"\")","v":""},null,null,null,"",null,null,"",null,"",{"$f":"IFERROR(VLOOKUP(B137,#REF!,9,FALSE),\"\")","v":""},null,null,null,"",""]
[null,null,{"$f":"IFERROR(VLOOKUP(B138,#REF!,2,FALSE),\"\")","v":""},{"$f":"IFERROR(VLOOKUP(B138,#REF!,3,FALSE),\"\")","v":""},null,null,null,"",null,null,"",null,"",{"$f":"IFERROR(VLOOKUP(B138,#REF!,9,FALSE),\"\")","v":""},null,null,null,"",""]
[null,null,{"$f":"IFERROR(VLOOKUP(B139,#REF!,2,FALSE),\"\")","v":""},{"$f":"IFERROR(VLOOKUP(B139,#REF!,3,FALSE),\"\")","v":""},null,null,null,"",null,null,"",null,"",{"$f":"IFERROR(VLOOKUP(B139,#REF!,9,FALSE),\"\")","v":""},null,null,null,"",""]
[null,null,{"$f":"IFERROR(VLOOKUP(B140,#REF!,2,FALSE),\"\")","v":""},{"$f":"IFERROR(VLOOKUP(B140,#REF!,3,FALSE),\"\")","v":""},null,null,null,"",null,null,"",null,"",{"$f":"IFERROR(VLOOKUP(B140,#REF!,9,FALSE),\"\")","v":""},null,null,null,"",""]
[null,null,{"$f":"IFERROR(VLOOKUP(B141,#REF!,2,FALSE),\"\")","v":""},{"$f":"IFERROR(VLOOKUP(B141,#REF!,3,FALSE),\"\")","v":""},null,null,null,"",null,null,"",null,"",{"$f":"IFERROR(VLOOKUP(B141,#REF!,9,FALSE),\"\")","v":""},null,null,null,"",""]
[null,null,{"$f":"IFERROR(VLOOKUP(B142,#REF!,2,FALSE),\"\")","v":""},{"$f":"IFERROR(VLOOKUP(B142,#REF!,3,FALSE),\"\")","v":""},null,null,null,"",null,null,"",null,"",{"$f":"IFERROR(VLOOKUP(B142,#REF!,9,FALSE),\"\")","v":""},null,null,null,"",""]
[null,null,{"$f":"IFERROR(VLOOKUP(B143,#REF!,2,FALSE),\"\")","v":""},{"$f":"IFERROR(VLOOKUP(B143,#REF!,3,FALSE),\"\")","v":""},null,null,null,"",null,null,"",null,"",{"$f":"IFERROR(VLOOKUP(B143,#REF!,9,FALSE),\"\")","v":""},null,null,null,"",""]
[null,null,{"$f":"IFERROR(VLOOKUP(B144,#REF!,2,FALSE),\"\")","v":""},{"$f":"IFERROR(VLOOKUP(B144,#REF!,3,FALSE),\"\")","v":""},null,null,null,"",null,null,"",null,"",{"$f":"IFERROR(VLOOKUP(B144,#REF!,9,FALSE),\"\")","v":""},null,null,null,"",""]
[null,null,{"$f":"IFERROR(VLOOKUP(B145,#REF!,2,FALSE),\"\")","v":""},{"$f":"IFERROR(VLOOKUP(B145,#REF!,3,FALSE),\"\")","v":""},null,null,null,"",null,null,"",null,"",{"$f":"IFERROR(VLOOKUP(B145,#REF!,9,FALSE),\"\")","v":""},null,null,null,"",""]
[null,null,{"$f":"IFERROR(VLOOKUP(B146,#REF!,2,FALSE),\"\")","v":""},{"$f":"IFERROR(VLOOKUP(B146,#REF!,3,FALSE),\"\")","v":""},null,null,null,"",null,null,"",null,"",{"$f":"IFERROR(VLOOKUP(B146,#REF!,9,FALSE),\"\")","v":""},null,null,null,"",""]
[null,null,{"$f":"IFERROR(VLOOKUP(B147,#REF!,2,FALSE),\"\")","v":""},{"$f":"IFERROR(VLOOKUP(B147,#REF!,3,FALSE),\"\")","v":""},null,null,null,"",null,null,"",null,"",{"$f":"IFERROR(VLOOKUP(B147,#REF!,9,FALSE),\"\")","v":""},null,null,null,{"$f":"IF(P147=\"\",\"\",IFERROR(P147-Q147,\"\"))","v":""},""]
[null,null,{"$f":"IFERROR(VLOOKUP(B148,#REF!,2,FALSE),\"\")","v":""},{"$f":"IFERROR(VLOOKUP(B148,#REF!,3,FALSE),\"\")","v":""},null,null,null,"",null,null,"",null,"",{"$f":"IFERROR(VLOOKUP(B148,#REF!,9,FALSE),\"\")","v":""},null,null,null,"",""]
[null,null,{"$f":"IFERROR(VLOOKUP(B149,#REF!,2,FALSE),\"\")","v":""},{"$f":"IFERROR(VLOOKUP(B149,#REF!,3,FALSE),\"\")","v":""},null,null,null,{"$f":"IF((G149-F149)<=0,\"\",(G149-F149))","v":""},null,null,{"$f":"IF((J149-I149)<=0,\"\",(J149-I149))","v":""},null,"",{"$f":"IFERROR(VLOOKUP(B149,#REF!,9,FALSE),\"\")","v":""},null,null,null,"",""]
[null,null,{"$f":"IFERROR(VLOOKUP(B150,#REF!,2,FALSE),\"\")","v":""},{"$f":"IFERROR(VLOOKUP(B150,#REF!,3,FALSE),\"\")","v":""},null,null,null,"",null,null,"",null,"",{"$f":"IFERROR(VLOOKUP(B150,#REF!,9,FALSE),\"\")","v":""},null,null,null,"",""]
[null,null,{"$f":"IFERROR(VLOOKUP(B151,#REF!,2,FALSE),\"\")","v":""},{"$f":"IFERROR(VLOOKUP(B151,#REF!,3,FALSE),\"\")","v":""},null,null,null,"",null,null,"",null,"",{"$f":"IFERROR(VLOOKUP(B151,#REF!,9,FALSE),\"\")","v":""},null,null,null,"",""]
[null,null,{"$f":"IFERROR(VLOOKUP(B152,#REF!,2,FALSE),\"\")","v":""},{"$f":"IFERROR(VLOOKUP(B152,#REF!,3,FALSE),\"\")","v":""},null,null,null,"",null,null,"",null,"",{"$f":"IFERROR(VLOOKUP(B152,#REF!,9,FALSE),\"\")","v":""},null,null,null,"",""]
[null,null,{"$f":"IFERROR(VLOOKUP(B153,#REF!,2,FALSE),\"\")","v":""},{"$f":"IFERROR(VLOOKUP(B153,#REF!,3,FALSE),\"\")","v":""},null,null,null,"",null,null,"",null,"",{"$f":"IFERROR(VLOOKUP(B153,#REF!,9,FALSE),\"\")","v":""},null,null,null,"",""]
[null,null,{"$f":"IFERROR(VLOOKUP(B154,#REF!,2,FALSE),\"\")","v":""},{"$f":"IFERROR(VLOOKUP(B154,#REF!,3,FALSE),\"\")","v":""},null,null,null,"",null,null,"",null,"",{"$f":"IFERROR(VLOOKUP(B154,#REF!,9,FALSE),\"\")","v":""},null,null,null,"",""]
[null,null,{"$f":"IFERROR(VLOOKUP(B155,#REF!,2,FALSE),\"\")","v":""},{"$f":"IFERROR(VLOOKUP(B155,#REF!,3,FALSE),\"\")","v":""},null,null,null,"",null,null,"",null,"",{"$f":"IFERROR(VLOOKUP(B155,#REF!,9,FALSE),\"\")","v":""},null,null,null,"",""]
[null,null,{"$f":"IFERROR(VLOOKUP(B156,#REF!,2,FALSE),\"\")","v":""},{"$f":"IFERROR(VLOOKUP(B156,#REF!,3,FALSE),\"\")","v":""},null,null,null,"",null,null,"",null,"",{"$f":"IFERROR(VLOOKUP(B156,#REF!,9,FALSE),\"\")","v":""},null,null,null,"",""]
[null,null,{"$f":"IFERROR(VLOOKUP(B157,#REF!,2,FALSE),\"\")","v":""},{"$f":"IFERROR(VLOOKUP(B157,#REF!,3,FALSE),\"\")","v":""},null,null,null,"",null,null,"",null,"",{"$f":"IFERROR(VLOOKUP(B157,#REF!,9,FALSE),\"\")","v":""},null,null,null,"",""]
[null,null,{"$f":"IFERROR(VLOOKUP(B158,#REF!,2,FALSE),\"\")","v":""},{"$f":"IFERROR(VLOOKUP(B158,#REF!,3,FALSE),\"\")","v":""},null,null,null,"",null,null,"",null,"",{"$f":"IFERROR(VLOOKUP(B158,#REF!,9,FALSE),\"\")","v":""},null,null,null,"",""]
[null,null,{"$f":"IFERROR(VLOOKUP(B159,#REF!,2,FALSE),\"\")","v":""},{"$f":"IFERROR(VLOOKUP(B159,#REF!,3,FALSE),\"\")","v":""},null,null,null,"",null,null,"",null,"",{"$f":"IFERROR(VLOOKUP(B159,#REF!,9,FALSE),\"\")","v":""},null,null,null,"",""]
[null,null,{"$f":"IFERROR(VLOOKUP(B160,#REF!,2,FALSE),\"\")","v":""},{"$f":"IFERROR(VLOOKUP(B160,#REF!,3,FALSE),\"\")","v":""},null,null,null,"",null,null,"",null,"",{"$f":"IFERROR(VLOOKUP(B160,#REF!,9,FALSE),\"\")","v":""},null,null,null,"",""]
[null,null,{"$f":"IFERROR(VLOOKUP(B161,#REF!,2,FALSE),\"\")","v":""},{"$f":"IFERROR(VLOOKUP(B161,#REF!,3,FALSE),\"\")","v":""},null,null,null,"",null,null,"",null,"",{"$f":"IFERROR(VLOOKUP(B161,#REF!,9,FALSE),\"\")","v":""},null,null,null,"",""]
[null,null,{"$f":"IFERROR(VLOOKUP(B162,#REF!,2,FALSE),\"\")","v":""},{"$f":"IFERROR(VLOOKUP(B162,#REF!,3,FALSE),\"\")","v":""},null,null,null,"",null,null,"",null,"",{"$f":"IFERROR(VLOOKUP(B162,#REF!,9,FALSE),\"\")","v":""},null,null,null,"",""]
[null,null,{"$f":"IFERROR(VLOOKUP(B163,#REF!,2,FALSE),\"\")","v":""},{"$f":"IFERROR(VLOOKUP(B163,#REF!,3,FALSE),\"\")","v":""},null,null,null,"",null,null,"",null,"",{"$f":"IFERROR(VLOOKUP(B163,#REF!,9,FALSE),\"\")","v":""},null,null,null,"",""]
[null,null,{"$f":"IFERROR(VLOOKUP(B164,#REF!,2,FALSE),\"\")","v":""},{"$f":"IFERROR(VLOOKUP(B164,#REF!,3,FALSE),\"\")","v":""},null,null,null,"",null,null,"",null,"",{"$f":"IFERROR(VLOOKUP(B164,#REF!,9,FALSE),\"\")","v":""},null,null,null,"",""]
[null,null,{"$f":"IFERROR(VLOOKUP(B165,#REF!,2,FALSE),\"\")","v":""},{"$f":"IFERROR(VLOOKUP(B165,#REF!,3,FALSE),\"\")","v":""},null,null,null,"",null,null,"",null,"",{"$f":"IFERROR(VLOOKUP(B165,#REF!,9,FALSE),\"\")","v":""},null,null,null,"",""]
[null,null,{"$f":"IFERROR(VLOOKUP(B166,#REF!,2,FALSE),\"\")","v":""},{"$f":"IFERROR(VLOOKUP(B166,#REF!,3,FALSE),\"\")","v":""},null,null,null,"",null,null,"",null,"",{"$f":"IFERROR(VLOOKUP(B166,#REF!,9,FALSE),\"\")","v":""},null,null,null,"",""]
[null,null,{"$f":"IFERROR(VLOOKUP(B167,#REF!,2,FALSE),\"\")","v":""},{"$f":"IFERROR(VLOOKUP(B167,#REF!,3,FALSE),\"\")","v":""},null,null,null,"",null,null,"",null,"",{"$f":"IFERROR(VLOOKUP(B167,#REF!,9,FALSE),\"\")","v":""},null,null,null,"",""]
[null,null,{"$f":"IFERROR(VLOOKUP(B168,#REF!,2,FALSE),\"\")","v":""},{"$f":"IFERROR(VLOOKUP(B168,#REF!,3,FALSE),\"\")","v":""},null,null,null,"",null,null,"",null,"",{"$f":"IFERROR(VLOOKUP(B168,#REF!,9,FALSE),\"\")","v":""},null,null,null,"",""]
[null,null,{"$f":"IFERROR(VLOOKUP(B169,#REF!,2,FALSE),\"\")","v":""},{"$f":"IFERROR(VLOOKUP(B169,#REF!,3,FALSE),\"\")","v":""},null,null,null,"",null,null,"",null,"",{"$f":"IFERROR(VLOOKUP(B169,#REF!,9,FALSE),\"\")","v":""},null,null,null,"",""]
[null,null,{"$f":"IFERROR(VLOOKUP(B170,#REF!,2,FALSE),\"\")","v":""},{"$f":"IFERROR(VLOOKUP(B170,#REF!,3,FALSE),\"\")","v":""},null,null,null,"",null,null,"",null,"",{"$f":"IFERROR(VLOOKUP(B170,#REF!,9,FALSE),\"\")","v":""},null,null,null,"",""]
[null,null,{"$f":"IFERROR(VLOOKUP(B171,#REF!,2,FALSE),\"\")","v":""},{"$f":"IFERROR(VLOOKUP(B171,#REF!,3,FALSE),\"\")","v":""},null,null,null,"",null,null,"",null,"",{"$f":"IFERROR(VLOOKUP(B171,#REF!,9,FALSE),\"\")","v":""},null,null,null,"",""]
[null,null,{"$f":"IFERROR(VLOOKUP(B172,#REF!,2,FALSE),\"\")","v":""},{"$f":"IFERROR(VLOOKUP(B172,#REF!,3,FALSE),\"\")","v":""},null,null,null,"",null,null,"",null,"",{"$f":"IFERROR(VLOOKUP(B172,#REF!,9,FALSE),\"\")","v":""},null,null,null,"",""]
[null,null,{"$f":"IFERROR(VLOOKUP(B173,#REF!,2,FALSE),\"\")","v":""},{"$f":"IFERROR(VLOOKUP(B173,#REF!,3,FALSE),\"\")","v":""},null,null,null,"",null,null,"",null,"",{"$f":"IFERROR(VLOOKUP(B173,#REF!,9,FALSE),\"\")","v":""},null,null,null,"",""]
[null,null,{"$f":"IFERROR(VLOOKUP(B174,#REF!,2,FALSE),\"\")","v":""},{"$f":"IFERROR(VLOOKUP(B174,#REF!,3,FALSE),\"\")","v":""},null,null,null,"",null,null,"",null,"",{"$f":"IFERROR(VLOOKUP(B174,#REF!,9,FALSE),\"\")","v":""},null,null,null,"",""]
[null,null,{"$f":"IFERROR(VLOOKUP(B175,#REF!,2,FALSE),\"\")","v":""},{"$f":"IFERROR(VLOOKUP(B175,#REF!,3,FALSE),\"\")","v":""},null,null,null,"",null,null,"",null,{"$f":"IFERROR(IF((K175-L175)<=0,\"0\",(K175-L175)),\"\")","v":""},{"$f":"IFERROR(VLOOKUP(B175,#REF!,9,FALSE),\"\")","v":""},null,null,null,"",""]
[null,null,{"$f":"IFERROR(VLOOKUP(B176,#REF!,2,FALSE),\"\")","v":""},{"$f":"IFERROR(VLOOKUP(B176,#REF!,3,FALSE),\"\")","v":""},null,null,null,"",null,null,"",null,"",{"$f":"IFERROR(VLOOKUP(B176,#REF!,9,FALSE),\"\")","v":""},null,null,null,"",""]
[null,null,{"$f":"IFERROR(VLOOKUP(B177,#REF!,2,FALSE),\"\")","v":""},{"$f":"IFERROR(VLOOKUP(B177,#REF!,3,FALSE),\"\")","v":""},null,null,null,"",null,null,"",null,"",{"$f":"IFERROR(VLOOKUP(B177,#REF!,9,FALSE),\"\")","v":""},null,null,null,"",""]
[null,null,{"$f":"IFERROR(VLOOKUP(B178,#REF!,2,FALSE),\"\")","v":""},{"$f":"IFERROR(VLOOKUP(B178,#REF!,3,FALSE),\"\")","v":""},null,null,null,"",null,null,"",null,"",{"$f":"IFERROR(VLOOKUP(B178,#REF!,9,FALSE),\"\")","v":""},null,null,null,"",""]
[null,null,{"$f":"IFERROR(VLOOKUP(B179,#REF!,2,FALSE),\"\")","v":""},{"$f":"IFERROR(VLOOKUP(B179,#REF!,3,FALSE),\"\")","v":""},null,null,null,"",null,null,"",null,"",{"$f":"IFERROR(VLOOKUP(B179,#REF!,9,FALSE),\"\")","v":""},null,null,null,"",""]
[null,null,{"$f":"IFERROR(VLOOKUP(B180,#REF!,2,FALSE),\"\")","v":""},{"$f":"IFERROR(VLOOKUP(B180,#REF!,3,FALSE),\"\")","v":""},null,null,null,"",null,null,"",null,"",{"$f":"IFERROR(VLOOKUP(B180,#REF!,9,FALSE),\"\")","v":""},null,null,null,"",""]
[null,null,{"$f":"IFERROR(VLOOKUP(B181,#REF!,2,FALSE),\"\")","v":""},{"$f":"IFERROR(VLOOKUP(B181,#REF!,3,FALSE),\"\")","v":""},null,null,null,"",null,null,"",null,"",{"$f":"IFERROR(VLOOKUP(B181,#REF!,9,FALSE),\"\")","v":""},null,null,null,"",""]
[null,null,{"$f":"IFERROR(VLOOKUP(B182,#REF!,2,FALSE),\"\")","v":""},{"$f":"IFERROR(VLOOKUP(B182,#REF!,3,FALSE),\"\")","v":""},null,null,null,"",null,null,"",null,"",{"$f":"IFERROR(VLOOKUP(B182,#REF!,9,FALSE),\"\")","v":""},null,null,null,"",""]
[null,null,{"$f":"IFERROR(VLOOKUP(B183,#REF!,2,FALSE),\"\")","v":""},{"$f":"IFERROR(VLOOKUP(B183,#REF!,3,FALSE),\"\")","v":""},null,null,null,"",null,null,"",null,"",{"$f":"IFERROR(VLOOKUP(B183,#REF!,9,FALSE),\"\")","v":""},null,null,null,"",""]
[null,null,{"$f":"IFERROR(VLOOKUP(B184,#REF!,2,FALSE),\"\")","v":""},{"$f":"IFERROR(VLOOKUP(B184,#REF!,3,FALSE),\"\")","v":""},null,null,null,"",null,null,"",null,"",{"$f":"IFERROR(VLOOKUP(B184,#REF!,9,FALSE),\"\")","v":""},null,null,null,"",""]
[null,null,{"$f":"IFERROR(VLOOKUP(B185,#REF!,2,FALSE),\"\")","v":""},{"$f":"IFERROR(VLOOKUP(B185,#REF!,3,FALSE),\"\")","v":""},null,null,null,"",null,null,"",null,"",{"$f":"IFERROR(VLOOKUP(B185,#REF!,9,FALSE),\"\")","v":""},null,null,null,"",""]
[null,null,{"$f":"IFERROR(VLOOKUP(B186,#REF!,2,FALSE),\"\")","v":""},{"$f":"IFERROR(VLOOKUP(B186,#REF!,3,FALSE),\"\")","v":""},null,null,null,"",null,null,"",null,"",{"$f":"IFERROR(VLOOKUP(B186,#REF!,9,FALSE),\"\")","v":""},null,null,null,"",""]
[null,null,{"$f":"IFERROR(VLOOKUP(B187,#REF!,2,FALSE),\"\")","v":""},{"$f":"IFERROR(VLOOKUP(B187,#REF!,3,FALSE),\"\")","v":""},null,null,null,"",null,null,"",null,"",{"$f":"IFERROR(VLOOKUP(B187,#REF!,9,FALSE),\"\")","v":""},null,null,null,"",""]
[null,null,{"$f":"IFERROR(VLOOKUP(B188,#REF!,2,FALSE),\"\")","v":""},{"$f":"IFERROR(VLOOKUP(B188,#REF!,3,FALSE),\"\")","v":""},null,null,null,"",null,null,"",null,"",{"$f":"IFERROR(VLOOKUP(B188,#REF!,9,FALSE),\"\")","v":""},null,null,null,"",""]
[null,null,{"$f":"IFERROR(VLOOKUP(B189,#REF!,2,FALSE),\"\")","v":""},{"$f":"IFERROR(VLOOKUP(B189,#REF!,3,FALSE),\"\")","v":""},null,null,null,"",null,null,"",null,"",{"$f":"IFERROR(VLOOKUP(B189,#REF!,9,FALSE),\"\")","v":""},null,null,null,"",""]
[null,null,{"$f":"IFERROR(VLOOKUP(B190,#REF!,2,FALSE),\"\")","v":""},{"$f":"IFERROR(VLOOKUP(B190,#REF!,3,FALSE),\"\")","v":""},null,null,null,"",null,null,"",null,"",{"$f":"IFERROR(VLOOKUP(B190,#REF!,9,FALSE),\"\")","v":""},null,null,null,"",""]
[null,null,{"$f":"IFERROR(VLOOKUP(B191,#REF!,2,FALSE),\"\")","v":""},{"$f":"IFERROR(VLOOKUP(B191,#REF!,3,FALSE),\"\")","v":""},null,null,null,"",null,null,"",null,"",{"$f":"IFERROR(VLOOKUP(B191,#REF!,9,FALSE),\"\")","v":""},null,null,null,"",""]
[null,null,{"$f":"IFERROR(VLOOKUP(B192,#REF!,2,FALSE),\"\")","v":""},{"$f":"IFERROR(VLOOKUP(B192,#REF!,3,FALSE),\"\")","v":""},null,null,null,"",null,null,"",null,"",{"$f":"IFERROR(VLOOKUP(B192,#REF!,9,FALSE),\"\")","v":""},null,null,null,"",""]
[null,null,{"$f":"IFERROR(VLOOKUP(B193,#REF!,2,FALSE),\"\")","v":""},{"$f":"IFERROR(VLOOKUP(B193,#REF!,3,FALSE),\"\")","v":""},null,null,null,"",null,null,"",null,"",{"$f":"IFERROR(VLOOKUP(B193,#REF!,9,FALSE),\"\")","v":""},null,null,null,"",""]
[null,null,{"$f":"IFERROR(VLOOKUP(B194,#REF!,2,FALSE),\"\")","v":""},{"$f":"IFERROR(VLOOKUP(B194,#REF!,3,FALSE),\"\")","v":""},null,null,null,"",null,null,"",null,"",{"$f":"IFERROR(VLOOKUP(B194,#REF!,9,FALSE),\"\")","v":""},null,null,null,"",""]
[null,null,{"$f":"IFERROR(VLOOKUP(B195,#REF!,2,FALSE),\"\")","v":""},{"$f":"IFERROR(VLOOKUP(B195,#REF!,3,FALSE),\"\")","v":""},null,null,null,"",null,null,"",null,"",{"$f":"IFERROR(VLOOKUP(B195,#REF!,9,FALSE),\"\")","v":""},null,null,null,"",""]
[null,null,{"$f":"IFERROR(VLOOKUP(B196,#REF!,2,FALSE),\"\")","v":""},{"$f":"IFERROR(VLOOKUP(B196,#REF!,3,FALSE),\"\")","v":""},null,null,null,"",null,null,"",null,"",{"$f":"IFERROR(VLOOKUP(B196,#REF!,9,FALSE),\"\")","v":""},null,null,null,"",{"$f":"IF( N196 <> \"\", IF(AND(E196<\"100%\", M196>0, O196>N196), \"Miss\", \"Hit\"), \"\")","v":""}]
[null,null,{"$f":"IFERROR(VLOOKUP(B197,#REF!,2,FALSE),\"\")","v":""},{"$f":"IFERROR(VLOOKUP(B197,#REF!,3,FALSE),\"\")","v":""},null,null,null,"",null,null,"",null,"",{"$f":"IFERROR(VLOOKUP(B197,#REF!,9,FALSE),\"\")","v":""},null,null,null,"",""]
[null,null,{"$f":"IFERROR(VLOOKUP(B198,#REF!,2,FALSE),\"\")","v":""},{"$f":"IFERROR(VLOOKUP(B198,#REF!,3,FALSE),\"\")","v":""},null,null,null,"",null,null,"",null,"",{"$f":"IFERROR(VLOOKUP(B198,#REF!,9,FALSE),\"\")","v":""},null,null,null,"",""]
[null,null,{"$f":"IFERROR(VLOOKUP(B199,#REF!,2,FALSE),\"\")","v":""},{"$f":"IFERROR(VLOOKUP(B199,#REF!,3,FALSE),\"\")","v":""},null,null,null,"",null,null,"",null,"",{"$f":"IFERROR(VLOOKUP(B199,#REF!,9,FALSE),\"\")","v":""},null,null,null,"",""]
[null,null,{"$f":"IFERROR(VLOOKUP(B200,#REF!,2,FALSE),\"\")","v":""},{"$f":"IFERROR(VLOOKUP(B200,#REF!,3,FALSE),\"\")","v":""},null,null,null,"",null,null,"",null,"",{"$f":"IFERROR(VLOOKUP(B200,#REF!,9,FALSE),\"\")","v":""},null,null,null,"",""]
[null,null,{"$f":"IFERROR(VLOOKUP(B201,#REF!,2,FALSE),\"\")","v":""},{"$f":"IFERROR(VLOOKUP(B201,#REF!,3,FALSE),\"\")","v":""},null,null,null,"",null,null,"",null,"",{"$f":"IFERROR(VLOOKUP(B201,#REF!,9,FALSE),\"\")","v":""},null,null,null,"",""]
[null,null,{"$f":"IFERROR(VLOOKUP(B202,#REF!,2,FALSE),\"\")","v":""},{"$f":"IFERROR(VLOOKUP(B202,#REF!,3,FALSE),\"\")","v":""},null,null,null,"",null,null,"",null,"",{"$f":"IFERROR(VLOOKUP(B202,#REF!,9,FALSE),\"\")","v":""},null,null,null,"",""]
[null,null,{"$f":"IFERROR(VLOOKUP(B203,#REF!,2,FALSE),\"\")","v":""},{"$f":"IFERROR(VLOOKUP(B203,#REF!,3,FALSE),\"\")","v":""},null,null,null,"",null,null,"",null,"",{"$f":"IFERROR(VLOOKUP(B203,#REF!,9,FALSE),\"\")","v":""},null,null,null,"",""]
[null,null,{"$f":"IFERROR(VLOOKUP(B204,#REF!,2,FALSE),\"\")","v":""},{"$f":"IFERROR(VLOOKUP(B204,#REF!,3,FALSE),\"\")","v":""},null,null,null,"",null,null,"",null,"",{"$f":"IFERROR(VLOOKUP(B204,#REF!,9,FALSE),\"\")","v":""},null,null,null,"",""]
[null,null,{"$f":"IFERROR(VLOOKUP(B205,#REF!,2,FALSE),\"\")","v":""},{"$f":"IFERROR(VLOOKUP(B205,#REF!,3,FALSE),\"\")","v":""},null,null,null,"",null,null,"",null,"",{"$f":"IFERROR(VLOOKUP(B205,#REF!,9,FALSE),\"\")","v":""},null,null,null,"",""]
[null,null,{"$f":"IFERROR(VLOOKUP(B206,#REF!,2,FALSE),\"\")","v":""},{"$f":"IFERROR(VLOOKUP(B206,#REF!,3,FALSE),\"\")","v":""},null,null,null,"",null,null,"",null,"",{"$f":"IFERROR(VLOOKUP(B206,#REF!,9,FALSE),\"\")","v":""},null,null,null,"",""]
[null,null,{"$f":"IFERROR(VLOOKUP(B207,#REF!,2,FALSE),\"\")","v":""},{"$f":"IFERROR(VLOOKUP(B207,#REF!,3,FALSE),\"\")","v":""},null,null,null,"",null,null,"",null,"",{"$f":"IFERROR(VLOOKUP(B207,#REF!,9,FALSE),\"\")","v":""},null,null,null,"",""]
[null,null,{"$f":"IFERROR(VLOOKUP(B208,#REF!,2,FALSE),\"\")","v":""},{"$f":"IFERROR(VLOOKUP(B208,#REF!,3,FALSE),\"\")","v":""},null,null,null,"",null,null,"",null,"",{"$f":"IFERROR(VLOOKUP(B208,#REF!,9,FALSE),\"\")","v":""},null,null,null,"",""]
[null,null,{"$f":"IFERROR(VLOOKUP(B209,#REF!,2,FALSE),\"\")","v":""},{"$f":"IFERROR(VLOOKUP(B209,#REF!,3,FALSE),\"\")","v":""},null,null,null,"",null,null,"",null,"",{"$f":"IFERROR(VLOOKUP(B209,#REF!,9,FALSE),\"\")","v":""},null,null,null,"",""]
[null,null,{"$f":"IFERROR(VLOOKUP(B210,#REF!,2,FALSE),\"\")","v":""},{"$f":"IFERROR(VLOOKUP(B210,#REF!,3,FALSE),\"\")","v":""},null,null,null,"",null,null,"",null,"",{"$f":"IFERROR(VLOOKUP(B210,#REF!,9,FALSE),\"\")","v":""},null,null,null,"",""]
[null,null,{"$f":"IFERROR(VLOOKUP(B211,#REF!,2,FALSE),\"\")","v":""},{"$f":"IFERROR(VLOOKUP(B211,#REF!,3,FALSE),\"\")","v":""},null,null,null,"",null,null,"",null,"",{"$f":"IFERROR(VLOOKUP(B211,#REF!,9,FALSE),\"\")","v":""},null,null,null,{"$f":"IF(P211=\"\",\"\",IFERROR(P211-Q211,\"\"))","v":""},""]
[null,null,{"$f":"IFERROR(VLOOKUP(B212,#REF!,2,FALSE),\"\")","v":""},{"$f":"IFERROR(VLOOKUP(B212,#REF!,3,FALSE),\"\")","v":""},null,null,null,"",null,null,"",null,"",{"$f":"IFERROR(VLOOKUP(B212,#REF!,9,FALSE),\"\")","v":""},null,null,null,"",""]
[null,null,{"$f":"IFERROR(VLOOKUP(B213,#REF!,2,FALSE),\"\")","v":""},{"$f":"IFERROR(VLOOKUP(B213,#REF!,3,FALSE),\"\")","v":""},null,null,null,{"$f":"IF((G213-F213)<=0,\"\",(G213-F213))","v":""},null,null,{"$f":"IF((J213-I213)<=0,\"\",(J213-I213))","v":""},null,"",{"$f":"IFERROR(VLOOKUP(B213,#REF!,9,FALSE),\"\")","v":""},null,null,null,"",""]
[null,null,{"$f":"IFERROR(VLOOKUP(B214,#REF!,2,FALSE),\"\")","v":""},{"$f":"IFERROR(VLOOKUP(B214,#REF!,3,FALSE),\"\")","v":""},null,null,null,"",null,null,"",null,"",{"$f":"IFERROR(VLOOKUP(B214,#REF!,9,FALSE),\"\")","v":""},null,null,null,"",""]
[null,null,{"$f":"IFERROR(VLOOKUP(B215,#REF!,2,FALSE),\"\")","v":""},{"$f":"IFERROR(VLOOKUP(B215,#REF!,3,FALSE),\"\")","v":""},null,null,null,"",null,null,"",null,"",{"$f":"IFERROR(VLOOKUP(B215,#REF!,9,FALSE),\"\")","v":""},null,null,null,"",""]
[null,null,{"$f":"IFERROR(VLOOKUP(B216,#REF!,2,FALSE),\"\")","v":""},{"$f":"IFERROR(VLOOKUP(B216,#REF!,3,FALSE),\"\")","v":""},null,null,null,"",null,null,"",null,"",{"$f":"IFERROR(VLOOKUP(B216,#REF!,9,FALSE),\"\")","v":""},null,null,null,"",""]
[null,null,{"$f":"IFERROR(VLOOKUP(B217,#REF!,2,FALSE),\"\")","v":""},{"$f":"IFERROR(VLOOKUP(B217,#REF!,3,FALSE),\"\")","v":""},null,null,null,"",null,null,"",null,"",{"$f":"IFERROR(VLOOKUP(B217,#REF!,9,FALSE),\"\")","v":""},null,null,null,"",""]
[null,null,{"$f":"IFERROR(VLOOKUP(B218,#REF!,2,FALSE),\"\")","v":""},{"$f":"IFERROR(VLOOKUP(B218,#REF!,3,FALSE),\"\")","v":""},null,null,null,"",null,null,"",null,"",{"$f":"IFERROR(VLOOKUP(B218,#REF!,9,FALSE),\"\")","v":""},null,null,null,"",""]
[null,null,{"$f":"IFERROR(VLOOKUP(B219,#REF!,2,FALSE),\"\")","v":""},{"$f":"IFERROR(VLOOKUP(B219,#REF!,3,FALSE),\"\")","v":""},null,null,null,"",null,null,"",null,"",{"$f":"IFERROR(VLOOKUP(B219,#REF!,9,FALSE),\"\")","v":""},null,null,null,"",""]
[null,null,{"$f":"IFERROR(VLOOKUP(B220,#REF!,2,FALSE),\"\")","v":""},{"$f":"IFERROR(VLOOKUP(B220,#REF!,3,FALSE),\"\")","v":""},null,null,null,"",null,null,"",null,"",{"$f":"IFERROR(VLOOKUP(B220,#REF!,9,FALSE),\"\")","v":""},null,null,null,"",""]
[null,null,{"$f":"IFERROR(VLOOKUP(B221,#REF!,2,FALSE),\"\")","v":""},{"$f":"IFERROR(VLOOKUP(B221,#REF!,3,FALSE),\"\")","v":""},null,null,null,"",null,null,"",null,"",{"$f":"IFERROR(VLOOKUP(B221,#REF!,9,FALSE),\"\")","v":""},null,null,null,"",""]
[null,null,{"$f":"IFERROR(VLOOKUP(B222,#REF!,2,FALSE),\"\")","v":""},{"$f":"IFERROR(VLOOKUP(B222,#REF!,3,FALSE),\"\")","v":""},null,null,null,"",null,null,"",null,"",{"$f":"IFERROR(VLOOKUP(B222,#REF!,9,FALSE),\"\")","v":""},null,null,null,"",""]
[null,null,{"$f":"IFERROR(VLOOKUP(B223,#REF!,2,FALSE),\"\")","v":""},{"$f":"IFERROR(VLOOKUP(B223,#REF!,3,FALSE),\"\")","v":""},null,null,null,"",null,null,"",null,"",{"$f":"IFERROR(VLOOKUP(B223,#REF!,9,FALSE),\"\")","v":""},null,null,null,"",""]
[null,null,{"$f":"IFERROR(VLOOKUP(B224,#REF!,2,FALSE),\"\")","v":""},{"$f":"IFERROR(VLOOKUP(B224,#REF!,3,FALSE),\"\")","v":""},null,null,null,"",null,null,"",null,"",{"$f":"IFERROR(VLOOKUP(B224,#REF!,9,FALSE),\"\")","v":""},null,null,null,"",""]
[null,null,{"$f":"IFERROR(VLOOKUP(B225,#REF!,2,FALSE),\"\")","v":""},{"$f":"IFERROR(VLOOKUP(B225,#REF!,3,FALSE),\"\")","v":""},null,null,null,"",null,null,"",null,"",{"$f":"IFERROR(VLOOKUP(B225,#REF!,9,FALSE),\"\")","v":""},null,null,null,"",""]
[null,null,{"$f":"IFERROR(VLOOKUP(B226,#REF!,2,FALSE),\"\")","v":""},{"$f":"IFERROR(VLOOKUP(B226,#REF!,3,FALSE),\"\")","v":""},null,null,null,"",null,null,"",null,"",{"$f":"IFERROR(VLOOKUP(B226,#REF!,9,FALSE),\"\")","v":""},null,null,null,"",""]
[null,null,{"$f":"IFERROR(VLOOKUP(B227,#REF!,2,FALSE),\"\")","v":""},{"$f":"IFERROR(VLOOKUP(B227,#REF!,3,FALSE),\"\")","v":""},null,null,null,"",null,null,"",null,"",{"$f":"IFERROR(VLOOKUP(B227,#REF!,9,FALSE),\"\")","v":""},null,null,null,"",""]
[null,null,{"$f":"IFERROR(VLOOKUP(B228,#REF!,2,FALSE),\"\")","v":""},{"$f":"IFERROR(VLOOKUP(B228,#REF!,3,FALSE),\"\")","v":""},null,null,null,"",null,null,"",null,"",{"$f":"IFERROR(VLOOKUP(B228,#REF!,9,FALSE),\"\")","v":""},null,null,null,"",""]
[null,null,{"$f":"IFERROR(VLOOKUP(B229,#REF!,2,FALSE),\"\")","v":""},{"$f":"IFERROR(VLOOKUP(B229,#REF!,3,FALSE),\"\")","v":""},null,null,null,"",null,null,"",null,"",{"$f":"IFERROR(VLOOKUP(B229,#REF!,9,FALSE),\"\")","v":""},null,null,null,"",""]
[null,null,{"$f":"IFERROR(VLOOKUP(B230,#REF!,2,FALSE),\"\")","v":""},{"$f":"IFERROR(VLOOKUP(B230,#REF!,3,FALSE),\"\")","v":""},null,null,null,"",null,null,"",null,"",{"$f":"IFERROR(VLOOKUP(B230,#REF!,9,FALSE),\"\")","v":""},null,null,null,"",""]
[null,null,{"$f":"IFERROR(VLOOKUP(B231,#REF!,2,FALSE),\"\")","v":""},{"$f":"IFERROR(VLOOKUP(B231,#REF!,3,FALSE),\"\")","v":""},null,null,null,"",null,null,"",null,"",{"$f":"IFERROR(VLOOKUP(B231,#REF!,9,FALSE),\"\")","v":""},null,null,null,"",""]
[null,null,{"$f":"IFERROR(VLOOKUP(B232,#REF!,2,FALSE),\"\")","v":""},{"$f":"IFERROR(VLOOKUP(B232,#REF!,3,FALSE),\"\")","v":""},null,null,null,"",null,null,"",null,"",{"$f":"IFERROR(VLOOKUP(B232,#REF!,9,FALSE),\"\")","v":""},null,null,null,"",""]
[null,null,{"$f":"IFERROR(VLOOKUP(B233,#REF!,2,FALSE),\"\")","v":""},{"$f":"IFERROR(VLOOKUP(B233,#REF!,3,FALSE),\"\")","v":""},null,null,null,"",null,null,"",null,"",{"$f":"IFERROR(VLOOKUP(B233,#REF!,9,FALSE),\"\")","v":""},null,null,null,"",""]
[null,null,{"$f":"IFERROR(VLOOKUP(B234,#REF!,2,FALSE),\"\")","v":""},{"$f":"IFERROR(VLOOKUP(B234,#REF!,3,FALSE),\"\")","v":""},null,null,null,"",null,null,"",null,"",{"$f":"IFERROR(VLOOKUP(B234,#REF!,9,FALSE),\"\")","v":""},null,null,null,"",""]
[null,null,{"$f":"IFERROR(VLOOKUP(B235,#REF!,2,FALSE),\"\")","v":""},{"$f":"IFERROR(VLOOKUP(B235,#REF!,3,FALSE),\"\")","v":""},null,null,null,"",null,null,"",null,"",{"$f":"IFERROR(VLOOKUP(B235,#REF!,9,FALSE),\"\")","v":""},null,null,null,"",""]
[null,null,{"$f":"IFERROR(VLOOKUP(B236,#REF!,2,FALSE),\"\")","v":""},{"$f":"IFERROR(VLOOKUP(B236,#REF!,3,FALSE),\"\")","v":""},null,null,null,"",null,null,"",null,"",{"$f":"IFERROR(VLOOKUP(B236,#REF!,9,FALSE),\"\")","v":""},null,null,null,"",""]
[null,null,{"$f":"IFERROR(VLOOKUP(B237,#REF!,2,FALSE),\"\")","v":""},{"$f":"IFERROR(VLOOKUP(B237,#REF!,3,FALSE),\"\")","v":""},null,null,null,"",null,null,"",null,"",{"$f":"IFERROR(VLOOKUP(B237,#REF!,9,FALSE),\"\")","v":""},null,null,null,"",""]
[null,null,{"$f":"IFERROR(VLOOKUP(B238,#REF!,2,FALSE),\"\")","v":""},{"$f":"IFERROR(VLOOKUP(B238,#REF!,3,FALSE),\"\")","v":""},null,null,null,"",null,null,"",null,"",{"$f":"IFERROR(VLOOKUP(B238,#REF!,9,FALSE),\"\")","v":""},null,null,null,"",""]
[null,null,{"$f":"IFERROR(VLOOKUP(B239,#REF!,2,FALSE),\"\")","v":""},{"$f":"IFERROR(VLOOKUP(B239,#REF!,3,FALSE),\"\")","v":""},null,null,null,"",null,null,"",null,{"$f":"IFERROR(IF((K239-L239)<=0,\"0\",(K239-L239)),\"\")","v":""},{"$f":"IFERROR(VLOOKUP(B239,#REF!,9,FALSE),\"\")","v":""},null,null,null,"",""]
[null,null,{"$f":"IFERROR(VLOOKUP(B240,#REF!,2,FALSE),\"\")","v":""},{"$f":"IFERROR(VLOOKUP(B240,#REF!,3,FALSE),\"\")","v":""},null,null,null,"",null,null,"",null,"",{"$f":"IFERROR(VLOOKUP(B240,#REF!,9,FALSE),\"\")","v":""},null,null,null,"",""]
[null,null,{"$f":"IFERROR(VLOOKUP(B241,#REF!,2,FALSE),\"\")","v":""},{"$f":"IFERROR(VLOOKUP(B241,#REF!,3,FALSE),\"\")","v":""},null,null,null,"",null,null,"",null,"",{"$f":"IFERROR(VLOOKUP(B241,#REF!,9,FALSE),\"\")","v":""},null,null,null,"",""]
[null,null,{"$f":"IFERROR(VLOOKUP(B242,#REF!,2,FALSE),\"\")","v":""},{"$f":"IFERROR(VLOOKUP(B242,#REF!,3,FALSE),\"\")","v":""},null,null,null,"",null,null,"",null,"",{"$f":"IFERROR(VLOOKUP(B242,#REF!,9,FALSE),\"\")","v":""},null,null,null,"",""]
[null,null,{"$f":"IFERROR(VLOOKUP(B243,#REF!,2,FALSE),\"\")","v":""},{"$f":"IFERROR(VLOOKUP(B243,#REF!,3,FALSE),\"\")","v":""},null,null,null,"",null,null,"",null,"",{"$f":"IFERROR(VLOOKUP(B243,#REF!,9,FALSE),\"\")","v":""},null,null,null,"",""]
[null,null,{"$f":"IFERROR(VLOOKUP(B244,#REF!,2,FALSE),\"\")","v":""},{"$f":"IFERROR(VLOOKUP(B244,#REF!,3,FALSE),\"\")","v":""},null,null,null,"",null,null,"",null,"",{"$f":"IFERROR(VLOOKUP(B244,#REF!,9,FALSE),\"\")","v":""},null,null,null,"",""]
[null,null,{"$f":"IFERROR(VLOOKUP(B245,#REF!,2,FALSE),\"\")","v":""},{"$f":"IFERROR(VLOOKUP(B245,#REF!,3,FALSE),\"\")","v":""},null,null,null,"",null,null,"",null,"",{"$f":"IFERROR(VLOOKUP(B245,#REF!,9,FALSE),\"\")","v":""},null,null,null,"",""]
[null,null,{"$f":"IFERROR(VLOOKUP(B246,#REF!,2,FALSE),\"\")","v":""},{"$f":"IFERROR(VLOOKUP(B246,#REF!,3,FALSE),\"\")","v":""},null,null,null,"",null,null,"",null,"",{"$f":"IFERROR(VLOOKUP(B246,#REF!,9,FALSE),\"\")","v":""},null,null,null,"",""]
[null,null,{"$f":"IFERROR(VLOOKUP(B247,#REF!,2,FALSE),\"\")","v":""},{"$f":"IFERROR(VLOOKUP(B247,#REF!,3,FALSE),\"\")","v":""},null,null,null,"",null,null,"",null,"",{"$f":"IFERROR(VLOOKUP(B247,#REF!,9,FALSE),\"\")","v":""},null,null,null,"",""]
[null,null,{"$f":"IFERROR(VLOOKUP(B248,#REF!,2,FALSE),\"\")","v":""},{"$f":"IFERROR(VLOOKUP(B248,#REF!,3,FALSE),\"\")","v":""},null,null,null,"",null,null,"",null,"",{"$f":"IFERROR(VLOOKUP(B248,#REF!,9,FALSE),\"\")","v":""},null,null,null,"",""]
[null,null,{"$f":"IFERROR(VLOOKUP(B249,#REF!,2,FALSE),\"\")","v":""},{"$f":"IFERROR(VLOOKUP(B249,#REF!,3,FALSE),\"\")","v":""},null,null,null,"",null,null,"",null,"",{"$f":"IFERROR(VLOOKUP(B249,#REF!,9,FALSE),\"\")","v":""},null,null,null,"",""]
[null,null,{"$f":"IFERROR(VLOOKUP(B250,#REF!,2,FALSE),\"\")","v":""},{"$f":"IFERROR(VLOOKUP(B250,#REF!,3,FALSE),\"\")","v":""},null,null,null,"",null,null,"",null,"",{"$f":"IFERROR(VLOOKUP(B250,#REF!,9,FALSE),\"\")","v":""},null,null,null,"",""]
[null,null,{"$f":"IFERROR(VLOOKUP(B251,#REF!,2,FALSE),\"\")","v":""},{"$f":"IFERROR(VLOOKUP(B251,#REF!,3,FALSE),\"\")","v":""},null,null,null,"",null,null,"",null,"",{"$f":"IFERROR(VLOOKUP(B251,#REF!,9,FALSE),\"\")","v":""},null,null,null,"",""]
[null,null,{"$f":"IFERROR(VLOOKUP(B252,#REF!,2,FALSE),\"\")","v":""},{"$f":"IFERROR(VLOOKUP(B252,#REF!,3,FALSE),\"\")","v":""},null,null,null,"",null,null,"",null,"",{"$f":"IFERROR(VLOOKUP(B252,#REF!,9,FALSE),\"\")","v":""},null,null,null,"",""]
[null,null,{"$f":"IFERROR(VLOOKUP(B253,#REF!,2,FALSE),\"\")","v":""},{"$f":"IFERROR(VLOOKUP(B253,#REF!,3,FALSE),\"\")","v":""},null,null,null,"",null,null,"",null,"",{"$f":"IFERROR(VLOOKUP(B253,#REF!,9,FALSE),\"\")","v":""},null,null,null,"",""]
[null,null,{"$f":"IFERROR(VLOOKUP(B254,#REF!,2,FALSE),\"\")","v":""},{"$f":"IFERROR(VLOOKUP(B254,#REF!,3,FALSE),\"\")","v":""},null,null,null,"",null,null,"",null,"",{"$f":"IFERROR(VLOOKUP(B254,#REF!,9,FALSE),\"\")","v":""},null,null,null,"",""]
[null,null,{"$f":"IFERROR(VLOOKUP(B255,#REF!,2,FALSE),\"\")","v":""},{"$f":"IFERROR(VLOOKUP(B255,#REF!,3,FALSE),\"\")","v":""},null,null,null,"",null,null,"",null,"",{"$f":"IFERROR(VLOOKUP(B255,#REF!,9,FALSE),\"\")","v":""},null,null,null,"",""]
[null,null,{"$f":"IFERROR(VLOOKUP(B256,#REF!,2,FALSE),\"\")","v":""},{"$f":"IFERROR(VLOOKUP(B256,#REF!,3,FALSE),\"\")","v":""},null,null,null,"",null,null,"",null,"",{"$f":"IFERROR(VLOOKUP(B256,#REF!,9,FALSE),\"\")","v":""},null,null,null,"",""]
[null,null,{"$f":"IFERROR(VLOOKUP(B257,#REF!,2,FALSE),\"\")","v":""},{"$f":"IFERROR(VLOOKUP(B257,#REF!,3,FALSE),\"\")","v":""},null,null,null,"",null,null,"",null,"",{"$f":"IFERROR(VLOOKUP(B257,#REF!,9,FALSE),\"\")","v":""},null,null,null,"",""]
[null,null,{"$f":"IFERROR(VLOOKUP(B258,#REF!,2,FALSE),\"\")","v":""},{"$f":"IFERROR(VLOOKUP(B258,#REF!,3,FALSE),\"\")","v":""},null,null,null,"",null,null,"",null,"",{"$f":"IFERROR(VLOOKUP(B258,#REF!,9,FALSE),\"\")","v":""},null,null,null,"",""]
[null,null,{"$f":"IFERROR(VLOOKUP(B259,#REF!,2,FALSE),\"\")","v":""},{"$f":"IFERROR(VLOOKUP(B259,#REF!,3,FALSE),\"\")","v":""},null,null,null,"",null,null,"",null,"",{"$f":"IFERROR(VLOOKUP(B259,#REF!,9,FALSE),\"\")","v":""},null,null,null,"",""]
[null,null,{"$f":"IFERROR(VLOOKUP(B260,#REF!,2,FALSE),\"\")","v":""},{"$f":"IFERROR(VLOOKUP(B260,#REF!,3,FALSE),\"\")","v":""},null,null,null,"",null,null,"",null,"",{"$f":"IFERROR(VLOOKUP(B260,#REF!,9,FALSE),\"\")","v":""},null,null,null,"",{"$f":"IF( N260 <> \"\", IF(AND(E260<\"100%\", M260>0, O260>N260), \"Miss\", \"Hit\"), \"\")","v":""}]
[null,null,{"$f":"IFERROR(VLOOKUP(B261,#REF!,2,FALSE),\"\")","v":""},{"$f":"IFERROR(VLOOKUP(B261,#REF!,3,FALSE),\"\")","v":""},null,null,null,"",null,null,"",null,"",{"$f":"IFERROR(VLOOKUP(B261,#REF!,9,FALSE),\"\")","v":""},null,null,null,"",""]
[null,null,{"$f":"IFERROR(VLOOKUP(B262,#REF!,2,FALSE),\"\")","v":""},{"$f":"IFERROR(VLOOKUP(B262,#REF!,3,FALSE),\"\")","v":""},null,null,null,"",null,null,"",null,"",{"$f":"IFERROR(VLOOKUP(B262,#REF!,9,FALSE),\"\")","v":""},null,null,null,"",""]
[null,null,{"$f":"IFERROR(VLOOKUP(B263,#REF!,2,FALSE),\"\")","v":""},{"$f":"IFERROR(VLOOKUP(B263,#REF!,3,FALSE),\"\")","v":""},null,null,null,"",null,null,"",null,"",{"$f":"IFERROR(VLOOKUP(B263,#REF!,9,FALSE),\"\")","v":""},null,null,null,"",""]
[null,null,{"$f":"IFERROR(VLOOKUP(B264,#REF!,2,FALSE),\"\")","v":""},{"$f":"IFERROR(VLOOKUP(B264,#REF!,3,FALSE),\"\")","v":""},null,null,null,"",null,null,"",null,"",{"$f":"IFERROR(VLOOKUP(B264,#REF!,9,FALSE),\"\")","v":""},null,null,null,"",""]
[null,null,{"$f":"IFERROR(VLOOKUP(B265,#REF!,2,FALSE),\"\")","v":""},{"$f":"IFERROR(VLOOKUP(B265,#REF!,3,FALSE),\"\")","v":""},null,null,null,"",null,null,"",null,"",{"$f":"IFERROR(VLOOKUP(B265,#REF!,9,FALSE),\"\")","v":""},null,null,null,"",""]
[null,null,{"$f":"IFERROR(VLOOKUP(B266,#REF!,2,FALSE),\"\")","v":""},{"$f":"IFERROR(VLOOKUP(B266,#REF!,3,FALSE),\"\")","v":""},null,null,null,"",null,null,"",null,"",{"$f":"IFERROR(VLOOKUP(B266,#REF!,9,FALSE),\"\")","v":""},null,null,null,"",""]
[null,null,{"$f":"IFERROR(VLOOKUP(B267,#REF!,2,FALSE),\"\")","v":""},{"$f":"IFERROR(VLOOKUP(B267,#REF!,3,FALSE),\"\")","v":""},null,null,null,"",null,null,"",null,"",{"$f":"IFERROR(VLOOKUP(B267,#REF!,9,FALSE),\"\")","v":""},null,null,null,"",""]
[null,null,{"$f":"IFERROR(VLOOKUP(B268,#REF!,2,FALSE),\"\")","v":""},{"$f":"IFERROR(VLOOKUP(B268,#REF!,3,FALSE),\"\")","v":""},null,null,null,"",null,null,"",null,"",{"$f":"IFERROR(VLOOKUP(B268,#REF!,9,FALSE),\"\")","v":""},null,null,null,"",""]
[null,null,{"$f":"IFERROR(VLOOKUP(B269,#REF!,2,FALSE),\"\")","v":""},{"$f":"IFERROR(VLOOKUP(B269,#REF!,3,FALSE),\"\")","v":""},null,null,null,"",null,null,"",null,"",{"$f":"IFERROR(VLOOKUP(B269,#REF!,9,FALSE),\"\")","v":""},null,null,null,"",""]
[null,null,{"$f":"IFERROR(VLOOKUP(B270,#REF!,2,FALSE),\"\")","v":""},{"$f":"IFERROR(VLOOKUP(B270,#REF!,3,FALSE),\"\")","v":""},null,null,null,"",null,null,"",null,"",{"$f":"IFERROR(VLOOKUP(B270,#REF!,9,FALSE),\"\")","v":""},null,null,null,"",""]
[null,null,{"$f":"IFERROR(VLOOKUP(B271,#REF!,2,FALSE),\"\")","v":""},{"$f":"IFERROR(VLOOKUP(B271,#REF!,3,FALSE),\"\")","v":""},null,null,null,"",null,null,"",null,"",{"$f":"IFERROR(VLOOKUP(B271,#REF!,9,FALSE),\"\")","v":""},null,null,null,"",""]
[null,null,{"$f":"IFERROR(VLOOKUP(B272,#REF!,2,FALSE),\"\")","v":""},{"$f":"IFERROR(VLOOKUP(B272,#REF!,3,FALSE),\"\")","v":""},null,null,null,"",null,null,"",null,"",{"$f":"IFERROR(VLOOKUP(B272,#REF!,9,FALSE),\"\")","v":""},null,null,null,"",""]
[null,null,{"$f":"IFERROR(VLOOKUP(B273,#REF!,2,FALSE),\"\")","v":""},{"$f":"IFERROR(VLOOKUP(B273,#REF!,3,FALSE),\"\")","v":""},null,null,null,"",null,null,"",null,"",{"$f":"IFERROR(VLOOKUP(B273,#REF!,9,FALSE),\"\")","v":""},null,null,null,"",""]
[null,null,{"$f":"IFERROR(VLOOKUP(B274,#REF!,2,FALSE),\"\")","v":""},{"$f":"IFERROR(VLOOKUP(B274,#REF!,3,FALSE),\"\")","v":""},null,null,null,"",null,null,"",null,"",{"$f":"IFERROR(VLOOKUP(B274,#REF!,9,FALSE),\"\")","v":""},null,null,null,"",""]
[null,null,{"$f":"IFERROR(VLOOKUP(B275,#REF!,2,FALSE),\"\")","v":""},{"$f":"IFERROR(VLOOKUP(B275,#REF!,3,FALSE),\"\")","v":""},null,null,null,"",null,null,"",null,"",{"$f":"IFERROR(VLOOKUP(B275,#REF!,9,FALSE),\"\")","v":""},null,null,null,{"$f":"IF(P275=\"\",\"\",IFERROR(P275-Q275,\"\"))","v":""},""]
[null,null,{"$f":"IFERROR(VLOOKUP(B276,#REF!,2,FALSE),\"\")","v":""},{"$f":"IFERROR(VLOOKUP(B276,#REF!,3,FALSE),\"\")","v":""},null,null,null,"",null,null,"",null,"",{"$f":"IFERROR(VLOOKUP(B276,#REF!,9,FALSE),\"\")","v":""},null,null,null,"",""]
[null,null,{"$f":"IFERROR(VLOOKUP(B277,#REF!,2,FALSE),\"\")","v":""},{"$f":"IFERROR(VLOOKUP(B277,#REF!,3,FALSE),\"\")","v":""},null,null,null,{"$f":"IF((G277-F277)<=0,\"\",(G277-F277))","v":""},null,null,{"$f":"IF((J277-I277)<=0,\"\",(J277-I277))","v":""},null,"",{"$f":"IFERROR(VLOOKUP(B277,#REF!,9,FALSE),\"\")","v":""},null,null,null,"",""]
[null,null,{"$f":"IFERROR(VLOOKUP(B278,#REF!,2,FALSE),\"\")","v":""},{"$f":"IFERROR(VLOOKUP(B278,#REF!,3,FALSE),\"\")","v":""},null,null,null,"",null,null,"",null,"",{"$f":"IFERROR(VLOOKUP(B278,#REF!,9,FALSE),\"\")","v":""},null,null,null,"",""]
[null,null,{"$f":"IFERROR(VLOOKUP(B279,#REF!,2,FALSE),\"\")","v":""},{"$f":"IFERROR(VLOOKUP(B279,#REF!,3,FALSE),\"\")","v":""},null,null,null,"",null,null,"",null,"",{"$f":"IFERROR(VLOOKUP(B279,#REF!,9,FALSE),\"\")","v":""},null,null,null,"",""]
[null,null,{"$f":"IFERROR(VLOOKUP(B280,#REF!,2,FALSE),\"\")","v":""},{"$f":"IFERROR(VLOOKUP(B280,#REF!,3,FALSE),\"\")","v":""},null,null,null,"",null,null,"",null,"",{"$f":"IFERROR(VLOOKUP(B280,#REF!,9,FALSE),\"\")","v":""},null,null,null,"",""]
[null,null,{"$f":"IFERROR(VLOOKUP(B281,#REF!,2,FALSE),\"\")","v":""},{"$f":"IFERROR(VLOOKUP(B281,#REF!,3,FALSE),\"\")","v":""},null,null,null,"",null,null,"",null,"",{"$f":"IFERROR(VLOOKUP(B281,#REF!,9,FALSE),\"\")","v":""},null,null,null,"",""]
[null,null,{"$f":"IFERROR(VLOOKUP(B282,#REF!,2,FALSE),\"\")","v":""},{"$f":"IFERROR(VLOOKUP(B282,#REF!,3,FALSE),\"\")","v":""},null,null,null,"",null,null,"",null,"",{"$f":"IFERROR(VLOOKUP(B282,#REF!,9,FALSE),\"\")","v":""},null,null,null,"",""]
[null,null,{"$f":"IFERROR(VLOOKUP(B283,#REF!,2,FALSE),\"\")","v":""},{"$f":"IFERROR(VLOOKUP(B283,#REF!,3,FALSE),\"\")","v":""},null,null,null,"",null,null,"",null,"",{"$f":"IFERROR(VLOOKUP(B283,#REF!,9,FALSE),\"\")","v":""},null,null,null,"",""]
[null,null,{"$f":"IFERROR(VLOOKUP(B284,#REF!,2,FALSE),\"\")","v":""},{"$f":"IFERROR(VLOOKUP(B284,#REF!,3,FALSE),\"\")","v":""},null,null,null,"",null,null,"",null,"",{"$f":"IFERROR(VLOOKUP(B284,#REF!,9,FALSE),\"\")","v":""},null,null,null,"",""]
[null,null,{"$f":"IFERROR(VLOOKUP(B285,#REF!,2,FALSE),\"\")","v":""},{"$f":"IFERROR(VLOOKUP(B285,#REF!,3,FALSE),\"\")","v":""},null,null,null,"",null,null,"",null,"",{"$f":"IFERROR(VLOOKUP(B285,#REF!,9,FALSE),\"\")","v":""},null,null,null,"",""]
[null,null,{"$f":"IFERROR(VLOOKUP(B286,#REF!,2,FALSE),\"\")","v":""},{"$f":"IFERROR(VLOOKUP(B286,#REF!,3,FALSE),\"\")","v":""},null,null,null,"",null,null,"",null,"",{"$f":"IFERROR(VLOOKUP(B286,#REF!,9,FALSE),\"\")","v":""},null,null,null,"",""]
[null,null,{"$f":"IFERROR(VLOOKUP(B287,#REF!,2,FALSE),\"\")","v":""},{"$f":"IFERROR(VLOOKUP(B287,#REF!,3,FALSE),\"\")","v":""},null,null,null,"",null,null,"",null,"",{"$f":"IFERROR(VLOOKUP(B287,#REF!,9,FALSE),\"\")","v":""},null,null,null,"",""]
[null,null,{"$f":"IFERROR(VLOOKUP(B288,#REF!,2,FALSE),\"\")","v":""},{"$f":"IFERROR(VLOOKUP(B288,#REF!,3,FALSE),\"\")","v":""},null,null,null,"",null,null,"",null,"",{"$f":"IFERROR(VLOOKUP(B288,#REF!,9,FALSE),\"\")","v":""},null,null,null,"",""]
[null,null,{"$f":"IFERROR(VLOOKUP(B289,#REF!,2,FALSE),\"\")","v":""},{"$f":"IFERROR(VLOOKUP(B289,#REF!,3,FALSE),\"\")","v":""},null,null,null,"",null,null,"",null,"",{"$f":"IFERROR(VLOOKUP(B289,#REF!,9,FALSE),\"\")","v":""},null,null,null,"",""]
[null,null,{"$f":"IFERROR(VLOOKUP(B290,#REF!,2,FALSE),\"\")","v":""},{"$f":"IFERROR(VLOOKUP(B290,#REF!,3,FALSE),\"\")","v":""},null,null,null,"",null,null,"",null,"",{"$f":"IFERROR(VLOOKUP(B290,#REF!,9,FALSE),\"\")","v":""},null,null,null,"",""]
[null,null,{"$f":"IFERROR(VLOOKUP(B291,#REF!,2,FALSE),\"\")","v":""},{"$f":"IFERROR(VLOOKUP(B291,#REF!,3,FALSE),\"\")","v":""},null,null,null,"",null,null,"",null,"",{"$f":"IFERROR(VLOOKUP(B291,#REF!,9,FALSE),\"\")","v":""},null,null,null,"",""]
[null,null,{"$f":"IFERROR(VLOOKUP(B292,#REF!,2,FALSE),\"\")","v":""},{"$f":"IFERROR(VLOOKUP(B292,#REF!,3,FALSE),\"\")","v":""},null,null,null,"",null,null,"",null,"",{"$f":"IFERROR(VLOOKUP(B292,#REF!,9,FALSE),\"\")","v":""},null,null,null,"",""]
[null,null,{"$f":"IFERROR(VLOOKUP(B293,#REF!,2,FALSE),\"\")","v":""},{"$f":"IFERROR(VLOOKUP(B293,#REF!,3,FALSE),\"\")","v":""},null,null,null,"",null,null,"",null,"",{"$f":"IFERROR(VLOOKUP(B293,#REF!,9,FALSE),\"\")","v":""},null,null,null,"",""]
[null,null,{"$f":"IFERROR(VLOOKUP(B294,#REF!,2,FALSE),\"\")","v":""},{"$f":"IFERROR(VLOOKUP(B294,#REF!,3,FALSE),\"\")","v":""},null,null,null,"",null,null,"",null,"",{"$f":"IFERROR(VLOOKUP(B294,#REF!,9,FALSE),\"\")","v":""},null,null,null,"",""]
[null,null,{"$f":"IFERROR(VLOOKUP(B295,#REF!,2,FALSE),\"\")","v":""},{"$f":"IFERROR(VLOOKUP(B295,#REF!,3,FALSE),\"\")","v":""},null,null,null,"",null,null,"",null,"",{"$f":"IFERROR(VLOOKUP(B295,#REF!,9,FALSE),\"\")","v":""},null,null,null,"",""]
[null,null,{"$f":"IFERROR(VLOOKUP(B296,#REF!,2,FALSE),\"\")","v":""},{"$f":"IFERROR(VLOOKUP(B296,#REF!,3,FALSE),\"\")","v":""},null,null,null,"",null,null,"",null,"",{"$f":"IFERROR(VLOOKUP(B296,#REF!,9,FALSE),\"\")","v":""},null,null,null,"",""]
[null,null,{"$f":"IFERROR(VLOOKUP(B297,#REF!,2,FALSE),\"\")","v":""},{"$f":"IFERROR(VLOOKUP(B297,#REF!,3,FALSE),\"\")","v":""},null,null,null,"",null,null,"",null,"",{"$f":"IFERROR(VLOOKUP(B297,#REF!,9,FALSE),\"\")","v":""},null,null,null,"",""]
[null,null,{"$f":"IFERROR(VLOOKUP(B298,#REF!,2,FALSE),\"\")","v":""},{"$f":"IFERROR(VLOOKUP(B298,#REF!,3,FALSE),\"\")","v":""},null,null,null,"",null,null,"",null,"",{"$f":"IFERROR(VLOOKUP(B298,#REF!,9,FALSE),\"\")","v":""},null,null,null,"",""]
[null,null,{"$f":"IFERROR(VLOOKUP(B299,#REF!,2,FALSE),\"\")","v":""},{"$f":"IFERROR(VLOOKUP(B299,#REF!,3,FALSE),\"\")","v":""},null,null,null,"",null,null,"",null,"",{"$f":"IFERROR(VLOOKUP(B299,#REF!,9,FALSE),\"\")","v":""},null,null,null,"",""]
[null,null,{"$f":"IFERROR(VLOOKUP(B300,#REF!,2,FALSE),\"\")","v":""},{"$f":"IFERROR(VLOOKUP(B300,#REF!,3,FALSE),\"\")","v":""},null,null,null,"",null,null,"",null,"",{"$f":"IFERROR(VLOOKUP(B300,#REF!,9,FALSE),\"\")","v":""},null,null,null,"",""]
[null,null,{"$f":"IFERROR(VLOOKUP(B301,#REF!,2,FALSE),\"\")","v":""},{"$f":"IFERROR(VLOOKUP(B301,#REF!,3,FALSE),\"\")","v":""},null,null,null,"",null,null,"",null,"",{"$f":"IFERROR(VLOOKUP(B301,#REF!,9,FALSE),\"\")","v":""},null,null,null,"",""]
[null,null,{"$f":"IFERROR(VLOOKUP(B302,#REF!,2,FALSE),\"\")","v":""},{"$f":"IFERROR(VLOOKUP(B302,#REF!,3,FALSE),\"\")","v":""},null,null,null,"",null,null,"",null,"",{"$f":"IFERROR(VLOOKUP(B302,#REF!,9,FALSE),\"\")","v":""},null,null,null,"",""]
[null,null,{"$f":"IFERROR(VLOOKUP(B303,#REF!,2,FALSE),\"\")","v":""},{"$f":"IFERROR(VLOOKUP(B303,#REF!,3,FALSE),\"\")","v":""},null,null,null,"",null,null,"",null,{"$f":"IFERROR(IF((K303-L303)<=0,\"0\",(K303-L303)),\"\")","v":""},{"$f":"IFERROR(VLOOKUP(B303,#REF!,9,FALSE),\"\")","v":""},null,null,null,"",""]
[null,null,{"$f":"IFERROR(VLOOKUP(B304,#REF!,2,FALSE),\"\")","v":""},{"$f":"IFERROR(VLOOKUP(B304,#REF!,3,FALSE),\"\")","v":""},null,null,null,"",null,null,"",null,"",{"$f":"IFERROR(VLOOKUP(B304,#REF!,9,FALSE),\"\")","v":""},null,null,null,"",""]
[null,null,{"$f":"IFERROR(VLOOKUP(B305,#REF!,2,FALSE),\"\")","v":""},{"$f":"IFERROR(VLOOKUP(B305,#REF!,3,FALSE),\"\")","v":""},null,null,null,"",null,null,"",null,"",{"$f":"IFERROR(VLOOKUP(B305,#REF!,9,FALSE),\"\")","v":""},null,null,null,"",""]
[null,null,{"$f":"IFERROR(VLOOKUP(B306,#REF!,2,FALSE),\"\")","v":""},{"$f":"IFERROR(VLOOKUP(B306,#REF!,3,FALSE),\"\")","v":""},null,null,null,"",null,null,"",null,"",{"$f":"IFERROR(VLOOKUP(B306,#REF!,9,FALSE),\"\")","v":""},null,null,null,"",""]
[null,null,{"$f":"IFERROR(VLOOKUP(B307,#REF!,2,FALSE),\"\")","v":""},{"$f":"IFERROR(VLOOKUP(B307,#REF!,3,FALSE),\"\")","v":""},null,null,null,"",null,null,"",null,"",{"$f":"IFERROR(VLOOKUP(B307,#REF!,9,FALSE),\"\")","v":""},null,null,null,"",""]
[null,null,{"$f":"IFERROR(VLOOKUP(B308,#REF!,2,FALSE),\"\")","v":""},{"$f":"IFERROR(VLOOKUP(B308,#REF!,3,FALSE),\"\")","v":""},null,null,null,"",null,null,"",null,"",{"$f":"IFERROR(VLOOKUP(B308,#REF!,9,FALSE),\"\")","v":""},null,null,null,"",""]
[null,null,{"$f":"IFERROR(VLOOKUP(B309,#REF!,2,FALSE),\"\")","v":""},{"$f":"IFERROR(VLOOKUP(B309,#REF!,3,FALSE),\"\")","v":""},null,null,null,"",null,null,"",null,"",{"$f":"IFERROR(VLOOKUP(B309,#REF!,9,FALSE),\"\")","v":""},null,null,null,"",""]
[null,null,{"$f":"IFERROR(VLOOKUP(B310,#REF!,2,FALSE),\"\")","v":""},{"$f":"IFERROR(VLOOKUP(B310,#REF!,3,FALSE),\"\")","v":""},null,null,null,"",null,null,"",null,"",{"$f":"IFERROR(VLOOKUP(B310,#REF!,9,FALSE),\"\")","v":""},null,null,null,"",""]
[null,null,{"$f":"IFERROR(VLOOKUP(B311,#REF!,2,FALSE),\"\")","v":""},{"$f":"IFERROR(VLOOKUP(B311,#REF!,3,FALSE),\"\")","v":""},null,null,null,"",null,null,"",null,"",{"$f":"IFERROR(VLOOKUP(B311,#REF!,9,FALSE),\"\")","v":""},null,null,null,"",""]
[null,null,{"$f":"IFERROR(VLOOKUP(B312,#REF!,2,FALSE),\"\")","v":""},{"$f":"IFERROR(VLOOKUP(B312,#REF!,3,FALSE),\"\")","v":""},null,null,null,"",null,null,"",null,"",{"$f":"IFERROR(VLOOKUP(B312,#REF!,9,FALSE),\"\")","v":""},null,null,null,"",""]
[null,null,{"$f":"IFERROR(VLOOKUP(B313,#REF!,2,FALSE),\"\")","v":""},{"$f":"IFERROR(VLOOKUP(B313,#REF!,3,FALSE),\"\")","v":""},null,null,null,"",null,null,"",null,"",{"$f":"IFERROR(VLOOKUP(B313,#REF!,9,FALSE),\"\")","v":""},null,null,null,"",""]
[null,null,{"$f":"IFERROR(VLOOKUP(B314,#REF!,2,FALSE),\"\")","v":""},{"$f":"IFERROR(VLOOKUP(B314,#REF!,3,FALSE),\"\")","v":""},null,null,null,"",null,null,"",null,"",{"$f":"IFERROR(VLOOKUP(B314,#REF!,9,FALSE),\"\")","v":""},null,null,null,"",""]
[null,null,{"$f":"IFERROR(VLOOKUP(B315,#REF!,2,FALSE),\"\")","v":""},{"$f":"IFERROR(VLOOKUP(B315,#REF!,3,FALSE),\"\")","v":""},null,null,null,"",null,null,"",null,"",{"$f":"IFERROR(VLOOKUP(B315,#REF!,9,FALSE),\"\")","v":""},null,null,null,"",""]
[null,null,{"$f":"IFERROR(VLOOKUP(B316,#REF!,2,FALSE),\"\")","v":""},{"$f":"IFERROR(VLOOKUP(B316,#REF!,3,FALSE),\"\")","v":""},null,null,null,"",null,null,"",null,"",{"$f":"IFERROR(VLOOKUP(B316,#REF!,9,FALSE),\"\")","v":""},null,null,null,"",""]
[null,null,{"$f":"IFERROR(VLOOKUP(B317,#REF!,2,FALSE),\"\")","v":""},{"$f":"IFERROR(VLOOKUP(B317,#REF!,3,FALSE),\"\")","v":""},null,null,null,"",null,null,"",null,"",{"$f":"IFERROR(VLOOKUP(B317,#REF!,9,FALSE),\"\")","v":""},null,null,null,"",""]
[null,null,{"$f":"IFERROR(VLOOKUP(B318,#REF!,2,FALSE),\"\")","v":""},{"$f":"IFERROR(VLOOKUP(B318,#REF!,3,FALSE),\"\")","v":""},null,null,null,"",null,null,"",null,"",{"$f":"IFERROR(VLOOKUP(B318,#REF!,9,FALSE),\"\")","v":""},null,null,null,"",""]
[null,null,{"$f":"IFERROR(VLOOKUP(B319,#REF!,2,FALSE),\"\")","v":""},{"$f":"IFERROR(VLOOKUP(B319,#REF!,3,FALSE),\"\")","v":""},null,null,null,"",null,null,"",null,"",{"$f":"IFERROR(VLOOKUP(B319,#REF!,9,FALSE),\"\")","v":""},null,null,null,"",""]
[null,null,{"$f":"IFERROR(VLOOKUP(B320,#REF!,2,FALSE),\"\")","v":""},{"$f":"IFERROR(VLOOKUP(B320,#REF!,3,FALSE),\"\")","v":""},null,null,null,"",null,null,"",null,"",{"$f":"IFERROR(VLOOKUP(B320,#REF!,9,FALSE),\"\")","v":""},null,null,null,"",""]
[null,null,{"$f":"IFERROR(VLOOKUP(B321,#REF!,2,FALSE),\"\")","v":""},{"$f":"IFERROR(VLOOKUP(B321,#REF!,3,FALSE),\"\")","v":""},null,null,null,"",null,null,"",null,"",{"$f":"IFERROR(VLOOKUP(B321,#REF!,9,FALSE),\"\")","v":""},null,null,null,"",""]
[null,null,{"$f":"IFERROR(VLOOKUP(B322,#REF!,2,FALSE),\"\")","v":""},{"$f":"IFERROR(VLOOKUP(B322,#REF!,3,FALSE),\"\")","v":""},null,null,null,"",null,null,"",null,"",{"$f":"IFERROR(VLOOKUP(B322,#REF!,9,FALSE),\"\")","v":""},null,null,null,"",""]
[null,null,{"$f":"IFERROR(VLOOKUP(B323,#REF!,2,FALSE),\"\")","v":""},{"$f":"IFERROR(VLOOKUP(B323,#REF!,3,FALSE),\"\")","v":""},null,null,null,"",null,null,"",null,"",{"$f":"IFERROR(VLOOKUP(B323,#REF!,9,FALSE),\"\")","v":""},null,null,null,"",""]
[null,null,{"$f":"IFERROR(VLOOKUP(B324,#REF!,2,FALSE),\"\")","v":""},{"$f":"IFERROR(VLOOKUP(B324,#REF!,3,FALSE),\"\")","v":""},null,null,null,"",null,null,"",null,"",{"$f":"IFERROR(VLOOKUP(B324,#REF!,9,FALSE),\"\")","v":""},null,null,null,"",{"$f":"IF( N324 <> \"\", IF(AND(E324<\"100%\", M324>0, O324>N324), \"Miss\", \"Hit\"), \"\")","v":""}]
[null,null,{"$f":"IFERROR(VLOOKUP(B325,#REF!,2,FALSE),\"\")","v":""},{"$f":"IFERROR(VLOOKUP(B325,#REF!,3,FALSE),\"\")","v":""},null,null,null,"",null,null,"",null,"",{"$f":"IFERROR(VLOOKUP(B325,#REF!,9,FALSE),\"\")","v":""},null,null,null,"",""]
[null,null,{"$f":"IFERROR(VLOOKUP(B326,#REF!,2,FALSE),\"\")","v":""},{"$f":"IFERROR(VLOOKUP(B326,#REF!,3,FALSE),\"\")","v":""},null,null,null,"",null,null,"",null,"",{"$f":"IFERROR(VLOOKUP(B326,#REF!,9,FALSE),\"\")","v":""},null,null,null,"",""]
[null,null,{"$f":"IFERROR(VLOOKUP(B327,#REF!,2,FALSE),\"\")","v":""},{"$f":"IFERROR(VLOOKUP(B327,#REF!,3,FALSE),\"\")","v":""},null,null,null,"",null,null,"",null,"",{"$f":"IFERROR(VLOOKUP(B327,#REF!,9,FALSE),\"\")","v":""},null,null,null,"",""]
[null,null,{"$f":"IFERROR(VLOOKUP(B328,#REF!,2,FALSE),\"\")","v":""},{"$f":"IFERROR(VLOOKUP(B328,#REF!,3,FALSE),\"\")","v":""},null,null,null,"",null,null,"",null,"",{"$f":"IFERROR(VLOOKUP(B328,#REF!,9,FALSE),\"\")","v":""},null,null,null,"",""]
[null,null,{"$f":"IFERROR(VLOOKUP(B329,#REF!,2,FALSE),\"\")","v":""},{"$f":"IFERROR(VLOOKUP(B329,#REF!,3,FALSE),\"\")","v":""},null,null,null,"",null,null,"",null,"",{"$f":"IFERROR(VLOOKUP(B329,#REF!,9,FALSE),\"\")","v":""},null,null,null,"",""]
[null,null,{"$f":"IFERROR(VLOOKUP(B330,#REF!,2,FALSE),\"\")","v":""},{"$f":"IFERROR(VLOOKUP(B330,#REF!,3,FALSE),\"\")","v":""},null,null,null,"",null,null,"",null,"",{"$f":"IFERROR(VLOOKUP(B330,#REF!,9,FALSE),\"\")","v":""},null,null,null,"",""]
[null,null,{"$f":"IFERROR(VLOOKUP(B331,#REF!,2,FALSE),\"\")","v":""},{"$f":"IFERROR(VLOOKUP(B331,#REF!,3,FALSE),\"\")","v":""},null,null,null,"",null,null,"",null,"",{"$f":"IFERROR(VLOOKUP(B331,#REF!,9,FALSE),\"\")","v":""},null,null,null,"",""]
[null,null,{"$f":"IFERROR(VLOOKUP(B332,#REF!,2,FALSE),\"\")","v":""},{"$f":"IFERROR(VLOOKUP(B332,#REF!,3,FALSE),\"\")","v":""},null,null,null,"",null,null,"",null,"",{"$f":"IFERROR(VLOOKUP(B332,#REF!,9,FALSE),\"\")","v":""},null,null,null,"",""]
[null,null,{"$f":"IFERROR(VLOOKUP(B333,#REF!,2,FALSE),\"\")","v":""},{"$f":"IFERROR(VLOOKUP(B333,#REF!,3,FALSE),\"\")","v":""},null,null,null,"",null,null,"",null,"",{"$f":"IFERROR(VLOOKUP(B333,#REF!,9,FALSE),\"\")","v":""},null,null,null,"",""]
[null,null,{"$f":"IFERROR(VLOOKUP(B334,#REF!,2,FALSE),\"\")","v":""},{"$f":"IFERROR(VLOOKUP(B334,#REF!,3,FALSE),\"\")","v":""},null,null,null,"",null,null,"",null,"",{"$f":"IFERROR(VLOOKUP(B334,#REF!,9,FALSE),\"\")","v":""},null,null,null,"",""]
[null,null,{"$f":"IFERROR(VLOOKUP(B335,#REF!,2,FALSE),\"\")","v":""},{"$f":"IFERROR(VLOOKUP(B335,#REF!,3,FALSE),\"\")","v":""},null,null,null,"",null,null,"",null,"",{"$f":"IFERROR(VLOOKUP(B335,#REF!,9,FALSE),\"\")","v":""},null,null,null,"",""]
[null,null,{"$f":"IFERROR(VLOOKUP(B336,#REF!,2,FALSE),\"\")","v":""},{"$f":"IFERROR(VLOOKUP(B336,#REF!,3,FALSE),\"\")","v":""},null,null,null,"",null,null,"",null,"",{"$f":"IFERROR(VLOOKUP(B336,#REF!,9,FALSE),\"\")","v":""},null,null,null,"",""]
[null,null,{"$f":"IFERROR(VLOOKUP(B337,#REF!,2,FALSE),\"\")","v":""},{"$f":"IFERROR(VLOOKUP(B337,#REF!,3,FALSE),\"\")","v":""},null,null,null,"",null,null,"",null,"",{"$f":"IFERROR(VLOOKUP(B337,#REF!,9,FALSE),\"\")","v":""},null,null,null,"",""]
[null,null,{"$f":"IFERROR(VLOOKUP(B338,#REF!,2,FALSE),\"\")","v":""},{"$f":"IFERROR(VLOOKUP(B338,#REF!,3,FALSE),\"\")","v":""},null,null,null,"",null,null,"",null,"",{"$f":"IFERROR(VLOOKUP(B338,#REF!,9,FALSE),\"\")","v":""},null,null,null,"",""]
[null,null,{"$f":"IFERROR(VLOOKUP(B339,#REF!,2,FALSE),\"\")","v":""},{"$f":"IFERROR(VLOOKUP(B339,#REF!,3,FALSE),\"\")","v":""},null,null,null,"",null,null,"",null,"",{"$f":"IFERROR(VLOOKUP(B339,#REF!,9,FALSE),\"\")","v":""},null,null,null,{"$f":"IF(P339=\"\",\"\",IFERROR(P339-Q339,\"\"))","v":""},""]
[null,null,{"$f":"IFERROR(VLOOKUP(B340,#REF!,2,FALSE),\"\")","v":""},{"$f":"IFERROR(VLOOKUP(B340,#REF!,3,FALSE),\"\")","v":""},null,null,null,"",null,null,"",null,"",{"$f":"IFERROR(VLOOKUP(B340,#REF!,9,FALSE),\"\")","v":""},null,null,null,"",""]
[null,null,{"$f":"IFERROR(VLOOKUP(B341,#REF!,2,FALSE),\"\")","v":""},{"$f":"IFERROR(VLOOKUP(B341,#REF!,3,FALSE),\"\")","v":""},null,null,null,{"$f":"IF((G341-F341)<=0,\"\",(G341-F341))","v":""},null,null,{"$f":"IF((J341-I341)<=0,\"\",(J341-I341))","v":""},null,"",{"$f":"IFERROR(VLOOKUP(B341,#REF!,9,FALSE),\"\")","v":""},null,null,null,"",""]
[null,null,{"$f":"IFERROR(VLOOKUP(B342,#REF!,2,FALSE),\"\")","v":""},{"$f":"IFERROR(VLOOKUP(B342,#REF!,3,FALSE),\"\")","v":""},null,null,null,"",null,null,"",null,"",{"$f":"IFERROR(VLOOKUP(B342,#REF!,9,FALSE),\"\")","v":""},null,null,null,"",""]
[null,null,{"$f":"IFERROR(VLOOKUP(B343,#REF!,2,FALSE),\"\")","v":""},{"$f":"IFERROR(VLOOKUP(B343,#REF!,3,FALSE),\"\")","v":""},null,null,null,"",null,null,"",null,"",{"$f":"IFERROR(VLOOKUP(B343,#REF!,9,FALSE),\"\")","v":""},null,null,null,"",""]
[null,null,{"$f":"IFERROR(VLOOKUP(B344,#REF!,2,FALSE),\"\")","v":""},{"$f":"IFERROR(VLOOKUP(B344,#REF!,3,FALSE),\"\")","v":""},null,null,null,"",null,null,"",null,"",{"$f":"IFERROR(VLOOKUP(B344,#REF!,9,FALSE),\"\")","v":""},null,null,null,"",""]
[null,null,{"$f":"IFERROR(VLOOKUP(B345,#REF!,2,FALSE),\"\")","v":""},{"$f":"IFERROR(VLOOKUP(B345,#REF!,3,FALSE),\"\")","v":""},null,null,null,"",null,null,"",null,"",{"$f":"IFERROR(VLOOKUP(B345,#REF!,9,FALSE),\"\")","v":""},null,null,null,"",""]
[null,null,{"$f":"IFERROR(VLOOKUP(B346,#REF!,2,FALSE),\"\")","v":""},{"$f":"IFERROR(VLOOKUP(B346,#REF!,3,FALSE),\"\")","v":""},null,null,null,"",null,null,"",null,"",{"$f":"IFERROR(VLOOKUP(B346,#REF!,9,FALSE),\"\")","v":""},null,null,null,"",""]
[null,null,{"$f":"IFERROR(VLOOKUP(B347,#REF!,2,FALSE),\"\")","v":""},{"$f":"IFERROR(VLOOKUP(B347,#REF!,3,FALSE),\"\")","v":""},null,null,null,"",null,null,"",null,"",{"$f":"IFERROR(VLOOKUP(B347,#REF!,9,FALSE),\"\")","v":""},null,null,null,"",""]
[null,null,{"$f":"IFERROR(VLOOKUP(B348,#REF!,2,FALSE),\"\")","v":""},{"$f":"IFERROR(VLOOKUP(B348,#REF!,3,FALSE),\"\")","v":""},null,null,null,"",null,null,"",null,"",{"$f":"IFERROR(VLOOKUP(B348,#REF!,9,FALSE),\"\")","v":""},null,null,null,"",""]
[null,null,{"$f":"IFERROR(VLOOKUP(B349,#REF!,2,FALSE),\"\")","v":""},{"$f":"IFERROR(VLOOKUP(B349,#REF!,3,FALSE),\"\")","v":""},null,null,null,"",null,null,"",null,"",{"$f":"IFERROR(VLOOKUP(B349,#REF!,9,FALSE),\"\")","v":""},null,null,null,"",""]
[null,null,{"$f":"IFERROR(VLOOKUP(B350,#REF!,2,FALSE),\"\")","v":""},{"$f":"IFERROR(VLOOKUP(B350,#REF!,3,FALSE),\"\")","v":""},null,null,null,"",null,null,"",null,"",{"$f":"IFERROR(VLOOKUP(B350,#REF!,9,FALSE),\"\")","v":""},null,null,null,"",""]
[null,null,{"$f":"IFERROR(VLOOKUP(B351,#REF!,2,FALSE),\"\")","v":""},{"$f":"IFERROR(VLOOKUP(B351,#REF!,3,FALSE),\"\")","v":""},null,null,null,"",null,null,"",null,"",{"$f":"IFERROR(VLOOKUP(B351,#REF!,9,FALSE),\"\")","v":""},null,null,null,"",""]
[null,null,{"$f":"IFERROR(VLOOKUP(B352,#REF!,2,FALSE),\"\")","v":""},{"$f":"IFERROR(VLOOKUP(B352,#REF!,3,FALSE),\"\")","v":""},null,null,null,"",null,null,"",null,"",{"$f":"IFERROR(VLOOKUP(B352,#REF!,9,FALSE),\"\")","v":""},null,null,null,"",""]
[null,null,{"$f":"IFERROR(VLOOKUP(B353,#REF!,2,FALSE),\"\")","v":""},{"$f":"IFERROR(VLOOKUP(B353,#REF!,3,FALSE),\"\")","v":""},null,null,null,"",null,null,"",null,"",{"$f":"IFERROR(VLOOKUP(B353,#REF!,9,FALSE),\"\")","v":""},null,null,null,"",""]
[null,null,{"$f":"IFERROR(VLOOKUP(B354,#REF!,2,FALSE),\"\")","v":""},{"$f":"IFERROR(VLOOKUP(B354,#REF!,3,FALSE),\"\")","v":""},null,null,null,"",null,null,"",null,"",{"$f":"IFERROR(VLOOKUP(B354,#REF!,9,FALSE),\"\")","v":""},null,null,null,"",""]
[null,null,{"$f":"IFERROR(VLOOKUP(B355,#REF!,2,FALSE),\"\")","v":""},{"$f":"IFERROR(VLOOKUP(B355,#REF!,3,FALSE),\"\")","v":""},null,null,null,"",null,null,"",null,"",{"$f":"IFERROR(VLOOKUP(B355,#REF!,9,FALSE),\"\")","v":""},null,null,null,"",""]
[null,null,{"$f":"IFERROR(VLOOKUP(B356,#REF!,2,FALSE),\"\")","v":""},{"$f":"IFERROR(VLOOKUP(B356,#REF!,3,FALSE),\"\")","v":""},null,null,null,"",null,null,"",null,"",{"$f":"IFERROR(VLOOKUP(B356,#REF!,9,FALSE),\"\")","v":""},null,null,null,"",""]
[null,null,{"$f":"IFERROR(VLOOKUP(B357,#REF!,2,FALSE),\"\")","v":""},{"$f":"IFERROR(VLOOKUP(B357,#REF!,3,FALSE),\"\")","v":""},null,null,null,"",null,null,"",null,"",{"$f":"IFERROR(VLOOKUP(B357,#REF!,9,FALSE),\"\")","v":""},null,null,null,"",""]
[null,null,{"$f":"IFERROR(VLOOKUP(B358,#REF!,2,FALSE),\"\")","v":""},{"$f":"IFERROR(VLOOKUP(B358,#REF!,3,FALSE),\"\")","v":""},null,null,null,"",null,null,"",null,"",{"$f":"IFERROR(VLOOKUP(B358,#REF!,9,FALSE),\"\")","v":""},null,null,null,"",""]
[null,null,{"$f":"IFERROR(VLOOKUP(B359,#REF!,2,FALSE),\"\")","v":""},{"$f":"IFERROR(VLOOKUP(B359,#REF!,3,FALSE),\"\")","v":""},null,null,null,"",null,null,"",null,"",{"$f":"IFERROR(VLOOKUP(B359,#REF!,9,FALSE),\"\")","v":""},null,null,null,"",""]
[null,null,{"$f":"IFERROR(VLOOKUP(B360,#REF!,2,FALSE),\"\")","v":""},{"$f":"IFERROR(VLOOKUP(B360,#REF!,3,FALSE),\"\")","v":""},null,null,null,"",null,null,"",null,"",{"$f":"IFERROR(VLOOKUP(B360,#REF!,9,FALSE),\"\")","v":""},null,null,null,"",""]
[null,null,{"$f":"IFERROR(VLOOKUP(B361,#REF!,2,FALSE),\"\")","v":""},{"$f":"IFERROR(VLOOKUP(B361,#REF!,3,FALSE),\"\")","v":""},null,null,null,"",null,null,"",null,"",{"$f":"IFERROR(VLOOKUP(B361,#REF!,9,FALSE),\"\")","v":""},null,null,null,"",""]
[null,null,{"$f":"IFERROR(VLOOKUP(B362,#REF!,2,FALSE),\"\")","v":""},{"$f":"IFERROR(VLOOKUP(B362,#REF!,3,FALSE),\"\")","v":""},null,null,null,"",null,null,"",null,"",{"$f":"IFERROR(VLOOKUP(B362,#REF!,9,FALSE),\"\")","v":""},null,null,null,"",""]
[null,null,{"$f":"IFERROR(VLOOKUP(B363,#REF!,2,FALSE),\"\")","v":""},{"$f":"IFERROR(VLOOKUP(B363,#REF!,3,FALSE),\"\")","v":""},null,null,null,"",null,null,"",null,"",{"$f":"IFERROR(VLOOKUP(B363,#REF!,9,FALSE),\"\")","v":""},null,null,null,"",""]
[null,null,{"$f":"IFERROR(VLOOKUP(B364,#REF!,2,FALSE),\"\")","v":""},{"$f":"IFERROR(VLOOKUP(B364,#REF!,3,FALSE),\"\")","v":""},null,null,null,"",null,null,"",null,"",{"$f":"IFERROR(VLOOKUP(B364,#REF!,9,FALSE),\"\")","v":""},null,null,null,"",""]
[null,null,{"$f":"IFERROR(VLOOKUP(B365,#REF!,2,FALSE),\"\")","v":""},{"$f":"IFERROR(VLOOKUP(B365,#REF!,3,FALSE),\"\")","v":""},null,null,null,"",null,null,"",null,"",{"$f":"IFERROR(VLOOKUP(B365,#REF!,9,FALSE),\"\")","v":""},null,null,null,"",""]
[null,null,{"$f":"IFERROR(VLOOKUP(B366,#REF!,2,FALSE),\"\")","v":""},{"$f":"IFERROR(VLOOKUP(B366,#REF!,3,FALSE),\"\")","v":""},null,null,null,"",null,null,"",null,"",{"$f":"IFERROR(VLOOKUP(B366,#REF!,9,FALSE),\"\")","v":""},null,null,null,"",""]
[null,null,{"$f":"IFERROR(VLOOKUP(B367,#REF!,2,FALSE),\"\")","v":""},{"$f":"IFERROR(VLOOKUP(B367,#REF!,3,FALSE),\"\")","v":""},null,null,null,"",null,null,"",null,{"$f":"IFERROR(IF((K367-L367)<=0,\"0\",(K367-L367)),\"\")","v":""},{"$f":"IFERROR(VLOOKUP(B367,#REF!,9,FALSE),\"\")","v":""},null,null,null,"",""]
[null,null,{"$f":"IFERROR(VLOOKUP(B368,#REF!,2,FALSE),\"\")","v":""},{"$f":"IFERROR(VLOOKUP(B368,#REF!,3,FALSE),\"\")","v":""},null,null,null,"",null,null,"",null,"",{"$f":"IFERROR(VLOOKUP(B368,#REF!,9,FALSE),\"\")","v":""},null,null,null,"",""]
[null,null,{"$f":"IFERROR(VLOOKUP(B369,#REF!,2,FALSE),\"\")","v":""},{"$f":"IFERROR(VLOOKUP(B369,#REF!,3,FALSE),\"\")","v":""},null,null,null,"",null,null,"",null,"",{"$f":"IFERROR(VLOOKUP(B369,#REF!,9,FALSE),\"\")","v":""},null,null,null,"",""]
[null,null,{"$f":"IFERROR(VLOOKUP(B370,#REF!,2,FALSE),\"\")","v":""},{"$f":"IFERROR(VLOOKUP(B370,#REF!,3,FALSE),\"\")","v":""},null,null,null,"",null,null,"",null,"",{"$f":"IFERROR(VLOOKUP(B370,#REF!,9,FALSE),\"\")","v":""},null,null,null,"",""]
[null,null,{"$f":"IFERROR(VLOOKUP(B371,#REF!,2,FALSE),\"\")","v":""},{"$f":"IFERROR(VLOOKUP(B371,#REF!,3,FALSE),\"\")","v":""},null,null,null,"",null,null,"",null,"",{"$f":"IFERROR(VLOOKUP(B371,#REF!,9,FALSE),\"\")","v":""},null,null,null,"",""]
[null,null,{"$f":"IFERROR(VLOOKUP(B372,#REF!,2,FALSE),\"\")","v":""},{"$f":"IFERROR(VLOOKUP(B372,#REF!,3,FALSE),\"\")","v":""},null,null,null,"",null,null,"",null,"",{"$f":"IFERROR(VLOOKUP(B372,#REF!,9,FALSE),\"\")","v":""},null,null,null,"",""]
[null,null,{"$f":"IFERROR(VLOOKUP(B373,#REF!,2,FALSE),\"\")","v":""},{"$f":"IFERROR(VLOOKUP(B373,#REF!,3,FALSE),\"\")","v":""},null,null,null,"",null,null,"",null,"",{"$f":"IFERROR(VLOOKUP(B373,#REF!,9,FALSE),\"\")","v":""},null,null,null,"",""]
[null,null,{"$f":"IFERROR(VLOOKUP(B374,#REF!,2,FALSE),\"\")","v":""},{"$f":"IFERROR(VLOOKUP(B374,#REF!,3,FALSE),\"\")","v":""},null,null,null,"",null,null,"",null,"",{"$f":"IFERROR(VLOOKUP(B374,#REF!,9,FALSE),\"\")","v":""},null,null,null,"",""]
[null,null,{"$f":"IFERROR(VLOOKUP(B375,#REF!,2,FALSE),\"\")","v":""},{"$f":"IFERROR(VLOOKUP(B375,#REF!,3,FALSE),\"\")","v":""},null,null,null,"",null,null,"",null,"",{"$f":"IFERROR(VLOOKUP(B375,#REF!,9,FALSE),\"\")","v":""},null,null,null,"",""]
[null,null,{"$f":"IFERROR(VLOOKUP(B376,#REF!,2,FALSE),\"\")","v":""},{"$f":"IFERROR(VLOOKUP(B376,#REF!,3,FALSE),\"\")","v":""},null,null,null,"",null,null,"",null,"",{"$f":"IFERROR(VLOOKUP(B376,#REF!,9,FALSE),\"\")","v":""},null,null,null,"",""]
[null,null,{"$f":"IFERROR(VLOOKUP(B377,#REF!,2,FALSE),\"\")","v":""},{"$f":"IFERROR(VLOOKUP(B377,#REF!,3,FALSE),\"\")","v":""},null,null,null,"",null,null,"",null,"",{"$f":"IFERROR(VLOOKUP(B377,#REF!,9,FALSE),\"\")","v":""},null,null,null,"",""]
[null,null,{"$f":"IFERROR(VLOOKUP(B378,#REF!,2,FALSE),\"\")","v":""},{"$f":"IFERROR(VLOOKUP(B378,#REF!,3,FALSE),\"\")","v":""},null,null,null,"",null,null,"",null,"",{"$f":"IFERROR(VLOOKUP(B378,#REF!,9,FALSE),\"\")","v":""},null,null,null,"",""]
[null,null,{"$f":"IFERROR(VLOOKUP(B379,#REF!,2,FALSE),\"\")","v":""},{"$f":"IFERROR(VLOOKUP(B379,#REF!,3,FALSE),\"\")","v":""},null,null,null,"",null,null,"",null,"",{"$f":"IFERROR(VLOOKUP(B379,#REF!,9,FALSE),\"\")","v":""},null,null,null,"",""]
[null,null,{"$f":"IFERROR(VLOOKUP(B380,#REF!,2,FALSE),\"\")","v":""},{"$f":"IFERROR(VLOOKUP(B380,#REF!,3,FALSE),\"\")","v":""},null,null,null,"",null,null,"",null,"",{"$f":"IFERROR(VLOOKUP(B380,#REF!,9,FALSE),\"\")","v":""},null,null,null,"",""]
[null,null,{"$f":"IFERROR(VLOOKUP(B381,#REF!,2,FALSE),\"\")","v":""},{"$f":"IFERROR(VLOOKUP(B381,#REF!,3,FALSE),\"\")","v":""},null,null,null,"",null,null,"",null,"",{"$f":"IFERROR(VLOOKUP(B381,#REF!,9,FALSE),\"\")","v":""},null,null,null,"",""]
[null,null,{"$f":"IFERROR(VLOOKUP(B382,#REF!,2,FALSE),\"\")","v":""},{"$f":"IFERROR(VLOOKUP(B382,#REF!,3,FALSE),\"\")","v":""},null,null,null,"",null,null,"",null,"",{"$f":"IFERROR(VLOOKUP(B382,#REF!,9,FALSE),\"\")","v":""},null,null,null,"",""]
[null,null,{"$f":"IFERROR(VLOOKUP(B383,#REF!,2,FALSE),\"\")","v":""},{"$f":"IFERROR(VLOOKUP(B383,#REF!,3,FALSE),\"\")","v":""},null,null,null,"",null,null,"",null,"",{"$f":"IFERROR(VLOOKUP(B383,#REF!,9,FALSE),\"\")","v":""},null,null,null,"",""]
[null,null,{"$f":"IFERROR(VLOOKUP(B384,#REF!,2,FALSE),\"\")","v":""},{"$f":"IFERROR(VLOOKUP(B384,#REF!,3,FALSE),\"\")","v":""},null,null,null,"",null,null,"",null,"",{"$f":"IFERROR(VLOOKUP(B384,#REF!,9,FALSE),\"\")","v":""},null,null,null,"",""]
[null,null,{"$f":"IFERROR(VLOOKUP(B385,#REF!,2,FALSE),\"\")","v":""},{"$f":"IFERROR(VLOOKUP(B385,#REF!,3,FALSE),\"\")","v":""},null,null,null,"",null,null,"",null,"",{"$f":"IFERROR(VLOOKUP(B385,#REF!,9,FALSE),\"\")","v":""},null,null,null,"",""]
[null,null,{"$f":"IFERROR(VLOOKUP(B386,#REF!,2,FALSE),\"\")","v":""},{"$f":"IFERROR(VLOOKUP(B386,#REF!,3,FALSE),\"\")","v":""},null,null,null,"",null,null,"",null,"",{"$f":"IFERROR(VLOOKUP(B386,#REF!,9,FALSE),\"\")","v":""},null,null,null,"",""]
[null,null,{"$f":"IFERROR(VLOOKUP(B387,#REF!,2,FALSE),\"\")","v":""},{"$f":"IFERROR(VLOOKUP(B387,#REF!,3,FALSE),\"\")","v":""},null,null,null,"",null,null,"",null,"",{"$f":"IFERROR(VLOOKUP(B387,#REF!,9,FALSE),\"\")","v":""},null,null,null,"",""]
[null,null,{"$f":"IFERROR(VLOOKUP(B388,#REF!,2,FALSE),\"\")","v":""},{"$f":"IFERROR(VLOOKUP(B388,#REF!,3,FALSE),\"\")","v":""},null,null,null,"",null,null,"",null,"",{"$f":"IFERROR(VLOOKUP(B388,#REF!,9,FALSE),\"\")","v":""},null,null,null,"",{"$f":"IF( N388 <> \"\", IF(AND(E388<\"100%\", M388>0, O388>N388), \"Miss\", \"Hit\"), \"\")","v":""}]
[null,null,{"$f":"IFERROR(VLOOKUP(B389,#REF!,2,FALSE),\"\")","v":""},{"$f":"IFERROR(VLOOKUP(B389,#REF!,3,FALSE),\"\")","v":""},null,null,null,"",null,null,"",null,"",{"$f":"IFERROR(VLOOKUP(B389,#REF!,9,FALSE),\"\")","v":""},null,null,null,"",""]
[null,null,{"$f":"IFERROR(VLOOKUP(B390,#REF!,2,FALSE),\"\")","v":""},{"$f":"IFERROR(VLOOKUP(B390,#REF!,3,FALSE),\"\")","v":""},null,null,null,"",null,null,"",null,"",{"$f":"IFERROR(VLOOKUP(B390,#REF!,9,FALSE),\"\")","v":""},null,null,null,"",""]
[null,null,{"$f":"IFERROR(VLOOKUP(B391,#REF!,2,FALSE),\"\")","v":""},{"$f":"IFERROR(VLOOKUP(B391,#REF!,3,FALSE),\"\")","v":""},null,null,null,"",null,null,"",null,"",{"$f":"IFERROR(VLOOKUP(B391,#REF!,9,FALSE),\"\")","v":""},null,null,null,"",""]
[null,null,{"$f":"IFERROR(VLOOKUP(B392,#REF!,2,FALSE),\"\")","v":""},{"$f":"IFERROR(VLOOKUP(B392,#REF!,3,FALSE),\"\")","v":""},null,null,null,"",null,null,"",null,"",{"$f":"IFERROR(VLOOKUP(B392,#REF!,9,FALSE),\"\")","v":""},null,null,null,"",""]
[null,null,{"$f":"IFERROR(VLOOKUP(B393,#REF!,2,FALSE),\"\")","v":""},{"$f":"IFERROR(VLOOKUP(B393,#REF!,3,FALSE),\"\")","v":""},null,null,null,"",null,null,"",null,"",{"$f":"IFERROR(VLOOKUP(B393,#REF!,9,FALSE),\"\")","v":""},null,null,null,"",""]
[null,null,{"$f":"IFERROR(VLOOKUP(B394,#REF!,2,FALSE),\"\")","v":""},{"$f":"IFERROR(VLOOKUP(B394,#REF!,3,FALSE),\"\")","v":""},null,null,null,"",null,null,"",null,"",{"$f":"IFERROR(VLOOKUP(B394,#REF!,9,FALSE),\"\")","v":""},null,null,null,"",""]
[null,null,{"$f":"IFERROR(VLOOKUP(B395,#REF!,2,FALSE),\"\")","v":""},{"$f":"IFERROR(VLOOKUP(B395,#REF!,3,FALSE),\"\")","v":""},null,null,null,"",null,null,"",null,"",{"$f":"IFERROR(VLOOKUP(B395,#REF!,9,FALSE),\"\")","v":""},null,null,null,"",""]
[null,null,{"$f":"IFERROR(VLOOKUP(B396,#REF!,2,FALSE),\"\")","v":""},{"$f":"IFERROR(VLOOKUP(B396,#REF!,3,FALSE),\"\")","v":""},null,null,null,"",null,null,"",null,"",{"$f":"IFERROR(VLOOKUP(B396,#REF!,9,FALSE),\"\")","v":""},null,null,null,"",""]
[null,null,{"$f":"IFERROR(VLOOKUP(B397,#REF!,2,FALSE),\"\")","v":""},{"$f":"IFERROR(VLOOKUP(B397,#REF!,3,FALSE),\"\")","v":""},null,null,null,"",null,null,"",null,"",{"$f":"IFERROR(VLOOKUP(B397,#REF!,9,FALSE),\"\")","v":""},null,null,null,"",""]
[null,null,{"$f":"IFERROR(VLOOKUP(B398,#REF!,2,FALSE),\"\")","v":""},{"$f":"IFERROR(VLOOKUP(B398,#REF!,3,FALSE),\"\")","v":""},null,null,null,"",null,null,"",null,"",{"$f":"IFERROR(VLOOKUP(B398,#REF!,9,FALSE),\"\")","v":""},null,null,null,"",""]
[null,null,{"$f":"IFERROR(VLOOKUP(B399,#REF!,2,FALSE),\"\")","v":""},{"$f":"IFERROR(VLOOKUP(B399,#REF!,3,FALSE),\"\")","v":""},null,null,null,"",null,null,"",null,"",{"$f":"IFERROR(VLOOKUP(B399,#REF!,9,FALSE),\"\")","v":""},null,null,null,"",""]
[null,null,{"$f":"IFERROR(VLOOKUP(B400,#REF!,2,FALSE),\"\")","v":""},{"$f":"IFERROR(VLOOKUP(B400,#REF!,3,FALSE),\"\")","v":""},null,null,null,"",null,null,"",null,"",{"$f":"IFERROR(VLOOKUP(B400,#REF!,9,FALSE),\"\")","v":""},null,null,null,"",""]
[null,null,{"$f":"IFERROR(VLOOKUP(B401,#REF!,2,FALSE),\"\")","v":""},{"$f":"IFERROR(VLOOKUP(B401,#REF!,3,FALSE),\"\")","v":""},null,null,null,"",null,null,"",null,"",{"$f":"IFERROR(VLOOKUP(B401,#REF!,9,FALSE),\"\")","v":""},null,null,null,"",""]
[null,null,{"$f":"IFERROR(VLOOKUP(B402,#REF!,2,FALSE),\"\")","v":""},{"$f":"IFERROR(VLOOKUP(B402,#REF!,3,FALSE),\"\")","v":""},null,null,null,"",null,null,"",null,"",{"$f":"IFERROR(VLOOKUP(B402,#REF!,9,FALSE),\"\")","v":""},null,null,null,"",""]
[null,null,{"$f":"IFERROR(VLOOKUP(B403,#REF!,2,FALSE),\"\")","v":""},{"$f":"IFERROR(VLOOKUP(B403,#REF!,3,FALSE),\"\")","v":""},null,null,null,"",null,null,"",null,"",{"$f":"IFERROR(VLOOKUP(B403,#REF!,9,FALSE),\"\")","v":""},null,null,null,{"$f":"IF(P403=\"\",\"\",IFERROR(P403-Q403,\"\"))","v":""},""]
[null,null,{"$f":"IFERROR(VLOOKUP(B404,#REF!,2,FALSE),\"\")","v":""},{"$f":"IFERROR(VLOOKUP(B404,#REF!,3,FALSE),\"\")","v":""},null,null,null,"",null,null,"",null,"",{"$f":"IFERROR(VLOOKUP(B404,#REF!,9,FALSE),\"\")","v":""},null,null,null,"",""]
[null,null,{"$f":"IFERROR(VLOOKUP(B405,#REF!,2,FALSE),\"\")","v":""},{"$f":"IFERROR(VLOOKUP(B405,#REF!,3,FALSE),\"\")","v":""},null,null,null,{"$f":"IF((G405-F405)<=0,\"\",(G405-F405))","v":""},null,null,{"$f":"IF((J405-I405)<=0,\"\",(J405-I405))","v":""},null,"",{"$f":"IFERROR(VLOOKUP(B405,#REF!,9,FALSE),\"\")","v":""},null,null,null,"",""]
[null,null,{"$f":"IFERROR(VLOOKUP(B406,#REF!,2,FALSE),\"\")","v":""},{"$f":"IFERROR(VLOOKUP(B406,#REF!,3,FALSE),\"\")","v":""},null,null,null,"",null,null,"",null,"",{"$f":"IFERROR(VLOOKUP(B406,#REF!,9,FALSE),\"\")","v":""},null,null,null,"",""]
[null,null,{"$f":"IFERROR(VLOOKUP(B407,#REF!,2,FALSE),\"\")","v":""},{"$f":"IFERROR(VLOOKUP(B407,#REF!,3,FALSE),\"\")","v":""},null,null,null,"",null,null,"",null,"",{"$f":"IFERROR(VLOOKUP(B407,#REF!,9,FALSE),\"\")","v":""},null,null,null,"",""]
[null,null,{"$f":"IFERROR(VLOOKUP(B408,#REF!,2,FALSE),\"\")","v":""},{"$f":"IFERROR(VLOOKUP(B408,#REF!,3,FALSE),\"\")","v":""},null,null,null,"",null,null,"",null,"",{"$f":"IFERROR(VLOOKUP(B408,#REF!,9,FALSE),\"\")","v":""},null,null,null,"",""]
[null,null,{"$f":"IFERROR(VLOOKUP(B409,#REF!,2,FALSE),\"\")","v":""},{"$f":"IFERROR(VLOOKUP(B409,#REF!,3,FALSE),\"\")","v":""},null,null,null,"",null,null,"",null,"",{"$f":"IFERROR(VLOOKUP(B409,#REF!,9,FALSE),\"\")","v":""},null,null,null,"",""]
[null,null,{"$f":"IFERROR(VLOOKUP(B410,#REF!,2,FALSE),\"\")","v":""},{"$f":"IFERROR(VLOOKUP(B410,#REF!,3,FALSE),\"\")","v":""},null,null,null,"",null,null,"",null,"",{"$f":"IFERROR(VLOOKUP(B410,#REF!,9,FALSE),\"\")","v":""},null,null,null,"",""]
[null,null,{"$f":"IFERROR(VLOOKUP(B411,#REF!,2,FALSE),\"\")","v":""},{"$f":"IFERROR(VLOOKUP(B411,#REF!,3,FALSE),\"\")","v":""},null,null,null,"",null,null,"",null,"",{"$f":"IFERROR(VLOOKUP(B411,#REF!,9,FALSE),\"\")","v":""},null,null,null,"",""]
[null,null,{"$f":"IFERROR(VLOOKUP(B412,#REF!,2,FALSE),\"\")","v":""},{"$f":"IFERROR(VLOOKUP(B412,#REF!,3,FALSE),\"\")","v":""},null,null,null,"",null,null,"",null,"",{"$f":"IFERROR(VLOOKUP(B412,#REF!,9,FALSE),\"\")","v":""},null,null,null,"",""]
[null,null,{"$f":"IFERROR(VLOOKUP(B413,#REF!,2,FALSE),\"\")","v":""},{"$f":"IFERROR(VLOOKUP(B413,#REF!,3,FALSE),\"\")","v":""},null,null,null,"",null,null,"",null,"",{"$f":"IFERROR(VLOOKUP(B413,#REF!,9,FALSE),\"\")","v":""},null,null,null,"",""]
[null,null,{"$f":"IFERROR(VLOOKUP(B414,#REF!,2,FALSE),\"\")","v":""},{"$f":"IFERROR(VLOOKUP(B414,#REF!,3,FALSE),\"\")","v":""},null,null,null,"",null,null,"",null,"",{"$f":"IFERROR(VLOOKUP(B414,#REF!,9,FALSE),\"\")","v":""},null,null,null,"",""]
[null,null,{"$f":"IFERROR(VLOOKUP(B415,#REF!,2,FALSE),\"\")","v":""},{"$f":"IFERROR(VLOOKUP(B415,#REF!,3,FALSE),\"\")","v":""},null,null,null,"",null,null,"",null,"",{"$f":"IFERROR(VLOOKUP(B415,#REF!,9,FALSE),\"\")","v":""},null,null,null,"",""]
[null,null,{"$f":"IFERROR(VLOOKUP(B416,#REF!,2,FALSE),\"\")","v":""},{"$f":"IFERROR(VLOOKUP(B416,#REF!,3,FALSE),\"\")","v":""},null,null,null,"",null,null,"",null,"",{"$f":"IFERROR(VLOOKUP(B416,#REF!,9,FALSE),\"\")","v":""},null,null,null,"",""]
[null,null,{"$f":"IFERROR(VLOOKUP(B417,#REF!,2,FALSE),\"\")","v":""},{"$f":"IFERROR(VLOOKUP(B417,#REF!,3,FALSE),\"\")","v":""},null,null,null,"",null,null,"",null,"",{"$f":"IFERROR(VLOOKUP(B417,#REF!,9,FALSE),\"\")","v":""},null,null,null,"",""]
[null,null,{"$f":"IFERROR(VLOOKUP(B418,#REF!,2,FALSE),\"\")","v":""},{"$f":"IFERROR(VLOOKUP(B418,#REF!,3,FALSE),\"\")","v":""},null,null,null,"",null,null,"",null,"",{"$f":"IFERROR(VLOOKUP(B418,#REF!,9,FALSE),\"\")","v":""},null,null,null,"",""]
[null,null,{"$f":"IFERROR(VLOOKUP(B419,#REF!,2,FALSE),\"\")","v":""},{"$f":"IFERROR(VLOOKUP(B419,#REF!,3,FALSE),\"\")","v":""},null,null,null,"",null,null,"",null,"",{"$f":"IFERROR(VLOOKUP(B419,#REF!,9,FALSE),\"\")","v":""},null,null,null,"",""]
[null,null,{"$f":"IFERROR(VLOOKUP(B420,#REF!,2,FALSE),\"\")","v":""},{"$f":"IFERROR(VLOOKUP(B420,#REF!,3,FALSE),\"\")","v":""},null,null,null,"",null,null,"",null,"",{"$f":"IFERROR(VLOOKUP(B420,#REF!,9,FALSE),\"\")","v":""},null,null,null,"",""]
[null,null,{"$f":"IFERROR(VLOOKUP(B421,#REF!,2,FALSE),\"\")","v":""},{"$f":"IFERROR(VLOOKUP(B421,#REF!,3,FALSE),\"\")","v":""},null,null,null,"",null,null,"",null,"",{"$f":"IFERROR(VLOOKUP(B421,#REF!,9,FALSE),\"\")","v":""},null,null,null,"",""]
[null,null,{"$f":"IFERROR(VLOOKUP(B422,#REF!,2,FALSE),\"\")","v":""},{"$f":"IFERROR(VLOOKUP(B422,#REF!,3,FALSE),\"\")","v":""},null,null,null,"",null,null,"",null,"",{"$f":"IFERROR(VLOOKUP(B422,#REF!,9,FALSE),\"\")","v":""},null,null,null,"",""]
[null,null,{"$f":"IFERROR(VLOOKUP(B423,#REF!,2,FALSE),\"\")","v":""},{"$f":"IFERROR(VLOOKUP(B423,#REF!,3,FALSE),\"\")","v":""},null,null,null,"",null,null,"",null,"",{"$f":"IFERROR(VLOOKUP(B423,#REF!,9,FALSE),\"\")","v":""},null,null,null,"",""]
[null,null,{"$f":"IFERROR(VLOOKUP(B424,#REF!,2,FALSE),\"\")","v":""},{"$f":"IFERROR(VLOOKUP(B424,#REF!,3,FALSE),\"\")","v":""},null,null,null,"",null,null,"",null,"",{"$f":"IFERROR(VLOOKUP(B424,#REF!,9,FALSE),\"\")","v":""},null,null,null,"",""]
[null,null,{"$f":"IFERROR(VLOOKUP(B425,#REF!,2,FALSE),\"\")","v":""},{"$f":"IFERROR(VLOOKUP(B425,#REF!,3,FALSE),\"\")","v":""},null,null,null,"",null,null,"",null,"",{"$f":"IFERROR(VLOOKUP(B425,#REF!,9,FALSE),\"\")","v":""},null,null,null,"",""]
[null,null,{"$f":"IFERROR(VLOOKUP(B426,#REF!,2,FALSE),\"\")","v":""},{"$f":"IFERROR(VLOOKUP(B426,#REF!,3,FALSE),\"\")","v":""},null,null,null,"",null,null,"",null,"",{"$f":"IFERROR(VLOOKUP(B426,#REF!,9,FALSE),\"\")","v":""},null,null,null,"",""]
[null,null,{"$f":"IFERROR(VLOOKUP(B427,#REF!,2,FALSE),\"\")","v":""},{"$f":"IFERROR(VLOOKUP(B427,#REF!,3,FALSE),\"\")","v":""},null,null,null,"",null,null,"",null,"",{"$f":"IFERROR(VLOOKUP(B427,#REF!,9,FALSE),\"\")","v":""},null,null,null,"",""]
[null,null,{"$f":"IFERROR(VLOOKUP(B428,#REF!,2,FALSE),\"\")","v":""},{"$f":"IFERROR(VLOOKUP(B428,#REF!,3,FALSE),\"\")","v":""},null,null,null,"",null,null,"",null,"",{"$f":"IFERROR(VLOOKUP(B428,#REF!,9,FALSE),\"\")","v":""},null,null,null,"",""]
[null,null,{"$f":"IFERROR(VLOOKUP(B429,#REF!,2,FALSE),\"\")","v":""},{"$f":"IFERROR(VLOOKUP(B429,#REF!,3,FALSE),\"\")","v":""},null,null,null,"",null,null,"",null,"",{"$f":"IFERROR(VLOOKUP(B429,#REF!,9,FALSE),\"\")","v":""},null,null,null,"",""]
[null,null,{"$f":"IFERROR(VLOOKUP(B430,#REF!,2,FALSE),\"\")","v":""},{"$f":"IFERROR(VLOOKUP(B430,#REF!,3,FALSE),\"\")","v":""},null,null,null,"",null,null,"",null,"",{"$f":"IFERROR(VLOOKUP(B430,#REF!,9,FALSE),\"\")","v":""},null,null,null,"",""]
[null,null,{"$f":"IFERROR(VLOOKUP(B431,#REF!,2,FALSE),\"\")","v":""},{"$f":"IFERROR(VLOOKUP(B431,#REF!,3,FALSE),\"\")","v":""},null,null,null,"",null,null,"",null,{"$f":"IFERROR(IF((K431-L431)<=0,\"0\",(K431-L431)),\"\")","v":""},{"$f":"IFERROR(VLOOKUP(B431,#REF!,9,FALSE),\"\")","v":""},null,null,null,"",""]
[null,null,{"$f":"IFERROR(VLOOKUP(B432,#REF!,2,FALSE),\"\")","v":""},{"$f":"IFERROR(VLOOKUP(B432,#REF!,3,FALSE),\"\")","v":""},null,null,null,"",null,null,"",null,"",{"$f":"IFERROR(VLOOKUP(B432,#REF!,9,FALSE),\"\")","v":""},null,null,null,"",""]
[null,null,{"$f":"IFERROR(VLOOKUP(B433,#REF!,2,FALSE),\"\")","v":""},{"$f":"IFERROR(VLOOKUP(B433,#REF!,3,FALSE),\"\")","v":""},null,null,null,"",null,null,"",null,"",{"$f":"IFERROR(VLOOKUP(B433,#REF!,9,FALSE),\"\")","v":""},null,null,null,"",""]
[null,null,{"$f":"IFERROR(VLOOKUP(B434,#REF!,2,FALSE),\"\")","v":""},{"$f":"IFERROR(VLOOKUP(B434,#REF!,3,FALSE),\"\")","v":""},null,null,null,"",null,null,"",null,"",{"$f":"IFERROR(VLOOKUP(B434,#REF!,9,FALSE),\"\")","v":""},null,null,null,"",""]
[null,null,{"$f":"IFERROR(VLOOKUP(B435,#REF!,2,FALSE),\"\")","v":""},{"$f":"IFERROR(VLOOKUP(B435,#REF!,3,FALSE),\"\")","v":""},null,null,null,"",null,null,"",null,"",{"$f":"IFERROR(VLOOKUP(B435,#REF!,9,FALSE),\"\")","v":""},null,null,null,"",""]
[null,null,{"$f":"IFERROR(VLOOKUP(B436,#REF!,2,FALSE),\"\")","v":""},{"$f":"IFERROR(VLOOKUP(B436,#REF!,3,FALSE),\"\")","v":""},null,null,null,"",null,null,"",null,"",{"$f":"IFERROR(VLOOKUP(B436,#REF!,9,FALSE),\"\")","v":""},null,null,null,"",""]
[null,null,{"$f":"IFERROR(VLOOKUP(B437,#REF!,2,FALSE),\"\")","v":""},{"$f":"IFERROR(VLOOKUP(B437,#REF!,3,FALSE),\"\")","v":""},null,null,null,"",null,null,"",null,"",{"$f":"IFERROR(VLOOKUP(B437,#REF!,9,FALSE),\"\")","v":""},null,null,null,"",""]
[null,null,{"$f":"IFERROR(VLOOKUP(B438,#REF!,2,FALSE),\"\")","v":""},{"$f":"IFERROR(VLOOKUP(B438,#REF!,3,FALSE),\"\")","v":""},null,null,null,"",null,null,"",null,"",{"$f":"IFERROR(VLOOKUP(B438,#REF!,9,FALSE),\"\")","v":""},null,null,null,"",""]
[null,null,{"$f":"IFERROR(VLOOKUP(B439,#REF!,2,FALSE),\"\")","v":""},{"$f":"IFERROR(VLOOKUP(B439,#REF!,3,FALSE),\"\")","v":""},null,null,null,"",null,null,"",null,"",{"$f":"IFERROR(VLOOKUP(B439,#REF!,9,FALSE),\"\")","v":""},null,null,null,"",""]
[null,null,{"$f":"IFERROR(VLOOKUP(B440,#REF!,2,FALSE),\"\")","v":""},{"$f":"IFERROR(VLOOKUP(B440,#REF!,3,FALSE),\"\")","v":""},null,null,null,"",null,null,"",null,"",{"$f":"IFERROR(VLOOKUP(B440,#REF!,9,FALSE),\"\")","v":""},null,null,null,"",""]
[null,null,{"$f":"IFERROR(VLOOKUP(B441,#REF!,2,FALSE),\"\")","v":""},{"$f":"IFERROR(VLOOKUP(B441,#REF!,3,FALSE),\"\")","v":""},null,null,null,"",null,null,"",null,"",{"$f":"IFERROR(VLOOKUP(B441,#REF!,9,FALSE),\"\")","v":""},null,null,null,"",""]
[null,null,{"$f":"IFERROR(VLOOKUP(B442,#REF!,2,FALSE),\"\")","v":""},{"$f":"IFERROR(VLOOKUP(B442,#REF!,3,FALSE),\"\")","v":""},null,null,null,"",null,null,"",null,"",{"$f":"IFERROR(VLOOKUP(B442,#REF!,9,FALSE),\"\")","v":""},null,null,null,"",""]
[null,null,{"$f":"IFERROR(VLOOKUP(B443,#REF!,2,FALSE),\"\")","v":""},{"$f":"IFERROR(VLOOKUP(B443,#REF!,3,FALSE),\"\")","v":""},null,null,null,"",null,null,"",null,"",{"$f":"IFERROR(VLOOKUP(B443,#REF!,9,FALSE),\"\")","v":""},null,null,null,"",""]
[null,null,{"$f":"IFERROR(VLOOKUP(B444,#REF!,2,FALSE),\"\")","v":""},{"$f":"IFERROR(VLOOKUP(B444,#REF!,3,FALSE),\"\")","v":""},null,null,null,"",null,null,"",null,"",{"$f":"IFERROR(VLOOKUP(B444,#REF!,9,FALSE),\"\")","v":""},null,null,null,"",""]
[null,null,{"$f":"IFERROR(VLOOKUP(B445,#REF!,2,FALSE),\"\")","v":""},{"$f":"IFERROR(VLOOKUP(B445,#REF!,3,FALSE),\"\")","v":""},null,null,null,"",null,null,"",null,"",{"$f":"IFERROR(VLOOKUP(B445,#REF!,9,FALSE),\"\")","v":""},null,null,null,"",""]
[null,null,{"$f":"IFERROR(VLOOKUP(B446,#REF!,2,FALSE),\"\")","v":""},{"$f":"IFERROR(VLOOKUP(B446,#REF!,3,FALSE),\"\")","v":""},null,null,null,"",null,null,"",null,"",{"$f":"IFERROR(VLOOKUP(B446,#REF!,9,FALSE),\"\")","v":""},null,null,null,"",""]
[null,null,{"$f":"IFERROR(VLOOKUP(B447,#REF!,2,FALSE),\"\")","v":""},{"$f":"IFERROR(VLOOKUP(B447,#REF!,3,FALSE),\"\")","v":""},null,null,null,"",null,null,"",null,"",{"$f":"IFERROR(VLOOKUP(B447,#REF!,9,FALSE),\"\")","v":""},null,null,null,"",""]
[null,null,{"$f":"IFERROR(VLOOKUP(B448,#REF!,2,FALSE),\"\")","v":""},{"$f":"IFERROR(VLOOKUP(B448,#REF!,3,FALSE),\"\")","v":""},null,null,null,"",null,null,"",null,"",{"$f":"IFERROR(VLOOKUP(B448,#REF!,9,FALSE),\"\")","v":""},null,null,null,"",""]
[null,null,{"$f":"IFERROR(VLOOKUP(B449,#REF!,2,FALSE),\"\")","v":""},{"$f":"IFERROR(VLOOKUP(B449,#REF!,3,FALSE),\"\")","v":""},null,null,null,"",null,null,"",null,"",{"$f":"IFERROR(VLOOKUP(B449,#REF!,9,FALSE),\"\")","v":""},null,null,null,"",""]
[null,null,{"$f":"IFERROR(VLOOKUP(B450,#REF!,2,FALSE),\"\")","v":""},{"$f":"IFERROR(VLOOKUP(B450,#REF!,3,FALSE),\"\")","v":""},null,null,null,"",null,null,"",null,"",{"$f":"IFERROR(VLOOKUP(B450,#REF!,9,FALSE),\"\")","v":""},null,null,null,"",""]
[null,null,{"$f":"IFERROR(VLOOKUP(B451,#REF!,2,FALSE),\"\")","v":""},{"$f":"IFERROR(VLOOKUP(B451,#REF!,3,FALSE),\"\")","v":""},null,null,null,"",null,null,"",null,"",{"$f":"IFERROR(VLOOKUP(B451,#REF!,9,FALSE),\"\")","v":""},null,null,null,"",""]
[null,null,{"$f":"IFERROR(VLOOKUP(B452,#REF!,2,FALSE),\"\")","v":""},{"$f":"IFERROR(VLOOKUP(B452,#REF!,3,FALSE),\"\")","v":""},null,null,null,"",null,null,"",null,"",{"$f":"IFERROR(VLOOKUP(B452,#REF!,9,FALSE),\"\")","v":""},null,null,null,"",{"$f":"IF( N452 <> \"\", IF(AND(E452<\"100%\", M452>0, O452>N452), \"Miss\", \"Hit\"), \"\")","v":""}]
[null,null,{"$f":"IFERROR(VLOOKUP(B453,#REF!,2,FALSE),\"\")","v":""},{"$f":"IFERROR(VLOOKUP(B453,#REF!,3,FALSE),\"\")","v":""},null,null,null,"",null,null,"",null,"",{"$f":"IFERROR(VLOOKUP(B453,#REF!,9,FALSE),\"\")","v":""},null,null,null,"",""]
[null,null,{"$f":"IFERROR(VLOOKUP(B454,#REF!,2,FALSE),\"\")","v":""},{"$f":"IFERROR(VLOOKUP(B454,#REF!,3,FALSE),\"\")","v":""},null,null,null,"",null,null,"",null,"",{"$f":"IFERROR(VLOOKUP(B454,#REF!,9,FALSE),\"\")","v":""},null,null,null,"",""]
[null,null,{"$f":"IFERROR(VLOOKUP(B455,#REF!,2,FALSE),\"\")","v":""},{"$f":"IFERROR(VLOOKUP(B455,#REF!,3,FALSE),\"\")","v":""},null,null,null,"",null,null,"",null,"",{"$f":"IFERROR(VLOOKUP(B455,#REF!,9,FALSE),\"\")","v":""},null,null,null,"",""]
[null,null,{"$f":"IFERROR(VLOOKUP(B456,#REF!,2,FALSE),\"\")","v":""},{"$f":"IFERROR(VLOOKUP(B456,#REF!,3,FALSE),\"\")","v":""},null,null,null,"",null,null,"",null,"",{"$f":"IFERROR(VLOOKUP(B456,#REF!,9,FALSE),\"\")","v":""},null,null,null,"",""]
[null,null,{"$f":"IFERROR(VLOOKUP(B457,#REF!,2,FALSE),\"\")","v":""},{"$f":"IFERROR(VLOOKUP(B457,#REF!,3,FALSE),\"\")","v":""},null,null,null,"",null,null,"",null,"",{"$f":"IFERROR(VLOOKUP(B457,#REF!,9,FALSE),\"\")","v":""},null,null,null,"",""]
[null,null,{"$f":"IFERROR(VLOOKUP(B458,#REF!,2,FALSE),\"\")","v":""},{"$f":"IFERROR(VLOOKUP(B458,#REF!,3,FALSE),\"\")","v":""},null,null,null,"",null,null,"",null,"",{"$f":"IFERROR(VLOOKUP(B458,#REF!,9,FALSE),\"\")","v":""},null,null,null,"",""]
[null,null,{"$f":"IFERROR(VLOOKUP(B459,#REF!,2,FALSE),\"\")","v":""},{"$f":"IFERROR(VLOOKUP(B459,#REF!,3,FALSE),\"\")","v":""},null,null,null,"",null,null,"",null,"",{"$f":"IFERROR(VLOOKUP(B459,#REF!,9,FALSE),\"\")","v":""},null,null,null,"",""]
[null,null,{"$f":"IFERROR(VLOOKUP(B460,#REF!,2,FALSE),\"\")","v":""},{"$f":"IFERROR(VLOOKUP(B460,#REF!,3,FALSE),\"\")","v":""},null,null,null,"",null,null,"",null,"",{"$f":"IFERROR(VLOOKUP(B460,#REF!,9,FALSE),\"\")","v":""},null,null,null,"",""]
[null,null,{"$f":"IFERROR(VLOOKUP(B461,#REF!,2,FALSE),\"\")","v":""},{"$f":"IFERROR(VLOOKUP(B461,#REF!,3,FALSE),\"\")","v":""},null,null,null,"",null,null,"",null,"",{"$f":"IFERROR(VLOOKUP(B461,#REF!,9,FALSE),\"\")","v":""},null,null,null,"",""]
[null,null,{"$f":"IFERROR(VLOOKUP(B462,#REF!,2,FALSE),\"\")","v":""},{"$f":"IFERROR(VLOOKUP(B462,#REF!,3,FALSE),\"\")","v":""},null,null,null,"",null,null,"",null,"",{"$f":"IFERROR(VLOOKUP(B462,#REF!,9,FALSE),\"\")","v":""},null,null,null,"",""]
[null,null,{"$f":"IFERROR(VLOOKUP(B463,#REF!,2,FALSE),\"\")","v":""},{"$f":"IFERROR(VLOOKUP(B463,#REF!,3,FALSE),\"\")","v":""},null,null,null,"",null,null,"",null,"",{"$f":"IFERROR(VLOOKUP(B463,#REF!,9,FALSE),\"\")","v":""},null,null,null,"",""]
[null,null,{"$f":"IFERROR(VLOOKUP(B464,#REF!,2,FALSE),\"\")","v":""},{"$f":"IFERROR(VLOOKUP(B464,#REF!,3,FALSE),\"\")","v":""},null,null,null,"",null,null,"",null,"",{"$f":"IFERROR(VLOOKUP(B464,#REF!,9,FALSE),\"\")","v":""},null,null,null,"",""]
[null,null,{"$f":"IFERROR(VLOOKUP(B465,#REF!,2,FALSE),\"\")","v":""},{"$f":"IFERROR(VLOOKUP(B465,#REF!,3,FALSE),\"\")","v":""},null,null,null,"",null,null,"",null,"",{"$f":"IFERROR(VLOOKUP(B465,#REF!,9,FALSE),\"\")","v":""},null,null,null,"",""]
[null,null,{"$f":"IFERROR(VLOOKUP(B466,#REF!,2,FALSE),\"\")","v":""},{"$f":"IFERROR(VLOOKUP(B466,#REF!,3,FALSE),\"\")","v":""},null,null,null,"",null,null,"",null,"",{"$f":"IFERROR(VLOOKUP(B466,#REF!,9,FALSE),\"\")","v":""},null,null,null,"",""]
[null,null,{"$f":"IFERROR(VLOOKUP(B467,#REF!,2,FALSE),\"\")","v":""},{"$f":"IFERROR(VLOOKUP(B467,#REF!,3,FALSE),\"\")","v":""},null,null,null,"",null,null,"",null,"",{"$f":"IFERROR(VLOOKUP(B467,#REF!,9,FALSE),\"\")","v":""},null,null,null,{"$f":"IF(P467=\"\",\"\",IFERROR(P467-Q467,\"\"))","v":""},""]
[null,null,{"$f":"IFERROR(VLOOKUP(B468,#REF!,2,FALSE),\"\")","v":""},{"$f":"IFERROR(VLOOKUP(B468,#REF!,3,FALSE),\"\")","v":""},null,null,null,"",null,null,"",null,"",{"$f":"IFERROR(VLOOKUP(B468,#REF!,9,FALSE),\"\")","v":""},null,null,null,"",""]
[null,null,{"$f":"IFERROR(VLOOKUP(B469,#REF!,2,FALSE),\"\")","v":""},{"$f":"IFERROR(VLOOKUP(B469,#REF!,3,FALSE),\"\")","v":""},null,null,null,{"$f":"IF((G469-F469)<=0,\"\",(G469-F469))","v":""},null,null,{"$f":"IF((J469-I469)<=0,\"\",(J469-I469))","v":""},null,"",{"$f":"IFERROR(VLOOKUP(B469,#REF!,9,FALSE),\"\")","v":""},null,null,null,"",""]
[null,null,{"$f":"IFERROR(VLOOKUP(B470,#REF!,2,FALSE),\"\")","v":""},{"$f":"IFERROR(VLOOKUP(B470,#REF!,3,FALSE),\"\")","v":""},null,null,null,"",null,null,"",null,"",{"$f":"IFERROR(VLOOKUP(B470,#REF!,9,FALSE),\"\")","v":""},null,null,null,"",""]
[null,null,{"$f":"IFERROR(VLOOKUP(B471,#REF!,2,FALSE),\"\")","v":""},{"$f":"IFERROR(VLOOKUP(B471,#REF!,3,FALSE),\"\")","v":""},null,null,null,"",null,null,"",null,"",{"$f":"IFERROR(VLOOKUP(B471,#REF!,9,FALSE),\"\")","v":""},null,null,null,"",""]
[null,null,{"$f":"IFERROR(VLOOKUP(B472,#REF!,2,FALSE),\"\")","v":""},{"$f":"IFERROR(VLOOKUP(B472,#REF!,3,FALSE),\"\")","v":""},null,null,null,"",null,null,"",null,"",{"$f":"IFERROR(VLOOKUP(B472,#REF!,9,FALSE),\"\")","v":""},null,null,null,"",""]
[null,null,{"$f":"IFERROR(VLOOKUP(B473,#REF!,2,FALSE),\"\")","v":""},{"$f":"IFERROR(VLOOKUP(B473,#REF!,3,FALSE),\"\")","v":""},null,null,null,"",null,null,"",null,"",{"$f":"IFERROR(VLOOKUP(B473,#REF!,9,FALSE),\"\")","v":""},null,null,null,"",""]
[null,null,{"$f":"IFERROR(VLOOKUP(B474,#REF!,2,FALSE),\"\")","v":""},{"$f":"IFERROR(VLOOKUP(B474,#REF!,3,FALSE),\"\")","v":""},null,null,null,"",null,null,"",null,"",{"$f":"IFERROR(VLOOKUP(B474,#REF!,9,FALSE),\"\")","v":""},null,null,null,"",""]
[null,null,{"$f":"IFERROR(VLOOKUP(B475,#REF!,2,FALSE),\"\")","v":""},{"$f":"IFERROR(VLOOKUP(B475,#REF!,3,FALSE),\"\")","v":""},null,null,null,"",null,null,"",null,"",{"$f":"IFERROR(VLOOKUP(B475,#REF!,9,FALSE),\"\")","v":""},null,null,null,"",""]
[null,null,{"$f":"IFERROR(VLOOKUP(B476,#REF!,2,FALSE),\"\")","v":""},{"$f":"IFERROR(VLOOKUP(B476,#REF!,3,FALSE),\"\")","v":""},null,null,null,"",null,null,"",null,"",{"$f":"IFERROR(VLOOKUP(B476,#REF!,9,FALSE),\"\")","v":""},null,null,null,"",""]
[null,null,{"$f":"IFERROR(VLOOKUP(B477,#REF!,2,FALSE),\"\")","v":""},{"$f":"IFERROR(VLOOKUP(B477,#REF!,3,FALSE),\"\")","v":""},null,null,null,"",null,null,"",null,"",{"$f":"IFERROR(VLOOKUP(B477,#REF!,9,FALSE),\"\")","v":""},null,null,null,"",""]
[null,null,{"$f":"IFERROR(VLOOKUP(B478,#REF!,2,FALSE),\"\")","v":""},{"$f":"IFERROR(VLOOKUP(B478,#REF!,3,FALSE),\"\")","v":""},null,null,null,"",null,null,"",null,"",{"$f":"IFERROR(VLOOKUP(B478,#REF!,9,FALSE),\"\")","v":""},null,null,null,"",""]
[null,null,{"$f":"IFERROR(VLOOKUP(B479,#REF!,2,FALSE),\"\")","v":""},{"$f":"IFERROR(VLOOKUP(B479,#REF!,3,FALSE),\"\")","v":""},null,null,null,"",null,null,"",null,"",{"$f":"IFERROR(VLOOKUP(B479,#REF!,9,FALSE),\"\")","v":""},null,null,null,"",""]
[null,null,{"$f":"IFERROR(VLOOKUP(B480,#REF!,2,FALSE),\"\")","v":""},{"$f":"IFERROR(VLOOKUP(B480,#REF!,3,FALSE),\"\")","v":""},null,null,null,"",null,null,"",null,"",{"$f":"IFERROR(VLOOKUP(B480,#REF!,9,FALSE),\"\")","v":""},null,null,null,"",""]
[null,null,{"$f":"IFERROR(VLOOKUP(B481,#REF!,2,FALSE),\"\")","v":""},{"$f":"IFERROR(VLOOKUP(B481,#REF!,3,FALSE),\"\")","v":""},null,null,null,"",null,null,"",null,"",{"$f":"IFERROR(VLOOKUP(B481,#REF!,9,FALSE),\"\")","v":""},null,null,null,"",""]
[null,null,{"$f":"IFERROR(VLOOKUP(B482,#REF!,2,FALSE),\"\")","v":""},{"$f":"IFERROR(VLOOKUP(B482,#REF!,3,FALSE),\"\")","v":""},null,null,null,"",null,null,"",null,"",{"$f":"IFERROR(VLOOKUP(B482,#REF!,9,FALSE),\"\")","v":""},null,null,null,"",""]
[null,null,{"$f":"IFERROR(VLOOKUP(B483,#REF!,2,FALSE),\"\")","v":""},{"$f":"IFERROR(VLOOKUP(B483,#REF!,3,FALSE),\"\")","v":""},null,null,null,"",null,null,"",null,"",{"$f":"IFERROR(VLOOKUP(B483,#REF!,9,FALSE),\"\")","v":""},null,null,null,"",""]
[null,null,{"$f":"IFERROR(VLOOKUP(B484,#REF!,2,FALSE),\"\")","v":""},{"$f":"IFERROR(VLOOKUP(B484,#REF!,3,FALSE),\"\")","v":""},null,null,null,"",null,null,"",null,"",{"$f":"IFERROR(VLOOKUP(B484,#REF!,9,FALSE),\"\")","v":""},null,null,null,"",""]
[null,null,{"$f":"IFERROR(VLOOKUP(B485,#REF!,2,FALSE),\"\")","v":""},{"$f":"IFERROR(VLOOKUP(B485,#REF!,3,FALSE),\"\")","v":""},null,null,null,"",null,null,"",null,"",{"$f":"IFERROR(VLOOKUP(B485,#REF!,9,FALSE),\"\")","v":""},null,null,null,"",""]
[null,null,{"$f":"IFERROR(VLOOKUP(B486,#REF!,2,FALSE),\"\")","v":""},{"$f":"IFERROR(VLOOKUP(B486,#REF!,3,FALSE),\"\")","v":""},null,null,null,"",null,null,"",null,"",{"$f":"IFERROR(VLOOKUP(B486,#REF!,9,FALSE),\"\")","v":""},null,null,null,"",""]
[null,null,{"$f":"IFERROR(VLOOKUP(B487,#REF!,2,FALSE),\"\")","v":""},{"$f":"IFERROR(VLOOKUP(B487,#REF!,3,FALSE),\"\")","v":""},null,null,null,"",null,null,"",null,"",{"$f":"IFERROR(VLOOKUP(B487,#REF!,9,FALSE),\"\")","v":""},null,null,null,"",""]
[null,null,{"$f":"IFERROR(VLOOKUP(B488,#REF!,2,FALSE),\"\")","v":""},{"$f":"IFERROR(VLOOKUP(B488,#REF!,3,FALSE),\"\")","v":""},null,null,null,"",null,null,"",null,"",{"$f":"IFERROR(VLOOKUP(B488,#REF!,9,FALSE),\"\")","v":""},null,null,null,"",""]
[null,null,{"$f":"IFERROR(VLOOKUP(B489,#REF!,2,FALSE),\"\")","v":""},{"$f":"IFERROR(VLOOKUP(B489,#REF!,3,FALSE),\"\")","v":""},null,null,null,"",null,null,"",null,"",{"$f":"IFERROR(VLOOKUP(B489,#REF!,9,FALSE),\"\")","v":""},null,null,null,"",""]
[null,null,{"$f":"IFERROR(VLOOKUP(B490,#REF!,2,FALSE),\"\")","v":""},{"$f":"IFERROR(VLOOKUP(B490,#REF!,3,FALSE),\"\")","v":""},null,null,null,"",null,null,"",null,"",{"$f":"IFERROR(VLOOKUP(B490,#REF!,9,FALSE),\"\")","v":""},null,null,null,"",""]
[null,null,{"$f":"IFERROR(VLOOKUP(B491,#REF!,2,FALSE),\"\")","v":""},{"$f":"IFERROR(VLOOKUP(B491,#REF!,3,FALSE),\"\")","v":""},null,null,null,"",null,null,"",null,"",{"$f":"IFERROR(VLOOKUP(B491,#REF!,9,FALSE),\"\")","v":""},null,null,null,"",""]
[null,null,{"$f":"IFERROR(VLOOKUP(B492,#REF!,2,FALSE),\"\")","v":""},{"$f":"IFERROR(VLOOKUP(B492,#REF!,3,FALSE),\"\")","v":""},null,null,null,"",null,null,"",null,"",{"$f":"IFERROR(VLOOKUP(B492,#REF!,9,FALSE),\"\")","v":""},null,null,null,"",""]
[null,null,{"$f":"IFERROR(VLOOKUP(B493,#REF!,2,FALSE),\"\")","v":""},{"$f":"IFERROR(VLOOKUP(B493,#REF!,3,FALSE),\"\")","v":""},null,null,null,"",null,null,"",null,"",{"$f":"IFERROR(VLOOKUP(B493,#REF!,9,FALSE),\"\")","v":""},null,null,null,"",""]
[null,null,{"$f":"IFERROR(VLOOKUP(B494,#REF!,2,FALSE),\"\")","v":""},{"$f":"IFERROR(VLOOKUP(B494,#REF!,3,FALSE),\"\")","v":""},null,null,null,"",null,null,"",null,"",{"$f":"IFERROR(VLOOKUP(B494,#REF!,9,FALSE),\"\")","v":""},null,null,null,"",""]
[null,null,{"$f":"IFERROR(VLOOKUP(B495,#REF!,2,FALSE),\"\")","v":""},{"$f":"IFERROR(VLOOKUP(B495,#REF!,3,FALSE),\"\")","v":""},null,null,null,"",null,null,"",null,{"$f":"IFERROR(IF((K495-L495)<=0,\"0\",(K495-L495)),\"\")","v":""},{"$f":"IFERROR(VLOOKUP(B495,#REF!,9,FALSE),\"\")","v":""},null,null,null,"",""]
[null,null,{"$f":"IFERROR(VLOOKUP(B496,#REF!,2,FALSE),\"\")","v":""},{"$f":"IFERROR(VLOOKUP(B496,#REF!,3,FALSE),\"\")","v":""},null,null,null,"",null,null,"",null,"",{"$f":"IFERROR(VLOOKUP(B496,#REF!,9,FALSE),\"\")","v":""},null,null,null,"",""]
[null,null,{"$f":"IFERROR(VLOOKUP(B497,#REF!,2,FALSE),\"\")","v":""},{"$f":"IFERROR(VLOOKUP(B497,#REF!,3,FALSE),\"\")","v":""},null,null,null,"",null,null,"",null,"",{"$f":"IFERROR(VLOOKUP(B497,#REF!,9,FALSE),\"\")","v":""},null,null,null,"",""]
[null,null,{"$f":"IFERROR(VLOOKUP(B498,#REF!,2,FALSE),\"\")","v":""},{"$f":"IFERROR(VLOOKUP(B498,#REF!,3,FALSE),\"\")","v":""},null,null,null,"",null,null,"",null,"",{"$f":"IFERROR(VLOOKUP(B498,#REF!,9,FALSE),\"\")","v":""},null,null,null,"",""]
[null,null,{"$f":"IFERROR(VLOOKUP(B499,#REF!,2,FALSE),\"\")","v":""},{"$f":"IFERROR(VLOOKUP(B499,#REF!,3,FALSE),\"\")","v":""},null,null,null,"",null,null,"",null,"",{"$f":"IFERROR(VLOOKUP(B499,#REF!,9,FALSE),\"\")","v":""},null,null,null,"",""]
[null,null,{"$f":"IFERROR(VLOOKUP(B500,#REF!,2,FALSE),\"\")","v":""},{"$f":"IFERROR(VLOOKUP(B500,#REF!,3,FALSE),\"\")","v":""},null,null,null,"",null,null,"",null,"",{"$f":"IFERROR(VLOOKUP(B500,#REF!,9,FALSE),\"\")","v":""},null,null,null,"",""]
[null,null,{"$f":"IFERROR(VLOOKUP(B501,#REF!,2,FALSE),\"\")","v":""},{"$f":"IFERROR(VLOOKUP(B501,#REF!,3,FALSE),\"\")","v":""},null,null,null,"",null,null,"",null,"",{"$f":"IFERROR(VLOOKUP(B501,#REF!,9,FALSE),\"\")","v":""},null,null,null,"",""]
[null,null,{"$f":"IFERROR(VLOOKUP(B502,#REF!,2,FALSE),\"\")","v":""},{"$f":"IFERROR(VLOOKUP(B502,#REF!,3,FALSE),\"\")","v":""},null,null,null,"",null,null,"",null,"",{"$f":"IFERROR(VLOOKUP(B502,#REF!,9,FALSE),\"\")","v":""},null,null,null,"",""]
[null,null,{"$f":"IFERROR(VLOOKUP(B503,#REF!,2,FALSE),\"\")","v":""},{"$f":"IFERROR(VLOOKUP(B503,#REF!,3,FALSE),\"\")","v":""},null,null,null,"",null,null,"",null,"",{"$f":"IFERROR(VLOOKUP(B503,#REF!,9,FALSE),\"\")","v":""},null,null,null,"",""]
[null,null,{"$f":"IFERROR(VLOOKUP(B504,#REF!,2,FALSE),\"\")","v":""},{"$f":"IFERROR(VLOOKUP(B504,#REF!,3,FALSE),\"\")","v":""},null,null,null,"",null,null,"",null,"",{"$f":"IFERROR(VLOOKUP(B504,#REF!,9,FALSE),\"\")","v":""},null,null,null,"",""]
[null,null,{"$f":"IFERROR(VLOOKUP(B505,#REF!,2,FALSE),\"\")","v":""},{"$f":"IFERROR(VLOOKUP(B505,#REF!,3,FALSE),\"\")","v":""},null,null,null,"",null,null,"",null,"",{"$f":"IFERROR(VLOOKUP(B505,#REF!,9,FALSE),\"\")","v":""},null,null,null,"",""]
[null,null,{"$f":"IFERROR(VLOOKUP(B506,#REF!,2,FALSE),\"\")","v":""},{"$f":"IFERROR(VLOOKUP(B506,#REF!,3,FALSE),\"\")","v":""},null,null,null,"",null,null,"",null,"",{"$f":"IFERROR(VLOOKUP(B506,#REF!,9,FALSE),\"\")","v":""},null,null,null,"",""]
[null,null,{"$f":"IFERROR(VLOOKUP(B507,#REF!,2,FALSE),\"\")","v":""},{"$f":"IFERROR(VLOOKUP(B507,#REF!,3,FALSE),\"\")","v":""},null,null,null,"",null,null,"",null,"",{"$f":"IFERROR(VLOOKUP(B507,#REF!,9,FALSE),\"\")","v":""},null,null,null,"",""]
[null,null,{"$f":"IFERROR(VLOOKUP(B508,#REF!,2,FALSE),\"\")","v":""},{"$f":"IFERROR(VLOOKUP(B508,#REF!,3,FALSE),\"\")","v":""},null,null,null,"",null,null,"",null,"",{"$f":"IFERROR(VLOOKUP(B508,#REF!,9,FALSE),\"\")","v":""},null,null,null,"",""]
[null,null,{"$f":"IFERROR(VLOOKUP(B509,#REF!,2,FALSE),\"\")","v":""},{"$f":"IFERROR(VLOOKUP(B509,#REF!,3,FALSE),\"\")","v":""},null,null,null,"",null,null,"",null,"",{"$f":"IFERROR(VLOOKUP(B509,#REF!,9,FALSE),\"\")","v":""},null,null,null,"",""]
[null,null,{"$f":"IFERROR(VLOOKUP(B510,#REF!,2,FALSE),\"\")","v":""},{"$f":"IFERROR(VLOOKUP(B510,#REF!,3,FALSE),\"\")","v":""},null,null,null,"",null,null,"",null,"",{"$f":"IFERROR(VLOOKUP(B510,#REF!,9,FALSE),\"\")","v":""},null,null,null,"",""]
[null,null,{"$f":"IFERROR(VLOOKUP(B511,#REF!,2,FALSE),\"\")","v":""},{"$f":"IFERROR(VLOOKUP(B511,#REF!,3,FALSE),\"\")","v":""},null,null,null,"",null,null,"",null,"",{"$f":"IFERROR(VLOOKUP(B511,#REF!,9,FALSE),\"\")","v":""},null,null,null,"",""]
[null,null,{"$f":"IFERROR(VLOOKUP(B512,#REF!,2,FALSE),\"\")","v":""},{"$f":"IFERROR(VLOOKUP(B512,#REF!,3,FALSE),\"\")","v":""},null,null,null,"",null,null,"",null,"",{"$f":"IFERROR(VLOOKUP(B512,#REF!,9,FALSE),\"\")","v":""},null,null,null,"",""]
[null,null,{"$f":"IFERROR(VLOOKUP(B513,#REF!,2,FALSE),\"\")","v":""},{"$f":"IFERROR(VLOOKUP(B513,#REF!,3,FALSE),\"\")","v":""},null,null,null,"",null,null,"",null,"",{"$f":"IFERROR(VLOOKUP(B513,#REF!,9,FALSE),\"\")","v":""},null,null,null,"",""]
[null,null,{"$f":"IFERROR(VLOOKUP(B514,#REF!,2,FALSE),\"\")","v":""},{"$f":"IFERROR(VLOOKUP(B514,#REF!,3,FALSE),\"\")","v":""},null,null,null,"",null,null,"",null,"",{"$f":"IFERROR(VLOOKUP(B514,#REF!,9,FALSE),\"\")","v":""},null,null,null,"",""]
[null,null,{"$f":"IFERROR(VLOOKUP(B515,#REF!,2,FALSE),\"\")","v":""},{"$f":"IFERROR(VLOOKUP(B515,#REF!,3,FALSE),\"\")","v":""},null,null,null,"",null,null,"",null,"",{"$f":"IFERROR(VLOOKUP(B515,#REF!,9,FALSE),\"\")","v":""},null,null,null,"",""]
[null,null,{"$f":"IFERROR(VLOOKUP(B516,#REF!,2,FALSE),\"\")","v":""},{"$f":"IFERROR(VLOOKUP(B516,#REF!,3,FALSE),\"\")","v":""},null,null,null,"",null,null,"",null,"",{"$f":"IFERROR(VLOOKUP(B516,#REF!,9,FALSE),\"\")","v":""},null,null,null,"",{"$f":"IF( N516 <> \"\", IF(AND(E516<\"100%\", M516>0, O516>N516), \"Miss\", \"Hit\"), \"\")","v":""}]
[null,null,{"$f":"IFERROR(VLOOKUP(B517,#REF!,2,FALSE),\"\")","v":""},{"$f":"IFERROR(VLOOKUP(B517,#REF!,3,FALSE),\"\")","v":""},null,null,null,"",null,null,"",null,"",{"$f":"IFERROR(VLOOKUP(B517,#REF!,9,FALSE),\"\")","v":""},null,null,null,"",""]
[null,null,{"$f":"IFERROR(VLOOKUP(B518,#REF!,2,FALSE),\"\")","v":""},{"$f":"IFERROR(VLOOKUP(B518,#REF!,3,FALSE),\"\")","v":""},null,null,null,"",null,null,"",null,"",{"$f":"IFERROR(VLOOKUP(B518,#REF!,9,FALSE),\"\")","v":""},null,null,null,"",""]
[null,null,{"$f":"IFERROR(VLOOKUP(B519,#REF!,2,FALSE),\"\")","v":""},{"$f":"IFERROR(VLOOKUP(B519,#REF!,3,FALSE),\"\")","v":""},null,null,null,"",null,null,"",null,"",{"$f":"IFERROR(VLOOKUP(B519,#REF!,9,FALSE),\"\")","v":""},null,null,null,"",""]
[null,null,{"$f":"IFERROR(VLOOKUP(B520,#REF!,2,FALSE),\"\")","v":""},{"$f":"IFERROR(VLOOKUP(B520,#REF!,3,FALSE),\"\")","v":""},null,null,null,"",null,null,"",null,"",{"$f":"IFERROR(VLOOKUP(B520,#REF!,9,FALSE),\"\")","v":""},null,null,null,"",""]
[null,null,{"$f":"IFERROR(VLOOKUP(B521,#REF!,2,FALSE),\"\")","v":""},{"$f":"IFERROR(VLOOKUP(B521,#REF!,3,FALSE),\"\")","v":""},null,null,null,"",null,null,"",null,"",{"$f":"IFERROR(VLOOKUP(B521,#REF!,9,FALSE),\"\")","v":""},null,null,null,"",""]
[null,null,{"$f":"IFERROR(VLOOKUP(B522,#REF!,2,FALSE),\"\")","v":""},{"$f":"IFERROR(VLOOKUP(B522,#REF!,3,FALSE),\"\")","v":""},null,null,null,"",null,null,"",null,"",{"$f":"IFERROR(VLOOKUP(B522,#REF!,9,FALSE),\"\")","v":""},null,null,null,"",""]
[null,null,{"$f":"IFERROR(VLOOKUP(B523,#REF!,2,FALSE),\"\")","v":""},{"$f":"IFERROR(VLOOKUP(B523,#REF!,3,FALSE),\"\")","v":""},null,null,null,"",null,null,"",null,"",{"$f":"IFERROR(VLOOKUP(B523,#REF!,9,FALSE),\"\")","v":""},null,null,null,"",""]
[null,null,{"$f":"IFERROR(VLOOKUP(B524,#REF!,2,FALSE),\"\")","v":""},{"$f":"IFERROR(VLOOKUP(B524,#REF!,3,FALSE),\"\")","v":""},null,null,null,"",null,null,"",null,"",{"$f":"IFERROR(VLOOKUP(B524,#REF!,9,FALSE),\"\")","v":""},null,null,null,"",""]
[null,null,{"$f":"IFERROR(VLOOKUP(B525,#REF!,2,FALSE),\"\")","v":""},{"$f":"IFERROR(VLOOKUP(B525,#REF!,3,FALSE),\"\")","v":""},null,null,null,"",null,null,"",null,"",{"$f":"IFERROR(VLOOKUP(B525,#REF!,9,FALSE),\"\")","v":""},null,null,null,"",""]
[null,null,{"$f":"IFERROR(VLOOKUP(B526,#REF!,2,FALSE),\"\")","v":""},{"$f":"IFERROR(VLOOKUP(B526,#REF!,3,FALSE),\"\")","v":""},null,null,null,"",null,null,"",null,"",{"$f":"IFERROR(VLOOKUP(B526,#REF!,9,FALSE),\"\")","v":""},null,null,null,"",""]
[null,null,{"$f":"IFERROR(VLOOKUP(B527,#REF!,2,FALSE),\"\")","v":""},{"$f":"IFERROR(VLOOKUP(B527,#REF!,3,FALSE),\"\")","v":""},null,null,null,"",null,null,"",null,"",{"$f":"IFERROR(VLOOKUP(B527,#REF!,9,FALSE),\"\")","v":""},null,null,null,"",""]
[null,null,{"$f":"IFERROR(VLOOKUP(B528,#REF!,2,FALSE),\"\")","v":""},{"$f":"IFERROR(VLOOKUP(B528,#REF!,3,FALSE),\"\")","v":""},null,null,null,"",null,null,"",null,"",{"$f":"IFERROR(VLOOKUP(B528,#REF!,9,FALSE),\"\")","v":""},null,null,null,"",""]
[null,null,{"$f":"IFERROR(VLOOKUP(B529,#REF!,2,FALSE),\"\")","v":""},{"$f":"IFERROR(VLOOKUP(B529,#REF!,3,FALSE),\"\")","v":""},null,null,null,"",null,null,"",null,"",{"$f":"IFERROR(VLOOKUP(B529,#REF!,9,FALSE),\"\")","v":""},null,null,null,"",""]
[null,null,{"$f":"IFERROR(VLOOKUP(B530,#REF!,2,FALSE),\"\")","v":""},{"$f":"IFERROR(VLOOKUP(B530,#REF!,3,FALSE),\"\")","v":""},null,null,null,"",null,null,"",null,"",{"$f":"IFERROR(VLOOKUP(B530,#REF!,9,FALSE),\"\")","v":""},null,null,null,"",""]
[null,null,{"$f":"IFERROR(VLOOKUP(B531,#REF!,2,FALSE),\"\")","v":""},{"$f":"IFERROR(VLOOKUP(B531,#REF!,3,FALSE),\"\")","v":""},null,null,null,"",null,null,"",null,"",{"$f":"IFERROR(VLOOKUP(B531,#REF!,9,FALSE),\"\")","v":""},null,null,null,{"$f":"IF(P531=\"\",\"\",IFERROR(P531-Q531,\"\"))","v":""},""]
[null,null,{"$f":"IFERROR(VLOOKUP(B532,#REF!,2,FALSE),\"\")","v":""},{"$f":"IFERROR(VLOOKUP(B532,#REF!,3,FALSE),\"\")","v":""},null,null,null,"",null,null,"",null,"",{"$f":"IFERROR(VLOOKUP(B532,#REF!,9,FALSE),\"\")","v":""},null,null,null,"",""]
[null,null,{"$f":"IFERROR(VLOOKUP(B533,#REF!,2,FALSE),\"\")","v":""},{"$f":"IFERROR(VLOOKUP(B533,#REF!,3,FALSE),\"\")","v":""},null,null,null,{"$f":"IF((G533-F533)<=0,\"\",(G533-F533))","v":""},null,null,{"$f":"IF((J533-I533)<=0,\"\",(J533-I533))","v":""},null,"",{"$f":"IFERROR(VLOOKUP(B533,#REF!,9,FALSE),\"\")","v":""},null,null,null,"",""]
[null,null,{"$f":"IFERROR(VLOOKUP(B534,#REF!,2,FALSE),\"\")","v":""},{"$f":"IFERROR(VLOOKUP(B534,#REF!,3,FALSE),\"\")","v":""},null,null,null,"",null,null,"",null,"",{"$f":"IFERROR(VLOOKUP(B534,#REF!,9,FALSE),\"\")","v":""},null,null,null,"",""]
[null,null,{"$f":"IFERROR(VLOOKUP(B535,#REF!,2,FALSE),\"\")","v":""},{"$f":"IFERROR(VLOOKUP(B535,#REF!,3,FALSE),\"\")","v":""},null,null,null,"",null,null,"",null,"",{"$f":"IFERROR(VLOOKUP(B535,#REF!,9,FALSE),\"\")","v":""},null,null,null,"",""]
[null,null,{"$f":"IFERROR(VLOOKUP(B536,#REF!,2,FALSE),\"\")","v":""},{"$f":"IFERROR(VLOOKUP(B536,#REF!,3,FALSE),\"\")","v":""},null,null,null,"",null,null,"",null,"",{"$f":"IFERROR(VLOOKUP(B536,#REF!,9,FALSE),\"\")","v":""},null,null,null,"",""]
[null,null,{"$f":"IFERROR(VLOOKUP(B537,#REF!,2,FALSE),\"\")","v":""},{"$f":"IFERROR(VLOOKUP(B537,#REF!,3,FALSE),\"\")","v":""},null,null,null,"",null,null,"",null,"",{"$f":"IFERROR(VLOOKUP(B537,#REF!,9,FALSE),\"\")","v":""},null,null,null,"",""]
[null,null,{"$f":"IFERROR(VLOOKUP(B538,#REF!,2,FALSE),\"\")","v":""},{"$f":"IFERROR(VLOOKUP(B538,#REF!,3,FALSE),\"\")","v":""},null,null,null,"",null,null,"",null,"",{"$f":"IFERROR(VLOOKUP(B538,#REF!,9,FALSE),\"\")","v":""},null,null,null,"",""]
[null,null,{"$f":"IFERROR(VLOOKUP(B539,#REF!,2,FALSE),\"\")","v":""},{"$f":"IFERROR(VLOOKUP(B539,#REF!,3,FALSE),\"\")","v":""},null,null,null,"",null,null,"",null,"",{"$f":"IFERROR(VLOOKUP(B539,#REF!,9,FALSE),\"\")","v":""},null,null,null,"",""]
[null,null,{"$f":"IFERROR(VLOOKUP(B540,#REF!,2,FALSE),\"\")","v":""},{"$f":"IFERROR(VLOOKUP(B540,#REF!,3,FALSE),\"\")","v":""},null,null,null,"",null,null,"",null,"",{"$f":"IFERROR(VLOOKUP(B540,#REF!,9,FALSE),\"\")","v":""},null,null,null,"",""]
[null,null,{"$f":"IFERROR(VLOOKUP(B541,#REF!,2,FALSE),\"\")","v":""},{"$f":"IFERROR(VLOOKUP(B541,#REF!,3,FALSE),\"\")","v":""},null,null,null,"",null,null,"",null,"",{"$f":"IFERROR(VLOOKUP(B541,#REF!,9,FALSE),\"\")","v":""},null,null,null,"",""]
[null,null,{"$f":"IFERROR(VLOOKUP(B542,#REF!,2,FALSE),\"\")","v":""},{"$f":"IFERROR(VLOOKUP(B542,#REF!,3,FALSE),\"\")","v":""},null,null,null,"",null,null,"",null,"",{"$f":"IFERROR(VLOOKUP(B542,#REF!,9,FALSE),\"\")","v":""},null,null,null,"",""]
[null,null,{"$f":"IFERROR(VLOOKUP(B543,#REF!,2,FALSE),\"\")","v":""},{"$f":"IFERROR(VLOOKUP(B543,#REF!,3,FALSE),\"\")","v":""},null,null,null,"",null,null,"",null,"",{"$f":"IFERROR(VLOOKUP(B543,#REF!,9,FALSE),\"\")","v":""},null,null,null,"",""]
[null,null,{"$f":"IFERROR(VLOOKUP(B544,#REF!,2,FALSE),\"\")","v":""},{"$f":"IFERROR(VLOOKUP(B544,#REF!,3,FALSE),\"\")","v":""},null,null,null,"",null,null,"",null,"",{"$f":"IFERROR(VLOOKUP(B544,#REF!,9,FALSE),\"\")","v":""},null,null,null,"",""]
[null,null,{"$f":"IFERROR(VLOOKUP(B545,#REF!,2,FALSE),\"\")","v":""},{"$f":"IFERROR(VLOOKUP(B545,#REF!,3,FALSE),\"\")","v":""},null,null,null,"",null,null,"",null,"",{"$f":"IFERROR(VLOOKUP(B545,#REF!,9,FALSE),\"\")","v":""},null,null,null,"",""]
[null,null,{"$f":"IFERROR(VLOOKUP(B546,#REF!,2,FALSE),\"\")","v":""},{"$f":"IFERROR(VLOOKUP(B546,#REF!,3,FALSE),\"\")","v":""},null,null,null,"",null,null,"",null,"",{"$f":"IFERROR(VLOOKUP(B546,#REF!,9,FALSE),\"\")","v":""},null,null,null,"",""]
[null,null,{"$f":"IFERROR(VLOOKUP(B547,#REF!,2,FALSE),\"\")","v":""},{"$f":"IFERROR(VLOOKUP(B547,#REF!,3,FALSE),\"\")","v":""},null,null,null,"",null,null,"",null,"",{"$f":"IFERROR(VLOOKUP(B547,#REF!,9,FALSE),\"\")","v":""},null,null,null,"",""]
[null,null,{"$f":"IFERROR(VLOOKUP(B548,#REF!,2,FALSE),\"\")","v":""},{"$f":"IFERROR(VLOOKUP(B548,#REF!,3,FALSE),\"\")","v":""},null,null,null,"",null,null,"",null,"",{"$f":"IFERROR(VLOOKUP(B548,#REF!,9,FALSE),\"\")","v":""},null,null,null,"",""]
[null,null,{"$f":"IFERROR(VLOOKUP(B549,#REF!,2,FALSE),\"\")","v":""},{"$f":"IFERROR(VLOOKUP(B549,#REF!,3,FALSE),\"\")","v":""},null,null,null,"",null,null,"",null,"",{"$f":"IFERROR(VLOOKUP(B549,#REF!,9,FALSE),\"\")","v":""},null,null,null,"",""]
[null,null,{"$f":"IFERROR(VLOOKUP(B550,#REF!,2,FALSE),\"\")","v":""},{"$f":"IFERROR(VLOOKUP(B550,#REF!,3,FALSE),\"\")","v":""},null,null,null,"",null,null,"",null,"",{"$f":"IFERROR(VLOOKUP(B550,#REF!,9,FALSE),\"\")","v":""},null,null,null,"",""]
[null,null,{"$f":"IFERROR(VLOOKUP(B551,#REF!,2,FALSE),\"\")","v":""},{"$f":"IFERROR(VLOOKUP(B551,#REF!,3,FALSE),\"\")","v":""},null,null,null,"",null,null,"",null,"",{"$f":"IFERROR(VLOOKUP(B551,#REF!,9,FALSE),\"\")","v":""},null,null,null,"",""]
[null,null,{"$f":"IFERROR(VLOOKUP(B552,#REF!,2,FALSE),\"\")","v":""},{"$f":"IFERROR(VLOOKUP(B552,#REF!,3,FALSE),\"\")","v":""},null,null,null,"",null,null,"",null,"",{"$f":"IFERROR(VLOOKUP(B552,#REF!,9,FALSE),\"\")","v":""},null,null,null,"",""]
[null,null,{"$f":"IFERROR(VLOOKUP(B553,#REF!,2,FALSE),\"\")","v":""},{"$f":"IFERROR(VLOOKUP(B553,#REF!,3,FALSE),\"\")","v":""},null,null,null,"",null,null,"",null,"",{"$f":"IFERROR(VLOOKUP(B553,#REF!,9,FALSE),\"\")","v":""},null,null,null,"",""]
[null,null,{"$f":"IFERROR(VLOOKUP(B554,#REF!,2,FALSE),\"\")","v":""},{"$f":"IFERROR(VLOOKUP(B554,#REF!,3,FALSE),\"\")","v":""},null,null,null,"",null,null,"",null,"",{"$f":"IFERROR(VLOOKUP(B554,#REF!,9,FALSE),\"\")","v":""},null,null,null,"",""]
[null,null,{"$f":"IFERROR(VLOOKUP(B555,#REF!,2,FALSE),\"\")","v":""},{"$f":"IFERROR(VLOOKUP(B555,#REF!,3,FALSE),\"\")","v":""},null,null,null,"",null,null,"",null,"",{"$f":"IFERROR(VLOOKUP(B555,#REF!,9,FALSE),\"\")","v":""},null,null,null,"",""]
[null,null,{"$f":"IFERROR(VLOOKUP(B556,#REF!,2,FALSE),\"\")","v":""},{"$f":"IFERROR(VLOOKUP(B556,#REF!,3,FALSE),\"\")","v":""},null,null,null,"",null,null,"",null,"",{"$f":"IFERROR(VLOOKUP(B556,#REF!,9,FALSE),\"\")","v":""},null,null,null,"",""]
[null,null,{"$f":"IFERROR(VLOOKUP(B557,#REF!,2,FALSE),\"\")","v":""},{"$f":"IFERROR(VLOOKUP(B557,#REF!,3,FALSE),\"\")","v":""},null,null,null,"",null,null,"",null,"",{"$f":"IFERROR(VLOOKUP(B557,#REF!,9,FALSE),\"\")","v":""},null,null,null,"",""]
[null,null,{"$f":"IFERROR(VLOOKUP(B558,#REF!,2,FALSE),\"\")","v":""},{"$f":"IFERROR(VLOOKUP(B558,#REF!,3,FALSE),\"\")","v":""},null,null,null,"",null,null,"",null,"",{"$f":"IFERROR(VLOOKUP(B558,#REF!,9,FALSE),\"\")","v":""},null,null,null,"",""]
[null,null,{"$f":"IFERROR(VLOOKUP(B559,#REF!,2,FALSE),\"\")","v":""},{"$f":"IFERROR(VLOOKUP(B559,#REF!,3,FALSE),\"\")","v":""},null,null,null,"",null,null,"",null,{"$f":"IFERROR(IF((K559-L559)<=0,\"0\",(K559-L559)),\"\")","v":""},{"$f":"IFERROR(VLOOKUP(B559,#REF!,9,FALSE),\"\")","v":""},null,null,null,"",""]
[null,null,{"$f":"IFERROR(VLOOKUP(B560,#REF!,2,FALSE),\"\")","v":""},{"$f":"IFERROR(VLOOKUP(B560,#REF!,3,FALSE),\"\")","v":""},null,null,null,"",null,null,"",null,"",{"$f":"IFERROR(VLOOKUP(B560,#REF!,9,FALSE),\"\")","v":""},null,null,null,"",""]
[null,null,{"$f":"IFERROR(VLOOKUP(B561,#REF!,2,FALSE),\"\")","v":""},{"$f":"IFERROR(VLOOKUP(B561,#REF!,3,FALSE),\"\")","v":""},null,null,null,"",null,null,"",null,"",{"$f":"IFERROR(VLOOKUP(B561,#REF!,9,FALSE),\"\")","v":""},null,null,null,"",""]
[null,null,{"$f":"IFERROR(VLOOKUP(B562,#REF!,2,FALSE),\"\")","v":""},{"$f":"IFERROR(VLOOKUP(B562,#REF!,3,FALSE),\"\")","v":""},null,null,null,"",null,null,"",null,"",{"$f":"IFERROR(VLOOKUP(B562,#REF!,9,FALSE),\"\")","v":""},null,null,null,"",""]
[null,null,{"$f":"IFERROR(VLOOKUP(B563,#REF!,2,FALSE),\"\")","v":""},{"$f":"IFERROR(VLOOKUP(B563,#REF!,3,FALSE),\"\")","v":""},null,null,null,"",null,null,"",null,"",{"$f":"IFERROR(VLOOKUP(B563,#REF!,9,FALSE),\"\")","v":""},null,null,null,"",""]
[null,null,{"$f":"IFERROR(VLOOKUP(B564,#REF!,2,FALSE),\"\")","v":""},{"$f":"IFERROR(VLOOKUP(B564,#REF!,3,FALSE),\"\")","v":""},null,null,null,"",null,null,"",null,"",{"$f":"IFERROR(VLOOKUP(B564,#REF!,9,FALSE),\"\")","v":""},null,null,null,"",""]
[null,null,{"$f":"IFERROR(VLOOKUP(B565,#REF!,2,FALSE),\"\")","v":""},{"$f":"IFERROR(VLOOKUP(B565,#REF!,3,FALSE),\"\")","v":""},null,null,null,"",null,null,"",null,"",{"$f":"IFERROR(VLOOKUP(B565,#REF!,9,FALSE),\"\")","v":""},null,null,null,"",""]
[null,null,{"$f":"IFERROR(VLOOKUP(B566,#REF!,2,FALSE),\"\")","v":""},{"$f":"IFERROR(VLOOKUP(B566,#REF!,3,FALSE),\"\")","v":""},null,null,null,"",null,null,"",null,"",{"$f":"IFERROR(VLOOKUP(B566,#REF!,9,FALSE),\"\")","v":""},null,null,null,"",""]
[null,null,{"$f":"IFERROR(VLOOKUP(B567,#REF!,2,FALSE),\"\")","v":""},{"$f":"IFERROR(VLOOKUP(B567,#REF!,3,FALSE),\"\")","v":""},null,null,null,"",null,null,"",null,"",{"$f":"IFERROR(VLOOKUP(B567,#REF!,9,FALSE),\"\")","v":""},null,null,null,"",""]
[null,null,{"$f":"IFERROR(VLOOKUP(B568,#REF!,2,FALSE),\"\")","v":""},{"$f":"IFERROR(VLOOKUP(B568,#REF!,3,FALSE),\"\")","v":""},null,null,null,"",null,null,"",null,"",{"$f":"IFERROR(VLOOKUP(B568,#REF!,9,FALSE),\"\")","v":""},null,null,null,"",""]
[null,null,{"$f":"IFERROR(VLOOKUP(B569,#REF!,2,FALSE),\"\")","v":""},{"$f":"IFERROR(VLOOKUP(B569,#REF!,3,FALSE),\"\")","v":""},null,null,null,"",null,null,"",null,"",{"$f":"IFERROR(VLOOKUP(B569,#REF!,9,FALSE),\"\")","v":""},null,null,null,"",""]
[null,null,{"$f":"IFERROR(VLOOKUP(B570,#REF!,2,FALSE),\"\")","v":""},{"$f":"IFERROR(VLOOKUP(B570,#REF!,3,FALSE),\"\")","v":""},null,null,null,"",null,null,"",null,"",{"$f":"IFERROR(VLOOKUP(B570,#REF!,9,FALSE),\"\")","v":""},null,null,null,"",""]
[null,null,{"$f":"IFERROR(VLOOKUP(B571,#REF!,2,FALSE),\"\")","v":""},{"$f":"IFERROR(VLOOKUP(B571,#REF!,3,FALSE),\"\")","v":""},null,null,null,"",null,null,"",null,"",{"$f":"IFERROR(VLOOKUP(B571,#REF!,9,FALSE),\"\")","v":""},null,null,null,"",""]
[null,null,{"$f":"IFERROR(VLOOKUP(B572,#REF!,2,FALSE),\"\")","v":""},{"$f":"IFERROR(VLOOKUP(B572,#REF!,3,FALSE),\"\")","v":""},null,null,null,"",null,null,"",null,"",{"$f":"IFERROR(VLOOKUP(B572,#REF!,9,FALSE),\"\")","v":""},null,null,null,"",""]
[null,null,{"$f":"IFERROR(VLOOKUP(B573,#REF!,2,FALSE),\"\")","v":""},{"$f":"IFERROR(VLOOKUP(B573,#REF!,3,FALSE),\"\")","v":""},null,null,null,"",null,null,"",null,"",{"$f":"IFERROR(VLOOKUP(B573,#REF!,9,FALSE),\"\")","v":""},null,null,null,"",""]
[null,null,{"$f":"IFERROR(VLOOKUP(B574,#REF!,2,FALSE),\"\")","v":""},{"$f":"IFERROR(VLOOKUP(B574,#REF!,3,FALSE),\"\")","v":""},null,null,null,"",null,null,"",null,"",{"$f":"IFERROR(VLOOKUP(B574,#REF!,9,FALSE),\"\")","v":""},null,null,null,"",""]
[null,null,{"$f":"IFERROR(VLOOKUP(B575,#REF!,2,FALSE),\"\")","v":""},{"$f":"IFERROR(VLOOKUP(B575,#REF!,3,FALSE),\"\")","v":""},null,null,null,"",null,null,"",null,"",{"$f":"IFERROR(VLOOKUP(B575,#REF!,9,FALSE),\"\")","v":""},null,null,null,"",""]
[null,null,{"$f":"IFERROR(VLOOKUP(B576,#REF!,2,FALSE),\"\")","v":""},{"$f":"IFERROR(VLOOKUP(B576,#REF!,3,FALSE),\"\")","v":""},null,null,null,"",null,null,"",null,"",{"$f":"IFERROR(VLOOKUP(B576,#REF!,9,FALSE),\"\")","v":""},null,null,null,"",""]
[null,null,{"$f":"IFERROR(VLOOKUP(B577,#REF!,2,FALSE),\"\")","v":""},{"$f":"IFERROR(VLOOKUP(B577,#REF!,3,FALSE),\"\")","v":""},null,null,null,"",null,null,"",null,"",{"$f":"IFERROR(VLOOKUP(B577,#REF!,9,FALSE),\"\")","v":""},null,null,null,"",""]
[null,null,{"$f":"IFERROR(VLOOKUP(B578,#REF!,2,FALSE),\"\")","v":""},{"$f":"IFERROR(VLOOKUP(B578,#REF!,3,FALSE),\"\")","v":""},null,null,null,"",null,null,"",null,"",{"$f":"IFERROR(VLOOKUP(B578,#REF!,9,FALSE),\"\")","v":""},null,null,null,"",""]
[null,null,{"$f":"IFERROR(VLOOKUP(B579,#REF!,2,FALSE),\"\")","v":""},{"$f":"IFERROR(VLOOKUP(B579,#REF!,3,FALSE),\"\")","v":""},null,null,null,"",null,null,"",null,"",{"$f":"IFERROR(VLOOKUP(B579,#REF!,9,FALSE),\"\")","v":""},null,null,null,"",""]
[null,null,{"$f":"IFERROR(VLOOKUP(B580,#REF!,2,FALSE),\"\")","v":""},{"$f":"IFERROR(VLOOKUP(B580,#REF!,3,FALSE),\"\")","v":""},null,null,null,"",null,null,"",null,"",{"$f":"IFERROR(VLOOKUP(B580,#REF!,9,FALSE),\"\")","v":""},null,null,null,"",{"$f":"IF( N580 <> \"\", IF(AND(E580<\"100%\", M580>0, O580>N580), \"Miss\", \"Hit\"), \"\")","v":""}]
[null,null,{"$f":"IFERROR(VLOOKUP(B581,#REF!,2,FALSE),\"\")","v":""},{"$f":"IFERROR(VLOOKUP(B581,#REF!,3,FALSE),\"\")","v":""},null,null,null,"",null,null,"",null,"",{"$f":"IFERROR(VLOOKUP(B581,#REF!,9,FALSE),\"\")","v":""},null,null,null,"",""]
[null,null,{"$f":"IFERROR(VLOOKUP(B582,#REF!,2,FALSE),\"\")","v":""},{"$f":"IFERROR(VLOOKUP(B582,#REF!,3,FALSE),\"\")","v":""},null,null,null,"",null,null,"",null,"",{"$f":"IFERROR(VLOOKUP(B582,#REF!,9,FALSE),\"\")","v":""},null,null,null,"",""]
[null,null,{"$f":"IFERROR(VLOOKUP(B583,#REF!,2,FALSE),\"\")","v":""},{"$f":"IFERROR(VLOOKUP(B583,#REF!,3,FALSE),\"\")","v":""},null,null,null,"",null,null,"",null,"",{"$f":"IFERROR(VLOOKUP(B583,#REF!,9,FALSE),\"\")","v":""},null,null,null,"",""]
[null,null,{"$f":"IFERROR(VLOOKUP(B584,#REF!,2,FALSE),\"\")","v":""},{"$f":"IFERROR(VLOOKUP(B584,#REF!,3,FALSE),\"\")","v":""},null,null,null,"",null,null,"",null,"",{"$f":"IFERROR(VLOOKUP(B584,#REF!,9,FALSE),\"\")","v":""},null,null,null,"",""]
[null,null,{"$f":"IFERROR(VLOOKUP(B585,#REF!,2,FALSE),\"\")","v":""},{"$f":"IFERROR(VLOOKUP(B585,#REF!,3,FALSE),\"\")","v":""},null,null,null,"",null,null,"",null,"",{"$f":"IFERROR(VLOOKUP(B585,#REF!,9,FALSE),\"\")","v":""},null,null,null,"",""]
[null,null,{"$f":"IFERROR(VLOOKUP(B586,#REF!,2,FALSE),\"\")","v":""},{"$f":"IFERROR(VLOOKUP(B586,#REF!,3,FALSE),\"\")","v":""},null,null,null,"",null,null,"",null,"",{"$f":"IFERROR(VLOOKUP(B586,#REF!,9,FALSE),\"\")","v":""},null,null,null,"",""]
[null,null,{"$f":"IFERROR(VLOOKUP(B587,#REF!,2,FALSE),\"\")","v":""},{"$f":"IFERROR(VLOOKUP(B587,#REF!,3,FALSE),\"\")","v":""},null,null,null,"",null,null,"",null,"",{"$f":"IFERROR(VLOOKUP(B587,#REF!,9,FALSE),\"\")","v":""},null,null,null,"",""]
[null,null,{"$f":"IFERROR(VLOOKUP(B588,#REF!,2,FALSE),\"\")","v":""},{"$f":"IFERROR(VLOOKUP(B588,#REF!,3,FALSE),\"\")","v":""},null,null,null,"",null,null,"",null,"",{"$f":"IFERROR(VLOOKUP(B588,#REF!,9,FALSE),\"\")","v":""},null,null,null,"",""]
[null,null,{"$f":"IFERROR(VLOOKUP(B589,#REF!,2,FALSE),\"\")","v":""},{"$f":"IFERROR(VLOOKUP(B589,#REF!,3,FALSE),\"\")","v":""},null,null,null,"",null,null,"",null,"",{"$f":"IFERROR(VLOOKUP(B589,#REF!,9,FALSE),\"\")","v":""},null,null,null,"",""]
[null,null,{"$f":"IFERROR(VLOOKUP(B590,#REF!,2,FALSE),\"\")","v":""},{"$f":"IFERROR(VLOOKUP(B590,#REF!,3,FALSE),\"\")","v":""},null,null,null,"",null,null,"",null,"",{"$f":"IFERROR(VLOOKUP(B590,#REF!,9,FALSE),\"\")","v":""},null,null,null,"",""]
[null,null,{"$f":"IFERROR(VLOOKUP(B591,#REF!,2,FALSE),\"\")","v":""},{"$f":"IFERROR(VLOOKUP(B591,#REF!,3,FALSE),\"\")","v":""},null,null,null,"",null,null,"",null,"",{"$f":"IFERROR(VLOOKUP(B591,#REF!,9,FALSE),\"\")","v":""},null,null,null,"",""]
[null,null,{"$f":"IFERROR(VLOOKUP(B592,#REF!,2,FALSE),\"\")","v":""},{"$f":"IFERROR(VLOOKUP(B592,#REF!,3,FALSE),\"\")","v":""},null,null,null,"",null,null,"",null,"",{"$f":"IFERROR(VLOOKUP(B592,#REF!,9,FALSE),\"\")","v":""},null,null,null,"",""]
[null,null,{"$f":"IFERROR(VLOOKUP(B593,#REF!,2,FALSE),\"\")","v":""},{"$f":"IFERROR(VLOOKUP(B593,#REF!,3,FALSE),\"\")","v":""},null,null,null,"",null,null,"",null,"",{"$f":"IFERROR(VLOOKUP(B593,#REF!,9,FALSE),\"\")","v":""},null,null,null,"",""]
[null,null,{"$f":"IFERROR(VLOOKUP(B594,#REF!,2,FALSE),\"\")","v":""},{"$f":"IFERROR(VLOOKUP(B594,#REF!,3,FALSE),\"\")","v":""},null,null,null,"",null,null,"",null,"",{"$f":"IFERROR(VLOOKUP(B594,#REF!,9,FALSE),\"\")","v":""},null,null,null,"",""]
[null,null,{"$f":"IFERROR(VLOOKUP(B595,#REF!,2,FALSE),\"\")","v":""},{"$f":"IFERROR(VLOOKUP(B595,#REF!,3,FALSE),\"\")","v":""},null,null,null,"",null,null,"",null,"",{"$f":"IFERROR(VLOOKUP(B595,#REF!,9,FALSE),\"\")","v":""},null,null,null,{"$f":"IF(P595=\"\",\"\",IFERROR(P595-Q595,\"\"))","v":""},""]
[null,null,{"$f":"IFERROR(VLOOKUP(B596,#REF!,2,FALSE),\"\")","v":""},{"$f":"IFERROR(VLOOKUP(B596,#REF!,3,FALSE),\"\")","v":""},null,null,null,"",null,null,"",null,"",{"$f":"IFERROR(VLOOKUP(B596,#REF!,9,FALSE),\"\")","v":""},null,null,null,"",""]
[null,null,{"$f":"IFERROR(VLOOKUP(B597,#REF!,2,FALSE),\"\")","v":""},{"$f":"IFERROR(VLOOKUP(B597,#REF!,3,FALSE),\"\")","v":""},null,null,null,{"$f":"IF((G597-F597)<=0,\"\",(G597-F597))","v":""},null,null,{"$f":"IF((J597-I597)<=0,\"\",(J597-I597))","v":""},null,"",{"$f":"IFERROR(VLOOKUP(B597,#REF!,9,FALSE),\"\")","v":""},null,null,null,"",""]
[null,null,{"$f":"IFERROR(VLOOKUP(B598,#REF!,2,FALSE),\"\")","v":""},{"$f":"IFERROR(VLOOKUP(B598,#REF!,3,FALSE),\"\")","v":""},null,null,null,"",null,null,"",null,"",{"$f":"IFERROR(VLOOKUP(B598,#REF!,9,FALSE),\"\")","v":""},null,null,null,"",""]
[null,null,{"$f":"IFERROR(VLOOKUP(B599,#REF!,2,FALSE),\"\")","v":""},{"$f":"IFERROR(VLOOKUP(B599,#REF!,3,FALSE),\"\")","v":""},null,null,null,"",null,null,"",null,"",{"$f":"IFERROR(VLOOKUP(B599,#REF!,9,FALSE),\"\")","v":""},null,null,null,"",""]
[null,null,{"$f":"IFERROR(VLOOKUP(B600,#REF!,2,FALSE),\"\")","v":""},{"$f":"IFERROR(VLOOKUP(B600,#REF!,3,FALSE),\"\")","v":""},null,null,null,"",null,null,"",null,"",{"$f":"IFERROR(VLOOKUP(B600,#REF!,9,FALSE),\"\")","v":""},null,null,null,"",""]
[null,null,{"$f":"IFERROR(VLOOKUP(B601,#REF!,2,FALSE),\"\")","v":""},{"$f":"IFERROR(VLOOKUP(B601,#REF!,3,FALSE),\"\")","v":""},null,null,null,"",null,null,"",null,"",{"$f":"IFERROR(VLOOKUP(B601,#REF!,9,FALSE),\"\")","v":""},null,null,null,"",""]
[null,null,{"$f":"IFERROR(VLOOKUP(B602,#REF!,2,FALSE),\"\")","v":""},{"$f":"IFERROR(VLOOKUP(B602,#REF!,3,FALSE),\"\")","v":""},null,null,null,"",null,null,"",null,"",{"$f":"IFERROR(VLOOKUP(B602,#REF!,9,FALSE),\"\")","v":""},null,null,null,"",""]
[null,null,{"$f":"IFERROR(VLOOKUP(B603,#REF!,2,FALSE),\"\")","v":""},{"$f":"IFERROR(VLOOKUP(B603,#REF!,3,FALSE),\"\")","v":""},null,null,null,"",null,null,"",null,"",{"$f":"IFERROR(VLOOKUP(B603,#REF!,9,FALSE),\"\")","v":""},null,null,null,"",""]
[null,null,{"$f":"IFERROR(VLOOKUP(B604,#REF!,2,FALSE),\"\")","v":""},{"$f":"IFERROR(VLOOKUP(B604,#REF!,3,FALSE),\"\")","v":""},null,null,null,"",null,null,"",null,"",{"$f":"IFERROR(VLOOKUP(B604,#REF!,9,FALSE),\"\")","v":""},null,null,null,"",""]
[null,null,{"$f":"IFERROR(VLOOKUP(B605,#REF!,2,FALSE),\"\")","v":""},{"$f":"IFERROR(VLOOKUP(B605,#REF!,3,FALSE),\"\")","v":""},null,null,null,"",null,null,"",null,"",{"$f":"IFERROR(VLOOKUP(B605,#REF!,9,FALSE),\"\")","v":""},null,null,null,"",""]
[null,null,{"$f":"IFERROR(VLOOKUP(B606,#REF!,2,FALSE),\"\")","v":""},{"$f":"IFERROR(VLOOKUP(B606,#REF!,3,FALSE),\"\")","v":""},null,null,null,"",null,null,"",null,"",{"$f":"IFERROR(VLOOKUP(B606,#REF!,9,FALSE),\"\")","v":""},null,null,null,"",""]
[null,null,{"$f":"IFERROR(VLOOKUP(B607,#REF!,2,FALSE),\"\")","v":""},{"$f":"IFERROR(VLOOKUP(B607,#REF!,3,FALSE),\"\")","v":""},null,null,null,"",null,null,"",null,"",{"$f":"IFERROR(VLOOKUP(B607,#REF!,9,FALSE),\"\")","v":""},null,null,null,"",""]
[null,null,{"$f":"IFERROR(VLOOKUP(B608,#REF!,2,FALSE),\"\")","v":""},{"$f":"IFERROR(VLOOKUP(B608,#REF!,3,FALSE),\"\")","v":""},null,null,null,"",null,null,"",null,"",{"$f":"IFERROR(VLOOKUP(B608,#REF!,9,FALSE),\"\")","v":""},null,null,null,"",""]
[null,null,{"$f":"IFERROR(VLOOKUP(B609,#REF!,2,FALSE),\"\")","v":""},{"$f":"IFERROR(VLOOKUP(B609,#REF!,3,FALSE),\"\")","v":""},null,null,null,"",null,null,"",null,"",{"$f":"IFERROR(VLOOKUP(B609,#REF!,9,FALSE),\"\")","v":""},null,null,null,"",""]
[null,null,{"$f":"IFERROR(VLOOKUP(B610,#REF!,2,FALSE),\"\")","v":""},{"$f":"IFERROR(VLOOKUP(B610,#REF!,3,FALSE),\"\")","v":""},null,null,null,"",null,null,"",null,"",{"$f":"IFERROR(VLOOKUP(B610,#REF!,9,FALSE),\"\")","v":""},null,null,null,"",""]
[null,null,{"$f":"IFERROR(VLOOKUP(B611,#REF!,2,FALSE),\"\")","v":""},{"$f":"IFERROR(VLOOKUP(B611,#REF!,3,FALSE),\"\")","v":""},null,null,null,"",null,null,"",null,"",{"$f":"IFERROR(VLOOKUP(B611,#REF!,9,FALSE),\"\")","v":""},null,null,null,"",""]
[null,null,{"$f":"IFERROR(VLOOKUP(B612,#REF!,2,FALSE),\"\")","v":""},{"$f":"IFERROR(VLOOKUP(B612,#REF!,3,FALSE),\"\")","v":""},null,null,null,"",null,null,"",null,"",{"$f":"IFERROR(VLOOKUP(B612,#REF!,9,FALSE),\"\")","v":""},null,null,null,"",""]
[null,null,{"$f":"IFERROR(VLOOKUP(B613,#REF!,2,FALSE),\"\")","v":""},{"$f":"IFERROR(VLOOKUP(B613,#REF!,3,FALSE),\"\")","v":""},null,null,null,"",null,null,"",null,"",{"$f":"IFERROR(VLOOKUP(B613,#REF!,9,FALSE),\"\")","v":""},null,null,null,"",""]
[null,null,{"$f":"IFERROR(VLOOKUP(B614,#REF!,2,FALSE),\"\")","v":""},{"$f":"IFERROR(VLOOKUP(B614,#REF!,3,FALSE),\"\")","v":""},null,null,null,"",null,null,"",null,"",{"$f":"IFERROR(VLOOKUP(B614,#REF!,9,FALSE),\"\")","v":""},null,null,null,"",""]
[null,null,{"$f":"IFERROR(VLOOKUP(B615,#REF!,2,FALSE),\"\")","v":""},{"$f":"IFERROR(VLOOKUP(B615,#REF!,3,FALSE),\"\")","v":""},null,null,null,"",null,null,"",null,"",{"$f":"IFERROR(VLOOKUP(B615,#REF!,9,FALSE),\"\")","v":""},null,null,null,"",""]
[null,null,{"$f":"IFERROR(VLOOKUP(B616,#REF!,2,FALSE),\"\")","v":""},{"$f":"IFERROR(VLOOKUP(B616,#REF!,3,FALSE),\"\")","v":""},null,null,null,"",null,null,"",null,"",{"$f":"IFERROR(VLOOKUP(B616,#REF!,9,FALSE),\"\")","v":""},null,null,null,"",""]
[null,null,{"$f":"IFERROR(VLOOKUP(B617,#REF!,2,FALSE),\"\")","v":""},{"$f":"IFERROR(VLOOKUP(B617,#REF!,3,FALSE),\"\")","v":""},null,null,null,"",null,null,"",null,"",{"$f":"IFERROR(VLOOKUP(B617,#REF!,9,FALSE),\"\")","v":""},null,null,null,"",""]
[null,null,{"$f":"IFERROR(VLOOKUP(B618,#REF!,2,FALSE),\"\")","v":""},{"$f":"IFERROR(VLOOKUP(B618,#REF!,3,FALSE),\"\")","v":""},null,null,null,"",null,null,"",null,"",{"$f":"IFERROR(VLOOKUP(B618,#REF!,9,FALSE),\"\")","v":""},null,null,null,"",""]
[null,null,{"$f":"IFERROR(VLOOKUP(B619,#REF!,2,FALSE),\"\")","v":""},{"$f":"IFERROR(VLOOKUP(B619,#REF!,3,FALSE),\"\")","v":""},null,null,null,"",null,null,"",null,"",{"$f":"IFERROR(VLOOKUP(B619,#REF!,9,FALSE),\"\")","v":""},null,null,null,"",""]
[null,null,{"$f":"IFERROR(VLOOKUP(B620,#REF!,2,FALSE),\"\")","v":""},{"$f":"IFERROR(VLOOKUP(B620,#REF!,3,FALSE),\"\")","v":""},null,null,null,"",null,null,"",null,"",{"$f":"IFERROR(VLOOKUP(B620,#REF!,9,FALSE),\"\")","v":""},null,null,null,"",""]
[null,null,{"$f":"IFERROR(VLOOKUP(B621,#REF!,2,FALSE),\"\")","v":""},{"$f":"IFERROR(VLOOKUP(B621,#REF!,3,FALSE),\"\")","v":""},null,null,null,"",null,null,"",null,"",{"$f":"IFERROR(VLOOKUP(B621,#REF!,9,FALSE),\"\")","v":""},null,null,null,"",""]
[null,null,{"$f":"IFERROR(VLOOKUP(B622,#REF!,2,FALSE),\"\")","v":""},{"$f":"IFERROR(VLOOKUP(B622,#REF!,3,FALSE),\"\")","v":""},null,null,null,"",null,null,"",null,"",{"$f":"IFERROR(VLOOKUP(B622,#REF!,9,FALSE),\"\")","v":""},null,null,null,"",""]
[null,null,{"$f":"IFERROR(VLOOKUP(B623,#REF!,2,FALSE),\"\")","v":""},{"$f":"IFERROR(VLOOKUP(B623,#REF!,3,FALSE),\"\")","v":""},null,null,null,"",null,null,"",null,{"$f":"IFERROR(IF((K623-L623)<=0,\"0\",(K623-L623)),\"\")","v":""},{"$f":"IFERROR(VLOOKUP(B623,#REF!,9,FALSE),\"\")","v":""},null,null,null,"",""]
[null,null,{"$f":"IFERROR(VLOOKUP(B624,#REF!,2,FALSE),\"\")","v":""},{"$f":"IFERROR(VLOOKUP(B624,#REF!,3,FALSE),\"\")","v":""},null,null,null,"",null,null,"",null,"",{"$f":"IFERROR(VLOOKUP(B624,#REF!,9,FALSE),\"\")","v":""},null,null,null,"",""]
[null,null,{"$f":"IFERROR(VLOOKUP(B625,#REF!,2,FALSE),\"\")","v":""},{"$f":"IFERROR(VLOOKUP(B625,#REF!,3,FALSE),\"\")","v":""},null,null,null,"",null,null,"",null,"",{"$f":"IFERROR(VLOOKUP(B625,#REF!,9,FALSE),\"\")","v":""},null,null,null,"",""]
[null,null,{"$f":"IFERROR(VLOOKUP(B626,#REF!,2,FALSE),\"\")","v":""},{"$f":"IFERROR(VLOOKUP(B626,#REF!,3,FALSE),\"\")","v":""},null,null,null,"",null,null,"",null,"",{"$f":"IFERROR(VLOOKUP(B626,#REF!,9,FALSE),\"\")","v":""},null,null,null,"",""]
[null,null,{"$f":"IFERROR(VLOOKUP(B627,#REF!,2,FALSE),\"\")","v":""},{"$f":"IFERROR(VLOOKUP(B627,#REF!,3,FALSE),\"\")","v":""},null,null,null,"",null,null,"",null,"",{"$f":"IFERROR(VLOOKUP(B627,#REF!,9,FALSE),\"\")","v":""},null,null,null,"",""]
[null,null,{"$f":"IFERROR(VLOOKUP(B628,#REF!,2,FALSE),\"\")","v":""},{"$f":"IFERROR(VLOOKUP(B628,#REF!,3,FALSE),\"\")","v":""},null,null,null,"",null,null,"",null,"",{"$f":"IFERROR(VLOOKUP(B628,#REF!,9,FALSE),\"\")","v":""},null,null,null,"",""]
[null,null,{"$f":"IFERROR(VLOOKUP(B629,#REF!,2,FALSE),\"\")","v":""},{"$f":"IFERROR(VLOOKUP(B629,#REF!,3,FALSE),\"\")","v":""},null,null,null,"",null,null,"",null,"",{"$f":"IFERROR(VLOOKUP(B629,#REF!,9,FALSE),\"\")","v":""},null,null,null,"",""]
[null,null,{"$f":"IFERROR(VLOOKUP(B630,#REF!,2,FALSE),\"\")","v":""},{"$f":"IFERROR(VLOOKUP(B630,#REF!,3,FALSE),\"\")","v":""},null,null,null,"",null,null,"",null,"",{"$f":"IFERROR(VLOOKUP(B630,#REF!,9,FALSE),\"\")","v":""},null,null,null,"",""]
[null,null,{"$f":"IFERROR(VLOOKUP(B631,#REF!,2,FALSE),\"\")","v":""},{"$f":"IFERROR(VLOOKUP(B631,#REF!,3,FALSE),\"\")","v":""},null,null,null,"",null,null,"",null,"",{"$f":"IFERROR(VLOOKUP(B631,#REF!,9,FALSE),\"\")","v":""},null,null,null,"",""]
[null,null,{"$f":"IFERROR(VLOOKUP(B632,#REF!,2,FALSE),\"\")","v":""},{"$f":"IFERROR(VLOOKUP(B632,#REF!,3,FALSE),\"\")","v":""},null,null,null,"",null,null,"",null,"",{"$f":"IFERROR(VLOOKUP(B632,#REF!,9,FALSE),\"\")","v":""},null,null,null,"",""]
[null,null,{"$f":"IFERROR(VLOOKUP(B633,#REF!,2,FALSE),\"\")","v":""},{"$f":"IFERROR(VLOOKUP(B633,#REF!,3,FALSE),\"\")","v":""},null,null,null,"",null,null,"",null,"",{"$f":"IFERROR(VLOOKUP(B633,#REF!,9,FALSE),\"\")","v":""},null,null,null,"",""]
[null,null,{"$f":"IFERROR(VLOOKUP(B634,#REF!,2,FALSE),\"\")","v":""},{"$f":"IFERROR(VLOOKUP(B634,#REF!,3,FALSE),\"\")","v":""},null,null,null,"",null,null,"",null,"",{"$f":"IFERROR(VLOOKUP(B634,#REF!,9,FALSE),\"\")","v":""},null,null,null,"",""]
[null,null,{"$f":"IFERROR(VLOOKUP(B635,#REF!,2,FALSE),\"\")","v":""},{"$f":"IFERROR(VLOOKUP(B635,#REF!,3,FALSE),\"\")","v":""},null,null,null,"",null,null,"",null,"",{"$f":"IFERROR(VLOOKUP(B635,#REF!,9,FALSE),\"\")","v":""},null,null,null,"",""]
[null,null,{"$f":"IFERROR(VLOOKUP(B636,#REF!,2,FALSE),\"\")","v":""},{"$f":"IFERROR(VLOOKUP(B636,#REF!,3,FALSE),\"\")","v":""},null,null,null,"",null,null,"",null,"",{"$f":"IFERROR(VLOOKUP(B636,#REF!,9,FALSE),\"\")","v":""},null,null,null,"",""]
[null,null,{"$f":"IFERROR(VLOOKUP(B637,#REF!,2,FALSE),\"\")","v":""},{"$f":"IFERROR(VLOOKUP(B637,#REF!,3,FALSE),\"\")","v":""},null,null,null,"",null,null,"",null,"",{"$f":"IFERROR(VLOOKUP(B637,#REF!,9,FALSE),\"\")","v":""},null,null,null,"",""]
[null,null,{"$f":"IFERROR(VLOOKUP(B638,#REF!,2,FALSE),\"\")","v":""},{"$f":"IFERROR(VLOOKUP(B638,#REF!,3,FALSE),\"\")","v":""},null,null,null,"",null,null,"",null,"",{"$f":"IFERROR(VLOOKUP(B638,#REF!,9,FALSE),\"\")","v":""},null,null,null,"",""]
[null,null,{"$f":"IFERROR(VLOOKUP(B639,#REF!,2,FALSE),\"\")","v":""},{"$f":"IFERROR(VLOOKUP(B639,#REF!,3,FALSE),\"\")","v":""},null,null,null,"",null,null,"",null,"",{"$f":"IFERROR(VLOOKUP(B639,#REF!,9,FALSE),\"\")","v":""},null,null,null,"",""]
[null,null,{"$f":"IFERROR(VLOOKUP(B640,#REF!,2,FALSE),\"\")","v":""},{"$f":"IFERROR(VLOOKUP(B640,#REF!,3,FALSE),\"\")","v":""},null,null,null,"",null,null,"",null,"",{"$f":"IFERROR(VLOOKUP(B640,#REF!,9,FALSE),\"\")","v":""},null,null,null,"",""]
[null,null,{"$f":"IFERROR(VLOOKUP(B641,#REF!,2,FALSE),\"\")","v":""},{"$f":"IFERROR(VLOOKUP(B641,#REF!,3,FALSE),\"\")","v":""},null,null,null,"",null,null,"",null,"",{"$f":"IFERROR(VLOOKUP(B641,#REF!,9,FALSE),\"\")","v":""},null,null,null,"",""]
[null,null,{"$f":"IFERROR(VLOOKUP(B642,#REF!,2,FALSE),\"\")","v":""},{"$f":"IFERROR(VLOOKUP(B642,#REF!,3,FALSE),\"\")","v":""},null,null,null,"",null,null,"",null,"",{"$f":"IFERROR(VLOOKUP(B642,#REF!,9,FALSE),\"\")","v":""},null,null,null,"",""]
[null,null,{"$f":"IFERROR(VLOOKUP(B643,#REF!,2,FALSE),\"\")","v":""},{"$f":"IFERROR(VLOOKUP(B643,#REF!,3,FALSE),\"\")","v":""},null,null,null,"",null,null,"",null,"",{"$f":"IFERROR(VLOOKUP(B643,#REF!,9,FALSE),\"\")","v":""},null,null,null,"",""]
[null,null,{"$f":"IFERROR(VLOOKUP(B644,#REF!,2,FALSE),\"\")","v":""},{"$f":"IFERROR(VLOOKUP(B644,#REF!,3,FALSE),\"\")","v":""},null,null,null,"",null,null,"",null,"",{"$f":"IFERROR(VLOOKUP(B644,#REF!,9,FALSE),\"\")","v":""},null,null,null,"",{"$f":"IF( N644 <> \"\", IF(AND(E644<\"100%\", M644>0, O644>N644), \"Miss\", \"Hit\"), \"\")","v":""}]
[null,null,{"$f":"IFERROR(VLOOKUP(B645,#REF!,2,FALSE),\"\")","v":""},{"$f":"IFERROR(VLOOKUP(B645,#REF!,3,FALSE),\"\")","v":""},null,null,null,"",null,null,"",null,"",{"$f":"IFERROR(VLOOKUP(B645,#REF!,9,FALSE),\"\")","v":""},null,null,null,"",""]
[null,null,{"$f":"IFERROR(VLOOKUP(B646,#REF!,2,FALSE),\"\")","v":""},{"$f":"IFERROR(VLOOKUP(B646,#REF!,3,FALSE),\"\")","v":""},null,null,null,"",null,null,"",null,"",{"$f":"IFERROR(VLOOKUP(B646,#REF!,9,FALSE),\"\")","v":""},null,null,null,"",""]
[null,null,{"$f":"IFERROR(VLOOKUP(B647,#REF!,2,FALSE),\"\")","v":""},{"$f":"IFERROR(VLOOKUP(B647,#REF!,3,FALSE),\"\")","v":""},null,null,null,"",null,null,"",null,"",{"$f":"IFERROR(VLOOKUP(B647,#REF!,9,FALSE),\"\")","v":""},null,null,null,"",""]
[null,null,{"$f":"IFERROR(VLOOKUP(B648,#REF!,2,FALSE),\"\")","v":""},{"$f":"IFERROR(VLOOKUP(B648,#REF!,3,FALSE),\"\")","v":""},null,null,null,"",null,null,"",null,"",{"$f":"IFERROR(VLOOKUP(B648,#REF!,9,FALSE),\"\")","v":""},null,null,null,"",""]
[null,null,{"$f":"IFERROR(VLOOKUP(B649,#REF!,2,FALSE),\"\")","v":""},{"$f":"IFERROR(VLOOKUP(B649,#REF!,3,FALSE),\"\")","v":""},null,null,null,"",null,null,"",null,"",{"$f":"IFERROR(VLOOKUP(B649,#REF!,9,FALSE),\"\")","v":""},null,null,null,"",""]
[null,null,{"$f":"IFERROR(VLOOKUP(B650,#REF!,2,FALSE),\"\")","v":""},{"$f":"IFERROR(VLOOKUP(B650,#REF!,3,FALSE),\"\")","v":""},null,null,null,"",null,null,"",null,"",{"$f":"IFERROR(VLOOKUP(B650,#REF!,9,FALSE),\"\")","v":""},null,null,null,"",""]
[null,null,{"$f":"IFERROR(VLOOKUP(B651,#REF!,2,FALSE),\"\")","v":""},{"$f":"IFERROR(VLOOKUP(B651,#REF!,3,FALSE),\"\")","v":""},null,null,null,"",null,null,"",null,"",{"$f":"IFERROR(VLOOKUP(B651,#REF!,9,FALSE),\"\")","v":""},null,null,null,"",""]
[null,null,{"$f":"IFERROR(VLOOKUP(B652,#REF!,2,FALSE),\"\")","v":""},{"$f":"IFERROR(VLOOKUP(B652,#REF!,3,FALSE),\"\")","v":""},null,null,null,"",null,null,"",null,"",{"$f":"IFERROR(VLOOKUP(B652,#REF!,9,FALSE),\"\")","v":""},null,null,null,"",""]
[null,null,{"$f":"IFERROR(VLOOKUP(B653,#REF!,2,FALSE),\"\")","v":""},{"$f":"IFERROR(VLOOKUP(B653,#REF!,3,FALSE),\"\")","v":""},null,null,null,"",null,null,"",null,"",{"$f":"IFERROR(VLOOKUP(B653,#REF!,9,FALSE),\"\")","v":""},null,null,null,"",""]
[null,null,{"$f":"IFERROR(VLOOKUP(B654,#REF!,2,FALSE),\"\")","v":""},{"$f":"IFERROR(VLOOKUP(B654,#REF!,3,FALSE),\"\")","v":""},null,null,null,"",null,null,"",null,"",{"$f":"IFERROR(VLOOKUP(B654,#REF!,9,FALSE),\"\")","v":""},null,null,null,"",""]
[null,null,{"$f":"IFERROR(VLOOKUP(B655,#REF!,2,FALSE),\"\")","v":""},{"$f":"IFERROR(VLOOKUP(B655,#REF!,3,FALSE),\"\")","v":""},null,null,null,"",null,null,"",null,"",{"$f":"IFERROR(VLOOKUP(B655,#REF!,9,FALSE),\"\")","v":""},null,null,null,"",""]
[null,null,{"$f":"IFERROR(VLOOKUP(B656,#REF!,2,FALSE),\"\")","v":""},{"$f":"IFERROR(VLOOKUP(B656,#REF!,3,FALSE),\"\")","v":""},null,null,null,"",null,null,"",null,"",{"$f":"IFERROR(VLOOKUP(B656,#REF!,9,FALSE),\"\")","v":""},null,null,null,"",""]
[null,null,{"$f":"IFERROR(VLOOKUP(B657,#REF!,2,FALSE),\"\")","v":""},{"$f":"IFERROR(VLOOKUP(B657,#REF!,3,FALSE),\"\")","v":""},null,null,null,"",null,null,"",null,"",{"$f":"IFERROR(VLOOKUP(B657,#REF!,9,FALSE),\"\")","v":""},null,null,null,"",""]
[null,null,{"$f":"IFERROR(VLOOKUP(B658,#REF!,2,FALSE),\"\")","v":""},{"$f":"IFERROR(VLOOKUP(B658,#REF!,3,FALSE),\"\")","v":""},null,null,null,"",null,null,"",null,"",{"$f":"IFERROR(VLOOKUP(B658,#REF!,9,FALSE),\"\")","v":""},null,null,null,"",""]
[null,null,{"$f":"IFERROR(VLOOKUP(B659,#REF!,2,FALSE),\"\")","v":""},{"$f":"IFERROR(VLOOKUP(B659,#REF!,3,FALSE),\"\")","v":""},null,null,null,"",null,null,"",null,"",{"$f":"IFERROR(VLOOKUP(B659,#REF!,9,FALSE),\"\")","v":""},null,null,null,{"$f":"IF(P659=\"\",\"\",IFERROR(P659-Q659,\"\"))","v":""},""]
[null,null,{"$f":"IFERROR(VLOOKUP(B660,#REF!,2,FALSE),\"\")","v":""},{"$f":"IFERROR(VLOOKUP(B660,#REF!,3,FALSE),\"\")","v":""},null,null,null,"",null,null,"",null,"",{"$f":"IFERROR(VLOOKUP(B660,#REF!,9,FALSE),\"\")","v":""},null,null,null,"",""]
[null,null,{"$f":"IFERROR(VLOOKUP(B661,#REF!,2,FALSE),\"\")","v":""},{"$f":"IFERROR(VLOOKUP(B661,#REF!,3,FALSE),\"\")","v":""},null,null,null,{"$f":"IF((G661-F661)<=0,\"\",(G661-F661))","v":""},null,null,{"$f":"IF((J661-I661)<=0,\"\",(J661-I661))","v":""},null,"",{"$f":"IFERROR(VLOOKUP(B661,#REF!,9,FALSE),\"\")","v":""},null,null,null,"",""]
[null,null,{"$f":"IFERROR(VLOOKUP(B662,#REF!,2,FALSE),\"\")","v":""},{"$f":"IFERROR(VLOOKUP(B662,#REF!,3,FALSE),\"\")","v":""},null,null,null,"",null,null,"",null,"",{"$f":"IFERROR(VLOOKUP(B662,#REF!,9,FALSE),\"\")","v":""},null,null,null,"",""]
[null,null,{"$f":"IFERROR(VLOOKUP(B663,#REF!,2,FALSE),\"\")","v":""},{"$f":"IFERROR(VLOOKUP(B663,#REF!,3,FALSE),\"\")","v":""},null,null,null,"",null,null,"",null,"",{"$f":"IFERROR(VLOOKUP(B663,#REF!,9,FALSE),\"\")","v":""},null,null,null,"",""]
[null,null,{"$f":"IFERROR(VLOOKUP(B664,#REF!,2,FALSE),\"\")","v":""},{"$f":"IFERROR(VLOOKUP(B664,#REF!,3,FALSE),\"\")","v":""},null,null,null,"",null,null,"",null,"",{"$f":"IFERROR(VLOOKUP(B664,#REF!,9,FALSE),\"\")","v":""},null,null,null,"",""]
[null,null,{"$f":"IFERROR(VLOOKUP(B665,#REF!,2,FALSE),\"\")","v":""},{"$f":"IFERROR(VLOOKUP(B665,#REF!,3,FALSE),\"\")","v":""},null,null,null,"",null,null,"",null,"",{"$f":"IFERROR(VLOOKUP(B665,#REF!,9,FALSE),\"\")","v":""},null,null,null,"",""]
[null,null,{"$f":"IFERROR(VLOOKUP(B666,#REF!,2,FALSE),\"\")","v":""},{"$f":"IFERROR(VLOOKUP(B666,#REF!,3,FALSE),\"\")","v":""},null,null,null,"",null,null,"",null,"",{"$f":"IFERROR(VLOOKUP(B666,#REF!,9,FALSE),\"\")","v":""},null,null,null,"",""]
[null,null,{"$f":"IFERROR(VLOOKUP(B667,#REF!,2,FALSE),\"\")","v":""},{"$f":"IFERROR(VLOOKUP(B667,#REF!,3,FALSE),\"\")","v":""},null,null,null,"",null,null,"",null,"",{"$f":"IFERROR(VLOOKUP(B667,#REF!,9,FALSE),\"\")","v":""},null,null,null,"",""]
[null,null,{"$f":"IFERROR(VLOOKUP(B668,#REF!,2,FALSE),\"\")","v":""},{"$f":"IFERROR(VLOOKUP(B668,#REF!,3,FALSE),\"\")","v":""},null,null,null,"",null,null,"",null,"",{"$f":"IFERROR(VLOOKUP(B668,#REF!,9,FALSE),\"\")","v":""},null,null,null,"",""]
[null,null,{"$f":"IFERROR(VLOOKUP(B669,#REF!,2,FALSE),\"\")","v":""},{"$f":"IFERROR(VLOOKUP(B669,#REF!,3,FALSE),\"\")","v":""},null,null,null,"",null,null,"",null,"",{"$f":"IFERROR(VLOOKUP(B669,#REF!,9,FALSE),\"\")","v":""},null,null,null,"",""]
[null,null,{"$f":"IFERROR(VLOOKUP(B670,#REF!,2,FALSE),\"\")","v":""},{"$f":"IFERROR(VLOOKUP(B670,#REF!,3,FALSE),\"\")","v":""},null,null,null,"",null,null,"",null,"",{"$f":"IFERROR(VLOOKUP(B670,#REF!,9,FALSE),\"\")","v":""},null,null,null,"",""]
[null,null,{"$f":"IFERROR(VLOOKUP(B671,#REF!,2,FALSE),\"\")","v":""},{"$f":"IFERROR(VLOOKUP(B671,#REF!,3,FALSE),\"\")","v":""},null,null,null,"",null,null,"",null,"",{"$f":"IFERROR(VLOOKUP(B671,#REF!,9,FALSE),\"\")","v":""},null,null,null,"",""]
[null,null,{"$f":"IFERROR(VLOOKUP(B672,#REF!,2,FALSE),\"\")","v":""},{"$f":"IFERROR(VLOOKUP(B672,#REF!,3,FALSE),\"\")","v":""},null,null,null,"",null,null,"",null,"",{"$f":"IFERROR(VLOOKUP(B672,#REF!,9,FALSE),\"\")","v":""},null,null,null,"",""]
[null,null,{"$f":"IFERROR(VLOOKUP(B673,#REF!,2,FALSE),\"\")","v":""},{"$f":"IFERROR(VLOOKUP(B673,#REF!,3,FALSE),\"\")","v":""},null,null,null,"",null,null,"",null,"",{"$f":"IFERROR(VLOOKUP(B673,#REF!,9,FALSE),\"\")","v":""},null,null,null,"",""]
[null,null,{"$f":"IFERROR(VLOOKUP(B674,#REF!,2,FALSE),\"\")","v":""},{"$f":"IFERROR(VLOOKUP(B674,#REF!,3,FALSE),\"\")","v":""},null,null,null,"",null,null,"",null,"",{"$f":"IFERROR(VLOOKUP(B674,#REF!,9,FALSE),\"\")","v":""},null,null,null,"",""]
[null,null,{"$f":"IFERROR(VLOOKUP(B675,#REF!,2,FALSE),\"\")","v":""},{"$f":"IFERROR(VLOOKUP(B675,#REF!,3,FALSE),\"\")","v":""},null,null,null,"",null,null,"",null,"",{"$f":"IFERROR(VLOOKUP(B675,#REF!,9,FALSE),\"\")","v":""},null,null,null,"",""]
[null,null,{"$f":"IFERROR(VLOOKUP(B676,#REF!,2,FALSE),\"\")","v":""},{"$f":"IFERROR(VLOOKUP(B676,#REF!,3,FALSE),\"\")","v":""},null,null,null,"",null,null,"",null,"",{"$f":"IFERROR(VLOOKUP(B676,#REF!,9,FALSE),\"\")","v":""},null,null,null,"",""]
[null,null,{"$f":"IFERROR(VLOOKUP(B677,#REF!,2,FALSE),\"\")","v":""},{"$f":"IFERROR(VLOOKUP(B677,#REF!,3,FALSE),\"\")","v":""},null,null,null,"",null,null,"",null,"",{"$f":"IFERROR(VLOOKUP(B677,#REF!,9,FALSE),\"\")","v":""},null,null,null,"",""]
[null,null,{"$f":"IFERROR(VLOOKUP(B678,#REF!,2,FALSE),\"\")","v":""},{"$f":"IFERROR(VLOOKUP(B678,#REF!,3,FALSE),\"\")","v":""},null,null,null,"",null,null,"",null,"",{"$f":"IFERROR(VLOOKUP(B678,#REF!,9,FALSE),\"\")","v":""},null,null,null,"",""]
[null,null,{"$f":"IFERROR(VLOOKUP(B679,#REF!,2,FALSE),\"\")","v":""},{"$f":"IFERROR(VLOOKUP(B679,#REF!,3,FALSE),\"\")","v":""},null,null,null,"",null,null,"",null,"",{"$f":"IFERROR(VLOOKUP(B679,#REF!,9,FALSE),\"\")","v":""},null,null,null,"",""]
[null,null,{"$f":"IFERROR(VLOOKUP(B680,#REF!,2,FALSE),\"\")","v":""},{"$f":"IFERROR(VLOOKUP(B680,#REF!,3,FALSE),\"\")","v":""},null,null,null,"",null,null,"",null,"",{"$f":"IFERROR(VLOOKUP(B680,#REF!,9,FALSE),\"\")","v":""},null,null,null,"",""]
[null,null,{"$f":"IFERROR(VLOOKUP(B681,#REF!,2,FALSE),\"\")","v":""},{"$f":"IFERROR(VLOOKUP(B681,#REF!,3,FALSE),\"\")","v":""},null,null,null,"",null,null,"",null,"",{"$f":"IFERROR(VLOOKUP(B681,#REF!,9,FALSE),\"\")","v":""},null,null,null,"",""]
[null,null,{"$f":"IFERROR(VLOOKUP(B682,#REF!,2,FALSE),\"\")","v":""},{"$f":"IFERROR(VLOOKUP(B682,#REF!,3,FALSE),\"\")","v":""},null,null,null,"",null,null,"",null,"",{"$f":"IFERROR(VLOOKUP(B682,#REF!,9,FALSE),\"\")","v":""},null,null,null,"",""]
[null,null,{"$f":"IFERROR(VLOOKUP(B683,#REF!,2,FALSE),\"\")","v":""},{"$f":"IFERROR(VLOOKUP(B683,#REF!,3,FALSE),\"\")","v":""},null,null,null,"",null,null,"",null,"",{"$f":"IFERROR(VLOOKUP(B683,#REF!,9,FALSE),\"\")","v":""},null,null,null,"",""]
[null,null,{"$f":"IFERROR(VLOOKUP(B684,#REF!,2,FALSE),\"\")","v":""},{"$f":"IFERROR(VLOOKUP(B684,#REF!,3,FALSE),\"\")","v":""},null,null,null,"",null,null,"",null,"",{"$f":"IFERROR(VLOOKUP(B684,#REF!,9,FALSE),\"\")","v":""},null,null,null,"",""]
[null,null,{"$f":"IFERROR(VLOOKUP(B685,#REF!,2,FALSE),\"\")","v":""},{"$f":"IFERROR(VLOOKUP(B685,#REF!,3,FALSE),\"\")","v":""},null,null,null,"",null,null,"",null,"",{"$f":"IFERROR(VLOOKUP(B685,#REF!,9,FALSE),\"\")","v":""},null,null,null,"",""]
[null,null,{"$f":"IFERROR(VLOOKUP(B686,#REF!,2,FALSE),\"\")","v":""},{"$f":"IFERROR(VLOOKUP(B686,#REF!,3,FALSE),\"\")","v":""},null,null,null,"",null,null,"",null,"",{"$f":"IFERROR(VLOOKUP(B686,#REF!,9,FALSE),\"\")","v":""},null,null,null,"",""]
[null,null,{"$f":"IFERROR(VLOOKUP(B687,#REF!,2,FALSE),\"\")","v":""},{"$f":"IFERROR(VLOOKUP(B687,#REF!,3,FALSE),\"\")","v":""},null,null,null,"",null,null,"",null,{"$f":"IFERROR(IF((K687-L687)<=0,\"0\",(K687-L687)),\"\")","v":""},{"$f":"IFERROR(VLOOKUP(B687,#REF!,9,FALSE),\"\")","v":""},null,null,null,"",""]
[null,null,{"$f":"IFERROR(VLOOKUP(B688,#REF!,2,FALSE),\"\")","v":""},{"$f":"IFERROR(VLOOKUP(B688,#REF!,3,FALSE),\"\")","v":""},null,null,null,"",null,null,"",null,"",{"$f":"IFERROR(VLOOKUP(B688,#REF!,9,FALSE),\"\")","v":""},null,null,null,"",""]
[null,null,{"$f":"IFERROR(VLOOKUP(B689,#REF!,2,FALSE),\"\")","v":""},{"$f":"IFERROR(VLOOKUP(B689,#REF!,3,FALSE),\"\")","v":""},null,null,null,"",null,null,"",null,"",{"$f":"IFERROR(VLOOKUP(B689,#REF!,9,FALSE),\"\")","v":""},null,null,null,"",""]
[null,null,{"$f":"IFERROR(VLOOKUP(B690,#REF!,2,FALSE),\"\")","v":""},{"$f":"IFERROR(VLOOKUP(B690,#REF!,3,FALSE),\"\")","v":""},null,null,null,"",null,null,"",null,"",{"$f":"IFERROR(VLOOKUP(B690,#REF!,9,FALSE),\"\")","v":""},null,null,null,"",""]
[null,null,{"$f":"IFERROR(VLOOKUP(B691,#REF!,2,FALSE),\"\")","v":""},{"$f":"IFERROR(VLOOKUP(B691,#REF!,3,FALSE),\"\")","v":""},null,null,null,"",null,null,"",null,"",{"$f":"IFERROR(VLOOKUP(B691,#REF!,9,FALSE),\"\")","v":""},null,null,null,"",""]
[null,null,{"$f":"IFERROR(VLOOKUP(B692,#REF!,2,FALSE),\"\")","v":""},{"$f":"IFERROR(VLOOKUP(B692,#REF!,3,FALSE),\"\")","v":""},null,null,null,"",null,null,"",null,"",{"$f":"IFERROR(VLOOKUP(B692,#REF!,9,FALSE),\"\")","v":""},null,null,null,"",""]
[null,null,{"$f":"IFERROR(VLOOKUP(B693,#REF!,2,FALSE),\"\")","v":""},{"$f":"IFERROR(VLOOKUP(B693,#REF!,3,FALSE),\"\")","v":""},null,null,null,"",null,null,"",null,"",{"$f":"IFERROR(VLOOKUP(B693,#REF!,9,FALSE),\"\")","v":""},null,null,null,"",""]
[null,null,{"$f":"IFERROR(VLOOKUP(B694,#REF!,2,FALSE),\"\")","v":""},{"$f":"IFERROR(VLOOKUP(B694,#REF!,3,FALSE),\"\")","v":""},null,null,null,"",null,null,"",null,"",{"$f":"IFERROR(VLOOKUP(B694,#REF!,9,FALSE),\"\")","v":""},null,null,null,"",""]
[null,null,{"$f":"IFERROR(VLOOKUP(B695,#REF!,2,FALSE),\"\")","v":""},{"$f":"IFERROR(VLOOKUP(B695,#REF!,3,FALSE),\"\")","v":""},null,null,null,"",null,null,"",null,"",{"$f":"IFERROR(VLOOKUP(B695,#REF!,9,FALSE),\"\")","v":""},null,null,null,"",""]
[null,null,{"$f":"IFERROR(VLOOKUP(B696,#REF!,2,FALSE),\"\")","v":""},{"$f":"IFERROR(VLOOKUP(B696,#REF!,3,FALSE),\"\")","v":""},null,null,null,"",null,null,"",null,"",{"$f":"IFERROR(VLOOKUP(B696,#REF!,9,FALSE),\"\")","v":""},null,null,null,"",""]
[null,null,{"$f":"IFERROR(VLOOKUP(B697,#REF!,2,FALSE),\"\")","v":""},{"$f":"IFERROR(VLOOKUP(B697,#REF!,3,FALSE),\"\")","v":""},null,null,null,"",null,null,"",null,"",{"$f":"IFERROR(VLOOKUP(B697,#REF!,9,FALSE),\"\")","v":""},null,null,null,"",""]
[null,null,{"$f":"IFERROR(VLOOKUP(B698,#REF!,2,FALSE),\"\")","v":""},{"$f":"IFERROR(VLOOKUP(B698,#REF!,3,FALSE),\"\")","v":""},null,null,null,"",null,null,"",null,"",{"$f":"IFERROR(VLOOKUP(B698,#REF!,9,FALSE),\"\")","v":""},null,null,null,"",""]
[null,null,{"$f":"IFERROR(VLOOKUP(B699,#REF!,2,FALSE),\"\")","v":""},{"$f":"IFERROR(VLOOKUP(B699,#REF!,3,FALSE),\"\")","v":""},null,null,null,"",null,null,"",null,"",{"$f":"IFERROR(VLOOKUP(B699,#REF!,9,FALSE),\"\")","v":""},null,null,null,"",""]
[null,null,{"$f":"IFERROR(VLOOKUP(B700,#REF!,2,FALSE),\"\")","v":""},{"$f":"IFERROR(VLOOKUP(B700,#REF!,3,FALSE),\"\")","v":""},null,null,null,"",null,null,"",null,"",{"$f":"IFERROR(VLOOKUP(B700,#REF!,9,FALSE),\"\")","v":""},null,null,null,"",""]
[null,null,{"$f":"IFERROR(VLOOKUP(B701,#REF!,2,FALSE),\"\")","v":""},{"$f":"IFERROR(VLOOKUP(B701,#REF!,3,FALSE),\"\")","v":""},null,null,null,"",null,null,"",null,"",{"$f":"IFERROR(VLOOKUP(B701,#REF!,9,FALSE),\"\")","v":""},null,null,null,"",""]
[null,null,{"$f":"IFERROR(VLOOKUP(B702,#REF!,2,FALSE),\"\")","v":""},{"$f":"IFERROR(VLOOKUP(B702,#REF!,3,FALSE),\"\")","v":""},null,null,null,"",null,null,"",null,"",{"$f":"IFERROR(VLOOKUP(B702,#REF!,9,FALSE),\"\")","v":""},null,null,null,"",""]
[null,null,{"$f":"IFERROR(VLOOKUP(B703,#REF!,2,FALSE),\"\")","v":""},{"$f":"IFERROR(VLOOKUP(B703,#REF!,3,FALSE),\"\")","v":""},null,null,null,"",null,null,"",null,"",{"$f":"IFERROR(VLOOKUP(B703,#REF!,9,FALSE),\"\")","v":""},null,null,null,"",""]
[null,null,{"$f":"IFERROR(VLOOKUP(B704,#REF!,2,FALSE),\"\")","v":""},{"$f":"IFERROR(VLOOKUP(B704,#REF!,3,FALSE),\"\")","v":""},null,null,null,"",null,null,"",null,"",{"$f":"IFERROR(VLOOKUP(B704,#REF!,9,FALSE),\"\")","v":""},null,null,null,"",""]
[null,null,{"$f":"IFERROR(VLOOKUP(B705,#REF!,2,FALSE),\"\")","v":""},{"$f":"IFERROR(VLOOKUP(B705,#REF!,3,FALSE),\"\")","v":""},null,null,null,"",null,null,"",null,"",{"$f":"IFERROR(VLOOKUP(B705,#REF!,9,FALSE),\"\")","v":""},null,null,null,"",""]
[null,null,{"$f":"IFERROR(VLOOKUP(B706,#REF!,2,FALSE),\"\")","v":""},{"$f":"IFERROR(VLOOKUP(B706,#REF!,3,FALSE),\"\")","v":""},null,null,null,"",null,null,"",null,"",{"$f":"IFERROR(VLOOKUP(B706,#REF!,9,FALSE),\"\")","v":""},null,null,null,"",""]
[null,null,{"$f":"IFERROR(VLOOKUP(B707,#REF!,2,FALSE),\"\")","v":""},{"$f":"IFERROR(VLOOKUP(B707,#REF!,3,FALSE),\"\")","v":""},null,null,null,"",null,null,"",null,"",{"$f":"IFERROR(VLOOKUP(B707,#REF!,9,FALSE),\"\")","v":""},null,null,null,"",""]
[null,null,{"$f":"IFERROR(VLOOKUP(B708,#REF!,2,FALSE),\"\")","v":""},{"$f":"IFERROR(VLOOKUP(B708,#REF!,3,FALSE),\"\")","v":""},null,null,null,"",null,null,"",null,"",{"$f":"IFERROR(VLOOKUP(B708,#REF!,9,FALSE),\"\")","v":""},null,null,null,"",{"$f":"IF( N708 <> \"\", IF(AND(E708<\"100%\", M708>0, O708>N708), \"Miss\", \"Hit\"), \"\")","v":""}]
[null,null,{"$f":"IFERROR(VLOOKUP(B709,#REF!,2,FALSE),\"\")","v":""},{"$f":"IFERROR(VLOOKUP(B709,#REF!,3,FALSE),\"\")","v":""},null,null,null,"",null,null,"",null,"",{"$f":"IFERROR(VLOOKUP(B709,#REF!,9,FALSE),\"\")","v":""},null,null,null,"",""]
[null,null,{"$f":"IFERROR(VLOOKUP(B710,#REF!,2,FALSE),\"\")","v":""},{"$f":"IFERROR(VLOOKUP(B710,#REF!,3,FALSE),\"\")","v":""},null,null,null,"",null,null,"",null,"",{"$f":"IFERROR(VLOOKUP(B710,#REF!,9,FALSE),\"\")","v":""},null,null,null,"",""]
[null,null,{"$f":"IFERROR(VLOOKUP(B711,#REF!,2,FALSE),\"\")","v":""},{"$f":"IFERROR(VLOOKUP(B711,#REF!,3,FALSE),\"\")","v":""},null,null,null,"",null,null,"",null,"",{"$f":"IFERROR(VLOOKUP(B711,#REF!,9,FALSE),\"\")","v":""},null,null,null,"",""]
[null,null,{"$f":"IFERROR(VLOOKUP(B712,#REF!,2,FALSE),\"\")","v":""},{"$f":"IFERROR(VLOOKUP(B712,#REF!,3,FALSE),\"\")","v":""},null,null,null,"",null,null,"",null,"",{"$f":"IFERROR(VLOOKUP(B712,#REF!,9,FALSE),\"\")","v":""},null,null,null,"",""]
[null,null,{"$f":"IFERROR(VLOOKUP(B713,#REF!,2,FALSE),\"\")","v":""},{"$f":"IFERROR(VLOOKUP(B713,#REF!,3,FALSE),\"\")","v":""},null,null,null,"",null,null,"",null,"",{"$f":"IFERROR(VLOOKUP(B713,#REF!,9,FALSE),\"\")","v":""},null,null,null,"",""]
[null,null,{"$f":"IFERROR(VLOOKUP(B714,#REF!,2,FALSE),\"\")","v":""},{"$f":"IFERROR(VLOOKUP(B714,#REF!,3,FALSE),\"\")","v":""},null,null,null,"",null,null,"",null,"",{"$f":"IFERROR(VLOOKUP(B714,#REF!,9,FALSE),\"\")","v":""},null,null,null,"",""]
[null,null,{"$f":"IFERROR(VLOOKUP(B715,#REF!,2,FALSE),\"\")","v":""},{"$f":"IFERROR(VLOOKUP(B715,#REF!,3,FALSE),\"\")","v":""},null,null,null,"",null,null,"",null,"",{"$f":"IFERROR(VLOOKUP(B715,#REF!,9,FALSE),\"\")","v":""},null,null,null,"",""]
[null,null,{"$f":"IFERROR(VLOOKUP(B716,#REF!,2,FALSE),\"\")","v":""},{"$f":"IFERROR(VLOOKUP(B716,#REF!,3,FALSE),\"\")","v":""},null,null,null,"",null,null,"",null,"",{"$f":"IFERROR(VLOOKUP(B716,#REF!,9,FALSE),\"\")","v":""},null,null,null,"",""]
[null,null,{"$f":"IFERROR(VLOOKUP(B717,#REF!,2,FALSE),\"\")","v":""},{"$f":"IFERROR(VLOOKUP(B717,#REF!,3,FALSE),\"\")","v":""},null,null,null,"",null,null,"",null,"",{"$f":"IFERROR(VLOOKUP(B717,#REF!,9,FALSE),\"\")","v":""},null,null,null,"",""]
[null,null,{"$f":"IFERROR(VLOOKUP(B718,#REF!,2,FALSE),\"\")","v":""},{"$f":"IFERROR(VLOOKUP(B718,#REF!,3,FALSE),\"\")","v":""},null,null,null,"",null,null,"",null,"",{"$f":"IFERROR(VLOOKUP(B718,#REF!,9,FALSE),\"\")","v":""},null,null,null,"",""]
[null,null,{"$f":"IFERROR(VLOOKUP(B719,#REF!,2,FALSE),\"\")","v":""},{"$f":"IFERROR(VLOOKUP(B719,#REF!,3,FALSE),\"\")","v":""},null,null,null,"",null,null,"",null,"",{"$f":"IFERROR(VLOOKUP(B719,#REF!,9,FALSE),\"\")","v":""},null,null,null,"",""]
[null,null,{"$f":"IFERROR(VLOOKUP(B720,#REF!,2,FALSE),\"\")","v":""},{"$f":"IFERROR(VLOOKUP(B720,#REF!,3,FALSE),\"\")","v":""},null,null,null,"",null,null,"",null,"",{"$f":"IFERROR(VLOOKUP(B720,#REF!,9,FALSE),\"\")","v":""},null,null,null,"",""]
[null,null,{"$f":"IFERROR(VLOOKUP(B721,#REF!,2,FALSE),\"\")","v":""},{"$f":"IFERROR(VLOOKUP(B721,#REF!,3,FALSE),\"\")","v":""},null,null,null,"",null,null,"",null,"",{"$f":"IFERROR(VLOOKUP(B721,#REF!,9,FALSE),\"\")","v":""},null,null,null,"",""]
[null,null,{"$f":"IFERROR(VLOOKUP(B722,#REF!,2,FALSE),\"\")","v":""},{"$f":"IFERROR(VLOOKUP(B722,#REF!,3,FALSE),\"\")","v":""},null,null,null,"",null,null,"",null,"",{"$f":"IFERROR(VLOOKUP(B722,#REF!,9,FALSE),\"\")","v":""},null,null,null,"",""]
[null,null,{"$f":"IFERROR(VLOOKUP(B723,#REF!,2,FALSE),\"\")","v":""},{"$f":"IFERROR(VLOOKUP(B723,#REF!,3,FALSE),\"\")","v":""},null,null,null,"",null,null,"",null,"",{"$f":"IFERROR(VLOOKUP(B723,#REF!,9,FALSE),\"\")","v":""},null,null,null,{"$f":"IF(P723=\"\",\"\",IFERROR(P723-Q723,\"\"))","v":""},""]
[null,null,{"$f":"IFERROR(VLOOKUP(B724,#REF!,2,FALSE),\"\")","v":""},{"$f":"IFERROR(VLOOKUP(B724,#REF!,3,FALSE),\"\")","v":""},null,null,null,"",null,null,"",null,"",{"$f":"IFERROR(VLOOKUP(B724,#REF!,9,FALSE),\"\")","v":""},null,null,null,"",""]
[null,null,{"$f":"IFERROR(VLOOKUP(B725,#REF!,2,FALSE),\"\")","v":""},{"$f":"IFERROR(VLOOKUP(B725,#REF!,3,FALSE),\"\")","v":""},null,null,null,{"$f":"IF((G725-F725)<=0,\"\",(G725-F725))","v":""},null,null,{"$f":"IF((J725-I725)<=0,\"\",(J725-I725))","v":""},null,"",{"$f":"IFERROR(VLOOKUP(B725,#REF!,9,FALSE),\"\")","v":""},null,null,null,"",""]
[null,null,{"$f":"IFERROR(VLOOKUP(B726,#REF!,2,FALSE),\"\")","v":""},{"$f":"IFERROR(VLOOKUP(B726,#REF!,3,FALSE),\"\")","v":""},null,null,null,"",null,null,"",null,"",{"$f":"IFERROR(VLOOKUP(B726,#REF!,9,FALSE),\"\")","v":""},null,null,null,"",""]
[null,null,{"$f":"IFERROR(VLOOKUP(B727,#REF!,2,FALSE),\"\")","v":""},{"$f":"IFERROR(VLOOKUP(B727,#REF!,3,FALSE),\"\")","v":""},null,null,null,"",null,null,"",null,"",{"$f":"IFERROR(VLOOKUP(B727,#REF!,9,FALSE),\"\")","v":""},null,null,null,"",""]
[null,null,{"$f":"IFERROR(VLOOKUP(B728,#REF!,2,FALSE),\"\")","v":""},{"$f":"IFERROR(VLOOKUP(B728,#REF!,3,FALSE),\"\")","v":""},null,null,null,"",null,null,"",null,"",{"$f":"IFERROR(VLOOKUP(B728,#REF!,9,FALSE),\"\")","v":""},null,null,null,"",""]
[null,null,{"$f":"IFERROR(VLOOKUP(B729,#REF!,2,FALSE),\"\")","v":""},{"$f":"IFERROR(VLOOKUP(B729,#REF!,3,FALSE),\"\")","v":""},null,null,null,"",null,null,"",null,"",{"$f":"IFERROR(VLOOKUP(B729,#REF!,9,FALSE),\"\")","v":""},null,null,null,"",""]
[null,null,{"$f":"IFERROR(VLOOKUP(B730,#REF!,2,FALSE),\"\")","v":""},{"$f":"IFERROR(VLOOKUP(B730,#REF!,3,FALSE),\"\")","v":""},null,null,null,"",null,null,"",null,"",{"$f":"IFERROR(VLOOKUP(B730,#REF!,9,FALSE),\"\")","v":""},null,null,null,"",""]
[null,null,{"$f":"IFERROR(VLOOKUP(B731,#REF!,2,FALSE),\"\")","v":""},{"$f":"IFERROR(VLOOKUP(B731,#REF!,3,FALSE),\"\")","v":""},null,null,null,"",null,null,"",null,"",{"$f":"IFERROR(VLOOKUP(B731,#REF!,9,FALSE),\"\")","v":""},null,null,null,"",""]
[null,null,{"$f":"IFERROR(VLOOKUP(B732,#REF!,2,FALSE),\"\")","v":""},{"$f":"IFERROR(VLOOKUP(B732,#REF!,3,FALSE),\"\")","v":""},null,null,null,"",null,null,"",null,"",{"$f":"IFERROR(VLOOKUP(B732,#REF!,9,FALSE),\"\")","v":""},null,null,null,"",""]
[null,null,{"$f":"IFERROR(VLOOKUP(B733,#REF!,2,FALSE),\"\")","v":""},{"$f":"IFERROR(VLOOKUP(B733,#REF!,3,FALSE),\"\")","v":""},null,null,null,"",null,null,"",null,"",{"$f":"IFERROR(VLOOKUP(B733,#REF!,9,FALSE),\"\")","v":""},null,null,null,"",""]
[null,null,{"$f":"IFERROR(VLOOKUP(B734,#REF!,2,FALSE),\"\")","v":""},{"$f":"IFERROR(VLOOKUP(B734,#REF!,3,FALSE),\"\")","v":""},null,null,null,"",null,null,"",null,"",{"$f":"IFERROR(VLOOKUP(B734,#REF!,9,FALSE),\"\")","v":""},null,null,null,"",""]
[null,null,{"$f":"IFERROR(VLOOKUP(B735,#REF!,2,FALSE),\"\")","v":""},{"$f":"IFERROR(VLOOKUP(B735,#REF!,3,FALSE),\"\")","v":""},null,null,null,"",null,null,"",null,"",{"$f":"IFERROR(VLOOKUP(B735,#REF!,9,FALSE),\"\")","v":""},null,null,null,"",""]
[null,null,{"$f":"IFERROR(VLOOKUP(B736,#REF!,2,FALSE),\"\")","v":""},{"$f":"IFERROR(VLOOKUP(B736,#REF!,3,FALSE),\"\")","v":""},null,null,null,"",null,null,"",null,"",{"$f":"IFERROR(VLOOKUP(B736,#REF!,9,FALSE),\"\")","v":""},null,null,null,"",""]
[null,null,{"$f":"IFERROR(VLOOKUP(B737,#REF!,2,FALSE),\"\")","v":""},{"$f":"IFERROR(VLOOKUP(B737,#REF!,3,FALSE),\"\")","v":""},null,null,null,"",null,null,"",null,"",{"$f":"IFERROR(VLOOKUP(B737,#REF!,9,FALSE),\"\")","v":""},null,null,null,"",""]
[null,null,{"$f":"IFERROR(VLOOKUP(B738,#REF!,2,FALSE),\"\")","v":""},{"$f":"IFERROR(VLOOKUP(B738,#REF!,3,FALSE),\"\")","v":""},null,null,null,"",null,null,"",null,"",{"$f":"IFERROR(VLOOKUP(B738,#REF!,9,FALSE),\"\")","v":""},null,null,null,"",""]
[null,null,{"$f":"IFERROR(VLOOKUP(B739,#REF!,2,FALSE),\"\")","v":""},{"$f":"IFERROR(VLOOKUP(B739,#REF!,3,FALSE),\"\")","v":""},null,null,null,"",null,null,"",null,"",{"$f":"IFERROR(VLOOKUP(B739,#REF!,9,FALSE),\"\")","v":""},null,null,null,"",""]
[null,null,{"$f":"IFERROR(VLOOKUP(B740,#REF!,2,FALSE),\"\")","v":""},{"$f":"IFERROR(VLOOKUP(B740,#REF!,3,FALSE),\"\")","v":""},null,null,null,"",null,null,"",null,"",{"$f":"IFERROR(VLOOKUP(B740,#REF!,9,FALSE),\"\")","v":""},null,null,null,"",""]
[null,null,{"$f":"IFERROR(VLOOKUP(B741,#REF!,2,FALSE),\"\")","v":""},{"$f":"IFERROR(VLOOKUP(B741,#REF!,3,FALSE),\"\")","v":""},null,null,null,"",null,null,"",null,"",{"$f":"IFERROR(VLOOKUP(B741,#REF!,9,FALSE),\"\")","v":""},null,null,null,"",""]
[null,null,{"$f":"IFERROR(VLOOKUP(B742,#REF!,2,FALSE),\"\")","v":""},{"$f":"IFERROR(VLOOKUP(B742,#REF!,3,FALSE),\"\")","v":""},null,null,null,"",null,null,"",null,"",{"$f":"IFERROR(VLOOKUP(B742,#REF!,9,FALSE),\"\")","v":""},null,null,null,"",""]
[null,null,{"$f":"IFERROR(VLOOKUP(B743,#REF!,2,FALSE),\"\")","v":""},{"$f":"IFERROR(VLOOKUP(B743,#REF!,3,FALSE),\"\")","v":""},null,null,null,"",null,null,"",null,"",{"$f":"IFERROR(VLOOKUP(B743,#REF!,9,FALSE),\"\")","v":""},null,null,null,"",""]
[null,null,{"$f":"IFERROR(VLOOKUP(B744,#REF!,2,FALSE),\"\")","v":""},{"$f":"IFERROR(VLOOKUP(B744,#REF!,3,FALSE),\"\")","v":""},null,null,null,"",null,null,"",null,"",{"$f":"IFERROR(VLOOKUP(B744,#REF!,9,FALSE),\"\")","v":""},null,null,null,"",""]
[null,null,{"$f":"IFERROR(VLOOKUP(B745,#REF!,2,FALSE),\"\")","v":""},{"$f":"IFERROR(VLOOKUP(B745,#REF!,3,FALSE),\"\")","v":""},null,null,null,"",null,null,"",null,"",{"$f":"IFERROR(VLOOKUP(B745,#REF!,9,FALSE),\"\")","v":""},null,null,null,"",""]
[null,null,{"$f":"IFERROR(VLOOKUP(B746,#REF!,2,FALSE),\"\")","v":""},{"$f":"IFERROR(VLOOKUP(B746,#REF!,3,FALSE),\"\")","v":""},null,null,null,"",null,null,"",null,"",{"$f":"IFERROR(VLOOKUP(B746,#REF!,9,FALSE),\"\")","v":""},null,null,null,"",""]
[null,null,{"$f":"IFERROR(VLOOKUP(B747,#REF!,2,FALSE),\"\")","v":""},{"$f":"IFERROR(VLOOKUP(B747,#REF!,3,FALSE),\"\")","v":""},null,null,null,"",null,null,"",null,"",{"$f":"IFERROR(VLOOKUP(B747,#REF!,9,FALSE),\"\")","v":""},null,null,null,"",""]
[null,null,{"$f":"IFERROR(VLOOKUP(B748,#REF!,2,FALSE),\"\")","v":""},{"$f":"IFERROR(VLOOKUP(B748,#REF!,3,FALSE),\"\")","v":""},null,null,null,"",null,null,"",null,"",{"$f":"IFERROR(VLOOKUP(B748,#REF!,9,FALSE),\"\")","v":""},null,null,null,"",""]
[null,null,{"$f":"IFERROR(VLOOKUP(B749,#REF!,2,FALSE),\"\")","v":""},{"$f":"IFERROR(VLOOKUP(B749,#REF!,3,FALSE),\"\")","v":""},null,null,null,"",null,null,"",null,"",{"$f":"IFERROR(VLOOKUP(B749,#REF!,9,FALSE),\"\")","v":""},null,null,null,"",""]
[null,null,{"$f":"IFERROR(VLOOKUP(B750,#REF!,2,FALSE),\"\")","v":""},{"$f":"IFERROR(VLOOKUP(B750,#REF!,3,FALSE),\"\")","v":""},null,null,null,"",null,null,"",null,"",{"$f":"IFERROR(VLOOKUP(B750,#REF!,9,FALSE),\"\")","v":""},null,null,null,"",""]
[null,null,{"$f":"IFERROR(VLOOKUP(B751,#REF!,2,FALSE),\"\")","v":""},{"$f":"IFERROR(VLOOKUP(B751,#REF!,3,FALSE),\"\")","v":""},null,null,null,"",null,null,"",null,{"$f":"IFERROR(IF((K751-L751)<=0,\"0\",(K751-L751)),\"\")","v":""},{"$f":"IFERROR(VLOOKUP(B751,#REF!,9,FALSE),\"\")","v":""},null,null,null,"",""]
[null,null,{"$f":"IFERROR(VLOOKUP(B752,#REF!,2,FALSE),\"\")","v":""},{"$f":"IFERROR(VLOOKUP(B752,#REF!,3,FALSE),\"\")","v":""},null,null,null,"",null,null,"",null,"",{"$f":"IFERROR(VLOOKUP(B752,#REF!,9,FALSE),\"\")","v":""},null,null,null,"",""]
[null,null,{"$f":"IFERROR(VLOOKUP(B753,#REF!,2,FALSE),\"\")","v":""},{"$f":"IFERROR(VLOOKUP(B753,#REF!,3,FALSE),\"\")","v":""},null,null,null,"",null,null,"",null,"",{"$f":"IFERROR(VLOOKUP(B753,#REF!,9,FALSE),\"\")","v":""},null,null,null,"",""]
[null,null,{"$f":"IFERROR(VLOOKUP(B754,#REF!,2,FALSE),\"\")","v":""},{"$f":"IFERROR(VLOOKUP(B754,#REF!,3,FALSE),\"\")","v":""},null,null,null,"",null,null,"",null,"",{"$f":"IFERROR(VLOOKUP(B754,#REF!,9,FALSE),\"\")","v":""},null,null,null,"",""]
[null,null,{"$f":"IFERROR(VLOOKUP(B755,#REF!,2,FALSE),\"\")","v":""},{"$f":"IFERROR(VLOOKUP(B755,#REF!,3,FALSE),\"\")","v":""},null,null,null,"",null,null,"",null,"",{"$f":"IFERROR(VLOOKUP(B755,#REF!,9,FALSE),\"\")","v":""},null,null,null,"",""]
[null,null,{"$f":"IFERROR(VLOOKUP(B756,#REF!,2,FALSE),\"\")","v":""},{"$f":"IFERROR(VLOOKUP(B756,#REF!,3,FALSE),\"\")","v":""},null,null,null,"",null,null,"",null,"",{"$f":"IFERROR(VLOOKUP(B756,#REF!,9,FALSE),\"\")","v":""},null,null,null,"",""]
[null,null,{"$f":"IFERROR(VLOOKUP(B757,#REF!,2,FALSE),\"\")","v":""},{"$f":"IFERROR(VLOOKUP(B757,#REF!,3,FALSE),\"\")","v":""},null,null,null,"",null,null,"",null,"",{"$f":"IFERROR(VLOOKUP(B757,#REF!,9,FALSE),\"\")","v":""},null,null,null,"",""]
[null,null,{"$f":"IFERROR(VLOOKUP(B758,#REF!,2,FALSE),\"\")","v":""},{"$f":"IFERROR(VLOOKUP(B758,#REF!,3,FALSE),\"\")","v":""},null,null,null,"",null,null,"",null,"",{"$f":"IFERROR(VLOOKUP(B758,#REF!,9,FALSE),\"\")","v":""},null,null,null,"",""]
[null,null,{"$f":"IFERROR(VLOOKUP(B759,#REF!,2,FALSE),\"\")","v":""},{"$f":"IFERROR(VLOOKUP(B759,#REF!,3,FALSE),\"\")","v":""},null,null,null,"",null,null,"",null,"",{"$f":"IFERROR(VLOOKUP(B759,#REF!,9,FALSE),\"\")","v":""},null,null,null,"",""]
[null,null,{"$f":"IFERROR(VLOOKUP(B760,#REF!,2,FALSE),\"\")","v":""},{"$f":"IFERROR(VLOOKUP(B760,#REF!,3,FALSE),\"\")","v":""},null,null,null,"",null,null,"",null,"",{"$f":"IFERROR(VLOOKUP(B760,#REF!,9,FALSE),\"\")","v":""},null,null,null,"",""]
[null,null,{"$f":"IFERROR(VLOOKUP(B761,#REF!,2,FALSE),\"\")","v":""},{"$f":"IFERROR(VLOOKUP(B761,#REF!,3,FALSE),\"\")","v":""},null,null,null,"",null,null,"",null,"",{"$f":"IFERROR(VLOOKUP(B761,#REF!,9,FALSE),\"\")","v":""},null,null,null,"",""]
[null,null,{"$f":"IFERROR(VLOOKUP(B762,#REF!,2,FALSE),\"\")","v":""},{"$f":"IFERROR(VLOOKUP(B762,#REF!,3,FALSE),\"\")","v":""},null,null,null,"",null,null,"",null,"",{"$f":"IFERROR(VLOOKUP(B762,#REF!,9,FALSE),\"\")","v":""},null,null,null,"",""]
[null,null,{"$f":"IFERROR(VLOOKUP(B763,#REF!,2,FALSE),\"\")","v":""},{"$f":"IFERROR(VLOOKUP(B763,#REF!,3,FALSE),\"\")","v":""},null,null,null,"",null,null,"",null,"",{"$f":"IFERROR(VLOOKUP(B763,#REF!,9,FALSE),\"\")","v":""},null,null,null,"",""]
[null,null,{"$f":"IFERROR(VLOOKUP(B764,#REF!,2,FALSE),\"\")","v":""},{"$f":"IFERROR(VLOOKUP(B764,#REF!,3,FALSE),\"\")","v":""},null,null,null,"",null,null,"",null,"",{"$f":"IFERROR(VLOOKUP(B764,#REF!,9,FALSE),\"\")","v":""},null,null,null,"",""]
[null,null,{"$f":"IFERROR(VLOOKUP(B765,#REF!,2,FALSE),\"\")","v":""},{"$f":"IFERROR(VLOOKUP(B765,#REF!,3,FALSE),\"\")","v":""},null,null,null,"",null,null,"",null,"",{"$f":"IFERROR(VLOOKUP(B765,#REF!,9,FALSE),\"\")","v":""},null,null,null,"",""]
[null,null,{"$f":"IFERROR(VLOOKUP(B766,#REF!,2,FALSE),\"\")","v":""},{"$f":"IFERROR(VLOOKUP(B766,#REF!,3,FALSE),\"\")","v":""},null,null,null,"",null,null,"",null,"",{"$f":"IFERROR(VLOOKUP(B766,#REF!,9,FALSE),\"\")","v":""},null,null,null,"",""]
[null,null,{"$f":"IFERROR(VLOOKUP(B767,#REF!,2,FALSE),\"\")","v":""},{"$f":"IFERROR(VLOOKUP(B767,#REF!,3,FALSE),\"\")","v":""},null,null,null,"",null,null,"",null,"",{"$f":"IFERROR(VLOOKUP(B767,#REF!,9,FALSE),\"\")","v":""},null,null,null,"",""]
[null,null,{"$f":"IFERROR(VLOOKUP(B768,#REF!,2,FALSE),\"\")","v":""},{"$f":"IFERROR(VLOOKUP(B768,#REF!,3,FALSE),\"\")","v":""},null,null,null,"",null,null,"",null,"",{"$f":"IFERROR(VLOOKUP(B768,#REF!,9,FALSE),\"\")","v":""},null,null,null,"",""]
[null,null,{"$f":"IFERROR(VLOOKUP(B769,#REF!,2,FALSE),\"\")","v":""},{"$f":"IFERROR(VLOOKUP(B769,#REF!,3,FALSE),\"\")","v":""},null,null,null,"",null,null,"",null,"",{"$f":"IFERROR(VLOOKUP(B769,#REF!,9,FALSE),\"\")","v":""},null,null,null,"",""]
[null,null,{"$f":"IFERROR(VLOOKUP(B770,#REF!,2,FALSE),\"\")","v":""},{"$f":"IFERROR(VLOOKUP(B770,#REF!,3,FALSE),\"\")","v":""},null,null,null,"",null,null,"",null,"",{"$f":"IFERROR(VLOOKUP(B770,#REF!,9,FALSE),\"\")","v":""},null,null,null,"",""]
[null,null,{"$f":"IFERROR(VLOOKUP(B771,#REF!,2,FALSE),\"\")","v":""},{"$f":"IFERROR(VLOOKUP(B771,#REF!,3,FALSE),\"\")","v":""},null,null,null,"",null,null,"",null,"",{"$f":"IFERROR(VLOOKUP(B771,#REF!,9,FALSE),\"\")","v":""},null,null,null,"",""]
[null,null,{"$f":"IFERROR(VLOOKUP(B772,#REF!,2,FALSE),\"\")","v":""},{"$f":"IFERROR(VLOOKUP(B772,#REF!,3,FALSE),\"\")","v":""},null,null,null,"",null,null,"",null,"",{"$f":"IFERROR(VLOOKUP(B772,#REF!,9,FALSE),\"\")","v":""},null,null,null,"",{"$f":"IF( N772 <> \"\", IF(AND(E772<\"100%\", M772>0, O772>N772), \"Miss\", \"Hit\"), \"\")","v":""}]
[null,null,{"$f":"IFERROR(VLOOKUP(B773,#REF!,2,FALSE),\"\")","v":""},{"$f":"IFERROR(VLOOKUP(B773,#REF!,3,FALSE),\"\")","v":""},null,null,null,"",null,null,"",null,"",{"$f":"IFERROR(VLOOKUP(B773,#REF!,9,FALSE),\"\")","v":""},null,null,null,"",""]
[null,null,{"$f":"IFERROR(VLOOKUP(B774,#REF!,2,FALSE),\"\")","v":""},{"$f":"IFERROR(VLOOKUP(B774,#REF!,3,FALSE),\"\")","v":""},null,null,null,"",null,null,"",null,"",{"$f":"IFERROR(VLOOKUP(B774,#REF!,9,FALSE),\"\")","v":""},null,null,null,"",""]
[null,null,{"$f":"IFERROR(VLOOKUP(B775,#REF!,2,FALSE),\"\")","v":""},{"$f":"IFERROR(VLOOKUP(B775,#REF!,3,FALSE),\"\")","v":""},null,null,null,"",null,null,"",null,"",{"$f":"IFERROR(VLOOKUP(B775,#REF!,9,FALSE),\"\")","v":""},null,null,null,"",""]
[null,null,{"$f":"IFERROR(VLOOKUP(B776,#REF!,2,FALSE),\"\")","v":""},{"$f":"IFERROR(VLOOKUP(B776,#REF!,3,FALSE),\"\")","v":""},null,null,null,"",null,null,"",null,"",{"$f":"IFERROR(VLOOKUP(B776,#REF!,9,FALSE),\"\")","v":""},null,null,null,"",""]
[null,null,{"$f":"IFERROR(VLOOKUP(B777,#REF!,2,FALSE),\"\")","v":""},{"$f":"IFERROR(VLOOKUP(B777,#REF!,3,FALSE),\"\")","v":""},null,null,null,"",null,null,"",null,"",{"$f":"IFERROR(VLOOKUP(B777,#REF!,9,FALSE),\"\")","v":""},null,null,null,"",""]
[null,null,{"$f":"IFERROR(VLOOKUP(B778,#REF!,2,FALSE),\"\")","v":""},{"$f":"IFERROR(VLOOKUP(B778,#REF!,3,FALSE),\"\")","v":""},null,null,null,"",null,null,"",null,"",{"$f":"IFERROR(VLOOKUP(B778,#REF!,9,FALSE),\"\")","v":""},null,null,null,"",""]
[null,null,{"$f":"IFERROR(VLOOKUP(B779,#REF!,2,FALSE),\"\")","v":""},{"$f":"IFERROR(VLOOKUP(B779,#REF!,3,FALSE),\"\")","v":""},null,null,null,"",null,null,"",null,"",{"$f":"IFERROR(VLOOKUP(B779,#REF!,9,FALSE),\"\")","v":""},null,null,null,"",""]
[null,null,{"$f":"IFERROR(VLOOKUP(B780,#REF!,2,FALSE),\"\")","v":""},{"$f":"IFERROR(VLOOKUP(B780,#REF!,3,FALSE),\"\")","v":""},null,null,null,"",null,null,"",null,"",{"$f":"IFERROR(VLOOKUP(B780,#REF!,9,FALSE),\"\")","v":""},null,null,null,"",""]
[null,null,{"$f":"IFERROR(VLOOKUP(B781,#REF!,2,FALSE),\"\")","v":""},{"$f":"IFERROR(VLOOKUP(B781,#REF!,3,FALSE),\"\")","v":""},null,null,null,"",null,null,"",null,"",{"$f":"IFERROR(VLOOKUP(B781,#REF!,9,FALSE),\"\")","v":""},null,null,null,"",""]
[null,null,{"$f":"IFERROR(VLOOKUP(B782,#REF!,2,FALSE),\"\")","v":""},{"$f":"IFERROR(VLOOKUP(B782,#REF!,3,FALSE),\"\")","v":""},null,null,null,"",null,null,"",null,"",{"$f":"IFERROR(VLOOKUP(B782,#REF!,9,FALSE),\"\")","v":""},null,null,null,"",""]
[null,null,{"$f":"IFERROR(VLOOKUP(B783,#REF!,2,FALSE),\"\")","v":""},{"$f":"IFERROR(VLOOKUP(B783,#REF!,3,FALSE),\"\")","v":""},null,null,null,"",null,null,"",null,"",{"$f":"IFERROR(VLOOKUP(B783,#REF!,9,FALSE),\"\")","v":""},null,null,null,"",""]
[null,null,{"$f":"IFERROR(VLOOKUP(B784,#REF!,2,FALSE),\"\")","v":""},{"$f":"IFERROR(VLOOKUP(B784,#REF!,3,FALSE),\"\")","v":""},null,null,null,"",null,null,"",null,"",{"$f":"IFERROR(VLOOKUP(B784,#REF!,9,FALSE),\"\")","v":""},null,null,null,"",""]
[null,null,{"$f":"IFERROR(VLOOKUP(B785,#REF!,2,FALSE),\"\")","v":""},{"$f":"IFERROR(VLOOKUP(B785,#REF!,3,FALSE),\"\")","v":""},null,null,null,"",null,null,"",null,"",{"$f":"IFERROR(VLOOKUP(B785,#REF!,9,FALSE),\"\")","v":""},null,null,null,"",""]
[null,null,{"$f":"IFERROR(VLOOKUP(B786,#REF!,2,FALSE),\"\")","v":""},{"$f":"IFERROR(VLOOKUP(B786,#REF!,3,FALSE),\"\")","v":""},null,null,null,"",null,null,"",null,"",{"$f":"IFERROR(VLOOKUP(B786,#REF!,9,FALSE),\"\")","v":""},null,null,null,"",""]
[null,null,{"$f":"IFERROR(VLOOKUP(B787,#REF!,2,FALSE),\"\")","v":""},{"$f":"IFERROR(VLOOKUP(B787,#REF!,3,FALSE),\"\")","v":""},null,null,null,"",null,null,"",null,"",{"$f":"IFERROR(VLOOKUP(B787,#REF!,9,FALSE),\"\")","v":""},null,null,null,{"$f":"IF(P787=\"\",\"\",IFERROR(P787-Q787,\"\"))","v":""},""]
[null,null,{"$f":"IFERROR(VLOOKUP(B788,#REF!,2,FALSE),\"\")","v":""},{"$f":"IFERROR(VLOOKUP(B788,#REF!,3,FALSE),\"\")","v":""},null,null,null,"",null,null,"",null,"",{"$f":"IFERROR(VLOOKUP(B788,#REF!,9,FALSE),\"\")","v":""},null,null,null,"",""]
[null,null,{"$f":"IFERROR(VLOOKUP(B789,#REF!,2,FALSE),\"\")","v":""},{"$f":"IFERROR(VLOOKUP(B789,#REF!,3,FALSE),\"\")","v":""},null,null,null,{"$f":"IF((G789-F789)<=0,\"\",(G789-F789))","v":""},null,null,{"$f":"IF((J789-I789)<=0,\"\",(J789-I789))","v":""},null,"",{"$f":"IFERROR(VLOOKUP(B789,#REF!,9,FALSE),\"\")","v":""},null,null,null,"",""]
[null,null,{"$f":"IFERROR(VLOOKUP(B790,#REF!,2,FALSE),\"\")","v":""},{"$f":"IFERROR(VLOOKUP(B790,#REF!,3,FALSE),\"\")","v":""},null,null,null,"",null,null,"",null,"",{"$f":"IFERROR(VLOOKUP(B790,#REF!,9,FALSE),\"\")","v":""},null,null,null,"",""]
[null,null,{"$f":"IFERROR(VLOOKUP(B791,#REF!,2,FALSE),\"\")","v":""},{"$f":"IFERROR(VLOOKUP(B791,#REF!,3,FALSE),\"\")","v":""},null,null,null,"",null,null,"",null,"",{"$f":"IFERROR(VLOOKUP(B791,#REF!,9,FALSE),\"\")","v":""},null,null,null,"",""]
[null,null,{"$f":"IFERROR(VLOOKUP(B792,#REF!,2,FALSE),\"\")","v":""},{"$f":"IFERROR(VLOOKUP(B792,#REF!,3,FALSE),\"\")","v":""},null,null,null,"",null,null,"",null,"",{"$f":"IFERROR(VLOOKUP(B792,#REF!,9,FALSE),\"\")","v":""},null,null,null,"",""]
[null,null,{"$f":"IFERROR(VLOOKUP(B793,#REF!,2,FALSE),\"\")","v":""},{"$f":"IFERROR(VLOOKUP(B793,#REF!,3,FALSE),\"\")","v":""},null,null,null,"",null,null,"",null,"",{"$f":"IFERROR(VLOOKUP(B793,#REF!,9,FALSE),\"\")","v":""},null,null,null,"",""]
[null,null,{"$f":"IFERROR(VLOOKUP(B794,#REF!,2,FALSE),\"\")","v":""},{"$f":"IFERROR(VLOOKUP(B794,#REF!,3,FALSE),\"\")","v":""},null,null,null,"",null,null,"",null,"",{"$f":"IFERROR(VLOOKUP(B794,#REF!,9,FALSE),\"\")","v":""},null,null,null,"",""]
[null,null,{"$f":"IFERROR(VLOOKUP(B795,#REF!,2,FALSE),\"\")","v":""},{"$f":"IFERROR(VLOOKUP(B795,#REF!,3,FALSE),\"\")","v":""},null,null,null,"",null,null,"",null,"",{"$f":"IFERROR(VLOOKUP(B795,#REF!,9,FALSE),\"\")","v":""},null,null,null,"",""]
[null,null,{"$f":"IFERROR(VLOOKUP(B796,#REF!,2,FALSE),\"\")","v":""},{"$f":"IFERROR(VLOOKUP(B796,#REF!,3,FALSE),\"\")","v":""},null,null,null,"",null,null,"",null,"",{"$f":"IFERROR(VLOOKUP(B796,#REF!,9,FALSE),\"\")","v":""},null,null,null,"",""]
[null,null,{"$f":"IFERROR(VLOOKUP(B797,#REF!,2,FALSE),\"\")","v":""},{"$f":"IFERROR(VLOOKUP(B797,#REF!,3,FALSE),\"\")","v":""},null,null,null,"",null,null,"",null,"",{"$f":"IFERROR(VLOOKUP(B797,#REF!,9,FALSE),\"\")","v":""},null,null,null,"",""]
[null,null,{"$f":"IFERROR(VLOOKUP(B798,#REF!,2,FALSE),\"\")","v":""},{"$f":"IFERROR(VLOOKUP(B798,#REF!,3,FALSE),\"\")","v":""},null,null,null,"",null,null,"",null,"",{"$f":"IFERROR(VLOOKUP(B798,#REF!,9,FALSE),\"\")","v":""},null,null,null,"",""]
[null,null,{"$f":"IFERROR(VLOOKUP(B799,#REF!,2,FALSE),\"\")","v":""},{"$f":"IFERROR(VLOOKUP(B799,#REF!,3,FALSE),\"\")","v":""},null,null,null,"",null,null,"",null,"",{"$f":"IFERROR(VLOOKUP(B799,#REF!,9,FALSE),\"\")","v":""},null,null,null,"",""]
[null,null,{"$f":"IFERROR(VLOOKUP(B800,#REF!,2,FALSE),\"\")","v":""},{"$f":"IFERROR(VLOOKUP(B800,#REF!,3,FALSE),\"\")","v":""},null,null,null,"",null,null,"",null,"",{"$f":"IFERROR(VLOOKUP(B800,#REF!,9,FALSE),\"\")","v":""},null,null,null,"",""]
[null,null,{"$f":"IFERROR(VLOOKUP(B801,#REF!,2,FALSE),\"\")","v":""},{"$f":"IFERROR(VLOOKUP(B801,#REF!,3,FALSE),\"\")","v":""},null,null,null,"",null,null,"",null,"",{"$f":"IFERROR(VLOOKUP(B801,#REF!,9,FALSE),\"\")","v":""},null,null,null,"",""]
[null,null,{"$f":"IFERROR(VLOOKUP(B802,#REF!,2,FALSE),\"\")","v":""},{"$f":"IFERROR(VLOOKUP(B802,#REF!,3,FALSE),\"\")","v":""},null,null,null,"",null,null,"",null,"",{"$f":"IFERROR(VLOOKUP(B802,#REF!,9,FALSE),\"\")","v":""},null,null,null,"",""]
[null,null,{"$f":"IFERROR(VLOOKUP(B803,#REF!,2,FALSE),\"\")","v":""},{"$f":"IFERROR(VLOOKUP(B803,#REF!,3,FALSE),\"\")","v":""},null,null,null,"",null,null,"",null,"",{"$f":"IFERROR(VLOOKUP(B803,#REF!,9,FALSE),\"\")","v":""},null,null,null,"",""]
[null,null,{"$f":"IFERROR(VLOOKUP(B804,#REF!,2,FALSE),\"\")","v":""},{"$f":"IFERROR(VLOOKUP(B804,#REF!,3,FALSE),\"\")","v":""},null,null,null,"",null,null,"",null,"",{"$f":"IFERROR(VLOOKUP(B804,#REF!,9,FALSE),\"\")","v":""},null,null,null,"",""]
[null,null,{"$f":"IFERROR(VLOOKUP(B805,#REF!,2,FALSE),\"\")","v":""},{"$f":"IFERROR(VLOOKUP(B805,#REF!,3,FALSE),\"\")","v":""},null,null,null,"",null,null,"",null,"",{"$f":"IFERROR(VLOOKUP(B805,#REF!,9,FALSE),\"\")","v":""},null,null,null,"",""]
[null,null,{"$f":"IFERROR(VLOOKUP(B806,#REF!,2,FALSE),\"\")","v":""},{"$f":"IFERROR(VLOOKUP(B806,#REF!,3,FALSE),\"\")","v":""},null,null,null,"",null,null,"",null,"",{"$f":"IFERROR(VLOOKUP(B806,#REF!,9,FALSE),\"\")","v":""},null,null,null,"",""]
[null,null,{"$f":"IFERROR(VLOOKUP(B807,#REF!,2,FALSE),\"\")","v":""},{"$f":"IFERROR(VLOOKUP(B807,#REF!,3,FALSE),\"\")","v":""},null,null,null,"",null,null,"",null,"",{"$f":"IFERROR(VLOOKUP(B807,#REF!,9,FALSE),\"\")","v":""},null,null,null,"",""]
[null,null,{"$f":"IFERROR(VLOOKUP(B808,#REF!,2,FALSE),\"\")","v":""},{"$f":"IFERROR(VLOOKUP(B808,#REF!,3,FALSE),\"\")","v":""},null,null,null,"",null,null,"",null,"",{"$f":"IFERROR(VLOOKUP(B808,#REF!,9,FALSE),\"\")","v":""},null,null,null,"",""]
[null,null,{"$f":"IFERROR(VLOOKUP(B809,#REF!,2,FALSE),\"\")","v":""},{"$f":"IFERROR(VLOOKUP(B809,#REF!,3,FALSE),\"\")","v":""},null,null,null,"",null,null,"",null,"",{"$f":"IFERROR(VLOOKUP(B809,#REF!,9,FALSE),\"\")","v":""},null,null,null,"",""]
[null,null,{"$f":"IFERROR(VLOOKUP(B810,#REF!,2,FALSE),\"\")","v":""},{"$f":"IFERROR(VLOOKUP(B810,#REF!,3,FALSE),\"\")","v":""},null,null,null,"",null,null,"",null,"",{"$f":"IFERROR(VLOOKUP(B810,#REF!,9,FALSE),\"\")","v":""},null,null,null,"",""]
[null,null,{"$f":"IFERROR(VLOOKUP(B811,#REF!,2,FALSE),\"\")","v":""},{"$f":"IFERROR(VLOOKUP(B811,#REF!,3,FALSE),\"\")","v":""},null,null,null,"",null,null,"",null,"",{"$f":"IFERROR(VLOOKUP(B811,#REF!,9,FALSE),\"\")","v":""},null,null,null,"",""]
[null,null,{"$f":"IFERROR(VLOOKUP(B812,#REF!,2,FALSE),\"\")","v":""},{"$f":"IFERROR(VLOOKUP(B812,#REF!,3,FALSE),\"\")","v":""},null,null,null,"",null,null,"",null,"",{"$f":"IFERROR(VLOOKUP(B812,#REF!,9,FALSE),\"\")","v":""},null,null,null,"",""]
[null,null,{"$f":"IFERROR(VLOOKUP(B813,#REF!,2,FALSE),\"\")","v":""},{"$f":"IFERROR(VLOOKUP(B813,#REF!,3,FALSE),\"\")","v":""},null,null,null,"",null,null,"",null,"",{"$f":"IFERROR(VLOOKUP(B813,#REF!,9,FALSE),\"\")","v":""},null,null,null,"",""]
[null,null,{"$f":"IFERROR(VLOOKUP(B814,#REF!,2,FALSE),\"\")","v":""},{"$f":"IFERROR(VLOOKUP(B814,#REF!,3,FALSE),\"\")","v":""},null,null,null,"",null,null,"",null,"",{"$f":"IFERROR(VLOOKUP(B814,#REF!,9,FALSE),\"\")","v":""},null,null,null,"",""]
[null,null,{"$f":"IFERROR(VLOOKUP(B815,#REF!,2,FALSE),\"\")","v":""},{"$f":"IFERROR(VLOOKUP(B815,#REF!,3,FALSE),\"\")","v":""},null,null,null,"",null,null,"",null,{"$f":"IFERROR(IF((K815-L815)<=0,\"0\",(K815-L815)),\"\")","v":""},{"$f":"IFERROR(VLOOKUP(B815,#REF!,9,FALSE),\"\")","v":""},null,null,null,"",""]
[null,null,{"$f":"IFERROR(VLOOKUP(B816,#REF!,2,FALSE),\"\")","v":""},{"$f":"IFERROR(VLOOKUP(B816,#REF!,3,FALSE),\"\")","v":""},null,null,null,"",null,null,"",null,"",{"$f":"IFERROR(VLOOKUP(B816,#REF!,9,FALSE),\"\")","v":""},null,null,null,"",""]
[null,null,{"$f":"IFERROR(VLOOKUP(B817,#REF!,2,FALSE),\"\")","v":""},{"$f":"IFERROR(VLOOKUP(B817,#REF!,3,FALSE),\"\")","v":""},null,null,null,"",null,null,"",null,"",{"$f":"IFERROR(VLOOKUP(B817,#REF!,9,FALSE),\"\")","v":""},null,null,null,"",""]
[null,null,{"$f":"IFERROR(VLOOKUP(B818,#REF!,2,FALSE),\"\")","v":""},{"$f":"IFERROR(VLOOKUP(B818,#REF!,3,FALSE),\"\")","v":""},null,null,null,"",null,null,"",null,"",{"$f":"IFERROR(VLOOKUP(B818,#REF!,9,FALSE),\"\")","v":""},null,null,null,"",""]
[null,null,{"$f":"IFERROR(VLOOKUP(B819,#REF!,2,FALSE),\"\")","v":""},{"$f":"IFERROR(VLOOKUP(B819,#REF!,3,FALSE),\"\")","v":""},null,null,null,"",null,null,"",null,"",{"$f":"IFERROR(VLOOKUP(B819,#REF!,9,FALSE),\"\")","v":""},null,null,null,"",""]
[null,null,{"$f":"IFERROR(VLOOKUP(B820,#REF!,2,FALSE),\"\")","v":""},{"$f":"IFERROR(VLOOKUP(B820,#REF!,3,FALSE),\"\")","v":""},null,null,null,"",null,null,"",null,"",{"$f":"IFERROR(VLOOKUP(B820,#REF!,9,FALSE),\"\")","v":""},null,null,null,"",""]
[null,null,{"$f":"IFERROR(VLOOKUP(B821,#REF!,2,FALSE),\"\")","v":""},{"$f":"IFERROR(VLOOKUP(B821,#REF!,3,FALSE),\"\")","v":""},null,null,null,"",null,null,"",null,"",{"$f":"IFERROR(VLOOKUP(B821,#REF!,9,FALSE),\"\")","v":""},null,null,null,"",""]
[null,null,{"$f":"IFERROR(VLOOKUP(B822,#REF!,2,FALSE),\"\")","v":""},{"$f":"IFERROR(VLOOKUP(B822,#REF!,3,FALSE),\"\")","v":""},null,null,null,"",null,null,"",null,"",{"$f":"IFERROR(VLOOKUP(B822,#REF!,9,FALSE),\"\")","v":""},null,null,null,"",""]
[null,null,{"$f":"IFERROR(VLOOKUP(B823,#REF!,2,FALSE),\"\")","v":""},{"$f":"IFERROR(VLOOKUP(B823,#REF!,3,FALSE),\"\")","v":""},null,null,null,"",null,null,"",null,"",{"$f":"IFERROR(VLOOKUP(B823,#REF!,9,FALSE),\"\")","v":""},null,null,null,"",""]
[null,null,{"$f":"IFERROR(VLOOKUP(B824,#REF!,2,FALSE),\"\")","v":""},{"$f":"IFERROR(VLOOKUP(B824,#REF!,3,FALSE),\"\")","v":""},null,null,null,"",null,null,"",null,"",{"$f":"IFERROR(VLOOKUP(B824,#REF!,9,FALSE),\"\")","v":""},null,null,null,"",""]
[null,null,{"$f":"IFERROR(VLOOKUP(B825,#REF!,2,FALSE),\"\")","v":""},{"$f":"IFERROR(VLOOKUP(B825,#REF!,3,FALSE),\"\")","v":""},null,null,null,"",null,null,"",null,"",{"$f":"IFERROR(VLOOKUP(B825,#REF!,9,FALSE),\"\")","v":""},null,null,null,"",""]
[null,null,{"$f":"IFERROR(VLOOKUP(B826,#REF!,2,FALSE),\"\")","v":""},{"$f":"IFERROR(VLOOKUP(B826,#REF!,3,FALSE),\"\")","v":""},null,null,null,"",null,null,"",null,"",{"$f":"IFERROR(VLOOKUP(B826,#REF!,9,FALSE),\"\")","v":""},null,null,null,"",""]
[null,null,{"$f":"IFERROR(VLOOKUP(B827,#REF!,2,FALSE),\"\")","v":""},{"$f":"IFERROR(VLOOKUP(B827,#REF!,3,FALSE),\"\")","v":""},null,null,null,"",null,null,"",null,"",{"$f":"IFERROR(VLOOKUP(B827,#REF!,9,FALSE),\"\")","v":""},null,null,null,"",""]
[null,null,{"$f":"IFERROR(VLOOKUP(B828,#REF!,2,FALSE),\"\")","v":""},{"$f":"IFERROR(VLOOKUP(B828,#REF!,3,FALSE),\"\")","v":""},null,null,null,"",null,null,"",null,"",{"$f":"IFERROR(VLOOKUP(B828,#REF!,9,FALSE),\"\")","v":""},null,null,null,"",""]
[null,null,{"$f":"IFERROR(VLOOKUP(B829,#REF!,2,FALSE),\"\")","v":""},{"$f":"IFERROR(VLOOKUP(B829,#REF!,3,FALSE),\"\")","v":""},null,null,null,"",null,null,"",null,"",{"$f":"IFERROR(VLOOKUP(B829,#REF!,9,FALSE),\"\")","v":""},null,null,null,"",""]
[null,null,{"$f":"IFERROR(VLOOKUP(B830,#REF!,2,FALSE),\"\")","v":""},{"$f":"IFERROR(VLOOKUP(B830,#REF!,3,FALSE),\"\")","v":""},null,null,null,"",null,null,"",null,"",{"$f":"IFERROR(VLOOKUP(B830,#REF!,9,FALSE),\"\")","v":""},null,null,null,"",""]
[null,null,{"$f":"IFERROR(VLOOKUP(B831,#REF!,2,FALSE),\"\")","v":""},{"$f":"IFERROR(VLOOKUP(B831,#REF!,3,FALSE),\"\")","v":""},null,null,null,"",null,null,"",null,"",{"$f":"IFERROR(VLOOKUP(B831,#REF!,9,FALSE),\"\")","v":""},null,null,null,"",""]
[null,null,{"$f":"IFERROR(VLOOKUP(B832,#REF!,2,FALSE),\"\")","v":""},{"$f":"IFERROR(VLOOKUP(B832,#REF!,3,FALSE),\"\")","v":""},null,null,null,"",null,null,"",null,"",{"$f":"IFERROR(VLOOKUP(B832,#REF!,9,FALSE),\"\")","v":""},null,null,null,"",""]
[null,null,{"$f":"IFERROR(VLOOKUP(B833,#REF!,2,FALSE),\"\")","v":""},{"$f":"IFERROR(VLOOKUP(B833,#REF!,3,FALSE),\"\")","v":""},null,null,null,"",null,null,"",null,"",{"$f":"IFERROR(VLOOKUP(B833,#REF!,9,FALSE),\"\")","v":""},null,null,null,"",""]
[null,null,{"$f":"IFERROR(VLOOKUP(B834,#REF!,2,FALSE),\"\")","v":""},{"$f":"IFERROR(VLOOKUP(B834,#REF!,3,FALSE),\"\")","v":""},null,null,null,"",null,null,"",null,"",{"$f":"IFERROR(VLOOKUP(B834,#REF!,9,FALSE),\"\")","v":""},null,null,null,"",""]
[null,null,{"$f":"IFERROR(VLOOKUP(B835,#REF!,2,FALSE),\"\")","v":""},{"$f":"IFERROR(VLOOKUP(B835,#REF!,3,FALSE),\"\")","v":""},null,null,null,"",null,null,"",null,"",{"$f":"IFERROR(VLOOKUP(B835,#REF!,9,FALSE),\"\")","v":""},null,null,null,"",""]
[null,null,{"$f":"IFERROR(VLOOKUP(B836,#REF!,2,FALSE),\"\")","v":""},{"$f":"IFERROR(VLOOKUP(B836,#REF!,3,FALSE),\"\")","v":""},null,null,null,"",null,null,"",null,"",{"$f":"IFERROR(VLOOKUP(B836,#REF!,9,FALSE),\"\")","v":""},null,null,null,"",{"$f":"IF( N836 <> \"\", IF(AND(E836<\"100%\", M836>0, O836>N836), \"Miss\", \"Hit\"), \"\")","v":""}]
[null,null,{"$f":"IFERROR(VLOOKUP(B837,#REF!,2,FALSE),\"\")","v":""},{"$f":"IFERROR(VLOOKUP(B837,#REF!,3,FALSE),\"\")","v":""},null,null,null,"",null,null,"",null,"",{"$f":"IFERROR(VLOOKUP(B837,#REF!,9,FALSE),\"\")","v":""},null,null,null,"",""]
[null,null,{"$f":"IFERROR(VLOOKUP(B838,#REF!,2,FALSE),\"\")","v":""},{"$f":"IFERROR(VLOOKUP(B838,#REF!,3,FALSE),\"\")","v":""},null,null,null,"",null,null,"",null,"",{"$f":"IFERROR(VLOOKUP(B838,#REF!,9,FALSE),\"\")","v":""},null,null,null,"",""]
[null,null,{"$f":"IFERROR(VLOOKUP(B839,#REF!,2,FALSE),\"\")","v":""},{"$f":"IFERROR(VLOOKUP(B839,#REF!,3,FALSE),\"\")","v":""},null,null,null,"",null,null,"",null,"",{"$f":"IFERROR(VLOOKUP(B839,#REF!,9,FALSE),\"\")","v":""},null,null,null,"",""]
[null,null,{"$f":"IFERROR(VLOOKUP(B840,#REF!,2,FALSE),\"\")","v":""},{"$f":"IFERROR(VLOOKUP(B840,#REF!,3,FALSE),\"\")","v":""},null,null,null,"",null,null,"",null,"",{"$f":"IFERROR(VLOOKUP(B840,#REF!,9,FALSE),\"\")","v":""},null,null,null,"",""]
[null,null,{"$f":"IFERROR(VLOOKUP(B841,#REF!,2,FALSE),\"\")","v":""},{"$f":"IFERROR(VLOOKUP(B841,#REF!,3,FALSE),\"\")","v":""},null,null,null,"",null,null,"",null,"",{"$f":"IFERROR(VLOOKUP(B841,#REF!,9,FALSE),\"\")","v":""},null,null,null,"",""]
[null,null,{"$f":"IFERROR(VLOOKUP(B842,#REF!,2,FALSE),\"\")","v":""},{"$f":"IFERROR(VLOOKUP(B842,#REF!,3,FALSE),\"\")","v":""},null,null,null,"",null,null,"",null,"",{"$f":"IFERROR(VLOOKUP(B842,#REF!,9,FALSE),\"\")","v":""},null,null,null,"",""]
[null,null,{"$f":"IFERROR(VLOOKUP(B843,#REF!,2,FALSE),\"\")","v":""},{"$f":"IFERROR(VLOOKUP(B843,#REF!,3,FALSE),\"\")","v":""},null,null,null,"",null,null,"",null,"",{"$f":"IFERROR(VLOOKUP(B843,#REF!,9,FALSE),\"\")","v":""},null,null,null,"",""]
[null,null,{"$f":"IFERROR(VLOOKUP(B844,#REF!,2,FALSE),\"\")","v":""},{"$f":"IFERROR(VLOOKUP(B844,#REF!,3,FALSE),\"\")","v":""},null,null,null,"",null,null,"",null,"",{"$f":"IFERROR(VLOOKUP(B844,#REF!,9,FALSE),\"\")","v":""},null,null,null,"",""]
[null,null,{"$f":"IFERROR(VLOOKUP(B845,#REF!,2,FALSE),\"\")","v":""},{"$f":"IFERROR(VLOOKUP(B845,#REF!,3,FALSE),\"\")","v":""},null,null,null,"",null,null,"",null,"",{"$f":"IFERROR(VLOOKUP(B845,#REF!,9,FALSE),\"\")","v":""},null,null,null,"",""]
[null,null,{"$f":"IFERROR(VLOOKUP(B846,#REF!,2,FALSE),\"\")","v":""},{"$f":"IFERROR(VLOOKUP(B846,#REF!,3,FALSE),\"\")","v":""},null,null,null,"",null,null,"",null,"",{"$f":"IFERROR(VLOOKUP(B846,#REF!,9,FALSE),\"\")","v":""},null,null,null,"",""]
[null,null,{"$f":"IFERROR(VLOOKUP(B847,#REF!,2,FALSE),\"\")","v":""},{"$f":"IFERROR(VLOOKUP(B847,#REF!,3,FALSE),\"\")","v":""},null,null,null,"",null,null,"",null,"",{"$f":"IFERROR(VLOOKUP(B847,#REF!,9,FALSE),\"\")","v":""},null,null,null,"",""]
[null,null,{"$f":"IFERROR(VLOOKUP(B848,#REF!,2,FALSE),\"\")","v":""},{"$f":"IFERROR(VLOOKUP(B848,#REF!,3,FALSE),\"\")","v":""},null,null,null,"",null,null,"",null,"",{"$f":"IFERROR(VLOOKUP(B848,#REF!,9,FALSE),\"\")","v":""},null,null,null,"",""]
[null,null,{"$f":"IFERROR(VLOOKUP(B849,#REF!,2,FALSE),\"\")","v":""},{"$f":"IFERROR(VLOOKUP(B849,#REF!,3,FALSE),\"\")","v":""},null,null,null,"",null,null,"",null,"",{"$f":"IFERROR(VLOOKUP(B849,#REF!,9,FALSE),\"\")","v":""},null,null,null,"",""]
[null,null,{"$f":"IFERROR(VLOOKUP(B850,#REF!,2,FALSE),\"\")","v":""},{"$f":"IFERROR(VLOOKUP(B850,#REF!,3,FALSE),\"\")","v":""},null,null,null,"",null,null,"",null,"",{"$f":"IFERROR(VLOOKUP(B850,#REF!,9,FALSE),\"\")","v":""},null,null,null,"",""]
[null,null,{"$f":"IFERROR(VLOOKUP(B851,#REF!,2,FALSE),\"\")","v":""},{"$f":"IFERROR(VLOOKUP(B851,#REF!,3,FALSE),\"\")","v":""},null,null,null,"",null,null,"",null,"",{"$f":"IFERROR(VLOOKUP(B851,#REF!,9,FALSE),\"\")","v":""},null,null,null,{"$f":"IF(P851=\"\",\"\",IFERROR(P851-Q851,\"\"))","v":""},""]
[null,null,{"$f":"IFERROR(VLOOKUP(B852,#REF!,2,FALSE),\"\")","v":""},{"$f":"IFERROR(VLOOKUP(B852,#REF!,3,FALSE),\"\")","v":""},null,null,null,"",null,null,"",null,"",{"$f":"IFERROR(VLOOKUP(B852,#REF!,9,FALSE),\"\")","v":""},null,null,null,"",""]
[null,null,{"$f":"IFERROR(VLOOKUP(B853,#REF!,2,FALSE),\"\")","v":""},{"$f":"IFERROR(VLOOKUP(B853,#REF!,3,FALSE),\"\")","v":""},null,null,null,{"$f":"IF((G853-F853)<=0,\"\",(G853-F853))","v":""},null,null,{"$f":"IF((J853-I853)<=0,\"\",(J853-I853))","v":""},null,"",{"$f":"IFERROR(VLOOKUP(B853,#REF!,9,FALSE),\"\")","v":""},null,null,null,"",""]
[null,null,{"$f":"IFERROR(VLOOKUP(B854,#REF!,2,FALSE),\"\")","v":""},{"$f":"IFERROR(VLOOKUP(B854,#REF!,3,FALSE),\"\")","v":""},null,null,null,"",null,null,"",null,"",{"$f":"IFERROR(VLOOKUP(B854,#REF!,9,FALSE),\"\")","v":""},null,null,null,"",""]
[null,null,{"$f":"IFERROR(VLOOKUP(B855,#REF!,2,FALSE),\"\")","v":""},{"$f":"IFERROR(VLOOKUP(B855,#REF!,3,FALSE),\"\")","v":""},null,null,null,"",null,null,"",null,"",{"$f":"IFERROR(VLOOKUP(B855,#REF!,9,FALSE),\"\")","v":""},null,null,null,"",""]
[null,null,{"$f":"IFERROR(VLOOKUP(B856,#REF!,2,FALSE),\"\")","v":""},{"$f":"IFERROR(VLOOKUP(B856,#REF!,3,FALSE),\"\")","v":""},null,null,null,"",null,null,"",null,"",{"$f":"IFERROR(VLOOKUP(B856,#REF!,9,FALSE),\"\")","v":""},null,null,null,"",""]
[null,null,{"$f":"IFERROR(VLOOKUP(B857,#REF!,2,FALSE),\"\")","v":""},{"$f":"IFERROR(VLOOKUP(B857,#REF!,3,FALSE),\"\")","v":""},null,null,null,"",null,null,"",null,"",{"$f":"IFERROR(VLOOKUP(B857,#REF!,9,FALSE),\"\")","v":""},null,null,null,"",""]
[null,null,{"$f":"IFERROR(VLOOKUP(B858,#REF!,2,FALSE),\"\")","v":""},{"$f":"IFERROR(VLOOKUP(B858,#REF!,3,FALSE),\"\")","v":""},null,null,null,"",null,null,"",null,"",{"$f":"IFERROR(VLOOKUP(B858,#REF!,9,FALSE),\"\")","v":""},null,null,null,"",""]
[null,null,{"$f":"IFERROR(VLOOKUP(B859,#REF!,2,FALSE),\"\")","v":""},{"$f":"IFERROR(VLOOKUP(B859,#REF!,3,FALSE),\"\")","v":""},null,null,null,"",null,null,"",null,"",{"$f":"IFERROR(VLOOKUP(B859,#REF!,9,FALSE),\"\")","v":""},null,null,null,"",""]
[null,null,{"$f":"IFERROR(VLOOKUP(B860,#REF!,2,FALSE),\"\")","v":""},{"$f":"IFERROR(VLOOKUP(B860,#REF!,3,FALSE),\"\")","v":""},null,null,null,"",null,null,"",null,"",{"$f":"IFERROR(VLOOKUP(B860,#REF!,9,FALSE),\"\")","v":""},null,null,null,"",""]
[null,null,{"$f":"IFERROR(VLOOKUP(B861,#REF!,2,FALSE),\"\")","v":""},{"$f":"IFERROR(VLOOKUP(B861,#REF!,3,FALSE),\"\")","v":""},null,null,null,"",null,null,"",null,"",{"$f":"IFERROR(VLOOKUP(B861,#REF!,9,FALSE),\"\")","v":""},null,null,null,"",""]
[null,null,{"$f":"IFERROR(VLOOKUP(B862,#REF!,2,FALSE),\"\")","v":""},{"$f":"IFERROR(VLOOKUP(B862,#REF!,3,FALSE),\"\")","v":""},null,null,null,"",null,null,"",null,"",{"$f":"IFERROR(VLOOKUP(B862,#REF!,9,FALSE),\"\")","v":""},null,null,null,"",""]
[null,null,{"$f":"IFERROR(VLOOKUP(B863,#REF!,2,FALSE),\"\")","v":""},{"$f":"IFERROR(VLOOKUP(B863,#REF!,3,FALSE),\"\")","v":""},null,null,null,"",null,null,"",null,"",{"$f":"IFERROR(VLOOKUP(B863,#REF!,9,FALSE),\"\")","v":""},null,null,null,"",""]
[null,null,{"$f":"IFERROR(VLOOKUP(B864,#REF!,2,FALSE),\"\")","v":""},{"$f":"IFERROR(VLOOKUP(B864,#REF!,3,FALSE),\"\")","v":""},null,null,null,"",null,null,"",null,"",{"$f":"IFERROR(VLOOKUP(B864,#REF!,9,FALSE),\"\")","v":""},null,null,null,"",""]
[null,null,{"$f":"IFERROR(VLOOKUP(B865,#REF!,2,FALSE),\"\")","v":""},{"$f":"IFERROR(VLOOKUP(B865,#REF!,3,FALSE),\"\")","v":""},null,null,null,"",null,null,"",null,"",{"$f":"IFERROR(VLOOKUP(B865,#REF!,9,FALSE),\"\")","v":""},null,null,null,"",""]
[null,null,{"$f":"IFERROR(VLOOKUP(B866,#REF!,2,FALSE),\"\")","v":""},{"$f":"IFERROR(VLOOKUP(B866,#REF!,3,FALSE),\"\")","v":""},null,null,null,"",null,null,"",null,"",{"$f":"IFERROR(VLOOKUP(B866,#REF!,9,FALSE),\"\")","v":""},null,null,null,"",""]
[null,null,{"$f":"IFERROR(VLOOKUP(B867,#REF!,2,FALSE),\"\")","v":""},{"$f":"IFERROR(VLOOKUP(B867,#REF!,3,FALSE),\"\")","v":""},null,null,null,"",null,null,"",null,"",{"$f":"IFERROR(VLOOKUP(B867,#REF!,9,FALSE),\"\")","v":""},null,null,null,"",""]
[null,null,{"$f":"IFERROR(VLOOKUP(B868,#REF!,2,FALSE),\"\")","v":""},{"$f":"IFERROR(VLOOKUP(B868,#REF!,3,FALSE),\"\")","v":""},null,null,null,"",null,null,"",null,"",{"$f":"IFERROR(VLOOKUP(B868,#REF!,9,FALSE),\"\")","v":""},null,null,null,"",""]
[null,null,{"$f":"IFERROR(VLOOKUP(B869,#REF!,2,FALSE),\"\")","v":""},{"$f":"IFERROR(VLOOKUP(B869,#REF!,3,FALSE),\"\")","v":""},null,null,null,"",null,null,"",null,"",{"$f":"IFERROR(VLOOKUP(B869,#REF!,9,FALSE),\"\")","v":""},null,null,null,"",""]
[null,null,{"$f":"IFERROR(VLOOKUP(B870,#REF!,2,FALSE),\"\")","v":""},{"$f":"IFERROR(VLOOKUP(B870,#REF!,3,FALSE),\"\")","v":""},null,null,null,"",null,null,"",null,"",{"$f":"IFERROR(VLOOKUP(B870,#REF!,9,FALSE),\"\")","v":""},null,null,null,"",""]
[null,null,{"$f":"IFERROR(VLOOKUP(B871,#REF!,2,FALSE),\"\")","v":""},{"$f":"IFERROR(VLOOKUP(B871,#REF!,3,FALSE),\"\")","v":""},null,null,null,"",null,null,"",null,"",{"$f":"IFERROR(VLOOKUP(B871,#REF!,9,FALSE),\"\")","v":""},null,null,null,"",""]
[null,null,{"$f":"IFERROR(VLOOKUP(B872,#REF!,2,FALSE),\"\")","v":""},{"$f":"IFERROR(VLOOKUP(B872,#REF!,3,FALSE),\"\")","v":""},null,null,null,"",null,null,"",null,"",{"$f":"IFERROR(VLOOKUP(B872,#REF!,9,FALSE),\"\")","v":""},null,null,null,"",""]
[null,null,{"$f":"IFERROR(VLOOKUP(B873,#REF!,2,FALSE),\"\")","v":""},{"$f":"IFERROR(VLOOKUP(B873,#REF!,3,FALSE),\"\")","v":""},null,null,null,"",null,null,"",null,"",{"$f":"IFERROR(VLOOKUP(B873,#REF!,9,FALSE),\"\")","v":""},null,null,null,"",""]
[null,null,{"$f":"IFERROR(VLOOKUP(B874,#REF!,2,FALSE),\"\")","v":""},{"$f":"IFERROR(VLOOKUP(B874,#REF!,3,FALSE),\"\")","v":""},null,null,null,"",null,null,"",null,"",{"$f":"IFERROR(VLOOKUP(B874,#REF!,9,FALSE),\"\")","v":""},null,null,null,"",""]
[null,null,{"$f":"IFERROR(VLOOKUP(B875,#REF!,2,FALSE),\"\")","v":""},{"$f":"IFERROR(VLOOKUP(B875,#REF!,3,FALSE),\"\")","v":""},null,null,null,"",null,null,"",null,"",{"$f":"IFERROR(VLOOKUP(B875,#REF!,9,FALSE),\"\")","v":""},null,null,null,"",""]
[null,null,{"$f":"IFERROR(VLOOKUP(B876,#REF!,2,FALSE),\"\")","v":""},{"$f":"IFERROR(VLOOKUP(B876,#REF!,3,FALSE),\"\")","v":""},null,null,null,"",null,null,"",null,"",{"$f":"IFERROR(VLOOKUP(B876,#REF!,9,FALSE),\"\")","v":""},null,null,null,"",""]
[null,null,{"$f":"IFERROR(VLOOKUP(B877,#REF!,2,FALSE),\"\")","v":""},{"$f":"IFERROR(VLOOKUP(B877,#REF!,3,FALSE),\"\")","v":""},null,null,null,"",null,null,"",null,"",{"$f":"IFERROR(VLOOKUP(B877,#REF!,9,FALSE),\"\")","v":""},null,null,null,"",""]
[null,null,{"$f":"IFERROR(VLOOKUP(B878,#REF!,2,FALSE),\"\")","v":""},{"$f":"IFERROR(VLOOKUP(B878,#REF!,3,FALSE),\"\")","v":""},null,null,null,"",null,null,"",null,"",{"$f":"IFERROR(VLOOKUP(B878,#REF!,9,FALSE),\"\")","v":""},null,null,null,"",""]
[null,null,{"$f":"IFERROR(VLOOKUP(B879,#REF!,2,FALSE),\"\")","v":""},{"$f":"IFERROR(VLOOKUP(B879,#REF!,3,FALSE),\"\")","v":""},null,null,null,"",null,null,"",null,{"$f":"IFERROR(IF((K879-L879)<=0,\"0\",(K879-L879)),\"\")","v":""},{"$f":"IFERROR(VLOOKUP(B879,#REF!,9,FALSE),\"\")","v":""},null,null,null,"",""]
[null,null,{"$f":"IFERROR(VLOOKUP(B880,#REF!,2,FALSE),\"\")","v":""},{"$f":"IFERROR(VLOOKUP(B880,#REF!,3,FALSE),\"\")","v":""},null,null,null,"",null,null,"",null,"",{"$f":"IFERROR(VLOOKUP(B880,#REF!,9,FALSE),\"\")","v":""},null,null,null,"",""]
[null,null,{"$f":"IFERROR(VLOOKUP(B881,#REF!,2,FALSE),\"\")","v":""},{"$f":"IFERROR(VLOOKUP(B881,#REF!,3,FALSE),\"\")","v":""},null,null,null,"",null,null,"",null,"",{"$f":"IFERROR(VLOOKUP(B881,#REF!,9,FALSE),\"\")","v":""},null,null,null,"",""]
[null,null,{"$f":"IFERROR(VLOOKUP(B882,#REF!,2,FALSE),\"\")","v":""},{"$f":"IFERROR(VLOOKUP(B882,#REF!,3,FALSE),\"\")","v":""},null,null,null,"",null,null,"",null,"",{"$f":"IFERROR(VLOOKUP(B882,#REF!,9,FALSE),\"\")","v":""},null,null,null,"",""]
[null,null,{"$f":"IFERROR(VLOOKUP(B883,#REF!,2,FALSE),\"\")","v":""},{"$f":"IFERROR(VLOOKUP(B883,#REF!,3,FALSE),\"\")","v":""},null,null,null,"",null,null,"",null,"",{"$f":"IFERROR(VLOOKUP(B883,#REF!,9,FALSE),\"\")","v":""},null,null,null,"",""]
[null,null,{"$f":"IFERROR(VLOOKUP(B884,#REF!,2,FALSE),\"\")","v":""},{"$f":"IFERROR(VLOOKUP(B884,#REF!,3,FALSE),\"\")","v":""},null,null,null,"",null,null,"",null,"",{"$f":"IFERROR(VLOOKUP(B884,#REF!,9,FALSE),\"\")","v":""},null,null,null,"",""]
[null,null,{"$f":"IFERROR(VLOOKUP(B885,#REF!,2,FALSE),\"\")","v":""},{"$f":"IFERROR(VLOOKUP(B885,#REF!,3,FALSE),\"\")","v":""},null,null,null,"",null,null,"",null,"",{"$f":"IFERROR(VLOOKUP(B885,#REF!,9,FALSE),\"\")","v":""},null,null,null,"",""]
[null,null,{"$f":"IFERROR(VLOOKUP(B886,#REF!,2,FALSE),\"\")","v":""},{"$f":"IFERROR(VLOOKUP(B886,#REF!,3,FALSE),\"\")","v":""},null,null,null,"",null,null,"",null,"",{"$f":"IFERROR(VLOOKUP(B886,#REF!,9,FALSE),\"\")","v":""},null,null,null,"",""]
[null,null,{"$f":"IFERROR(VLOOKUP(B887,#REF!,2,FALSE),\"\")","v":""},{"$f":"IFERROR(VLOOKUP(B887,#REF!,3,FALSE),\"\")","v":""},null,null,null,"",null,null,"",null,"",{"$f":"IFERROR(VLOOKUP(B887,#REF!,9,FALSE),\"\")","v":""},null,null,null,"",""]
[null,null,{"$f":"IFERROR(VLOOKUP(B888,#REF!,2,FALSE),\"\")","v":""},{"$f":"IFERROR(VLOOKUP(B888,#REF!,3,FALSE),\"\")","v":""},null,null,null,"",null,null,"",null,"",{"$f":"IFERROR(VLOOKUP(B888,#REF!,9,FALSE),\"\")","v":""},null,null,null,"",""]
[null,null,{"$f":"IFERROR(VLOOKUP(B889,#REF!,2,FALSE),\"\")","v":""},{"$f":"IFERROR(VLOOKUP(B889,#REF!,3,FALSE),\"\")","v":""},null,null,null,"",null,null,"",null,"",{"$f":"IFERROR(VLOOKUP(B889,#REF!,9,FALSE),\"\")","v":""},null,null,null,"",""]
[null,null,{"$f":"IFERROR(VLOOKUP(B890,#REF!,2,FALSE),\"\")","v":""},{"$f":"IFERROR(VLOOKUP(B890,#REF!,3,FALSE),\"\")","v":""},null,null,null,"",null,null,"",null,"",{"$f":"IFERROR(VLOOKUP(B890,#REF!,9,FALSE),\"\")","v":""},null,null,null,"",""]
[null,null,{"$f":"IFERROR(VLOOKUP(B891,#REF!,2,FALSE),\"\")","v":""},{"$f":"IFERROR(VLOOKUP(B891,#REF!,3,FALSE),\"\")","v":""},null,null,null,"",null,null,"",null,"",{"$f":"IFERROR(VLOOKUP(B891,#REF!,9,FALSE),\"\")","v":""},null,null,null,"",""]
[null,null,{"$f":"IFERROR(VLOOKUP(B892,#REF!,2,FALSE),\"\")","v":""},{"$f":"IFERROR(VLOOKUP(B892,#REF!,3,FALSE),\"\")","v":""},null,null,null,"",null,null,"",null,"",{"$f":"IFERROR(VLOOKUP(B892,#REF!,9,FALSE),\"\")","v":""},null,null,null,"",""]
[null,null,{"$f":"IFERROR(VLOOKUP(B893,#REF!,2,FALSE),\"\")","v":""},{"$f":"IFERROR(VLOOKUP(B893,#REF!,3,FALSE),\"\")","v":""},null,null,null,"",null,null,"",null,"",{"$f":"IFERROR(VLOOKUP(B893,#REF!,9,FALSE),\"\")","v":""},null,null,null,"",""]
[null,null,{"$f":"IFERROR(VLOOKUP(B894,#REF!,2,FALSE),\"\")","v":""},{"$f":"IFERROR(VLOOKUP(B894,#REF!,3,FALSE),\"\")","v":""},null,null,null,"",null,null,"",null,"",{"$f":"IFERROR(VLOOKUP(B894,#REF!,9,FALSE),\"\")","v":""},null,null,null,"",""]
[null,null,{"$f":"IFERROR(VLOOKUP(B895,#REF!,2,FALSE),\"\")","v":""},{"$f":"IFERROR(VLOOKUP(B895,#REF!,3,FALSE),\"\")","v":""},null,null,null,"",null,null,"",null,"",{"$f":"IFERROR(VLOOKUP(B895,#REF!,9,FALSE),\"\")","v":""},null,null,null,"",""]
[null,null,{"$f":"IFERROR(VLOOKUP(B896,#REF!,2,FALSE),\"\")","v":""},{"$f":"IFERROR(VLOOKUP(B896,#REF!,3,FALSE),\"\")","v":""},null,null,null,"",null,null,"",null,"",{"$f":"IFERROR(VLOOKUP(B896,#REF!,9,FALSE),\"\")","v":""},null,null,null,"",""]
[null,null,{"$f":"IFERROR(VLOOKUP(B897,#REF!,2,FALSE),\"\")","v":""},{"$f":"IFERROR(VLOOKUP(B897,#REF!,3,FALSE),\"\")","v":""},null,null,null,"",null,null,"",null,"",{"$f":"IFERROR(VLOOKUP(B897,#REF!,9,FALSE),\"\")","v":""},null,null,null,"",""]
[null,null,{"$f":"IFERROR(VLOOKUP(B898,#REF!,2,FALSE),\"\")","v":""},{"$f":"IFERROR(VLOOKUP(B898,#REF!,3,FALSE),\"\")","v":""},null,null,null,"",null,null,"",null,"",{"$f":"IFERROR(VLOOKUP(B898,#REF!,9,FALSE),\"\")","v":""},null,null,null,"",""]
[null,null,{"$f":"IFERROR(VLOOKUP(B899,#REF!,2,FALSE),\"\")","v":""},{"$f":"IFERROR(VLOOKUP(B899,#REF!,3,FALSE),\"\")","v":""},null,null,null,"",null,null,"",null,"",{"$f":"IFERROR(VLOOKUP(B899,#REF!,9,FALSE),\"\")","v":""},null,null,null,"",""]
[null,null,{"$f":"IFERROR(VLOOKUP(B900,#REF!,2,FALSE),\"\")","v":""},{"$f":"IFERROR(VLOOKUP(B900,#REF!,3,FALSE),\"\")","v":""},null,null,null,"",null,null,"",null,"",{"$f":"IFERROR(VLOOKUP(B900,#REF!,9,FALSE),\"\")","v":""},null,null,null,"",{"$f":"IF( N900 <> \"\", IF(AND(E900<\"100%\", M900>0, O900>N900), \"Miss\", \"Hit\"), \"\")","v":""}]
[null,null,{"$f":"IFERROR(VLOOKUP(B901,#REF!,2,FALSE),\"\")","v":""},{"$f":"IFERROR(VLOOKUP(B901,#REF!,3,FALSE),\"\")","v":""},null,null,null,"",null,null,"",null,"",{"$f":"IFERROR(VLOOKUP(B901,#REF!,9,FALSE),\"\")","v":""},null,null,null,"",""]
[null,null,{"$f":"IFERROR(VLOOKUP(B902,#REF!,2,FALSE),\"\")","v":""},{"$f":"IFERROR(VLOOKUP(B902,#REF!,3,FALSE),\"\")","v":""},null,null,null,"",null,null,"",null,"",{"$f":"IFERROR(VLOOKUP(B902,#REF!,9,FALSE),\"\")","v":""},null,null,null,"",""]
[null,null,{"$f":"IFERROR(VLOOKUP(B903,#REF!,2,FALSE),\"\")","v":""},{"$f":"IFERROR(VLOOKUP(B903,#REF!,3,FALSE),\"\")","v":""},null,null,null,"",null,null,"",null,"",{"$f":"IFERROR(VLOOKUP(B903,#REF!,9,FALSE),\"\")","v":""},null,null,null,"",""]
[null,null,{"$f":"IFERROR(VLOOKUP(B904,#REF!,2,FALSE),\"\")","v":""},{"$f":"IFERROR(VLOOKUP(B904,#REF!,3,FALSE),\"\")","v":""},null,null,null,"",null,null,"",null,"",{"$f":"IFERROR(VLOOKUP(B904,#REF!,9,FALSE),\"\")","v":""},null,null,null,"",""]
[null,null,{"$f":"IFERROR(VLOOKUP(B905,#REF!,2,FALSE),\"\")","v":""},{"$f":"IFERROR(VLOOKUP(B905,#REF!,3,FALSE),\"\")","v":""},null,null,null,"",null,null,"",null,"",{"$f":"IFERROR(VLOOKUP(B905,#REF!,9,FALSE),\"\")","v":""},null,null,null,"",""]
[null,null,{"$f":"IFERROR(VLOOKUP(B906,#REF!,2,FALSE),\"\")","v":""},{"$f":"IFERROR(VLOOKUP(B906,#REF!,3,FALSE),\"\")","v":""},null,null,null,"",null,null,"",null,"",{"$f":"IFERROR(VLOOKUP(B906,#REF!,9,FALSE),\"\")","v":""},null,null,null,"",""]
[null,null,{"$f":"IFERROR(VLOOKUP(B907,#REF!,2,FALSE),\"\")","v":""},{"$f":"IFERROR(VLOOKUP(B907,#REF!,3,FALSE),\"\")","v":""},null,null,null,"",null,null,"",null,"",{"$f":"IFERROR(VLOOKUP(B907,#REF!,9,FALSE),\"\")","v":""},null,null,null,"",""]
[null,null,{"$f":"IFERROR(VLOOKUP(B908,#REF!,2,FALSE),\"\")","v":""},{"$f":"IFERROR(VLOOKUP(B908,#REF!,3,FALSE),\"\")","v":""},null,null,null,"",null,null,"",null,"",{"$f":"IFERROR(VLOOKUP(B908,#REF!,9,FALSE),\"\")","v":""},null,null,null,"",""]
[null,null,{"$f":"IFERROR(VLOOKUP(B909,#REF!,2,FALSE),\"\")","v":""},{"$f":"IFERROR(VLOOKUP(B909,#REF!,3,FALSE),\"\")","v":""},null,null,null,"",null,null,"",null,"",{"$f":"IFERROR(VLOOKUP(B909,#REF!,9,FALSE),\"\")","v":""},null,null,null,"",""]
[null,null,{"$f":"IFERROR(VLOOKUP(B910,#REF!,2,FALSE),\"\")","v":""},{"$f":"IFERROR(VLOOKUP(B910,#REF!,3,FALSE),\"\")","v":""},null,null,null,"",null,null,"",null,"",{"$f":"IFERROR(VLOOKUP(B910,#REF!,9,FALSE),\"\")","v":""},null,null,null,"",""]
[null,null,{"$f":"IFERROR(VLOOKUP(B911,#REF!,2,FALSE),\"\")","v":""},{"$f":"IFERROR(VLOOKUP(B911,#REF!,3,FALSE),\"\")","v":""},null,null,null,"",null,null,"",null,"",{"$f":"IFERROR(VLOOKUP(B911,#REF!,9,FALSE),\"\")","v":""},null,null,null,"",""]
[null,null,{"$f":"IFERROR(VLOOKUP(B912,#REF!,2,FALSE),\"\")","v":""},{"$f":"IFERROR(VLOOKUP(B912,#REF!,3,FALSE),\"\")","v":""},null,null,null,"",null,null,"",null,"",{"$f":"IFERROR(VLOOKUP(B912,#REF!,9,FALSE),\"\")","v":""},null,null,null,"",""]
[null,null,{"$f":"IFERROR(VLOOKUP(B913,#REF!,2,FALSE),\"\")","v":""},{"$f":"IFERROR(VLOOKUP(B913,#REF!,3,FALSE),\"\")","v":""},null,null,null,"",null,null,"",null,"",{"$f":"IFERROR(VLOOKUP(B913,#REF!,9,FALSE),\"\")","v":""},null,null,null,"",""]
[null,null,{"$f":"IFERROR(VLOOKUP(B914,#REF!,2,FALSE),\"\")","v":""},{"$f":"IFERROR(VLOOKUP(B914,#REF!,3,FALSE),\"\")","v":""},null,null,null,"",null,null,"",null,"",{"$f":"IFERROR(VLOOKUP(B914,#REF!,9,FALSE),\"\")","v":""},null,null,null,"",""]
[null,null,{"$f":"IFERROR(VLOOKUP(B915,#REF!,2,FALSE),\"\")","v":""},{"$f":"IFERROR(VLOOKUP(B915,#REF!,3,FALSE),\"\")","v":""},null,null,null,"",null,null,"",null,"",{"$f":"IFERROR(VLOOKUP(B915,#REF!,9,FALSE),\"\")","v":""},null,null,null,{"$f":"IF(P915=\"\",\"\",IFERROR(P915-Q915,\"\"))","v":""},""]
[null,null,{"$f":"IFERROR(VLOOKUP(B916,#REF!,2,FALSE),\"\")","v":""},{"$f":"IFERROR(VLOOKUP(B916,#REF!,3,FALSE),\"\")","v":""},null,null,null,"",null,null,"",null,"",{"$f":"IFERROR(VLOOKUP(B916,#REF!,9,FALSE),\"\")","v":""},null,null,null,"",""]
[null,null,{"$f":"IFERROR(VLOOKUP(B917,#REF!,2,FALSE),\"\")","v":""},{"$f":"IFERROR(VLOOKUP(B917,#REF!,3,FALSE),\"\")","v":""},null,null,null,{"$f":"IF((G917-F917)<=0,\"\",(G917-F917))","v":""},null,null,{"$f":"IF((J917-I917)<=0,\"\",(J917-I917))","v":""},null,"",{"$f":"IFERROR(VLOOKUP(B917,#REF!,9,FALSE),\"\")","v":""},null,null,null,"",""]
[null,null,{"$f":"IFERROR(VLOOKUP(B918,#REF!,2,FALSE),\"\")","v":""},{"$f":"IFERROR(VLOOKUP(B918,#REF!,3,FALSE),\"\")","v":""},null,null,null,"",null,null,"",null,"",{"$f":"IFERROR(VLOOKUP(B918,#REF!,9,FALSE),\"\")","v":""},null,null,null,"",""]
[null,null,{"$f":"IFERROR(VLOOKUP(B919,#REF!,2,FALSE),\"\")","v":""},{"$f":"IFERROR(VLOOKUP(B919,#REF!,3,FALSE),\"\")","v":""},null,null,null,"",null,null,"",null,"",{"$f":"IFERROR(VLOOKUP(B919,#REF!,9,FALSE),\"\")","v":""},null,null,null,"",""]
[null,null,{"$f":"IFERROR(VLOOKUP(B920,#REF!,2,FALSE),\"\")","v":""},{"$f":"IFERROR(VLOOKUP(B920,#REF!,3,FALSE),\"\")","v":""},null,null,null,"",null,null,"",null,"",{"$f":"IFERROR(VLOOKUP(B920,#REF!,9,FALSE),\"\")","v":""},null,null,null,"",""]
[null,null,{"$f":"IFERROR(VLOOKUP(B921,#REF!,2,FALSE),\"\")","v":""},{"$f":"IFERROR(VLOOKUP(B921,#REF!,3,FALSE),\"\")","v":""},null,null,null,"",null,null,"",null,"",{"$f":"IFERROR(VLOOKUP(B921,#REF!,9,FALSE),\"\")","v":""},null,null,null,"",""]
[null,null,{"$f":"IFERROR(VLOOKUP(B922,#REF!,2,FALSE),\"\")","v":""},{"$f":"IFERROR(VLOOKUP(B922,#REF!,3,FALSE),\"\")","v":""},null,null,null,"",null,null,"",null,"",{"$f":"IFERROR(VLOOKUP(B922,#REF!,9,FALSE),\"\")","v":""},null,null,null,"",""]
[null,null,{"$f":"IFERROR(VLOOKUP(B923,#REF!,2,FALSE),\"\")","v":""},{"$f":"IFERROR(VLOOKUP(B923,#REF!,3,FALSE),\"\")","v":""},null,null,null,"",null,null,"",null,"",{"$f":"IFERROR(VLOOKUP(B923,#REF!,9,FALSE),\"\")","v":""},null,null,null,"",""]
[null,null,{"$f":"IFERROR(VLOOKUP(B924,#REF!,2,FALSE),\"\")","v":""},{"$f":"IFERROR(VLOOKUP(B924,#REF!,3,FALSE),\"\")","v":""},null,null,null,"",null,null,"",null,"",{"$f":"IFERROR(VLOOKUP(B924,#REF!,9,FALSE),\"\")","v":""},null,null,null,"",""]
[null,null,{"$f":"IFERROR(VLOOKUP(B925,#REF!,2,FALSE),\"\")","v":""},{"$f":"IFERROR(VLOOKUP(B925,#REF!,3,FALSE),\"\")","v":""},null,null,null,"",null,null,"",null,"",{"$f":"IFERROR(VLOOKUP(B925,#REF!,9,FALSE),\"\")","v":""},null,null,null,"",""]
[null,null,{"$f":"IFERROR(VLOOKUP(B926,#REF!,2,FALSE),\"\")","v":""},{"$f":"IFERROR(VLOOKUP(B926,#REF!,3,FALSE),\"\")","v":""},null,null,null,"",null,null,"",null,"",{"$f":"IFERROR(VLOOKUP(B926,#REF!,9,FALSE),\"\")","v":""},null,null,null,"",""]
[null,null,{"$f":"IFERROR(VLOOKUP(B927,#REF!,2,FALSE),\"\")","v":""},{"$f":"IFERROR(VLOOKUP(B927,#REF!,3,FALSE),\"\")","v":""},null,null,null,"",null,null,"",null,"",{"$f":"IFERROR(VLOOKUP(B927,#REF!,9,FALSE),\"\")","v":""},null,null,null,"",""]
[null,null,{"$f":"IFERROR(VLOOKUP(B928,#REF!,2,FALSE),\"\")","v":""},{"$f":"IFERROR(VLOOKUP(B928,#REF!,3,FALSE),\"\")","v":""},null,null,null,"",null,null,"",null,"",{"$f":"IFERROR(VLOOKUP(B928,#REF!,9,FALSE),\"\")","v":""},null,null,null,"",""]
[null,null,{"$f":"IFERROR(VLOOKUP(B929,#REF!,2,FALSE),\"\")","v":""},{"$f":"IFERROR(VLOOKUP(B929,#REF!,3,FALSE),\"\")","v":""},null,null,null,"",null,null,"",null,"",{"$f":"IFERROR(VLOOKUP(B929,#REF!,9,FALSE),\"\")","v":""},null,null,null,"",""]
[null,null,{"$f":"IFERROR(VLOOKUP(B930,#REF!,2,FALSE),\"\")","v":""},{"$f":"IFERROR(VLOOKUP(B930,#REF!,3,FALSE),\"\")","v":""},null,null,null,"",null,null,"",null,"",{"$f":"IFERROR(VLOOKUP(B930,#REF!,9,FALSE),\"\")","v":""},null,null,null,"",""]
[null,null,{"$f":"IFERROR(VLOOKUP(B931,#REF!,2,FALSE),\"\")","v":""},{"$f":"IFERROR(VLOOKUP(B931,#REF!,3,FALSE),\"\")","v":""},null,null,null,"",null,null,"",null,"",{"$f":"IFERROR(VLOOKUP(B931,#REF!,9,FALSE),\"\")","v":""},null,null,null,"",""]
[null,null,{"$f":"IFERROR(VLOOKUP(B932,#REF!,2,FALSE),\"\")","v":""},{"$f":"IFERROR(VLOOKUP(B932,#REF!,3,FALSE),\"\")","v":""},null,null,null,"",null,null,"",null,"",{"$f":"IFERROR(VLOOKUP(B932,#REF!,9,FALSE),\"\")","v":""},null,null,null,"",""]
[null,null,{"$f":"IFERROR(VLOOKUP(B933,#REF!,2,FALSE),\"\")","v":""},{"$f":"IFERROR(VLOOKUP(B933,#REF!,3,FALSE),\"\")","v":""},null,null,null,"",null,null,"",null,"",{"$f":"IFERROR(VLOOKUP(B933,#REF!,9,FALSE),\"\")","v":""},null,null,null,"",""]
[null,null,{"$f":"IFERROR(VLOOKUP(B934,#REF!,2,FALSE),\"\")","v":""},{"$f":"IFERROR(VLOOKUP(B934,#REF!,3,FALSE),\"\")","v":""},null,null,null,"",null,null,"",null,"",{"$f":"IFERROR(VLOOKUP(B934,#REF!,9,FALSE),\"\")","v":""},null,null,null,"",""]
[null,null,{"$f":"IFERROR(VLOOKUP(B935,#REF!,2,FALSE),\"\")","v":""},{"$f":"IFERROR(VLOOKUP(B935,#REF!,3,FALSE),\"\")","v":""},null,null,null,"",null,null,"",null,"",{"$f":"IFERROR(VLOOKUP(B935,#REF!,9,FALSE),\"\")","v":""},null,null,null,"",""]
[null,null,{"$f":"IFERROR(VLOOKUP(B936,#REF!,2,FALSE),\"\")","v":""},{"$f":"IFERROR(VLOOKUP(B936,#REF!,3,FALSE),\"\")","v":""},null,null,null,"",null,null,"",null,"",{"$f":"IFERROR(VLOOKUP(B936,#REF!,9,FALSE),\"\")","v":""},null,null,null,"",""]
[null,null,{"$f":"IFERROR(VLOOKUP(B937,#REF!,2,FALSE),\"\")","v":""},{"$f":"IFERROR(VLOOKUP(B937,#REF!,3,FALSE),\"\")","v":""},null,null,null,"",null,null,"",null,"",{"$f":"IFERROR(VLOOKUP(B937,#REF!,9,FALSE),\"\")","v":""},null,null,null,"",""]
[null,null,{"$f":"IFERROR(VLOOKUP(B938,#REF!,2,FALSE),\"\")","v":""},{"$f":"IFERROR(VLOOKUP(B938,#REF!,3,FALSE),\"\")","v":""},null,null,null,"",null,null,"",null,"",{"$f":"IFERROR(VLOOKUP(B938,#REF!,9,FALSE),\"\")","v":""},null,null,null,"",""]
[null,null,{"$f":"IFERROR(VLOOKUP(B939,#REF!,2,FALSE),\"\")","v":""},{"$f":"IFERROR(VLOOKUP(B939,#REF!,3,FALSE),\"\")","v":""},null,null,null,"",null,null,"",null,"",{"$f":"IFERROR(VLOOKUP(B939,#REF!,9,FALSE),\"\")","v":""},null,null,null,"",""]
[null,null,{"$f":"IFERROR(VLOOKUP(B940,#REF!,2,FALSE),\"\")","v":""},{"$f":"IFERROR(VLOOKUP(B940,#REF!,3,FALSE),\"\")","v":""},null,null,null,"",null,null,"",null,"",{"$f":"IFERROR(VLOOKUP(B940,#REF!,9,FALSE),\"\")","v":""},null,null,null,"",""]
[null,null,{"$f":"IFERROR(VLOOKUP(B941,#REF!,2,FALSE),\"\")","v":""},{"$f":"IFERROR(VLOOKUP(B941,#REF!,3,FALSE),\"\")","v":""},null,null,null,"",null,null,"",null,"",{"$f":"IFERROR(VLOOKUP(B941,#REF!,9,FALSE),\"\")","v":""},null,null,null,"",""]
[null,null,{"$f":"IFERROR(VLOOKUP(B942,#REF!,2,FALSE),\"\")","v":""},{"$f":"IFERROR(VLOOKUP(B942,#REF!,3,FALSE),\"\")","v":""},null,null,null,"",null,null,"",null,"",{"$f":"IFERROR(VLOOKUP(B942,#REF!,9,FALSE),\"\")","v":""},null,null,null,"",""]
[null,null,{"$f":"IFERROR(VLOOKUP(B943,#REF!,2,FALSE),\"\")","v":""},{"$f":"IFERROR(VLOOKUP(B943,#REF!,3,FALSE),\"\")","v":""},null,null,null,"",null,null,"",null,{"$f":"IFERROR(IF((K943-L943)<=0,\"0\",(K943-L943)),\"\")","v":""},{"$f":"IFERROR(VLOOKUP(B943,#REF!,9,FALSE),\"\")","v":""},null,null,null,"",""]
[null,null,{"$f":"IFERROR(VLOOKUP(B944,#REF!,2,FALSE),\"\")","v":""},{"$f":"IFERROR(VLOOKUP(B944,#REF!,3,FALSE),\"\")","v":""},null,null,null,"",null,null,"",null,"",{"$f":"IFERROR(VLOOKUP(B944,#REF!,9,FALSE),\"\")","v":""},null,null,null,"",""]
[null,null,{"$f":"IFERROR(VLOOKUP(B945,#REF!,2,FALSE),\"\")","v":""},{"$f":"IFERROR(VLOOKUP(B945,#REF!,3,FALSE),\"\")","v":""},null,null,null,"",null,null,"",null,"",{"$f":"IFERROR(VLOOKUP(B945,#REF!,9,FALSE),\"\")","v":""},null,null,null,"",""]
[null,null,{"$f":"IFERROR(VLOOKUP(B946,#REF!,2,FALSE),\"\")","v":""},{"$f":"IFERROR(VLOOKUP(B946,#REF!,3,FALSE),\"\")","v":""},null,null,null,"",null,null,"",null,"",{"$f":"IFERROR(VLOOKUP(B946,#REF!,9,FALSE),\"\")","v":""},null,null,null,"",""]
[null,null,{"$f":"IFERROR(VLOOKUP(B947,#REF!,2,FALSE),\"\")","v":""},{"$f":"IFERROR(VLOOKUP(B947,#REF!,3,FALSE),\"\")","v":""},null,null,null,"",null,null,"",null,"",{"$f":"IFERROR(VLOOKUP(B947,#REF!,9,FALSE),\"\")","v":""},null,null,null,"",""]
[null,null,{"$f":"IFERROR(VLOOKUP(B948,#REF!,2,FALSE),\"\")","v":""},{"$f":"IFERROR(VLOOKUP(B948,#REF!,3,FALSE),\"\")","v":""},null,null,null,"",null,null,"",null,"",{"$f":"IFERROR(VLOOKUP(B948,#REF!,9,FALSE),\"\")","v":""},null,null,null,"",""]
[null,null,{"$f":"IFERROR(VLOOKUP(B949,#REF!,2,FALSE),\"\")","v":""},{"$f":"IFERROR(VLOOKUP(B949,#REF!,3,FALSE),\"\")","v":""},null,null,null,"",null,null,"",null,"",{"$f":"IFERROR(VLOOKUP(B949,#REF!,9,FALSE),\"\")","v":""},null,null,null,"",""]
[null,null,{"$f":"IFERROR(VLOOKUP(B950,#REF!,2,FALSE),\"\")","v":""},{"$f":"IFERROR(VLOOKUP(B950,#REF!,3,FALSE),\"\")","v":""},null,null,null,"",null,null,"",null,"",{"$f":"IFERROR(VLOOKUP(B950,#REF!,9,FALSE),\"\")","v":""},null,null,null,"",""]
[null,null,{"$f":"IFERROR(VLOOKUP(B951,#REF!,2,FALSE),\"\")","v":""},{"$f":"IFERROR(VLOOKUP(B951,#REF!,3,FALSE),\"\")","v":""},null,null,null,"",null,null,"",null,"",{"$f":"IFERROR(VLOOKUP(B951,#REF!,9,FALSE),\"\")","v":""},null,null,null,"",""]
[null,null,{"$f":"IFERROR(VLOOKUP(B952,#REF!,2,FALSE),\"\")","v":""},{"$f":"IFERROR(VLOOKUP(B952,#REF!,3,FALSE),\"\")","v":""},null,null,null,"",null,null,"",null,"",{"$f":"IFERROR(VLOOKUP(B952,#REF!,9,FALSE),\"\")","v":""},null,null,null,"",""]
[null,null,{"$f":"IFERROR(VLOOKUP(B953,#REF!,2,FALSE),\"\")","v":""},{"$f":"IFERROR(VLOOKUP(B953,#REF!,3,FALSE),\"\")","v":""},null,null,null,"",null,null,"",null,"",{"$f":"IFERROR(VLOOKUP(B953,#REF!,9,FALSE),\"\")","v":""},null,null,null,"",""]
[null,null,{"$f":"IFERROR(VLOOKUP(B954,#REF!,2,FALSE),\"\")","v":""},{"$f":"IFERROR(VLOOKUP(B954,#REF!,3,FALSE),\"\")","v":""},null,null,null,"",null,null,"",null,"",{"$f":"IFERROR(VLOOKUP(B954,#REF!,9,FALSE),\"\")","v":""},null,null,null,"",""]
[null,null,{"$f":"IFERROR(VLOOKUP(B955,#REF!,2,FALSE),\"\")","v":""},{"$f":"IFERROR(VLOOKUP(B955,#REF!,3,FALSE),\"\")","v":""},null,null,null,"",null,null,"",null,"",{"$f":"IFERROR(VLOOKUP(B955,#REF!,9,FALSE),\"\")","v":""},null,null,null,"",""]
[null,null,{"$f":"IFERROR(VLOOKUP(B956,#REF!,2,FALSE),\"\")","v":""},{"$f":"IFERROR(VLOOKUP(B956,#REF!,3,FALSE),\"\")","v":""},null,null,null,"",null,null,"",null,"",{"$f":"IFERROR(VLOOKUP(B956,#REF!,9,FALSE),\"\")","v":""},null,null,null,"",""]
[null,null,{"$f":"IFERROR(VLOOKUP(B957,#REF!,2,FALSE),\"\")","v":""},{"$f":"IFERROR(VLOOKUP(B957,#REF!,3,FALSE),\"\")","v":""},null,null,null,"",null,null,"",null,"",{"$f":"IFERROR(VLOOKUP(B957,#REF!,9,FALSE),\"\")","v":""},null,null,null,"",""]
[null,null,{"$f":"IFERROR(VLOOKUP(B958,#REF!,2,FALSE),\"\")","v":""},{"$f":"IFERROR(VLOOKUP(B958,#REF!,3,FALSE),\"\")","v":""},null,null,null,"",null,null,"",null,"",{"$f":"IFERROR(VLOOKUP(B958,#REF!,9,FALSE),\"\")","v":""},null,null,null,"",""]
[null,null,{"$f":"IFERROR(VLOOKUP(B959,#REF!,2,FALSE),\"\")","v":""},{"$f":"IFERROR(VLOOKUP(B959,#REF!,3,FALSE),\"\")","v":""},null,null,null,"",null,null,"",null,"",{"$f":"IFERROR(VLOOKUP(B959,#REF!,9,FALSE),\"\")","v":""},null,null,null,"",""]
[null,null,{"$f":"IFERROR(VLOOKUP(B960,#REF!,2,FALSE),\"\")","v":""},{"$f":"IFERROR(VLOOKUP(B960,#REF!,3,FALSE),\"\")","v":""},null,null,null,"",null,null,"",null,"",{"$f":"IFERROR(VLOOKUP(B960,#REF!,9,FALSE),\"\")","v":""},null,null,null,"",""]
[null,null,{"$f":"IFERROR(VLOOKUP(B961,#REF!,2,FALSE),\"\")","v":""},{"$f":"IFERROR(VLOOKUP(B961,#REF!,3,FALSE),\"\")","v":""},null,null,null,"",null,null,"",null,"",{"$f":"IFERROR(VLOOKUP(B961,#REF!,9,FALSE),\"\")","v":""},null,null,null,"",""]
[null,null,{"$f":"IFERROR(VLOOKUP(B962,#REF!,2,FALSE),\"\")","v":""},{"$f":"IFERROR(VLOOKUP(B962,#REF!,3,FALSE),\"\")","v":""},null,null,null,"",null,null,"",null,"",{"$f":"IFERROR(VLOOKUP(B962,#REF!,9,FALSE),\"\")","v":""},null,null,null,"",""]
[null,null,{"$f":"IFERROR(VLOOKUP(B963,#REF!,2,FALSE),\"\")","v":""},{"$f":"IFERROR(VLOOKUP(B963,#REF!,3,FALSE),\"\")","v":""},null,null,null,"",null,null,"",null,"",{"$f":"IFERROR(VLOOKUP(B963,#REF!,9,FALSE),\"\")","v":""},null,null,null,"",""]
[null,null,{"$f":"IFERROR(VLOOKUP(B964,#REF!,2,FALSE),\"\")","v":""},{"$f":"IFERROR(VLOOKUP(B964,#REF!,3,FALSE),\"\")","v":""},null,null,null,"",null,null,"",null,"",{"$f":"IFERROR(VLOOKUP(B964,#REF!,9,FALSE),\"\")","v":""},null,null,null,"",{"$f":"IF( N964 <> \"\", IF(AND(E964<\"100%\", M964>0, O964>N964), \"Miss\", \"Hit\"), \"\")","v":""}]
[null,null,{"$f":"IFERROR(VLOOKUP(B965,#REF!,2,FALSE),\"\")","v":""},{"$f":"IFERROR(VLOOKUP(B965,#REF!,3,FALSE),\"\")","v":""},null,null,null,"",null,null,"",null,"",{"$f":"IFERROR(VLOOKUP(B965,#REF!,9,FALSE),\"\")","v":""},null,null,null,"",""]
[null,null,{"$f":"IFERROR(VLOOKUP(B966,#REF!,2,FALSE),\"\")","v":""},{"$f":"IFERROR(VLOOKUP(B966,#REF!,3,FALSE),\"\")","v":""},null,null,null,"",null,null,"",null,"",{"$f":"IFERROR(VLOOKUP(B966,#REF!,9,FALSE),\"\")","v":""},null,null,null,"",""]
[null,null,{"$f":"IFERROR(VLOOKUP(B967,#REF!,2,FALSE),\"\")","v":""},{"$f":"IFERROR(VLOOKUP(B967,#REF!,3,FALSE),\"\")","v":""},null,null,null,"",null,null,"",null,"",{"$f":"IFERROR(VLOOKUP(B967,#REF!,9,FALSE),\"\")","v":""},null,null,null,"",""]
[null,null,{"$f":"IFERROR(VLOOKUP(B968,#REF!,2,FALSE),\"\")","v":""},{"$f":"IFERROR(VLOOKUP(B968,#REF!,3,FALSE),\"\")","v":""},null,null,null,"",null,null,"",null,"",{"$f":"IFERROR(VLOOKUP(B968,#REF!,9,FALSE),\"\")","v":""},null,null,null,"",""]
[null,null,{"$f":"IFERROR(VLOOKUP(B969,#REF!,2,FALSE),\"\")","v":""},{"$f":"IFERROR(VLOOKUP(B969,#REF!,3,FALSE),\"\")","v":""},null,null,null,"",null,null,"",null,"",{"$f":"IFERROR(VLOOKUP(B969,#REF!,9,FALSE),\"\")","v":""},null,null,null,"",""]
[null,null,{"$f":"IFERROR(VLOOKUP(B970,#REF!,2,FALSE),\"\")","v":""},{"$f":"IFERROR(VLOOKUP(B970,#REF!,3,FALSE),\"\")","v":""},null,null,null,"",null,null,"",null,"",{"$f":"IFERROR(VLOOKUP(B970,#REF!,9,FALSE),\"\")","v":""},null,null,null,"",""]
[null,null,{"$f":"IFERROR(VLOOKUP(B971,#REF!,2,FALSE),\"\")","v":""},{"$f":"IFERROR(VLOOKUP(B971,#REF!,3,FALSE),\"\")","v":""},null,null,null,"",null,null,"",null,"",{"$f":"IFERROR(VLOOKUP(B971,#REF!,9,FALSE),\"\")","v":""},null,null,null,"",""]
[null,null,{"$f":"IFERROR(VLOOKUP(B972,#REF!,2,FALSE),\"\")","v":""},{"$f":"IFERROR(VLOOKUP(B972,#REF!,3,FALSE),\"\")","v":""},null,null,null,"",null,null,"",null,"",{"$f":"IFERROR(VLOOKUP(B972,#REF!,9,FALSE),\"\")","v":""},null,null,null,"",""]
[null,null,{"$f":"IFERROR(VLOOKUP(B973,#REF!,2,FALSE),\"\")","v":""},{"$f":"IFERROR(VLOOKUP(B973,#REF!,3,FALSE),\"\")","v":""},null,null,null,"",null,null,"",null,"",{"$f":"IFERROR(VLOOKUP(B973,#REF!,9,FALSE),\"\")","v":""},null,null,null,"",""]
[null,null,{"$f":"IFERROR(VLOOKUP(B974,#REF!,2,FALSE),\"\")","v":""},{"$f":"IFERROR(VLOOKUP(B974,#REF!,3,FALSE),\"\")","v":""},null,null,null,"",null,null,"",null,"",{"$f":"IFERROR(VLOOKUP(B974,#REF!,9,FALSE),\"\")","v":""},null,null,null,"",""]
[null,null,{"$f":"IFERROR(VLOOKUP(B975,#REF!,2,FALSE),\"\")","v":""},{"$f":"IFERROR(VLOOKUP(B975,#REF!,3,FALSE),\"\")","v":""},null,null,null,"",null,null,"",null,"",{"$f":"IFERROR(VLOOKUP(B975,#REF!,9,FALSE),\"\")","v":""},null,null,null,"",""]
[null,null,{"$f":"IFERROR(VLOOKUP(B976,#REF!,2,FALSE),\"\")","v":""},{"$f":"IFERROR(VLOOKUP(B976,#REF!,3,FALSE),\"\")","v":""},null,null,null,"",null,null,"",null,"",{"$f":"IFERROR(VLOOKUP(B976,#REF!,9,FALSE),\"\")","v":""},null,null,null,"",""]
[null,null,{"$f":"IFERROR(VLOOKUP(B977,#REF!,2,FALSE),\"\")","v":""},{"$f":"IFERROR(VLOOKUP(B977,#REF!,3,FALSE),\"\")","v":""},null,null,null,"",null,null,"",null,"",{"$f":"IFERROR(VLOOKUP(B977,#REF!,9,FALSE),\"\")","v":""},null,null,null,"",""]
[null,null,{"$f":"IFERROR(VLOOKUP(B978,#REF!,2,FALSE),\"\")","v":""},{"$f":"IFERROR(VLOOKUP(B978,#REF!,3,FALSE),\"\")","v":""},null,null,null,"",null,null,"",null,"",{"$f":"IFERROR(VLOOKUP(B978,#REF!,9,FALSE),\"\")","v":""},null,null,null,"",""]
[null,null,{"$f":"IFERROR(VLOOKUP(B979,#REF!,2,FALSE),\"\")","v":""},{"$f":"IFERROR(VLOOKUP(B979,#REF!,3,FALSE),\"\")","v":""},null,null,null,"",null,null,"",null,"",{"$f":"IFERROR(VLOOKUP(B979,#REF!,9,FALSE),\"\")","v":""},null,null,null,{"$f":"IF(P979=\"\",\"\",IFERROR(P979-Q979,\"\"))","v":""},""]
[null,null,{"$f":"IFERROR(VLOOKUP(B980,#REF!,2,FALSE),\"\")","v":""},{"$f":"IFERROR(VLOOKUP(B980,#REF!,3,FALSE),\"\")","v":""},null,null,null,"",null,null,"",null,"",{"$f":"IFERROR(VLOOKUP(B980,#REF!,9,FALSE),\"\")","v":""},null,null,null,"",""]
[null,null,{"$f":"IFERROR(VLOOKUP(B981,#REF!,2,FALSE),\"\")","v":""},{"$f":"IFERROR(VLOOKUP(B981,#REF!,3,FALSE),\"\")","v":""},null,null,null,{"$f":"IF((G981-F981)<=0,\"\",(G981-F981))","v":""},null,null,{"$f":"IF((J981-I981)<=0,\"\",(J981-I981))","v":""},null,"",{"$f":"IFERROR(VLOOKUP(B981,#REF!,9,FALSE),\"\")","v":""},null,null,null,"",""]
[null,null,{"$f":"IFERROR(VLOOKUP(B982,#REF!,2,FALSE),\"\")","v":""},{"$f":"IFERROR(VLOOKUP(B982,#REF!,3,FALSE),\"\")","v":""},null,null,null,"",null,null,"",null,"",{"$f":"IFERROR(VLOOKUP(B982,#REF!,9,FALSE),\"\")","v":""},null,null,null,"",""]
[null,null,{"$f":"IFERROR(VLOOKUP(B983,#REF!,2,FALSE),\"\")","v":""},{"$f":"IFERROR(VLOOKUP(B983,#REF!,3,FALSE),\"\")","v":""},null,null,null,"",null,null,"",null,"",{"$f":"IFERROR(VLOOKUP(B983,#REF!,9,FALSE),\"\")","v":""},null,null,null,"",""]
[null,null,{"$f":"IFERROR(VLOOKUP(B984,#REF!,2,FALSE),\"\")","v":""},{"$f":"IFERROR(VLOOKUP(B984,#REF!,3,FALSE),\"\")","v":""},null,null,null,"",null,null,"",null,"",{"$f":"IFERROR(VLOOKUP(B984,#REF!,9,FALSE),\"\")","v":""},null,null,null,"",""]
[null,null,{"$f":"IFERROR(VLOOKUP(B985,#REF!,2,FALSE),\"\")","v":""},{"$f":"IFERROR(VLOOKUP(B985,#REF!,3,FALSE),\"\")","v":""},null,null,null,"",null,null,"",null,"",{"$f":"IFERROR(VLOOKUP(B985,#REF!,9,FALSE),\"\")","v":""},null,null,null,"",""]
[null,null,{"$f":"IFERROR(VLOOKUP(B986,#REF!,2,FALSE),\"\")","v":""},{"$f":"IFERROR(VLOOKUP(B986,#REF!,3,FALSE),\"\")","v":""},null,null,null,"",null,null,"",null,"",{"$f":"IFERROR(VLOOKUP(B986,#REF!,9,FALSE),\"\")","v":""},null,null,null,"",""]
[null,null,{"$f":"IFERROR(VLOOKUP(B987,#REF!,2,FALSE),\"\")","v":""},{"$f":"IFERROR(VLOOKUP(B987,#REF!,3,FALSE),\"\")","v":""},null,null,null,"",null,null,"",null,"",{"$f":"IFERROR(VLOOKUP(B987,#REF!,9,FALSE),\"\")","v":""},null,null,null,"",""]
[null,null,{"$f":"IFERROR(VLOOKUP(B988,#REF!,2,FALSE),\"\")","v":""},{"$f":"IFERROR(VLOOKUP(B988,#REF!,3,FALSE),\"\")","v":""},null,null,null,"",null,null,"",null,"",{"$f":"IFERROR(VLOOKUP(B988,#REF!,9,FALSE),\"\")","v":""},null,null,null,"",""]
[null,null,{"$f":"IFERROR(VLOOKUP(B989,#REF!,2,FALSE),\"\")","v":""},{"$f":"IFERROR(VLOOKUP(B989,#REF!,3,FALSE),\"\")","v":""},null,null,null,"",null,null,"",null,"",{"$f":"IFERROR(VLOOKUP(B989,#REF!,9,FALSE),\"\")","v":""},null,null,null,"",""]
[null,null,{"$f":"IFERROR(VLOOKUP(B990,#REF!,2,FALSE),\"\")","v":""},{"$f":"IFERROR(VLOOKUP(B990,#REF!,3,FALSE),\"\")","v":""},null,null,null,"",null,null,"",null,"",{"$f":"IFERROR(VLOOKUP(B990,#REF!,9,FALSE),\"\")","v":""},null,null,null,"",""]
[null,null,{"$f":"IFERROR(VLOOKUP(B991,#REF!,2,FALSE),\"\")","v":""},{"$f":"IFERROR(VLOOKUP(B991,#REF!,3,FALSE),\"\")","v":""},null,null,null,"",null,null,"",null,"",{"$f":"IFERROR(VLOOKUP(B991,#REF!,9,FALSE),\"\")","v":""},null,null,null,"",""]
[null,null,{"$f":"IFERROR(VLOOKUP(B992,#REF!,2,FALSE),\"\")","v":""},{"$f":"IFERROR(VLOOKUP(B992,#REF!,3,FALSE),\"\")","v":""},null,null,null,"",null,null,"",null,"",{"$f":"IFERROR(VLOOKUP(B992,#REF!,9,FALSE),\"\")","v":""},null,null,null,"",""]
[null,null,{"$f":"IFERROR(VLOOKUP(B993,#REF!,2,FALSE),\"\")","v":""},{"$f":"IFERROR(VLOOKUP(B993,#REF!,3,FALSE),\"\")","v":""},null,null,null,"",null,null,"",null,"",{"$f":"IFERROR(VLOOKUP(B993,#REF!,9,FALSE),\"\")","v":""},null,null,null,"",""]
[null,null,{"$f":"IFERROR(VLOOKUP(B994,#REF!,2,FALSE),\"\")","v":""},{"$f":"IFERROR(VLOOKUP(B994,#REF!,3,FALSE),\"\")","v":""},null,null,null,"",null,null,"",null,"",{"$f":"IFERROR(VLOOKUP(B994,#REF!,9,FALSE),\"\")","v":""},null,null,null,"",""]
[null,null,{"$f":"IFERROR(VLOOKUP(B995,#REF!,2,FALSE),\"\")","v":""},{"$f":"IFERROR(VLOOKUP(B995,#REF!,3,FALSE),\"\")","v":""},null,null,null,"",null,null,"",null,"",{"$f":"IFERROR(VLOOKUP(B995,#REF!,9,FALSE),\"\")","v":""},null,null,null,"",""]
[null,null,{"$f":"IFERROR(VLOOKUP(B996,#REF!,2,FALSE),\"\")","v":""},{"$f":"IFERROR(VLOOKUP(B996,#REF!,3,FALSE),\"\")","v":""},null,null,null,"",null,null,"",null,"",{"$f":"IFERROR(VLOOKUP(B996,#REF!,9,FALSE),\"\")","v":""},null,null,null,"",""]
[null,null,{"$f":"IFERROR(VLOOKUP(B997,#REF!,2,FALSE),\"\")","v":""},{"$f":"IFERROR(VLOOKUP(B997,#REF!,3,FALSE),\"\")","v":""},null,null,null,"",null,null,"",null,"",{"$f":"IFERROR(VLOOKUP(B997,#REF!,9,FALSE),\"\")","v":""},null,null,null,"",""]
[null,null,{"$f":"IFERROR(VLOOKUP(B998,#REF!,2,FALSE),\"\")","v":""},{"$f":"IFERROR(VLOOKUP(B998,#REF!,3,FALSE),\"\")","v":""},null,null,null,"",null,null,"",null,"",{"$f":"IFERROR(VLOOKUP(B998,#REF!,9,FALSE),\"\")","v":""},null,null,null,"",""]
[null,null,{"$f":"IFERROR(VLOOKUP(B999,#REF!,2,FALSE),\"\")","v":""},{"$f":"IFERROR(VLOOKUP(B999,#REF!,3,FALSE),\"\")","v":""},null,null,null,"",null,null,"",null,"",{"$f":"IFERROR(VLOOKUP(B999,#REF!,9,FALSE),\"\")","v":""},null,null,null,"",""]
[null,null,{"$f":"IFERROR(VLOOKUP(B1000,#REF!,2,FALSE),\"\")","v":""},{"$f":"IFERROR(VLOOKUP(B1000,#REF!,3,FALSE),\"\")","v":""},null,null,null,"",null,null,"",null,"",{"$f":"IFERROR(VLOOKUP(B1000,#REF!,9,FALSE),\"\")","v":""},null,null,null,"",""]
[null,null,{"$f":"IFERROR(VLOOKUP(B1001,#REF!,2,FALSE),\"\")","v":""},{"$f":"IFERROR(VLOOKUP(B1001,#REF!,3,FALSE),\"\")","v":""},null,null,null,"",null,null,"",null,"",{"$f":"IFERROR(VLOOKUP(B1001,#REF!,9,FALSE),\"\")","v":""},null,null,null,"",""]
[null,null,{"$f":"IFERROR(VLOOKUP(B1002,#REF!,2,FALSE),\"\")","v":""},{"$f":"IFERROR(VLOOKUP(B1002,#REF!,3,FALSE),\"\")","v":""},null,null,null,"",null,null,"",null,"",{"$f":"IFERROR(VLOOKUP(B1002,#REF!,9,FALSE),\"\")","v":""},null,null,null,"",""]
[null,null,{"$f":"IFERROR(VLOOKUP(B1003,#REF!,2,FALSE),\"\")","v":""},{"$f":"IFERROR(VLOOKUP(B1003,#REF!,3,FALSE),\"\")","v":""},null,null,null,"",null,null,"",null,"",{"$f":"IFERROR(VLOOKUP(B1003,#REF!,9,FALSE),\"\")","v":""},null,null,null,"",""]
[null,null,{"$f":"IFERROR(VLOOKUP(B1004,#REF!,2,FALSE),\"\")","v":""},{"$f":"IFERROR(VLOOKUP(B1004,#REF!,3,FALSE),\"\")","v":""},null,null,null,"",null,null,"",null,"",{"$f":"IFERROR(VLOOKUP(B1004,#REF!,9,FALSE),\"\")","v":""},null,null,null,"",""]
[null,null,{"$f":"IFERROR(VLOOKUP(B1005,#REF!,2,FALSE),\"\")","v":""},{"$f":"IFERROR(VLOOKUP(B1005,#REF!,3,FALSE),\"\")","v":""},null,null,null,"",null,null,"",null,"",{"$f":"IFERROR(VLOOKUP(B1005,#REF!,9,FALSE),\"\")","v":""},null,null,null,"",""]
[null,null,{"$f":"IFERROR(VLOOKUP(B1006,#REF!,2,FALSE),\"\")","v":""},{"$f":"IFERROR(VLOOKUP(B1006,#REF!,3,FALSE),\"\")","v":""},null,null,null,"",null,null,"",null,"",{"$f":"IFERROR(VLOOKUP(B1006,#REF!,9,FALSE),\"\")","v":""},null,null,null,"",""]
[null,null,{"$f":"IFERROR(VLOOKUP(B1007,#REF!,2,FALSE),\"\")","v":""},{"$f":"IFERROR(VLOOKUP(B1007,#REF!,3,FALSE),\"\")","v":""},null,null,null,"",null,null,"",null,{"$f":"IFERROR(IF((K1007-L1007)<=0,\"0\",(K1007-L1007)),\"\")","v":""},{"$f":"IFERROR(VLOOKUP(B1007,#REF!,9,FALSE),\"\")","v":""},null,null,null,"",""]
[null,null,{"$f":"IFERROR(VLOOKUP(B1008,#REF!,2,FALSE),\"\")","v":""},{"$f":"IFERROR(VLOOKUP(B1008,#REF!,3,FALSE),\"\")","v":""},null,null,null,"",null,null,"",null,"",{"$f":"IFERROR(VLOOKUP(B1008,#REF!,9,FALSE),\"\")","v":""},null,null,null,"",""]
[null,null,{"$f":"IFERROR(VLOOKUP(B1009,#REF!,2,FALSE),\"\")","v":""},{"$f":"IFERROR(VLOOKUP(B1009,#REF!,3,FALSE),\"\")","v":""},null,null,null,"",null,null,"",null,"",{"$f":"IFERROR(VLOOKUP(B1009,#REF!,9,FALSE),\"\")","v":""},null,null,null,"",""]
[null,null,{"$f":"IFERROR(VLOOKUP(B1010,#REF!,2,FALSE),\"\")","v":""},{"$f":"IFERROR(VLOOKUP(B1010,#REF!,3,FALSE),\"\")","v":""},null,null,null,"",null,null,"",null,"",{"$f":"IFERROR(VLOOKUP(B1010,#REF!,9,FALSE),\"\")","v":""},null,null,null,"",""]
[null,null,{"$f":"IFERROR(VLOOKUP(B1011,#REF!,2,FALSE),\"\")","v":""},{"$f":"IFERROR(VLOOKUP(B1011,#REF!,3,FALSE),\"\")","v":""},null,null,null,"",null,null,"",null,"",{"$f":"IFERROR(VLOOKUP(B1011,#REF!,9,FALSE),\"\")","v":""},null,null,null,"",""]
[null,null,{"$f":"IFERROR(VLOOKUP(B1012,#REF!,2,FALSE),\"\")","v":""},{"$f":"IFERROR(VLOOKUP(B1012,#REF!,3,FALSE),\"\")","v":""},null,null,null,"",null,null,"",null,"",{"$f":"IFERROR(VLOOKUP(B1012,#REF!,9,FALSE),\"\")","v":""},null,null,null,"",""]
[null,null,{"$f":"IFERROR(VLOOKUP(B1013,#REF!,2,FALSE),\"\")","v":""},{"$f":"IFERROR(VLOOKUP(B1013,#REF!,3,FALSE),\"\")","v":""},null,null,null,"",null,null,"",null,"",{"$f":"IFERROR(VLOOKUP(B1013,#REF!,9,FALSE),\"\")","v":""},null,null,null,"",""]
[null,null,{"$f":"IFERROR(VLOOKUP(B1014,#REF!,2,FALSE),\"\")","v":""},{"$f":"IFERROR(VLOOKUP(B1014,#REF!,3,FALSE),\"\")","v":""},null,null,null,"",null,null,"",null,"",{"$f":"IFERROR(VLOOKUP(B1014,#REF!,9,FALSE),\"\")","v":""},null,null,null,"",""]
[null,null,{"$f":"IFERROR(VLOOKUP(B1015,#REF!,2,FALSE),\"\")","v":""},{"$f":"IFERROR(VLOOKUP(B1015,#REF!,3,FALSE),\"\")","v":""},null,null,null,"",null,null,"",null,"",{"$f":"IFERROR(VLOOKUP(B1015,#REF!,9,FALSE),\"\")","v":""},null,null,null,"",""]
[null,null,{"$f":"IFERROR(VLOOKUP(B1016,#REF!,2,FALSE),\"\")","v":""},{"$f":"IFERROR(VLOOKUP(B1016,#REF!,3,FALSE),\"\")","v":""},null,null,null,"",null,null,"",null,"",{"$f":"IFERROR(VLOOKUP(B1016,#REF!,9,FALSE),\"\")","v":""},null,null,null,"",""]
[null,null,{"$f":"IFERROR(VLOOKUP(B1017,#REF!,2,FALSE),\"\")","v":""},{"$f":"IFERROR(VLOOKUP(B1017,#REF!,3,FALSE),\"\")","v":""},null,null,null,"",null,null,"",null,"",{"$f":"IFERROR(VLOOKUP(B1017,#REF!,9,FALSE),\"\")","v":""},null,null,null,"",""]
[null,null,{"$f":"IFERROR(VLOOKUP(B1018,#REF!,2,FALSE),\"\")","v":""},{"$f":"IFERROR(VLOOKUP(B1018,#REF!,3,FALSE),\"\")","v":""},null,null,null,"",null,null,"",null,"",{"$f":"IFERROR(VLOOKUP(B1018,#REF!,9,FALSE),\"\")","v":""},null,null,null,"",""]
[null,null,{"$f":"IFERROR(VLOOKUP(B1019,#REF!,2,FALSE),\"\")","v":""},{"$f":"IFERROR(VLOOKUP(B1019,#REF!,3,FALSE),\"\")","v":""},null,null,null,"",null,null,"",null,"",{"$f":"IFERROR(VLOOKUP(B1019,#REF!,9,FALSE),\"\")","v":""},null,null,null,"",""]
[null,null,{"$f":"IFERROR(VLOOKUP(B1020,#REF!,2,FALSE),\"\")","v":""},{"$f":"IFERROR(VLOOKUP(B1020,#REF!,3,FALSE),\"\")","v":""},null,null,null,"",null,null,"",null,"",{"$f":"IFERROR(VLOOKUP(B1020,#REF!,9,FALSE),\"\")","v":""},null,null,null,"",""]
[null,null,{"$f":"IFERROR(VLOOKUP(B1021,#REF!,2,FALSE),\"\")","v":""},{"$f":"IFERROR(VLOOKUP(B1021,#REF!,3,FALSE),\"\")","v":""},null,null,null,"",null,null,"",null,"",{"$f":"IFERROR(VLOOKUP(B1021,#REF!,9,FALSE),\"\")","v":""},null,null,null,"",""]
[null,null,{"$f":"IFERROR(VLOOKUP(B1022,#REF!,2,FALSE),\"\")","v":""},{"$f":"IFERROR(VLOOKUP(B1022,#REF!,3,FALSE),\"\")","v":""},null,null,null,"",null,null,"",null,"",{"$f":"IFERROR(VLOOKUP(B1022,#REF!,9,FALSE),\"\")","v":""},null,null,null,"",""]
[null,null,{"$f":"IFERROR(VLOOKUP(B1023,#REF!,2,FALSE),\"\")","v":""},{"$f":"IFERROR(VLOOKUP(B1023,#REF!,3,FALSE),\"\")","v":""},null,null,null,"",null,null,"",null,"",{"$f":"IFERROR(VLOOKUP(B1023,#REF!,9,FALSE),\"\")","v":""},null,null,null,"",""]
[null,null,{"$f":"IFERROR(VLOOKUP(B1024,#REF!,2,FALSE),\"\")","v":""},{"$f":"IFERROR(VLOOKUP(B1024,#REF!,3,FALSE),\"\")","v":""},null,null,null,"",null,null,"",null,"",{"$f":"IFERROR(VLOOKUP(B1024,#REF!,9,FALSE),\"\")","v":""},null,null,null,"",""]
[null,null,{"$f":"IFERROR(VLOOKUP(B1025,#REF!,2,FALSE),\"\")","v":""},{"$f":"IFERROR(VLOOKUP(B1025,#REF!,3,FALSE),\"\")","v":""},null,null,null,"",null,null,"",null,"",{"$f":"IFERROR(VLOOKUP(B1025,#REF!,9,FALSE),\"\")","v":""},null,null,null,"",""]
[null,null,{"$f":"IFERROR(VLOOKUP(B1026,#REF!,2,FALSE),\"\")","v":""},{"$f":"IFERROR(VLOOKUP(B1026,#REF!,3,FALSE),\"\")","v":""},null,null,null,"",null,null,"",null,"",{"$f":"IFERROR(VLOOKUP(B1026,#REF!,9,FALSE),\"\")","v":""},null,null,null,"",""]
[null,null,{"$f":"IFERROR(VLOOKUP(B1027,#REF!,2,FALSE),\"\")","v":""},{"$f":"IFERROR(VLOOKUP(B1027,#REF!,3,FALSE),\"\")","v":""},null,null,null,"",null,null,"",null,"",{"$f":"IFERROR(VLOOKUP(B1027,#REF!,9,FALSE),\"\")","v":""},null,null,null,"",""]
[null,null,{"$f":"IFERROR(VLOOKUP(B1028,#REF!,2,FALSE),\"\")","v":""},{"$f":"IFERROR(VLOOKUP(B1028,#REF!,3,FALSE),\"\")","v":""},null,null,null,"",null,null,"",null,"",{"$f":"IFERROR(VLOOKUP(B1028,#REF!,9,FALSE),\"\")","v":""},null,null,null,"",{"$f":"IF( N1028 <> \"\", IF(AND(E1028<\"100%\", M1028>0, O1028>N1028), \"Miss\", \"Hit\"), \"\")","v":""}]
[null,null,{"$f":"IFERROR(VLOOKUP(B1029,#REF!,2,FALSE),\"\")","v":""},{"$f":"IFERROR(VLOOKUP(B1029,#REF!,3,FALSE),\"\")","v":""},null,null,null,"",null,null,"",null,"",{"$f":"IFERROR(VLOOKUP(B1029,#REF!,9,FALSE),\"\")","v":""},null,null,null,"",""]
[null,null,{"$f":"IFERROR(VLOOKUP(B1030,#REF!,2,FALSE),\"\")","v":""},{"$f":"IFERROR(VLOOKUP(B1030,#REF!,3,FALSE),\"\")","v":""},null,null,null,"",null,null,"",null,"",{"$f":"IFERROR(VLOOKUP(B1030,#REF!,9,FALSE),\"\")","v":""},null,null,null,"",""]
[null,null,{"$f":"IFERROR(VLOOKUP(B1031,#REF!,2,FALSE),\"\")","v":""},{"$f":"IFERROR(VLOOKUP(B1031,#REF!,3,FALSE),\"\")","v":""},null,null,null,"",null,null,"",null,"",{"$f":"IFERROR(VLOOKUP(B1031,#REF!,9,FALSE),\"\")","v":""},null,null,null,"",""]
[null,null,{"$f":"IFERROR(VLOOKUP(B1032,#REF!,2,FALSE),\"\")","v":""},{"$f":"IFERROR(VLOOKUP(B1032,#REF!,3,FALSE),\"\")","v":""},null,null,null,"",null,null,"",null,"",{"$f":"IFERROR(VLOOKUP(B1032,#REF!,9,FALSE),\"\")","v":""},null,null,null,"",""]
[null,null,{"$f":"IFERROR(VLOOKUP(B1033,#REF!,2,FALSE),\"\")","v":""},{"$f":"IFERROR(VLOOKUP(B1033,#REF!,3,FALSE),\"\")","v":""},null,null,null,"",null,null,"",null,"",{"$f":"IFERROR(VLOOKUP(B1033,#REF!,9,FALSE),\"\")","v":""},null,null,null,"",""]
[null,null,{"$f":"IFERROR(VLOOKUP(B1034,#REF!,2,FALSE),\"\")","v":""},{"$f":"IFERROR(VLOOKUP(B1034,#REF!,3,FALSE),\"\")","v":""},null,null,null,"",null,null,"",null,"",{"$f":"IFERROR(VLOOKUP(B1034,#REF!,9,FALSE),\"\")","v":""},null,null,null,"",""]
[null,null,{"$f":"IFERROR(VLOOKUP(B1035,#REF!,2,FALSE),\"\")","v":""},{"$f":"IFERROR(VLOOKUP(B1035,#REF!,3,FALSE),\"\")","v":""},null,null,null,"",null,null,"",null,"",{"$f":"IFERROR(VLOOKUP(B1035,#REF!,9,FALSE),\"\")","v":""},null,null,null,"",""]
[null,null,{"$f":"IFERROR(VLOOKUP(B1036,#REF!,2,FALSE),\"\")","v":""},{"$f":"IFERROR(VLOOKUP(B1036,#REF!,3,FALSE),\"\")","v":""},null,null,null,"",null,null,"",null,"",{"$f":"IFERROR(VLOOKUP(B1036,#REF!,9,FALSE),\"\")","v":""},null,null,null,"",""]
[null,null,{"$f":"IFERROR(VLOOKUP(B1037,#REF!,2,FALSE),\"\")","v":""},{"$f":"IFERROR(VLOOKUP(B1037,#REF!,3,FALSE),\"\")","v":""},null,null,null,"",null,null,"",null,"",{"$f":"IFERROR(VLOOKUP(B1037,#REF!,9,FALSE),\"\")","v":""},null,null,null,"",""]
[null,null,{"$f":"IFERROR(VLOOKUP(B1038,#REF!,2,FALSE),\"\")","v":""},{"$f":"IFERROR(VLOOKUP(B1038,#REF!,3,FALSE),\"\")","v":""},null,null,null,"",null,null,"",null,"",{"$f":"IFERROR(VLOOKUP(B1038,#REF!,9,FALSE),\"\")","v":""},null,null,null,"",""]
[null,null,{"$f":"IFERROR(VLOOKUP(B1039,#REF!,2,FALSE),\"\")","v":""},{"$f":"IFERROR(VLOOKUP(B1039,#REF!,3,FALSE),\"\")","v":""},null,null,null,"",null,null,"",null,"",{"$f":"IFERROR(VLOOKUP(B1039,#REF!,9,FALSE),\"\")","v":""},null,null,null,"",""]
[null,null,{"$f":"IFERROR(VLOOKUP(B1040,#REF!,2,FALSE),\"\")","v":""},{"$f":"IFERROR(VLOOKUP(B1040,#REF!,3,FALSE),\"\")","v":""},null,null,null,"",null,null,"",null,"",{"$f":"IFERROR(VLOOKUP(B1040,#REF!,9,FALSE),\"\")","v":""},null,null,null,"",""]
[null,null,{"$f":"IFERROR(VLOOKUP(B1041,#REF!,2,FALSE),\"\")","v":""},{"$f":"IFERROR(VLOOKUP(B1041,#REF!,3,FALSE),\"\")","v":""},null,null,null,"",null,null,"",null,"",{"$f":"IFERROR(VLOOKUP(B1041,#REF!,9,FALSE),\"\")","v":""},null,null,null,"",""]
[null,null,{"$f":"IFERROR(VLOOKUP(B1042,#REF!,2,FALSE),\"\")","v":""},{"$f":"IFERROR(VLOOKUP(B1042,#REF!,3,FALSE),\"\")","v":""},null,null,null,"",null,null,"",null,"",{"$f":"IFERROR(VLOOKUP(B1042,#REF!,9,FALSE),\"\")","v":""},null,null,null,"",""]
[null,null,{"$f":"IFERROR(VLOOKUP(B1043,#REF!,2,FALSE),\"\")","v":""},{"$f":"IFERROR(VLOOKUP(B1043,#REF!,3,FALSE),\"\")","v":""},null,null,null,"",null,null,"",null,"",{"$f":"IFERROR(VLOOKUP(B1043,#REF!,9,FALSE),\"\")","v":""},null,null,null,{"$f":"IF(P1043=\"\",\"\",IFERROR(P1043-Q1043,\"\"))","v":""},""]
[null,null,{"$f":"IFERROR(VLOOKUP(B1044,#REF!,2,FALSE),\"\")","v":""},{"$f":"IFERROR(VLOOKUP(B1044,#REF!,3,FALSE),\"\")","v":""},null,null,null,"",null,null,"",null,"",{"$f":"IFERROR(VLOOKUP(B1044,#REF!,9,FALSE),\"\")","v":""},null,null,null,"",""]
[null,null,{"$f":"IFERROR(VLOOKUP(B1045,#REF!,2,FALSE),\"\")","v":""},{"$f":"IFERROR(VLOOKUP(B1045,#REF!,3,FALSE),\"\")","v":""},null,null,null,{"$f":"IF((G1045-F1045)<=0,\"\",(G1045-F1045))","v":""},null,null,{"$f":"IF((J1045-I1045)<=0,\"\",(J1045-I1045))","v":""},null,"",{"$f":"IFERROR(VLOOKUP(B1045,#REF!,9,FALSE),\"\")","v":""},null,null,null,"",""]
[null,null,{"$f":"IFERROR(VLOOKUP(B1046,#REF!,2,FALSE),\"\")","v":""},{"$f":"IFERROR(VLOOKUP(B1046,#REF!,3,FALSE),\"\")","v":""},null,null,null,"",null,null,"",null,"",{"$f":"IFERROR(VLOOKUP(B1046,#REF!,9,FALSE),\"\")","v":""},null,null,null,"",""]
[null,null,{"$f":"IFERROR(VLOOKUP(B1047,#REF!,2,FALSE),\"\")","v":""},{"$f":"IFERROR(VLOOKUP(B1047,#REF!,3,FALSE),\"\")","v":""},null,null,null,"",null,null,"",null,"",{"$f":"IFERROR(VLOOKUP(B1047,#REF!,9,FALSE),\"\")","v":""},null,null,null,"",""]
[null,null,{"$f":"IFERROR(VLOOKUP(B1048,#REF!,2,FALSE),\"\")","v":""},{"$f":"IFERROR(VLOOKUP(B1048,#REF!,3,FALSE),\"\")","v":""},null,null,null,"",null,null,"",null,"",{"$f":"IFERROR(VLOOKUP(B1048,#REF!,9,FALSE),\"\")","v":""},null,null,null,"",""]
[null,null,{"$f":"IFERROR(VLOOKUP(B1049,#REF!,2,FALSE),\"\")","v":""},{"$f":"IFERROR(VLOOKUP(B1049,#REF!,3,FALSE),\"\")","v":""},null,null,null,"",null,null,"",null,"",{"$f":"IFERROR(VLOOKUP(B1049,#REF!,9,FALSE),\"\")","v":""},null,null,null,"",""]
[null,null,{"$f":"IFERROR(VLOOKUP(B1050,#REF!,2,FALSE),\"\")","v":""},{"$f":"IFERROR(VLOOKUP(B1050,#REF!,3,FALSE),\"\")","v":""},null,null,null,"",null,null,"",null,"",{"$f":"IFERROR(VLOOKUP(B1050,#REF!,9,FALSE),\"\")","v":""},null,null,null,"",""]
[null,null,{"$f":"IFERROR(VLOOKUP(B1051,#REF!,2,FALSE),\"\")","v":""},{"$f":"IFERROR(VLOOKUP(B1051,#REF!,3,FALSE),\"\")","v":""},null,null,null,"",null,null,"",null,"",{"$f":"IFERROR(VLOOKUP(B1051,#REF!,9,FALSE),\"\")","v":""},null,null,null,"",""]
[null,null,{"$f":"IFERROR(VLOOKUP(B1052,#REF!,2,FALSE),\"\")","v":""},{"$f":"IFERROR(VLOOKUP(B1052,#REF!,3,FALSE),\"\")","v":""},null,null,null,"",null,null,"",null,"",{"$f":"IFERROR(VLOOKUP(B1052,#REF!,9,FALSE),\"\")","v":""},null,null,null,"",""]
[null,null,{"$f":"IFERROR(VLOOKUP(B1053,#REF!,2,FALSE),\"\")","v":""},{"$f":"IFERROR(VLOOKUP(B1053,#REF!,3,FALSE),\"\")","v":""},null,null,null,"",null,null,"",null,"",{"$f":"IFERROR(VLOOKUP(B1053,#REF!,9,FALSE),\"\")","v":""},null,null,null,"",""]
[null,null,{"$f":"IFERROR(VLOOKUP(B1054,#REF!,2,FALSE),\"\")","v":""},{"$f":"IFERROR(VLOOKUP(B1054,#REF!,3,FALSE),\"\")","v":""},null,null,null,"",null,null,"",null,"",{"$f":"IFERROR(VLOOKUP(B1054,#REF!,9,FALSE),\"\")","v":""},null,null,null,"",""]
[null,null,{"$f":"IFERROR(VLOOKUP(B1055,#REF!,2,FALSE),\"\")","v":""},{"$f":"IFERROR(VLOOKUP(B1055,#REF!,3,FALSE),\"\")","v":""},null,null,null,"",null,null,"",null,"",{"$f":"IFERROR(VLOOKUP(B1055,#REF!,9,FALSE),\"\")","v":""},null,null,null,"",""]
[null,null,{"$f":"IFERROR(VLOOKUP(B1056,#REF!,2,FALSE),\"\")","v":""},{"$f":"IFERROR(VLOOKUP(B1056,#REF!,3,FALSE),\"\")","v":""},null,null,null,"",null,null,"",null,"",{"$f":"IFERROR(VLOOKUP(B1056,#REF!,9,FALSE),\"\")","v":""},null,null,null,"",""]
[null,null,{"$f":"IFERROR(VLOOKUP(B1057,#REF!,2,FALSE),\"\")","v":""},{"$f":"IFERROR(VLOOKUP(B1057,#REF!,3,FALSE),\"\")","v":""},null,null,null,"",null,null,"",null,"",{"$f":"IFERROR(VLOOKUP(B1057,#REF!,9,FALSE),\"\")","v":""},null,null,null,"",""]
[null,null,{"$f":"IFERROR(VLOOKUP(B1058,#REF!,2,FALSE),\"\")","v":""},{"$f":"IFERROR(VLOOKUP(B1058,#REF!,3,FALSE),\"\")","v":""},null,null,null,"",null,null,"",null,"",{"$f":"IFERROR(VLOOKUP(B1058,#REF!,9,FALSE),\"\")","v":""},null,null,null,"",""]
[null,null,{"$f":"IFERROR(VLOOKUP(B1059,#REF!,2,FALSE),\"\")","v":""},{"$f":"IFERROR(VLOOKUP(B1059,#REF!,3,FALSE),\"\")","v":""},null,null,null,"",null,null,"",null,"",{"$f":"IFERROR(VLOOKUP(B1059,#REF!,9,FALSE),\"\")","v":""},null,null,null,"",""]
[null,null,{"$f":"IFERROR(VLOOKUP(B1060,#REF!,2,FALSE),\"\")","v":""},{"$f":"IFERROR(VLOOKUP(B1060,#REF!,3,FALSE),\"\")","v":""},null,null,null,"",null,null,"",null,"",{"$f":"IFERROR(VLOOKUP(B1060,#REF!,9,FALSE),\"\")","v":""},null,null,null,"",""]
[null,null,{"$f":"IFERROR(VLOOKUP(B1061,#REF!,2,FALSE),\"\")","v":""},{"$f":"IFERROR(VLOOKUP(B1061,#REF!,3,FALSE),\"\")","v":""},null,null,null,"",null,null,"",null,"",{"$f":"IFERROR(VLOOKUP(B1061,#REF!,9,FALSE),\"\")","v":""},null,null,null,"",""]
[null,null,{"$f":"IFERROR(VLOOKUP(B1062,#REF!,2,FALSE),\"\")","v":""},{"$f":"IFERROR(VLOOKUP(B1062,#REF!,3,FALSE),\"\")","v":""},null,null,null,"",null,null,"",null,"",{"$f":"IFERROR(VLOOKUP(B1062,#REF!,9,FALSE),\"\")","v":""},null,null,null,"",""]
[null,null,{"$f":"IFERROR(VLOOKUP(B1063,#REF!,2,FALSE),\"\")","v":""},{"$f":"IFERROR(VLOOKUP(B1063,#REF!,3,FALSE),\"\")","v":""},null,null,null,"",null,null,"",null,"",{"$f":"IFERROR(VLOOKUP(B1063,#REF!,9,FALSE),\"\")","v":""},null,null,null,"",""]
[null,null,{"$f":"IFERROR(VLOOKUP(B1064,#REF!,2,FALSE),\"\")","v":""},{"$f":"IFERROR(VLOOKUP(B1064,#REF!,3,FALSE),\"\")","v":""},null,null,null,"",null,null,"",null,"",{"$f":"IFERROR(VLOOKUP(B1064,#REF!,9,FALSE),\"\")","v":""},null,null,null,"",""]
[null,null,{"$f":"IFERROR(VLOOKUP(B1065,#REF!,2,FALSE),\"\")","v":""},{"$f":"IFERROR(VLOOKUP(B1065,#REF!,3,FALSE),\"\")","v":""},null,null,null,"",null,null,"",null,"",{"$f":"IFERROR(VLOOKUP(B1065,#REF!,9,FALSE),\"\")","v":""},null,null,null,"",""]
[null,null,{"$f":"IFERROR(VLOOKUP(B1066,#REF!,2,FALSE),\"\")","v":""},{"$f":"IFERROR(VLOOKUP(B1066,#REF!,3,FALSE),\"\")","v":""},null,null,null,"",null,null,"",null,"",{"$f":"IFERROR(VLOOKUP(B1066,#REF!,9,FALSE),\"\")","v":""},null,null,null,"",""]
[null,null,{"$f":"IFERROR(VLOOKUP(B1067,#REF!,2,FALSE),\"\")","v":""},{"$f":"IFERROR(VLOOKUP(B1067,#REF!,3,FALSE),\"\")","v":""},null,null,null,"",null,null,"",null,"",{"$f":"IFERROR(VLOOKUP(B1067,#REF!,9,FALSE),\"\")","v":""},null,null,null,"",""]
[null,null,{"$f":"IFERROR(VLOOKUP(B1068,#REF!,2,FALSE),\"\")","v":""},{"$f":"IFERROR(VLOOKUP(B1068,#REF!,3,FALSE),\"\")","v":""},null,null,null,"",null,null,"",null,"",{"$f":"IFERROR(VLOOKUP(B1068,#REF!,9,FALSE),\"\")","v":""},null,null,null,"",""]
[null,null,{"$f":"IFERROR(VLOOKUP(B1069,#REF!,2,FALSE),\"\")","v":""},{"$f":"IFERROR(VLOOKUP(B1069,#REF!,3,FALSE),\"\")","v":""},null,null,null,"",null,null,"",null,"",{"$f":"IFERROR(VLOOKUP(B1069,#REF!,9,FALSE),\"\")","v":""},null,null,null,"",""]
[null,null,{"$f":"IFERROR(VLOOKUP(B1070,#REF!,2,FALSE),\"\")","v":""},{"$f":"IFERROR(VLOOKUP(B1070,#REF!,3,FALSE),\"\")","v":""},null,null,null,"",null,null,"",null,"",{"$f":"IFERROR(VLOOKUP(B1070,#REF!,9,FALSE),\"\")","v":""},null,null,null,"",""]
[null,null,{"$f":"IFERROR(VLOOKUP(B1071,#REF!,2,FALSE),\"\")","v":""},{"$f":"IFERROR(VLOOKUP(B1071,#REF!,3,FALSE),\"\")","v":""},null,null,null,"",null,null,"",null,{"$f":"IFERROR(IF((K1071-L1071)<=0,\"0\",(K1071-L1071)),\"\")","v":""},{"$f":"IFERROR(VLOOKUP(B1071,#REF!,9,FALSE),\"\")","v":""},null,null,null,"",""]
[null,null,{"$f":"IFERROR(VLOOKUP(B1072,#REF!,2,FALSE),\"\")","v":""},{"$f":"IFERROR(VLOOKUP(B1072,#REF!,3,FALSE),\"\")","v":""},null,null,null,"",null,null,"",null,"",{"$f":"IFERROR(VLOOKUP(B1072,#REF!,9,FALSE),\"\")","v":""},null,null,null,"",""]
[null,null,{"$f":"IFERROR(VLOOKUP(B1073,#REF!,2,FALSE),\"\")","v":""},{"$f":"IFERROR(VLOOKUP(B1073,#REF!,3,FALSE),\"\")","v":""},null,null,null,"",null,null,"",null,"",{"$f":"IFERROR(VLOOKUP(B1073,#REF!,9,FALSE),\"\")","v":""},null,null,null,"",""]
[null,null,{"$f":"IFERROR(VLOOKUP(B1074,#REF!,2,FALSE),\"\")","v":""},{"$f":"IFERROR(VLOOKUP(B1074,#REF!,3,FALSE),\"\")","v":""},null,null,null,"",null,null,"",null,"",{"$f":"IFERROR(VLOOKUP(B1074,#REF!,9,FALSE),\"\")","v":""},null,null,null,"",""]
[null,null,{"$f":"IFERROR(VLOOKUP(B1075,#REF!,2,FALSE),\"\")","v":""},{"$f":"IFERROR(VLOOKUP(B1075,#REF!,3,FALSE),\"\")","v":""},null,null,null,"",null,null,"",null,"",{"$f":"IFERROR(VLOOKUP(B1075,#REF!,9,FALSE),\"\")","v":""},null,null,null,"",""]
[null,null,{"$f":"IFERROR(VLOOKUP(B1076,#REF!,2,FALSE),\"\")","v":""},{"$f":"IFERROR(VLOOKUP(B1076,#REF!,3,FALSE),\"\")","v":""},null,null,null,"",null,null,"",null,"",{"$f":"IFERROR(VLOOKUP(B1076,#REF!,9,FALSE),\"\")","v":""},null,null,null,"",""]
[null,null,{"$f":"IFERROR(VLOOKUP(B1077,#REF!,2,FALSE),\"\")","v":""},{"$f":"IFERROR(VLOOKUP(B1077,#REF!,3,FALSE),\"\")","v":""},null,null,null,"",null,null,"",null,"",{"$f":"IFERROR(VLOOKUP(B1077,#REF!,9,FALSE),\"\")","v":""},null,null,null,"",""]
[null,null,{"$f":"IFERROR(VLOOKUP(B1078,#REF!,2,FALSE),\"\")","v":""},{"$f":"IFERROR(VLOOKUP(B1078,#REF!,3,FALSE),\"\")","v":""},null,null,null,"",null,null,"",null,"",{"$f":"IFERROR(VLOOKUP(B1078,#REF!,9,FALSE),\"\")","v":""},null,null,null,"",""]
[null,null,{"$f":"IFERROR(VLOOKUP(B1079,#REF!,2,FALSE),\"\")","v":""},{"$f":"IFERROR(VLOOKUP(B1079,#REF!,3,FALSE),\"\")","v":""},null,null,null,"",null,null,"",null,"",{"$f":"IFERROR(VLOOKUP(B1079,#REF!,9,FALSE),\"\")","v":""},null,null,null,"",""]
[null,null,{"$f":"IFERROR(VLOOKUP(B1080,#REF!,2,FALSE),\"\")","v":""},{"$f":"IFERROR(VLOOKUP(B1080,#REF!,3,FALSE),\"\")","v":""},null,null,null,"",null,null,"",null,"",{"$f":"IFERROR(VLOOKUP(B1080,#REF!,9,FALSE),\"\")","v":""},null,null,null,"",""]
[null,null,{"$f":"IFERROR(VLOOKUP(B1081,#REF!,2,FALSE),\"\")","v":""},{"$f":"IFERROR(VLOOKUP(B1081,#REF!,3,FALSE),\"\")","v":""},null,null,null,"",null,null,"",null,"",{"$f":"IFERROR(VLOOKUP(B1081,#REF!,9,FALSE),\"\")","v":""},null,null,null,"",""]
[null,null,{"$f":"IFERROR(VLOOKUP(B1082,#REF!,2,FALSE),\"\")","v":""},{"$f":"IFERROR(VLOOKUP(B1082,#REF!,3,FALSE),\"\")","v":""},null,null,null,"",null,null,"",null,"",{"$f":"IFERROR(VLOOKUP(B1082,#REF!,9,FALSE),\"\")","v":""},null,null,null,"",""]
[null,null,{"$f":"IFERROR(VLOOKUP(B1083,#REF!,2,FALSE),\"\")","v":""},{"$f":"IFERROR(VLOOKUP(B1083,#REF!,3,FALSE),\"\")","v":""},null,null,null,"",null,null,"",null,"",{"$f":"IFERROR(VLOOKUP(B1083,#REF!,9,FALSE),\"\")","v":""},null,null,null,"",""]
[null,null,{"$f":"IFERROR(VLOOKUP(B1084,#REF!,2,FALSE),\"\")","v":""},{"$f":"IFERROR(VLOOKUP(B1084,#REF!,3,FALSE),\"\")","v":""},null,null,null,"",null,null,"",null,"",{"$f":"IFERROR(VLOOKUP(B1084,#REF!,9,FALSE),\"\")","v":""},null,null,null,"",""]
[null,null,{"$f":"IFERROR(VLOOKUP(B1085,#REF!,2,FALSE),\"\")","v":""},{"$f":"IFERROR(VLOOKUP(B1085,#REF!,3,FALSE),\"\")","v":""},null,null,null,"",null,null,"",null,"",{"$f":"IFERROR(VLOOKUP(B1085,#REF!,9,FALSE),\"\")","v":""},null,null,null,"",""]
[null,null,{"$f":"IFERROR(VLOOKUP(B1086,#REF!,2,FALSE),\"\")","v":""},{"$f":"IFERROR(VLOOKUP(B1086,#REF!,3,FALSE),\"\")","v":""},null,null,null,"",null,null,"",null,"",{"$f":"IFERROR(VLOOKUP(B1086,#REF!,9,FALSE),\"\")","v":""},null,null,null,"",""]
[null,null,{"$f":"IFERROR(VLOOKUP(B1087,#REF!,2,FALSE),\"\")","v":""},{"$f":"IFERROR(VLOOKUP(B1087,#REF!,3,FALSE),\"\")","v":""},null,null,null,"",null,null,"",null,"",{"$f":"IFERROR(VLOOKUP(B1087,#REF!,9,FALSE),\"\")","v":""},null,null,null,"",""]
[null,null,{"$f":"IFERROR(VLOOKUP(B1088,#REF!,2,FALSE),\"\")","v":""},{"$f":"IFERROR(VLOOKUP(B1088,#REF!,3,FALSE),\"\")","v":""},null,null,null,"",null,null,"",null,"",{"$f":"IFERROR(VLOOKUP(B1088,#REF!,9,FALSE),\"\")","v":""},null,null,null,"",""]
[null,null,{"$f":"IFERROR(VLOOKUP(B1089,#REF!,2,FALSE),\"\")","v":""},{"$f":"IFERROR(VLOOKUP(B1089,#REF!,3,FALSE),\"\")","v":""},null,null,null,"",null,null,"",null,"",{"$f":"IFERROR(VLOOKUP(B1089,#REF!,9,FALSE),\"\")","v":""},null,null,null,"",""]
[null,null,{"$f":"IFERROR(VLOOKUP(B1090,#REF!,2,FALSE),\"\")","v":""},{"$f":"IFERROR(VLOOKUP(B1090,#REF!,3,FALSE),\"\")","v":""},null,null,null,"",null,null,"",null,"",{"$f":"IFERROR(VLOOKUP(B1090,#REF!,9,FALSE),\"\")","v":""},null,null,null,"",""]
[null,null,{"$f":"IFERROR(VLOOKUP(B1091,#REF!,2,FALSE),\"\")","v":""},{"$f":"IFERROR(VLOOKUP(B1091,#REF!,3,FALSE),\"\")","v":""},null,null,null,"",null,null,"",null,"",{"$f":"IFERROR(VLOOKUP(B1091,#REF!,9,FALSE),\"\")","v":""},null,null,null,"",""]
[null,null,{"$f":"IFERROR(VLOOKUP(B1092,#REF!,2,FALSE),\"\")","v":""},{"$f":"IFERROR(VLOOKUP(B1092,#REF!,3,FALSE),\"\")","v":""},null,null,null,"",null,null,"",null,"",{"$f":"IFERROR(VLOOKUP(B1092,#REF!,9,FALSE),\"\")","v":""},null,null,null,"",{"$f":"IF( N1092 <> \"\", IF(AND(E1092<\"100%\", M1092>0, O1092>N1092), \"Miss\", \"Hit\"), \"\")","v":""}]
[null,null,{"$f":"IFERROR(VLOOKUP(B1093,#REF!,2,FALSE),\"\")","v":""},{"$f":"IFERROR(VLOOKUP(B1093,#REF!,3,FALSE),\"\")","v":""},null,null,null,"",null,null,"",null,"",{"$f":"IFERROR(VLOOKUP(B1093,#REF!,9,FALSE),\"\")","v":""},null,null,null,"",""]
[null,null,{"$f":"IFERROR(VLOOKUP(B1094,#REF!,2,FALSE),\"\")","v":""},{"$f":"IFERROR(VLOOKUP(B1094,#REF!,3,FALSE),\"\")","v":""},null,null,null,"",null,null,"",null,"",{"$f":"IFERROR(VLOOKUP(B1094,#REF!,9,FALSE),\"\")","v":""},null,null,null,"",""]
[null,null,{"$f":"IFERROR(VLOOKUP(B1095,#REF!,2,FALSE),\"\")","v":""},{"$f":"IFERROR(VLOOKUP(B1095,#REF!,3,FALSE),\"\")","v":""},null,null,null,"",null,null,"",null,"",{"$f":"IFERROR(VLOOKUP(B1095,#REF!,9,FALSE),\"\")","v":""},null,null,null,"",""]
[null,null,{"$f":"IFERROR(VLOOKUP(B1096,#REF!,2,FALSE),\"\")","v":""},{"$f":"IFERROR(VLOOKUP(B1096,#REF!,3,FALSE),\"\")","v":""},null,null,null,"",null,null,"",null,"",{"$f":"IFERROR(VLOOKUP(B1096,#REF!,9,FALSE),\"\")","v":""},null,null,null,"",""]
[null,null,{"$f":"IFERROR(VLOOKUP(B1097,#REF!,2,FALSE),\"\")","v":""},{"$f":"IFERROR(VLOOKUP(B1097,#REF!,3,FALSE),\"\")","v":""},null,null,null,"",null,null,"",null,"",{"$f":"IFERROR(VLOOKUP(B1097,#REF!,9,FALSE),\"\")","v":""},null,null,null,"",""]
[null,null,{"$f":"IFERROR(VLOOKUP(B1098,#REF!,2,FALSE),\"\")","v":""},{"$f":"IFERROR(VLOOKUP(B1098,#REF!,3,FALSE),\"\")","v":""},null,null,null,"",null,null,"",null,"",{"$f":"IFERROR(VLOOKUP(B1098,#REF!,9,FALSE),\"\")","v":""},null,null,null,"",""]
[null,null,{"$f":"IFERROR(VLOOKUP(B1099,#REF!,2,FALSE),\"\")","v":""},{"$f":"IFERROR(VLOOKUP(B1099,#REF!,3,FALSE),\"\")","v":""},null,null,null,"",null,null,"",null,"",{"$f":"IFERROR(VLOOKUP(B1099,#REF!,9,FALSE),\"\")","v":""},null,null,null,"",""]
[null,null,{"$f":"IFERROR(VLOOKUP(B1100,#REF!,2,FALSE),\"\")","v":""},{"$f":"IFERROR(VLOOKUP(B1100,#REF!,3,FALSE),\"\")","v":""},null,null,null,"",null,null,"",null,"",{"$f":"IFERROR(VLOOKUP(B1100,#REF!,9,FALSE),\"\")","v":""},null,null,null,"",""]
[null,null,{"$f":"IFERROR(VLOOKUP(B1101,#REF!,2,FALSE),\"\")","v":""},{"$f":"IFERROR(VLOOKUP(B1101,#REF!,3,FALSE),\"\")","v":""},null,null,null,"",null,null,"",null,"",{"$f":"IFERROR(VLOOKUP(B1101,#REF!,9,FALSE),\"\")","v":""},null,null,null,"",""]
[null,null,{"$f":"IFERROR(VLOOKUP(B1102,#REF!,2,FALSE),\"\")","v":""},{"$f":"IFERROR(VLOOKUP(B1102,#REF!,3,FALSE),\"\")","v":""},null,null,null,"",null,null,"",null,"",{"$f":"IFERROR(VLOOKUP(B1102,#REF!,9,FALSE),\"\")","v":""},null,null,null,"",""]
[null,null,{"$f":"IFERROR(VLOOKUP(B1103,#REF!,2,FALSE),\"\")","v":""},{"$f":"IFERROR(VLOOKUP(B1103,#REF!,3,FALSE),\"\")","v":""},null,null,null,"",null,null,"",null,"",{"$f":"IFERROR(VLOOKUP(B1103,#REF!,9,FALSE),\"\")","v":""},null,null,null,"",""]
[null,null,{"$f":"IFERROR(VLOOKUP(B1104,#REF!,2,FALSE),\"\")","v":""},{"$f":"IFERROR(VLOOKUP(B1104,#REF!,3,FALSE),\"\")","v":""},null,null,null,"",null,null,"",null,"",{"$f":"IFERROR(VLOOKUP(B1104,#REF!,9,FALSE),\"\")","v":""},null,null,null,"",""]
[null,null,{"$f":"IFERROR(VLOOKUP(B1105,#REF!,2,FALSE),\"\")","v":""},{"$f":"IFERROR(VLOOKUP(B1105,#REF!,3,FALSE),\"\")","v":""},null,null,null,"",null,null,"",null,"",{"$f":"IFERROR(VLOOKUP(B1105,#REF!,9,FALSE),\"\")","v":""},null,null,null,"",""]
[null,null,{"$f":"IFERROR(VLOOKUP(B1106,#REF!,2,FALSE),\"\")","v":""},{"$f":"IFERROR(VLOOKUP(B1106,#REF!,3,FALSE),\"\")","v":""},null,null,null,"",null,null,"",null,"",{"$f":"IFERROR(VLOOKUP(B1106,#REF!,9,FALSE),\"\")","v":""},null,null,null,"",""]
[null,null,{"$f":"IFERROR(VLOOKUP(B1107,#REF!,2,FALSE),\"\")","v":""},{"$f":"IFERROR(VLOOKUP(B1107,#REF!,3,FALSE),\"\")","v":""},null,null,null,"",null,null,"",null,"",{"$f":"IFERROR(VLOOKUP(B1107,#REF!,9,FALSE),\"\")","v":""},null,null,null,{"$f":"IF(P1107=\"\",\"\",IFERROR(P1107-Q1107,\"\"))","v":""},""]
[null,null,{"$f":"IFERROR(VLOOKUP(B1108,#REF!,2,FALSE),\"\")","v":""},{"$f":"IFERROR(VLOOKUP(B1108,#REF!,3,FALSE),\"\")","v":""},null,null,null,"",null,null,"",null,"",{"$f":"IFERROR(VLOOKUP(B1108,#REF!,9,FALSE),\"\")","v":""},null,null,null,"",""]
[null,null,{"$f":"IFERROR(VLOOKUP(B1109,#REF!,2,FALSE),\"\")","v":""},{"$f":"IFERROR(VLOOKUP(B1109,#REF!,3,FALSE),\"\")","v":""},null,null,null,{"$f":"IF((G1109-F1109)<=0,\"\",(G1109-F1109))","v":""},null,null,{"$f":"IF((J1109-I1109)<=0,\"\",(J1109-I1109))","v":""},null,"",{"$f":"IFERROR(VLOOKUP(B1109,#REF!,9,FALSE),\"\")","v":""},null,null,null,"",""]
[null,null,{"$f":"IFERROR(VLOOKUP(B1110,#REF!,2,FALSE),\"\")","v":""},{"$f":"IFERROR(VLOOKUP(B1110,#REF!,3,FALSE),\"\")","v":""},null,null,null,"",null,null,"",null,"",{"$f":"IFERROR(VLOOKUP(B1110,#REF!,9,FALSE),\"\")","v":""},null,null,null,"",""]
[null,null,{"$f":"IFERROR(VLOOKUP(B1111,#REF!,2,FALSE),\"\")","v":""},{"$f":"IFERROR(VLOOKUP(B1111,#REF!,3,FALSE),\"\")","v":""},null,null,null,"",null,null,"",null,"",{"$f":"IFERROR(VLOOKUP(B1111,#REF!,9,FALSE),\"\")","v":""},null,null,null,"",""]
[null,null,{"$f":"IFERROR(VLOOKUP(B1112,#REF!,2,FALSE),\"\")","v":""},{"$f":"IFERROR(VLOOKUP(B1112,#REF!,3,FALSE),\"\")","v":""},null,null,null,"",null,null,"",null,"",{"$f":"IFERROR(VLOOKUP(B1112,#REF!,9,FALSE),\"\")","v":""},null,null,null,"",""]
[null,null,{"$f":"IFERROR(VLOOKUP(B1113,#REF!,2,FALSE),\"\")","v":""},{"$f":"IFERROR(VLOOKUP(B1113,#REF!,3,FALSE),\"\")","v":""},null,null,null,"",null,null,"",null,"",{"$f":"IFERROR(VLOOKUP(B1113,#REF!,9,FALSE),\"\")","v":""},null,null,null,"",""]
[null,null,{"$f":"IFERROR(VLOOKUP(B1114,#REF!,2,FALSE),\"\")","v":""},{"$f":"IFERROR(VLOOKUP(B1114,#REF!,3,FALSE),\"\")","v":""},null,null,null,"",null,null,"",null,"",{"$f":"IFERROR(VLOOKUP(B1114,#REF!,9,FALSE),\"\")","v":""},null,null,null,"",""]
[null,null,{"$f":"IFERROR(VLOOKUP(B1115,#REF!,2,FALSE),\"\")","v":""},{"$f":"IFERROR(VLOOKUP(B1115,#REF!,3,FALSE),\"\")","v":""},null,null,null,"",null,null,"",null,"",{"$f":"IFERROR(VLOOKUP(B1115,#REF!,9,FALSE),\"\")","v":""},null,null,null,"",""]
[null,null,{"$f":"IFERROR(VLOOKUP(B1116,#REF!,2,FALSE),\"\")","v":""},{"$f":"IFERROR(VLOOKUP(B1116,#REF!,3,FALSE),\"\")","v":""},null,null,null,"",null,null,"",null,"",{"$f":"IFERROR(VLOOKUP(B1116,#REF!,9,FALSE),\"\")","v":""},null,null,null,"",""]
[null,null,{"$f":"IFERROR(VLOOKUP(B1117,#REF!,2,FALSE),\"\")","v":""},{"$f":"IFERROR(VLOOKUP(B1117,#REF!,3,FALSE),\"\")","v":""},null,null,null,"",null,null,"",null,"",{"$f":"IFERROR(VLOOKUP(B1117,#REF!,9,FALSE),\"\")","v":""},null,null,null,"",""]
[null,null,{"$f":"IFERROR(VLOOKUP(B1118,#REF!,2,FALSE),\"\")","v":""},{"$f":"IFERROR(VLOOKUP(B1118,#REF!,3,FALSE),\"\")","v":""},null,null,null,"",null,null,"",null,"",{"$f":"IFERROR(VLOOKUP(B1118,#REF!,9,FALSE),\"\")","v":""},null,null,null,"",""]
[null,null,{"$f":"IFERROR(VLOOKUP(B1119,#REF!,2,FALSE),\"\")","v":""},{"$f":"IFERROR(VLOOKUP(B1119,#REF!,3,FALSE),\"\")","v":""},null,null,null,"",null,null,"",null,"",{"$f":"IFERROR(VLOOKUP(B1119,#REF!,9,FALSE),\"\")","v":""},null,null,null,"",""]
[null,null,{"$f":"IFERROR(VLOOKUP(B1120,#REF!,2,FALSE),\"\")","v":""},{"$f":"IFERROR(VLOOKUP(B1120,#REF!,3,FALSE),\"\")","v":""},null,null,null,"",null,null,"",null,"",{"$f":"IFERROR(VLOOKUP(B1120,#REF!,9,FALSE),\"\")","v":""},null,null,null,"",""]
[null,null,{"$f":"IFERROR(VLOOKUP(B1121,#REF!,2,FALSE),\"\")","v":""},{"$f":"IFERROR(VLOOKUP(B1121,#REF!,3,FALSE),\"\")","v":""},null,null,null,"",null,null,"",null,"",{"$f":"IFERROR(VLOOKUP(B1121,#REF!,9,FALSE),\"\")","v":""},null,null,null,"",""]
[null,null,{"$f":"IFERROR(VLOOKUP(B1122,#REF!,2,FALSE),\"\")","v":""},{"$f":"IFERROR(VLOOKUP(B1122,#REF!,3,FALSE),\"\")","v":""},null,null,null,"",null,null,"",null,"",{"$f":"IFERROR(VLOOKUP(B1122,#REF!,9,FALSE),\"\")","v":""},null,null,null,"",""]
[null,null,{"$f":"IFERROR(VLOOKUP(B1123,#REF!,2,FALSE),\"\")","v":""},{"$f":"IFERROR(VLOOKUP(B1123,#REF!,3,FALSE),\"\")","v":""},null,null,null,"",null,null,"",null,"",{"$f":"IFERROR(VLOOKUP(B1123,#REF!,9,FALSE),\"\")","v":""},null,null,null,"",""]
[null,null,{"$f":"IFERROR(VLOOKUP(B1124,#REF!,2,FALSE),\"\")","v":""},{"$f":"IFERROR(VLOOKUP(B1124,#REF!,3,FALSE),\"\")","v":""},null,null,null,"",null,null,"",null,"",{"$f":"IFERROR(VLOOKUP(B1124,#REF!,9,FALSE),\"\")","v":""},null,null,null,"",""]
[null,null,{"$f":"IFERROR(VLOOKUP(B1125,#REF!,2,FALSE),\"\")","v":""},{"$f":"IFERROR(VLOOKUP(B1125,#REF!,3,FALSE),\"\")","v":""},null,null,null,"",null,null,"",null,"",{"$f":"IFERROR(VLOOKUP(B1125,#REF!,9,FALSE),\"\")","v":""},null,null,null,"",""]
[null,null,{"$f":"IFERROR(VLOOKUP(B1126,#REF!,2,FALSE),\"\")","v":""},{"$f":"IFERROR(VLOOKUP(B1126,#REF!,3,FALSE),\"\")","v":""},null,null,null,"",null,null,"",null,"",{"$f":"IFERROR(VLOOKUP(B1126,#REF!,9,FALSE),\"\")","v":""},null,null,null,"",""]
[null,null,{"$f":"IFERROR(VLOOKUP(B1127,#REF!,2,FALSE),\"\")","v":""},{"$f":"IFERROR(VLOOKUP(B1127,#REF!,3,FALSE),\"\")","v":""},null,null,null,"",null,null,"",null,"",{"$f":"IFERROR(VLOOKUP(B1127,#REF!,9,FALSE),\"\")","v":""},null,null,null,"",""]
[null,null,{"$f":"IFERROR(VLOOKUP(B1128,#REF!,2,FALSE),\"\")","v":""},{"$f":"IFERROR(VLOOKUP(B1128,#REF!,3,FALSE),\"\")","v":""},null,null,null,"",null,null,"",null,"",{"$f":"IFERROR(VLOOKUP(B1128,#REF!,9,FALSE),\"\")","v":""},null,null,null,"",""]
[null,null,{"$f":"IFERROR(VLOOKUP(B1129,#REF!,2,FALSE),\"\")","v":""},{"$f":"IFERROR(VLOOKUP(B1129,#REF!,3,FALSE),\"\")","v":""},null,null,null,"",null,null,"",null,"",{"$f":"IFERROR(VLOOKUP(B1129,#REF!,9,FALSE),\"\")","v":""},null,null,null,"",""]
[null,null,{"$f":"IFERROR(VLOOKUP(B1130,#REF!,2,FALSE),\"\")","v":""},{"$f":"IFERROR(VLOOKUP(B1130,#REF!,3,FALSE),\"\")","v":""},null,null,null,"",null,null,"",null,"",{"$f":"IFERROR(VLOOKUP(B1130,#REF!,9,FALSE),\"\")","v":""},null,null,null,"",""]
[null,null,{"$f":"IFERROR(VLOOKUP(B1131,#REF!,2,FALSE),\"\")","v":""},{"$f":"IFERROR(VLOOKUP(B1131,#REF!,3,FALSE),\"\")","v":""},null,null,null,"",null,null,"",null,"",{"$f":"IFERROR(VLOOKUP(B1131,#REF!,9,FALSE),\"\")","v":""},null,null,null,"",""]
[null,null,{"$f":"IFERROR(VLOOKUP(B1132,#REF!,2,FALSE),\"\")","v":""},{"$f":"IFERROR(VLOOKUP(B1132,#REF!,3,FALSE),\"\")","v":""},null,null,null,"",null,null,"",null,"",{"$f":"IFERROR(VLOOKUP(B1132,#REF!,9,FALSE),\"\")","v":""},null,null,null,"",""]
[null,null,{"$f":"IFERROR(VLOOKUP(B1133,#REF!,2,FALSE),\"\")","v":""},{"$f":"IFERROR(VLOOKUP(B1133,#REF!,3,FALSE),\"\")","v":""},null,null,null,"",null,null,"",null,"",{"$f":"IFERROR(VLOOKUP(B1133,#REF!,9,FALSE),\"\")","v":""},null,null,null,"",""]
[null,null,{"$f":"IFERROR(VLOOKUP(B1134,#REF!,2,FALSE),\"\")","v":""},{"$f":"IFERROR(VLOOKUP(B1134,#REF!,3,FALSE),\"\")","v":""},null,null,null,"",null,null,"",null,"",{"$f":"IFERROR(VLOOKUP(B1134,#REF!,9,FALSE),\"\")","v":""},null,null,null,"",""]
[null,null,{"$f":"IFERROR(VLOOKUP(B1135,#REF!,2,FALSE),\"\")","v":""},{"$f":"IFERROR(VLOOKUP(B1135,#REF!,3,FALSE),\"\")","v":""},null,null,null,"",null,null,"",null,{"$f":"IFERROR(IF((K1135-L1135)<=0,\"0\",(K1135-L1135)),\"\")","v":""},{"$f":"IFERROR(VLOOKUP(B1135,#REF!,9,FALSE),\"\")","v":""},null,null,null,"",""]
[null,null,{"$f":"IFERROR(VLOOKUP(B1136,#REF!,2,FALSE),\"\")","v":""},{"$f":"IFERROR(VLOOKUP(B1136,#REF!,3,FALSE),\"\")","v":""},null,null,null,"",null,null,"",null,"",{"$f":"IFERROR(VLOOKUP(B1136,#REF!,9,FALSE),\"\")","v":""},null,null,null,"",""]
[null,null,{"$f":"IFERROR(VLOOKUP(B1137,#REF!,2,FALSE),\"\")","v":""},{"$f":"IFERROR(VLOOKUP(B1137,#REF!,3,FALSE),\"\")","v":""},null,null,null,"",null,null,"",null,"",{"$f":"IFERROR(VLOOKUP(B1137,#REF!,9,FALSE),\"\")","v":""},null,null,null,"",""]
[null,null,{"$f":"IFERROR(VLOOKUP(B1138,#REF!,2,FALSE),\"\")","v":""},{"$f":"IFERROR(VLOOKUP(B1138,#REF!,3,FALSE),\"\")","v":""},null,null,null,"",null,null,"",null,"",{"$f":"IFERROR(VLOOKUP(B1138,#REF!,9,FALSE),\"\")","v":""},null,null,null,"",""]
[null,null,{"$f":"IFERROR(VLOOKUP(B1139,#REF!,2,FALSE),\"\")","v":""},{"$f":"IFERROR(VLOOKUP(B1139,#REF!,3,FALSE),\"\")","v":""},null,null,null,"",null,null,"",null,"",{"$f":"IFERROR(VLOOKUP(B1139,#REF!,9,FALSE),\"\")","v":""},null,null,null,"",""]
[null,null,{"$f":"IFERROR(VLOOKUP(B1140,#REF!,2,FALSE),\"\")","v":""},{"$f":"IFERROR(VLOOKUP(B1140,#REF!,3,FALSE),\"\")","v":""},null,null,null,"",null,null,"",null,"",{"$f":"IFERROR(VLOOKUP(B1140,#REF!,9,FALSE),\"\")","v":""},null,null,null,"",""]
[null,null,{"$f":"IFERROR(VLOOKUP(B1141,#REF!,2,FALSE),\"\")","v":""},{"$f":"IFERROR(VLOOKUP(B1141,#REF!,3,FALSE),\"\")","v":""},null,null,null,"",null,null,"",null,"",{"$f":"IFERROR(VLOOKUP(B1141,#REF!,9,FALSE),\"\")","v":""},null,null,null,"",""]
[null,null,{"$f":"IFERROR(VLOOKUP(B1142,#REF!,2,FALSE),\"\")","v":""},{"$f":"IFERROR(VLOOKUP(B1142,#REF!,3,FALSE),\"\")","v":""},null,null,null,"",null,null,"",null,"",{"$f":"IFERROR(VLOOKUP(B1142,#REF!,9,FALSE),\"\")","v":""},null,null,null,"",""]
[null,null,{"$f":"IFERROR(VLOOKUP(B1143,#REF!,2,FALSE),\"\")","v":""},{"$f":"IFERROR(VLOOKUP(B1143,#REF!,3,FALSE),\"\")","v":""},null,null,null,"",null,null,"",null,"",{"$f":"IFERROR(VLOOKUP(B1143,#REF!,9,FALSE),\"\")","v":""},null,null,null,"",""]
[null,null,{"$f":"IFERROR(VLOOKUP(B1144,#REF!,2,FALSE),\"\")","v":""},{"$f":"IFERROR(VLOOKUP(B1144,#REF!,3,FALSE),\"\")","v":""},null,null,null,"",null,null,"",null,"",{"$f":"IFERROR(VLOOKUP(B1144,#REF!,9,FALSE),\"\")","v":""},null,null,null,"",""]
[null,null,{"$f":"IFERROR(VLOOKUP(B1145,#REF!,2,FALSE),\"\")","v":""},{"$f":"IFERROR(VLOOKUP(B1145,#REF!,3,FALSE),\"\")","v":""},null,null,null,"",null,null,"",null,"",{"$f":"IFERROR(VLOOKUP(B1145,#REF!,9,FALSE),\"\")","v":""},null,null,null,"",""]
[null,null,{"$f":"IFERROR(VLOOKUP(B1146,#REF!,2,FALSE),\"\")","v":""},{"$f":"IFERROR(VLOOKUP(B1146,#REF!,3,FALSE),\"\")","v":""},null,null,null,"",null,null,"",null,"",{"$f":"IFERROR(VLOOKUP(B1146,#REF!,9,FALSE),\"\")","v":""},null,null,null,"",""]
[null,null,{"$f":"IFERROR(VLOOKUP(B1147,#REF!,2,FALSE),\"\")","v":""},{"$f":"IFERROR(VLOOKUP(B1147,#REF!,3,FALSE),\"\")","v":""},null,null,null,"",null,null,"",null,"",{"$f":"IFERROR(VLOOKUP(B1147,#REF!,9,FALSE),\"\")","v":""},null,null,null,"",""]
[null,null,{"$f":"IFERROR(VLOOKUP(B1148,#REF!,2,FALSE),\"\")","v":""},{"$f":"IFERROR(VLOOKUP(B1148,#REF!,3,FALSE),\"\")","v":""},null,null,null,"",null,null,"",null,"",{"$f":"IFERROR(VLOOKUP(B1148,#REF!,9,FALSE),\"\")","v":""},null,null,null,"",""]
[null,null,{"$f":"IFERROR(VLOOKUP(B1149,#REF!,2,FALSE),\"\")","v":""},{"$f":"IFERROR(VLOOKUP(B1149,#REF!,3,FALSE),\"\")","v":""},null,null,null,"",null,null,"",null,"",{"$f":"IFERROR(VLOOKUP(B1149,#REF!,9,FALSE),\"\")","v":""},null,null,null,"",""]
[null,null,{"$f":"IFERROR(VLOOKUP(B1150,#REF!,2,FALSE),\"\")","v":""},{"$f":"IFERROR(VLOOKUP(B1150,#REF!,3,FALSE),\"\")","v":""},null,null,null,"",null,null,"",null,"",{"$f":"IFERROR(VLOOKUP(B1150,#REF!,9,FALSE),\"\")","v":""},null,null,null,"",""]
[null,null,{"$f":"IFERROR(VLOOKUP(B1151,#REF!,2,FALSE),\"\")","v":""},{"$f":"IFERROR(VLOOKUP(B1151,#REF!,3,FALSE),\"\")","v":""},null,null,null,"",null,null,"",null,"",{"$f":"IFERROR(VLOOKUP(B1151,#REF!,9,FALSE),\"\")","v":""},null,null,null,"",""]
[null,null,{"$f":"IFERROR(VLOOKUP(B1152,#REF!,2,FALSE),\"\")","v":""},{"$f":"IFERROR(VLOOKUP(B1152,#REF!,3,FALSE),\"\")","v":""},null,null,null,"",null,null,"",null,"",{"$f":"IFERROR(VLOOKUP(B1152,#REF!,9,FALSE),\"\")","v":""},null,null,null,"",""]
[null,null,{"$f":"IFERROR(VLOOKUP(B1153,#REF!,2,FALSE),\"\")","v":""},{"$f":"IFERROR(VLOOKUP(B1153,#REF!,3,FALSE),\"\")","v":""},null,null,null,"",null,null,"",null,"",{"$f":"IFERROR(VLOOKUP(B1153,#REF!,9,FALSE),\"\")","v":""},null,null,null,"",""]
[null,null,{"$f":"IFERROR(VLOOKUP(B1154,#REF!,2,FALSE),\"\")","v":""},{"$f":"IFERROR(VLOOKUP(B1154,#REF!,3,FALSE),\"\")","v":""},null,null,null,"",null,null,"",null,"",{"$f":"IFERROR(VLOOKUP(B1154,#REF!,9,FALSE),\"\")","v":""},null,null,null,"",""]
[null,null,{"$f":"IFERROR(VLOOKUP(B1155,#REF!,2,FALSE),\"\")","v":""},{"$f":"IFERROR(VLOOKUP(B1155,#REF!,3,FALSE),\"\")","v":""},null,null,null,"",null,null,"",null,"",{"$f":"IFERROR(VLOOKUP(B1155,#REF!,9,FALSE),\"\")","v":""},null,null,null,"",""]
[null,null,{"$f":"IFERROR(VLOOKUP(B1156,#REF!,2,FALSE),\"\")","v":""},{"$f":"IFERROR(VLOOKUP(B1156,#REF!,3,FALSE),\"\")","v":""},null,null,null,"",null,null,"",null,"",{"$f":"IFERROR(VLOOKUP(B1156,#REF!,9,FALSE),\"\")","v":""},null,null,null,"",{"$f":"IF( N1156 <> \"\", IF(AND(E1156<\"100%\", M1156>0, O1156>N1156), \"Miss\", \"Hit\"), \"\")","v":""}]
[null,null,{"$f":"IFERROR(VLOOKUP(B1157,#REF!,2,FALSE),\"\")","v":""},{"$f":"IFERROR(VLOOKUP(B1157,#REF!,3,FALSE),\"\")","v":""},null,null,null,"",null,null,"",null,"",{"$f":"IFERROR(VLOOKUP(B1157,#REF!,9,FALSE),\"\")","v":""},null,null,null,"",""]
[null,null,{"$f":"IFERROR(VLOOKUP(B1158,#REF!,2,FALSE),\"\")","v":""},{"$f":"IFERROR(VLOOKUP(B1158,#REF!,3,FALSE),\"\")","v":""},null,null,null,"",null,null,"",null,"",{"$f":"IFERROR(VLOOKUP(B1158,#REF!,9,FALSE),\"\")","v":""},null,null,null,"",""]
[null,null,{"$f":"IFERROR(VLOOKUP(B1159,#REF!,2,FALSE),\"\")","v":""},{"$f":"IFERROR(VLOOKUP(B1159,#REF!,3,FALSE),\"\")","v":""},null,null,null,"",null,null,"",null,"",{"$f":"IFERROR(VLOOKUP(B1159,#REF!,9,FALSE),\"\")","v":""},null,null,null,"",""]
[null,null,{"$f":"IFERROR(VLOOKUP(B1160,#REF!,2,FALSE),\"\")","v":""},{"$f":"IFERROR(VLOOKUP(B1160,#REF!,3,FALSE),\"\")","v":""},null,null,null,"",null,null,"",null,"",{"$f":"IFERROR(VLOOKUP(B1160,#REF!,9,FALSE),\"\")","v":""},null,null,null,"",""]
[null,null,{"$f":"IFERROR(VLOOKUP(B1161,#REF!,2,FALSE),\"\")","v":""},{"$f":"IFERROR(VLOOKUP(B1161,#REF!,3,FALSE),\"\")","v":""},null,null,null,"",null,null,"",null,"",{"$f":"IFERROR(VLOOKUP(B1161,#REF!,9,FALSE),\"\")","v":""},null,null,null,"",""]
[null,null,{"$f":"IFERROR(VLOOKUP(B1162,#REF!,2,FALSE),\"\")","v":""},{"$f":"IFERROR(VLOOKUP(B1162,#REF!,3,FALSE),\"\")","v":""},null,null,null,"",null,null,"",null,"",{"$f":"IFERROR(VLOOKUP(B1162,#REF!,9,FALSE),\"\")","v":""},null,null,null,"",""]
[null,null,{"$f":"IFERROR(VLOOKUP(B1163,#REF!,2,FALSE),\"\")","v":""},{"$f":"IFERROR(VLOOKUP(B1163,#REF!,3,FALSE),\"\")","v":""},null,null,null,"",null,null,"",null,"",{"$f":"IFERROR(VLOOKUP(B1163,#REF!,9,FALSE),\"\")","v":""},null,null,null,"",""]
[null,null,{"$f":"IFERROR(VLOOKUP(B1164,#REF!,2,FALSE),\"\")","v":""},{"$f":"IFERROR(VLOOKUP(B1164,#REF!,3,FALSE),\"\")","v":""},null,null,null,"",null,null,"",null,"",{"$f":"IFERROR(VLOOKUP(B1164,#REF!,9,FALSE),\"\")","v":""},null,null,null,"",""]
[null,null,{"$f":"IFERROR(VLOOKUP(B1165,#REF!,2,FALSE),\"\")","v":""},{"$f":"IFERROR(VLOOKUP(B1165,#REF!,3,FALSE),\"\")","v":""},null,null,null,"",null,null,"",null,"",{"$f":"IFERROR(VLOOKUP(B1165,#REF!,9,FALSE),\"\")","v":""},null,null,null,"",""]
[null,null,{"$f":"IFERROR(VLOOKUP(B1166,#REF!,2,FALSE),\"\")","v":""},{"$f":"IFERROR(VLOOKUP(B1166,#REF!,3,FALSE),\"\")","v":""},null,null,null,"",null,null,"",null,"",{"$f":"IFERROR(VLOOKUP(B1166,#REF!,9,FALSE),\"\")","v":""},null,null,null,"",""]
[null,null,{"$f":"IFERROR(VLOOKUP(B1167,#REF!,2,FALSE),\"\")","v":""},{"$f":"IFERROR(VLOOKUP(B1167,#REF!,3,FALSE),\"\")","v":""},null,null,null,"",null,null,"",null,"",{"$f":"IFERROR(VLOOKUP(B1167,#REF!,9,FALSE),\"\")","v":""},null,null,null,"",""]
[null,null,{"$f":"IFERROR(VLOOKUP(B1168,#REF!,2,FALSE),\"\")","v":""},{"$f":"IFERROR(VLOOKUP(B1168,#REF!,3,FALSE),\"\")","v":""},null,null,null,"",null,null,"",null,"",{"$f":"IFERROR(VLOOKUP(B1168,#REF!,9,FALSE),\"\")","v":""},null,null,null,"",""]
[null,null,{"$f":"IFERROR(VLOOKUP(B1169,#REF!,2,FALSE),\"\")","v":""},{"$f":"IFERROR(VLOOKUP(B1169,#REF!,3,FALSE),\"\")","v":""},null,null,null,"",null,null,"",null,"",{"$f":"IFERROR(VLOOKUP(B1169,#REF!,9,FALSE),\"\")","v":""},null,null,null,"",""]
[null,null,{"$f":"IFERROR(VLOOKUP(B1170,#REF!,2,FALSE),\"\")","v":""},{"$f":"IFERROR(VLOOKUP(B1170,#REF!,3,FALSE),\"\")","v":""},null,null,null,"",null,null,"",null,"",{"$f":"IFERROR(VLOOKUP(B1170,#REF!,9,FALSE),\"\")","v":""},null,null,null,"",""]
[null,null,{"$f":"IFERROR(VLOOKUP(B1171,#REF!,2,FALSE),\"\")","v":""},{"$f":"IFERROR(VLOOKUP(B1171,#REF!,3,FALSE),\"\")","v":""},null,null,null,"",null,null,"",null,"",{"$f":"IFERROR(VLOOKUP(B1171,#REF!,9,FALSE),\"\")","v":""},null,null,null,{"$f":"IF(P1171=\"\",\"\",IFERROR(P1171-Q1171,\"\"))","v":""},""]
[null,null,{"$f":"IFERROR(VLOOKUP(B1172,#REF!,2,FALSE),\"\")","v":""},{"$f":"IFERROR(VLOOKUP(B1172,#REF!,3,FALSE),\"\")","v":""},null,null,null,"",null,null,"",null,"",{"$f":"IFERROR(VLOOKUP(B1172,#REF!,9,FALSE),\"\")","v":""},null,null,null,"",""]
[null,null,{"$f":"IFERROR(VLOOKUP(B1173,#REF!,2,FALSE),\"\")","v":""},{"$f":"IFERROR(VLOOKUP(B1173,#REF!,3,FALSE),\"\")","v":""},null,null,null,{"$f":"IF((G1173-F1173)<=0,\"\",(G1173-F1173))","v":""},null,null,{"$f":"IF((J1173-I1173)<=0,\"\",(J1173-I1173))","v":""},null,"",{"$f":"IFERROR(VLOOKUP(B1173,#REF!,9,FALSE),\"\")","v":""},null,null,null,"",""]
[null,null,{"$f":"IFERROR(VLOOKUP(B1174,#REF!,2,FALSE),\"\")","v":""},{"$f":"IFERROR(VLOOKUP(B1174,#REF!,3,FALSE),\"\")","v":""},null,null,null,"",null,null,"",null,"",{"$f":"IFERROR(VLOOKUP(B1174,#REF!,9,FALSE),\"\")","v":""},null,null,null,"",""]
[null,null,{"$f":"IFERROR(VLOOKUP(B1175,#REF!,2,FALSE),\"\")","v":""},{"$f":"IFERROR(VLOOKUP(B1175,#REF!,3,FALSE),\"\")","v":""},null,null,null,"",null,null,"",null,"",{"$f":"IFERROR(VLOOKUP(B1175,#REF!,9,FALSE),\"\")","v":""},null,null,null,"",""]
[null,null,{"$f":"IFERROR(VLOOKUP(B1176,#REF!,2,FALSE),\"\")","v":""},{"$f":"IFERROR(VLOOKUP(B1176,#REF!,3,FALSE),\"\")","v":""},null,null,null,"",null,null,"",null,"",{"$f":"IFERROR(VLOOKUP(B1176,#REF!,9,FALSE),\"\")","v":""},null,null,null,"",""]
[null,null,{"$f":"IFERROR(VLOOKUP(B1177,#REF!,2,FALSE),\"\")","v":""},{"$f":"IFERROR(VLOOKUP(B1177,#REF!,3,FALSE),\"\")","v":""},null,null,null,"",null,null,"",null,"",{"$f":"IFERROR(VLOOKUP(B1177,#REF!,9,FALSE),\"\")","v":""},null,null,null,null,""]

{"sheet":"score","index":1,"n_rows":70,"n_cols":54,"rows_kept":70,"cut":false,"hidden":true,"merged":[[66,0,69,0],[54,0,63,0],[54,2,54,6],[54,7,54,10],[54,11,54,14],[54,15,54,19],[54,20,54,23],[54,50,54,53],[63,2,63,6],[63,7,63,10],[63,11,63,14],[63,15,63,19],[63,20,63,23],[63,24,63,27],[63,28,63,32],[63,33,63,36],[63,37,63,41],[54,24,54,27],[54,28,54,32],[54,33,54,36],[54,37,54,41],[54,42,54,45],[54,46,54,49],[63,42,63,45],[63,46,63,49],[42,37,42,41],[42,42,42,45],[42,46,42,49],[42,50,42,53],[51,37,51,41],[51,42,51,45],[51,46,51,49],[51,50,51,53],[63,50,63,53],[27,50,27,53],[30,50,30,53],[39,2,39,6],[39,7,39,10],[39,11,39,14],[39,15,39,19],[39,20,39,23],[39,24,39,27],[39,28,39,32],[39,33,39,36],[39,37,39,41],[30,24,30,27],[30,28,30,32],[30,33,30,36],[30,37,30,41],[30,42,30,45],[30,46,30,49],[39,42,39,45],[39,46,39,49],[39,50,39,53],[27,7,27,10],[27,11,27,14],[27,15,27,19],[30,2,30,6],[30,7,30,10],[30,11,30,14],[30,15,30,19],[30,20,30,23],[15,42,15,45],[15,46,15,49],[15,50,15,53],[6,0,15,0],[18,0,27,0],[18,2,18,6],[18,7,18,10],[18,11,18,14],[18,15,18,19],[18,20,18,23],[18,24,18,27],[18,28,18,32],[18,33,18,36],[18,37,18,41],[18,42,18,45],[18,46,18,49],[18,50,18,53],[27,2,27,6],[27,46,27,49],[6,50,6,53],[15,2,15,6],[15,7,15,10],[15,11,15,14],[15,15,15,19],[15,20,15,23],[15,24,15,27],[15,28,15,32],[15,33,15,36],[15,37,15,41],[6,24,6,27],[6,28,6,32],[6,33,6,36],[6,37,6,41],[6,42,6,45],[6,46,6,49],[6,2,6,6],[6,7,6,10],[6,11,6,14],[6,15,6,19],[6,20,6,23],[27,20,27,23],[27,24,27,27],[27,28,27,32],[27,33,27,36],[27,37,27,41],[27,42,27,45],[42,0,51,0],[42,2,42,6],[42,7,42,10],[42,11,42,14],[42,15,42,19],[42,20,42,23],[42,24,42,27],[42,28,42,32],[42,33,42,36],[51,2,51,6],[51,7,51,10],[51,11,51,14],[51,15,51,19],[51,20,51,23],[51,24,51,27],[51,28,51,32],[51,33,51,36],[30,0,39,0]]}
[null,2020,"W1","W2","W3","W4","W5","W6","W7","W8","W9","W10","W11","W12","W13","W14","W15","W16","W17","W18","W19","W20","W21","W22","W23","W24","W25","W26","W27","W28","W29","W30","W31","W32","W33","W34","W35","W36","W37","W38","W39","W40","W41","W42","W43","W44","W45","W46","W47","W48","W49","W50","W51","W52"]
[null,"2019-12-22",{"$f":"B2+7","v":"2019-12-29"},{"$f":"C2+7","v":"2020-01-05"},"2020-01-12","2020-01-19","2020-01-26","2020-02-02","2020-02-09","2020-02-16","2020-02-23","2020-03-01","2020-03-08","2020-03-15","2020-03-22","2020-03-29","2020-04-05","2020-04-12","2020-04-19","2020-04-26","2020-05-03","2020-05-10","2020-05-17","2020-05-24","2020-05-31","2020-06-07","2020-06-14","2020-06-21","2020-06-28","2020-07-05","2020-07-12","2020-07-19","2020-07-26","2020-08-02","2020-08-09","2020-08-16","2020-08-23","2020-08-30","2020-09-06","2020-09-13","2020-09-20","2020-09-27","2020-10-04","2020-10-11","2020-10-18","2020-10-25","2020-11-01","2020-11-08","2020-11-15","2020-11-22","2020-11-29","2020-12-06","2020-12-13","2020-12-20"]
[null,"Mesec",{"$f":"MONTH(C2)","v":12},{"$f":"MONTH(D2)","v":1},{"$f":"MONTH(E2)","v":1},1,1,2,2,2,2,3,3,3,3,3,4,4,4,4,5,5,5,5,5,6,6,6,6,7,7,7,7,8,8,8,8,8,9,9,9,9,10,10,10,10,11,11,11,11,11,12,12,12]
[null,"Dan",{"$f":"DAY(C2)","v":29},{"$f":"DAY(D2)","v":5},{"$f":"DAY(E2)","v":12},19,26,2,9,16,23,1,8,15,22,29,5,12,19,26,3,10,17,24,31,7,14,21,28,5,12,19,26,2,9,16,23,30,6,13,20,27,4,11,18,25,1,8,15,22,29,6,13,20]
[]
[]
[null,null,"January",null,null,null,null,"February",null,null,null,"March",null,null,null,"April",null,null,null,null,"May",null,null,null,"June",null,null,null,"July",null,null,null,null,"August",null,null,null,"September",null,null,null,null,"October",null,null,null,"November",null,null,null,"December"]
[null,null,"W1","W2","W3","W4","W5","W6","W7","W8","W9","W10","W11","W12","W13","W14","W15","W16","W17","W18","W19","W20","W21","W22","W23","W24","W25","W26","W27","W28","W29","W30","W31","W32","W33","W34","W35","W36","W37","W38","W39","W40","W41","W42","W43","W44","W45","W46","W47","W48","W49","W50","W51","W52"]
[null,null,{"$f":"IFERROR(AVERAGEIFS(data!$E$3:$E$501,data!$B$3:$B$501,score!$B$9,data!$A$3:$A$501,\">=\"&DATE(score!$B$1,C3,C4),data!$A$3:$A$501,\"<=\"&DATE(score!$B$1,D3,D4)),\"\")","v":""},{"$f":"IFERROR(AVERAGEIFS(data!$E$3:$E$501,data!$B$3:$B$501,score!$B$9,data!$A$3:$A$501,\">=\"&DATE(score!$B$1,D3,D4),data!$A$3:$A$501,\"<=\"&DATE(score!$B$1,E3,E4)),\"\")","v":""},{"$f":"IFERROR(AVERAGEIFS(data!$E$3:$E$501,data!$B$3:$B$501,score!$B$9,data!$A$3:$A$501,\">=\"&DATE(score!$B$1,E3,E4),data!$A$3:$A$501,\"<=\"&DATE(score!$B$1,F3,F4)),\"\")","v":""},{"$f":"IFERROR(AVERAGEIFS(data!$E$3:$E$501,data!$B$3:$B$501,score!$B$9,data!$A$3:$A$501,\">=\"&DATE(score!$B$1,F3,F4),data!$A$3:$A$501,\"<=\"&DATE(score!$B$1,G3,G4)),\"\")","v":""},{"$f":"IFERROR(AVERAGEIFS(data!$E$3:$E$501,data!$B$3:$B$501,score!$B$9,data!$A$3:$A$501,\">=\"&DATE(score!$B$1,G3,G4),data!$A$3:$A$501,\"<=\"&DATE(score!$B$1,H3,H4)),\"\")","v":""},{"$f":"IFERROR(AVERAGEIFS(data!$E$3:$E$501,data!$B$3:$B$501,score!$B$9,data!$A$3:$A$501,\">=\"&DATE(score!$B$1,H3,H4),data!$A$3:$A$501,\"<=\"&DATE(score!$B$1,I3,I4)),\"\")","v":""},{"$f":"IFERROR(AVERAGEIFS(data!$E$3:$E$501,data!$B$3:$B$501,score!$B$9,data!$A$3:$A$501,\">=\"&DATE(score!$B$1,I3,I4),data!$A$3:$A$501,\"<=\"&DATE(score!$B$1,J3,J4)),\"\")","v":""},{"$f":"IFERROR(AVERAGEIFS(data!$E$3:$E$501,data!$B$3:$B$501,score!$B$9,data!$A$3:$A$501,\">=\"&DATE(score!$B$1,J3,J4),data!$A$3:$A$501,\"<=\"&DATE(score!$B$1,K3,K4)),\"\")","v":""},{"$f":"IFERROR(AVERAGEIFS(data!$E$3:$E$501,data!$B$3:$B$501,score!$B$9,data!$A$3:$A$501,\">=\"&DATE(score!$B$1,K3,K4),data!$A$3:$A$501,\"<=\"&DATE(score!$B$1,L3,L4)),\"\")","v":""},{"$f":"IFERROR(AVERAGEIFS(data!$E$3:$E$501,data!$B$3:$B$501,score!$B$9,data!$A$3:$A$501,\">=\"&DATE(score!$B$1,L3,L4),data!$A$3:$A$501,\"<=\"&DATE(score!$B$1,M3,M4)),\"\")","v":""},{"$f":"IFERROR(AVERAGEIFS(data!$E$3:$E$501,data!$B$3:$B$501,score!$B$9,data!$A$3:$A$501,\">=\"&DATE(score!$B$1,M3,M4),data!$A$3:$A$501,\"<=\"&DATE(score!$B$1,N3,N4)),\"\")","v":""},{"$f":"IFERROR(AVERAGEIFS(data!$E$3:$E$501,data!$B$3:$B$501,score!$B$9,data!$A$3:$A$501,\">=\"&DATE(score!$B$1,N3,N4),data!$A$3:$A$501,\"<=\"&DATE(score!$B$1,O3,O4)),\"\")","v":""},{"$f":"IFERROR(AVERAGEIFS(data!$E$3:$E$501,data!$B$3:$B$501,score!$B$9,data!$A$3:$A$501,\">=\"&DATE(score!$B$1,O3,O4),data!$A$3:$A$501,\"<=\"&DATE(score!$B$1,P3,P4)),\"\")","v":""},{"$f":"IFERROR(AVERAGEIFS(data!$E$3:$E$501,data!$B$3:$B$501,score!$B$9,data!$A$3:$A$501,\">=\"&DATE(score!$B$1,P3,P4),data!$A$3:$A$501,\"<=\"&DATE(score!$B$1,Q3,Q4)),\"\")","v":""},{"$f":"IFERROR(AVERAGEIFS(data!$E$3:$E$501,data!$B$3:$B$501,score!$B$9,data!$A$3:$A$501,\">=\"&DATE(score!$B$1,Q3,Q4),data!$A$3:$A$501,\"<=\"&DATE(score!$B$1,R3,R4)),\"\")","v":""},{"$f":"IFERROR(AVERAGEIFS(data!$E$3:$E$501,data!$B$3:$B$501,score!$B$9,data!$A$3:$A$501,\">=\"&DATE(score!$B$1,R3,R4),data!$A$3:$A$501,\"<=\"&DATE(score!$B$1,S3,S4)),\"\")","v":""},{"$f":"IFERROR(AVERAGEIFS(data!$E$3:$E$501,data!$B$3:$B$501,score!$B$9,data!$A$3:$A$501,\">=\"&DATE(score!$B$1,S3,S4),data!$A$3:$A$501,\"<=\"&DATE(score!$B$1,T3,T4)),\"\")","v":""},{"$f":"IFERROR(AVERAGEIFS(data!$E$3:$E$501,data!$B$3:$B$501,score!$B$9,data!$A$3:$A$501,\">=\"&DATE(score!$B$1,T3,T4),data!$A$3:$A$501,\"<=\"&DATE(score!$B$1,U3,U4)),\"\")","v":""},{"$f":"IFERROR(AVERAGEIFS(data!$E$3:$E$501,data!$B$3:$B$501,score!$B$9,data!$A$3:$A$501,\">=\"&DATE(score!$B$1,U3,U4),data!$A$3:$A$501,\"<=\"&DATE(score!$B$1,V3,V4)),\"\")","v":""},{"$f":"IFERROR(AVERAGEIFS(data!$E$3:$E$501,data!$B$3:$B$501,score!$B$9,data!$A$3:$A$501,\">=\"&DATE(score!$B$1,V3,V4),data!$A$3:$A$501,\"<=\"&DATE(score!$B$1,W3,W4)),\"\")","v":""},{"$f":"IFERROR(AVERAGEIFS(data!$E$3:$E$501,data!$B$3:$B$501,score!$B$9,data!$A$3:$A$501,\">=\"&DATE(score!$B$1,W3,W4),data!$A$3:$A$501,\"<=\"&DATE(score!$B$1,X3,X4)),\"\")","v":""},{"$f":"IFERROR(AVERAGEIFS(data!$E$3:$E$501,data!$B$3:$B$501,score!$B$9,data!$A$3:$A$501,\">=\"&DATE(score!$B$1,X3,X4),data!$A$3:$A$501,\"<=\"&DATE(score!$B$1,Y3,Y4)),\"\")","v":""},{"$f":"IFERROR(AVERAGEIFS(data!$E$3:$E$501,data!$B$3:$B$501,score!$B$9,data!$A$3:$A$501,\">=\"&DATE(score!$B$1,Y3,Y4),data!$A$3:$A$501,\"<=\"&DATE(score!$B$1,Z3,Z4)),\"\")","v":""},{"$f":"IFERROR(AVERAGEIFS(data!$E$3:$E$501,data!$B$3:$B$501,score!$B$9,data!$A$3:$A$501,\">=\"&DATE(score!$B$1,Z3,Z4),data!$A$3:$A$501,\"<=\"&DATE(score!$B$1,AA3,AA4)),\"\")","v":""},{"$f":"IFERROR(AVERAGEIFS(data!$E$3:$E$501,data!$B$3:$B$501,score!$B$9,data!$A$3:$A$501,\">=\"&DATE(score!$B$1,AA3,AA4),data!$A$3:$A$501,\"<=\"&DATE(score!$B$1,AB3,AB4)),\"\")","v":""},{"$f":"IFERROR(AVERAGEIFS(data!$E$3:$E$501,data!$B$3:$B$501,score!$B$9,data!$A$3:$A$501,\">=\"&DATE(score!$B$1,AB3,AB4),data!$A$3:$A$501,\"<=\"&DATE(score!$B$1,AC3,AC4)),\"\")","v":""},{"$f":"IFERROR(AVERAGEIFS(data!$E$3:$E$501,data!$B$3:$B$501,score!$B$9,data!$A$3:$A$501,\">=\"&DATE(score!$B$1,AC3,AC4),data!$A$3:$A$501,\"<=\"&DATE(score!$B$1,AD3,AD4)),\"\")","v":""},{"$f":"IFERROR(AVERAGEIFS(data!$E$3:$E$501,data!$B$3:$B$501,score!$B$9,data!$A$3:$A$501,\">=\"&DATE(score!$B$1,AD3,AD4),data!$A$3:$A$501,\"<=\"&DATE(score!$B$1,AE3,AE4)),\"\")","v":""},{"$f":"IFERROR(AVERAGEIFS(data!$E$3:$E$501,data!$B$3:$B$501,score!$B$9,data!$A$3:$A$501,\">=\"&DATE(score!$B$1,AE3,AE4),data!$A$3:$A$501,\"<=\"&DATE(score!$B$1,AF3,AF4)),\"\")","v":""},{"$f":"IFERROR(AVERAGEIFS(data!$E$3:$E$501,data!$B$3:$B$501,score!$B$9,data!$A$3:$A$501,\">=\"&DATE(score!$B$1,AF3,AF4),data!$A$3:$A$501,\"<=\"&DATE(score!$B$1,AG3,AG4)),\"\")","v":""},{"$f":"IFERROR(AVERAGEIFS(data!$E$3:$E$501,data!$B$3:$B$501,score!$B$9,data!$A$3:$A$501,\">=\"&DATE(score!$B$1,AG3,AG4),data!$A$3:$A$501,\"<=\"&DATE(score!$B$1,AH3,AH4)),\"\")","v":""},{"$f":"IFERROR(AVERAGEIFS(data!$E$3:$E$501,data!$B$3:$B$501,score!$B$9,data!$A$3:$A$501,\">=\"&DATE(score!$B$1,AH3,AH4),data!$A$3:$A$501,\"<=\"&DATE(score!$B$1,AI3,AI4)),\"\")","v":""},{"$f":"IFERROR(AVERAGEIFS(data!$E$3:$E$501,data!$B$3:$B$501,score!$B$9,data!$A$3:$A$501,\">=\"&DATE(score!$B$1,AI3,AI4),data!$A$3:$A$501,\"<=\"&DATE(score!$B$1,AJ3,AJ4)),\"\")","v":""},{"$f":"IFERROR(AVERAGEIFS(data!$E$3:$E$501,data!$B$3:$B$501,score!$B$9,data!$A$3:$A$501,\">=\"&DATE(score!$B$1,AJ3,AJ4),data!$A$3:$A$501,\"<=\"&DATE(score!$B$1,AK3,AK4)),\"\")","v":""},{"$f":"IFERROR(AVERAGEIFS(data!$E$3:$E$501,data!$B$3:$B$501,score!$B$9,data!$A$3:$A$501,\">=\"&DATE(score!$B$1,AK3,AK4),data!$A$3:$A$501,\"<=\"&DATE(score!$B$1,AL3,AL4)),\"\")","v":""},{"$f":"IFERROR(AVERAGEIFS(data!$E$3:$E$501,data!$B$3:$B$501,score!$B$9,data!$A$3:$A$501,\">=\"&DATE(score!$B$1,AL3,AL4),data!$A$3:$A$501,\"<=\"&DATE(score!$B$1,AM3,AM4)),\"\")","v":""},{"$f":"IFERROR(AVERAGEIFS(data!$E$3:$E$501,data!$B$3:$B$501,score!$B$9,data!$A$3:$A$501,\">=\"&DATE(score!$B$1,AM3,AM4),data!$A$3:$A$501,\"<=\"&DATE(score!$B$1,AN3,AN4)),\"\")","v":""},{"$f":"IFERROR(AVERAGEIFS(data!$E$3:$E$501,data!$B$3:$B$501,score!$B$9,data!$A$3:$A$501,\">=\"&DATE(score!$B$1,AN3,AN4),data!$A$3:$A$501,\"<=\"&DATE(score!$B$1,AO3,AO4)),\"\")","v":""},{"$f":"IFERROR(AVERAGEIFS(data!$E$3:$E$501,data!$B$3:$B$501,score!$B$9,data!$A$3:$A$501,\">=\"&DATE(score!$B$1,AO3,AO4),data!$A$3:$A$501,\"<=\"&DATE(score!$B$1,AP3,AP4)),\"\")","v":""},{"$f":"IFERROR(AVERAGEIFS(data!$E$3:$E$501,data!$B$3:$B$501,score!$B$9,data!$A$3:$A$501,\">=\"&DATE(score!$B$1,AP3,AP4),data!$A$3:$A$501,\"<=\"&DATE(score!$B$1,AQ3,AQ4)),\"\")","v":""},{"$f":"IFERROR(AVERAGEIFS(data!$E$3:$E$501,data!$B$3:$B$501,score!$B$9,data!$A$3:$A$501,\">=\"&DATE(score!$B$1,AQ3,AQ4),data!$A$3:$A$501,\"<=\"&DATE(score!$B$1,AR3,AR4)),\"\")","v":""},{"$f":"IFERROR(AVERAGEIFS(data!$E$3:$E$501,data!$B$3:$B$501,score!$B$9,data!$A$3:$A$501,\">=\"&DATE(score!$B$1,AR3,AR4),data!$A$3:$A$501,\"<=\"&DATE(score!$B$1,AS3,AS4)),\"\")","v":""},{"$f":"IFERROR(AVERAGEIFS(data!$E$3:$E$501,data!$B$3:$B$501,score!$B$9,data!$A$3:$A$501,\">=\"&DATE(score!$B$1,AS3,AS4),data!$A$3:$A$501,\"<=\"&DATE(score!$B$1,AT3,AT4)),\"\")","v":""},{"$f":"IFERROR(AVERAGEIFS(data!$E$3:$E$501,data!$B$3:$B$501,score!$B$9,data!$A$3:$A$501,\">=\"&DATE(score!$B$1,AT3,AT4),data!$A$3:$A$501,\"<=\"&DATE(score!$B$1,AU3,AU4)),\"\")","v":""},{"$f":"IFERROR(AVERAGEIFS(data!$E$3:$E$501,data!$B$3:$B$501,score!$B$9,data!$A$3:$A$501,\">=\"&DATE(score!$B$1,AU3,AU4),data!$A$3:$A$501,\"<=\"&DATE(score!$B$1,AV3,AV4)),\"\")","v":""},{"$f":"IFERROR(AVERAGEIFS(data!$E$3:$E$501,data!$B$3:$B$501,score!$B$9,data!$A$3:$A$501,\">=\"&DATE(score!$B$1,AV3,AV4),data!$A$3:$A$501,\"<=\"&DATE(score!$B$1,AW3,AW4)),\"\")","v":""},{"$f":"IFERROR(AVERAGEIFS(data!$E$3:$E$501,data!$B$3:$B$501,score!$B$9,data!$A$3:$A$501,\">=\"&DATE(score!$B$1,AW3,AW4),data!$A$3:$A$501,\"<=\"&DATE(score!$B$1,AX3,AX4)),\"\")","v":""},{"$f":"IFERROR(AVERAGEIFS(data!$E$3:$E$501,data!$B$3:$B$501,score!$B$9,data!$A$3:$A$501,\">=\"&DATE(score!$B$1,AX3,AX4),data!$A$3:$A$501,\"<=\"&DATE(score!$B$1,AY3,AY4)),\"\")","v":""},{"$f":"IFERROR(AVERAGEIFS(data!$E$3:$E$501,data!$B$3:$B$501,score!$B$9,data!$A$3:$A$501,\">=\"&DATE(score!$B$1,AY3,AY4),data!$A$3:$A$501,\"<=\"&DATE(score!$B$1,AZ3,AZ4)),\"\")","v":""},{"$f":"IFERROR(AVERAGEIFS(data!$E$3:$E$501,data!$B$3:$B$501,score!$B$9,data!$A$3:$A$501,\">=\"&DATE(score!$B$1,AZ3,AZ4),data!$A$3:$A$501,\"<=\"&DATE(score!$B$1,BA3,BA4)),\"\")","v":""},{"$f":"IFERROR(AVERAGEIFS(data!$E$3:$E$501,data!$B$3:$B$501,score!$B$9,data!$A$3:$A$501,\">=\"&DATE(score!$B$1,BA3,BA4),data!$A$3:$A$501,\"<=\"&DATE(score!$B$1,BB3,BB4)),\"\")","v":""},{"$f":"IFERROR(AVERAGEIFS(data!$E$3:$E$501,data!$B$3:$B$501,score!$B$9,data!$A$3:$A$501,\">=\"&DATE(score!$B$1,BB3,BB4),data!$A$3:$A$501,\"<=\"&DATE(score!$B$1,BC3,BC4)),\"\")","v":""}]
[null,null,{"$f":"IFERROR(AVERAGEIFS(data!$E$3:$E$501,data!$B$3:$B$501,score!$B$10,data!$A$3:$A$501,\">=\"&DATE(score!$B$1,C3,C4),data!$A$3:$A$501,\"<=\"&DATE(score!$B$1,D3,D4)),\"\")","v":""},{"$f":"IFERROR(AVERAGEIFS(data!$E$3:$E$501,data!$B$3:$B$501,score!$B$10,data!$A$3:$A$501,\">=\"&DATE(score!$B$1,D3,D4),data!$A$3:$A$501,\"<=\"&DATE(score!$B$1,E3,E4)),\"\")","v":""},{"$f":"IFERROR(AVERAGEIFS(data!$E$3:$E$501,data!$B$3:$B$501,score!$B$10,data!$A$3:$A$501,\">=\"&DATE(score!$B$1,E3,E4),data!$A$3:$A$501,\"<=\"&DATE(score!$B$1,F3,F4)),\"\")","v":""},{"$f":"IFERROR(AVERAGEIFS(data!$E$3:$E$501,data!$B$3:$B$501,score!$B$10,data!$A$3:$A$501,\">=\"&DATE(score!$B$1,F3,F4),data!$A$3:$A$501,\"<=\"&DATE(score!$B$1,G3,G4)),\"\")","v":""},{"$f":"IFERROR(AVERAGEIFS(data!$E$3:$E$501,data!$B$3:$B$501,score!$B$10,data!$A$3:$A$501,\">=\"&DATE(score!$B$1,G3,G4),data!$A$3:$A$501,\"<=\"&DATE(score!$B$1,H3,H4)),\"\")","v":""},{"$f":"IFERROR(AVERAGEIFS(data!$E$3:$E$501,data!$B$3:$B$501,score!$B$10,data!$A$3:$A$501,\">=\"&DATE(score!$B$1,H3,H4),data!$A$3:$A$501,\"<=\"&DATE(score!$B$1,I3,I4)),\"\")","v":""},{"$f":"IFERROR(AVERAGEIFS(data!$E$3:$E$501,data!$B$3:$B$501,score!$B$10,data!$A$3:$A$501,\">=\"&DATE(score!$B$1,I3,I4),data!$A$3:$A$501,\"<=\"&DATE(score!$B$1,J3,J4)),\"\")","v":""},{"$f":"IFERROR(AVERAGEIFS(data!$E$3:$E$501,data!$B$3:$B$501,score!$B$10,data!$A$3:$A$501,\">=\"&DATE(score!$B$1,J3,J4),data!$A$3:$A$501,\"<=\"&DATE(score!$B$1,K3,K4)),\"\")","v":""},{"$f":"IFERROR(AVERAGEIFS(data!$E$3:$E$501,data!$B$3:$B$501,score!$B$10,data!$A$3:$A$501,\">=\"&DATE(score!$B$1,K3,K4),data!$A$3:$A$501,\"<=\"&DATE(score!$B$1,L3,L4)),\"\")","v":""},{"$f":"IFERROR(AVERAGEIFS(data!$E$3:$E$501,data!$B$3:$B$501,score!$B$10,data!$A$3:$A$501,\">=\"&DATE(score!$B$1,L3,L4),data!$A$3:$A$501,\"<=\"&DATE(score!$B$1,M3,M4)),\"\")","v":""},{"$f":"IFERROR(AVERAGEIFS(data!$E$3:$E$501,data!$B$3:$B$501,score!$B$10,data!$A$3:$A$501,\">=\"&DATE(score!$B$1,M3,M4),data!$A$3:$A$501,\"<=\"&DATE(score!$B$1,N3,N4)),\"\")","v":""},{"$f":"IFERROR(AVERAGEIFS(data!$E$3:$E$501,data!$B$3:$B$501,score!$B$10,data!$A$3:$A$501,\">=\"&DATE(score!$B$1,N3,N4),data!$A$3:$A$501,\"<=\"&DATE(score!$B$1,O3,O4)),\"\")","v":""},{"$f":"IFERROR(AVERAGEIFS(data!$E$3:$E$501,data!$B$3:$B$501,score!$B$10,data!$A$3:$A$501,\">=\"&DATE(score!$B$1,O3,O4),data!$A$3:$A$501,\"<=\"&DATE(score!$B$1,P3,P4)),\"\")","v":""},{"$f":"IFERROR(AVERAGEIFS(data!$E$3:$E$501,data!$B$3:$B$501,score!$B$10,data!$A$3:$A$501,\">=\"&DATE(score!$B$1,P3,P4),data!$A$3:$A$501,\"<=\"&DATE(score!$B$1,Q3,Q4)),\"\")","v":""},{"$f":"IFERROR(AVERAGEIFS(data!$E$3:$E$501,data!$B$3:$B$501,score!$B$10,data!$A$3:$A$501,\">=\"&DATE(score!$B$1,Q3,Q4),data!$A$3:$A$501,\"<=\"&DATE(score!$B$1,R3,R4)),\"\")","v":""},{"$f":"IFERROR(AVERAGEIFS(data!$E$3:$E$501,data!$B$3:$B$501,score!$B$10,data!$A$3:$A$501,\">=\"&DATE(score!$B$1,R3,R4),data!$A$3:$A$501,\"<=\"&DATE(score!$B$1,S3,S4)),\"\")","v":""},{"$f":"IFERROR(AVERAGEIFS(data!$E$3:$E$501,data!$B$3:$B$501,score!$B$10,data!$A$3:$A$501,\">=\"&DATE(score!$B$1,S3,S4),data!$A$3:$A$501,\"<=\"&DATE(score!$B$1,T3,T4)),\"\")","v":""},{"$f":"IFERROR(AVERAGEIFS(data!$E$3:$E$501,data!$B$3:$B$501,score!$B$10,data!$A$3:$A$501,\">=\"&DATE(score!$B$1,T3,T4),data!$A$3:$A$501,\"<=\"&DATE(score!$B$1,U3,U4)),\"\")","v":""},{"$f":"IFERROR(AVERAGEIFS(data!$E$3:$E$501,data!$B$3:$B$501,score!$B$10,data!$A$3:$A$501,\">=\"&DATE(score!$B$1,U3,U4),data!$A$3:$A$501,\"<=\"&DATE(score!$B$1,V3,V4)),\"\")","v":""},{"$f":"IFERROR(AVERAGEIFS(data!$E$3:$E$501,data!$B$3:$B$501,score!$B$10,data!$A$3:$A$501,\">=\"&DATE(score!$B$1,V3,V4),data!$A$3:$A$501,\"<=\"&DATE(score!$B$1,W3,W4)),\"\")","v":""},{"$f":"IFERROR(AVERAGEIFS(data!$E$3:$E$501,data!$B$3:$B$501,score!$B$10,data!$A$3:$A$501,\">=\"&DATE(score!$B$1,W3,W4),data!$A$3:$A$501,\"<=\"&DATE(score!$B$1,X3,X4)),\"\")","v":""},{"$f":"IFERROR(AVERAGEIFS(data!$E$3:$E$501,data!$B$3:$B$501,score!$B$10,data!$A$3:$A$501,\">=\"&DATE(score!$B$1,X3,X4),data!$A$3:$A$501,\"<=\"&DATE(score!$B$1,Y3,Y4)),\"\")","v":""},{"$f":"IFERROR(AVERAGEIFS(data!$E$3:$E$501,data!$B$3:$B$501,score!$B$10,data!$A$3:$A$501,\">=\"&DATE(score!$B$1,Y3,Y4),data!$A$3:$A$501,\"<=\"&DATE(score!$B$1,Z3,Z4)),\"\")","v":""},{"$f":"IFERROR(AVERAGEIFS(data!$E$3:$E$501,data!$B$3:$B$501,score!$B$10,data!$A$3:$A$501,\">=\"&DATE(score!$B$1,Z3,Z4),data!$A$3:$A$501,\"<=\"&DATE(score!$B$1,AA3,AA4)),\"\")","v":""},{"$f":"IFERROR(AVERAGEIFS(data!$E$3:$E$501,data!$B$3:$B$501,score!$B$10,data!$A$3:$A$501,\">=\"&DATE(score!$B$1,AA3,AA4),data!$A$3:$A$501,\"<=\"&DATE(score!$B$1,AB3,AB4)),\"\")","v":""},{"$f":"IFERROR(AVERAGEIFS(data!$E$3:$E$501,data!$B$3:$B$501,score!$B$10,data!$A$3:$A$501,\">=\"&DATE(score!$B$1,AB3,AB4),data!$A$3:$A$501,\"<=\"&DATE(score!$B$1,AC3,AC4)),\"\")","v":""},{"$f":"IFERROR(AVERAGEIFS(data!$E$3:$E$501,data!$B$3:$B$501,score!$B$10,data!$A$3:$A$501,\">=\"&DATE(score!$B$1,AC3,AC4),data!$A$3:$A$501,\"<=\"&DATE(score!$B$1,AD3,AD4)),\"\")","v":""},{"$f":"IFERROR(AVERAGEIFS(data!$E$3:$E$501,data!$B$3:$B$501,score!$B$10,data!$A$3:$A$501,\">=\"&DATE(score!$B$1,AD3,AD4),data!$A$3:$A$501,\"<=\"&DATE(score!$B$1,AE3,AE4)),\"\")","v":""},{"$f":"IFERROR(AVERAGEIFS(data!$E$3:$E$501,data!$B$3:$B$501,score!$B$10,data!$A$3:$A$501,\">=\"&DATE(score!$B$1,AE3,AE4),data!$A$3:$A$501,\"<=\"&DATE(score!$B$1,AF3,AF4)),\"\")","v":""},{"$f":"IFERROR(AVERAGEIFS(data!$E$3:$E$501,data!$B$3:$B$501,score!$B$10,data!$A$3:$A$501,\">=\"&DATE(score!$B$1,AF3,AF4),data!$A$3:$A$501,\"<=\"&DATE(score!$B$1,AG3,AG4)),\"\")","v":""},{"$f":"IFERROR(AVERAGEIFS(data!$E$3:$E$501,data!$B$3:$B$501,score!$B$10,data!$A$3:$A$501,\">=\"&DATE(score!$B$1,AG3,AG4),data!$A$3:$A$501,\"<=\"&DATE(score!$B$1,AH3,AH4)),\"\")","v":""},{"$f":"IFERROR(AVERAGEIFS(data!$E$3:$E$501,data!$B$3:$B$501,score!$B$10,data!$A$3:$A$501,\">=\"&DATE(score!$B$1,AH3,AH4),data!$A$3:$A$501,\"<=\"&DATE(score!$B$1,AI3,AI4)),\"\")","v":""},{"$f":"IFERROR(AVERAGEIFS(data!$E$3:$E$501,data!$B$3:$B$501,score!$B$10,data!$A$3:$A$501,\">=\"&DATE(score!$B$1,AI3,AI4),data!$A$3:$A$501,\"<=\"&DATE(score!$B$1,AJ3,AJ4)),\"\")","v":""},{"$f":"IFERROR(AVERAGEIFS(data!$E$3:$E$501,data!$B$3:$B$501,score!$B$10,data!$A$3:$A$501,\">=\"&DATE(score!$B$1,AJ3,AJ4),data!$A$3:$A$501,\"<=\"&DATE(score!$B$1,AK3,AK4)),\"\")","v":""},{"$f":"IFERROR(AVERAGEIFS(data!$E$3:$E$501,data!$B$3:$B$501,score!$B$10,data!$A$3:$A$501,\">=\"&DATE(score!$B$1,AK3,AK4),data!$A$3:$A$501,\"<=\"&DATE(score!$B$1,AL3,AL4)),\"\")","v":""},{"$f":"IFERROR(AVERAGEIFS(data!$E$3:$E$501,data!$B$3:$B$501,score!$B$10,data!$A$3:$A$501,\">=\"&DATE(score!$B$1,AL3,AL4),data!$A$3:$A$501,\"<=\"&DATE(score!$B$1,AM3,AM4)),\"\")","v":""},{"$f":"IFERROR(AVERAGEIFS(data!$E$3:$E$501,data!$B$3:$B$501,score!$B$10,data!$A$3:$A$501,\">=\"&DATE(score!$B$1,AM3,AM4),data!$A$3:$A$501,\"<=\"&DATE(score!$B$1,AN3,AN4)),\"\")","v":""},{"$f":"IFERROR(AVERAGEIFS(data!$E$3:$E$501,data!$B$3:$B$501,score!$B$10,data!$A$3:$A$501,\">=\"&DATE(score!$B$1,AN3,AN4),data!$A$3:$A$501,\"<=\"&DATE(score!$B$1,AO3,AO4)),\"\")","v":""},{"$f":"IFERROR(AVERAGEIFS(data!$E$3:$E$501,data!$B$3:$B$501,score!$B$10,data!$A$3:$A$501,\">=\"&DATE(score!$B$1,AO3,AO4),data!$A$3:$A$501,\"<=\"&DATE(score!$B$1,AP3,AP4)),\"\")","v":""},{"$f":"IFERROR(AVERAGEIFS(data!$E$3:$E$501,data!$B$3:$B$501,score!$B$10,data!$A$3:$A$501,\">=\"&DATE(score!$B$1,AP3,AP4),data!$A$3:$A$501,\"<=\"&DATE(score!$B$1,AQ3,AQ4)),\"\")","v":""},{"$f":"IFERROR(AVERAGEIFS(data!$E$3:$E$501,data!$B$3:$B$501,score!$B$10,data!$A$3:$A$501,\">=\"&DATE(score!$B$1,AQ3,AQ4),data!$A$3:$A$501,\"<=\"&DATE(score!$B$1,AR3,AR4)),\"\")","v":""},{"$f":"IFERROR(AVERAGEIFS(data!$E$3:$E$501,data!$B$3:$B$501,score!$B$10,data!$A$3:$A$501,\">=\"&DATE(score!$B$1,AR3,AR4),data!$A$3:$A$501,\"<=\"&DATE(score!$B$1,AS3,AS4)),\"\")","v":""},{"$f":"IFERROR(AVERAGEIFS(data!$E$3:$E$501,data!$B$3:$B$501,score!$B$10,data!$A$3:$A$501,\">=\"&DATE(score!$B$1,AS3,AS4),data!$A$3:$A$501,\"<=\"&DATE(score!$B$1,AT3,AT4)),\"\")","v":""},{"$f":"IFERROR(AVERAGEIFS(data!$E$3:$E$501,data!$B$3:$B$501,score!$B$10,data!$A$3:$A$501,\">=\"&DATE(score!$B$1,AT3,AT4),data!$A$3:$A$501,\"<=\"&DATE(score!$B$1,AU3,AU4)),\"\")","v":""},{"$f":"IFERROR(AVERAGEIFS(data!$E$3:$E$501,data!$B$3:$B$501,score!$B$10,data!$A$3:$A$501,\">=\"&DATE(score!$B$1,AU3,AU4),data!$A$3:$A$501,\"<=\"&DATE(score!$B$1,AV3,AV4)),\"\")","v":""},{"$f":"IFERROR(AVERAGEIFS(data!$E$3:$E$501,data!$B$3:$B$501,score!$B$10,data!$A$3:$A$501,\">=\"&DATE(score!$B$1,AV3,AV4),data!$A$3:$A$501,\"<=\"&DATE(score!$B$1,AW3,AW4)),\"\")","v":""},{"$f":"IFERROR(AVERAGEIFS(data!$E$3:$E$501,data!$B$3:$B$501,score!$B$10,data!$A$3:$A$501,\">=\"&DATE(score!$B$1,AW3,AW4),data!$A$3:$A$501,\"<=\"&DATE(score!$B$1,AX3,AX4)),\"\")","v":""},{"$f":"IFERROR(AVERAGEIFS(data!$E$3:$E$501,data!$B$3:$B$501,score!$B$10,data!$A$3:$A$501,\">=\"&DATE(score!$B$1,AX3,AX4),data!$A$3:$A$501,\"<=\"&DATE(score!$B$1,AY3,AY4)),\"\")","v":""},{"$f":"IFERROR(AVERAGEIFS(data!$E$3:$E$501,data!$B$3:$B$501,score!$B$10,data!$A$3:$A$501,\">=\"&DATE(score!$B$1,AY3,AY4),data!$A$3:$A$501,\"<=\"&DATE(score!$B$1,AZ3,AZ4)),\"\")","v":""},{"$f":"IFERROR(AVERAGEIFS(data!$E$3:$E$501,data!$B$3:$B$501,score!$B$10,data!$A$3:$A$501,\">=\"&DATE(score!$B$1,AZ3,AZ4),data!$A$3:$A$501,\"<=\"&DATE(score!$B$1,BA3,BA4)),\"\")","v":""},{"$f":"IFERROR(AVERAGEIFS(data!$E$3:$E$501,data!$B$3:$B$501,score!$B$10,data!$A$3:$A$501,\">=\"&DATE(score!$B$1,BA3,BA4),data!$A$3:$A$501,\"<=\"&DATE(score!$B$1,BB3,BB4)),\"\")","v":""},{"$f":"IFERROR(AVERAGEIFS(data!$E$3:$E$501,data!$B$3:$B$501,score!$B$10,data!$A$3:$A$501,\">=\"&DATE(score!$B$1,BB3,BB4),data!$A$3:$A$501,\"<=\"&DATE(score!$B$1,BC3,BC4)),\"\")","v":""}]
[null,null,{"$f":"IFERROR(AVERAGEIFS(data!$E$3:$E$501,data!$B$3:$B$501,score!$B$11,data!$A$3:$A$501,\">=\"&DATE(score!$B$1,C3,C4),data!$A$3:$A$501,\"<=\"&DATE(score!$B$1,D3,D4)),\"\")","v":""},{"$f":"IFERROR(AVERAGEIFS(data!$E$3:$E$501,data!$B$3:$B$501,score!$B$11,data!$A$3:$A$501,\">=\"&DATE(score!$B$1,D3,D4),data!$A$3:$A$501,\"<=\"&DATE(score!$B$1,E3,E4)),\"\")","v":""},{"$f":"IFERROR(AVERAGEIFS(data!$E$3:$E$501,data!$B$3:$B$501,score!$B$11,data!$A$3:$A$501,\">=\"&DATE(score!$B$1,E3,E4),data!$A$3:$A$501,\"<=\"&DATE(score!$B$1,F3,F4)),\"\")","v":""},{"$f":"IFERROR(AVERAGEIFS(data!$E$3:$E$501,data!$B$3:$B$501,score!$B$11,data!$A$3:$A$501,\">=\"&DATE(score!$B$1,F3,F4),data!$A$3:$A$501,\"<=\"&DATE(score!$B$1,G3,G4)),\"\")","v":""},{"$f":"IFERROR(AVERAGEIFS(data!$E$3:$E$501,data!$B$3:$B$501,score!$B$11,data!$A$3:$A$501,\">=\"&DATE(score!$B$1,G3,G4),data!$A$3:$A$501,\"<=\"&DATE(score!$B$1,H3,H4)),\"\")","v":""},{"$f":"IFERROR(AVERAGEIFS(data!$E$3:$E$501,data!$B$3:$B$501,score!$B$11,data!$A$3:$A$501,\">=\"&DATE(score!$B$1,H3,H4),data!$A$3:$A$501,\"<=\"&DATE(score!$B$1,I3,I4)),\"\")","v":""},{"$f":"IFERROR(AVERAGEIFS(data!$E$3:$E$501,data!$B$3:$B$501,score!$B$11,data!$A$3:$A$501,\">=\"&DATE(score!$B$1,I3,I4),data!$A$3:$A$501,\"<=\"&DATE(score!$B$1,J3,J4)),\"\")","v":""},{"$f":"IFERROR(AVERAGEIFS(data!$E$3:$E$501,data!$B$3:$B$501,score!$B$11,data!$A$3:$A$501,\">=\"&DATE(score!$B$1,J3,J4),data!$A$3:$A$501,\"<=\"&DATE(score!$B$1,K3,K4)),\"\")","v":""},{"$f":"IFERROR(AVERAGEIFS(data!$E$3:$E$501,data!$B$3:$B$501,score!$B$11,data!$A$3:$A$501,\">=\"&DATE(score!$B$1,K3,K4),data!$A$3:$A$501,\"<=\"&DATE(score!$B$1,L3,L4)),\"\")","v":""},{"$f":"IFERROR(AVERAGEIFS(data!$E$3:$E$501,data!$B$3:$B$501,score!$B$11,data!$A$3:$A$501,\">=\"&DATE(score!$B$1,L3,L4),data!$A$3:$A$501,\"<=\"&DATE(score!$B$1,M3,M4)),\"\")","v":""},{"$f":"IFERROR(AVERAGEIFS(data!$E$3:$E$501,data!$B$3:$B$501,score!$B$11,data!$A$3:$A$501,\">=\"&DATE(score!$B$1,M3,M4),data!$A$3:$A$501,\"<=\"&DATE(score!$B$1,N3,N4)),\"\")","v":""},{"$f":"IFERROR(AVERAGEIFS(data!$E$3:$E$501,data!$B$3:$B$501,score!$B$11,data!$A$3:$A$501,\">=\"&DATE(score!$B$1,N3,N4),data!$A$3:$A$501,\"<=\"&DATE(score!$B$1,O3,O4)),\"\")","v":""},{"$f":"IFERROR(AVERAGEIFS(data!$E$3:$E$501,data!$B$3:$B$501,score!$B$11,data!$A$3:$A$501,\">=\"&DATE(score!$B$1,O3,O4),data!$A$3:$A$501,\"<=\"&DATE(score!$B$1,P3,P4)),\"\")","v":""},{"$f":"IFERROR(AVERAGEIFS(data!$E$3:$E$501,data!$B$3:$B$501,score!$B$11,data!$A$3:$A$501,\">=\"&DATE(score!$B$1,P3,P4),data!$A$3:$A$501,\"<=\"&DATE(score!$B$1,Q3,Q4)),\"\")","v":""},{"$f":"IFERROR(AVERAGEIFS(data!$E$3:$E$501,data!$B$3:$B$501,score!$B$11,data!$A$3:$A$501,\">=\"&DATE(score!$B$1,Q3,Q4),data!$A$3:$A$501,\"<=\"&DATE(score!$B$1,R3,R4)),\"\")","v":""},{"$f":"IFERROR(AVERAGEIFS(data!$E$3:$E$501,data!$B$3:$B$501,score!$B$11,data!$A$3:$A$501,\">=\"&DATE(score!$B$1,R3,R4),data!$A$3:$A$501,\"<=\"&DATE(score!$B$1,S3,S4)),\"\")","v":""},{"$f":"IFERROR(AVERAGEIFS(data!$E$3:$E$501,data!$B$3:$B$501,score!$B$11,data!$A$3:$A$501,\">=\"&DATE(score!$B$1,S3,S4),data!$A$3:$A$501,\"<=\"&DATE(score!$B$1,T3,T4)),\"\")","v":""},{"$f":"IFERROR(AVERAGEIFS(data!$E$3:$E$501,data!$B$3:$B$501,score!$B$11,data!$A$3:$A$501,\">=\"&DATE(score!$B$1,T3,T4),data!$A$3:$A$501,\"<=\"&DATE(score!$B$1,U3,U4)),\"\")","v":""},{"$f":"IFERROR(AVERAGEIFS(data!$E$3:$E$501,data!$B$3:$B$501,score!$B$11,data!$A$3:$A$501,\">=\"&DATE(score!$B$1,U3,U4),data!$A$3:$A$501,\"<=\"&DATE(score!$B$1,V3,V4)),\"\")","v":""},{"$f":"IFERROR(AVERAGEIFS(data!$E$3:$E$501,data!$B$3:$B$501,score!$B$11,data!$A$3:$A$501,\">=\"&DATE(score!$B$1,V3,V4),data!$A$3:$A$501,\"<=\"&DATE(score!$B$1,W3,W4)),\"\")","v":""},{"$f":"IFERROR(AVERAGEIFS(data!$E$3:$E$501,data!$B$3:$B$501,score!$B$11,data!$A$3:$A$501,\">=\"&DATE(score!$B$1,W3,W4),data!$A$3:$A$501,\"<=\"&DATE(score!$B$1,X3,X4)),\"\")","v":""},{"$f":"IFERROR(AVERAGEIFS(data!$E$3:$E$501,data!$B$3:$B$501,score!$B$11,data!$A$3:$A$501,\">=\"&DATE(score!$B$1,X3,X4),data!$A$3:$A$501,\"<=\"&DATE(score!$B$1,Y3,Y4)),\"\")","v":""},{"$f":"IFERROR(AVERAGEIFS(data!$E$3:$E$501,data!$B$3:$B$501,score!$B$11,data!$A$3:$A$501,\">=\"&DATE(score!$B$1,Y3,Y4),data!$A$3:$A$501,\"<=\"&DATE(score!$B$1,Z3,Z4)),\"\")","v":""},{"$f":"IFERROR(AVERAGEIFS(data!$E$3:$E$501,data!$B$3:$B$501,score!$B$11,data!$A$3:$A$501,\">=\"&DATE(score!$B$1,Z3,Z4),data!$A$3:$A$501,\"<=\"&DATE(score!$B$1,AA3,AA4)),\"\")","v":""},{"$f":"IFERROR(AVERAGEIFS(data!$E$3:$E$501,data!$B$3:$B$501,score!$B$11,data!$A$3:$A$501,\">=\"&DATE(score!$B$1,AA3,AA4),data!$A$3:$A$501,\"<=\"&DATE(score!$B$1,AB3,AB4)),\"\")","v":""},{"$f":"IFERROR(AVERAGEIFS(data!$E$3:$E$501,data!$B$3:$B$501,score!$B$11,data!$A$3:$A$501,\">=\"&DATE(score!$B$1,AB3,AB4),data!$A$3:$A$501,\"<=\"&DATE(score!$B$1,AC3,AC4)),\"\")","v":""},{"$f":"IFERROR(AVERAGEIFS(data!$E$3:$E$501,data!$B$3:$B$501,score!$B$11,data!$A$3:$A$501,\">=\"&DATE(score!$B$1,AC3,AC4),data!$A$3:$A$501,\"<=\"&DATE(score!$B$1,AD3,AD4)),\"\")","v":""},{"$f":"IFERROR(AVERAGEIFS(data!$E$3:$E$501,data!$B$3:$B$501,score!$B$11,data!$A$3:$A$501,\">=\"&DATE(score!$B$1,AD3,AD4),data!$A$3:$A$501,\"<=\"&DATE(score!$B$1,AE3,AE4)),\"\")","v":""},{"$f":"IFERROR(AVERAGEIFS(data!$E$3:$E$501,data!$B$3:$B$501,score!$B$11,data!$A$3:$A$501,\">=\"&DATE(score!$B$1,AE3,AE4),data!$A$3:$A$501,\"<=\"&DATE(score!$B$1,AF3,AF4)),\"\")","v":""},{"$f":"IFERROR(AVERAGEIFS(data!$E$3:$E$501,data!$B$3:$B$501,score!$B$11,data!$A$3:$A$501,\">=\"&DATE(score!$B$1,AF3,AF4),data!$A$3:$A$501,\"<=\"&DATE(score!$B$1,AG3,AG4)),\"\")","v":""},{"$f":"IFERROR(AVERAGEIFS(data!$E$3:$E$501,data!$B$3:$B$501,score!$B$11,data!$A$3:$A$501,\">=\"&DATE(score!$B$1,AG3,AG4),data!$A$3:$A$501,\"<=\"&DATE(score!$B$1,AH3,AH4)),\"\")","v":""},{"$f":"IFERROR(AVERAGEIFS(data!$E$3:$E$501,data!$B$3:$B$501,score!$B$11,data!$A$3:$A$501,\">=\"&DATE(score!$B$1,AH3,AH4),data!$A$3:$A$501,\"<=\"&DATE(score!$B$1,AI3,AI4)),\"\")","v":""},{"$f":"IFERROR(AVERAGEIFS(data!$E$3:$E$501,data!$B$3:$B$501,score!$B$11,data!$A$3:$A$501,\">=\"&DATE(score!$B$1,AI3,AI4),data!$A$3:$A$501,\"<=\"&DATE(score!$B$1,AJ3,AJ4)),\"\")","v":""},{"$f":"IFERROR(AVERAGEIFS(data!$E$3:$E$501,data!$B$3:$B$501,score!$B$11,data!$A$3:$A$501,\">=\"&DATE(score!$B$1,AJ3,AJ4),data!$A$3:$A$501,\"<=\"&DATE(score!$B$1,AK3,AK4)),\"\")","v":""},{"$f":"IFERROR(AVERAGEIFS(data!$E$3:$E$501,data!$B$3:$B$501,score!$B$11,data!$A$3:$A$501,\">=\"&DATE(score!$B$1,AK3,AK4),data!$A$3:$A$501,\"<=\"&DATE(score!$B$1,AL3,AL4)),\"\")","v":""},{"$f":"IFERROR(AVERAGEIFS(data!$E$3:$E$501,data!$B$3:$B$501,score!$B$11,data!$A$3:$A$501,\">=\"&DATE(score!$B$1,AL3,AL4),data!$A$3:$A$501,\"<=\"&DATE(score!$B$1,AM3,AM4)),\"\")","v":""},{"$f":"IFERROR(AVERAGEIFS(data!$E$3:$E$501,data!$B$3:$B$501,score!$B$11,data!$A$3:$A$501,\">=\"&DATE(score!$B$1,AM3,AM4),data!$A$3:$A$501,\"<=\"&DATE(score!$B$1,AN3,AN4)),\"\")","v":""},{"$f":"IFERROR(AVERAGEIFS(data!$E$3:$E$501,data!$B$3:$B$501,score!$B$11,data!$A$3:$A$501,\">=\"&DATE(score!$B$1,AN3,AN4),data!$A$3:$A$501,\"<=\"&DATE(score!$B$1,AO3,AO4)),\"\")","v":""},{"$f":"IFERROR(AVERAGEIFS(data!$E$3:$E$501,data!$B$3:$B$501,score!$B$11,data!$A$3:$A$501,\">=\"&DATE(score!$B$1,AO3,AO4),data!$A$3:$A$501,\"<=\"&DATE(score!$B$1,AP3,AP4)),\"\")","v":""},{"$f":"IFERROR(AVERAGEIFS(data!$E$3:$E$501,data!$B$3:$B$501,score!$B$11,data!$A$3:$A$501,\">=\"&DATE(score!$B$1,AP3,AP4),data!$A$3:$A$501,\"<=\"&DATE(score!$B$1,AQ3,AQ4)),\"\")","v":""},{"$f":"IFERROR(AVERAGEIFS(data!$E$3:$E$501,data!$B$3:$B$501,score!$B$11,data!$A$3:$A$501,\">=\"&DATE(score!$B$1,AQ3,AQ4),data!$A$3:$A$501,\"<=\"&DATE(score!$B$1,AR3,AR4)),\"\")","v":""},{"$f":"IFERROR(AVERAGEIFS(data!$E$3:$E$501,data!$B$3:$B$501,score!$B$11,data!$A$3:$A$501,\">=\"&DATE(score!$B$1,AR3,AR4),data!$A$3:$A$501,\"<=\"&DATE(score!$B$1,AS3,AS4)),\"\")","v":""},{"$f":"IFERROR(AVERAGEIFS(data!$E$3:$E$501,data!$B$3:$B$501,score!$B$11,data!$A$3:$A$501,\">=\"&DATE(score!$B$1,AS3,AS4),data!$A$3:$A$501,\"<=\"&DATE(score!$B$1,AT3,AT4)),\"\")","v":""},{"$f":"IFERROR(AVERAGEIFS(data!$E$3:$E$501,data!$B$3:$B$501,score!$B$11,data!$A$3:$A$501,\">=\"&DATE(score!$B$1,AT3,AT4),data!$A$3:$A$501,\"<=\"&DATE(score!$B$1,AU3,AU4)),\"\")","v":""},{"$f":"IFERROR(AVERAGEIFS(data!$E$3:$E$501,data!$B$3:$B$501,score!$B$11,data!$A$3:$A$501,\">=\"&DATE(score!$B$1,AU3,AU4),data!$A$3:$A$501,\"<=\"&DATE(score!$B$1,AV3,AV4)),\"\")","v":""},{"$f":"IFERROR(AVERAGEIFS(data!$E$3:$E$501,data!$B$3:$B$501,score!$B$11,data!$A$3:$A$501,\">=\"&DATE(score!$B$1,AV3,AV4),data!$A$3:$A$501,\"<=\"&DATE(score!$B$1,AW3,AW4)),\"\")","v":""},{"$f":"IFERROR(AVERAGEIFS(data!$E$3:$E$501,data!$B$3:$B$501,score!$B$11,data!$A$3:$A$501,\">=\"&DATE(score!$B$1,AW3,AW4),data!$A$3:$A$501,\"<=\"&DATE(score!$B$1,AX3,AX4)),\"\")","v":""},{"$f":"IFERROR(AVERAGEIFS(data!$E$3:$E$501,data!$B$3:$B$501,score!$B$11,data!$A$3:$A$501,\">=\"&DATE(score!$B$1,AX3,AX4),data!$A$3:$A$501,\"<=\"&DATE(score!$B$1,AY3,AY4)),\"\")","v":""},{"$f":"IFERROR(AVERAGEIFS(data!$E$3:$E$501,data!$B$3:$B$501,score!$B$11,data!$A$3:$A$501,\">=\"&DATE(score!$B$1,AY3,AY4),data!$A$3:$A$501,\"<=\"&DATE(score!$B$1,AZ3,AZ4)),\"\")","v":""},{"$f":"IFERROR(AVERAGEIFS(data!$E$3:$E$501,data!$B$3:$B$501,score!$B$11,data!$A$3:$A$501,\">=\"&DATE(score!$B$1,AZ3,AZ4),data!$A$3:$A$501,\"<=\"&DATE(score!$B$1,BA3,BA4)),\"\")","v":""},{"$f":"IFERROR(AVERAGEIFS(data!$E$3:$E$501,data!$B$3:$B$501,score!$B$11,data!$A$3:$A$501,\">=\"&DATE(score!$B$1,BA3,BA4),data!$A$3:$A$501,\"<=\"&DATE(score!$B$1,BB3,BB4)),\"\")","v":""},{"$f":"IFERROR(AVERAGEIFS(data!$E$3:$E$501,data!$B$3:$B$501,score!$B$11,data!$A$3:$A$501,\">=\"&DATE(score!$B$1,BB3,BB4),data!$A$3:$A$501,\"<=\"&DATE(score!$B$1,BC3,BC4)),\"\")","v":""}]
[null,null,{"$f":"IFERROR(AVERAGEIFS(data!$E$3:$E$501,data!$B$3:$B$501,score!$B$12,data!$A$3:$A$501,\">=\"&DATE(score!$B$1,C3,C4),data!$A$3:$A$501,\"<=\"&DATE(score!$B$1,D3,D4)),\"\")","v":""},{"$f":"IFERROR(AVERAGEIFS(data!$E$3:$E$501,data!$B$3:$B$501,score!$B$12,data!$A$3:$A$501,\">=\"&DATE(score!$B$1,D3,D4),data!$A$3:$A$501,\"<=\"&DATE(score!$B$1,E3,E4)),\"\")","v":""},{"$f":"IFERROR(AVERAGEIFS(data!$E$3:$E$501,data!$B$3:$B$501,score!$B$12,data!$A$3:$A$501,\">=\"&DATE(score!$B$1,E3,E4),data!$A$3:$A$501,\"<=\"&DATE(score!$B$1,F3,F4)),\"\")","v":""},{"$f":"IFERROR(AVERAGEIFS(data!$E$3:$E$501,data!$B$3:$B$501,score!$B$12,data!$A$3:$A$501,\">=\"&DATE(score!$B$1,F3,F4),data!$A$3:$A$501,\"<=\"&DATE(score!$B$1,G3,G4)),\"\")","v":""},{"$f":"IFERROR(AVERAGEIFS(data!$E$3:$E$501,data!$B$3:$B$501,score!$B$12,data!$A$3:$A$501,\">=\"&DATE(score!$B$1,G3,G4),data!$A$3:$A$501,\"<=\"&DATE(score!$B$1,H3,H4)),\"\")","v":""},{"$f":"IFERROR(AVERAGEIFS(data!$E$3:$E$501,data!$B$3:$B$501,score!$B$12,data!$A$3:$A$501,\">=\"&DATE(score!$B$1,H3,H4),data!$A$3:$A$501,\"<=\"&DATE(score!$B$1,I3,I4)),\"\")","v":""},{"$f":"IFERROR(AVERAGEIFS(data!$E$3:$E$501,data!$B$3:$B$501,score!$B$12,data!$A$3:$A$501,\">=\"&DATE(score!$B$1,I3,I4),data!$A$3:$A$501,\"<=\"&DATE(score!$B$1,J3,J4)),\"\")","v":""},{"$f":"IFERROR(AVERAGEIFS(data!$E$3:$E$501,data!$B$3:$B$501,score!$B$12,data!$A$3:$A$501,\">=\"&DATE(score!$B$1,J3,J4),data!$A$3:$A$501,\"<=\"&DATE(score!$B$1,K3,K4)),\"\")","v":""},{"$f":"IFERROR(AVERAGEIFS(data!$E$3:$E$501,data!$B$3:$B$501,score!$B$12,data!$A$3:$A$501,\">=\"&DATE(score!$B$1,K3,K4),data!$A$3:$A$501,\"<=\"&DATE(score!$B$1,L3,L4)),\"\")","v":""},{"$f":"IFERROR(AVERAGEIFS(data!$E$3:$E$501,data!$B$3:$B$501,score!$B$12,data!$A$3:$A$501,\">=\"&DATE(score!$B$1,L3,L4),data!$A$3:$A$501,\"<=\"&DATE(score!$B$1,M3,M4)),\"\")","v":""},{"$f":"IFERROR(AVERAGEIFS(data!$E$3:$E$501,data!$B$3:$B$501,score!$B$12,data!$A$3:$A$501,\">=\"&DATE(score!$B$1,M3,M4),data!$A$3:$A$501,\"<=\"&DATE(score!$B$1,N3,N4)),\"\")","v":""},{"$f":"IFERROR(AVERAGEIFS(data!$E$3:$E$501,data!$B$3:$B$501,score!$B$12,data!$A$3:$A$501,\">=\"&DATE(score!$B$1,N3,N4),data!$A$3:$A$501,\"<=\"&DATE(score!$B$1,O3,O4)),\"\")","v":""},{"$f":"IFERROR(AVERAGEIFS(data!$E$3:$E$501,data!$B$3:$B$501,score!$B$12,data!$A$3:$A$501,\">=\"&DATE(score!$B$1,O3,O4),data!$A$3:$A$501,\"<=\"&DATE(score!$B$1,P3,P4)),\"\")","v":""},{"$f":"IFERROR(AVERAGEIFS(data!$E$3:$E$501,data!$B$3:$B$501,score!$B$12,data!$A$3:$A$501,\">=\"&DATE(score!$B$1,P3,P4),data!$A$3:$A$501,\"<=\"&DATE(score!$B$1,Q3,Q4)),\"\")","v":""},{"$f":"IFERROR(AVERAGEIFS(data!$E$3:$E$501,data!$B$3:$B$501,score!$B$12,data!$A$3:$A$501,\">=\"&DATE(score!$B$1,Q3,Q4),data!$A$3:$A$501,\"<=\"&DATE(score!$B$1,R3,R4)),\"\")","v":""},{"$f":"IFERROR(AVERAGEIFS(data!$E$3:$E$501,data!$B$3:$B$501,score!$B$12,data!$A$3:$A$501,\">=\"&DATE(score!$B$1,R3,R4),data!$A$3:$A$501,\"<=\"&DATE(score!$B$1,S3,S4)),\"\")","v":""},{"$f":"IFERROR(AVERAGEIFS(data!$E$3:$E$501,data!$B$3:$B$501,score!$B$12,data!$A$3:$A$501,\">=\"&DATE(score!$B$1,S3,S4),data!$A$3:$A$501,\"<=\"&DATE(score!$B$1,T3,T4)),\"\")","v":""},{"$f":"IFERROR(AVERAGEIFS(data!$E$3:$E$501,data!$B$3:$B$501,score!$B$12,data!$A$3:$A$501,\">=\"&DATE(score!$B$1,T3,T4),data!$A$3:$A$501,\"<=\"&DATE(score!$B$1,U3,U4)),\"\")","v":""},{"$f":"IFERROR(AVERAGEIFS(data!$E$3:$E$501,data!$B$3:$B$501,score!$B$12,data!$A$3:$A$501,\">=\"&DATE(score!$B$1,U3,U4),data!$A$3:$A$501,\"<=\"&DATE(score!$B$1,V3,V4)),\"\")","v":""},{"$f":"IFERROR(AVERAGEIFS(data!$E$3:$E$501,data!$B$3:$B$501,score!$B$12,data!$A$3:$A$501,\">=\"&DATE(score!$B$1,V3,V4),data!$A$3:$A$501,\"<=\"&DATE(score!$B$1,W3,W4)),\"\")","v":""},{"$f":"IFERROR(AVERAGEIFS(data!$E$3:$E$501,data!$B$3:$B$501,score!$B$12,data!$A$3:$A$501,\">=\"&DATE(score!$B$1,W3,W4),data!$A$3:$A$501,\"<=\"&DATE(score!$B$1,X3,X4)),\"\")","v":""},{"$f":"IFERROR(AVERAGEIFS(data!$E$3:$E$501,data!$B$3:$B$501,score!$B$12,data!$A$3:$A$501,\">=\"&DATE(score!$B$1,X3,X4),data!$A$3:$A$501,\"<=\"&DATE(score!$B$1,Y3,Y4)),\"\")","v":""},{"$f":"IFERROR(AVERAGEIFS(data!$E$3:$E$501,data!$B$3:$B$501,score!$B$12,data!$A$3:$A$501,\">=\"&DATE(score!$B$1,Y3,Y4),data!$A$3:$A$501,\"<=\"&DATE(score!$B$1,Z3,Z4)),\"\")","v":""},{"$f":"IFERROR(AVERAGEIFS(data!$E$3:$E$501,data!$B$3:$B$501,score!$B$12,data!$A$3:$A$501,\">=\"&DATE(score!$B$1,Z3,Z4),data!$A$3:$A$501,\"<=\"&DATE(score!$B$1,AA3,AA4)),\"\")","v":""},{"$f":"IFERROR(AVERAGEIFS(data!$E$3:$E$501,data!$B$3:$B$501,score!$B$12,data!$A$3:$A$501,\">=\"&DATE(score!$B$1,AA3,AA4),data!$A$3:$A$501,\"<=\"&DATE(score!$B$1,AB3,AB4)),\"\")","v":""},{"$f":"IFERROR(AVERAGEIFS(data!$E$3:$E$501,data!$B$3:$B$501,score!$B$12,data!$A$3:$A$501,\">=\"&DATE(score!$B$1,AB3,AB4),data!$A$3:$A$501,\"<=\"&DATE(score!$B$1,AC3,AC4)),\"\")","v":""},{"$f":"IFERROR(AVERAGEIFS(data!$E$3:$E$501,data!$B$3:$B$501,score!$B$12,data!$A$3:$A$501,\">=\"&DATE(score!$B$1,AC3,AC4),data!$A$3:$A$501,\"<=\"&DATE(score!$B$1,AD3,AD4)),\"\")","v":""},{"$f":"IFERROR(AVERAGEIFS(data!$E$3:$E$501,data!$B$3:$B$501,score!$B$12,data!$A$3:$A$501,\">=\"&DATE(score!$B$1,AD3,AD4),data!$A$3:$A$501,\"<=\"&DATE(score!$B$1,AE3,AE4)),\"\")","v":""},{"$f":"IFERROR(AVERAGEIFS(data!$E$3:$E$501,data!$B$3:$B$501,score!$B$12,data!$A$3:$A$501,\">=\"&DATE(score!$B$1,AE3,AE4),data!$A$3:$A$501,\"<=\"&DATE(score!$B$1,AF3,AF4)),\"\")","v":""},{"$f":"IFERROR(AVERAGEIFS(data!$E$3:$E$501,data!$B$3:$B$501,score!$B$12,data!$A$3:$A$501,\">=\"&DATE(score!$B$1,AF3,AF4),data!$A$3:$A$501,\"<=\"&DATE(score!$B$1,AG3,AG4)),\"\")","v":""},{"$f":"IFERROR(AVERAGEIFS(data!$E$3:$E$501,data!$B$3:$B$501,score!$B$12,data!$A$3:$A$501,\">=\"&DATE(score!$B$1,AG3,AG4),data!$A$3:$A$501,\"<=\"&DATE(score!$B$1,AH3,AH4)),\"\")","v":""},{"$f":"IFERROR(AVERAGEIFS(data!$E$3:$E$501,data!$B$3:$B$501,score!$B$12,data!$A$3:$A$501,\">=\"&DATE(score!$B$1,AH3,AH4),data!$A$3:$A$501,\"<=\"&DATE(score!$B$1,AI3,AI4)),\"\")","v":""},{"$f":"IFERROR(AVERAGEIFS(data!$E$3:$E$501,data!$B$3:$B$501,score!$B$12,data!$A$3:$A$501,\">=\"&DATE(score!$B$1,AI3,AI4),data!$A$3:$A$501,\"<=\"&DATE(score!$B$1,AJ3,AJ4)),\"\")","v":""},{"$f":"IFERROR(AVERAGEIFS(data!$E$3:$E$501,data!$B$3:$B$501,score!$B$12,data!$A$3:$A$501,\">=\"&DATE(score!$B$1,AJ3,AJ4),data!$A$3:$A$501,\"<=\"&DATE(score!$B$1,AK3,AK4)),\"\")","v":""},{"$f":"IFERROR(AVERAGEIFS(data!$E$3:$E$501,data!$B$3:$B$501,score!$B$12,data!$A$3:$A$501,\">=\"&DATE(score!$B$1,AK3,AK4),data!$A$3:$A$501,\"<=\"&DATE(score!$B$1,AL3,AL4)),\"\")","v":""},{"$f":"IFERROR(AVERAGEIFS(data!$E$3:$E$501,data!$B$3:$B$501,score!$B$12,data!$A$3:$A$501,\">=\"&DATE(score!$B$1,AL3,AL4),data!$A$3:$A$501,\"<=\"&DATE(score!$B$1,AM3,AM4)),\"\")","v":""},{"$f":"IFERROR(AVERAGEIFS(data!$E$3:$E$501,data!$B$3:$B$501,score!$B$12,data!$A$3:$A$501,\">=\"&DATE(score!$B$1,AM3,AM4),data!$A$3:$A$501,\"<=\"&DATE(score!$B$1,AN3,AN4)),\"\")","v":""},{"$f":"IFERROR(AVERAGEIFS(data!$E$3:$E$501,data!$B$3:$B$501,score!$B$12,data!$A$3:$A$501,\">=\"&DATE(score!$B$1,AN3,AN4),data!$A$3:$A$501,\"<=\"&DATE(score!$B$1,AO3,AO4)),\"\")","v":""},{"$f":"IFERROR(AVERAGEIFS(data!$E$3:$E$501,data!$B$3:$B$501,score!$B$12,data!$A$3:$A$501,\">=\"&DATE(score!$B$1,AO3,AO4),data!$A$3:$A$501,\"<=\"&DATE(score!$B$1,AP3,AP4)),\"\")","v":""},{"$f":"IFERROR(AVERAGEIFS(data!$E$3:$E$501,data!$B$3:$B$501,score!$B$12,data!$A$3:$A$501,\">=\"&DATE(score!$B$1,AP3,AP4),data!$A$3:$A$501,\"<=\"&DATE(score!$B$1,AQ3,AQ4)),\"\")","v":""},{"$f":"IFERROR(AVERAGEIFS(data!$E$3:$E$501,data!$B$3:$B$501,score!$B$12,data!$A$3:$A$501,\">=\"&DATE(score!$B$1,AQ3,AQ4),data!$A$3:$A$501,\"<=\"&DATE(score!$B$1,AR3,AR4)),\"\")","v":""},{"$f":"IFERROR(AVERAGEIFS(data!$E$3:$E$501,data!$B$3:$B$501,score!$B$12,data!$A$3:$A$501,\">=\"&DATE(score!$B$1,AR3,AR4),data!$A$3:$A$501,\"<=\"&DATE(score!$B$1,AS3,AS4)),\"\")","v":""},{"$f":"IFERROR(AVERAGEIFS(data!$E$3:$E$501,data!$B$3:$B$501,score!$B$12,data!$A$3:$A$501,\">=\"&DATE(score!$B$1,AS3,AS4),data!$A$3:$A$501,\"<=\"&DATE(score!$B$1,AT3,AT4)),\"\")","v":""},{"$f":"IFERROR(AVERAGEIFS(data!$E$3:$E$501,data!$B$3:$B$501,score!$B$12,data!$A$3:$A$501,\">=\"&DATE(score!$B$1,AT3,AT4),data!$A$3:$A$501,\"<=\"&DATE(score!$B$1,AU3,AU4)),\"\")","v":""},{"$f":"IFERROR(AVERAGEIFS(data!$E$3:$E$501,data!$B$3:$B$501,score!$B$12,data!$A$3:$A$501,\">=\"&DATE(score!$B$1,AU3,AU4),data!$A$3:$A$501,\"<=\"&DATE(score!$B$1,AV3,AV4)),\"\")","v":""},{"$f":"IFERROR(AVERAGEIFS(data!$E$3:$E$501,data!$B$3:$B$501,score!$B$12,data!$A$3:$A$501,\">=\"&DATE(score!$B$1,AV3,AV4),data!$A$3:$A$501,\"<=\"&DATE(score!$B$1,AW3,AW4)),\"\")","v":""},{"$f":"IFERROR(AVERAGEIFS(data!$E$3:$E$501,data!$B$3:$B$501,score!$B$12,data!$A$3:$A$501,\">=\"&DATE(score!$B$1,AW3,AW4),data!$A$3:$A$501,\"<=\"&DATE(score!$B$1,AX3,AX4)),\"\")","v":""},{"$f":"IFERROR(AVERAGEIFS(data!$E$3:$E$501,data!$B$3:$B$501,score!$B$12,data!$A$3:$A$501,\">=\"&DATE(score!$B$1,AX3,AX4),data!$A$3:$A$501,\"<=\"&DATE(score!$B$1,AY3,AY4)),\"\")","v":""},{"$f":"IFERROR(AVERAGEIFS(data!$E$3:$E$501,data!$B$3:$B$501,score!$B$12,data!$A$3:$A$501,\">=\"&DATE(score!$B$1,AY3,AY4),data!$A$3:$A$501,\"<=\"&DATE(score!$B$1,AZ3,AZ4)),\"\")","v":""},{"$f":"IFERROR(AVERAGEIFS(data!$E$3:$E$501,data!$B$3:$B$501,score!$B$12,data!$A$3:$A$501,\">=\"&DATE(score!$B$1,AZ3,AZ4),data!$A$3:$A$501,\"<=\"&DATE(score!$B$1,BA3,BA4)),\"\")","v":""},{"$f":"IFERROR(AVERAGEIFS(data!$E$3:$E$501,data!$B$3:$B$501,score!$B$12,data!$A$3:$A$501,\">=\"&DATE(score!$B$1,BA3,BA4),data!$A$3:$A$501,\"<=\"&DATE(score!$B$1,BB3,BB4)),\"\")","v":""},{"$f":"IFERROR(AVERAGEIFS(data!$E$3:$E$501,data!$B$3:$B$501,score!$B$12,data!$A$3:$A$501,\">=\"&DATE(score!$B$1,BB3,BB4),data!$A$3:$A$501,\"<=\"&DATE(score!$B$1,BC3,BC4)),\"\")","v":""}]
[null,null,{"$f":"IFERROR(AVERAGEIFS(data!$E$3:$E$501,data!$B$3:$B$501,score!$B$13,data!$A$3:$A$501,\">=\"&DATE(score!$B$1,C3,C4),data!$A$3:$A$501,\"<=\"&DATE(score!$B$1,D3,D4)),\"\")","v":""},{"$f":"IFERROR(AVERAGEIFS(data!$E$3:$E$501,data!$B$3:$B$501,score!$B$13,data!$A$3:$A$501,\">=\"&DATE(score!$B$1,D3,D4),data!$A$3:$A$501,\"<=\"&DATE(score!$B$1,E3,E4)),\"\")","v":""},{"$f":"IFERROR(AVERAGEIFS(data!$E$3:$E$501,data!$B$3:$B$501,score!$B$13,data!$A$3:$A$501,\">=\"&DATE(score!$B$1,E3,E4),data!$A$3:$A$501,\"<=\"&DATE(score!$B$1,F3,F4)),\"\")","v":""},{"$f":"IFERROR(AVERAGEIFS(data!$E$3:$E$501,data!$B$3:$B$501,score!$B$13,data!$A$3:$A$501,\">=\"&DATE(score!$B$1,F3,F4),data!$A$3:$A$501,\"<=\"&DATE(score!$B$1,G3,G4)),\"\")","v":""},{"$f":"IFERROR(AVERAGEIFS(data!$E$3:$E$501,data!$B$3:$B$501,score!$B$13,data!$A$3:$A$501,\">=\"&DATE(score!$B$1,G3,G4),data!$A$3:$A$501,\"<=\"&DATE(score!$B$1,H3,H4)),\"\")","v":""},{"$f":"IFERROR(AVERAGEIFS(data!$E$3:$E$501,data!$B$3:$B$501,score!$B$13,data!$A$3:$A$501,\">=\"&DATE(score!$B$1,H3,H4),data!$A$3:$A$501,\"<=\"&DATE(score!$B$1,I3,I4)),\"\")","v":""},{"$f":"IFERROR(AVERAGEIFS(data!$E$3:$E$501,data!$B$3:$B$501,score!$B$13,data!$A$3:$A$501,\">=\"&DATE(score!$B$1,I3,I4),data!$A$3:$A$501,\"<=\"&DATE(score!$B$1,J3,J4)),\"\")","v":""},{"$f":"IFERROR(AVERAGEIFS(data!$E$3:$E$501,data!$B$3:$B$501,score!$B$13,data!$A$3:$A$501,\">=\"&DATE(score!$B$1,J3,J4),data!$A$3:$A$501,\"<=\"&DATE(score!$B$1,K3,K4)),\"\")","v":""},{"$f":"IFERROR(AVERAGEIFS(data!$E$3:$E$501,data!$B$3:$B$501,score!$B$13,data!$A$3:$A$501,\">=\"&DATE(score!$B$1,K3,K4),data!$A$3:$A$501,\"<=\"&DATE(score!$B$1,L3,L4)),\"\")","v":""},{"$f":"IFERROR(AVERAGEIFS(data!$E$3:$E$501,data!$B$3:$B$501,score!$B$13,data!$A$3:$A$501,\">=\"&DATE(score!$B$1,L3,L4),data!$A$3:$A$501,\"<=\"&DATE(score!$B$1,M3,M4)),\"\")","v":""},{"$f":"IFERROR(AVERAGEIFS(data!$E$3:$E$501,data!$B$3:$B$501,score!$B$13,data!$A$3:$A$501,\">=\"&DATE(score!$B$1,M3,M4),data!$A$3:$A$501,\"<=\"&DATE(score!$B$1,N3,N4)),\"\")","v":""},{"$f":"IFERROR(AVERAGEIFS(data!$E$3:$E$501,data!$B$3:$B$501,score!$B$13,data!$A$3:$A$501,\">=\"&DATE(score!$B$1,N3,N4),data!$A$3:$A$501,\"<=\"&DATE(score!$B$1,O3,O4)),\"\")","v":""},{"$f":"IFERROR(AVERAGEIFS(data!$E$3:$E$501,data!$B$3:$B$501,score!$B$13,data!$A$3:$A$501,\">=\"&DATE(score!$B$1,O3,O4),data!$A$3:$A$501,\"<=\"&DATE(score!$B$1,P3,P4)),\"\")","v":""},{"$f":"IFERROR(AVERAGEIFS(data!$E$3:$E$501,data!$B$3:$B$501,score!$B$13,data!$A$3:$A$501,\">=\"&DATE(score!$B$1,P3,P4),data!$A$3:$A$501,\"<=\"&DATE(score!$B$1,Q3,Q4)),\"\")","v":""},{"$f":"IFERROR(AVERAGEIFS(data!$E$3:$E$501,data!$B$3:$B$501,score!$B$13,data!$A$3:$A$501,\">=\"&DATE(score!$B$1,Q3,Q4),data!$A$3:$A$501,\"<=\"&DATE(score!$B$1,R3,R4)),\"\")","v":""},{"$f":"IFERROR(AVERAGEIFS(data!$E$3:$E$501,data!$B$3:$B$501,score!$B$13,data!$A$3:$A$501,\">=\"&DATE(score!$B$1,R3,R4),data!$A$3:$A$501,\"<=\"&DATE(score!$B$1,S3,S4)),\"\")","v":""},{"$f":"IFERROR(AVERAGEIFS(data!$E$3:$E$501,data!$B$3:$B$501,score!$B$13,data!$A$3:$A$501,\">=\"&DATE(score!$B$1,S3,S4),data!$A$3:$A$501,\"<=\"&DATE(score!$B$1,T3,T4)),\"\")","v":""},{"$f":"IFERROR(AVERAGEIFS(data!$E$3:$E$501,data!$B$3:$B$501,score!$B$13,data!$A$3:$A$501,\">=\"&DATE(score!$B$1,T3,T4),data!$A$3:$A$501,\"<=\"&DATE(score!$B$1,U3,U4)),\"\")","v":""},{"$f":"IFERROR(AVERAGEIFS(data!$E$3:$E$501,data!$B$3:$B$501,score!$B$13,data!$A$3:$A$501,\">=\"&DATE(score!$B$1,U3,U4),data!$A$3:$A$501,\"<=\"&DATE(score!$B$1,V3,V4)),\"\")","v":""},{"$f":"IFERROR(AVERAGEIFS(data!$E$3:$E$501,data!$B$3:$B$501,score!$B$13,data!$A$3:$A$501,\">=\"&DATE(score!$B$1,V3,V4),data!$A$3:$A$501,\"<=\"&DATE(score!$B$1,W3,W4)),\"\")","v":""},{"$f":"IFERROR(AVERAGEIFS(data!$E$3:$E$501,data!$B$3:$B$501,score!$B$13,data!$A$3:$A$501,\">=\"&DATE(score!$B$1,W3,W4),data!$A$3:$A$501,\"<=\"&DATE(score!$B$1,X3,X4)),\"\")","v":""},{"$f":"IFERROR(AVERAGEIFS(data!$E$3:$E$501,data!$B$3:$B$501,score!$B$13,data!$A$3:$A$501,\">=\"&DATE(score!$B$1,X3,X4),data!$A$3:$A$501,\"<=\"&DATE(score!$B$1,Y3,Y4)),\"\")","v":""},{"$f":"IFERROR(AVERAGEIFS(data!$E$3:$E$501,data!$B$3:$B$501,score!$B$13,data!$A$3:$A$501,\">=\"&DATE(score!$B$1,Y3,Y4),data!$A$3:$A$501,\"<=\"&DATE(score!$B$1,Z3,Z4)),\"\")","v":""},{"$f":"IFERROR(AVERAGEIFS(data!$E$3:$E$501,data!$B$3:$B$501,score!$B$13,data!$A$3:$A$501,\">=\"&DATE(score!$B$1,Z3,Z4),data!$A$3:$A$501,\"<=\"&DATE(score!$B$1,AA3,AA4)),\"\")","v":""},{"$f":"IFERROR(AVERAGEIFS(data!$E$3:$E$501,data!$B$3:$B$501,score!$B$13,data!$A$3:$A$501,\">=\"&DATE(score!$B$1,AA3,AA4),data!$A$3:$A$501,\"<=\"&DATE(score!$B$1,AB3,AB4)),\"\")","v":""},{"$f":"IFERROR(AVERAGEIFS(data!$E$3:$E$501,data!$B$3:$B$501,score!$B$13,data!$A$3:$A$501,\">=\"&DATE(score!$B$1,AB3,AB4),data!$A$3:$A$501,\"<=\"&DATE(score!$B$1,AC3,AC4)),\"\")","v":""},{"$f":"IFERROR(AVERAGEIFS(data!$E$3:$E$501,data!$B$3:$B$501,score!$B$13,data!$A$3:$A$501,\">=\"&DATE(score!$B$1,AC3,AC4),data!$A$3:$A$501,\"<=\"&DATE(score!$B$1,AD3,AD4)),\"\")","v":""},{"$f":"IFERROR(AVERAGEIFS(data!$E$3:$E$501,data!$B$3:$B$501,score!$B$13,data!$A$3:$A$501,\">=\"&DATE(score!$B$1,AD3,AD4),data!$A$3:$A$501,\"<=\"&DATE(score!$B$1,AE3,AE4)),\"\")","v":""},{"$f":"IFERROR(AVERAGEIFS(data!$E$3:$E$501,data!$B$3:$B$501,score!$B$13,data!$A$3:$A$501,\">=\"&DATE(score!$B$1,AE3,AE4),data!$A$3:$A$501,\"<=\"&DATE(score!$B$1,AF3,AF4)),\"\")","v":""},{"$f":"IFERROR(AVERAGEIFS(data!$E$3:$E$501,data!$B$3:$B$501,score!$B$13,data!$A$3:$A$501,\">=\"&DATE(score!$B$1,AF3,AF4),data!$A$3:$A$501,\"<=\"&DATE(score!$B$1,AG3,AG4)),\"\")","v":""},{"$f":"IFERROR(AVERAGEIFS(data!$E$3:$E$501,data!$B$3:$B$501,score!$B$13,data!$A$3:$A$501,\">=\"&DATE(score!$B$1,AG3,AG4),data!$A$3:$A$501,\"<=\"&DATE(score!$B$1,AH3,AH4)),\"\")","v":""},{"$f":"IFERROR(AVERAGEIFS(data!$E$3:$E$501,data!$B$3:$B$501,score!$B$13,data!$A$3:$A$501,\">=\"&DATE(score!$B$1,AH3,AH4),data!$A$3:$A$501,\"<=\"&DATE(score!$B$1,AI3,AI4)),\"\")","v":""},{"$f":"IFERROR(AVERAGEIFS(data!$E$3:$E$501,data!$B$3:$B$501,score!$B$13,data!$A$3:$A$501,\">=\"&DATE(score!$B$1,AI3,AI4),data!$A$3:$A$501,\"<=\"&DATE(score!$B$1,AJ3,AJ4)),\"\")","v":""},{"$f":"IFERROR(AVERAGEIFS(data!$E$3:$E$501,data!$B$3:$B$501,score!$B$13,data!$A$3:$A$501,\">=\"&DATE(score!$B$1,AJ3,AJ4),data!$A$3:$A$501,\"<=\"&DATE(score!$B$1,AK3,AK4)),\"\")","v":""},{"$f":"IFERROR(AVERAGEIFS(data!$E$3:$E$501,data!$B$3:$B$501,score!$B$13,data!$A$3:$A$501,\">=\"&DATE(score!$B$1,AK3,AK4),data!$A$3:$A$501,\"<=\"&DATE(score!$B$1,AL3,AL4)),\"\")","v":""},{"$f":"IFERROR(AVERAGEIFS(data!$E$3:$E$501,data!$B$3:$B$501,score!$B$13,data!$A$3:$A$501,\">=\"&DATE(score!$B$1,AL3,AL4),data!$A$3:$A$501,\"<=\"&DATE(score!$B$1,AM3,AM4)),\"\")","v":""},{"$f":"IFERROR(AVERAGEIFS(data!$E$3:$E$501,data!$B$3:$B$501,score!$B$13,data!$A$3:$A$501,\">=\"&DATE(score!$B$1,AM3,AM4),data!$A$3:$A$501,\"<=\"&DATE(score!$B$1,AN3,AN4)),\"\")","v":""},{"$f":"IFERROR(AVERAGEIFS(data!$E$3:$E$501,data!$B$3:$B$501,score!$B$13,data!$A$3:$A$501,\">=\"&DATE(score!$B$1,AN3,AN4),data!$A$3:$A$501,\"<=\"&DATE(score!$B$1,AO3,AO4)),\"\")","v":""},{"$f":"IFERROR(AVERAGEIFS(data!$E$3:$E$501,data!$B$3:$B$501,score!$B$13,data!$A$3:$A$501,\">=\"&DATE(score!$B$1,AO3,AO4),data!$A$3:$A$501,\"<=\"&DATE(score!$B$1,AP3,AP4)),\"\")","v":""},{"$f":"IFERROR(AVERAGEIFS(data!$E$3:$E$501,data!$B$3:$B$501,score!$B$13,data!$A$3:$A$501,\">=\"&DATE(score!$B$1,AP3,AP4),data!$A$3:$A$501,\"<=\"&DATE(score!$B$1,AQ3,AQ4)),\"\")","v":""},{"$f":"IFERROR(AVERAGEIFS(data!$E$3:$E$501,data!$B$3:$B$501,score!$B$13,data!$A$3:$A$501,\">=\"&DATE(score!$B$1,AQ3,AQ4),data!$A$3:$A$501,\"<=\"&DATE(score!$B$1,AR3,AR4)),\"\")","v":""},{"$f":"IFERROR(AVERAGEIFS(data!$E$3:$E$501,data!$B$3:$B$501,score!$B$13,data!$A$3:$A$501,\">=\"&DATE(score!$B$1,AR3,AR4),data!$A$3:$A$501,\"<=\"&DATE(score!$B$1,AS3,AS4)),\"\")","v":""},{"$f":"IFERROR(AVERAGEIFS(data!$E$3:$E$501,data!$B$3:$B$501,score!$B$13,data!$A$3:$A$501,\">=\"&DATE(score!$B$1,AS3,AS4),data!$A$3:$A$501,\"<=\"&DATE(score!$B$1,AT3,AT4)),\"\")","v":""},{"$f":"IFERROR(AVERAGEIFS(data!$E$3:$E$501,data!$B$3:$B$501,score!$B$13,data!$A$3:$A$501,\">=\"&DATE(score!$B$1,AT3,AT4),data!$A$3:$A$501,\"<=\"&DATE(score!$B$1,AU3,AU4)),\"\")","v":""},{"$f":"IFERROR(AVERAGEIFS(data!$E$3:$E$501,data!$B$3:$B$501,score!$B$13,data!$A$3:$A$501,\">=\"&DATE(score!$B$1,AU3,AU4),data!$A$3:$A$501,\"<=\"&DATE(score!$B$1,AV3,AV4)),\"\")","v":""},{"$f":"IFERROR(AVERAGEIFS(data!$E$3:$E$501,data!$B$3:$B$501,score!$B$13,data!$A$3:$A$501,\">=\"&DATE(score!$B$1,AV3,AV4),data!$A$3:$A$501,\"<=\"&DATE(score!$B$1,AW3,AW4)),\"\")","v":""},{"$f":"IFERROR(AVERAGEIFS(data!$E$3:$E$501,data!$B$3:$B$501,score!$B$13,data!$A$3:$A$501,\">=\"&DATE(score!$B$1,AW3,AW4),data!$A$3:$A$501,\"<=\"&DATE(score!$B$1,AX3,AX4)),\"\")","v":""},{"$f":"IFERROR(AVERAGEIFS(data!$E$3:$E$501,data!$B$3:$B$501,score!$B$13,data!$A$3:$A$501,\">=\"&DATE(score!$B$1,AX3,AX4),data!$A$3:$A$501,\"<=\"&DATE(score!$B$1,AY3,AY4)),\"\")","v":""},{"$f":"IFERROR(AVERAGEIFS(data!$E$3:$E$501,data!$B$3:$B$501,score!$B$13,data!$A$3:$A$501,\">=\"&DATE(score!$B$1,AY3,AY4),data!$A$3:$A$501,\"<=\"&DATE(score!$B$1,AZ3,AZ4)),\"\")","v":""},{"$f":"IFERROR(AVERAGEIFS(data!$E$3:$E$501,data!$B$3:$B$501,score!$B$13,data!$A$3:$A$501,\">=\"&DATE(score!$B$1,AZ3,AZ4),data!$A$3:$A$501,\"<=\"&DATE(score!$B$1,BA3,BA4)),\"\")","v":""},{"$f":"IFERROR(AVERAGEIFS(data!$E$3:$E$501,data!$B$3:$B$501,score!$B$13,data!$A$3:$A$501,\">=\"&DATE(score!$B$1,BA3,BA4),data!$A$3:$A$501,\"<=\"&DATE(score!$B$1,BB3,BB4)),\"\")","v":""},{"$f":"IFERROR(AVERAGEIFS(data!$E$3:$E$501,data!$B$3:$B$501,score!$B$13,data!$A$3:$A$501,\">=\"&DATE(score!$B$1,BB3,BB4),data!$A$3:$A$501,\"<=\"&DATE(score!$B$1,BC3,BC4)),\"\")","v":""}]
[null,null,{"$f":"IFERROR(AVERAGEIFS(data!$E$3:$E$501,data!$B$3:$B$501,score!$B$14,data!$A$3:$A$501,\">=\"&DATE(score!$B$1,C3,C4),data!$A$3:$A$501,\"<=\"&DATE(score!$B$1,D3,D4)),\"\")","v":""},{"$f":"IFERROR(AVERAGEIFS(data!$E$3:$E$501,data!$B$3:$B$501,score!$B$14,data!$A$3:$A$501,\">=\"&DATE(score!$B$1,D3,D4),data!$A$3:$A$501,\"<=\"&DATE(score!$B$1,E3,E4)),\"\")","v":""},{"$f":"IFERROR(AVERAGEIFS(data!$E$3:$E$501,data!$B$3:$B$501,score!$B$14,data!$A$3:$A$501,\">=\"&DATE(score!$B$1,E3,E4),data!$A$3:$A$501,\"<=\"&DATE(score!$B$1,F3,F4)),\"\")","v":""},{"$f":"IFERROR(AVERAGEIFS(data!$E$3:$E$501,data!$B$3:$B$501,score!$B$14,data!$A$3:$A$501,\">=\"&DATE(score!$B$1,F3,F4),data!$A$3:$A$501,\"<=\"&DATE(score!$B$1,G3,G4)),\"\")","v":""},{"$f":"IFERROR(AVERAGEIFS(data!$E$3:$E$501,data!$B$3:$B$501,score!$B$14,data!$A$3:$A$501,\">=\"&DATE(score!$B$1,G3,G4),data!$A$3:$A$501,\"<=\"&DATE(score!$B$1,H3,H4)),\"\")","v":""},{"$f":"IFERROR(AVERAGEIFS(data!$E$3:$E$501,data!$B$3:$B$501,score!$B$14,data!$A$3:$A$501,\">=\"&DATE(score!$B$1,H3,H4),data!$A$3:$A$501,\"<=\"&DATE(score!$B$1,I3,I4)),\"\")","v":""},{"$f":"IFERROR(AVERAGEIFS(data!$E$3:$E$501,data!$B$3:$B$501,score!$B$14,data!$A$3:$A$501,\">=\"&DATE(score!$B$1,I3,I4),data!$A$3:$A$501,\"<=\"&DATE(score!$B$1,J3,J4)),\"\")","v":""},{"$f":"IFERROR(AVERAGEIFS(data!$E$3:$E$501,data!$B$3:$B$501,score!$B$14,data!$A$3:$A$501,\">=\"&DATE(score!$B$1,J3,J4),data!$A$3:$A$501,\"<=\"&DATE(score!$B$1,K3,K4)),\"\")","v":""},{"$f":"IFERROR(AVERAGEIFS(data!$E$3:$E$501,data!$B$3:$B$501,score!$B$14,data!$A$3:$A$501,\">=\"&DATE(score!$B$1,K3,K4),data!$A$3:$A$501,\"<=\"&DATE(score!$B$1,L3,L4)),\"\")","v":""},{"$f":"IFERROR(AVERAGEIFS(data!$E$3:$E$501,data!$B$3:$B$501,score!$B$14,data!$A$3:$A$501,\">=\"&DATE(score!$B$1,L3,L4),data!$A$3:$A$501,\"<=\"&DATE(score!$B$1,M3,M4)),\"\")","v":""},{"$f":"IFERROR(AVERAGEIFS(data!$E$3:$E$501,data!$B$3:$B$501,score!$B$14,data!$A$3:$A$501,\">=\"&DATE(score!$B$1,M3,M4),data!$A$3:$A$501,\"<=\"&DATE(score!$B$1,N3,N4)),\"\")","v":""},{"$f":"IFERROR(AVERAGEIFS(data!$E$3:$E$501,data!$B$3:$B$501,score!$B$14,data!$A$3:$A$501,\">=\"&DATE(score!$B$1,N3,N4),data!$A$3:$A$501,\"<=\"&DATE(score!$B$1,O3,O4)),\"\")","v":""},{"$f":"IFERROR(AVERAGEIFS(data!$E$3:$E$501,data!$B$3:$B$501,score!$B$14,data!$A$3:$A$501,\">=\"&DATE(score!$B$1,O3,O4),data!$A$3:$A$501,\"<=\"&DATE(score!$B$1,P3,P4)),\"\")","v":""},{"$f":"IFERROR(AVERAGEIFS(data!$E$3:$E$501,data!$B$3:$B$501,score!$B$14,data!$A$3:$A$501,\">=\"&DATE(score!$B$1,P3,P4),data!$A$3:$A$501,\"<=\"&DATE(score!$B$1,Q3,Q4)),\"\")","v":""},{"$f":"IFERROR(AVERAGEIFS(data!$E$3:$E$501,data!$B$3:$B$501,score!$B$14,data!$A$3:$A$501,\">=\"&DATE(score!$B$1,Q3,Q4),data!$A$3:$A$501,\"<=\"&DATE(score!$B$1,R3,R4)),\"\")","v":""},{"$f":"IFERROR(AVERAGEIFS(data!$E$3:$E$501,data!$B$3:$B$501,score!$B$14,data!$A$3:$A$501,\">=\"&DATE(score!$B$1,R3,R4),data!$A$3:$A$501,\"<=\"&DATE(score!$B$1,S3,S4)),\"\")","v":""},{"$f":"IFERROR(AVERAGEIFS(data!$E$3:$E$501,data!$B$3:$B$501,score!$B$14,data!$A$3:$A$501,\">=\"&DATE(score!$B$1,S3,S4),data!$A$3:$A$501,\"<=\"&DATE(score!$B$1,T3,T4)),\"\")","v":""},{"$f":"IFERROR(AVERAGEIFS(data!$E$3:$E$501,data!$B$3:$B$501,score!$B$14,data!$A$3:$A$501,\">=\"&DATE(score!$B$1,T3,T4),data!$A$3:$A$501,\"<=\"&DATE(score!$B$1,U3,U4)),\"\")","v":""},{"$f":"IFERROR(AVERAGEIFS(data!$E$3:$E$501,data!$B$3:$B$501,score!$B$14,data!$A$3:$A$501,\">=\"&DATE(score!$B$1,U3,U4),data!$A$3:$A$501,\"<=\"&DATE(score!$B$1,V3,V4)),\"\")","v":""},{"$f":"IFERROR(AVERAGEIFS(data!$E$3:$E$501,data!$B$3:$B$501,score!$B$14,data!$A$3:$A$501,\">=\"&DATE(score!$B$1,V3,V4),data!$A$3:$A$501,\"<=\"&DATE(score!$B$1,W3,W4)),\"\")","v":""},{"$f":"IFERROR(AVERAGEIFS(data!$E$3:$E$501,data!$B$3:$B$501,score!$B$14,data!$A$3:$A$501,\">=\"&DATE(score!$B$1,W3,W4),data!$A$3:$A$501,\"<=\"&DATE(score!$B$1,X3,X4)),\"\")","v":""},{"$f":"IFERROR(AVERAGEIFS(data!$E$3:$E$501,data!$B$3:$B$501,score!$B$14,data!$A$3:$A$501,\">=\"&DATE(score!$B$1,X3,X4),data!$A$3:$A$501,\"<=\"&DATE(score!$B$1,Y3,Y4)),\"\")","v":""},{"$f":"IFERROR(AVERAGEIFS(data!$E$3:$E$501,data!$B$3:$B$501,score!$B$14,data!$A$3:$A$501,\">=\"&DATE(score!$B$1,Y3,Y4),data!$A$3:$A$501,\"<=\"&DATE(score!$B$1,Z3,Z4)),\"\")","v":""},{"$f":"IFERROR(AVERAGEIFS(data!$E$3:$E$501,data!$B$3:$B$501,score!$B$14,data!$A$3:$A$501,\">=\"&DATE(score!$B$1,Z3,Z4),data!$A$3:$A$501,\"<=\"&DATE(score!$B$1,AA3,AA4)),\"\")","v":""},{"$f":"IFERROR(AVERAGEIFS(data!$E$3:$E$501,data!$B$3:$B$501,score!$B$14,data!$A$3:$A$501,\">=\"&DATE(score!$B$1,AA3,AA4),data!$A$3:$A$501,\"<=\"&DATE(score!$B$1,AB3,AB4)),\"\")","v":""},{"$f":"IFERROR(AVERAGEIFS(data!$E$3:$E$501,data!$B$3:$B$501,score!$B$14,data!$A$3:$A$501,\">=\"&DATE(score!$B$1,AB3,AB4),data!$A$3:$A$501,\"<=\"&DATE(score!$B$1,AC3,AC4)),\"\")","v":""},{"$f":"IFERROR(AVERAGEIFS(data!$E$3:$E$501,data!$B$3:$B$501,score!$B$14,data!$A$3:$A$501,\">=\"&DATE(score!$B$1,AC3,AC4),data!$A$3:$A$501,\"<=\"&DATE(score!$B$1,AD3,AD4)),\"\")","v":""},{"$f":"IFERROR(AVERAGEIFS(data!$E$3:$E$501,data!$B$3:$B$501,score!$B$14,data!$A$3:$A$501,\">=\"&DATE(score!$B$1,AD3,AD4),data!$A$3:$A$501,\"<=\"&DATE(score!$B$1,AE3,AE4)),\"\")","v":""},{"$f":"IFERROR(AVERAGEIFS(data!$E$3:$E$501,data!$B$3:$B$501,score!$B$14,data!$A$3:$A$501,\">=\"&DATE(score!$B$1,AE3,AE4),data!$A$3:$A$501,\"<=\"&DATE(score!$B$1,AF3,AF4)),\"\")","v":""},{"$f":"IFERROR(AVERAGEIFS(data!$E$3:$E$501,data!$B$3:$B$501,score!$B$14,data!$A$3:$A$501,\">=\"&DATE(score!$B$1,AF3,AF4),data!$A$3:$A$501,\"<=\"&DATE(score!$B$1,AG3,AG4)),\"\")","v":""},{"$f":"IFERROR(AVERAGEIFS(data!$E$3:$E$501,data!$B$3:$B$501,score!$B$14,data!$A$3:$A$501,\">=\"&DATE(score!$B$1,AG3,AG4),data!$A$3:$A$501,\"<=\"&DATE(score!$B$1,AH3,AH4)),\"\")","v":""},{"$f":"IFERROR(AVERAGEIFS(data!$E$3:$E$501,data!$B$3:$B$501,score!$B$14,data!$A$3:$A$501,\">=\"&DATE(score!$B$1,AH3,AH4),data!$A$3:$A$501,\"<=\"&DATE(score!$B$1,AI3,AI4)),\"\")","v":""},{"$f":"IFERROR(AVERAGEIFS(data!$E$3:$E$501,data!$B$3:$B$501,score!$B$14,data!$A$3:$A$501,\">=\"&DATE(score!$B$1,AI3,AI4),data!$A$3:$A$501,\"<=\"&DATE(score!$B$1,AJ3,AJ4)),\"\")","v":""},{"$f":"IFERROR(AVERAGEIFS(data!$E$3:$E$501,data!$B$3:$B$501,score!$B$14,data!$A$3:$A$501,\">=\"&DATE(score!$B$1,AJ3,AJ4),data!$A$3:$A$501,\"<=\"&DATE(score!$B$1,AK3,AK4)),\"\")","v":""},{"$f":"IFERROR(AVERAGEIFS(data!$E$3:$E$501,data!$B$3:$B$501,score!$B$14,data!$A$3:$A$501,\">=\"&DATE(score!$B$1,AK3,AK4),data!$A$3:$A$501,\"<=\"&DATE(score!$B$1,AL3,AL4)),\"\")","v":""},{"$f":"IFERROR(AVERAGEIFS(data!$E$3:$E$501,data!$B$3:$B$501,score!$B$14,data!$A$3:$A$501,\">=\"&DATE(score!$B$1,AL3,AL4),data!$A$3:$A$501,\"<=\"&DATE(score!$B$1,AM3,AM4)),\"\")","v":""},{"$f":"IFERROR(AVERAGEIFS(data!$E$3:$E$501,data!$B$3:$B$501,score!$B$14,data!$A$3:$A$501,\">=\"&DATE(score!$B$1,AM3,AM4),data!$A$3:$A$501,\"<=\"&DATE(score!$B$1,AN3,AN4)),\"\")","v":""},{"$f":"IFERROR(AVERAGEIFS(data!$E$3:$E$501,data!$B$3:$B$501,score!$B$14,data!$A$3:$A$501,\">=\"&DATE(score!$B$1,AN3,AN4),data!$A$3:$A$501,\"<=\"&DATE(score!$B$1,AO3,AO4)),\"\")","v":""},{"$f":"IFERROR(AVERAGEIFS(data!$E$3:$E$501,data!$B$3:$B$501,score!$B$14,data!$A$3:$A$501,\">=\"&DATE(score!$B$1,AO3,AO4),data!$A$3:$A$501,\"<=\"&DATE(score!$B$1,AP3,AP4)),\"\")","v":""},{"$f":"IFERROR(AVERAGEIFS(data!$E$3:$E$501,data!$B$3:$B$501,score!$B$14,data!$A$3:$A$501,\">=\"&DATE(score!$B$1,AP3,AP4),data!$A$3:$A$501,\"<=\"&DATE(score!$B$1,AQ3,AQ4)),\"\")","v":""},{"$f":"IFERROR(AVERAGEIFS(data!$E$3:$E$501,data!$B$3:$B$501,score!$B$14,data!$A$3:$A$501,\">=\"&DATE(score!$B$1,AQ3,AQ4),data!$A$3:$A$501,\"<=\"&DATE(score!$B$1,AR3,AR4)),\"\")","v":""},{"$f":"IFERROR(AVERAGEIFS(data!$E$3:$E$501,data!$B$3:$B$501,score!$B$14,data!$A$3:$A$501,\">=\"&DATE(score!$B$1,AR3,AR4),data!$A$3:$A$501,\"<=\"&DATE(score!$B$1,AS3,AS4)),\"\")","v":""},{"$f":"IFERROR(AVERAGEIFS(data!$E$3:$E$501,data!$B$3:$B$501,score!$B$14,data!$A$3:$A$501,\">=\"&DATE(score!$B$1,AS3,AS4),data!$A$3:$A$501,\"<=\"&DATE(score!$B$1,AT3,AT4)),\"\")","v":""},{"$f":"IFERROR(AVERAGEIFS(data!$E$3:$E$501,data!$B$3:$B$501,score!$B$14,data!$A$3:$A$501,\">=\"&DATE(score!$B$1,AT3,AT4),data!$A$3:$A$501,\"<=\"&DATE(score!$B$1,AU3,AU4)),\"\")","v":""},{"$f":"IFERROR(AVERAGEIFS(data!$E$3:$E$501,data!$B$3:$B$501,score!$B$14,data!$A$3:$A$501,\">=\"&DATE(score!$B$1,AU3,AU4),data!$A$3:$A$501,\"<=\"&DATE(score!$B$1,AV3,AV4)),\"\")","v":""},{"$f":"IFERROR(AVERAGEIFS(data!$E$3:$E$501,data!$B$3:$B$501,score!$B$14,data!$A$3:$A$501,\">=\"&DATE(score!$B$1,AV3,AV4),data!$A$3:$A$501,\"<=\"&DATE(score!$B$1,AW3,AW4)),\"\")","v":""},{"$f":"IFERROR(AVERAGEIFS(data!$E$3:$E$501,data!$B$3:$B$501,score!$B$14,data!$A$3:$A$501,\">=\"&DATE(score!$B$1,AW3,AW4),data!$A$3:$A$501,\"<=\"&DATE(score!$B$1,AX3,AX4)),\"\")","v":""},{"$f":"IFERROR(AVERAGEIFS(data!$E$3:$E$501,data!$B$3:$B$501,score!$B$14,data!$A$3:$A$501,\">=\"&DATE(score!$B$1,AX3,AX4),data!$A$3:$A$501,\"<=\"&DATE(score!$B$1,AY3,AY4)),\"\")","v":""},{"$f":"IFERROR(AVERAGEIFS(data!$E$3:$E$501,data!$B$3:$B$501,score!$B$14,data!$A$3:$A$501,\">=\"&DATE(score!$B$1,AY3,AY4),data!$A$3:$A$501,\"<=\"&DATE(score!$B$1,AZ3,AZ4)),\"\")","v":""},{"$f":"IFERROR(AVERAGEIFS(data!$E$3:$E$501,data!$B$3:$B$501,score!$B$14,data!$A$3:$A$501,\">=\"&DATE(score!$B$1,AZ3,AZ4),data!$A$3:$A$501,\"<=\"&DATE(score!$B$1,BA3,BA4)),\"\")","v":""},{"$f":"IFERROR(AVERAGEIFS(data!$E$3:$E$501,data!$B$3:$B$501,score!$B$14,data!$A$3:$A$501,\">=\"&DATE(score!$B$1,BA3,BA4),data!$A$3:$A$501,\"<=\"&DATE(score!$B$1,BB3,BB4)),\"\")","v":""},{"$f":"IFERROR(AVERAGEIFS(data!$E$3:$E$501,data!$B$3:$B$501,score!$B$14,data!$A$3:$A$501,\">=\"&DATE(score!$B$1,BB3,BB4),data!$A$3:$A$501,\"<=\"&DATE(score!$B$1,BC3,BC4)),\"\")","v":""}]
[null,null,{"$f":"IFERROR(AVERAGEIFS(data!$E$3:$E$501,data!$B$3:$B$501,score!$B$15,data!$A$3:$A$501,\">=\"&DATE(score!$B$1,C3,C4),data!$A$3:$A$501,\"<=\"&DATE(score!$B$1,D3,D4)),\"\")","v":""},{"$f":"IFERROR(AVERAGEIFS(data!$E$3:$E$501,data!$B$3:$B$501,score!$B$15,data!$A$3:$A$501,\">=\"&DATE(score!$B$1,D3,D4),data!$A$3:$A$501,\"<=\"&DATE(score!$B$1,E3,E4)),\"\")","v":""},{"$f":"IFERROR(AVERAGEIFS(data!$E$3:$E$501,data!$B$3:$B$501,score!$B$15,data!$A$3:$A$501,\">=\"&DATE(score!$B$1,E3,E4),data!$A$3:$A$501,\"<=\"&DATE(score!$B$1,F3,F4)),\"\")","v":""},{"$f":"IFERROR(AVERAGEIFS(data!$E$3:$E$501,data!$B$3:$B$501,score!$B$15,data!$A$3:$A$501,\">=\"&DATE(score!$B$1,F3,F4),data!$A$3:$A$501,\"<=\"&DATE(score!$B$1,G3,G4)),\"\")","v":""},{"$f":"IFERROR(AVERAGEIFS(data!$E$3:$E$501,data!$B$3:$B$501,score!$B$15,data!$A$3:$A$501,\">=\"&DATE(score!$B$1,G3,G4),data!$A$3:$A$501,\"<=\"&DATE(score!$B$1,H3,H4)),\"\")","v":""},{"$f":"IFERROR(AVERAGEIFS(data!$E$3:$E$501,data!$B$3:$B$501,score!$B$15,data!$A$3:$A$501,\">=\"&DATE(score!$B$1,H3,H4),data!$A$3:$A$501,\"<=\"&DATE(score!$B$1,I3,I4)),\"\")","v":""},{"$f":"IFERROR(AVERAGEIFS(data!$E$3:$E$501,data!$B$3:$B$501,score!$B$15,data!$A$3:$A$501,\">=\"&DATE(score!$B$1,I3,I4),data!$A$3:$A$501,\"<=\"&DATE(score!$B$1,J3,J4)),\"\")","v":""},{"$f":"IFERROR(AVERAGEIFS(data!$E$3:$E$501,data!$B$3:$B$501,score!$B$15,data!$A$3:$A$501,\">=\"&DATE(score!$B$1,J3,J4),data!$A$3:$A$501,\"<=\"&DATE(score!$B$1,K3,K4)),\"\")","v":""},{"$f":"IFERROR(AVERAGEIFS(data!$E$3:$E$501,data!$B$3:$B$501,score!$B$15,data!$A$3:$A$501,\">=\"&DATE(score!$B$1,K3,K4),data!$A$3:$A$501,\"<=\"&DATE(score!$B$1,L3,L4)),\"\")","v":""},{"$f":"IFERROR(AVERAGEIFS(data!$E$3:$E$501,data!$B$3:$B$501,score!$B$15,data!$A$3:$A$501,\">=\"&DATE(score!$B$1,L3,L4),data!$A$3:$A$501,\"<=\"&DATE(score!$B$1,M3,M4)),\"\")","v":""},{"$f":"IFERROR(AVERAGEIFS(data!$E$3:$E$501,data!$B$3:$B$501,score!$B$15,data!$A$3:$A$501,\">=\"&DATE(score!$B$1,M3,M4),data!$A$3:$A$501,\"<=\"&DATE(score!$B$1,N3,N4)),\"\")","v":""},{"$f":"IFERROR(AVERAGEIFS(data!$E$3:$E$501,data!$B$3:$B$501,score!$B$15,data!$A$3:$A$501,\">=\"&DATE(score!$B$1,N3,N4),data!$A$3:$A$501,\"<=\"&DATE(score!$B$1,O3,O4)),\"\")","v":""},{"$f":"IFERROR(AVERAGEIFS(data!$E$3:$E$501,data!$B$3:$B$501,score!$B$15,data!$A$3:$A$501,\">=\"&DATE(score!$B$1,O3,O4),data!$A$3:$A$501,\"<=\"&DATE(score!$B$1,P3,P4)),\"\")","v":""},{"$f":"IFERROR(AVERAGEIFS(data!$E$3:$E$501,data!$B$3:$B$501,score!$B$15,data!$A$3:$A$501,\">=\"&DATE(score!$B$1,P3,P4),data!$A$3:$A$501,\"<=\"&DATE(score!$B$1,Q3,Q4)),\"\")","v":""},{"$f":"IFERROR(AVERAGEIFS(data!$E$3:$E$501,data!$B$3:$B$501,score!$B$15,data!$A$3:$A$501,\">=\"&DATE(score!$B$1,Q3,Q4),data!$A$3:$A$501,\"<=\"&DATE(score!$B$1,R3,R4)),\"\")","v":""},{"$f":"IFERROR(AVERAGEIFS(data!$E$3:$E$501,data!$B$3:$B$501,score!$B$15,data!$A$3:$A$501,\">=\"&DATE(score!$B$1,R3,R4),data!$A$3:$A$501,\"<=\"&DATE(score!$B$1,S3,S4)),\"\")","v":""},{"$f":"IFERROR(AVERAGEIFS(data!$E$3:$E$501,data!$B$3:$B$501,score!$B$15,data!$A$3:$A$501,\">=\"&DATE(score!$B$1,S3,S4),data!$A$3:$A$501,\"<=\"&DATE(score!$B$1,T3,T4)),\"\")","v":""},{"$f":"IFERROR(AVERAGEIFS(data!$E$3:$E$501,data!$B$3:$B$501,score!$B$15,data!$A$3:$A$501,\">=\"&DATE(score!$B$1,T3,T4),data!$A$3:$A$501,\"<=\"&DATE(score!$B$1,U3,U4)),\"\")","v":""},{"$f":"IFERROR(AVERAGEIFS(data!$E$3:$E$501,data!$B$3:$B$501,score!$B$15,data!$A$3:$A$501,\">=\"&DATE(score!$B$1,U3,U4),data!$A$3:$A$501,\"<=\"&DATE(score!$B$1,V3,V4)),\"\")","v":""},{"$f":"IFERROR(AVERAGEIFS(data!$E$3:$E$501,data!$B$3:$B$501,score!$B$15,data!$A$3:$A$501,\">=\"&DATE(score!$B$1,V3,V4),data!$A$3:$A$501,\"<=\"&DATE(score!$B$1,W3,W4)),\"\")","v":""},{"$f":"IFERROR(AVERAGEIFS(data!$E$3:$E$501,data!$B$3:$B$501,score!$B$15,data!$A$3:$A$501,\">=\"&DATE(score!$B$1,W3,W4),data!$A$3:$A$501,\"<=\"&DATE(score!$B$1,X3,X4)),\"\")","v":""},{"$f":"IFERROR(AVERAGEIFS(data!$E$3:$E$501,data!$B$3:$B$501,score!$B$15,data!$A$3:$A$501,\">=\"&DATE(score!$B$1,X3,X4),data!$A$3:$A$501,\"<=\"&DATE(score!$B$1,Y3,Y4)),\"\")","v":""},{"$f":"IFERROR(AVERAGEIFS(data!$E$3:$E$501,data!$B$3:$B$501,score!$B$15,data!$A$3:$A$501,\">=\"&DATE(score!$B$1,Y3,Y4),data!$A$3:$A$501,\"<=\"&DATE(score!$B$1,Z3,Z4)),\"\")","v":""},{"$f":"IFERROR(AVERAGEIFS(data!$E$3:$E$501,data!$B$3:$B$501,score!$B$15,data!$A$3:$A$501,\">=\"&DATE(score!$B$1,Z3,Z4),data!$A$3:$A$501,\"<=\"&DATE(score!$B$1,AA3,AA4)),\"\")","v":""},{"$f":"IFERROR(AVERAGEIFS(data!$E$3:$E$501,data!$B$3:$B$501,score!$B$15,data!$A$3:$A$501,\">=\"&DATE(score!$B$1,AA3,AA4),data!$A$3:$A$501,\"<=\"&DATE(score!$B$1,AB3,AB4)),\"\")","v":""},{"$f":"IFERROR(AVERAGEIFS(data!$E$3:$E$501,data!$B$3:$B$501,score!$B$15,data!$A$3:$A$501,\">=\"&DATE(score!$B$1,AB3,AB4),data!$A$3:$A$501,\"<=\"&DATE(score!$B$1,AC3,AC4)),\"\")","v":""},{"$f":"IFERROR(AVERAGEIFS(data!$E$3:$E$501,data!$B$3:$B$501,score!$B$15,data!$A$3:$A$501,\">=\"&DATE(score!$B$1,AC3,AC4),data!$A$3:$A$501,\"<=\"&DATE(score!$B$1,AD3,AD4)),\"\")","v":""},{"$f":"IFERROR(AVERAGEIFS(data!$E$3:$E$501,data!$B$3:$B$501,score!$B$15,data!$A$3:$A$501,\">=\"&DATE(score!$B$1,AD3,AD4),data!$A$3:$A$501,\"<=\"&DATE(score!$B$1,AE3,AE4)),\"\")","v":""},{"$f":"IFERROR(AVERAGEIFS(data!$E$3:$E$501,data!$B$3:$B$501,score!$B$15,data!$A$3:$A$501,\">=\"&DATE(score!$B$1,AE3,AE4),data!$A$3:$A$501,\"<=\"&DATE(score!$B$1,AF3,AF4)),\"\")","v":""},{"$f":"IFERROR(AVERAGEIFS(data!$E$3:$E$501,data!$B$3:$B$501,score!$B$15,data!$A$3:$A$501,\">=\"&DATE(score!$B$1,AF3,AF4),data!$A$3:$A$501,\"<=\"&DATE(score!$B$1,AG3,AG4)),\"\")","v":""},{"$f":"IFERROR(AVERAGEIFS(data!$E$3:$E$501,data!$B$3:$B$501,score!$B$15,data!$A$3:$A$501,\">=\"&DATE(score!$B$1,AG3,AG4),data!$A$3:$A$501,\"<=\"&DATE(score!$B$1,AH3,AH4)),\"\")","v":""},{"$f":"IFERROR(AVERAGEIFS(data!$E$3:$E$501,data!$B$3:$B$501,score!$B$15,data!$A$3:$A$501,\">=\"&DATE(score!$B$1,AH3,AH4),data!$A$3:$A$501,\"<=\"&DATE(score!$B$1,AI3,AI4)),\"\")","v":""},{"$f":"IFERROR(AVERAGEIFS(data!$E$3:$E$501,data!$B$3:$B$501,score!$B$15,data!$A$3:$A$501,\">=\"&DATE(score!$B$1,AI3,AI4),data!$A$3:$A$501,\"<=\"&DATE(score!$B$1,AJ3,AJ4)),\"\")","v":""},{"$f":"IFERROR(AVERAGEIFS(data!$E$3:$E$501,data!$B$3:$B$501,score!$B$15,data!$A$3:$A$501,\">=\"&DATE(score!$B$1,AJ3,AJ4),data!$A$3:$A$501,\"<=\"&DATE(score!$B$1,AK3,AK4)),\"\")","v":""},{"$f":"IFERROR(AVERAGEIFS(data!$E$3:$E$501,data!$B$3:$B$501,score!$B$15,data!$A$3:$A$501,\">=\"&DATE(score!$B$1,AK3,AK4),data!$A$3:$A$501,\"<=\"&DATE(score!$B$1,AL3,AL4)),\"\")","v":""},{"$f":"IFERROR(AVERAGEIFS(data!$E$3:$E$501,data!$B$3:$B$501,score!$B$15,data!$A$3:$A$501,\">=\"&DATE(score!$B$1,AL3,AL4),data!$A$3:$A$501,\"<=\"&DATE(score!$B$1,AM3,AM4)),\"\")","v":""},{"$f":"IFERROR(AVERAGEIFS(data!$E$3:$E$501,data!$B$3:$B$501,score!$B$15,data!$A$3:$A$501,\">=\"&DATE(score!$B$1,AM3,AM4),data!$A$3:$A$501,\"<=\"&DATE(score!$B$1,AN3,AN4)),\"\")","v":""},{"$f":"IFERROR(AVERAGEIFS(data!$E$3:$E$501,data!$B$3:$B$501,score!$B$15,data!$A$3:$A$501,\">=\"&DATE(score!$B$1,AN3,AN4),data!$A$3:$A$501,\"<=\"&DATE(score!$B$1,AO3,AO4)),\"\")","v":""},{"$f":"IFERROR(AVERAGEIFS(data!$E$3:$E$501,data!$B$3:$B$501,score!$B$15,data!$A$3:$A$501,\">=\"&DATE(score!$B$1,AO3,AO4),data!$A$3:$A$501,\"<=\"&DATE(score!$B$1,AP3,AP4)),\"\")","v":""},{"$f":"IFERROR(AVERAGEIFS(data!$E$3:$E$501,data!$B$3:$B$501,score!$B$15,data!$A$3:$A$501,\">=\"&DATE(score!$B$1,AP3,AP4),data!$A$3:$A$501,\"<=\"&DATE(score!$B$1,AQ3,AQ4)),\"\")","v":""},{"$f":"IFERROR(AVERAGEIFS(data!$E$3:$E$501,data!$B$3:$B$501,score!$B$15,data!$A$3:$A$501,\">=\"&DATE(score!$B$1,AQ3,AQ4),data!$A$3:$A$501,\"<=\"&DATE(score!$B$1,AR3,AR4)),\"\")","v":""},{"$f":"IFERROR(AVERAGEIFS(data!$E$3:$E$501,data!$B$3:$B$501,score!$B$15,data!$A$3:$A$501,\">=\"&DATE(score!$B$1,AR3,AR4),data!$A$3:$A$501,\"<=\"&DATE(score!$B$1,AS3,AS4)),\"\")","v":""},{"$f":"IFERROR(AVERAGEIFS(data!$E$3:$E$501,data!$B$3:$B$501,score!$B$15,data!$A$3:$A$501,\">=\"&DATE(score!$B$1,AS3,AS4),data!$A$3:$A$501,\"<=\"&DATE(score!$B$1,AT3,AT4)),\"\")","v":""},{"$f":"IFERROR(AVERAGEIFS(data!$E$3:$E$501,data!$B$3:$B$501,score!$B$15,data!$A$3:$A$501,\">=\"&DATE(score!$B$1,AT3,AT4),data!$A$3:$A$501,\"<=\"&DATE(score!$B$1,AU3,AU4)),\"\")","v":""},{"$f":"IFERROR(AVERAGEIFS(data!$E$3:$E$501,data!$B$3:$B$501,score!$B$15,data!$A$3:$A$501,\">=\"&DATE(score!$B$1,AU3,AU4),data!$A$3:$A$501,\"<=\"&DATE(score!$B$1,AV3,AV4)),\"\")","v":""},{"$f":"IFERROR(AVERAGEIFS(data!$E$3:$E$501,data!$B$3:$B$501,score!$B$15,data!$A$3:$A$501,\">=\"&DATE(score!$B$1,AV3,AV4),data!$A$3:$A$501,\"<=\"&DATE(score!$B$1,AW3,AW4)),\"\")","v":""},{"$f":"IFERROR(AVERAGEIFS(data!$E$3:$E$501,data!$B$3:$B$501,score!$B$15,data!$A$3:$A$501,\">=\"&DATE(score!$B$1,AW3,AW4),data!$A$3:$A$501,\"<=\"&DATE(score!$B$1,AX3,AX4)),\"\")","v":""},{"$f":"IFERROR(AVERAGEIFS(data!$E$3:$E$501,data!$B$3:$B$501,score!$B$15,data!$A$3:$A$501,\">=\"&DATE(score!$B$1,AX3,AX4),data!$A$3:$A$501,\"<=\"&DATE(score!$B$1,AY3,AY4)),\"\")","v":""},{"$f":"IFERROR(AVERAGEIFS(data!$E$3:$E$501,data!$B$3:$B$501,score!$B$15,data!$A$3:$A$501,\">=\"&DATE(score!$B$1,AY3,AY4),data!$A$3:$A$501,\"<=\"&DATE(score!$B$1,AZ3,AZ4)),\"\")","v":""},{"$f":"IFERROR(AVERAGEIFS(data!$E$3:$E$501,data!$B$3:$B$501,score!$B$15,data!$A$3:$A$501,\">=\"&DATE(score!$B$1,AZ3,AZ4),data!$A$3:$A$501,\"<=\"&DATE(score!$B$1,BA3,BA4)),\"\")","v":""},{"$f":"IFERROR(AVERAGEIFS(data!$E$3:$E$501,data!$B$3:$B$501,score!$B$15,data!$A$3:$A$501,\">=\"&DATE(score!$B$1,BA3,BA4),data!$A$3:$A$501,\"<=\"&DATE(score!$B$1,BB3,BB4)),\"\")","v":""},{"$f":"IFERROR(AVERAGEIFS(data!$E$3:$E$501,data!$B$3:$B$501,score!$B$15,data!$A$3:$A$501,\">=\"&DATE(score!$B$1,BB3,BB4),data!$A$3:$A$501,\"<=\"&DATE(score!$B$1,BC3,BC4)),\"\")","v":""}]
[null,null,{"$f":"IFERROR(AVERAGEIF(C9:G15,\"<>0\"),\"\")","v":""},null,null,null,null,{"$f":"IFERROR(AVERAGEIF(H9:K15,\"<>0\"),\"\")","v":""},null,null,null,{"$f":"IFERROR(AVERAGEIF(L9:O15,\"<>0\"),\"\")","v":""},null,null,null,{"$f":"IFERROR(AVERAGEIF(P9:T15,\"<>0\"),\"\")","v":""},null,null,null,null,{"$f":"IFERROR(AVERAGEIF(U9:X15,\"<>0\"),\"\")","v":""},null,null,null,{"$f":"IFERROR(AVERAGEIF(Y9:AB15,\"<>0\"),\"\")","v":""},null,null,null,{"$f":"IFERROR(AVERAGEIF(AC9:AG15,\"<>0\"),\"\")","v":""},null,null,null,null,{"$f":"IFERROR(AVERAGEIF(AH9:AK15,\"<>0\"),\"\")","v":""},null,null,null,{"$f":"IFERROR(AVERAGEIF(AL9:AP15,\"<>0\"),\"\")","v":""},null,null,null,null,{"$f":"IFERROR(AVERAGEIF(AQ9:AT15,\"<>0\"),\"\")","v":""},null,null,null,{"$f":"IFERROR(AVERAGEIF(AU9:AX15,\"<>0\"),\"\")","v":""},null,null,null,{"$f":"IFERROR(AVERAGEIF(AY9:BB15,\"<>0\"),\"\")","v":""}]
[]
[]
[null,null,"January",null,null,null,null,"February",null,null,null,"March",null,null,null,"April",null,null,null,null,"May",null,null,null,"June",null,null,null,"July",null,null,null,null,"August",null,null,null,"September",null,null,null,null,"October",null,null,null,"November",null,null,null,"December"]
[null,null,"W1","W2","W3","W4","W5","W6","W7","W8","W9","W10","W11","W12","W13","W14","W15","W16","W17","W18","W19","W20","W21","W22","W23","W24","W25","W26","W27","W28","W29","W30","W31","W32","W33","W34","W35","W36","W37","W38","W39","W40","W41","W42","W43","W44","W45","W46","W47","W48","W49","W50","W51","W52"]
[null,null,{"$f":"IFERROR(SUMIFS(data!$L$3:$L$1000,data!$B$3:$B$1000,score!$B$21,data!$A$3:$A$1000,\">=\"&DATE(score!$B$1,C3,C4),data!$A$3:$A$1000,\"<=\"&DATE(score!$B$1,D3,D4)),\"\")","v":0},{"$f":"IFERROR(SUMIFS(data!$L$3:$L$1000,data!$B$3:$B$1000,score!$B$21,data!$A$3:$A$1000,\">=\"&DATE(score!$B$1,D3,D4),data!$A$3:$A$1000,\"<=\"&DATE(score!$B$1,E3,E4)),\"\")","v":0},{"$f":"IFERROR(SUMIFS(data!$L$3:$L$1000,data!$B$3:$B$1000,score!$B$21,data!$A$3:$A$1000,\">=\"&DATE(score!$B$1,E3,E4),data!$A$3:$A$1000,\"<=\"&DATE(score!$B$1,F3,F4)),\"\")","v":0},{"$f":"IFERROR(SUMIFS(data!$L$3:$L$1000,data!$B$3:$B$1000,score!$B$21,data!$A$3:$A$1000,\">=\"&DATE(score!$B$1,F3,F4),data!$A$3:$A$1000,\"<=\"&DATE(score!$B$1,G3,G4)),\"\")","v":0},{"$f":"IFERROR(SUMIFS(data!$L$3:$L$1000,data!$B$3:$B$1000,score!$B$21,data!$A$3:$A$1000,\">=\"&DATE(score!$B$1,G3,G4),data!$A$3:$A$1000,\"<=\"&DATE(score!$B$1,H3,H4)),\"\")","v":0},{"$f":"IFERROR(SUMIFS(data!$L$3:$L$1000,data!$B$3:$B$1000,score!$B$21,data!$A$3:$A$1000,\">=\"&DATE(score!$B$1,H3,H4),data!$A$3:$A$1000,\"<=\"&DATE(score!$B$1,I3,I4)),\"\")","v":0},{"$f":"IFERROR(SUMIFS(data!$L$3:$L$1000,data!$B$3:$B$1000,score!$B$21,data!$A$3:$A$1000,\">=\"&DATE(score!$B$1,I3,I4),data!$A$3:$A$1000,\"<=\"&DATE(score!$B$1,J3,J4)),\"\")","v":0},{"$f":"IFERROR(SUMIFS(data!$L$3:$L$1000,data!$B$3:$B$1000,score!$B$21,data!$A$3:$A$1000,\">=\"&DATE(score!$B$1,J3,J4),data!$A$3:$A$1000,\"<=\"&DATE(score!$B$1,K3,K4)),\"\")","v":0},{"$f":"IFERROR(SUMIFS(data!$L$3:$L$1000,data!$B$3:$B$1000,score!$B$21,data!$A$3:$A$1000,\">=\"&DATE(score!$B$1,K3,K4),data!$A$3:$A$1000,\"<=\"&DATE(score!$B$1,L3,L4)),\"\")","v":0},{"$f":"IFERROR(SUMIFS(data!$L$3:$L$1000,data!$B$3:$B$1000,score!$B$21,data!$A$3:$A$1000,\">=\"&DATE(score!$B$1,L3,L4),data!$A$3:$A$1000,\"<=\"&DATE(score!$B$1,M3,M4)),\"\")","v":0},{"$f":"IFERROR(SUMIFS(data!$L$3:$L$1000,data!$B$3:$B$1000,score!$B$21,data!$A$3:$A$1000,\">=\"&DATE(score!$B$1,M3,M4),data!$A$3:$A$1000,\"<=\"&DATE(score!$B$1,N3,N4)),\"\")","v":0},{"$f":"IFERROR(SUMIFS(data!$L$3:$L$1000,data!$B$3:$B$1000,score!$B$21,data!$A$3:$A$1000,\">=\"&DATE(score!$B$1,N3,N4),data!$A$3:$A$1000,\"<=\"&DATE(score!$B$1,O3,O4)),\"\")","v":0},{"$f":"IFERROR(SUMIFS(data!$L$3:$L$1000,data!$B$3:$B$1000,score!$B$21,data!$A$3:$A$1000,\">=\"&DATE(score!$B$1,O3,O4),data!$A$3:$A$1000,\"<=\"&DATE(score!$B$1,P3,P4)),\"\")","v":0},{"$f":"IFERROR(SUMIFS(data!$L$3:$L$1000,data!$B$3:$B$1000,score!$B$21,data!$A$3:$A$1000,\">=\"&DATE(score!$B$1,P3,P4),data!$A$3:$A$1000,\"<=\"&DATE(score!$B$1,Q3,Q4)),\"\")","v":0},{"$f":"IFERROR(SUMIFS(data!$L$3:$L$1000,data!$B$3:$B$1000,score!$B$21,data!$A$3:$A$1000,\">=\"&DATE(score!$B$1,Q3,Q4),data!$A$3:$A$1000,\"<=\"&DATE(score!$B$1,R3,R4)),\"\")","v":0},{"$f":"IFERROR(SUMIFS(data!$L$3:$L$1000,data!$B$3:$B$1000,score!$B$21,data!$A$3:$A$1000,\">=\"&DATE(score!$B$1,R3,R4),data!$A$3:$A$1000,\"<=\"&DATE(score!$B$1,S3,S4)),\"\")","v":0},{"$f":"IFERROR(SUMIFS(data!$L$3:$L$1000,data!$B$3:$B$1000,score!$B$21,data!$A$3:$A$1000,\">=\"&DATE(score!$B$1,S3,S4),data!$A$3:$A$1000,\"<=\"&DATE(score!$B$1,T3,T4)),\"\")","v":0},{"$f":"IFERROR(SUMIFS(data!$L$3:$L$1000,data!$B$3:$B$1000,score!$B$21,data!$A$3:$A$1000,\">=\"&DATE(score!$B$1,T3,T4),data!$A$3:$A$1000,\"<=\"&DATE(score!$B$1,U3,U4)),\"\")","v":0},{"$f":"IFERROR(SUMIFS(data!$L$3:$L$1000,data!$B$3:$B$1000,score!$B$21,data!$A$3:$A$1000,\">=\"&DATE(score!$B$1,U3,U4),data!$A$3:$A$1000,\"<=\"&DATE(score!$B$1,V3,V4)),\"\")","v":0},{"$f":"IFERROR(SUMIFS(data!$L$3:$L$1000,data!$B$3:$B$1000,score!$B$21,data!$A$3:$A$1000,\">=\"&DATE(score!$B$1,V3,V4),data!$A$3:$A$1000,\"<=\"&DATE(score!$B$1,W3,W4)),\"\")","v":0},{"$f":"IFERROR(SUMIFS(data!$L$3:$L$1000,data!$B$3:$B$1000,score!$B$21,data!$A$3:$A$1000,\">=\"&DATE(score!$B$1,W3,W4),data!$A$3:$A$1000,\"<=\"&DATE(score!$B$1,X3,X4)),\"\")","v":0},{"$f":"IFERROR(SUMIFS(data!$L$3:$L$1000,data!$B$3:$B$1000,score!$B$21,data!$A$3:$A$1000,\">=\"&DATE(score!$B$1,X3,X4),data!$A$3:$A$1000,\"<=\"&DATE(score!$B$1,Y3,Y4)),\"\")","v":0},{"$f":"IFERROR(SUMIFS(data!$L$3:$L$1000,data!$B$3:$B$1000,score!$B$21,data!$A$3:$A$1000,\">=\"&DATE(score!$B$1,Y3,Y4),data!$A$3:$A$1000,\"<=\"&DATE(score!$B$1,Z3,Z4)),\"\")","v":0},{"$f":"IFERROR(SUMIFS(data!$L$3:$L$1000,data!$B$3:$B$1000,score!$B$21,data!$A$3:$A$1000,\">=\"&DATE(score!$B$1,Z3,Z4),data!$A$3:$A$1000,\"<=\"&DATE(score!$B$1,AA3,AA4)),\"\")","v":0},{"$f":"IFERROR(SUMIFS(data!$L$3:$L$1000,data!$B$3:$B$1000,score!$B$21,data!$A$3:$A$1000,\">=\"&DATE(score!$B$1,AA3,AA4),data!$A$3:$A$1000,\"<=\"&DATE(score!$B$1,AB3,AB4)),\"\")","v":0},{"$f":"IFERROR(SUMIFS(data!$L$3:$L$1000,data!$B$3:$B$1000,score!$B$21,data!$A$3:$A$1000,\">=\"&DATE(score!$B$1,AB3,AB4),data!$A$3:$A$1000,\"<=\"&DATE(score!$B$1,AC3,AC4)),\"\")","v":0},{"$f":"IFERROR(SUMIFS(data!$L$3:$L$1000,data!$B$3:$B$1000,score!$B$21,data!$A$3:$A$1000,\">=\"&DATE(score!$B$1,AC3,AC4),data!$A$3:$A$1000,\"<=\"&DATE(score!$B$1,AD3,AD4)),\"\")","v":0},{"$f":"IFERROR(SUMIFS(data!$L$3:$L$1000,data!$B$3:$B$1000,score!$B$21,data!$A$3:$A$1000,\">=\"&DATE(score!$B$1,AD3,AD4),data!$A$3:$A$1000,\"<=\"&DATE(score!$B$1,AE3,AE4)),\"\")","v":0},{"$f":"IFERROR(SUMIFS(data!$L$3:$L$1000,data!$B$3:$B$1000,score!$B$21,data!$A$3:$A$1000,\">=\"&DATE(score!$B$1,AE3,AE4),data!$A$3:$A$1000,\"<=\"&DATE(score!$B$1,AF3,AF4)),\"\")","v":0},{"$f":"IFERROR(SUMIFS(data!$L$3:$L$1000,data!$B$3:$B$1000,score!$B$21,data!$A$3:$A$1000,\">=\"&DATE(score!$B$1,AF3,AF4),data!$A$3:$A$1000,\"<=\"&DATE(score!$B$1,AG3,AG4)),\"\")","v":0},{"$f":"IFERROR(SUMIFS(data!$L$3:$L$1000,data!$B$3:$B$1000,score!$B$21,data!$A$3:$A$1000,\">=\"&DATE(score!$B$1,AG3,AG4),data!$A$3:$A$1000,\"<=\"&DATE(score!$B$1,AH3,AH4)),\"\")","v":0},{"$f":"IFERROR(SUMIFS(data!$L$3:$L$1000,data!$B$3:$B$1000,score!$B$21,data!$A$3:$A$1000,\">=\"&DATE(score!$B$1,AH3,AH4),data!$A$3:$A$1000,\"<=\"&DATE(score!$B$1,AI3,AI4)),\"\")","v":0},{"$f":"IFERROR(SUMIFS(data!$L$3:$L$1000,data!$B$3:$B$1000,score!$B$21,data!$A$3:$A$1000,\">=\"&DATE(score!$B$1,AI3,AI4),data!$A$3:$A$1000,\"<=\"&DATE(score!$B$1,AJ3,AJ4)),\"\")","v":0},{"$f":"IFERROR(SUMIFS(data!$L$3:$L$1000,data!$B$3:$B$1000,score!$B$21,data!$A$3:$A$1000,\">=\"&DATE(score!$B$1,AJ3,AJ4),data!$A$3:$A$1000,\"<=\"&DATE(score!$B$1,AK3,AK4)),\"\")","v":0},{"$f":"IFERROR(SUMIFS(data!$L$3:$L$1000,data!$B$3:$B$1000,score!$B$21,data!$A$3:$A$1000,\">=\"&DATE(score!$B$1,AK3,AK4),data!$A$3:$A$1000,\"<=\"&DATE(score!$B$1,AL3,AL4)),\"\")","v":0},{"$f":"IFERROR(SUMIFS(data!$L$3:$L$1000,data!$B$3:$B$1000,score!$B$21,data!$A$3:$A$1000,\">=\"&DATE(score!$B$1,AL3,AL4),data!$A$3:$A$1000,\"<=\"&DATE(score!$B$1,AM3,AM4)),\"\")","v":0},{"$f":"IFERROR(SUMIFS(data!$L$3:$L$1000,data!$B$3:$B$1000,score!$B$21,data!$A$3:$A$1000,\">=\"&DATE(score!$B$1,AM3,AM4),data!$A$3:$A$1000,\"<=\"&DATE(score!$B$1,AN3,AN4)),\"\")","v":0},{"$f":"IFERROR(SUMIFS(data!$L$3:$L$1000,data!$B$3:$B$1000,score!$B$21,data!$A$3:$A$1000,\">=\"&DATE(score!$B$1,AN3,AN4),data!$A$3:$A$1000,\"<=\"&DATE(score!$B$1,AO3,AO4)),\"\")","v":0},{"$f":"IFERROR(SUMIFS(data!$L$3:$L$1000,data!$B$3:$B$1000,score!$B$21,data!$A$3:$A$1000,\">=\"&DATE(score!$B$1,AO3,AO4),data!$A$3:$A$1000,\"<=\"&DATE(score!$B$1,AP3,AP4)),\"\")","v":0},{"$f":"IFERROR(SUMIFS(data!$L$3:$L$1000,data!$B$3:$B$1000,score!$B$21,data!$A$3:$A$1000,\">=\"&DATE(score!$B$1,AP3,AP4),data!$A$3:$A$1000,\"<=\"&DATE(score!$B$1,AQ3,AQ4)),\"\")","v":0},{"$f":"IFERROR(SUMIFS(data!$L$3:$L$1000,data!$B$3:$B$1000,score!$B$21,data!$A$3:$A$1000,\">=\"&DATE(score!$B$1,AQ3,AQ4),data!$A$3:$A$1000,\"<=\"&DATE(score!$B$1,AR3,AR4)),\"\")","v":0},{"$f":"IFERROR(SUMIFS(data!$L$3:$L$1000,data!$B$3:$B$1000,score!$B$21,data!$A$3:$A$1000,\">=\"&DATE(score!$B$1,AR3,AR4),data!$A$3:$A$1000,\"<=\"&DATE(score!$B$1,AS3,AS4)),\"\")","v":0},{"$f":"IFERROR(SUMIFS(data!$L$3:$L$1000,data!$B$3:$B$1000,score!$B$21,data!$A$3:$A$1000,\">=\"&DATE(score!$B$1,AS3,AS4),data!$A$3:$A$1000,\"<=\"&DATE(score!$B$1,AT3,AT4)),\"\")","v":0},{"$f":"IFERROR(SUMIFS(data!$L$3:$L$1000,data!$B$3:$B$1000,score!$B$21,data!$A$3:$A$1000,\">=\"&DATE(score!$B$1,AT3,AT4),data!$A$3:$A$1000,\"<=\"&DATE(score!$B$1,AU3,AU4)),\"\")","v":0},{"$f":"IFERROR(SUMIFS(data!$L$3:$L$1000,data!$B$3:$B$1000,score!$B$21,data!$A$3:$A$1000,\">=\"&DATE(score!$B$1,AU3,AU4),data!$A$3:$A$1000,\"<=\"&DATE(score!$B$1,AV3,AV4)),\"\")","v":0},{"$f":"IFERROR(SUMIFS(data!$L$3:$L$1000,data!$B$3:$B$1000,score!$B$21,data!$A$3:$A$1000,\">=\"&DATE(score!$B$1,AV3,AV4),data!$A$3:$A$1000,\"<=\"&DATE(score!$B$1,AW3,AW4)),\"\")","v":0},{"$f":"IFERROR(SUMIFS(data!$L$3:$L$1000,data!$B$3:$B$1000,score!$B$21,data!$A$3:$A$1000,\">=\"&DATE(score!$B$1,AW3,AW4),data!$A$3:$A$1000,\"<=\"&DATE(score!$B$1,AX3,AX4)),\"\")","v":0},{"$f":"IFERROR(SUMIFS(data!$L$3:$L$1000,data!$B$3:$B$1000,score!$B$21,data!$A$3:$A$1000,\">=\"&DATE(score!$B$1,AX3,AX4),data!$A$3:$A$1000,\"<=\"&DATE(score!$B$1,AY3,AY4)),\"\")","v":0},{"$f":"IFERROR(SUMIFS(data!$L$3:$L$1000,data!$B$3:$B$1000,score!$B$21,data!$A$3:$A$1000,\">=\"&DATE(score!$B$1,AY3,AY4),data!$A$3:$A$1000,\"<=\"&DATE(score!$B$1,AZ3,AZ4)),\"\")","v":0},{"$f":"IFERROR(SUMIFS(data!$L$3:$L$1000,data!$B$3:$B$1000,score!$B$21,data!$A$3:$A$1000,\">=\"&DATE(score!$B$1,AZ3,AZ4),data!$A$3:$A$1000,\"<=\"&DATE(score!$B$1,BA3,BA4)),\"\")","v":0},{"$f":"IFERROR(SUMIFS(data!$L$3:$L$1000,data!$B$3:$B$1000,score!$B$21,data!$A$3:$A$1000,\">=\"&DATE(score!$B$1,BA3,BA4),data!$A$3:$A$1000,\"<=\"&DATE(score!$B$1,BB3,BB4)),\"\")","v":0},{"$f":"IFERROR(SUMIFS(data!$L$3:$L$1000,data!$B$3:$B$1000,score!$B$21,data!$A$3:$A$1000,\">=\"&DATE(score!$B$1,BB3,BB4),data!$A$3:$A$1000,\"<=\"&DATE(score!$B$1,BC3,BC4)),\"\")","v":0}]
[null,null,{"$f":"IFERROR(SUMIFS(data!$L$3:$L$1000,data!$B$3:$B$1000,score!$B$22,data!$A$3:$A$1000,\">=\"&DATE(score!$B$1,C3,C4),data!$A$3:$A$1000,\"<=\"&DATE(score!$B$1,D3,D4)),\"\")","v":0},{"$f":"IFERROR(SUMIFS(data!$L$3:$L$1000,data!$B$3:$B$1000,score!$B$22,data!$A$3:$A$1000,\">=\"&DATE(score!$B$1,D3,D4),data!$A$3:$A$1000,\"<=\"&DATE(score!$B$1,E3,E4)),\"\")","v":0},{"$f":"IFERROR(SUMIFS(data!$L$3:$L$1000,data!$B$3:$B$1000,score!$B$22,data!$A$3:$A$1000,\">=\"&DATE(score!$B$1,E3,E4),data!$A$3:$A$1000,\"<=\"&DATE(score!$B$1,F3,F4)),\"\")","v":0},{"$f":"IFERROR(SUMIFS(data!$L$3:$L$1000,data!$B$3:$B$1000,score!$B$22,data!$A$3:$A$1000,\">=\"&DATE(score!$B$1,F3,F4),data!$A$3:$A$1000,\"<=\"&DATE(score!$B$1,G3,G4)),\"\")","v":0},{"$f":"IFERROR(SUMIFS(data!$L$3:$L$1000,data!$B$3:$B$1000,score!$B$22,data!$A$3:$A$1000,\">=\"&DATE(score!$B$1,G3,G4),data!$A$3:$A$1000,\"<=\"&DATE(score!$B$1,H3,H4)),\"\")","v":0},{"$f":"IFERROR(SUMIFS(data!$L$3:$L$1000,data!$B$3:$B$1000,score!$B$22,data!$A$3:$A$1000,\">=\"&DATE(score!$B$1,H3,H4),data!$A$3:$A$1000,\"<=\"&DATE(score!$B$1,I3,I4)),\"\")","v":0},{"$f":"IFERROR(SUMIFS(data!$L$3:$L$1000,data!$B$3:$B$1000,score!$B$22,data!$A$3:$A$1000,\">=\"&DATE(score!$B$1,I3,I4),data!$A$3:$A$1000,\"<=\"&DATE(score!$B$1,J3,J4)),\"\")","v":0},{"$f":"IFERROR(SUMIFS(data!$L$3:$L$1000,data!$B$3:$B$1000,score!$B$22,data!$A$3:$A$1000,\">=\"&DATE(score!$B$1,J3,J4),data!$A$3:$A$1000,\"<=\"&DATE(score!$B$1,K3,K4)),\"\")","v":0},{"$f":"IFERROR(SUMIFS(data!$L$3:$L$1000,data!$B$3:$B$1000,score!$B$22,data!$A$3:$A$1000,\">=\"&DATE(score!$B$1,K3,K4),data!$A$3:$A$1000,\"<=\"&DATE(score!$B$1,L3,L4)),\"\")","v":0},{"$f":"IFERROR(SUMIFS(data!$L$3:$L$1000,data!$B$3:$B$1000,score!$B$22,data!$A$3:$A$1000,\">=\"&DATE(score!$B$1,L3,L4),data!$A$3:$A$1000,\"<=\"&DATE(score!$B$1,M3,M4)),\"\")","v":0},{"$f":"IFERROR(SUMIFS(data!$L$3:$L$1000,data!$B$3:$B$1000,score!$B$22,data!$A$3:$A$1000,\">=\"&DATE(score!$B$1,M3,M4),data!$A$3:$A$1000,\"<=\"&DATE(score!$B$1,N3,N4)),\"\")","v":0},{"$f":"IFERROR(SUMIFS(data!$L$3:$L$1000,data!$B$3:$B$1000,score!$B$22,data!$A$3:$A$1000,\">=\"&DATE(score!$B$1,N3,N4),data!$A$3:$A$1000,\"<=\"&DATE(score!$B$1,O3,O4)),\"\")","v":0},{"$f":"IFERROR(SUMIFS(data!$L$3:$L$1000,data!$B$3:$B$1000,score!$B$22,data!$A$3:$A$1000,\">=\"&DATE(score!$B$1,O3,O4),data!$A$3:$A$1000,\"<=\"&DATE(score!$B$1,P3,P4)),\"\")","v":0},{"$f":"IFERROR(SUMIFS(data!$L$3:$L$1000,data!$B$3:$B$1000,score!$B$22,data!$A$3:$A$1000,\">=\"&DATE(score!$B$1,P3,P4),data!$A$3:$A$1000,\"<=\"&DATE(score!$B$1,Q3,Q4)),\"\")","v":0},{"$f":"IFERROR(SUMIFS(data!$L$3:$L$1000,data!$B$3:$B$1000,score!$B$22,data!$A$3:$A$1000,\">=\"&DATE(score!$B$1,Q3,Q4),data!$A$3:$A$1000,\"<=\"&DATE(score!$B$1,R3,R4)),\"\")","v":0},{"$f":"IFERROR(SUMIFS(data!$L$3:$L$1000,data!$B$3:$B$1000,score!$B$22,data!$A$3:$A$1000,\">=\"&DATE(score!$B$1,R3,R4),data!$A$3:$A$1000,\"<=\"&DATE(score!$B$1,S3,S4)),\"\")","v":0},{"$f":"IFERROR(SUMIFS(data!$L$3:$L$1000,data!$B$3:$B$1000,score!$B$22,data!$A$3:$A$1000,\">=\"&DATE(score!$B$1,S3,S4),data!$A$3:$A$1000,\"<=\"&DATE(score!$B$1,T3,T4)),\"\")","v":0},{"$f":"IFERROR(SUMIFS(data!$L$3:$L$1000,data!$B$3:$B$1000,score!$B$22,data!$A$3:$A$1000,\">=\"&DATE(score!$B$1,T3,T4),data!$A$3:$A$1000,\"<=\"&DATE(score!$B$1,U3,U4)),\"\")","v":0},{"$f":"IFERROR(SUMIFS(data!$L$3:$L$1000,data!$B$3:$B$1000,score!$B$22,data!$A$3:$A$1000,\">=\"&DATE(score!$B$1,U3,U4),data!$A$3:$A$1000,\"<=\"&DATE(score!$B$1,V3,V4)),\"\")","v":0},{"$f":"IFERROR(SUMIFS(data!$L$3:$L$1000,data!$B$3:$B$1000,score!$B$22,data!$A$3:$A$1000,\">=\"&DATE(score!$B$1,V3,V4),data!$A$3:$A$1000,\"<=\"&DATE(score!$B$1,W3,W4)),\"\")","v":0},{"$f":"IFERROR(SUMIFS(data!$L$3:$L$1000,data!$B$3:$B$1000,score!$B$22,data!$A$3:$A$1000,\">=\"&DATE(score!$B$1,W3,W4),data!$A$3:$A$1000,\"<=\"&DATE(score!$B$1,X3,X4)),\"\")","v":0},{"$f":"IFERROR(SUMIFS(data!$L$3:$L$1000,data!$B$3:$B$1000,score!$B$22,data!$A$3:$A$1000,\">=\"&DATE(score!$B$1,X3,X4),data!$A$3:$A$1000,\"<=\"&DATE(score!$B$1,Y3,Y4)),\"\")","v":0},{"$f":"IFERROR(SUMIFS(data!$L$3:$L$1000,data!$B$3:$B$1000,score!$B$22,data!$A$3:$A$1000,\">=\"&DATE(score!$B$1,Y3,Y4),data!$A$3:$A$1000,\"<=\"&DATE(score!$B$1,Z3,Z4)),\"\")","v":0},{"$f":"IFERROR(SUMIFS(data!$L$3:$L$1000,data!$B$3:$B$1000,score!$B$22,data!$A$3:$A$1000,\">=\"&DATE(score!$B$1,Z3,Z4),data!$A$3:$A$1000,\"<=\"&DATE(score!$B$1,AA3,AA4)),\"\")","v":0},{"$f":"IFERROR(SUMIFS(data!$L$3:$L$1000,data!$B$3:$B$1000,score!$B$22,data!$A$3:$A$1000,\">=\"&DATE(score!$B$1,AA3,AA4),data!$A$3:$A$1000,\"<=\"&DATE(score!$B$1,AB3,AB4)),\"\")","v":0},{"$f":"IFERROR(SUMIFS(data!$L$3:$L$1000,data!$B$3:$B$1000,score!$B$22,data!$A$3:$A$1000,\">=\"&DATE(score!$B$1,AB3,AB4),data!$A$3:$A$1000,\"<=\"&DATE(score!$B$1,AC3,AC4)),\"\")","v":0},{"$f":"IFERROR(SUMIFS(data!$L$3:$L$1000,data!$B$3:$B$1000,score!$B$22,data!$A$3:$A$1000,\">=\"&DATE(score!$B$1,AC3,AC4),data!$A$3:$A$1000,\"<=\"&DATE(score!$B$1,AD3,AD4)),\"\")","v":0},{"$f":"IFERROR(SUMIFS(data!$L$3:$L$1000,data!$B$3:$B$1000,score!$B$22,data!$A$3:$A$1000,\">=\"&DATE(score!$B$1,AD3,AD4),data!$A$3:$A$1000,\"<=\"&DATE(score!$B$1,AE3,AE4)),\"\")","v":0},{"$f":"IFERROR(SUMIFS(data!$L$3:$L$1000,data!$B$3:$B$1000,score!$B$22,data!$A$3:$A$1000,\">=\"&DATE(score!$B$1,AE3,AE4),data!$A$3:$A$1000,\"<=\"&DATE(score!$B$1,AF3,AF4)),\"\")","v":0},{"$f":"IFERROR(SUMIFS(data!$L$3:$L$1000,data!$B$3:$B$1000,score!$B$22,data!$A$3:$A$1000,\">=\"&DATE(score!$B$1,AF3,AF4),data!$A$3:$A$1000,\"<=\"&DATE(score!$B$1,AG3,AG4)),\"\")","v":0},{"$f":"IFERROR(SUMIFS(data!$L$3:$L$1000,data!$B$3:$B$1000,score!$B$22,data!$A$3:$A$1000,\">=\"&DATE(score!$B$1,AG3,AG4),data!$A$3:$A$1000,\"<=\"&DATE(score!$B$1,AH3,AH4)),\"\")","v":0},{"$f":"IFERROR(SUMIFS(data!$L$3:$L$1000,data!$B$3:$B$1000,score!$B$22,data!$A$3:$A$1000,\">=\"&DATE(score!$B$1,AH3,AH4),data!$A$3:$A$1000,\"<=\"&DATE(score!$B$1,AI3,AI4)),\"\")","v":0},{"$f":"IFERROR(SUMIFS(data!$L$3:$L$1000,data!$B$3:$B$1000,score!$B$22,data!$A$3:$A$1000,\">=\"&DATE(score!$B$1,AI3,AI4),data!$A$3:$A$1000,\"<=\"&DATE(score!$B$1,AJ3,AJ4)),\"\")","v":0},{"$f":"IFERROR(SUMIFS(data!$L$3:$L$1000,data!$B$3:$B$1000,score!$B$22,data!$A$3:$A$1000,\">=\"&DATE(score!$B$1,AJ3,AJ4),data!$A$3:$A$1000,\"<=\"&DATE(score!$B$1,AK3,AK4)),\"\")","v":0},{"$f":"IFERROR(SUMIFS(data!$L$3:$L$1000,data!$B$3:$B$1000,score!$B$22,data!$A$3:$A$1000,\">=\"&DATE(score!$B$1,AK3,AK4),data!$A$3:$A$1000,\"<=\"&DATE(score!$B$1,AL3,AL4)),\"\")","v":0},{"$f":"IFERROR(SUMIFS(data!$L$3:$L$1000,data!$B$3:$B$1000,score!$B$22,data!$A$3:$A$1000,\">=\"&DATE(score!$B$1,AL3,AL4),data!$A$3:$A$1000,\"<=\"&DATE(score!$B$1,AM3,AM4)),\"\")","v":0},{"$f":"IFERROR(SUMIFS(data!$L$3:$L$1000,data!$B$3:$B$1000,score!$B$22,data!$A$3:$A$1000,\">=\"&DATE(score!$B$1,AM3,AM4),data!$A$3:$A$1000,\"<=\"&DATE(score!$B$1,AN3,AN4)),\"\")","v":0},{"$f":"IFERROR(SUMIFS(data!$L$3:$L$1000,data!$B$3:$B$1000,score!$B$22,data!$A$3:$A$1000,\">=\"&DATE(score!$B$1,AN3,AN4),data!$A$3:$A$1000,\"<=\"&DATE(score!$B$1,AO3,AO4)),\"\")","v":0},{"$f":"IFERROR(SUMIFS(data!$L$3:$L$1000,data!$B$3:$B$1000,score!$B$22,data!$A$3:$A$1000,\">=\"&DATE(score!$B$1,AO3,AO4),data!$A$3:$A$1000,\"<=\"&DATE(score!$B$1,AP3,AP4)),\"\")","v":0},{"$f":"IFERROR(SUMIFS(data!$L$3:$L$1000,data!$B$3:$B$1000,score!$B$22,data!$A$3:$A$1000,\">=\"&DATE(score!$B$1,AP3,AP4),data!$A$3:$A$1000,\"<=\"&DATE(score!$B$1,AQ3,AQ4)),\"\")","v":0},{"$f":"IFERROR(SUMIFS(data!$L$3:$L$1000,data!$B$3:$B$1000,score!$B$22,data!$A$3:$A$1000,\">=\"&DATE(score!$B$1,AQ3,AQ4),data!$A$3:$A$1000,\"<=\"&DATE(score!$B$1,AR3,AR4)),\"\")","v":0},{"$f":"IFERROR(SUMIFS(data!$L$3:$L$1000,data!$B$3:$B$1000,score!$B$22,data!$A$3:$A$1000,\">=\"&DATE(score!$B$1,AR3,AR4),data!$A$3:$A$1000,\"<=\"&DATE(score!$B$1,AS3,AS4)),\"\")","v":0},{"$f":"IFERROR(SUMIFS(data!$L$3:$L$1000,data!$B$3:$B$1000,score!$B$22,data!$A$3:$A$1000,\">=\"&DATE(score!$B$1,AS3,AS4),data!$A$3:$A$1000,\"<=\"&DATE(score!$B$1,AT3,AT4)),\"\")","v":0},{"$f":"IFERROR(SUMIFS(data!$L$3:$L$1000,data!$B$3:$B$1000,score!$B$22,data!$A$3:$A$1000,\">=\"&DATE(score!$B$1,AT3,AT4),data!$A$3:$A$1000,\"<=\"&DATE(score!$B$1,AU3,AU4)),\"\")","v":0},{"$f":"IFERROR(SUMIFS(data!$L$3:$L$1000,data!$B$3:$B$1000,score!$B$22,data!$A$3:$A$1000,\">=\"&DATE(score!$B$1,AU3,AU4),data!$A$3:$A$1000,\"<=\"&DATE(score!$B$1,AV3,AV4)),\"\")","v":0},{"$f":"IFERROR(SUMIFS(data!$L$3:$L$1000,data!$B$3:$B$1000,score!$B$22,data!$A$3:$A$1000,\">=\"&DATE(score!$B$1,AV3,AV4),data!$A$3:$A$1000,\"<=\"&DATE(score!$B$1,AW3,AW4)),\"\")","v":0},{"$f":"IFERROR(SUMIFS(data!$L$3:$L$1000,data!$B$3:$B$1000,score!$B$22,data!$A$3:$A$1000,\">=\"&DATE(score!$B$1,AW3,AW4),data!$A$3:$A$1000,\"<=\"&DATE(score!$B$1,AX3,AX4)),\"\")","v":0},{"$f":"IFERROR(SUMIFS(data!$L$3:$L$1000,data!$B$3:$B$1000,score!$B$22,data!$A$3:$A$1000,\">=\"&DATE(score!$B$1,AX3,AX4),data!$A$3:$A$1000,\"<=\"&DATE(score!$B$1,AY3,AY4)),\"\")","v":0},{"$f":"IFERROR(SUMIFS(data!$L$3:$L$1000,data!$B$3:$B$1000,score!$B$22,data!$A$3:$A$1000,\">=\"&DATE(score!$B$1,AY3,AY4),data!$A$3:$A$1000,\"<=\"&DATE(score!$B$1,AZ3,AZ4)),\"\")","v":0},{"$f":"IFERROR(SUMIFS(data!$L$3:$L$1000,data!$B$3:$B$1000,score!$B$22,data!$A$3:$A$1000,\">=\"&DATE(score!$B$1,AZ3,AZ4),data!$A$3:$A$1000,\"<=\"&DATE(score!$B$1,BA3,BA4)),\"\")","v":0},{"$f":"IFERROR(SUMIFS(data!$L$3:$L$1000,data!$B$3:$B$1000,score!$B$22,data!$A$3:$A$1000,\">=\"&DATE(score!$B$1,BA3,BA4),data!$A$3:$A$1000,\"<=\"&DATE(score!$B$1,BB3,BB4)),\"\")","v":0},{"$f":"IFERROR(SUMIFS(data!$L$3:$L$1000,data!$B$3:$B$1000,score!$B$22,data!$A$3:$A$1000,\">=\"&DATE(score!$B$1,BB3,BB4),data!$A$3:$A$1000,\"<=\"&DATE(score!$B$1,BC3,BC4)),\"\")","v":0}]
[null,null,{"$f":"IFERROR(SUMIFS(data!$L$3:$L$1000,data!$B$3:$B$1000,score!$B$23,data!$A$3:$A$1000,\">=\"&DATE(score!$B$1,C3,C4),data!$A$3:$A$1000,\"<=\"&DATE(score!$B$1,D3,D4)),\"\")","v":0},{"$f":"IFERROR(SUMIFS(data!$L$3:$L$1000,data!$B$3:$B$1000,score!$B$23,data!$A$3:$A$1000,\">=\"&DATE(score!$B$1,D3,D4),data!$A$3:$A$1000,\"<=\"&DATE(score!$B$1,E3,E4)),\"\")","v":0},{"$f":"IFERROR(SUMIFS(data!$L$3:$L$1000,data!$B$3:$B$1000,score!$B$23,data!$A$3:$A$1000,\">=\"&DATE(score!$B$1,E3,E4),data!$A$3:$A$1000,\"<=\"&DATE(score!$B$1,F3,F4)),\"\")","v":0},{"$f":"IFERROR(SUMIFS(data!$L$3:$L$1000,data!$B$3:$B$1000,score!$B$23,data!$A$3:$A$1000,\">=\"&DATE(score!$B$1,F3,F4),data!$A$3:$A$1000,\"<=\"&DATE(score!$B$1,G3,G4)),\"\")","v":0},{"$f":"IFERROR(SUMIFS(data!$L$3:$L$1000,data!$B$3:$B$1000,score!$B$23,data!$A$3:$A$1000,\">=\"&DATE(score!$B$1,G3,G4),data!$A$3:$A$1000,\"<=\"&DATE(score!$B$1,H3,H4)),\"\")","v":0},{"$f":"IFERROR(SUMIFS(data!$L$3:$L$1000,data!$B$3:$B$1000,score!$B$23,data!$A$3:$A$1000,\">=\"&DATE(score!$B$1,H3,H4),data!$A$3:$A$1000,\"<=\"&DATE(score!$B$1,I3,I4)),\"\")","v":0},{"$f":"IFERROR(SUMIFS(data!$L$3:$L$1000,data!$B$3:$B$1000,score!$B$23,data!$A$3:$A$1000,\">=\"&DATE(score!$B$1,I3,I4),data!$A$3:$A$1000,\"<=\"&DATE(score!$B$1,J3,J4)),\"\")","v":0},{"$f":"IFERROR(SUMIFS(data!$L$3:$L$1000,data!$B$3:$B$1000,score!$B$23,data!$A$3:$A$1000,\">=\"&DATE(score!$B$1,J3,J4),data!$A$3:$A$1000,\"<=\"&DATE(score!$B$1,K3,K4)),\"\")","v":0},{"$f":"IFERROR(SUMIFS(data!$L$3:$L$1000,data!$B$3:$B$1000,score!$B$23,data!$A$3:$A$1000,\">=\"&DATE(score!$B$1,K3,K4),data!$A$3:$A$1000,\"<=\"&DATE(score!$B$1,L3,L4)),\"\")","v":0},{"$f":"IFERROR(SUMIFS(data!$L$3:$L$1000,data!$B$3:$B$1000,score!$B$23,data!$A$3:$A$1000,\">=\"&DATE(score!$B$1,L3,L4),data!$A$3:$A$1000,\"<=\"&DATE(score!$B$1,M3,M4)),\"\")","v":0},{"$f":"IFERROR(SUMIFS(data!$L$3:$L$1000,data!$B$3:$B$1000,score!$B$23,data!$A$3:$A$1000,\">=\"&DATE(score!$B$1,M3,M4),data!$A$3:$A$1000,\"<=\"&DATE(score!$B$1,N3,N4)),\"\")","v":0},{"$f":"IFERROR(SUMIFS(data!$L$3:$L$1000,data!$B$3:$B$1000,score!$B$23,data!$A$3:$A$1000,\">=\"&DATE(score!$B$1,N3,N4),data!$A$3:$A$1000,\"<=\"&DATE(score!$B$1,O3,O4)),\"\")","v":0},{"$f":"IFERROR(SUMIFS(data!$L$3:$L$1000,data!$B$3:$B$1000,score!$B$23,data!$A$3:$A$1000,\">=\"&DATE(score!$B$1,O3,O4),data!$A$3:$A$1000,\"<=\"&DATE(score!$B$1,P3,P4)),\"\")","v":0},{"$f":"IFERROR(SUMIFS(data!$L$3:$L$1000,data!$B$3:$B$1000,score!$B$23,data!$A$3:$A$1000,\">=\"&DATE(score!$B$1,P3,P4),data!$A$3:$A$1000,\"<=\"&DATE(score!$B$1,Q3,Q4)),\"\")","v":0},{"$f":"IFERROR(SUMIFS(data!$L$3:$L$1000,data!$B$3:$B$1000,score!$B$23,data!$A$3:$A$1000,\">=\"&DATE(score!$B$1,Q3,Q4),data!$A$3:$A$1000,\"<=\"&DATE(score!$B$1,R3,R4)),\"\")","v":0},{"$f":"IFERROR(SUMIFS(data!$L$3:$L$1000,data!$B$3:$B$1000,score!$B$23,data!$A$3:$A$1000,\">=\"&DATE(score!$B$1,R3,R4),data!$A$3:$A$1000,\"<=\"&DATE(score!$B$1,S3,S4)),\"\")","v":0},{"$f":"IFERROR(SUMIFS(data!$L$3:$L$1000,data!$B$3:$B$1000,score!$B$23,data!$A$3:$A$1000,\">=\"&DATE(score!$B$1,S3,S4),data!$A$3:$A$1000,\"<=\"&DATE(score!$B$1,T3,T4)),\"\")","v":0},{"$f":"IFERROR(SUMIFS(data!$L$3:$L$1000,data!$B$3:$B$1000,score!$B$23,data!$A$3:$A$1000,\">=\"&DATE(score!$B$1,T3,T4),data!$A$3:$A$1000,\"<=\"&DATE(score!$B$1,U3,U4)),\"\")","v":0},{"$f":"IFERROR(SUMIFS(data!$L$3:$L$1000,data!$B$3:$B$1000,score!$B$23,data!$A$3:$A$1000,\">=\"&DATE(score!$B$1,U3,U4),data!$A$3:$A$1000,\"<=\"&DATE(score!$B$1,V3,V4)),\"\")","v":0},{"$f":"IFERROR(SUMIFS(data!$L$3:$L$1000,data!$B$3:$B$1000,score!$B$23,data!$A$3:$A$1000,\">=\"&DATE(score!$B$1,V3,V4),data!$A$3:$A$1000,\"<=\"&DATE(score!$B$1,W3,W4)),\"\")","v":0},{"$f":"IFERROR(SUMIFS(data!$L$3:$L$1000,data!$B$3:$B$1000,score!$B$23,data!$A$3:$A$1000,\">=\"&DATE(score!$B$1,W3,W4),data!$A$3:$A$1000,\"<=\"&DATE(score!$B$1,X3,X4)),\"\")","v":0},{"$f":"IFERROR(SUMIFS(data!$L$3:$L$1000,data!$B$3:$B$1000,score!$B$23,data!$A$3:$A$1000,\">=\"&DATE(score!$B$1,X3,X4),data!$A$3:$A$1000,\"<=\"&DATE(score!$B$1,Y3,Y4)),\"\")","v":0},{"$f":"IFERROR(SUMIFS(data!$L$3:$L$1000,data!$B$3:$B$1000,score!$B$23,data!$A$3:$A$1000,\">=\"&DATE(score!$B$1,Y3,Y4),data!$A$3:$A$1000,\"<=\"&DATE(score!$B$1,Z3,Z4)),\"\")","v":0},{"$f":"IFERROR(SUMIFS(data!$L$3:$L$1000,data!$B$3:$B$1000,score!$B$23,data!$A$3:$A$1000,\">=\"&DATE(score!$B$1,Z3,Z4),data!$A$3:$A$1000,\"<=\"&DATE(score!$B$1,AA3,AA4)),\"\")","v":0},{"$f":"IFERROR(SUMIFS(data!$L$3:$L$1000,data!$B$3:$B$1000,score!$B$23,data!$A$3:$A$1000,\">=\"&DATE(score!$B$1,AA3,AA4),data!$A$3:$A$1000,\"<=\"&DATE(score!$B$1,AB3,AB4)),\"\")","v":0},{"$f":"IFERROR(SUMIFS(data!$L$3:$L$1000,data!$B$3:$B$1000,score!$B$23,data!$A$3:$A$1000,\">=\"&DATE(score!$B$1,AB3,AB4),data!$A$3:$A$1000,\"<=\"&DATE(score!$B$1,AC3,AC4)),\"\")","v":0},{"$f":"IFERROR(SUMIFS(data!$L$3:$L$1000,data!$B$3:$B$1000,score!$B$23,data!$A$3:$A$1000,\">=\"&DATE(score!$B$1,AC3,AC4),data!$A$3:$A$1000,\"<=\"&DATE(score!$B$1,AD3,AD4)),\"\")","v":0},{"$f":"IFERROR(SUMIFS(data!$L$3:$L$1000,data!$B$3:$B$1000,score!$B$23,data!$A$3:$A$1000,\">=\"&DATE(score!$B$1,AD3,AD4),data!$A$3:$A$1000,\"<=\"&DATE(score!$B$1,AE3,AE4)),\"\")","v":0},{"$f":"IFERROR(SUMIFS(data!$L$3:$L$1000,data!$B$3:$B$1000,score!$B$23,data!$A$3:$A$1000,\">=\"&DATE(score!$B$1,AE3,AE4),data!$A$3:$A$1000,\"<=\"&DATE(score!$B$1,AF3,AF4)),\"\")","v":0},{"$f":"IFERROR(SUMIFS(data!$L$3:$L$1000,data!$B$3:$B$1000,score!$B$23,data!$A$3:$A$1000,\">=\"&DATE(score!$B$1,AF3,AF4),data!$A$3:$A$1000,\"<=\"&DATE(score!$B$1,AG3,AG4)),\"\")","v":0},{"$f":"IFERROR(SUMIFS(data!$L$3:$L$1000,data!$B$3:$B$1000,score!$B$23,data!$A$3:$A$1000,\">=\"&DATE(score!$B$1,AG3,AG4),data!$A$3:$A$1000,\"<=\"&DATE(score!$B$1,AH3,AH4)),\"\")","v":0},{"$f":"IFERROR(SUMIFS(data!$L$3:$L$1000,data!$B$3:$B$1000,score!$B$23,data!$A$3:$A$1000,\">=\"&DATE(score!$B$1,AH3,AH4),data!$A$3:$A$1000,\"<=\"&DATE(score!$B$1,AI3,AI4)),\"\")","v":0},{"$f":"IFERROR(SUMIFS(data!$L$3:$L$1000,data!$B$3:$B$1000,score!$B$23,data!$A$3:$A$1000,\">=\"&DATE(score!$B$1,AI3,AI4),data!$A$3:$A$1000,\"<=\"&DATE(score!$B$1,AJ3,AJ4)),\"\")","v":0},{"$f":"IFERROR(SUMIFS(data!$L$3:$L$1000,data!$B$3:$B$1000,score!$B$23,data!$A$3:$A$1000,\">=\"&DATE(score!$B$1,AJ3,AJ4),data!$A$3:$A$1000,\"<=\"&DATE(score!$B$1,AK3,AK4)),\"\")","v":0},{"$f":"IFERROR(SUMIFS(data!$L$3:$L$1000,data!$B$3:$B$1000,score!$B$23,data!$A$3:$A$1000,\">=\"&DATE(score!$B$1,AK3,AK4),data!$A$3:$A$1000,\"<=\"&DATE(score!$B$1,AL3,AL4)),\"\")","v":0},{"$f":"IFERROR(SUMIFS(data!$L$3:$L$1000,data!$B$3:$B$1000,score!$B$23,data!$A$3:$A$1000,\">=\"&DATE(score!$B$1,AL3,AL4),data!$A$3:$A$1000,\"<=\"&DATE(score!$B$1,AM3,AM4)),\"\")","v":0},{"$f":"IFERROR(SUMIFS(data!$L$3:$L$1000,data!$B$3:$B$1000,score!$B$23,data!$A$3:$A$1000,\">=\"&DATE(score!$B$1,AM3,AM4),data!$A$3:$A$1000,\"<=\"&DATE(score!$B$1,AN3,AN4)),\"\")","v":0},{"$f":"IFERROR(SUMIFS(data!$L$3:$L$1000,data!$B$3:$B$1000,score!$B$23,data!$A$3:$A$1000,\">=\"&DATE(score!$B$1,AN3,AN4),data!$A$3:$A$1000,\"<=\"&DATE(score!$B$1,AO3,AO4)),\"\")","v":0},{"$f":"IFERROR(SUMIFS(data!$L$3:$L$1000,data!$B$3:$B$1000,score!$B$23,data!$A$3:$A$1000,\">=\"&DATE(score!$B$1,AO3,AO4),data!$A$3:$A$1000,\"<=\"&DATE(score!$B$1,AP3,AP4)),\"\")","v":0},{"$f":"IFERROR(SUMIFS(data!$L$3:$L$1000,data!$B$3:$B$1000,score!$B$23,data!$A$3:$A$1000,\">=\"&DATE(score!$B$1,AP3,AP4),data!$A$3:$A$1000,\"<=\"&DATE(score!$B$1,AQ3,AQ4)),\"\")","v":0},{"$f":"IFERROR(SUMIFS(data!$L$3:$L$1000,data!$B$3:$B$1000,score!$B$23,data!$A$3:$A$1000,\">=\"&DATE(score!$B$1,AQ3,AQ4),data!$A$3:$A$1000,\"<=\"&DATE(score!$B$1,AR3,AR4)),\"\")","v":0},{"$f":"IFERROR(SUMIFS(data!$L$3:$L$1000,data!$B$3:$B$1000,score!$B$23,data!$A$3:$A$1000,\">=\"&DATE(score!$B$1,AR3,AR4),data!$A$3:$A$1000,\"<=\"&DATE(score!$B$1,AS3,AS4)),\"\")","v":0},{"$f":"IFERROR(SUMIFS(data!$L$3:$L$1000,data!$B$3:$B$1000,score!$B$23,data!$A$3:$A$1000,\">=\"&DATE(score!$B$1,AS3,AS4),data!$A$3:$A$1000,\"<=\"&DATE(score!$B$1,AT3,AT4)),\"\")","v":0},{"$f":"IFERROR(SUMIFS(data!$L$3:$L$1000,data!$B$3:$B$1000,score!$B$23,data!$A$3:$A$1000,\">=\"&DATE(score!$B$1,AT3,AT4),data!$A$3:$A$1000,\"<=\"&DATE(score!$B$1,AU3,AU4)),\"\")","v":0},{"$f":"IFERROR(SUMIFS(data!$L$3:$L$1000,data!$B$3:$B$1000,score!$B$23,data!$A$3:$A$1000,\">=\"&DATE(score!$B$1,AU3,AU4),data!$A$3:$A$1000,\"<=\"&DATE(score!$B$1,AV3,AV4)),\"\")","v":0},{"$f":"IFERROR(SUMIFS(data!$L$3:$L$1000,data!$B$3:$B$1000,score!$B$23,data!$A$3:$A$1000,\">=\"&DATE(score!$B$1,AV3,AV4),data!$A$3:$A$1000,\"<=\"&DATE(score!$B$1,AW3,AW4)),\"\")","v":0},{"$f":"IFERROR(SUMIFS(data!$L$3:$L$1000,data!$B$3:$B$1000,score!$B$23,data!$A$3:$A$1000,\">=\"&DATE(score!$B$1,AW3,AW4),data!$A$3:$A$1000,\"<=\"&DATE(score!$B$1,AX3,AX4)),\"\")","v":0},{"$f":"IFERROR(SUMIFS(data!$L$3:$L$1000,data!$B$3:$B$1000,score!$B$23,data!$A$3:$A$1000,\">=\"&DATE(score!$B$1,AX3,AX4),data!$A$3:$A$1000,\"<=\"&DATE(score!$B$1,AY3,AY4)),\"\")","v":0},{"$f":"IFERROR(SUMIFS(data!$L$3:$L$1000,data!$B$3:$B$1000,score!$B$23,data!$A$3:$A$1000,\">=\"&DATE(score!$B$1,AY3,AY4),data!$A$3:$A$1000,\"<=\"&DATE(score!$B$1,AZ3,AZ4)),\"\")","v":0},{"$f":"IFERROR(SUMIFS(data!$L$3:$L$1000,data!$B$3:$B$1000,score!$B$23,data!$A$3:$A$1000,\">=\"&DATE(score!$B$1,AZ3,AZ4),data!$A$3:$A$1000,\"<=\"&DATE(score!$B$1,BA3,BA4)),\"\")","v":0},{"$f":"IFERROR(SUMIFS(data!$L$3:$L$1000,data!$B$3:$B$1000,score!$B$23,data!$A$3:$A$1000,\">=\"&DATE(score!$B$1,BA3,BA4),data!$A$3:$A$1000,\"<=\"&DATE(score!$B$1,BB3,BB4)),\"\")","v":0},{"$f":"IFERROR(SUMIFS(data!$L$3:$L$1000,data!$B$3:$B$1000,score!$B$23,data!$A$3:$A$1000,\">=\"&DATE(score!$B$1,BB3,BB4),data!$A$3:$A$1000,\"<=\"&DATE(score!$B$1,BC3,BC4)),\"\")","v":0}]
[null,null,{"$f":"IFERROR(SUMIFS(data!$L$3:$L$1000,data!$B$3:$B$1000,score!$B$24,data!$A$3:$A$1000,\">=\"&DATE(score!$B$1,C3,C4),data!$A$3:$A$1000,\"<=\"&DATE(score!$B$1,D3,D4)),\"\")","v":0},{"$f":"IFERROR(SUMIFS(data!$L$3:$L$1000,data!$B$3:$B$1000,score!$B$24,data!$A$3:$A$1000,\">=\"&DATE(score!$B$1,D3,D4),data!$A$3:$A$1000,\"<=\"&DATE(score!$B$1,E3,E4)),\"\")","v":0},{"$f":"IFERROR(SUMIFS(data!$L$3:$L$1000,data!$B$3:$B$1000,score!$B$24,data!$A$3:$A$1000,\">=\"&DATE(score!$B$1,E3,E4),data!$A$3:$A$1000,\"<=\"&DATE(score!$B$1,F3,F4)),\"\")","v":0},{"$f":"IFERROR(SUMIFS(data!$L$3:$L$1000,data!$B$3:$B$1000,score!$B$24,data!$A$3:$A$1000,\">=\"&DATE(score!$B$1,F3,F4),data!$A$3:$A$1000,\"<=\"&DATE(score!$B$1,G3,G4)),\"\")","v":0},{"$f":"IFERROR(SUMIFS(data!$L$3:$L$1000,data!$B$3:$B$1000,score!$B$24,data!$A$3:$A$1000,\">=\"&DATE(score!$B$1,G3,G4),data!$A$3:$A$1000,\"<=\"&DATE(score!$B$1,H3,H4)),\"\")","v":0},{"$f":"IFERROR(SUMIFS(data!$L$3:$L$1000,data!$B$3:$B$1000,score!$B$24,data!$A$3:$A$1000,\">=\"&DATE(score!$B$1,H3,H4),data!$A$3:$A$1000,\"<=\"&DATE(score!$B$1,I3,I4)),\"\")","v":0},{"$f":"IFERROR(SUMIFS(data!$L$3:$L$1000,data!$B$3:$B$1000,score!$B$24,data!$A$3:$A$1000,\">=\"&DATE(score!$B$1,I3,I4),data!$A$3:$A$1000,\"<=\"&DATE(score!$B$1,J3,J4)),\"\")","v":0},{"$f":"IFERROR(SUMIFS(data!$L$3:$L$1000,data!$B$3:$B$1000,score!$B$24,data!$A$3:$A$1000,\">=\"&DATE(score!$B$1,J3,J4),data!$A$3:$A$1000,\"<=\"&DATE(score!$B$1,K3,K4)),\"\")","v":0},{"$f":"IFERROR(SUMIFS(data!$L$3:$L$1000,data!$B$3:$B$1000,score!$B$24,data!$A$3:$A$1000,\">=\"&DATE(score!$B$1,K3,K4),data!$A$3:$A$1000,\"<=\"&DATE(score!$B$1,L3,L4)),\"\")","v":0},{"$f":"IFERROR(SUMIFS(data!$L$3:$L$1000,data!$B$3:$B$1000,score!$B$24,data!$A$3:$A$1000,\">=\"&DATE(score!$B$1,L3,L4),data!$A$3:$A$1000,\"<=\"&DATE(score!$B$1,M3,M4)),\"\")","v":0},{"$f":"IFERROR(SUMIFS(data!$L$3:$L$1000,data!$B$3:$B$1000,score!$B$24,data!$A$3:$A$1000,\">=\"&DATE(score!$B$1,M3,M4),data!$A$3:$A$1000,\"<=\"&DATE(score!$B$1,N3,N4)),\"\")","v":0},{"$f":"IFERROR(SUMIFS(data!$L$3:$L$1000,data!$B$3:$B$1000,score!$B$24,data!$A$3:$A$1000,\">=\"&DATE(score!$B$1,N3,N4),data!$A$3:$A$1000,\"<=\"&DATE(score!$B$1,O3,O4)),\"\")","v":0},{"$f":"IFERROR(SUMIFS(data!$L$3:$L$1000,data!$B$3:$B$1000,score!$B$24,data!$A$3:$A$1000,\">=\"&DATE(score!$B$1,O3,O4),data!$A$3:$A$1000,\"<=\"&DATE(score!$B$1,P3,P4)),\"\")","v":0},{"$f":"IFERROR(SUMIFS(data!$L$3:$L$1000,data!$B$3:$B$1000,score!$B$24,data!$A$3:$A$1000,\">=\"&DATE(score!$B$1,P3,P4),data!$A$3:$A$1000,\"<=\"&DATE(score!$B$1,Q3,Q4)),\"\")","v":0},{"$f":"IFERROR(SUMIFS(data!$L$3:$L$1000,data!$B$3:$B$1000,score!$B$24,data!$A$3:$A$1000,\">=\"&DATE(score!$B$1,Q3,Q4),data!$A$3:$A$1000,\"<=\"&DATE(score!$B$1,R3,R4)),\"\")","v":0},{"$f":"IFERROR(SUMIFS(data!$L$3:$L$1000,data!$B$3:$B$1000,score!$B$24,data!$A$3:$A$1000,\">=\"&DATE(score!$B$1,R3,R4),data!$A$3:$A$1000,\"<=\"&DATE(score!$B$1,S3,S4)),\"\")","v":0},{"$f":"IFERROR(SUMIFS(data!$L$3:$L$1000,data!$B$3:$B$1000,score!$B$24,data!$A$3:$A$1000,\">=\"&DATE(score!$B$1,S3,S4),data!$A$3:$A$1000,\"<=\"&DATE(score!$B$1,T3,T4)),\"\")","v":0},{"$f":"IFERROR(SUMIFS(data!$L$3:$L$1000,data!$B$3:$B$1000,score!$B$24,data!$A$3:$A$1000,\">=\"&DATE(score!$B$1,T3,T4),data!$A$3:$A$1000,\"<=\"&DATE(score!$B$1,U3,U4)),\"\")","v":0},{"$f":"IFERROR(SUMIFS(data!$L$3:$L$1000,data!$B$3:$B$1000,score!$B$24,data!$A$3:$A$1000,\">=\"&DATE(score!$B$1,U3,U4),data!$A$3:$A$1000,\"<=\"&DATE(score!$B$1,V3,V4)),\"\")","v":0},{"$f":"IFERROR(SUMIFS(data!$L$3:$L$1000,data!$B$3:$B$1000,score!$B$24,data!$A$3:$A$1000,\">=\"&DATE(score!$B$1,V3,V4),data!$A$3:$A$1000,\"<=\"&DATE(score!$B$1,W3,W4)),\"\")","v":0},{"$f":"IFERROR(SUMIFS(data!$L$3:$L$1000,data!$B$3:$B$1000,score!$B$24,data!$A$3:$A$1000,\">=\"&DATE(score!$B$1,W3,W4),data!$A$3:$A$1000,\"<=\"&DATE(score!$B$1,X3,X4)),\"\")","v":0},{"$f":"IFERROR(SUMIFS(data!$L$3:$L$1000,data!$B$3:$B$1000,score!$B$24,data!$A$3:$A$1000,\">=\"&DATE(score!$B$1,X3,X4),data!$A$3:$A$1000,\"<=\"&DATE(score!$B$1,Y3,Y4)),\"\")","v":0},{"$f":"IFERROR(SUMIFS(data!$L$3:$L$1000,data!$B$3:$B$1000,score!$B$24,data!$A$3:$A$1000,\">=\"&DATE(score!$B$1,Y3,Y4),data!$A$3:$A$1000,\"<=\"&DATE(score!$B$1,Z3,Z4)),\"\")","v":0},{"$f":"IFERROR(SUMIFS(data!$L$3:$L$1000,data!$B$3:$B$1000,score!$B$24,data!$A$3:$A$1000,\">=\"&DATE(score!$B$1,Z3,Z4),data!$A$3:$A$1000,\"<=\"&DATE(score!$B$1,AA3,AA4)),\"\")","v":0},{"$f":"IFERROR(SUMIFS(data!$L$3:$L$1000,data!$B$3:$B$1000,score!$B$24,data!$A$3:$A$1000,\">=\"&DATE(score!$B$1,AA3,AA4),data!$A$3:$A$1000,\"<=\"&DATE(score!$B$1,AB3,AB4)),\"\")","v":0},{"$f":"IFERROR(SUMIFS(data!$L$3:$L$1000,data!$B$3:$B$1000,score!$B$24,data!$A$3:$A$1000,\">=\"&DATE(score!$B$1,AB3,AB4),data!$A$3:$A$1000,\"<=\"&DATE(score!$B$1,AC3,AC4)),\"\")","v":0},{"$f":"IFERROR(SUMIFS(data!$L$3:$L$1000,data!$B$3:$B$1000,score!$B$24,data!$A$3:$A$1000,\">=\"&DATE(score!$B$1,AC3,AC4),data!$A$3:$A$1000,\"<=\"&DATE(score!$B$1,AD3,AD4)),\"\")","v":0},{"$f":"IFERROR(SUMIFS(data!$L$3:$L$1000,data!$B$3:$B$1000,score!$B$24,data!$A$3:$A$1000,\">=\"&DATE(score!$B$1,AD3,AD4),data!$A$3:$A$1000,\"<=\"&DATE(score!$B$1,AE3,AE4)),\"\")","v":0},{"$f":"IFERROR(SUMIFS(data!$L$3:$L$1000,data!$B$3:$B$1000,score!$B$24,data!$A$3:$A$1000,\">=\"&DATE(score!$B$1,AE3,AE4),data!$A$3:$A$1000,\"<=\"&DATE(score!$B$1,AF3,AF4)),\"\")","v":0},{"$f":"IFERROR(SUMIFS(data!$L$3:$L$1000,data!$B$3:$B$1000,score!$B$24,data!$A$3:$A$1000,\">=\"&DATE(score!$B$1,AF3,AF4),data!$A$3:$A$1000,\"<=\"&DATE(score!$B$1,AG3,AG4)),\"\")","v":0},{"$f":"IFERROR(SUMIFS(data!$L$3:$L$1000,data!$B$3:$B$1000,score!$B$24,data!$A$3:$A$1000,\">=\"&DATE(score!$B$1,AG3,AG4),data!$A$3:$A$1000,\"<=\"&DATE(score!$B$1,AH3,AH4)),\"\")","v":0},{"$f":"IFERROR(SUMIFS(data!$L$3:$L$1000,data!$B$3:$B$1000,score!$B$24,data!$A$3:$A$1000,\">=\"&DATE(score!$B$1,AH3,AH4),data!$A$3:$A$1000,\"<=\"&DATE(score!$B$1,AI3,AI4)),\"\")","v":0},{"$f":"IFERROR(SUMIFS(data!$L$3:$L$1000,data!$B$3:$B$1000,score!$B$24,data!$A$3:$A$1000,\">=\"&DATE(score!$B$1,AI3,AI4),data!$A$3:$A$1000,\"<=\"&DATE(score!$B$1,AJ3,AJ4)),\"\")","v":0},{"$f":"IFERROR(SUMIFS(data!$L$3:$L$1000,data!$B$3:$B$1000,score!$B$24,data!$A$3:$A$1000,\">=\"&DATE(score!$B$1,AJ3,AJ4),data!$A$3:$A$1000,\"<=\"&DATE(score!$B$1,AK3,AK4)),\"\")","v":0},{"$f":"IFERROR(SUMIFS(data!$L$3:$L$1000,data!$B$3:$B$1000,score!$B$24,data!$A$3:$A$1000,\">=\"&DATE(score!$B$1,AK3,AK4),data!$A$3:$A$1000,\"<=\"&DATE(score!$B$1,AL3,AL4)),\"\")","v":0},{"$f":"IFERROR(SUMIFS(data!$L$3:$L$1000,data!$B$3:$B$1000,score!$B$24,data!$A$3:$A$1000,\">=\"&DATE(score!$B$1,AL3,AL4),data!$A$3:$A$1000,\"<=\"&DATE(score!$B$1,AM3,AM4)),\"\")","v":0},{"$f":"IFERROR(SUMIFS(data!$L$3:$L$1000,data!$B$3:$B$1000,score!$B$24,data!$A$3:$A$1000,\">=\"&DATE(score!$B$1,AM3,AM4),data!$A$3:$A$1000,\"<=\"&DATE(score!$B$1,AN3,AN4)),\"\")","v":0},{"$f":"IFERROR(SUMIFS(data!$L$3:$L$1000,data!$B$3:$B$1000,score!$B$24,data!$A$3:$A$1000,\">=\"&DATE(score!$B$1,AN3,AN4),data!$A$3:$A$1000,\"<=\"&DATE(score!$B$1,AO3,AO4)),\"\")","v":0},{"$f":"IFERROR(SUMIFS(data!$L$3:$L$1000,data!$B$3:$B$1000,score!$B$24,data!$A$3:$A$1000,\">=\"&DATE(score!$B$1,AO3,AO4),data!$A$3:$A$1000,\"<=\"&DATE(score!$B$1,AP3,AP4)),\"\")","v":0},{"$f":"IFERROR(SUMIFS(data!$L$3:$L$1000,data!$B$3:$B$1000,score!$B$24,data!$A$3:$A$1000,\">=\"&DATE(score!$B$1,AP3,AP4),data!$A$3:$A$1000,\"<=\"&DATE(score!$B$1,AQ3,AQ4)),\"\")","v":0},{"$f":"IFERROR(SUMIFS(data!$L$3:$L$1000,data!$B$3:$B$1000,score!$B$24,data!$A$3:$A$1000,\">=\"&DATE(score!$B$1,AQ3,AQ4),data!$A$3:$A$1000,\"<=\"&DATE(score!$B$1,AR3,AR4)),\"\")","v":0},{"$f":"IFERROR(SUMIFS(data!$L$3:$L$1000,data!$B$3:$B$1000,score!$B$24,data!$A$3:$A$1000,\">=\"&DATE(score!$B$1,AR3,AR4),data!$A$3:$A$1000,\"<=\"&DATE(score!$B$1,AS3,AS4)),\"\")","v":0},{"$f":"IFERROR(SUMIFS(data!$L$3:$L$1000,data!$B$3:$B$1000,score!$B$24,data!$A$3:$A$1000,\">=\"&DATE(score!$B$1,AS3,AS4),data!$A$3:$A$1000,\"<=\"&DATE(score!$B$1,AT3,AT4)),\"\")","v":0},{"$f":"IFERROR(SUMIFS(data!$L$3:$L$1000,data!$B$3:$B$1000,score!$B$24,data!$A$3:$A$1000,\">=\"&DATE(score!$B$1,AT3,AT4),data!$A$3:$A$1000,\"<=\"&DATE(score!$B$1,AU3,AU4)),\"\")","v":0},{"$f":"IFERROR(SUMIFS(data!$L$3:$L$1000,data!$B$3:$B$1000,score!$B$24,data!$A$3:$A$1000,\">=\"&DATE(score!$B$1,AU3,AU4),data!$A$3:$A$1000,\"<=\"&DATE(score!$B$1,AV3,AV4)),\"\")","v":0},{"$f":"IFERROR(SUMIFS(data!$L$3:$L$1000,data!$B$3:$B$1000,score!$B$24,data!$A$3:$A$1000,\">=\"&DATE(score!$B$1,AV3,AV4),data!$A$3:$A$1000,\"<=\"&DATE(score!$B$1,AW3,AW4)),\"\")","v":0},{"$f":"IFERROR(SUMIFS(data!$L$3:$L$1000,data!$B$3:$B$1000,score!$B$24,data!$A$3:$A$1000,\">=\"&DATE(score!$B$1,AW3,AW4),data!$A$3:$A$1000,\"<=\"&DATE(score!$B$1,AX3,AX4)),\"\")","v":0},{"$f":"IFERROR(SUMIFS(data!$L$3:$L$1000,data!$B$3:$B$1000,score!$B$24,data!$A$3:$A$1000,\">=\"&DATE(score!$B$1,AX3,AX4),data!$A$3:$A$1000,\"<=\"&DATE(score!$B$1,AY3,AY4)),\"\")","v":0},{"$f":"IFERROR(SUMIFS(data!$L$3:$L$1000,data!$B$3:$B$1000,score!$B$24,data!$A$3:$A$1000,\">=\"&DATE(score!$B$1,AY3,AY4),data!$A$3:$A$1000,\"<=\"&DATE(score!$B$1,AZ3,AZ4)),\"\")","v":0},{"$f":"IFERROR(SUMIFS(data!$L$3:$L$1000,data!$B$3:$B$1000,score!$B$24,data!$A$3:$A$1000,\">=\"&DATE(score!$B$1,AZ3,AZ4),data!$A$3:$A$1000,\"<=\"&DATE(score!$B$1,BA3,BA4)),\"\")","v":0},{"$f":"IFERROR(SUMIFS(data!$L$3:$L$1000,data!$B$3:$B$1000,score!$B$24,data!$A$3:$A$1000,\">=\"&DATE(score!$B$1,BA3,BA4),data!$A$3:$A$1000,\"<=\"&DATE(score!$B$1,BB3,BB4)),\"\")","v":0},{"$f":"IFERROR(SUMIFS(data!$L$3:$L$1000,data!$B$3:$B$1000,score!$B$24,data!$A$3:$A$1000,\">=\"&DATE(score!$B$1,BB3,BB4),data!$A$3:$A$1000,\"<=\"&DATE(score!$B$1,BC3,BC4)),\"\")","v":0}]
[null,null,{"$f":"IFERROR(SUMIFS(data!$L$3:$L$1000,data!$B$3:$B$1000,score!$B$25,data!$A$3:$A$1000,\">=\"&DATE(score!$B$1,C3,C4),data!$A$3:$A$1000,\"<=\"&DATE(score!$B$1,D3,D4)),\"\")","v":0},{"$f":"IFERROR(SUMIFS(data!$L$3:$L$1000,data!$B$3:$B$1000,score!$B$25,data!$A$3:$A$1000,\">=\"&DATE(score!$B$1,D3,D4),data!$A$3:$A$1000,\"<=\"&DATE(score!$B$1,E3,E4)),\"\")","v":0},{"$f":"IFERROR(SUMIFS(data!$L$3:$L$1000,data!$B$3:$B$1000,score!$B$25,data!$A$3:$A$1000,\">=\"&DATE(score!$B$1,E3,E4),data!$A$3:$A$1000,\"<=\"&DATE(score!$B$1,F3,F4)),\"\")","v":0},{"$f":"IFERROR(SUMIFS(data!$L$3:$L$1000,data!$B$3:$B$1000,score!$B$25,data!$A$3:$A$1000,\">=\"&DATE(score!$B$1,F3,F4),data!$A$3:$A$1000,\"<=\"&DATE(score!$B$1,G3,G4)),\"\")","v":0},{"$f":"IFERROR(SUMIFS(data!$L$3:$L$1000,data!$B$3:$B$1000,score!$B$25,data!$A$3:$A$1000,\">=\"&DATE(score!$B$1,G3,G4),data!$A$3:$A$1000,\"<=\"&DATE(score!$B$1,H3,H4)),\"\")","v":0},{"$f":"IFERROR(SUMIFS(data!$L$3:$L$1000,data!$B$3:$B$1000,score!$B$25,data!$A$3:$A$1000,\">=\"&DATE(score!$B$1,H3,H4),data!$A$3:$A$1000,\"<=\"&DATE(score!$B$1,I3,I4)),\"\")","v":0},{"$f":"IFERROR(SUMIFS(data!$L$3:$L$1000,data!$B$3:$B$1000,score!$B$25,data!$A$3:$A$1000,\">=\"&DATE(score!$B$1,I3,I4),data!$A$3:$A$1000,\"<=\"&DATE(score!$B$1,J3,J4)),\"\")","v":0},{"$f":"IFERROR(SUMIFS(data!$L$3:$L$1000,data!$B$3:$B$1000,score!$B$25,data!$A$3:$A$1000,\">=\"&DATE(score!$B$1,J3,J4),data!$A$3:$A$1000,\"<=\"&DATE(score!$B$1,K3,K4)),\"\")","v":0},{"$f":"IFERROR(SUMIFS(data!$L$3:$L$1000,data!$B$3:$B$1000,score!$B$25,data!$A$3:$A$1000,\">=\"&DATE(score!$B$1,K3,K4),data!$A$3:$A$1000,\"<=\"&DATE(score!$B$1,L3,L4)),\"\")","v":0},{"$f":"IFERROR(SUMIFS(data!$L$3:$L$1000,data!$B$3:$B$1000,score!$B$25,data!$A$3:$A$1000,\">=\"&DATE(score!$B$1,L3,L4),data!$A$3:$A$1000,\"<=\"&DATE(score!$B$1,M3,M4)),\"\")","v":0},{"$f":"IFERROR(SUMIFS(data!$L$3:$L$1000,data!$B$3:$B$1000,score!$B$25,data!$A$3:$A$1000,\">=\"&DATE(score!$B$1,M3,M4),data!$A$3:$A$1000,\"<=\"&DATE(score!$B$1,N3,N4)),\"\")","v":0},{"$f":"IFERROR(SUMIFS(data!$L$3:$L$1000,data!$B$3:$B$1000,score!$B$25,data!$A$3:$A$1000,\">=\"&DATE(score!$B$1,N3,N4),data!$A$3:$A$1000,\"<=\"&DATE(score!$B$1,O3,O4)),\"\")","v":0},{"$f":"IFERROR(SUMIFS(data!$L$3:$L$1000,data!$B$3:$B$1000,score!$B$25,data!$A$3:$A$1000,\">=\"&DATE(score!$B$1,O3,O4),data!$A$3:$A$1000,\"<=\"&DATE(score!$B$1,P3,P4)),\"\")","v":0},{"$f":"IFERROR(SUMIFS(data!$L$3:$L$1000,data!$B$3:$B$1000,score!$B$25,data!$A$3:$A$1000,\">=\"&DATE(score!$B$1,P3,P4),data!$A$3:$A$1000,\"<=\"&DATE(score!$B$1,Q3,Q4)),\"\")","v":0},{"$f":"IFERROR(SUMIFS(data!$L$3:$L$1000,data!$B$3:$B$1000,score!$B$25,data!$A$3:$A$1000,\">=\"&DATE(score!$B$1,Q3,Q4),data!$A$3:$A$1000,\"<=\"&DATE(score!$B$1,R3,R4)),\"\")","v":0},{"$f":"IFERROR(SUMIFS(data!$L$3:$L$1000,data!$B$3:$B$1000,score!$B$25,data!$A$3:$A$1000,\">=\"&DATE(score!$B$1,R3,R4),data!$A$3:$A$1000,\"<=\"&DATE(score!$B$1,S3,S4)),\"\")","v":0},{"$f":"IFERROR(SUMIFS(data!$L$3:$L$1000,data!$B$3:$B$1000,score!$B$25,data!$A$3:$A$1000,\">=\"&DATE(score!$B$1,S3,S4),data!$A$3:$A$1000,\"<=\"&DATE(score!$B$1,T3,T4)),\"\")","v":0},{"$f":"IFERROR(SUMIFS(data!$L$3:$L$1000,data!$B$3:$B$1000,score!$B$25,data!$A$3:$A$1000,\">=\"&DATE(score!$B$1,T3,T4),data!$A$3:$A$1000,\"<=\"&DATE(score!$B$1,U3,U4)),\"\")","v":0},{"$f":"IFERROR(SUMIFS(data!$L$3:$L$1000,data!$B$3:$B$1000,score!$B$25,data!$A$3:$A$1000,\">=\"&DATE(score!$B$1,U3,U4),data!$A$3:$A$1000,\"<=\"&DATE(score!$B$1,V3,V4)),\"\")","v":0},{"$f":"IFERROR(SUMIFS(data!$L$3:$L$1000,data!$B$3:$B$1000,score!$B$25,data!$A$3:$A$1000,\">=\"&DATE(score!$B$1,V3,V4),data!$A$3:$A$1000,\"<=\"&DATE(score!$B$1,W3,W4)),\"\")","v":0},{"$f":"IFERROR(SUMIFS(data!$L$3:$L$1000,data!$B$3:$B$1000,score!$B$25,data!$A$3:$A$1000,\">=\"&DATE(score!$B$1,W3,W4),data!$A$3:$A$1000,\"<=\"&DATE(score!$B$1,X3,X4)),\"\")","v":0},{"$f":"IFERROR(SUMIFS(data!$L$3:$L$1000,data!$B$3:$B$1000,score!$B$25,data!$A$3:$A$1000,\">=\"&DATE(score!$B$1,X3,X4),data!$A$3:$A$1000,\"<=\"&DATE(score!$B$1,Y3,Y4)),\"\")","v":0},{"$f":"IFERROR(SUMIFS(data!$L$3:$L$1000,data!$B$3:$B$1000,score!$B$25,data!$A$3:$A$1000,\">=\"&DATE(score!$B$1,Y3,Y4),data!$A$3:$A$1000,\"<=\"&DATE(score!$B$1,Z3,Z4)),\"\")","v":0},{"$f":"IFERROR(SUMIFS(data!$L$3:$L$1000,data!$B$3:$B$1000,score!$B$25,data!$A$3:$A$1000,\">=\"&DATE(score!$B$1,Z3,Z4),data!$A$3:$A$1000,\"<=\"&DATE(score!$B$1,AA3,AA4)),\"\")","v":0},{"$f":"IFERROR(SUMIFS(data!$L$3:$L$1000,data!$B$3:$B$1000,score!$B$25,data!$A$3:$A$1000,\">=\"&DATE(score!$B$1,AA3,AA4),data!$A$3:$A$1000,\"<=\"&DATE(score!$B$1,AB3,AB4)),\"\")","v":0},{"$f":"IFERROR(SUMIFS(data!$L$3:$L$1000,data!$B$3:$B$1000,score!$B$25,data!$A$3:$A$1000,\">=\"&DATE(score!$B$1,AB3,AB4),data!$A$3:$A$1000,\"<=\"&DATE(score!$B$1,AC3,AC4)),\"\")","v":0},{"$f":"IFERROR(SUMIFS(data!$L$3:$L$1000,data!$B$3:$B$1000,score!$B$25,data!$A$3:$A$1000,\">=\"&DATE(score!$B$1,AC3,AC4),data!$A$3:$A$1000,\"<=\"&DATE(score!$B$1,AD3,AD4)),\"\")","v":0},{"$f":"IFERROR(SUMIFS(data!$L$3:$L$1000,data!$B$3:$B$1000,score!$B$25,data!$A$3:$A$1000,\">=\"&DATE(score!$B$1,AD3,AD4),data!$A$3:$A$1000,\"<=\"&DATE(score!$B$1,AE3,AE4)),\"\")","v":0},{"$f":"IFERROR(SUMIFS(data!$L$3:$L$1000,data!$B$3:$B$1000,score!$B$25,data!$A$3:$A$1000,\">=\"&DATE(score!$B$1,AE3,AE4),data!$A$3:$A$1000,\"<=\"&DATE(score!$B$1,AF3,AF4)),\"\")","v":0},{"$f":"IFERROR(SUMIFS(data!$L$3:$L$1000,data!$B$3:$B$1000,score!$B$25,data!$A$3:$A$1000,\">=\"&DATE(score!$B$1,AF3,AF4),data!$A$3:$A$1000,\"<=\"&DATE(score!$B$1,AG3,AG4)),\"\")","v":0},{"$f":"IFERROR(SUMIFS(data!$L$3:$L$1000,data!$B$3:$B$1000,score!$B$25,data!$A$3:$A$1000,\">=\"&DATE(score!$B$1,AG3,AG4),data!$A$3:$A$1000,\"<=\"&DATE(score!$B$1,AH3,AH4)),\"\")","v":0},{"$f":"IFERROR(SUMIFS(data!$L$3:$L$1000,data!$B$3:$B$1000,score!$B$25,data!$A$3:$A$1000,\">=\"&DATE(score!$B$1,AH3,AH4),data!$A$3:$A$1000,\"<=\"&DATE(score!$B$1,AI3,AI4)),\"\")","v":0},{"$f":"IFERROR(SUMIFS(data!$L$3:$L$1000,data!$B$3:$B$1000,score!$B$25,data!$A$3:$A$1000,\">=\"&DATE(score!$B$1,AI3,AI4),data!$A$3:$A$1000,\"<=\"&DATE(score!$B$1,AJ3,AJ4)),\"\")","v":0},{"$f":"IFERROR(SUMIFS(data!$L$3:$L$1000,data!$B$3:$B$1000,score!$B$25,data!$A$3:$A$1000,\">=\"&DATE(score!$B$1,AJ3,AJ4),data!$A$3:$A$1000,\"<=\"&DATE(score!$B$1,AK3,AK4)),\"\")","v":0},{"$f":"IFERROR(SUMIFS(data!$L$3:$L$1000,data!$B$3:$B$1000,score!$B$25,data!$A$3:$A$1000,\">=\"&DATE(score!$B$1,AK3,AK4),data!$A$3:$A$1000,\"<=\"&DATE(score!$B$1,AL3,AL4)),\"\")","v":0},{"$f":"IFERROR(SUMIFS(data!$L$3:$L$1000,data!$B$3:$B$1000,score!$B$25,data!$A$3:$A$1000,\">=\"&DATE(score!$B$1,AL3,AL4),data!$A$3:$A$1000,\"<=\"&DATE(score!$B$1,AM3,AM4)),\"\")","v":0},{"$f":"IFERROR(SUMIFS(data!$L$3:$L$1000,data!$B$3:$B$1000,score!$B$25,data!$A$3:$A$1000,\">=\"&DATE(score!$B$1,AM3,AM4),data!$A$3:$A$1000,\"<=\"&DATE(score!$B$1,AN3,AN4)),\"\")","v":0},{"$f":"IFERROR(SUMIFS(data!$L$3:$L$1000,data!$B$3:$B$1000,score!$B$25,data!$A$3:$A$1000,\">=\"&DATE(score!$B$1,AN3,AN4),data!$A$3:$A$1000,\"<=\"&DATE(score!$B$1,AO3,AO4)),\"\")","v":0},{"$f":"IFERROR(SUMIFS(data!$L$3:$L$1000,data!$B$3:$B$1000,score!$B$25,data!$A$3:$A$1000,\">=\"&DATE(score!$B$1,AO3,AO4),data!$A$3:$A$1000,\"<=\"&DATE(score!$B$1,AP3,AP4)),\"\")","v":0},{"$f":"IFERROR(SUMIFS(data!$L$3:$L$1000,data!$B$3:$B$1000,score!$B$25,data!$A$3:$A$1000,\">=\"&DATE(score!$B$1,AP3,AP4),data!$A$3:$A$1000,\"<=\"&DATE(score!$B$1,AQ3,AQ4)),\"\")","v":0},{"$f":"IFERROR(SUMIFS(data!$L$3:$L$1000,data!$B$3:$B$1000,score!$B$25,data!$A$3:$A$1000,\">=\"&DATE(score!$B$1,AQ3,AQ4),data!$A$3:$A$1000,\"<=\"&DATE(score!$B$1,AR3,AR4)),\"\")","v":0},{"$f":"IFERROR(SUMIFS(data!$L$3:$L$1000,data!$B$3:$B$1000,score!$B$25,data!$A$3:$A$1000,\">=\"&DATE(score!$B$1,AR3,AR4),data!$A$3:$A$1000,\"<=\"&DATE(score!$B$1,AS3,AS4)),\"\")","v":0},{"$f":"IFERROR(SUMIFS(data!$L$3:$L$1000,data!$B$3:$B$1000,score!$B$25,data!$A$3:$A$1000,\">=\"&DATE(score!$B$1,AS3,AS4),data!$A$3:$A$1000,\"<=\"&DATE(score!$B$1,AT3,AT4)),\"\")","v":0},{"$f":"IFERROR(SUMIFS(data!$L$3:$L$1000,data!$B$3:$B$1000,score!$B$25,data!$A$3:$A$1000,\">=\"&DATE(score!$B$1,AT3,AT4),data!$A$3:$A$1000,\"<=\"&DATE(score!$B$1,AU3,AU4)),\"\")","v":0},{"$f":"IFERROR(SUMIFS(data!$L$3:$L$1000,data!$B$3:$B$1000,score!$B$25,data!$A$3:$A$1000,\">=\"&DATE(score!$B$1,AU3,AU4),data!$A$3:$A$1000,\"<=\"&DATE(score!$B$1,AV3,AV4)),\"\")","v":0},{"$f":"IFERROR(SUMIFS(data!$L$3:$L$1000,data!$B$3:$B$1000,score!$B$25,data!$A$3:$A$1000,\">=\"&DATE(score!$B$1,AV3,AV4),data!$A$3:$A$1000,\"<=\"&DATE(score!$B$1,AW3,AW4)),\"\")","v":0},{"$f":"IFERROR(SUMIFS(data!$L$3:$L$1000,data!$B$3:$B$1000,score!$B$25,data!$A$3:$A$1000,\">=\"&DATE(score!$B$1,AW3,AW4),data!$A$3:$A$1000,\"<=\"&DATE(score!$B$1,AX3,AX4)),\"\")","v":0},{"$f":"IFERROR(SUMIFS(data!$L$3:$L$1000,data!$B$3:$B$1000,score!$B$25,data!$A$3:$A$1000,\">=\"&DATE(score!$B$1,AX3,AX4),data!$A$3:$A$1000,\"<=\"&DATE(score!$B$1,AY3,AY4)),\"\")","v":0},{"$f":"IFERROR(SUMIFS(data!$L$3:$L$1000,data!$B$3:$B$1000,score!$B$25,data!$A$3:$A$1000,\">=\"&DATE(score!$B$1,AY3,AY4),data!$A$3:$A$1000,\"<=\"&DATE(score!$B$1,AZ3,AZ4)),\"\")","v":0},{"$f":"IFERROR(SUMIFS(data!$L$3:$L$1000,data!$B$3:$B$1000,score!$B$25,data!$A$3:$A$1000,\">=\"&DATE(score!$B$1,AZ3,AZ4),data!$A$3:$A$1000,\"<=\"&DATE(score!$B$1,BA3,BA4)),\"\")","v":0},{"$f":"IFERROR(SUMIFS(data!$L$3:$L$1000,data!$B$3:$B$1000,score!$B$25,data!$A$3:$A$1000,\">=\"&DATE(score!$B$1,BA3,BA4),data!$A$3:$A$1000,\"<=\"&DATE(score!$B$1,BB3,BB4)),\"\")","v":0},{"$f":"IFERROR(SUMIFS(data!$L$3:$L$1000,data!$B$3:$B$1000,score!$B$25,data!$A$3:$A$1000,\">=\"&DATE(score!$B$1,BB3,BB4),data!$A$3:$A$1000,\"<=\"&DATE(score!$B$1,BC3,BC4)),\"\")","v":0}]
[null,null,{"$f":"IFERROR(SUMIFS(data!$L$3:$L$1000,data!$B$3:$B$1000,score!$B$26,data!$A$3:$A$1000,\">=\"&DATE(score!$B$1,C3,C4),data!$A$3:$A$1000,\"<=\"&DATE(score!$B$1,D3,D4)),\"\")","v":0},{"$f":"IFERROR(SUMIFS(data!$K$3:$K$1000,data!$B$3:$B$1000,score!$B$38,data!$A$3:$A$1000,\">=\"&DATE(score!$B$1,#REF!,#REF!),data!$A$3:$A$1000,\"<=\"&DATE(score!$B$1,#REF!,#REF!)),\"\")","v":0},{"$f":"IFERROR(SUMIFS(data!$K$3:$K$1000,data!$B$3:$B$1000,score!$B$38,data!$A$3:$A$1000,\">=\"&DATE(score!$B$1,#REF!,#REF!),data!$A$3:$A$1000,\"<=\"&DATE(score!$B$1,#REF!,#REF!)),\"\")","v":0},{"$f":"IFERROR(SUMIFS(data!$K$3:$K$1000,data!$B$3:$B$1000,score!$B$38,data!$A$3:$A$1000,\">=\"&DATE(score!$B$1,#REF!,#REF!),data!$A$3:$A$1000,\"<=\"&DATE(score!$B$1,#REF!,#REF!)),\"\")","v":0},{"$f":"IFERROR(SUMIFS(data!$K$3:$K$1000,data!$B$3:$B$1000,score!$B$38,data!$A$3:$A$1000,\">=\"&DATE(score!$B$1,#REF!,#REF!),data!$A$3:$A$1000,\"<=\"&DATE(score!$B$1,#REF!,#REF!)),\"\")","v":0},{"$f":"IFERROR(SUMIFS(data!$K$3:$K$1000,data!$B$3:$B$1000,score!$B$38,data!$A$3:$A$1000,\">=\"&DATE(score!$B$1,#REF!,#REF!),data!$A$3:$A$1000,\"<=\"&DATE(score!$B$1,#REF!,#REF!)),\"\")","v":0},{"$f":"IFERROR(SUMIFS(data!$K$3:$K$1000,data!$B$3:$B$1000,score!$B$38,data!$A$3:$A$1000,\">=\"&DATE(score!$B$1,#REF!,#REF!),data!$A$3:$A$1000,\"<=\"&DATE(score!$B$1,#REF!,#REF!)),\"\")","v":0},{"$f":"IFERROR(SUMIFS(data!$K$3:$K$1000,data!$B$3:$B$1000,score!$B$38,data!$A$3:$A$1000,\">=\"&DATE(score!$B$1,#REF!,#REF!),data!$A$3:$A$1000,\"<=\"&DATE(score!$B$1,#REF!,#REF!)),\"\")","v":0},{"$f":"IFERROR(SUMIFS(data!$K$3:$K$1000,data!$B$3:$B$1000,score!$B$38,data!$A$3:$A$1000,\">=\"&DATE(score!$B$1,#REF!,#REF!),data!$A$3:$A$1000,\"<=\"&DATE(score!$B$1,#REF!,#REF!)),\"\")","v":0},{"$f":"IFERROR(SUMIFS(data!$K$3:$K$1000,data!$B$3:$B$1000,score!$B$38,data!$A$3:$A$1000,\">=\"&DATE(score!$B$1,#REF!,#REF!),data!$A$3:$A$1000,\"<=\"&DATE(score!$B$1,#REF!,#REF!)),\"\")","v":0},{"$f":"IFERROR(SUMIFS(data!$K$3:$K$1000,data!$B$3:$B$1000,score!$B$38,data!$A$3:$A$1000,\">=\"&DATE(score!$B$1,#REF!,#REF!),data!$A$3:$A$1000,\"<=\"&DATE(score!$B$1,#REF!,#REF!)),\"\")","v":0},{"$f":"IFERROR(SUMIFS(data!$K$3:$K$1000,data!$B$3:$B$1000,score!$B$38,data!$A$3:$A$1000,\">=\"&DATE(score!$B$1,#REF!,#REF!),data!$A$3:$A$1000,\"<=\"&DATE(score!$B$1,#REF!,#REF!)),\"\")","v":0},{"$f":"IFERROR(SUMIFS(data!$K$3:$K$1000,data!$B$3:$B$1000,score!$B$38,data!$A$3:$A$1000,\">=\"&DATE(score!$B$1,#REF!,#REF!),data!$A$3:$A$1000,\"<=\"&DATE(score!$B$1,#REF!,#REF!)),\"\")","v":0},{"$f":"IFERROR(SUMIFS(data!$K$3:$K$1000,data!$B$3:$B$1000,score!$B$38,data!$A$3:$A$1000,\">=\"&DATE(score!$B$1,#REF!,#REF!),data!$A$3:$A$1000,\"<=\"&DATE(score!$B$1,#REF!,#REF!)),\"\")","v":0},{"$f":"IFERROR(SUMIFS(data!$K$3:$K$1000,data!$B$3:$B$1000,score!$B$38,data!$A$3:$A$1000,\">=\"&DATE(score!$B$1,#REF!,#REF!),data!$A$3:$A$1000,\"<=\"&DATE(score!$B$1,#REF!,#REF!)),\"\")","v":0},{"$f":"IFERROR(SUMIFS(data!$K$3:$K$1000,data!$B$3:$B$1000,score!$B$38,data!$A$3:$A$1000,\">=\"&DATE(score!$B$1,#REF!,#REF!),data!$A$3:$A$1000,\"<=\"&DATE(score!$B$1,#REF!,#REF!)),\"\")","v":0},{"$f":"IFERROR(SUMIFS(data!$K$3:$K$1000,data!$B$3:$B$1000,score!$B$38,data!$A$3:$A$1000,\">=\"&DATE(score!$B$1,#REF!,#REF!),data!$A$3:$A$1000,\"<=\"&DATE(score!$B$1,#REF!,#REF!)),\"\")","v":0},{"$f":"IFERROR(SUMIFS(data!$K$3:$K$1000,data!$B$3:$B$1000,score!$B$38,data!$A$3:$A$1000,\">=\"&DATE(score!$B$1,#REF!,#REF!),data!$A$3:$A$1000,\"<=\"&DATE(score!$B$1,#REF!,#REF!)),\"\")","v":0},{"$f":"IFERROR(SUMIFS(data!$K$3:$K$1000,data!$B$3:$B$1000,score!$B$38,data!$A$3:$A$1000,\">=\"&DATE(score!$B$1,#REF!,#REF!),data!$A$3:$A$1000,\"<=\"&DATE(score!$B$1,#REF!,#REF!)),\"\")","v":0},{"$f":"IFERROR(SUMIFS(data!$K$3:$K$1000,data!$B$3:$B$1000,score!$B$38,data!$A$3:$A$1000,\">=\"&DATE(score!$B$1,#REF!,#REF!),data!$A$3:$A$1000,\"<=\"&DATE(score!$B$1,#REF!,#REF!)),\"\")","v":0},{"$f":"IFERROR(SUMIFS(data!$K$3:$K$1000,data!$B$3:$B$1000,score!$B$38,data!$A$3:$A$1000,\">=\"&DATE(score!$B$1,#REF!,#REF!),data!$A$3:$A$1000,\"<=\"&DATE(score!$B$1,#REF!,#REF!)),\"\")","v":0},{"$f":"IFERROR(SUMIFS(data!$K$3:$K$1000,data!$B$3:$B$1000,score!$B$38,data!$A$3:$A$1000,\">=\"&DATE(score!$B$1,#REF!,#REF!),data!$A$3:$A$1000,\"<=\"&DATE(score!$B$1,#REF!,#REF!)),\"\")","v":0},{"$f":"IFERROR(SUMIFS(data!$K$3:$K$1000,data!$B$3:$B$1000,score!$B$38,data!$A$3:$A$1000,\">=\"&DATE(score!$B$1,#REF!,#REF!),data!$A$3:$A$1000,\"<=\"&DATE(score!$B$1,#REF!,#REF!)),\"\")","v":0},{"$f":"IFERROR(SUMIFS(data!$K$3:$K$1000,data!$B$3:$B$1000,score!$B$38,data!$A$3:$A$1000,\">=\"&DATE(score!$B$1,#REF!,#REF!),data!$A$3:$A$1000,\"<=\"&DATE(score!$B$1,#REF!,#REF!)),\"\")","v":0},{"$f":"IFERROR(SUMIFS(data!$K$3:$K$1000,data!$B$3:$B$1000,score!$B$38,data!$A$3:$A$1000,\">=\"&DATE(score!$B$1,#REF!,#REF!),data!$A$3:$A$1000,\"<=\"&DATE(score!$B$1,#REF!,#REF!)),\"\")","v":0},{"$f":"IFERROR(SUMIFS(data!$K$3:$K$1000,data!$B$3:$B$1000,score!$B$38,data!$A$3:$A$1000,\">=\"&DATE(score!$B$1,#REF!,#REF!),data!$A$3:$A$1000,\"<=\"&DATE(score!$B$1,#REF!,#REF!)),\"\")","v":0},{"$f":"IFERROR(SUMIFS(data!$K$3:$K$1000,data!$B$3:$B$1000,score!$B$38,data!$A$3:$A$1000,\">=\"&DATE(score!$B$1,#REF!,#REF!),data!$A$3:$A$1000,\"<=\"&DATE(score!$B$1,#REF!,#REF!)),\"\")","v":0},{"$f":"IFERROR(SUMIFS(data!$K$3:$K$1000,data!$B$3:$B$1000,score!$B$38,data!$A$3:$A$1000,\">=\"&DATE(score!$B$1,#REF!,#REF!),data!$A$3:$A$1000,\"<=\"&DATE(score!$B$1,#REF!,#REF!)),\"\")","v":0},{"$f":"IFERROR(SUMIFS(data!$K$3:$K$1000,data!$B$3:$B$1000,score!$B$38,data!$A$3:$A$1000,\">=\"&DATE(score!$B$1,#REF!,#REF!),data!$A$3:$A$1000,\"<=\"&DATE(score!$B$1,#REF!,#REF!)),\"\")","v":0},{"$f":"IFERROR(SUMIFS(data!$K$3:$K$1000,data!$B$3:$B$1000,score!$B$38,data!$A$3:$A$1000,\">=\"&DATE(score!$B$1,#REF!,#REF!),data!$A$3:$A$1000,\"<=\"&DATE(score!$B$1,#REF!,#REF!)),\"\")","v":0},{"$f":"IFERROR(SUMIFS(data!$K$3:$K$1000,data!$B$3:$B$1000,score!$B$38,data!$A$3:$A$1000,\">=\"&DATE(score!$B$1,#REF!,#REF!),data!$A$3:$A$1000,\"<=\"&DATE(score!$B$1,#REF!,#REF!)),\"\")","v":0},{"$f":"IFERROR(SUMIFS(data!$K$3:$K$1000,data!$B$3:$B$1000,score!$B$38,data!$A$3:$A$1000,\">=\"&DATE(score!$B$1,#REF!,#REF!),data!$A$3:$A$1000,\"<=\"&DATE(score!$B$1,#REF!,#REF!)),\"\")","v":0},{"$f":"IFERROR(SUMIFS(data!$K$3:$K$1000,data!$B$3:$B$1000,score!$B$38,data!$A$3:$A$1000,\">=\"&DATE(score!$B$1,#REF!,#REF!),data!$A$3:$A$1000,\"<=\"&DATE(score!$B$1,#REF!,#REF!)),\"\")","v":0},{"$f":"IFERROR(SUMIFS(data!$K$3:$K$1000,data!$B$3:$B$1000,score!$B$38,data!$A$3:$A$1000,\">=\"&DATE(score!$B$1,#REF!,#REF!),data!$A$3:$A$1000,\"<=\"&DATE(score!$B$1,#REF!,#REF!)),\"\")","v":0},{"$f":"IFERROR(SUMIFS(data!$K$3:$K$1000,data!$B$3:$B$1000,score!$B$38,data!$A$3:$A$1000,\">=\"&DATE(score!$B$1,#REF!,#REF!),data!$A$3:$A$1000,\"<=\"&DATE(score!$B$1,#REF!,#REF!)),\"\")","v":0},{"$f":"IFERROR(SUMIFS(data!$K$3:$K$1000,data!$B$3:$B$1000,score!$B$38,data!$A$3:$A$1000,\">=\"&DATE(score!$B$1,#REF!,#REF!),data!$A$3:$A$1000,\"<=\"&DATE(score!$B$1,#REF!,#REF!)),\"\")","v":0},{"$f":"IFERROR(SUMIFS(data!$K$3:$K$1000,data!$B$3:$B$1000,score!$B$38,data!$A$3:$A$1000,\">=\"&DATE(score!$B$1,#REF!,#REF!),data!$A$3:$A$1000,\"<=\"&DATE(score!$B$1,#REF!,#REF!)),\"\")","v":0},{"$f":"IFERROR(SUMIFS(data!$K$3:$K$1000,data!$B$3:$B$1000,score!$B$38,data!$A$3:$A$1000,\">=\"&DATE(score!$B$1,#REF!,#REF!),data!$A$3:$A$1000,\"<=\"&DATE(score!$B$1,#REF!,#REF!)),\"\")","v":0},{"$f":"IFERROR(SUMIFS(data!$K$3:$K$1000,data!$B$3:$B$1000,score!$B$38,data!$A$3:$A$1000,\">=\"&DATE(score!$B$1,#REF!,#REF!),data!$A$3:$A$1000,\"<=\"&DATE(score!$B$1,#REF!,#REF!)),\"\")","v":0},{"$f":"IFERROR(SUMIFS(data!$K$3:$K$1000,data!$B$3:$B$1000,score!$B$38,data!$A$3:$A$1000,\">=\"&DATE(score!$B$1,#REF!,#REF!),data!$A$3:$A$1000,\"<=\"&DATE(score!$B$1,#REF!,#REF!)),\"\")","v":0},{"$f":"IFERROR(SUMIFS(data!$K$3:$K$1000,data!$B$3:$B$1000,score!$B$38,data!$A$3:$A$1000,\">=\"&DATE(score!$B$1,#REF!,#REF!),data!$A$3:$A$1000,\"<=\"&DATE(score!$B$1,#REF!,#REF!)),\"\")","v":0},{"$f":"IFERROR(SUMIFS(data!$K$3:$K$1000,data!$B$3:$B$1000,score!$B$38,data!$A$3:$A$1000,\">=\"&DATE(score!$B$1,#REF!,#REF!),data!$A$3:$A$1000,\"<=\"&DATE(score!$B$1,#REF!,#REF!)),\"\")","v":0},{"$f":"IFERROR(SUMIFS(data!$K$3:$K$1000,data!$B$3:$B$1000,score!$B$38,data!$A$3:$A$1000,\">=\"&DATE(score!$B$1,#REF!,#REF!),data!$A$3:$A$1000,\"<=\"&DATE(score!$B$1,#REF!,#REF!)),\"\")","v":0},{"$f":"IFERROR(SUMIFS(data!$K$3:$K$1000,data!$B$3:$B$1000,score!$B$38,data!$A$3:$A$1000,\">=\"&DATE(score!$B$1,#REF!,#REF!),data!$A$3:$A$1000,\"<=\"&DATE(score!$B$1,#REF!,#REF!)),\"\")","v":0},{"$f":"IFERROR(SUMIFS(data!$K$3:$K$1000,data!$B$3:$B$1000,score!$B$38,data!$A$3:$A$1000,\">=\"&DATE(score!$B$1,#REF!,#REF!),data!$A$3:$A$1000,\"<=\"&DATE(score!$B$1,#REF!,#REF!)),\"\")","v":0},{"$f":"IFERROR(SUMIFS(data!$K$3:$K$1000,data!$B$3:$B$1000,score!$B$38,data!$A$3:$A$1000,\">=\"&DATE(score!$B$1,#REF!,#REF!),data!$A$3:$A$1000,\"<=\"&DATE(score!$B$1,#REF!,#REF!)),\"\")","v":0},{"$f":"IFERROR(SUMIFS(data!$K$3:$K$1000,data!$B$3:$B$1000,score!$B$38,data!$A$3:$A$1000,\">=\"&DATE(score!$B$1,#REF!,#REF!),data!$A$3:$A$1000,\"<=\"&DATE(score!$B$1,#REF!,#REF!)),\"\")","v":0},{"$f":"IFERROR(SUMIFS(data!$K$3:$K$1000,data!$B$3:$B$1000,score!$B$38,data!$A$3:$A$1000,\">=\"&DATE(score!$B$1,#REF!,#REF!),data!$A$3:$A$1000,\"<=\"&DATE(score!$B$1,#REF!,#REF!)),\"\")","v":0},{"$f":"IFERROR(SUMIFS(data!$K$3:$K$1000,data!$B$3:$B$1000,score!$B$38,data!$A$3:$A$1000,\">=\"&DATE(score!$B$1,#REF!,#REF!),data!$A$3:$A$1000,\"<=\"&DATE(score!$B$1,#REF!,#REF!)),\"\")","v":0},{"$f":"IFERROR(SUMIFS(data!$K$3:$K$1000,data!$B$3:$B$1000,score!$B$38,data!$A$3:$A$1000,\">=\"&DATE(score!$B$1,#REF!,#REF!),data!$A$3:$A$1000,\"<=\"&DATE(score!$B$1,#REF!,#REF!)),\"\")","v":0},{"$f":"IFERROR(SUMIFS(data!$K$3:$K$1000,data!$B$3:$B$1000,score!$B$38,data!$A$3:$A$1000,\">=\"&DATE(score!$B$1,#REF!,#REF!),data!$A$3:$A$1000,\"<=\"&DATE(score!$B$1,#REF!,#REF!)),\"\")","v":0},{"$f":"IFERROR(SUMIFS(data!$K$3:$K$1000,data!$B$3:$B$1000,score!$B$38,data!$A$3:$A$1000,\">=\"&DATE(score!$B$1,#REF!,#REF!),data!$A$3:$A$1000,\"<=\"&DATE(score!$B$1,#REF!,#REF!)),\"\")","v":0}]
[null,null,{"$f":"IFERROR(SUMIFS(data!$L$3:$L$1000,data!$B$3:$B$1000,score!$B$27,data!$A$3:$A$1000,\">=\"&DATE(score!$B$1,C3,C4),data!$A$3:$A$1000,\"<=\"&DATE(score!$B$1,D3,D4)),\"\")","v":0},{"$f":"IFERROR(SUMIFS(data!$K$3:$K$1000,data!$B$3:$B$1000,score!$B$39,data!$A$3:$A$1000,\">=\"&DATE(score!$B$1,#REF!,#REF!),data!$A$3:$A$1000,\"<=\"&DATE(score!$B$1,#REF!,#REF!)),\"\")","v":0},{"$f":"IFERROR(SUMIFS(data!$K$3:$K$1000,data!$B$3:$B$1000,score!$B$39,data!$A$3:$A$1000,\">=\"&DATE(score!$B$1,#REF!,#REF!),data!$A$3:$A$1000,\"<=\"&DATE(score!$B$1,#REF!,#REF!)),\"\")","v":0},{"$f":"IFERROR(SUMIFS(data!$K$3:$K$1000,data!$B$3:$B$1000,score!$B$39,data!$A$3:$A$1000,\">=\"&DATE(score!$B$1,#REF!,#REF!),data!$A$3:$A$1000,\"<=\"&DATE(score!$B$1,#REF!,#REF!)),\"\")","v":0},{"$f":"IFERROR(SUMIFS(data!$K$3:$K$1000,data!$B$3:$B$1000,score!$B$39,data!$A$3:$A$1000,\">=\"&DATE(score!$B$1,#REF!,#REF!),data!$A$3:$A$1000,\"<=\"&DATE(score!$B$1,#REF!,#REF!)),\"\")","v":0},{"$f":"IFERROR(SUMIFS(data!$K$3:$K$1000,data!$B$3:$B$1000,score!$B$39,data!$A$3:$A$1000,\">=\"&DATE(score!$B$1,#REF!,#REF!),data!$A$3:$A$1000,\"<=\"&DATE(score!$B$1,#REF!,#REF!)),\"\")","v":0},{"$f":"IFERROR(SUMIFS(data!$K$3:$K$1000,data!$B$3:$B$1000,score!$B$39,data!$A$3:$A$1000,\">=\"&DATE(score!$B$1,#REF!,#REF!),data!$A$3:$A$1000,\"<=\"&DATE(score!$B$1,#REF!,#REF!)),\"\")","v":0},{"$f":"IFERROR(SUMIFS(data!$K$3:$K$1000,data!$B$3:$B$1000,score!$B$39,data!$A$3:$A$1000,\">=\"&DATE(score!$B$1,#REF!,#REF!),data!$A$3:$A$1000,\"<=\"&DATE(score!$B$1,#REF!,#REF!)),\"\")","v":0},{"$f":"IFERROR(SUMIFS(data!$K$3:$K$1000,data!$B$3:$B$1000,score!$B$39,data!$A$3:$A$1000,\">=\"&DATE(score!$B$1,#REF!,#REF!),data!$A$3:$A$1000,\"<=\"&DATE(score!$B$1,#REF!,#REF!)),\"\")","v":0},{"$f":"IFERROR(SUMIFS(data!$K$3:$K$1000,data!$B$3:$B$1000,score!$B$39,data!$A$3:$A$1000,\">=\"&DATE(score!$B$1,#REF!,#REF!),data!$A$3:$A$1000,\"<=\"&DATE(score!$B$1,#REF!,#REF!)),\"\")","v":0},{"$f":"IFERROR(SUMIFS(data!$K$3:$K$1000,data!$B$3:$B$1000,score!$B$39,data!$A$3:$A$1000,\">=\"&DATE(score!$B$1,#REF!,#REF!),data!$A$3:$A$1000,\"<=\"&DATE(score!$B$1,#REF!,#REF!)),\"\")","v":0},{"$f":"IFERROR(SUMIFS(data!$K$3:$K$1000,data!$B$3:$B$1000,score!$B$39,data!$A$3:$A$1000,\">=\"&DATE(score!$B$1,#REF!,#REF!),data!$A$3:$A$1000,\"<=\"&DATE(score!$B$1,#REF!,#REF!)),\"\")","v":0},{"$f":"IFERROR(SUMIFS(data!$K$3:$K$1000,data!$B$3:$B$1000,score!$B$39,data!$A$3:$A$1000,\">=\"&DATE(score!$B$1,#REF!,#REF!),data!$A$3:$A$1000,\"<=\"&DATE(score!$B$1,#REF!,#REF!)),\"\")","v":0},{"$f":"IFERROR(SUMIFS(data!$K$3:$K$1000,data!$B$3:$B$1000,score!$B$39,data!$A$3:$A$1000,\">=\"&DATE(score!$B$1,#REF!,#REF!),data!$A$3:$A$1000,\"<=\"&DATE(score!$B$1,#REF!,#REF!)),\"\")","v":0},{"$f":"IFERROR(SUMIFS(data!$K$3:$K$1000,data!$B$3:$B$1000,score!$B$39,data!$A$3:$A$1000,\">=\"&DATE(score!$B$1,#REF!,#REF!),data!$A$3:$A$1000,\"<=\"&DATE(score!$B$1,#REF!,#REF!)),\"\")","v":0},{"$f":"IFERROR(SUMIFS(data!$K$3:$K$1000,data!$B$3:$B$1000,score!$B$39,data!$A$3:$A$1000,\">=\"&DATE(score!$B$1,#REF!,#REF!),data!$A$3:$A$1000,\"<=\"&DATE(score!$B$1,#REF!,#REF!)),\"\")","v":0},{"$f":"IFERROR(SUMIFS(data!$K$3:$K$1000,data!$B$3:$B$1000,score!$B$39,data!$A$3:$A$1000,\">=\"&DATE(score!$B$1,#REF!,#REF!),data!$A$3:$A$1000,\"<=\"&DATE(score!$B$1,#REF!,#REF!)),\"\")","v":0},{"$f":"IFERROR(SUMIFS(data!$K$3:$K$1000,data!$B$3:$B$1000,score!$B$39,data!$A$3:$A$1000,\">=\"&DATE(score!$B$1,#REF!,#REF!),data!$A$3:$A$1000,\"<=\"&DATE(score!$B$1,#REF!,#REF!)),\"\")","v":0},{"$f":"IFERROR(SUMIFS(data!$K$3:$K$1000,data!$B$3:$B$1000,score!$B$39,data!$A$3:$A$1000,\">=\"&DATE(score!$B$1,#REF!,#REF!),data!$A$3:$A$1000,\"<=\"&DATE(score!$B$1,#REF!,#REF!)),\"\")","v":0},{"$f":"IFERROR(SUMIFS(data!$K$3:$K$1000,data!$B$3:$B$1000,score!$B$39,data!$A$3:$A$1000,\">=\"&DATE(score!$B$1,#REF!,#REF!),data!$A$3:$A$1000,\"<=\"&DATE(score!$B$1,#REF!,#REF!)),\"\")","v":0},{"$f":"IFERROR(SUMIFS(data!$K$3:$K$1000,data!$B$3:$B$1000,score!$B$39,data!$A$3:$A$1000,\">=\"&DATE(score!$B$1,#REF!,#REF!),data!$A$3:$A$1000,\"<=\"&DATE(score!$B$1,#REF!,#REF!)),\"\")","v":0},{"$f":"IFERROR(SUMIFS(data!$K$3:$K$1000,data!$B$3:$B$1000,score!$B$39,data!$A$3:$A$1000,\">=\"&DATE(score!$B$1,#REF!,#REF!),data!$A$3:$A$1000,\"<=\"&DATE(score!$B$1,#REF!,#REF!)),\"\")","v":0},{"$f":"IFERROR(SUMIFS(data!$K$3:$K$1000,data!$B$3:$B$1000,score!$B$39,data!$A$3:$A$1000,\">=\"&DATE(score!$B$1,#REF!,#REF!),data!$A$3:$A$1000,\"<=\"&DATE(score!$B$1,#REF!,#REF!)),\"\")","v":0},{"$f":"IFERROR(SUMIFS(data!$K$3:$K$1000,data!$B$3:$B$1000,score!$B$39,data!$A$3:$A$1000,\">=\"&DATE(score!$B$1,#REF!,#REF!),data!$A$3:$A$1000,\"<=\"&DATE(score!$B$1,#REF!,#REF!)),\"\")","v":0},{"$f":"IFERROR(SUMIFS(data!$K$3:$K$1000,data!$B$3:$B$1000,score!$B$39,data!$A$3:$A$1000,\">=\"&DATE(score!$B$1,#REF!,#REF!),data!$A$3:$A$1000,\"<=\"&DATE(score!$B$1,#REF!,#REF!)),\"\")","v":0},{"$f":"IFERROR(SUMIFS(data!$K$3:$K$1000,data!$B$3:$B$1000,score!$B$39,data!$A$3:$A$1000,\">=\"&DATE(score!$B$1,#REF!,#REF!),data!$A$3:$A$1000,\"<=\"&DATE(score!$B$1,#REF!,#REF!)),\"\")","v":0},{"$f":"IFERROR(SUMIFS(data!$K$3:$K$1000,data!$B$3:$B$1000,score!$B$39,data!$A$3:$A$1000,\">=\"&DATE(score!$B$1,#REF!,#REF!),data!$A$3:$A$1000,\"<=\"&DATE(score!$B$1,#REF!,#REF!)),\"\")","v":0},{"$f":"IFERROR(SUMIFS(data!$K$3:$K$1000,data!$B$3:$B$1000,score!$B$39,data!$A$3:$A$1000,\">=\"&DATE(score!$B$1,#REF!,#REF!),data!$A$3:$A$1000,\"<=\"&DATE(score!$B$1,#REF!,#REF!)),\"\")","v":0},{"$f":"IFERROR(SUMIFS(data!$K$3:$K$1000,data!$B$3:$B$1000,score!$B$39,data!$A$3:$A$1000,\">=\"&DATE(score!$B$1,#REF!,#REF!),data!$A$3:$A$1000,\"<=\"&DATE(score!$B$1,#REF!,#REF!)),\"\")","v":0},{"$f":"IFERROR(SUMIFS(data!$K$3:$K$1000,data!$B$3:$B$1000,score!$B$39,data!$A$3:$A$1000,\">=\"&DATE(score!$B$1,#REF!,#REF!),data!$A$3:$A$1000,\"<=\"&DATE(score!$B$1,#REF!,#REF!)),\"\")","v":0},{"$f":"IFERROR(SUMIFS(data!$K$3:$K$1000,data!$B$3:$B$1000,score!$B$39,data!$A$3:$A$1000,\">=\"&DATE(score!$B$1,#REF!,#REF!),data!$A$3:$A$1000,\"<=\"&DATE(score!$B$1,#REF!,#REF!)),\"\")","v":0},{"$f":"IFERROR(SUMIFS(data!$K$3:$K$1000,data!$B$3:$B$1000,score!$B$39,data!$A$3:$A$1000,\">=\"&DATE(score!$B$1,#REF!,#REF!),data!$A$3:$A$1000,\"<=\"&DATE(score!$B$1,#REF!,#REF!)),\"\")","v":0},{"$f":"IFERROR(SUMIFS(data!$K$3:$K$1000,data!$B$3:$B$1000,score!$B$39,data!$A$3:$A$1000,\">=\"&DATE(score!$B$1,#REF!,#REF!),data!$A$3:$A$1000,\"<=\"&DATE(score!$B$1,#REF!,#REF!)),\"\")","v":0},{"$f":"IFERROR(SUMIFS(data!$K$3:$K$1000,data!$B$3:$B$1000,score!$B$39,data!$A$3:$A$1000,\">=\"&DATE(score!$B$1,#REF!,#REF!),data!$A$3:$A$1000,\"<=\"&DATE(score!$B$1,#REF!,#REF!)),\"\")","v":0},{"$f":"IFERROR(SUMIFS(data!$K$3:$K$1000,data!$B$3:$B$1000,score!$B$39,data!$A$3:$A$1000,\">=\"&DATE(score!$B$1,#REF!,#REF!),data!$A$3:$A$1000,\"<=\"&DATE(score!$B$1,#REF!,#REF!)),\"\")","v":0},{"$f":"IFERROR(SUMIFS(data!$K$3:$K$1000,data!$B$3:$B$1000,score!$B$39,data!$A$3:$A$1000,\">=\"&DATE(score!$B$1,#REF!,#REF!),data!$A$3:$A$1000,\"<=\"&DATE(score!$B$1,#REF!,#REF!)),\"\")","v":0},{"$f":"IFERROR(SUMIFS(data!$K$3:$K$1000,data!$B$3:$B$1000,score!$B$39,data!$A$3:$A$1000,\">=\"&DATE(score!$B$1,#REF!,#REF!),data!$A$3:$A$1000,\"<=\"&DATE(score!$B$1,#REF!,#REF!)),\"\")","v":0},{"$f":"IFERROR(SUMIFS(data!$K$3:$K$1000,data!$B$3:$B$1000,score!$B$39,data!$A$3:$A$1000,\">=\"&DATE(score!$B$1,#REF!,#REF!),data!$A$3:$A$1000,\"<=\"&DATE(score!$B$1,#REF!,#REF!)),\"\")","v":0},{"$f":"IFERROR(SUMIFS(data!$K$3:$K$1000,data!$B$3:$B$1000,score!$B$39,data!$A$3:$A$1000,\">=\"&DATE(score!$B$1,#REF!,#REF!),data!$A$3:$A$1000,\"<=\"&DATE(score!$B$1,#REF!,#REF!)),\"\")","v":0},{"$f":"IFERROR(SUMIFS(data!$K$3:$K$1000,data!$B$3:$B$1000,score!$B$39,data!$A$3:$A$1000,\">=\"&DATE(score!$B$1,#REF!,#REF!),data!$A$3:$A$1000,\"<=\"&DATE(score!$B$1,#REF!,#REF!)),\"\")","v":0},{"$f":"IFERROR(SUMIFS(data!$K$3:$K$1000,data!$B$3:$B$1000,score!$B$39,data!$A$3:$A$1000,\">=\"&DATE(score!$B$1,#REF!,#REF!),data!$A$3:$A$1000,\"<=\"&DATE(score!$B$1,#REF!,#REF!)),\"\")","v":0},{"$f":"IFERROR(SUMIFS(data!$K$3:$K$1000,data!$B$3:$B$1000,score!$B$39,data!$A$3:$A$1000,\">=\"&DATE(score!$B$1,#REF!,#REF!),data!$A$3:$A$1000,\"<=\"&DATE(score!$B$1,#REF!,#REF!)),\"\")","v":0},{"$f":"IFERROR(SUMIFS(data!$K$3:$K$1000,data!$B$3:$B$1000,score!$B$39,data!$A$3:$A$1000,\">=\"&DATE(score!$B$1,#REF!,#REF!),data!$A$3:$A$1000,\"<=\"&DATE(score!$B$1,#REF!,#REF!)),\"\")","v":0},{"$f":"IFERROR(SUMIFS(data!$K$3:$K$1000,data!$B$3:$B$1000,score!$B$39,data!$A$3:$A$1000,\">=\"&DATE(score!$B$1,#REF!,#REF!),data!$A$3:$A$1000,\"<=\"&DATE(score!$B$1,#REF!,#REF!)),\"\")","v":0},{"$f":"IFERROR(SUMIFS(data!$K$3:$K$1000,data!$B$3:$B$1000,score!$B$39,data!$A$3:$A$1000,\">=\"&DATE(score!$B$1,#REF!,#REF!),data!$A$3:$A$1000,\"<=\"&DATE(score!$B$1,#REF!,#REF!)),\"\")","v":0},{"$f":"IFERROR(SUMIFS(data!$K$3:$K$1000,data!$B$3:$B$1000,score!$B$39,data!$A$3:$A$1000,\">=\"&DATE(score!$B$1,#REF!,#REF!),data!$A$3:$A$1000,\"<=\"&DATE(score!$B$1,#REF!,#REF!)),\"\")","v":0},{"$f":"IFERROR(SUMIFS(data!$K$3:$K$1000,data!$B$3:$B$1000,score!$B$39,data!$A$3:$A$1000,\">=\"&DATE(score!$B$1,#REF!,#REF!),data!$A$3:$A$1000,\"<=\"&DATE(score!$B$1,#REF!,#REF!)),\"\")","v":0},{"$f":"IFERROR(SUMIFS(data!$K$3:$K$1000,data!$B$3:$B$1000,score!$B$39,data!$A$3:$A$1000,\">=\"&DATE(score!$B$1,#REF!,#REF!),data!$A$3:$A$1000,\"<=\"&DATE(score!$B$1,#REF!,#REF!)),\"\")","v":0},{"$f":"IFERROR(SUMIFS(data!$K$3:$K$1000,data!$B$3:$B$1000,score!$B$39,data!$A$3:$A$1000,\">=\"&DATE(score!$B$1,#REF!,#REF!),data!$A$3:$A$1000,\"<=\"&DATE(score!$B$1,#REF!,#REF!)),\"\")","v":0},{"$f":"IFERROR(SUMIFS(data!$K$3:$K$1000,data!$B$3:$B$1000,score!$B$39,data!$A$3:$A$1000,\">=\"&DATE(score!$B$1,#REF!,#REF!),data!$A$3:$A$1000,\"<=\"&DATE(score!$B$1,#REF!,#REF!)),\"\")","v":0},{"$f":"IFERROR(SUMIFS(data!$K$3:$K$1000,data!$B$3:$B$1000,score!$B$39,data!$A$3:$A$1000,\">=\"&DATE(score!$B$1,#REF!,#REF!),data!$A$3:$A$1000,\"<=\"&DATE(score!$B$1,#REF!,#REF!)),\"\")","v":0},{"$f":"IFERROR(SUMIFS(data!$K$3:$K$1000,data!$B$3:$B$1000,score!$B$39,data!$A$3:$A$1000,\">=\"&DATE(score!$B$1,#REF!,#REF!),data!$A$3:$A$1000,\"<=\"&DATE(score!$B$1,#REF!,#REF!)),\"\")","v":0}]
[null,null,{"$f":"IFERROR(SUMIF(C21:G27,\"<>0\"),\"\")","v":0},null,null,null,null,{"$f":"IFERROR(SUMIF(H21:K27,\"<>0\"),\"\")","v":0},null,null,null,{"$f":"IFERROR(SUMIF(L21:O27,\"<>0\"),\"\")","v":0},null,null,null,{"$f":"IFERROR(SUMIF(P21:T27,\"<>0\"),\"\")","v":0},null,null,null,null,{"$f":"IFERROR(SUMIF(U21:X27,\"<>0\"),\"\")","v":0},null,null,null,{"$f":"IFERROR(SUMIF(Y21:AB27,\"<>0\"),\"\")","v":0},null,null,null,{"$f":"IFERROR(SUMIF(AC21:AG27,\"<>0\"),\"\")","v":0},null,null,null,null,{"$f":"IFERROR(SUMIF(AH21:AK27,\"<>0\"),\"\")","v":0},null,null,null,{"$f":"IFERROR(SUMIF(AL21:AP27,\"<>0\"),\"\")","v":0},null,null,null,null,{"$f":"IFERROR(SUMIF(AQ21:AT27,\"<>0\"),\"\")","v":0},null,null,null,{"$f":"IFERROR(SUMIF(AU21:AX27,\"<>0\"),\"\")","v":0},null,null,null,{"$f":"IFERROR(SUMIF(AY21:BB27,\"<>0\"),\"\")","v":0}]
[]
[]
[null,null,"January",null,null,null,null,"February",null,null,null,"March",null,null,null,"April",null,null,null,null,"May",null,null,null,"June",null,null,null,"July",null,null,null,null,"August",null,null,null,"September",null,null,null,null,"October",null,null,null,"November",null,null,null,"December"]
[null,null,"W1","W2","W3","W4","W5","W6","W7","W8","W9","W10","W11","W12","W13","W14","W15","W16","W17","W18","W19","W20","W21","W22","W23","W24","W25","W26","W27","W28","W29","W30","W31","W32","W33","W34","W35","W36","W37","W38","W39","W40","W41","W42","W43","W44","W45","W46","W47","W48","W49","W50","W51","W52"]
[null,null,{"$f":"IFERROR(SUMIFS(data!$K$3:$K$1000,data!$B$3:$B$1000,score!$B$33,data!$A$3:$A$1000,\">=\"&DATE(score!$B$1,C3,C4),data!$A$3:$A$1000,\"<=\"&DATE(score!$B$1,D3,D4)),\"\")","v":0},{"$f":"IFERROR(SUMIFS(data!$K$3:$K$1000,data!$B$3:$B$1000,score!$B$33,data!$A$3:$A$1000,\">=\"&DATE(score!$B$1,D3,D4),data!$A$3:$A$1000,\"<=\"&DATE(score!$B$1,E3,E4)),\"\")","v":0},{"$f":"IFERROR(SUMIFS(data!$K$3:$K$1000,data!$B$3:$B$1000,score!$B$33,data!$A$3:$A$1000,\">=\"&DATE(score!$B$1,E3,E4),data!$A$3:$A$1000,\"<=\"&DATE(score!$B$1,F3,F4)),\"\")","v":0},{"$f":"IFERROR(SUMIFS(data!$K$3:$K$1000,data!$B$3:$B$1000,score!$B$33,data!$A$3:$A$1000,\">=\"&DATE(score!$B$1,F3,F4),data!$A$3:$A$1000,\"<=\"&DATE(score!$B$1,G3,G4)),\"\")","v":0},{"$f":"IFERROR(SUMIFS(data!$K$3:$K$1000,data!$B$3:$B$1000,score!$B$33,data!$A$3:$A$1000,\">=\"&DATE(score!$B$1,G3,G4),data!$A$3:$A$1000,\"<=\"&DATE(score!$B$1,H3,H4)),\"\")","v":0},{"$f":"IFERROR(SUMIFS(data!$K$3:$K$1000,data!$B$3:$B$1000,score!$B$33,data!$A$3:$A$1000,\">=\"&DATE(score!$B$1,H3,H4),data!$A$3:$A$1000,\"<=\"&DATE(score!$B$1,I3,I4)),\"\")","v":0},{"$f":"IFERROR(SUMIFS(data!$K$3:$K$1000,data!$B$3:$B$1000,score!$B$33,data!$A$3:$A$1000,\">=\"&DATE(score!$B$1,I3,I4),data!$A$3:$A$1000,\"<=\"&DATE(score!$B$1,J3,J4)),\"\")","v":0},{"$f":"IFERROR(SUMIFS(data!$K$3:$K$1000,data!$B$3:$B$1000,score!$B$33,data!$A$3:$A$1000,\">=\"&DATE(score!$B$1,J3,J4),data!$A$3:$A$1000,\"<=\"&DATE(score!$B$1,K3,K4)),\"\")","v":0},{"$f":"IFERROR(SUMIFS(data!$K$3:$K$1000,data!$B$3:$B$1000,score!$B$33,data!$A$3:$A$1000,\">=\"&DATE(score!$B$1,K3,K4),data!$A$3:$A$1000,\"<=\"&DATE(score!$B$1,L3,L4)),\"\")","v":0},{"$f":"IFERROR(SUMIFS(data!$K$3:$K$1000,data!$B$3:$B$1000,score!$B$33,data!$A$3:$A$1000,\">=\"&DATE(score!$B$1,L3,L4),data!$A$3:$A$1000,\"<=\"&DATE(score!$B$1,M3,M4)),\"\")","v":0},{"$f":"IFERROR(SUMIFS(data!$K$3:$K$1000,data!$B$3:$B$1000,score!$B$33,data!$A$3:$A$1000,\">=\"&DATE(score!$B$1,M3,M4),data!$A$3:$A$1000,\"<=\"&DATE(score!$B$1,N3,N4)),\"\")","v":0},{"$f":"IFERROR(SUMIFS(data!$K$3:$K$1000,data!$B$3:$B$1000,score!$B$33,data!$A$3:$A$1000,\">=\"&DATE(score!$B$1,N3,N4),data!$A$3:$A$1000,\"<=\"&DATE(score!$B$1,O3,O4)),\"\")","v":0},{"$f":"IFERROR(SUMIFS(data!$K$3:$K$1000,data!$B$3:$B$1000,score!$B$33,data!$A$3:$A$1000,\">=\"&DATE(score!$B$1,O3,O4),data!$A$3:$A$1000,\"<=\"&DATE(score!$B$1,P3,P4)),\"\")","v":0},{"$f":"IFERROR(SUMIFS(data!$K$3:$K$1000,data!$B$3:$B$1000,score!$B$33,data!$A$3:$A$1000,\">=\"&DATE(score!$B$1,P3,P4),data!$A$3:$A$1000,\"<=\"&DATE(score!$B$1,Q3,Q4)),\"\")","v":0},{"$f":"IFERROR(SUMIFS(data!$K$3:$K$1000,data!$B$3:$B$1000,score!$B$33,data!$A$3:$A$1000,\">=\"&DATE(score!$B$1,Q3,Q4),data!$A$3:$A$1000,\"<=\"&DATE(score!$B$1,R3,R4)),\"\")","v":0},{"$f":"IFERROR(SUMIFS(data!$K$3:$K$1000,data!$B$3:$B$1000,score!$B$33,data!$A$3:$A$1000,\">=\"&DATE(score!$B$1,R3,R4),data!$A$3:$A$1000,\"<=\"&DATE(score!$B$1,S3,S4)),\"\")","v":0},{"$f":"IFERROR(SUMIFS(data!$K$3:$K$1000,data!$B$3:$B$1000,score!$B$33,data!$A$3:$A$1000,\">=\"&DATE(score!$B$1,S3,S4),data!$A$3:$A$1000,\"<=\"&DATE(score!$B$1,T3,T4)),\"\")","v":0},{"$f":"IFERROR(SUMIFS(data!$K$3:$K$1000,data!$B$3:$B$1000,score!$B$33,data!$A$3:$A$1000,\">=\"&DATE(score!$B$1,T3,T4),data!$A$3:$A$1000,\"<=\"&DATE(score!$B$1,U3,U4)),\"\")","v":0},{"$f":"IFERROR(SUMIFS(data!$K$3:$K$1000,data!$B$3:$B$1000,score!$B$33,data!$A$3:$A$1000,\">=\"&DATE(score!$B$1,U3,U4),data!$A$3:$A$1000,\"<=\"&DATE(score!$B$1,V3,V4)),\"\")","v":0},{"$f":"IFERROR(SUMIFS(data!$K$3:$K$1000,data!$B$3:$B$1000,score!$B$33,data!$A$3:$A$1000,\">=\"&DATE(score!$B$1,V3,V4),data!$A$3:$A$1000,\"<=\"&DATE(score!$B$1,W3,W4)),\"\")","v":0},{"$f":"IFERROR(SUMIFS(data!$K$3:$K$1000,data!$B$3:$B$1000,score!$B$33,data!$A$3:$A$1000,\">=\"&DATE(score!$B$1,W3,W4),data!$A$3:$A$1000,\"<=\"&DATE(score!$B$1,X3,X4)),\"\")","v":0},{"$f":"IFERROR(SUMIFS(data!$K$3:$K$1000,data!$B$3:$B$1000,score!$B$33,data!$A$3:$A$1000,\">=\"&DATE(score!$B$1,X3,X4),data!$A$3:$A$1000,\"<=\"&DATE(score!$B$1,Y3,Y4)),\"\")","v":0},{"$f":"IFERROR(SUMIFS(data!$K$3:$K$1000,data!$B$3:$B$1000,score!$B$33,data!$A$3:$A$1000,\">=\"&DATE(score!$B$1,Y3,Y4),data!$A$3:$A$1000,\"<=\"&DATE(score!$B$1,Z3,Z4)),\"\")","v":0},{"$f":"IFERROR(SUMIFS(data!$K$3:$K$1000,data!$B$3:$B$1000,score!$B$33,data!$A$3:$A$1000,\">=\"&DATE(score!$B$1,Z3,Z4),data!$A$3:$A$1000,\"<=\"&DATE(score!$B$1,AA3,AA4)),\"\")","v":0},{"$f":"IFERROR(SUMIFS(data!$K$3:$K$1000,data!$B$3:$B$1000,score!$B$33,data!$A$3:$A$1000,\">=\"&DATE(score!$B$1,AA3,AA4),data!$A$3:$A$1000,\"<=\"&DATE(score!$B$1,AB3,AB4)),\"\")","v":0},{"$f":"IFERROR(SUMIFS(data!$K$3:$K$1000,data!$B$3:$B$1000,score!$B$33,data!$A$3:$A$1000,\">=\"&DATE(score!$B$1,AB3,AB4),data!$A$3:$A$1000,\"<=\"&DATE(score!$B$1,AC3,AC4)),\"\")","v":0},{"$f":"IFERROR(SUMIFS(data!$K$3:$K$1000,data!$B$3:$B$1000,score!$B$33,data!$A$3:$A$1000,\">=\"&DATE(score!$B$1,AC3,AC4),data!$A$3:$A$1000,\"<=\"&DATE(score!$B$1,AD3,AD4)),\"\")","v":0},{"$f":"IFERROR(SUMIFS(data!$K$3:$K$1000,data!$B$3:$B$1000,score!$B$33,data!$A$3:$A$1000,\">=\"&DATE(score!$B$1,AD3,AD4),data!$A$3:$A$1000,\"<=\"&DATE(score!$B$1,AE3,AE4)),\"\")","v":0},{"$f":"IFERROR(SUMIFS(data!$K$3:$K$1000,data!$B$3:$B$1000,score!$B$33,data!$A$3:$A$1000,\">=\"&DATE(score!$B$1,AE3,AE4),data!$A$3:$A$1000,\"<=\"&DATE(score!$B$1,AF3,AF4)),\"\")","v":0},{"$f":"IFERROR(SUMIFS(data!$K$3:$K$1000,data!$B$3:$B$1000,score!$B$33,data!$A$3:$A$1000,\">=\"&DATE(score!$B$1,AF3,AF4),data!$A$3:$A$1000,\"<=\"&DATE(score!$B$1,AG3,AG4)),\"\")","v":0},{"$f":"IFERROR(SUMIFS(data!$K$3:$K$1000,data!$B$3:$B$1000,score!$B$33,data!$A$3:$A$1000,\">=\"&DATE(score!$B$1,AG3,AG4),data!$A$3:$A$1000,\"<=\"&DATE(score!$B$1,AH3,AH4)),\"\")","v":0},{"$f":"IFERROR(SUMIFS(data!$K$3:$K$1000,data!$B$3:$B$1000,score!$B$33,data!$A$3:$A$1000,\">=\"&DATE(score!$B$1,AH3,AH4),data!$A$3:$A$1000,\"<=\"&DATE(score!$B$1,AI3,AI4)),\"\")","v":0},{"$f":"IFERROR(SUMIFS(data!$K$3:$K$1000,data!$B$3:$B$1000,score!$B$33,data!$A$3:$A$1000,\">=\"&DATE(score!$B$1,AI3,AI4),data!$A$3:$A$1000,\"<=\"&DATE(score!$B$1,AJ3,AJ4)),\"\")","v":0},{"$f":"IFERROR(SUMIFS(data!$K$3:$K$1000,data!$B$3:$B$1000,score!$B$33,data!$A$3:$A$1000,\">=\"&DATE(score!$B$1,AJ3,AJ4),data!$A$3:$A$1000,\"<=\"&DATE(score!$B$1,AK3,AK4)),\"\")","v":0},{"$f":"IFERROR(SUMIFS(data!$K$3:$K$1000,data!$B$3:$B$1000,score!$B$33,data!$A$3:$A$1000,\">=\"&DATE(score!$B$1,AK3,AK4),data!$A$3:$A$1000,\"<=\"&DATE(score!$B$1,AL3,AL4)),\"\")","v":0},{"$f":"IFERROR(SUMIFS(data!$K$3:$K$1000,data!$B$3:$B$1000,score!$B$33,data!$A$3:$A$1000,\">=\"&DATE(score!$B$1,AL3,AL4),data!$A$3:$A$1000,\"<=\"&DATE(score!$B$1,AM3,AM4)),\"\")","v":0},{"$f":"IFERROR(SUMIFS(data!$K$3:$K$1000,data!$B$3:$B$1000,score!$B$33,data!$A$3:$A$1000,\">=\"&DATE(score!$B$1,AM3,AM4),data!$A$3:$A$1000,\"<=\"&DATE(score!$B$1,AN3,AN4)),\"\")","v":0},{"$f":"IFERROR(SUMIFS(data!$K$3:$K$1000,data!$B$3:$B$1000,score!$B$33,data!$A$3:$A$1000,\">=\"&DATE(score!$B$1,AN3,AN4),data!$A$3:$A$1000,\"<=\"&DATE(score!$B$1,AO3,AO4)),\"\")","v":0},{"$f":"IFERROR(SUMIFS(data!$K$3:$K$1000,data!$B$3:$B$1000,score!$B$33,data!$A$3:$A$1000,\">=\"&DATE(score!$B$1,AO3,AO4),data!$A$3:$A$1000,\"<=\"&DATE(score!$B$1,AP3,AP4)),\"\")","v":0},{"$f":"IFERROR(SUMIFS(data!$K$3:$K$1000,data!$B$3:$B$1000,score!$B$33,data!$A$3:$A$1000,\">=\"&DATE(score!$B$1,AP3,AP4),data!$A$3:$A$1000,\"<=\"&DATE(score!$B$1,AQ3,AQ4)),\"\")","v":0},{"$f":"IFERROR(SUMIFS(data!$K$3:$K$1000,data!$B$3:$B$1000,score!$B$33,data!$A$3:$A$1000,\">=\"&DATE(score!$B$1,AQ3,AQ4),data!$A$3:$A$1000,\"<=\"&DATE(score!$B$1,AR3,AR4)),\"\")","v":0},{"$f":"IFERROR(SUMIFS(data!$K$3:$K$1000,data!$B$3:$B$1000,score!$B$33,data!$A$3:$A$1000,\">=\"&DATE(score!$B$1,AR3,AR4),data!$A$3:$A$1000,\"<=\"&DATE(score!$B$1,AS3,AS4)),\"\")","v":0},{"$f":"IFERROR(SUMIFS(data!$K$3:$K$1000,data!$B$3:$B$1000,score!$B$33,data!$A$3:$A$1000,\">=\"&DATE(score!$B$1,AS3,AS4),data!$A$3:$A$1000,\"<=\"&DATE(score!$B$1,AT3,AT4)),\"\")","v":0},{"$f":"IFERROR(SUMIFS(data!$K$3:$K$1000,data!$B$3:$B$1000,score!$B$33,data!$A$3:$A$1000,\">=\"&DATE(score!$B$1,AT3,AT4),data!$A$3:$A$1000,\"<=\"&DATE(score!$B$1,AU3,AU4)),\"\")","v":0},{"$f":"IFERROR(SUMIFS(data!$K$3:$K$1000,data!$B$3:$B$1000,score!$B$33,data!$A$3:$A$1000,\">=\"&DATE(score!$B$1,AU3,AU4),data!$A$3:$A$1000,\"<=\"&DATE(score!$B$1,AV3,AV4)),\"\")","v":0},{"$f":"IFERROR(SUMIFS(data!$K$3:$K$1000,data!$B$3:$B$1000,score!$B$33,data!$A$3:$A$1000,\">=\"&DATE(score!$B$1,AV3,AV4),data!$A$3:$A$1000,\"<=\"&DATE(score!$B$1,AW3,AW4)),\"\")","v":0},{"$f":"IFERROR(SUMIFS(data!$K$3:$K$1000,data!$B$3:$B$1000,score!$B$33,data!$A$3:$A$1000,\">=\"&DATE(score!$B$1,AW3,AW4),data!$A$3:$A$1000,\"<=\"&DATE(score!$B$1,AX3,AX4)),\"\")","v":0},{"$f":"IFERROR(SUMIFS(data!$K$3:$K$1000,data!$B$3:$B$1000,score!$B$33,data!$A$3:$A$1000,\">=\"&DATE(score!$B$1,AX3,AX4),data!$A$3:$A$1000,\"<=\"&DATE(score!$B$1,AY3,AY4)),\"\")","v":0},{"$f":"IFERROR(SUMIFS(data!$K$3:$K$1000,data!$B$3:$B$1000,score!$B$33,data!$A$3:$A$1000,\">=\"&DATE(score!$B$1,AY3,AY4),data!$A$3:$A$1000,\"<=\"&DATE(score!$B$1,AZ3,AZ4)),\"\")","v":0},{"$f":"IFERROR(SUMIFS(data!$K$3:$K$1000,data!$B$3:$B$1000,score!$B$33,data!$A$3:$A$1000,\">=\"&DATE(score!$B$1,AZ3,AZ4),data!$A$3:$A$1000,\"<=\"&DATE(score!$B$1,BA3,BA4)),\"\")","v":0},{"$f":"IFERROR(SUMIFS(data!$K$3:$K$1000,data!$B$3:$B$1000,score!$B$33,data!$A$3:$A$1000,\">=\"&DATE(score!$B$1,BA3,BA4),data!$A$3:$A$1000,\"<=\"&DATE(score!$B$1,BB3,BB4)),\"\")","v":0},{"$f":"IFERROR(SUMIFS(data!$K$3:$K$1000,data!$B$3:$B$1000,score!$B$33,data!$A$3:$A$1000,\">=\"&DATE(score!$B$1,BB3,BB4),data!$A$3:$A$1000,\"<=\"&DATE(score!$B$1,BC3,BC4)),\"\")","v":0}]
[null,null,{"$f":"IFERROR(SUMIFS(data!$K$3:$K$1000,data!$B$3:$B$1000,score!$B$34,data!$A$3:$A$1000,\">=\"&DATE(score!$B$1,C3,C4),data!$A$3:$A$1000,\"<=\"&DATE(score!$B$1,D3,D4)),\"\")","v":0},{"$f":"IFERROR(SUMIFS(data!$K$3:$K$1000,data!$B$3:$B$1000,score!$B$34,data!$A$3:$A$1000,\">=\"&DATE(score!$B$1,D3,D4),data!$A$3:$A$1000,\"<=\"&DATE(score!$B$1,E3,E4)),\"\")","v":0},{"$f":"IFERROR(SUMIFS(data!$K$3:$K$1000,data!$B$3:$B$1000,score!$B$34,data!$A$3:$A$1000,\">=\"&DATE(score!$B$1,E3,E4),data!$A$3:$A$1000,\"<=\"&DATE(score!$B$1,F3,F4)),\"\")","v":0},{"$f":"IFERROR(SUMIFS(data!$K$3:$K$1000,data!$B$3:$B$1000,score!$B$34,data!$A$3:$A$1000,\">=\"&DATE(score!$B$1,F3,F4),data!$A$3:$A$1000,\"<=\"&DATE(score!$B$1,G3,G4)),\"\")","v":0},{"$f":"IFERROR(SUMIFS(data!$K$3:$K$1000,data!$B$3:$B$1000,score!$B$34,data!$A$3:$A$1000,\">=\"&DATE(score!$B$1,G3,G4),data!$A$3:$A$1000,\"<=\"&DATE(score!$B$1,H3,H4)),\"\")","v":0},{"$f":"IFERROR(SUMIFS(data!$K$3:$K$1000,data!$B$3:$B$1000,score!$B$34,data!$A$3:$A$1000,\">=\"&DATE(score!$B$1,H3,H4),data!$A$3:$A$1000,\"<=\"&DATE(score!$B$1,I3,I4)),\"\")","v":0},{"$f":"IFERROR(SUMIFS(data!$K$3:$K$1000,data!$B$3:$B$1000,score!$B$34,data!$A$3:$A$1000,\">=\"&DATE(score!$B$1,I3,I4),data!$A$3:$A$1000,\"<=\"&DATE(score!$B$1,J3,J4)),\"\")","v":0},{"$f":"IFERROR(SUMIFS(data!$K$3:$K$1000,data!$B$3:$B$1000,score!$B$34,data!$A$3:$A$1000,\">=\"&DATE(score!$B$1,J3,J4),data!$A$3:$A$1000,\"<=\"&DATE(score!$B$1,K3,K4)),\"\")","v":0},{"$f":"IFERROR(SUMIFS(data!$K$3:$K$1000,data!$B$3:$B$1000,score!$B$34,data!$A$3:$A$1000,\">=\"&DATE(score!$B$1,K3,K4),data!$A$3:$A$1000,\"<=\"&DATE(score!$B$1,L3,L4)),\"\")","v":0},{"$f":"IFERROR(SUMIFS(data!$K$3:$K$1000,data!$B$3:$B$1000,score!$B$34,data!$A$3:$A$1000,\">=\"&DATE(score!$B$1,L3,L4),data!$A$3:$A$1000,\"<=\"&DATE(score!$B$1,M3,M4)),\"\")","v":0},{"$f":"IFERROR(SUMIFS(data!$K$3:$K$1000,data!$B$3:$B$1000,score!$B$34,data!$A$3:$A$1000,\">=\"&DATE(score!$B$1,M3,M4),data!$A$3:$A$1000,\"<=\"&DATE(score!$B$1,N3,N4)),\"\")","v":0},{"$f":"IFERROR(SUMIFS(data!$K$3:$K$1000,data!$B$3:$B$1000,score!$B$34,data!$A$3:$A$1000,\">=\"&DATE(score!$B$1,N3,N4),data!$A$3:$A$1000,\"<=\"&DATE(score!$B$1,O3,O4)),\"\")","v":0},{"$f":"IFERROR(SUMIFS(data!$K$3:$K$1000,data!$B$3:$B$1000,score!$B$34,data!$A$3:$A$1000,\">=\"&DATE(score!$B$1,O3,O4),data!$A$3:$A$1000,\"<=\"&DATE(score!$B$1,P3,P4)),\"\")","v":0},{"$f":"IFERROR(SUMIFS(data!$K$3:$K$1000,data!$B$3:$B$1000,score!$B$34,data!$A$3:$A$1000,\">=\"&DATE(score!$B$1,P3,P4),data!$A$3:$A$1000,\"<=\"&DATE(score!$B$1,Q3,Q4)),\"\")","v":0},{"$f":"IFERROR(SUMIFS(data!$K$3:$K$1000,data!$B$3:$B$1000,score!$B$34,data!$A$3:$A$1000,\">=\"&DATE(score!$B$1,Q3,Q4),data!$A$3:$A$1000,\"<=\"&DATE(score!$B$1,R3,R4)),\"\")","v":0},{"$f":"IFERROR(SUMIFS(data!$K$3:$K$1000,data!$B$3:$B$1000,score!$B$34,data!$A$3:$A$1000,\">=\"&DATE(score!$B$1,R3,R4),data!$A$3:$A$1000,\"<=\"&DATE(score!$B$1,S3,S4)),\"\")","v":0},{"$f":"IFERROR(SUMIFS(data!$K$3:$K$1000,data!$B$3:$B$1000,score!$B$34,data!$A$3:$A$1000,\">=\"&DATE(score!$B$1,S3,S4),data!$A$3:$A$1000,\"<=\"&DATE(score!$B$1,T3,T4)),\"\")","v":0},{"$f":"IFERROR(SUMIFS(data!$K$3:$K$1000,data!$B$3:$B$1000,score!$B$34,data!$A$3:$A$1000,\">=\"&DATE(score!$B$1,T3,T4),data!$A$3:$A$1000,\"<=\"&DATE(score!$B$1,U3,U4)),\"\")","v":0},{"$f":"IFERROR(SUMIFS(data!$K$3:$K$1000,data!$B$3:$B$1000,score!$B$34,data!$A$3:$A$1000,\">=\"&DATE(score!$B$1,U3,U4),data!$A$3:$A$1000,\"<=\"&DATE(score!$B$1,V3,V4)),\"\")","v":0},{"$f":"IFERROR(SUMIFS(data!$K$3:$K$1000,data!$B$3:$B$1000,score!$B$34,data!$A$3:$A$1000,\">=\"&DATE(score!$B$1,V3,V4),data!$A$3:$A$1000,\"<=\"&DATE(score!$B$1,W3,W4)),\"\")","v":0},{"$f":"IFERROR(SUMIFS(data!$K$3:$K$1000,data!$B$3:$B$1000,score!$B$34,data!$A$3:$A$1000,\">=\"&DATE(score!$B$1,W3,W4),data!$A$3:$A$1000,\"<=\"&DATE(score!$B$1,X3,X4)),\"\")","v":0},{"$f":"IFERROR(SUMIFS(data!$K$3:$K$1000,data!$B$3:$B$1000,score!$B$34,data!$A$3:$A$1000,\">=\"&DATE(score!$B$1,X3,X4),data!$A$3:$A$1000,\"<=\"&DATE(score!$B$1,Y3,Y4)),\"\")","v":0},{"$f":"IFERROR(SUMIFS(data!$K$3:$K$1000,data!$B$3:$B$1000,score!$B$34,data!$A$3:$A$1000,\">=\"&DATE(score!$B$1,Y3,Y4),data!$A$3:$A$1000,\"<=\"&DATE(score!$B$1,Z3,Z4)),\"\")","v":0},{"$f":"IFERROR(SUMIFS(data!$K$3:$K$1000,data!$B$3:$B$1000,score!$B$34,data!$A$3:$A$1000,\">=\"&DATE(score!$B$1,Z3,Z4),data!$A$3:$A$1000,\"<=\"&DATE(score!$B$1,AA3,AA4)),\"\")","v":0},{"$f":"IFERROR(SUMIFS(data!$K$3:$K$1000,data!$B$3:$B$1000,score!$B$34,data!$A$3:$A$1000,\">=\"&DATE(score!$B$1,AA3,AA4),data!$A$3:$A$1000,\"<=\"&DATE(score!$B$1,AB3,AB4)),\"\")","v":0},{"$f":"IFERROR(SUMIFS(data!$K$3:$K$1000,data!$B$3:$B$1000,score!$B$34,data!$A$3:$A$1000,\">=\"&DATE(score!$B$1,AB3,AB4),data!$A$3:$A$1000,\"<=\"&DATE(score!$B$1,AC3,AC4)),\"\")","v":0},{"$f":"IFERROR(SUMIFS(data!$K$3:$K$1000,data!$B$3:$B$1000,score!$B$34,data!$A$3:$A$1000,\">=\"&DATE(score!$B$1,AC3,AC4),data!$A$3:$A$1000,\"<=\"&DATE(score!$B$1,AD3,AD4)),\"\")","v":0},{"$f":"IFERROR(SUMIFS(data!$K$3:$K$1000,data!$B$3:$B$1000,score!$B$34,data!$A$3:$A$1000,\">=\"&DATE(score!$B$1,AD3,AD4),data!$A$3:$A$1000,\"<=\"&DATE(score!$B$1,AE3,AE4)),\"\")","v":0},{"$f":"IFERROR(SUMIFS(data!$K$3:$K$1000,data!$B$3:$B$1000,score!$B$34,data!$A$3:$A$1000,\">=\"&DATE(score!$B$1,AE3,AE4),data!$A$3:$A$1000,\"<=\"&DATE(score!$B$1,AF3,AF4)),\"\")","v":0},{"$f":"IFERROR(SUMIFS(data!$K$3:$K$1000,data!$B$3:$B$1000,score!$B$34,data!$A$3:$A$1000,\">=\"&DATE(score!$B$1,AF3,AF4),data!$A$3:$A$1000,\"<=\"&DATE(score!$B$1,AG3,AG4)),\"\")","v":0},{"$f":"IFERROR(SUMIFS(data!$K$3:$K$1000,data!$B$3:$B$1000,score!$B$34,data!$A$3:$A$1000,\">=\"&DATE(score!$B$1,AG3,AG4),data!$A$3:$A$1000,\"<=\"&DATE(score!$B$1,AH3,AH4)),\"\")","v":0},{"$f":"IFERROR(SUMIFS(data!$K$3:$K$1000,data!$B$3:$B$1000,score!$B$34,data!$A$3:$A$1000,\">=\"&DATE(score!$B$1,AH3,AH4),data!$A$3:$A$1000,\"<=\"&DATE(score!$B$1,AI3,AI4)),\"\")","v":0},{"$f":"IFERROR(SUMIFS(data!$K$3:$K$1000,data!$B$3:$B$1000,score!$B$34,data!$A$3:$A$1000,\">=\"&DATE(score!$B$1,AI3,AI4),data!$A$3:$A$1000,\"<=\"&DATE(score!$B$1,AJ3,AJ4)),\"\")","v":0},{"$f":"IFERROR(SUMIFS(data!$K$3:$K$1000,data!$B$3:$B$1000,score!$B$34,data!$A$3:$A$1000,\">=\"&DATE(score!$B$1,AJ3,AJ4),data!$A$3:$A$1000,\"<=\"&DATE(score!$B$1,AK3,AK4)),\"\")","v":0},{"$f":"IFERROR(SUMIFS(data!$K$3:$K$1000,data!$B$3:$B$1000,score!$B$34,data!$A$3:$A$1000,\">=\"&DATE(score!$B$1,AK3,AK4),data!$A$3:$A$1000,\"<=\"&DATE(score!$B$1,AL3,AL4)),\"\")","v":0},{"$f":"IFERROR(SUMIFS(data!$K$3:$K$1000,data!$B$3:$B$1000,score!$B$34,data!$A$3:$A$1000,\">=\"&DATE(score!$B$1,AL3,AL4),data!$A$3:$A$1000,\"<=\"&DATE(score!$B$1,AM3,AM4)),\"\")","v":0},{"$f":"IFERROR(SUMIFS(data!$K$3:$K$1000,data!$B$3:$B$1000,score!$B$34,data!$A$3:$A$1000,\">=\"&DATE(score!$B$1,AM3,AM4),data!$A$3:$A$1000,\"<=\"&DATE(score!$B$1,AN3,AN4)),\"\")","v":0},{"$f":"IFERROR(SUMIFS(data!$K$3:$K$1000,data!$B$3:$B$1000,score!$B$34,data!$A$3:$A$1000,\">=\"&DATE(score!$B$1,AN3,AN4),data!$A$3:$A$1000,\"<=\"&DATE(score!$B$1,AO3,AO4)),\"\")","v":0},{"$f":"IFERROR(SUMIFS(data!$K$3:$K$1000,data!$B$3:$B$1000,score!$B$34,data!$A$3:$A$1000,\">=\"&DATE(score!$B$1,AO3,AO4),data!$A$3:$A$1000,\"<=\"&DATE(score!$B$1,AP3,AP4)),\"\")","v":0},{"$f":"IFERROR(SUMIFS(data!$K$3:$K$1000,data!$B$3:$B$1000,score!$B$34,data!$A$3:$A$1000,\">=\"&DATE(score!$B$1,AP3,AP4),data!$A$3:$A$1000,\"<=\"&DATE(score!$B$1,AQ3,AQ4)),\"\")","v":0},{"$f":"IFERROR(SUMIFS(data!$K$3:$K$1000,data!$B$3:$B$1000,score!$B$34,data!$A$3:$A$1000,\">=\"&DATE(score!$B$1,AQ3,AQ4),data!$A$3:$A$1000,\"<=\"&DATE(score!$B$1,AR3,AR4)),\"\")","v":0},{"$f":"IFERROR(SUMIFS(data!$K$3:$K$1000,data!$B$3:$B$1000,score!$B$34,data!$A$3:$A$1000,\">=\"&DATE(score!$B$1,AR3,AR4),data!$A$3:$A$1000,\"<=\"&DATE(score!$B$1,AS3,AS4)),\"\")","v":0},{"$f":"IFERROR(SUMIFS(data!$K$3:$K$1000,data!$B$3:$B$1000,score!$B$34,data!$A$3:$A$1000,\">=\"&DATE(score!$B$1,AS3,AS4),data!$A$3:$A$1000,\"<=\"&DATE(score!$B$1,AT3,AT4)),\"\")","v":0},{"$f":"IFERROR(SUMIFS(data!$K$3:$K$1000,data!$B$3:$B$1000,score!$B$34,data!$A$3:$A$1000,\">=\"&DATE(score!$B$1,AT3,AT4),data!$A$3:$A$1000,\"<=\"&DATE(score!$B$1,AU3,AU4)),\"\")","v":0},{"$f":"IFERROR(SUMIFS(data!$K$3:$K$1000,data!$B$3:$B$1000,score!$B$34,data!$A$3:$A$1000,\">=\"&DATE(score!$B$1,AU3,AU4),data!$A$3:$A$1000,\"<=\"&DATE(score!$B$1,AV3,AV4)),\"\")","v":0},{"$f":"IFERROR(SUMIFS(data!$K$3:$K$1000,data!$B$3:$B$1000,score!$B$34,data!$A$3:$A$1000,\">=\"&DATE(score!$B$1,AV3,AV4),data!$A$3:$A$1000,\"<=\"&DATE(score!$B$1,AW3,AW4)),\"\")","v":0},{"$f":"IFERROR(SUMIFS(data!$K$3:$K$1000,data!$B$3:$B$1000,score!$B$34,data!$A$3:$A$1000,\">=\"&DATE(score!$B$1,AW3,AW4),data!$A$3:$A$1000,\"<=\"&DATE(score!$B$1,AX3,AX4)),\"\")","v":0},{"$f":"IFERROR(SUMIFS(data!$K$3:$K$1000,data!$B$3:$B$1000,score!$B$34,data!$A$3:$A$1000,\">=\"&DATE(score!$B$1,AX3,AX4),data!$A$3:$A$1000,\"<=\"&DATE(score!$B$1,AY3,AY4)),\"\")","v":0},{"$f":"IFERROR(SUMIFS(data!$K$3:$K$1000,data!$B$3:$B$1000,score!$B$34,data!$A$3:$A$1000,\">=\"&DATE(score!$B$1,AY3,AY4),data!$A$3:$A$1000,\"<=\"&DATE(score!$B$1,AZ3,AZ4)),\"\")","v":0},{"$f":"IFERROR(SUMIFS(data!$K$3:$K$1000,data!$B$3:$B$1000,score!$B$34,data!$A$3:$A$1000,\">=\"&DATE(score!$B$1,AZ3,AZ4),data!$A$3:$A$1000,\"<=\"&DATE(score!$B$1,BA3,BA4)),\"\")","v":0},{"$f":"IFERROR(SUMIFS(data!$K$3:$K$1000,data!$B$3:$B$1000,score!$B$34,data!$A$3:$A$1000,\">=\"&DATE(score!$B$1,BA3,BA4),data!$A$3:$A$1000,\"<=\"&DATE(score!$B$1,BB3,BB4)),\"\")","v":0},{"$f":"IFERROR(SUMIFS(data!$K$3:$K$1000,data!$B$3:$B$1000,score!$B$34,data!$A$3:$A$1000,\">=\"&DATE(score!$B$1,BB3,BB4),data!$A$3:$A$1000,\"<=\"&DATE(score!$B$1,BC3,BC4)),\"\")","v":0}]
[null,null,{"$f":"IFERROR(SUMIFS(data!$K$3:$K$1000,data!$B$3:$B$1000,score!$B$35,data!$A$3:$A$1000,\">=\"&DATE(score!$B$1,C3,C4),data!$A$3:$A$1000,\"<=\"&DATE(score!$B$1,D3,D4)),\"\")","v":0},{"$f":"IFERROR(SUMIFS(data!$K$3:$K$1000,data!$B$3:$B$1000,score!$B$35,data!$A$3:$A$1000,\">=\"&DATE(score!$B$1,D3,D4),data!$A$3:$A$1000,\"<=\"&DATE(score!$B$1,E3,E4)),\"\")","v":0},{"$f":"IFERROR(SUMIFS(data!$K$3:$K$1000,data!$B$3:$B$1000,score!$B$35,data!$A$3:$A$1000,\">=\"&DATE(score!$B$1,E3,E4),data!$A$3:$A$1000,\"<=\"&DATE(score!$B$1,F3,F4)),\"\")","v":0},{"$f":"IFERROR(SUMIFS(data!$K$3:$K$1000,data!$B$3:$B$1000,score!$B$35,data!$A$3:$A$1000,\">=\"&DATE(score!$B$1,F3,F4),data!$A$3:$A$1000,\"<=\"&DATE(score!$B$1,G3,G4)),\"\")","v":0},{"$f":"IFERROR(SUMIFS(data!$K$3:$K$1000,data!$B$3:$B$1000,score!$B$35,data!$A$3:$A$1000,\">=\"&DATE(score!$B$1,G3,G4),data!$A$3:$A$1000,\"<=\"&DATE(score!$B$1,H3,H4)),\"\")","v":0},{"$f":"IFERROR(SUMIFS(data!$K$3:$K$1000,data!$B$3:$B$1000,score!$B$35,data!$A$3:$A$1000,\">=\"&DATE(score!$B$1,H3,H4),data!$A$3:$A$1000,\"<=\"&DATE(score!$B$1,I3,I4)),\"\")","v":0},{"$f":"IFERROR(SUMIFS(data!$K$3:$K$1000,data!$B$3:$B$1000,score!$B$35,data!$A$3:$A$1000,\">=\"&DATE(score!$B$1,I3,I4),data!$A$3:$A$1000,\"<=\"&DATE(score!$B$1,J3,J4)),\"\")","v":0},{"$f":"IFERROR(SUMIFS(data!$K$3:$K$1000,data!$B$3:$B$1000,score!$B$35,data!$A$3:$A$1000,\">=\"&DATE(score!$B$1,J3,J4),data!$A$3:$A$1000,\"<=\"&DATE(score!$B$1,K3,K4)),\"\")","v":0},{"$f":"IFERROR(SUMIFS(data!$K$3:$K$1000,data!$B$3:$B$1000,score!$B$35,data!$A$3:$A$1000,\">=\"&DATE(score!$B$1,K3,K4),data!$A$3:$A$1000,\"<=\"&DATE(score!$B$1,L3,L4)),\"\")","v":0},{"$f":"IFERROR(SUMIFS(data!$K$3:$K$1000,data!$B$3:$B$1000,score!$B$35,data!$A$3:$A$1000,\">=\"&DATE(score!$B$1,L3,L4),data!$A$3:$A$1000,\"<=\"&DATE(score!$B$1,M3,M4)),\"\")","v":0},{"$f":"IFERROR(SUMIFS(data!$K$3:$K$1000,data!$B$3:$B$1000,score!$B$35,data!$A$3:$A$1000,\">=\"&DATE(score!$B$1,M3,M4),data!$A$3:$A$1000,\"<=\"&DATE(score!$B$1,N3,N4)),\"\")","v":0},{"$f":"IFERROR(SUMIFS(data!$K$3:$K$1000,data!$B$3:$B$1000,score!$B$35,data!$A$3:$A$1000,\">=\"&DATE(score!$B$1,N3,N4),data!$A$3:$A$1000,\"<=\"&DATE(score!$B$1,O3,O4)),\"\")","v":0},{"$f":"IFERROR(SUMIFS(data!$K$3:$K$1000,data!$B$3:$B$1000,score!$B$35,data!$A$3:$A$1000,\">=\"&DATE(score!$B$1,O3,O4),data!$A$3:$A$1000,\"<=\"&DATE(score!$B$1,P3,P4)),\"\")","v":0},{"$f":"IFERROR(SUMIFS(data!$K$3:$K$1000,data!$B$3:$B$1000,score!$B$35,data!$A$3:$A$1000,\">=\"&DATE(score!$B$1,P3,P4),data!$A$3:$A$1000,\"<=\"&DATE(score!$B$1,Q3,Q4)),\"\")","v":0},{"$f":"IFERROR(SUMIFS(data!$K$3:$K$1000,data!$B$3:$B$1000,score!$B$35,data!$A$3:$A$1000,\">=\"&DATE(score!$B$1,Q3,Q4),data!$A$3:$A$1000,\"<=\"&DATE(score!$B$1,R3,R4)),\"\")","v":0},{"$f":"IFERROR(SUMIFS(data!$K$3:$K$1000,data!$B$3:$B$1000,score!$B$35,data!$A$3:$A$1000,\">=\"&DATE(score!$B$1,R3,R4),data!$A$3:$A$1000,\"<=\"&DATE(score!$B$1,S3,S4)),\"\")","v":0},{"$f":"IFERROR(SUMIFS(data!$K$3:$K$1000,data!$B$3:$B$1000,score!$B$35,data!$A$3:$A$1000,\">=\"&DATE(score!$B$1,S3,S4),data!$A$3:$A$1000,\"<=\"&DATE(score!$B$1,T3,T4)),\"\")","v":0},{"$f":"IFERROR(SUMIFS(data!$K$3:$K$1000,data!$B$3:$B$1000,score!$B$35,data!$A$3:$A$1000,\">=\"&DATE(score!$B$1,T3,T4),data!$A$3:$A$1000,\"<=\"&DATE(score!$B$1,U3,U4)),\"\")","v":0},{"$f":"IFERROR(SUMIFS(data!$K$3:$K$1000,data!$B$3:$B$1000,score!$B$35,data!$A$3:$A$1000,\">=\"&DATE(score!$B$1,U3,U4),data!$A$3:$A$1000,\"<=\"&DATE(score!$B$1,V3,V4)),\"\")","v":0},{"$f":"IFERROR(SUMIFS(data!$K$3:$K$1000,data!$B$3:$B$1000,score!$B$35,data!$A$3:$A$1000,\">=\"&DATE(score!$B$1,V3,V4),data!$A$3:$A$1000,\"<=\"&DATE(score!$B$1,W3,W4)),\"\")","v":0},{"$f":"IFERROR(SUMIFS(data!$K$3:$K$1000,data!$B$3:$B$1000,score!$B$35,data!$A$3:$A$1000,\">=\"&DATE(score!$B$1,W3,W4),data!$A$3:$A$1000,\"<=\"&DATE(score!$B$1,X3,X4)),\"\")","v":0},{"$f":"IFERROR(SUMIFS(data!$K$3:$K$1000,data!$B$3:$B$1000,score!$B$35,data!$A$3:$A$1000,\">=\"&DATE(score!$B$1,X3,X4),data!$A$3:$A$1000,\"<=\"&DATE(score!$B$1,Y3,Y4)),\"\")","v":0},{"$f":"IFERROR(SUMIFS(data!$K$3:$K$1000,data!$B$3:$B$1000,score!$B$35,data!$A$3:$A$1000,\">=\"&DATE(score!$B$1,Y3,Y4),data!$A$3:$A$1000,\"<=\"&DATE(score!$B$1,Z3,Z4)),\"\")","v":0},{"$f":"IFERROR(SUMIFS(data!$K$3:$K$1000,data!$B$3:$B$1000,score!$B$35,data!$A$3:$A$1000,\">=\"&DATE(score!$B$1,Z3,Z4),data!$A$3:$A$1000,\"<=\"&DATE(score!$B$1,AA3,AA4)),\"\")","v":0},{"$f":"IFERROR(SUMIFS(data!$K$3:$K$1000,data!$B$3:$B$1000,score!$B$35,data!$A$3:$A$1000,\">=\"&DATE(score!$B$1,AA3,AA4),data!$A$3:$A$1000,\"<=\"&DATE(score!$B$1,AB3,AB4)),\"\")","v":0},{"$f":"IFERROR(SUMIFS(data!$K$3:$K$1000,data!$B$3:$B$1000,score!$B$35,data!$A$3:$A$1000,\">=\"&DATE(score!$B$1,AB3,AB4),data!$A$3:$A$1000,\"<=\"&DATE(score!$B$1,AC3,AC4)),\"\")","v":0},{"$f":"IFERROR(SUMIFS(data!$K$3:$K$1000,data!$B$3:$B$1000,score!$B$35,data!$A$3:$A$1000,\">=\"&DATE(score!$B$1,AC3,AC4),data!$A$3:$A$1000,\"<=\"&DATE(score!$B$1,AD3,AD4)),\"\")","v":0},{"$f":"IFERROR(SUMIFS(data!$K$3:$K$1000,data!$B$3:$B$1000,score!$B$35,data!$A$3:$A$1000,\">=\"&DATE(score!$B$1,AD3,AD4),data!$A$3:$A$1000,\"<=\"&DATE(score!$B$1,AE3,AE4)),\"\")","v":0},{"$f":"IFERROR(SUMIFS(data!$K$3:$K$1000,data!$B$3:$B$1000,score!$B$35,data!$A$3:$A$1000,\">=\"&DATE(score!$B$1,AE3,AE4),data!$A$3:$A$1000,\"<=\"&DATE(score!$B$1,AF3,AF4)),\"\")","v":0},{"$f":"IFERROR(SUMIFS(data!$K$3:$K$1000,data!$B$3:$B$1000,score!$B$35,data!$A$3:$A$1000,\">=\"&DATE(score!$B$1,AF3,AF4),data!$A$3:$A$1000,\"<=\"&DATE(score!$B$1,AG3,AG4)),\"\")","v":0},{"$f":"IFERROR(SUMIFS(data!$K$3:$K$1000,data!$B$3:$B$1000,score!$B$35,data!$A$3:$A$1000,\">=\"&DATE(score!$B$1,AG3,AG4),data!$A$3:$A$1000,\"<=\"&DATE(score!$B$1,AH3,AH4)),\"\")","v":0},{"$f":"IFERROR(SUMIFS(data!$K$3:$K$1000,data!$B$3:$B$1000,score!$B$35,data!$A$3:$A$1000,\">=\"&DATE(score!$B$1,AH3,AH4),data!$A$3:$A$1000,\"<=\"&DATE(score!$B$1,AI3,AI4)),\"\")","v":0},{"$f":"IFERROR(SUMIFS(data!$K$3:$K$1000,data!$B$3:$B$1000,score!$B$35,data!$A$3:$A$1000,\">=\"&DATE(score!$B$1,AI3,AI4),data!$A$3:$A$1000,\"<=\"&DATE(score!$B$1,AJ3,AJ4)),\"\")","v":0},{"$f":"IFERROR(SUMIFS(data!$K$3:$K$1000,data!$B$3:$B$1000,score!$B$35,data!$A$3:$A$1000,\">=\"&DATE(score!$B$1,AJ3,AJ4),data!$A$3:$A$1000,\"<=\"&DATE(score!$B$1,AK3,AK4)),\"\")","v":0},{"$f":"IFERROR(SUMIFS(data!$K$3:$K$1000,data!$B$3:$B$1000,score!$B$35,data!$A$3:$A$1000,\">=\"&DATE(score!$B$1,AK3,AK4),data!$A$3:$A$1000,\"<=\"&DATE(score!$B$1,AL3,AL4)),\"\")","v":0},{"$f":"IFERROR(SUMIFS(data!$K$3:$K$1000,data!$B$3:$B$1000,score!$B$35,data!$A$3:$A$1000,\">=\"&DATE(score!$B$1,AL3,AL4),data!$A$3:$A$1000,\"<=\"&DATE(score!$B$1,AM3,AM4)),\"\")","v":0},{"$f":"IFERROR(SUMIFS(data!$K$3:$K$1000,data!$B$3:$B$1000,score!$B$35,data!$A$3:$A$1000,\">=\"&DATE(score!$B$1,AM3,AM4),data!$A$3:$A$1000,\"<=\"&DATE(score!$B$1,AN3,AN4)),\"\")","v":0},{"$f":"IFERROR(SUMIFS(data!$K$3:$K$1000,data!$B$3:$B$1000,score!$B$35,data!$A$3:$A$1000,\">=\"&DATE(score!$B$1,AN3,AN4),data!$A$3:$A$1000,\"<=\"&DATE(score!$B$1,AO3,AO4)),\"\")","v":0},{"$f":"IFERROR(SUMIFS(data!$K$3:$K$1000,data!$B$3:$B$1000,score!$B$35,data!$A$3:$A$1000,\">=\"&DATE(score!$B$1,AO3,AO4),data!$A$3:$A$1000,\"<=\"&DATE(score!$B$1,AP3,AP4)),\"\")","v":0},{"$f":"IFERROR(SUMIFS(data!$K$3:$K$1000,data!$B$3:$B$1000,score!$B$35,data!$A$3:$A$1000,\">=\"&DATE(score!$B$1,AP3,AP4),data!$A$3:$A$1000,\"<=\"&DATE(score!$B$1,AQ3,AQ4)),\"\")","v":0},{"$f":"IFERROR(SUMIFS(data!$K$3:$K$1000,data!$B$3:$B$1000,score!$B$35,data!$A$3:$A$1000,\">=\"&DATE(score!$B$1,AQ3,AQ4),data!$A$3:$A$1000,\"<=\"&DATE(score!$B$1,AR3,AR4)),\"\")","v":0},{"$f":"IFERROR(SUMIFS(data!$K$3:$K$1000,data!$B$3:$B$1000,score!$B$35,data!$A$3:$A$1000,\">=\"&DATE(score!$B$1,AR3,AR4),data!$A$3:$A$1000,\"<=\"&DATE(score!$B$1,AS3,AS4)),\"\")","v":0},{"$f":"IFERROR(SUMIFS(data!$K$3:$K$1000,data!$B$3:$B$1000,score!$B$35,data!$A$3:$A$1000,\">=\"&DATE(score!$B$1,AS3,AS4),data!$A$3:$A$1000,\"<=\"&DATE(score!$B$1,AT3,AT4)),\"\")","v":0},{"$f":"IFERROR(SUMIFS(data!$K$3:$K$1000,data!$B$3:$B$1000,score!$B$35,data!$A$3:$A$1000,\">=\"&DATE(score!$B$1,AT3,AT4),data!$A$3:$A$1000,\"<=\"&DATE(score!$B$1,AU3,AU4)),\"\")","v":0},{"$f":"IFERROR(SUMIFS(data!$K$3:$K$1000,data!$B$3:$B$1000,score!$B$35,data!$A$3:$A$1000,\">=\"&DATE(score!$B$1,AU3,AU4),data!$A$3:$A$1000,\"<=\"&DATE(score!$B$1,AV3,AV4)),\"\")","v":0},{"$f":"IFERROR(SUMIFS(data!$K$3:$K$1000,data!$B$3:$B$1000,score!$B$35,data!$A$3:$A$1000,\">=\"&DATE(score!$B$1,AV3,AV4),data!$A$3:$A$1000,\"<=\"&DATE(score!$B$1,AW3,AW4)),\"\")","v":0},{"$f":"IFERROR(SUMIFS(data!$K$3:$K$1000,data!$B$3:$B$1000,score!$B$35,data!$A$3:$A$1000,\">=\"&DATE(score!$B$1,AW3,AW4),data!$A$3:$A$1000,\"<=\"&DATE(score!$B$1,AX3,AX4)),\"\")","v":0},{"$f":"IFERROR(SUMIFS(data!$K$3:$K$1000,data!$B$3:$B$1000,score!$B$35,data!$A$3:$A$1000,\">=\"&DATE(score!$B$1,AX3,AX4),data!$A$3:$A$1000,\"<=\"&DATE(score!$B$1,AY3,AY4)),\"\")","v":0},{"$f":"IFERROR(SUMIFS(data!$K$3:$K$1000,data!$B$3:$B$1000,score!$B$35,data!$A$3:$A$1000,\">=\"&DATE(score!$B$1,AY3,AY4),data!$A$3:$A$1000,\"<=\"&DATE(score!$B$1,AZ3,AZ4)),\"\")","v":0},{"$f":"IFERROR(SUMIFS(data!$K$3:$K$1000,data!$B$3:$B$1000,score!$B$35,data!$A$3:$A$1000,\">=\"&DATE(score!$B$1,AZ3,AZ4),data!$A$3:$A$1000,\"<=\"&DATE(score!$B$1,BA3,BA4)),\"\")","v":0},{"$f":"IFERROR(SUMIFS(data!$K$3:$K$1000,data!$B$3:$B$1000,score!$B$35,data!$A$3:$A$1000,\">=\"&DATE(score!$B$1,BA3,BA4),data!$A$3:$A$1000,\"<=\"&DATE(score!$B$1,BB3,BB4)),\"\")","v":0},{"$f":"IFERROR(SUMIFS(data!$K$3:$K$1000,data!$B$3:$B$1000,score!$B$35,data!$A$3:$A$1000,\">=\"&DATE(score!$B$1,BB3,BB4),data!$A$3:$A$1000,\"<=\"&DATE(score!$B$1,BC3,BC4)),\"\")","v":0}]
[null,null,{"$f":"IFERROR(SUMIFS(data!$K$3:$K$1000,data!$B$3:$B$1000,score!$B$36,data!$A$3:$A$1000,\">=\"&DATE(score!$B$1,C3,C4),data!$A$3:$A$1000,\"<=\"&DATE(score!$B$1,D3,D4)),\"\")","v":0},{"$f":"IFERROR(SUMIFS(data!$K$3:$K$1000,data!$B$3:$B$1000,score!$B$36,data!$A$3:$A$1000,\">=\"&DATE(score!$B$1,D3,D4),data!$A$3:$A$1000,\"<=\"&DATE(score!$B$1,E3,E4)),\"\")","v":0},{"$f":"IFERROR(SUMIFS(data!$K$3:$K$1000,data!$B$3:$B$1000,score!$B$36,data!$A$3:$A$1000,\">=\"&DATE(score!$B$1,E3,E4),data!$A$3:$A$1000,\"<=\"&DATE(score!$B$1,F3,F4)),\"\")","v":0},{"$f":"IFERROR(SUMIFS(data!$K$3:$K$1000,data!$B$3:$B$1000,score!$B$36,data!$A$3:$A$1000,\">=\"&DATE(score!$B$1,F3,F4),data!$A$3:$A$1000,\"<=\"&DATE(score!$B$1,G3,G4)),\"\")","v":0},{"$f":"IFERROR(SUMIFS(data!$K$3:$K$1000,data!$B$3:$B$1000,score!$B$36,data!$A$3:$A$1000,\">=\"&DATE(score!$B$1,G3,G4),data!$A$3:$A$1000,\"<=\"&DATE(score!$B$1,H3,H4)),\"\")","v":0},{"$f":"IFERROR(SUMIFS(data!$K$3:$K$1000,data!$B$3:$B$1000,score!$B$36,data!$A$3:$A$1000,\">=\"&DATE(score!$B$1,H3,H4),data!$A$3:$A$1000,\"<=\"&DATE(score!$B$1,I3,I4)),\"\")","v":0},{"$f":"IFERROR(SUMIFS(data!$K$3:$K$1000,data!$B$3:$B$1000,score!$B$36,data!$A$3:$A$1000,\">=\"&DATE(score!$B$1,I3,I4),data!$A$3:$A$1000,\"<=\"&DATE(score!$B$1,J3,J4)),\"\")","v":0},{"$f":"IFERROR(SUMIFS(data!$K$3:$K$1000,data!$B$3:$B$1000,score!$B$36,data!$A$3:$A$1000,\">=\"&DATE(score!$B$1,J3,J4),data!$A$3:$A$1000,\"<=\"&DATE(score!$B$1,K3,K4)),\"\")","v":0},{"$f":"IFERROR(SUMIFS(data!$K$3:$K$1000,data!$B$3:$B$1000,score!$B$36,data!$A$3:$A$1000,\">=\"&DATE(score!$B$1,K3,K4),data!$A$3:$A$1000,\"<=\"&DATE(score!$B$1,L3,L4)),\"\")","v":0},{"$f":"IFERROR(SUMIFS(data!$K$3:$K$1000,data!$B$3:$B$1000,score!$B$36,data!$A$3:$A$1000,\">=\"&DATE(score!$B$1,L3,L4),data!$A$3:$A$1000,\"<=\"&DATE(score!$B$1,M3,M4)),\"\")","v":0},{"$f":"IFERROR(SUMIFS(data!$K$3:$K$1000,data!$B$3:$B$1000,score!$B$36,data!$A$3:$A$1000,\">=\"&DATE(score!$B$1,M3,M4),data!$A$3:$A$1000,\"<=\"&DATE(score!$B$1,N3,N4)),\"\")","v":0},{"$f":"IFERROR(SUMIFS(data!$K$3:$K$1000,data!$B$3:$B$1000,score!$B$36,data!$A$3:$A$1000,\">=\"&DATE(score!$B$1,N3,N4),data!$A$3:$A$1000,\"<=\"&DATE(score!$B$1,O3,O4)),\"\")","v":0},{"$f":"IFERROR(SUMIFS(data!$K$3:$K$1000,data!$B$3:$B$1000,score!$B$36,data!$A$3:$A$1000,\">=\"&DATE(score!$B$1,O3,O4),data!$A$3:$A$1000,\"<=\"&DATE(score!$B$1,P3,P4)),\"\")","v":0},{"$f":"IFERROR(SUMIFS(data!$K$3:$K$1000,data!$B$3:$B$1000,score!$B$36,data!$A$3:$A$1000,\">=\"&DATE(score!$B$1,P3,P4),data!$A$3:$A$1000,\"<=\"&DATE(score!$B$1,Q3,Q4)),\"\")","v":0},{"$f":"IFERROR(SUMIFS(data!$K$3:$K$1000,data!$B$3:$B$1000,score!$B$36,data!$A$3:$A$1000,\">=\"&DATE(score!$B$1,Q3,Q4),data!$A$3:$A$1000,\"<=\"&DATE(score!$B$1,R3,R4)),\"\")","v":0},{"$f":"IFERROR(SUMIFS(data!$K$3:$K$1000,data!$B$3:$B$1000,score!$B$36,data!$A$3:$A$1000,\">=\"&DATE(score!$B$1,R3,R4),data!$A$3:$A$1000,\"<=\"&DATE(score!$B$1,S3,S4)),\"\")","v":0},{"$f":"IFERROR(SUMIFS(data!$K$3:$K$1000,data!$B$3:$B$1000,score!$B$36,data!$A$3:$A$1000,\">=\"&DATE(score!$B$1,S3,S4),data!$A$3:$A$1000,\"<=\"&DATE(score!$B$1,T3,T4)),\"\")","v":0},{"$f":"IFERROR(SUMIFS(data!$K$3:$K$1000,data!$B$3:$B$1000,score!$B$36,data!$A$3:$A$1000,\">=\"&DATE(score!$B$1,T3,T4),data!$A$3:$A$1000,\"<=\"&DATE(score!$B$1,U3,U4)),\"\")","v":0},{"$f":"IFERROR(SUMIFS(data!$K$3:$K$1000,data!$B$3:$B$1000,score!$B$36,data!$A$3:$A$1000,\">=\"&DATE(score!$B$1,U3,U4),data!$A$3:$A$1000,\"<=\"&DATE(score!$B$1,V3,V4)),\"\")","v":0},{"$f":"IFERROR(SUMIFS(data!$K$3:$K$1000,data!$B$3:$B$1000,score!$B$36,data!$A$3:$A$1000,\">=\"&DATE(score!$B$1,V3,V4),data!$A$3:$A$1000,\"<=\"&DATE(score!$B$1,W3,W4)),\"\")","v":0},{"$f":"IFERROR(SUMIFS(data!$K$3:$K$1000,data!$B$3:$B$1000,score!$B$36,data!$A$3:$A$1000,\">=\"&DATE(score!$B$1,W3,W4),data!$A$3:$A$1000,\"<=\"&DATE(score!$B$1,X3,X4)),\"\")","v":0},{"$f":"IFERROR(SUMIFS(data!$K$3:$K$1000,data!$B$3:$B$1000,score!$B$36,data!$A$3:$A$1000,\">=\"&DATE(score!$B$1,X3,X4),data!$A$3:$A$1000,\"<=\"&DATE(score!$B$1,Y3,Y4)),\"\")","v":0},{"$f":"IFERROR(SUMIFS(data!$K$3:$K$1000,data!$B$3:$B$1000,score!$B$36,data!$A$3:$A$1000,\">=\"&DATE(score!$B$1,Y3,Y4),data!$A$3:$A$1000,\"<=\"&DATE(score!$B$1,Z3,Z4)),\"\")","v":0},{"$f":"IFERROR(SUMIFS(data!$K$3:$K$1000,data!$B$3:$B$1000,score!$B$36,data!$A$3:$A$1000,\">=\"&DATE(score!$B$1,Z3,Z4),data!$A$3:$A$1000,\"<=\"&DATE(score!$B$1,AA3,AA4)),\"\")","v":0},{"$f":"IFERROR(SUMIFS(data!$K$3:$K$1000,data!$B$3:$B$1000,score!$B$36,data!$A$3:$A$1000,\">=\"&DATE(score!$B$1,AA3,AA4),data!$A$3:$A$1000,\"<=\"&DATE(score!$B$1,AB3,AB4)),\"\")","v":0},{"$f":"IFERROR(SUMIFS(data!$K$3:$K$1000,data!$B$3:$B$1000,score!$B$36,data!$A$3:$A$1000,\">=\"&DATE(score!$B$1,AB3,AB4),data!$A$3:$A$1000,\"<=\"&DATE(score!$B$1,AC3,AC4)),\"\")","v":0},{"$f":"IFERROR(SUMIFS(data!$K$3:$K$1000,data!$B$3:$B$1000,score!$B$36,data!$A$3:$A$1000,\">=\"&DATE(score!$B$1,AC3,AC4),data!$A$3:$A$1000,\"<=\"&DATE(score!$B$1,AD3,AD4)),\"\")","v":0},{"$f":"IFERROR(SUMIFS(data!$K$3:$K$1000,data!$B$3:$B$1000,score!$B$36,data!$A$3:$A$1000,\">=\"&DATE(score!$B$1,AD3,AD4),data!$A$3:$A$1000,\"<=\"&DATE(score!$B$1,AE3,AE4)),\"\")","v":0},{"$f":"IFERROR(SUMIFS(data!$K$3:$K$1000,data!$B$3:$B$1000,score!$B$36,data!$A$3:$A$1000,\">=\"&DATE(score!$B$1,AE3,AE4),data!$A$3:$A$1000,\"<=\"&DATE(score!$B$1,AF3,AF4)),\"\")","v":0},{"$f":"IFERROR(SUMIFS(data!$K$3:$K$1000,data!$B$3:$B$1000,score!$B$36,data!$A$3:$A$1000,\">=\"&DATE(score!$B$1,AF3,AF4),data!$A$3:$A$1000,\"<=\"&DATE(score!$B$1,AG3,AG4)),\"\")","v":0},{"$f":"IFERROR(SUMIFS(data!$K$3:$K$1000,data!$B$3:$B$1000,score!$B$36,data!$A$3:$A$1000,\">=\"&DATE(score!$B$1,AG3,AG4),data!$A$3:$A$1000,\"<=\"&DATE(score!$B$1,AH3,AH4)),\"\")","v":0},{"$f":"IFERROR(SUMIFS(data!$K$3:$K$1000,data!$B$3:$B$1000,score!$B$36,data!$A$3:$A$1000,\">=\"&DATE(score!$B$1,AH3,AH4),data!$A$3:$A$1000,\"<=\"&DATE(score!$B$1,AI3,AI4)),\"\")","v":0},{"$f":"IFERROR(SUMIFS(data!$K$3:$K$1000,data!$B$3:$B$1000,score!$B$36,data!$A$3:$A$1000,\">=\"&DATE(score!$B$1,AI3,AI4),data!$A$3:$A$1000,\"<=\"&DATE(score!$B$1,AJ3,AJ4)),\"\")","v":0},{"$f":"IFERROR(SUMIFS(data!$K$3:$K$1000,data!$B$3:$B$1000,score!$B$36,data!$A$3:$A$1000,\">=\"&DATE(score!$B$1,AJ3,AJ4),data!$A$3:$A$1000,\"<=\"&DATE(score!$B$1,AK3,AK4)),\"\")","v":0},{"$f":"IFERROR(SUMIFS(data!$K$3:$K$1000,data!$B$3:$B$1000,score!$B$36,data!$A$3:$A$1000,\">=\"&DATE(score!$B$1,AK3,AK4),data!$A$3:$A$1000,\"<=\"&DATE(score!$B$1,AL3,AL4)),\"\")","v":0},{"$f":"IFERROR(SUMIFS(data!$K$3:$K$1000,data!$B$3:$B$1000,score!$B$36,data!$A$3:$A$1000,\">=\"&DATE(score!$B$1,AL3,AL4),data!$A$3:$A$1000,\"<=\"&DATE(score!$B$1,AM3,AM4)),\"\")","v":0},{"$f":"IFERROR(SUMIFS(data!$K$3:$K$1000,data!$B$3:$B$1000,score!$B$36,data!$A$3:$A$1000,\">=\"&DATE(score!$B$1,AM3,AM4),data!$A$3:$A$1000,\"<=\"&DATE(score!$B$1,AN3,AN4)),\"\")","v":0},{"$f":"IFERROR(SUMIFS(data!$K$3:$K$1000,data!$B$3:$B$1000,score!$B$36,data!$A$3:$A$1000,\">=\"&DATE(score!$B$1,AN3,AN4),data!$A$3:$A$1000,\"<=\"&DATE(score!$B$1,AO3,AO4)),\"\")","v":0},{"$f":"IFERROR(SUMIFS(data!$K$3:$K$1000,data!$B$3:$B$1000,score!$B$36,data!$A$3:$A$1000,\">=\"&DATE(score!$B$1,AO3,AO4),data!$A$3:$A$1000,\"<=\"&DATE(score!$B$1,AP3,AP4)),\"\")","v":0},{"$f":"IFERROR(SUMIFS(data!$K$3:$K$1000,data!$B$3:$B$1000,score!$B$36,data!$A$3:$A$1000,\">=\"&DATE(score!$B$1,AP3,AP4),data!$A$3:$A$1000,\"<=\"&DATE(score!$B$1,AQ3,AQ4)),\"\")","v":0},{"$f":"IFERROR(SUMIFS(data!$K$3:$K$1000,data!$B$3:$B$1000,score!$B$36,data!$A$3:$A$1000,\">=\"&DATE(score!$B$1,AQ3,AQ4),data!$A$3:$A$1000,\"<=\"&DATE(score!$B$1,AR3,AR4)),\"\")","v":0},{"$f":"IFERROR(SUMIFS(data!$K$3:$K$1000,data!$B$3:$B$1000,score!$B$36,data!$A$3:$A$1000,\">=\"&DATE(score!$B$1,AR3,AR4),data!$A$3:$A$1000,\"<=\"&DATE(score!$B$1,AS3,AS4)),\"\")","v":0},{"$f":"IFERROR(SUMIFS(data!$K$3:$K$1000,data!$B$3:$B$1000,score!$B$36,data!$A$3:$A$1000,\">=\"&DATE(score!$B$1,AS3,AS4),data!$A$3:$A$1000,\"<=\"&DATE(score!$B$1,AT3,AT4)),\"\")","v":0},{"$f":"IFERROR(SUMIFS(data!$K$3:$K$1000,data!$B$3:$B$1000,score!$B$36,data!$A$3:$A$1000,\">=\"&DATE(score!$B$1,AT3,AT4),data!$A$3:$A$1000,\"<=\"&DATE(score!$B$1,AU3,AU4)),\"\")","v":0},{"$f":"IFERROR(SUMIFS(data!$K$3:$K$1000,data!$B$3:$B$1000,score!$B$36,data!$A$3:$A$1000,\">=\"&DATE(score!$B$1,AU3,AU4),data!$A$3:$A$1000,\"<=\"&DATE(score!$B$1,AV3,AV4)),\"\")","v":0},{"$f":"IFERROR(SUMIFS(data!$K$3:$K$1000,data!$B$3:$B$1000,score!$B$36,data!$A$3:$A$1000,\">=\"&DATE(score!$B$1,AV3,AV4),data!$A$3:$A$1000,\"<=\"&DATE(score!$B$1,AW3,AW4)),\"\")","v":0},{"$f":"IFERROR(SUMIFS(data!$K$3:$K$1000,data!$B$3:$B$1000,score!$B$36,data!$A$3:$A$1000,\">=\"&DATE(score!$B$1,AW3,AW4),data!$A$3:$A$1000,\"<=\"&DATE(score!$B$1,AX3,AX4)),\"\")","v":0},{"$f":"IFERROR(SUMIFS(data!$K$3:$K$1000,data!$B$3:$B$1000,score!$B$36,data!$A$3:$A$1000,\">=\"&DATE(score!$B$1,AX3,AX4),data!$A$3:$A$1000,\"<=\"&DATE(score!$B$1,AY3,AY4)),\"\")","v":0},{"$f":"IFERROR(SUMIFS(data!$K$3:$K$1000,data!$B$3:$B$1000,score!$B$36,data!$A$3:$A$1000,\">=\"&DATE(score!$B$1,AY3,AY4),data!$A$3:$A$1000,\"<=\"&DATE(score!$B$1,AZ3,AZ4)),\"\")","v":0},{"$f":"IFERROR(SUMIFS(data!$K$3:$K$1000,data!$B$3:$B$1000,score!$B$36,data!$A$3:$A$1000,\">=\"&DATE(score!$B$1,AZ3,AZ4),data!$A$3:$A$1000,\"<=\"&DATE(score!$B$1,BA3,BA4)),\"\")","v":0},{"$f":"IFERROR(SUMIFS(data!$K$3:$K$1000,data!$B$3:$B$1000,score!$B$36,data!$A$3:$A$1000,\">=\"&DATE(score!$B$1,BA3,BA4),data!$A$3:$A$1000,\"<=\"&DATE(score!$B$1,BB3,BB4)),\"\")","v":0},{"$f":"IFERROR(SUMIFS(data!$K$3:$K$1000,data!$B$3:$B$1000,score!$B$36,data!$A$3:$A$1000,\">=\"&DATE(score!$B$1,BB3,BB4),data!$A$3:$A$1000,\"<=\"&DATE(score!$B$1,BC3,BC4)),\"\")","v":0}]
[null,null,{"$f":"IFERROR(SUMIFS(data!$K$3:$K$1000,data!$B$3:$B$1000,score!$B$37,data!$A$3:$A$1000,\">=\"&DATE(score!$B$1,C3,C4),data!$A$3:$A$1000,\"<=\"&DATE(score!$B$1,D3,D4)),\"\")","v":0},{"$f":"IFERROR(SUMIFS(data!$K$3:$K$1000,data!$B$3:$B$1000,score!$B$37,data!$A$3:$A$1000,\">=\"&DATE(score!$B$1,D3,D4),data!$A$3:$A$1000,\"<=\"&DATE(score!$B$1,E3,E4)),\"\")","v":0},{"$f":"IFERROR(SUMIFS(data!$K$3:$K$1000,data!$B$3:$B$1000,score!$B$37,data!$A$3:$A$1000,\">=\"&DATE(score!$B$1,E3,E4),data!$A$3:$A$1000,\"<=\"&DATE(score!$B$1,F3,F4)),\"\")","v":0},{"$f":"IFERROR(SUMIFS(data!$K$3:$K$1000,data!$B$3:$B$1000,score!$B$37,data!$A$3:$A$1000,\">=\"&DATE(score!$B$1,F3,F4),data!$A$3:$A$1000,\"<=\"&DATE(score!$B$1,G3,G4)),\"\")","v":0},{"$f":"IFERROR(SUMIFS(data!$K$3:$K$1000,data!$B$3:$B$1000,score!$B$37,data!$A$3:$A$1000,\">=\"&DATE(score!$B$1,G3,G4),data!$A$3:$A$1000,\"<=\"&DATE(score!$B$1,H3,H4)),\"\")","v":0},{"$f":"IFERROR(SUMIFS(data!$K$3:$K$1000,data!$B$3:$B$1000,score!$B$37,data!$A$3:$A$1000,\">=\"&DATE(score!$B$1,H3,H4),data!$A$3:$A$1000,\"<=\"&DATE(score!$B$1,I3,I4)),\"\")","v":0},{"$f":"IFERROR(SUMIFS(data!$K$3:$K$1000,data!$B$3:$B$1000,score!$B$37,data!$A$3:$A$1000,\">=\"&DATE(score!$B$1,I3,I4),data!$A$3:$A$1000,\"<=\"&DATE(score!$B$1,J3,J4)),\"\")","v":0},{"$f":"IFERROR(SUMIFS(data!$K$3:$K$1000,data!$B$3:$B$1000,score!$B$37,data!$A$3:$A$1000,\">=\"&DATE(score!$B$1,J3,J4),data!$A$3:$A$1000,\"<=\"&DATE(score!$B$1,K3,K4)),\"\")","v":0},{"$f":"IFERROR(SUMIFS(data!$K$3:$K$1000,data!$B$3:$B$1000,score!$B$37,data!$A$3:$A$1000,\">=\"&DATE(score!$B$1,K3,K4),data!$A$3:$A$1000,\"<=\"&DATE(score!$B$1,L3,L4)),\"\")","v":0},{"$f":"IFERROR(SUMIFS(data!$K$3:$K$1000,data!$B$3:$B$1000,score!$B$37,data!$A$3:$A$1000,\">=\"&DATE(score!$B$1,L3,L4),data!$A$3:$A$1000,\"<=\"&DATE(score!$B$1,M3,M4)),\"\")","v":0},{"$f":"IFERROR(SUMIFS(data!$K$3:$K$1000,data!$B$3:$B$1000,score!$B$37,data!$A$3:$A$1000,\">=\"&DATE(score!$B$1,M3,M4),data!$A$3:$A$1000,\"<=\"&DATE(score!$B$1,N3,N4)),\"\")","v":0},{"$f":"IFERROR(SUMIFS(data!$K$3:$K$1000,data!$B$3:$B$1000,score!$B$37,data!$A$3:$A$1000,\">=\"&DATE(score!$B$1,N3,N4),data!$A$3:$A$1000,\"<=\"&DATE(score!$B$1,O3,O4)),\"\")","v":0},{"$f":"IFERROR(SUMIFS(data!$K$3:$K$1000,data!$B$3:$B$1000,score!$B$37,data!$A$3:$A$1000,\">=\"&DATE(score!$B$1,O3,O4),data!$A$3:$A$1000,\"<=\"&DATE(score!$B$1,P3,P4)),\"\")","v":0},{"$f":"IFERROR(SUMIFS(data!$K$3:$K$1000,data!$B$3:$B$1000,score!$B$37,data!$A$3:$A$1000,\">=\"&DATE(score!$B$1,P3,P4),data!$A$3:$A$1000,\"<=\"&DATE(score!$B$1,Q3,Q4)),\"\")","v":0},{"$f":"IFERROR(SUMIFS(data!$K$3:$K$1000,data!$B$3:$B$1000,score!$B$37,data!$A$3:$A$1000,\">=\"&DATE(score!$B$1,Q3,Q4),data!$A$3:$A$1000,\"<=\"&DATE(score!$B$1,R3,R4)),\"\")","v":0},{"$f":"IFERROR(SUMIFS(data!$K$3:$K$1000,data!$B$3:$B$1000,score!$B$37,data!$A$3:$A$1000,\">=\"&DATE(score!$B$1,R3,R4),data!$A$3:$A$1000,\"<=\"&DATE(score!$B$1,S3,S4)),\"\")","v":0},{"$f":"IFERROR(SUMIFS(data!$K$3:$K$1000,data!$B$3:$B$1000,score!$B$37,data!$A$3:$A$1000,\">=\"&DATE(score!$B$1,S3,S4),data!$A$3:$A$1000,\"<=\"&DATE(score!$B$1,T3,T4)),\"\")","v":0},{"$f":"IFERROR(SUMIFS(data!$K$3:$K$1000,data!$B$3:$B$1000,score!$B$37,data!$A$3:$A$1000,\">=\"&DATE(score!$B$1,T3,T4),data!$A$3:$A$1000,\"<=\"&DATE(score!$B$1,U3,U4)),\"\")","v":0},{"$f":"IFERROR(SUMIFS(data!$K$3:$K$1000,data!$B$3:$B$1000,score!$B$37,data!$A$3:$A$1000,\">=\"&DATE(score!$B$1,U3,U4),data!$A$3:$A$1000,\"<=\"&DATE(score!$B$1,V3,V4)),\"\")","v":0},{"$f":"IFERROR(SUMIFS(data!$K$3:$K$1000,data!$B$3:$B$1000,score!$B$37,data!$A$3:$A$1000,\">=\"&DATE(score!$B$1,V3,V4),data!$A$3:$A$1000,\"<=\"&DATE(score!$B$1,W3,W4)),\"\")","v":0},{"$f":"IFERROR(SUMIFS(data!$K$3:$K$1000,data!$B$3:$B$1000,score!$B$37,data!$A$3:$A$1000,\">=\"&DATE(score!$B$1,W3,W4),data!$A$3:$A$1000,\"<=\"&DATE(score!$B$1,X3,X4)),\"\")","v":0},{"$f":"IFERROR(SUMIFS(data!$K$3:$K$1000,data!$B$3:$B$1000,score!$B$37,data!$A$3:$A$1000,\">=\"&DATE(score!$B$1,X3,X4),data!$A$3:$A$1000,\"<=\"&DATE(score!$B$1,Y3,Y4)),\"\")","v":0},{"$f":"IFERROR(SUMIFS(data!$K$3:$K$1000,data!$B$3:$B$1000,score!$B$37,data!$A$3:$A$1000,\">=\"&DATE(score!$B$1,Y3,Y4),data!$A$3:$A$1000,\"<=\"&DATE(score!$B$1,Z3,Z4)),\"\")","v":0},{"$f":"IFERROR(SUMIFS(data!$K$3:$K$1000,data!$B$3:$B$1000,score!$B$37,data!$A$3:$A$1000,\">=\"&DATE(score!$B$1,Z3,Z4),data!$A$3:$A$1000,\"<=\"&DATE(score!$B$1,AA3,AA4)),\"\")","v":0},{"$f":"IFERROR(SUMIFS(data!$K$3:$K$1000,data!$B$3:$B$1000,score!$B$37,data!$A$3:$A$1000,\">=\"&DATE(score!$B$1,AA3,AA4),data!$A$3:$A$1000,\"<=\"&DATE(score!$B$1,AB3,AB4)),\"\")","v":0},{"$f":"IFERROR(SUMIFS(data!$K$3:$K$1000,data!$B$3:$B$1000,score!$B$37,data!$A$3:$A$1000,\">=\"&DATE(score!$B$1,AB3,AB4),data!$A$3:$A$1000,\"<=\"&DATE(score!$B$1,AC3,AC4)),\"\")","v":0},{"$f":"IFERROR(SUMIFS(data!$K$3:$K$1000,data!$B$3:$B$1000,score!$B$37,data!$A$3:$A$1000,\">=\"&DATE(score!$B$1,AC3,AC4),data!$A$3:$A$1000,\"<=\"&DATE(score!$B$1,AD3,AD4)),\"\")","v":0},{"$f":"IFERROR(SUMIFS(data!$K$3:$K$1000,data!$B$3:$B$1000,score!$B$37,data!$A$3:$A$1000,\">=\"&DATE(score!$B$1,AD3,AD4),data!$A$3:$A$1000,\"<=\"&DATE(score!$B$1,AE3,AE4)),\"\")","v":0},{"$f":"IFERROR(SUMIFS(data!$K$3:$K$1000,data!$B$3:$B$1000,score!$B$37,data!$A$3:$A$1000,\">=\"&DATE(score!$B$1,AE3,AE4),data!$A$3:$A$1000,\"<=\"&DATE(score!$B$1,AF3,AF4)),\"\")","v":0},{"$f":"IFERROR(SUMIFS(data!$K$3:$K$1000,data!$B$3:$B$1000,score!$B$37,data!$A$3:$A$1000,\">=\"&DATE(score!$B$1,AF3,AF4),data!$A$3:$A$1000,\"<=\"&DATE(score!$B$1,AG3,AG4)),\"\")","v":0},{"$f":"IFERROR(SUMIFS(data!$K$3:$K$1000,data!$B$3:$B$1000,score!$B$37,data!$A$3:$A$1000,\">=\"&DATE(score!$B$1,AG3,AG4),data!$A$3:$A$1000,\"<=\"&DATE(score!$B$1,AH3,AH4)),\"\")","v":0},{"$f":"IFERROR(SUMIFS(data!$K$3:$K$1000,data!$B$3:$B$1000,score!$B$37,data!$A$3:$A$1000,\">=\"&DATE(score!$B$1,AH3,AH4),data!$A$3:$A$1000,\"<=\"&DATE(score!$B$1,AI3,AI4)),\"\")","v":0},{"$f":"IFERROR(SUMIFS(data!$K$3:$K$1000,data!$B$3:$B$1000,score!$B$37,data!$A$3:$A$1000,\">=\"&DATE(score!$B$1,AI3,AI4),data!$A$3:$A$1000,\"<=\"&DATE(score!$B$1,AJ3,AJ4)),\"\")","v":0},{"$f":"IFERROR(SUMIFS(data!$K$3:$K$1000,data!$B$3:$B$1000,score!$B$37,data!$A$3:$A$1000,\">=\"&DATE(score!$B$1,AJ3,AJ4),data!$A$3:$A$1000,\"<=\"&DATE(score!$B$1,AK3,AK4)),\"\")","v":0},{"$f":"IFERROR(SUMIFS(data!$K$3:$K$1000,data!$B$3:$B$1000,score!$B$37,data!$A$3:$A$1000,\">=\"&DATE(score!$B$1,AK3,AK4),data!$A$3:$A$1000,\"<=\"&DATE(score!$B$1,AL3,AL4)),\"\")","v":0},{"$f":"IFERROR(SUMIFS(data!$K$3:$K$1000,data!$B$3:$B$1000,score!$B$37,data!$A$3:$A$1000,\">=\"&DATE(score!$B$1,AL3,AL4),data!$A$3:$A$1000,\"<=\"&DATE(score!$B$1,AM3,AM4)),\"\")","v":0},{"$f":"IFERROR(SUMIFS(data!$K$3:$K$1000,data!$B$3:$B$1000,score!$B$37,data!$A$3:$A$1000,\">=\"&DATE(score!$B$1,AM3,AM4),data!$A$3:$A$1000,\"<=\"&DATE(score!$B$1,AN3,AN4)),\"\")","v":0},{"$f":"IFERROR(SUMIFS(data!$K$3:$K$1000,data!$B$3:$B$1000,score!$B$37,data!$A$3:$A$1000,\">=\"&DATE(score!$B$1,AN3,AN4),data!$A$3:$A$1000,\"<=\"&DATE(score!$B$1,AO3,AO4)),\"\")","v":0},{"$f":"IFERROR(SUMIFS(data!$K$3:$K$1000,data!$B$3:$B$1000,score!$B$37,data!$A$3:$A$1000,\">=\"&DATE(score!$B$1,AO3,AO4),data!$A$3:$A$1000,\"<=\"&DATE(score!$B$1,AP3,AP4)),\"\")","v":0},{"$f":"IFERROR(SUMIFS(data!$K$3:$K$1000,data!$B$3:$B$1000,score!$B$37,data!$A$3:$A$1000,\">=\"&DATE(score!$B$1,AP3,AP4),data!$A$3:$A$1000,\"<=\"&DATE(score!$B$1,AQ3,AQ4)),\"\")","v":0},{"$f":"IFERROR(SUMIFS(data!$K$3:$K$1000,data!$B$3:$B$1000,score!$B$37,data!$A$3:$A$1000,\">=\"&DATE(score!$B$1,AQ3,AQ4),data!$A$3:$A$1000,\"<=\"&DATE(score!$B$1,AR3,AR4)),\"\")","v":0},{"$f":"IFERROR(SUMIFS(data!$K$3:$K$1000,data!$B$3:$B$1000,score!$B$37,data!$A$3:$A$1000,\">=\"&DATE(score!$B$1,AR3,AR4),data!$A$3:$A$1000,\"<=\"&DATE(score!$B$1,AS3,AS4)),\"\")","v":0},{"$f":"IFERROR(SUMIFS(data!$K$3:$K$1000,data!$B$3:$B$1000,score!$B$37,data!$A$3:$A$1000,\">=\"&DATE(score!$B$1,AS3,AS4),data!$A$3:$A$1000,\"<=\"&DATE(score!$B$1,AT3,AT4)),\"\")","v":0},{"$f":"IFERROR(SUMIFS(data!$K$3:$K$1000,data!$B$3:$B$1000,score!$B$37,data!$A$3:$A$1000,\">=\"&DATE(score!$B$1,AT3,AT4),data!$A$3:$A$1000,\"<=\"&DATE(score!$B$1,AU3,AU4)),\"\")","v":0},{"$f":"IFERROR(SUMIFS(data!$K$3:$K$1000,data!$B$3:$B$1000,score!$B$37,data!$A$3:$A$1000,\">=\"&DATE(score!$B$1,AU3,AU4),data!$A$3:$A$1000,\"<=\"&DATE(score!$B$1,AV3,AV4)),\"\")","v":0},{"$f":"IFERROR(SUMIFS(data!$K$3:$K$1000,data!$B$3:$B$1000,score!$B$37,data!$A$3:$A$1000,\">=\"&DATE(score!$B$1,AV3,AV4),data!$A$3:$A$1000,\"<=\"&DATE(score!$B$1,AW3,AW4)),\"\")","v":0},{"$f":"IFERROR(SUMIFS(data!$K$3:$K$1000,data!$B$3:$B$1000,score!$B$37,data!$A$3:$A$1000,\">=\"&DATE(score!$B$1,AW3,AW4),data!$A$3:$A$1000,\"<=\"&DATE(score!$B$1,AX3,AX4)),\"\")","v":0},{"$f":"IFERROR(SUMIFS(data!$K$3:$K$1000,data!$B$3:$B$1000,score!$B$37,data!$A$3:$A$1000,\">=\"&DATE(score!$B$1,AX3,AX4),data!$A$3:$A$1000,\"<=\"&DATE(score!$B$1,AY3,AY4)),\"\")","v":0},{"$f":"IFERROR(SUMIFS(data!$K$3:$K$1000,data!$B$3:$B$1000,score!$B$37,data!$A$3:$A$1000,\">=\"&DATE(score!$B$1,AY3,AY4),data!$A$3:$A$1000,\"<=\"&DATE(score!$B$1,AZ3,AZ4)),\"\")","v":0},{"$f":"IFERROR(SUMIFS(data!$K$3:$K$1000,data!$B$3:$B$1000,score!$B$37,data!$A$3:$A$1000,\">=\"&DATE(score!$B$1,AZ3,AZ4),data!$A$3:$A$1000,\"<=\"&DATE(score!$B$1,BA3,BA4)),\"\")","v":0},{"$f":"IFERROR(SUMIFS(data!$K$3:$K$1000,data!$B$3:$B$1000,score!$B$37,data!$A$3:$A$1000,\">=\"&DATE(score!$B$1,BA3,BA4),data!$A$3:$A$1000,\"<=\"&DATE(score!$B$1,BB3,BB4)),\"\")","v":0},{"$f":"IFERROR(SUMIFS(data!$K$3:$K$1000,data!$B$3:$B$1000,score!$B$37,data!$A$3:$A$1000,\">=\"&DATE(score!$B$1,BB3,BB4),data!$A$3:$A$1000,\"<=\"&DATE(score!$B$1,BC3,BC4)),\"\")","v":0}]
[null,null,{"$f":"IFERROR(SUMIFS(data!$K$3:$K$1000,data!$B$3:$B$1000,score!$B$38,data!$A$3:$A$1000,\">=\"&DATE(score!$B$1,C3,C4),data!$A$3:$A$1000,\"<=\"&DATE(score!$B$1,D3,D4)),\"\")","v":0},{"$f":"IFERROR(SUMIFS(data!$K$3:$K$1000,data!$B$3:$B$1000,score!$B$38,data!$A$3:$A$1000,\">=\"&DATE(score!$B$1,D3,D4),data!$A$3:$A$1000,\"<=\"&DATE(score!$B$1,E3,E4)),\"\")","v":0},{"$f":"IFERROR(SUMIFS(data!$K$3:$K$1000,data!$B$3:$B$1000,score!$B$38,data!$A$3:$A$1000,\">=\"&DATE(score!$B$1,E3,E4),data!$A$3:$A$1000,\"<=\"&DATE(score!$B$1,F3,F4)),\"\")","v":0},{"$f":"IFERROR(SUMIFS(data!$K$3:$K$1000,data!$B$3:$B$1000,score!$B$38,data!$A$3:$A$1000,\">=\"&DATE(score!$B$1,F3,F4),data!$A$3:$A$1000,\"<=\"&DATE(score!$B$1,G3,G4)),\"\")","v":0},{"$f":"IFERROR(SUMIFS(data!$K$3:$K$1000,data!$B$3:$B$1000,score!$B$38,data!$A$3:$A$1000,\">=\"&DATE(score!$B$1,G3,G4),data!$A$3:$A$1000,\"<=\"&DATE(score!$B$1,H3,H4)),\"\")","v":0},{"$f":"IFERROR(SUMIFS(data!$K$3:$K$1000,data!$B$3:$B$1000,score!$B$38,data!$A$3:$A$1000,\">=\"&DATE(score!$B$1,H3,H4),data!$A$3:$A$1000,\"<=\"&DATE(score!$B$1,I3,I4)),\"\")","v":0},{"$f":"IFERROR(SUMIFS(data!$K$3:$K$1000,data!$B$3:$B$1000,score!$B$38,data!$A$3:$A$1000,\">=\"&DATE(score!$B$1,I3,I4),data!$A$3:$A$1000,\"<=\"&DATE(score!$B$1,J3,J4)),\"\")","v":0},{"$f":"IFERROR(SUMIFS(data!$K$3:$K$1000,data!$B$3:$B$1000,score!$B$38,data!$A$3:$A$1000,\">=\"&DATE(score!$B$1,J3,J4),data!$A$3:$A$1000,\"<=\"&DATE(score!$B$1,K3,K4)),\"\")","v":0},{"$f":"IFERROR(SUMIFS(data!$K$3:$K$1000,data!$B$3:$B$1000,score!$B$38,data!$A$3:$A$1000,\">=\"&DATE(score!$B$1,K3,K4),data!$A$3:$A$1000,\"<=\"&DATE(score!$B$1,L3,L4)),\"\")","v":0},{"$f":"IFERROR(SUMIFS(data!$K$3:$K$1000,data!$B$3:$B$1000,score!$B$38,data!$A$3:$A$1000,\">=\"&DATE(score!$B$1,L3,L4),data!$A$3:$A$1000,\"<=\"&DATE(score!$B$1,M3,M4)),\"\")","v":0},{"$f":"IFERROR(SUMIFS(data!$K$3:$K$1000,data!$B$3:$B$1000,score!$B$38,data!$A$3:$A$1000,\">=\"&DATE(score!$B$1,M3,M4),data!$A$3:$A$1000,\"<=\"&DATE(score!$B$1,N3,N4)),\"\")","v":0},{"$f":"IFERROR(SUMIFS(data!$K$3:$K$1000,data!$B$3:$B$1000,score!$B$38,data!$A$3:$A$1000,\">=\"&DATE(score!$B$1,N3,N4),data!$A$3:$A$1000,\"<=\"&DATE(score!$B$1,O3,O4)),\"\")","v":0},{"$f":"IFERROR(SUMIFS(data!$K$3:$K$1000,data!$B$3:$B$1000,score!$B$38,data!$A$3:$A$1000,\">=\"&DATE(score!$B$1,O3,O4),data!$A$3:$A$1000,\"<=\"&DATE(score!$B$1,P3,P4)),\"\")","v":0},{"$f":"IFERROR(SUMIFS(data!$K$3:$K$1000,data!$B$3:$B$1000,score!$B$38,data!$A$3:$A$1000,\">=\"&DATE(score!$B$1,P3,P4),data!$A$3:$A$1000,\"<=\"&DATE(score!$B$1,Q3,Q4)),\"\")","v":0},{"$f":"IFERROR(SUMIFS(data!$K$3:$K$1000,data!$B$3:$B$1000,score!$B$38,data!$A$3:$A$1000,\">=\"&DATE(score!$B$1,Q3,Q4),data!$A$3:$A$1000,\"<=\"&DATE(score!$B$1,R3,R4)),\"\")","v":0},{"$f":"IFERROR(SUMIFS(data!$K$3:$K$1000,data!$B$3:$B$1000,score!$B$38,data!$A$3:$A$1000,\">=\"&DATE(score!$B$1,R3,R4),data!$A$3:$A$1000,\"<=\"&DATE(score!$B$1,S3,S4)),\"\")","v":0},{"$f":"IFERROR(SUMIFS(data!$K$3:$K$1000,data!$B$3:$B$1000,score!$B$38,data!$A$3:$A$1000,\">=\"&DATE(score!$B$1,S3,S4),data!$A$3:$A$1000,\"<=\"&DATE(score!$B$1,T3,T4)),\"\")","v":0},{"$f":"IFERROR(SUMIFS(data!$K$3:$K$1000,data!$B$3:$B$1000,score!$B$38,data!$A$3:$A$1000,\">=\"&DATE(score!$B$1,T3,T4),data!$A$3:$A$1000,\"<=\"&DATE(score!$B$1,U3,U4)),\"\")","v":0},{"$f":"IFERROR(SUMIFS(data!$K$3:$K$1000,data!$B$3:$B$1000,score!$B$38,data!$A$3:$A$1000,\">=\"&DATE(score!$B$1,U3,U4),data!$A$3:$A$1000,\"<=\"&DATE(score!$B$1,V3,V4)),\"\")","v":0},{"$f":"IFERROR(SUMIFS(data!$K$3:$K$1000,data!$B$3:$B$1000,score!$B$38,data!$A$3:$A$1000,\">=\"&DATE(score!$B$1,V3,V4),data!$A$3:$A$1000,\"<=\"&DATE(score!$B$1,W3,W4)),\"\")","v":0},{"$f":"IFERROR(SUMIFS(data!$K$3:$K$1000,data!$B$3:$B$1000,score!$B$38,data!$A$3:$A$1000,\">=\"&DATE(score!$B$1,W3,W4),data!$A$3:$A$1000,\"<=\"&DATE(score!$B$1,X3,X4)),\"\")","v":0},{"$f":"IFERROR(SUMIFS(data!$K$3:$K$1000,data!$B$3:$B$1000,score!$B$38,data!$A$3:$A$1000,\">=\"&DATE(score!$B$1,X3,X4),data!$A$3:$A$1000,\"<=\"&DATE(score!$B$1,Y3,Y4)),\"\")","v":0},{"$f":"IFERROR(SUMIFS(data!$K$3:$K$1000,data!$B$3:$B$1000,score!$B$38,data!$A$3:$A$1000,\">=\"&DATE(score!$B$1,Y3,Y4),data!$A$3:$A$1000,\"<=\"&DATE(score!$B$1,Z3,Z4)),\"\")","v":0},{"$f":"IFERROR(SUMIFS(data!$K$3:$K$1000,data!$B$3:$B$1000,score!$B$38,data!$A$3:$A$1000,\">=\"&DATE(score!$B$1,Z3,Z4),data!$A$3:$A$1000,\"<=\"&DATE(score!$B$1,AA3,AA4)),\"\")","v":0},{"$f":"IFERROR(SUMIFS(data!$K$3:$K$1000,data!$B$3:$B$1000,score!$B$38,data!$A$3:$A$1000,\">=\"&DATE(score!$B$1,AA3,AA4),data!$A$3:$A$1000,\"<=\"&DATE(score!$B$1,AB3,AB4)),\"\")","v":0},{"$f":"IFERROR(SUMIFS(data!$K$3:$K$1000,data!$B$3:$B$1000,score!$B$38,data!$A$3:$A$1000,\">=\"&DATE(score!$B$1,AB3,AB4),data!$A$3:$A$1000,\"<=\"&DATE(score!$B$1,AC3,AC4)),\"\")","v":0},{"$f":"IFERROR(SUMIFS(data!$K$3:$K$1000,data!$B$3:$B$1000,score!$B$38,data!$A$3:$A$1000,\">=\"&DATE(score!$B$1,AC3,AC4),data!$A$3:$A$1000,\"<=\"&DATE(score!$B$1,AD3,AD4)),\"\")","v":0},{"$f":"IFERROR(SUMIFS(data!$K$3:$K$1000,data!$B$3:$B$1000,score!$B$38,data!$A$3:$A$1000,\">=\"&DATE(score!$B$1,AD3,AD4),data!$A$3:$A$1000,\"<=\"&DATE(score!$B$1,AE3,AE4)),\"\")","v":0},{"$f":"IFERROR(SUMIFS(data!$K$3:$K$1000,data!$B$3:$B$1000,score!$B$38,data!$A$3:$A$1000,\">=\"&DATE(score!$B$1,AE3,AE4),data!$A$3:$A$1000,\"<=\"&DATE(score!$B$1,AF3,AF4)),\"\")","v":0},{"$f":"IFERROR(SUMIFS(data!$K$3:$K$1000,data!$B$3:$B$1000,score!$B$38,data!$A$3:$A$1000,\">=\"&DATE(score!$B$1,AF3,AF4),data!$A$3:$A$1000,\"<=\"&DATE(score!$B$1,AG3,AG4)),\"\")","v":0},{"$f":"IFERROR(SUMIFS(data!$K$3:$K$1000,data!$B$3:$B$1000,score!$B$38,data!$A$3:$A$1000,\">=\"&DATE(score!$B$1,AG3,AG4),data!$A$3:$A$1000,\"<=\"&DATE(score!$B$1,AH3,AH4)),\"\")","v":0},{"$f":"IFERROR(SUMIFS(data!$K$3:$K$1000,data!$B$3:$B$1000,score!$B$38,data!$A$3:$A$1000,\">=\"&DATE(score!$B$1,AH3,AH4),data!$A$3:$A$1000,\"<=\"&DATE(score!$B$1,AI3,AI4)),\"\")","v":0},{"$f":"IFERROR(SUMIFS(data!$K$3:$K$1000,data!$B$3:$B$1000,score!$B$38,data!$A$3:$A$1000,\">=\"&DATE(score!$B$1,AI3,AI4),data!$A$3:$A$1000,\"<=\"&DATE(score!$B$1,AJ3,AJ4)),\"\")","v":0},{"$f":"IFERROR(SUMIFS(data!$K$3:$K$1000,data!$B$3:$B$1000,score!$B$38,data!$A$3:$A$1000,\">=\"&DATE(score!$B$1,AJ3,AJ4),data!$A$3:$A$1000,\"<=\"&DATE(score!$B$1,AK3,AK4)),\"\")","v":0},{"$f":"IFERROR(SUMIFS(data!$K$3:$K$1000,data!$B$3:$B$1000,score!$B$38,data!$A$3:$A$1000,\">=\"&DATE(score!$B$1,AK3,AK4),data!$A$3:$A$1000,\"<=\"&DATE(score!$B$1,AL3,AL4)),\"\")","v":0},{"$f":"IFERROR(SUMIFS(data!$K$3:$K$1000,data!$B$3:$B$1000,score!$B$38,data!$A$3:$A$1000,\">=\"&DATE(score!$B$1,AL3,AL4),data!$A$3:$A$1000,\"<=\"&DATE(score!$B$1,AM3,AM4)),\"\")","v":0},{"$f":"IFERROR(SUMIFS(data!$K$3:$K$1000,data!$B$3:$B$1000,score!$B$38,data!$A$3:$A$1000,\">=\"&DATE(score!$B$1,AM3,AM4),data!$A$3:$A$1000,\"<=\"&DATE(score!$B$1,AN3,AN4)),\"\")","v":0},{"$f":"IFERROR(SUMIFS(data!$K$3:$K$1000,data!$B$3:$B$1000,score!$B$38,data!$A$3:$A$1000,\">=\"&DATE(score!$B$1,AN3,AN4),data!$A$3:$A$1000,\"<=\"&DATE(score!$B$1,AO3,AO4)),\"\")","v":0},{"$f":"IFERROR(SUMIFS(data!$K$3:$K$1000,data!$B$3:$B$1000,score!$B$38,data!$A$3:$A$1000,\">=\"&DATE(score!$B$1,AO3,AO4),data!$A$3:$A$1000,\"<=\"&DATE(score!$B$1,AP3,AP4)),\"\")","v":0},{"$f":"IFERROR(SUMIFS(data!$K$3:$K$1000,data!$B$3:$B$1000,score!$B$38,data!$A$3:$A$1000,\">=\"&DATE(score!$B$1,AP3,AP4),data!$A$3:$A$1000,\"<=\"&DATE(score!$B$1,AQ3,AQ4)),\"\")","v":0},{"$f":"IFERROR(SUMIFS(data!$K$3:$K$1000,data!$B$3:$B$1000,score!$B$38,data!$A$3:$A$1000,\">=\"&DATE(score!$B$1,AQ3,AQ4),data!$A$3:$A$1000,\"<=\"&DATE(score!$B$1,AR3,AR4)),\"\")","v":0},{"$f":"IFERROR(SUMIFS(data!$K$3:$K$1000,data!$B$3:$B$1000,score!$B$38,data!$A$3:$A$1000,\">=\"&DATE(score!$B$1,AR3,AR4),data!$A$3:$A$1000,\"<=\"&DATE(score!$B$1,AS3,AS4)),\"\")","v":0},{"$f":"IFERROR(SUMIFS(data!$K$3:$K$1000,data!$B$3:$B$1000,score!$B$38,data!$A$3:$A$1000,\">=\"&DATE(score!$B$1,AS3,AS4),data!$A$3:$A$1000,\"<=\"&DATE(score!$B$1,AT3,AT4)),\"\")","v":0},{"$f":"IFERROR(SUMIFS(data!$K$3:$K$1000,data!$B$3:$B$1000,score!$B$38,data!$A$3:$A$1000,\">=\"&DATE(score!$B$1,AT3,AT4),data!$A$3:$A$1000,\"<=\"&DATE(score!$B$1,AU3,AU4)),\"\")","v":0},{"$f":"IFERROR(SUMIFS(data!$K$3:$K$1000,data!$B$3:$B$1000,score!$B$38,data!$A$3:$A$1000,\">=\"&DATE(score!$B$1,AU3,AU4),data!$A$3:$A$1000,\"<=\"&DATE(score!$B$1,AV3,AV4)),\"\")","v":0},{"$f":"IFERROR(SUMIFS(data!$K$3:$K$1000,data!$B$3:$B$1000,score!$B$38,data!$A$3:$A$1000,\">=\"&DATE(score!$B$1,AV3,AV4),data!$A$3:$A$1000,\"<=\"&DATE(score!$B$1,AW3,AW4)),\"\")","v":0},{"$f":"IFERROR(SUMIFS(data!$K$3:$K$1000,data!$B$3:$B$1000,score!$B$38,data!$A$3:$A$1000,\">=\"&DATE(score!$B$1,AW3,AW4),data!$A$3:$A$1000,\"<=\"&DATE(score!$B$1,AX3,AX4)),\"\")","v":0},{"$f":"IFERROR(SUMIFS(data!$K$3:$K$1000,data!$B$3:$B$1000,score!$B$38,data!$A$3:$A$1000,\">=\"&DATE(score!$B$1,AX3,AX4),data!$A$3:$A$1000,\"<=\"&DATE(score!$B$1,AY3,AY4)),\"\")","v":0},{"$f":"IFERROR(SUMIFS(data!$K$3:$K$1000,data!$B$3:$B$1000,score!$B$38,data!$A$3:$A$1000,\">=\"&DATE(score!$B$1,AY3,AY4),data!$A$3:$A$1000,\"<=\"&DATE(score!$B$1,AZ3,AZ4)),\"\")","v":0},{"$f":"IFERROR(SUMIFS(data!$K$3:$K$1000,data!$B$3:$B$1000,score!$B$38,data!$A$3:$A$1000,\">=\"&DATE(score!$B$1,AZ3,AZ4),data!$A$3:$A$1000,\"<=\"&DATE(score!$B$1,BA3,BA4)),\"\")","v":0},{"$f":"IFERROR(SUMIFS(data!$K$3:$K$1000,data!$B$3:$B$1000,score!$B$38,data!$A$3:$A$1000,\">=\"&DATE(score!$B$1,BA3,BA4),data!$A$3:$A$1000,\"<=\"&DATE(score!$B$1,BB3,BB4)),\"\")","v":0},{"$f":"IFERROR(SUMIFS(data!$K$3:$K$1000,data!$B$3:$B$1000,score!$B$38,data!$A$3:$A$1000,\">=\"&DATE(score!$B$1,BB3,BB4),data!$A$3:$A$1000,\"<=\"&DATE(score!$B$1,BC3,BC4)),\"\")","v":0}]
[null,null,{"$f":"IFERROR(SUMIFS(data!$K$3:$K$1000,data!$B$3:$B$1000,score!$B$39,data!$A$3:$A$1000,\">=\"&DATE(score!$B$1,C3,C4),data!$A$3:$A$1000,\"<=\"&DATE(score!$B$1,D3,D4)),\"\")","v":0},{"$f":"IFERROR(SUMIFS(data!$K$3:$K$1000,data!$B$3:$B$1000,score!$B$39,data!$A$3:$A$1000,\">=\"&DATE(score!$B$1,D3,D4),data!$A$3:$A$1000,\"<=\"&DATE(score!$B$1,E3,E4)),\"\")","v":0},{"$f":"IFERROR(SUMIFS(data!$K$3:$K$1000,data!$B$3:$B$1000,score!$B$39,data!$A$3:$A$1000,\">=\"&DATE(score!$B$1,E3,E4),data!$A$3:$A$1000,\"<=\"&DATE(score!$B$1,F3,F4)),\"\")","v":0},{"$f":"IFERROR(SUMIFS(data!$K$3:$K$1000,data!$B$3:$B$1000,score!$B$39,data!$A$3:$A$1000,\">=\"&DATE(score!$B$1,F3,F4),data!$A$3:$A$1000,\"<=\"&DATE(score!$B$1,G3,G4)),\"\")","v":0},{"$f":"IFERROR(SUMIFS(data!$K$3:$K$1000,data!$B$3:$B$1000,score!$B$39,data!$A$3:$A$1000,\">=\"&DATE(score!$B$1,G3,G4),data!$A$3:$A$1000,\"<=\"&DATE(score!$B$1,H3,H4)),\"\")","v":0},{"$f":"IFERROR(SUMIFS(data!$K$3:$K$1000,data!$B$3:$B$1000,score!$B$39,data!$A$3:$A$1000,\">=\"&DATE(score!$B$1,H3,H4),data!$A$3:$A$1000,\"<=\"&DATE(score!$B$1,I3,I4)),\"\")","v":0},{"$f":"IFERROR(SUMIFS(data!$K$3:$K$1000,data!$B$3:$B$1000,score!$B$39,data!$A$3:$A$1000,\">=\"&DATE(score!$B$1,I3,I4),data!$A$3:$A$1000,\"<=\"&DATE(score!$B$1,J3,J4)),\"\")","v":0},{"$f":"IFERROR(SUMIFS(data!$K$3:$K$1000,data!$B$3:$B$1000,score!$B$39,data!$A$3:$A$1000,\">=\"&DATE(score!$B$1,J3,J4),data!$A$3:$A$1000,\"<=\"&DATE(score!$B$1,K3,K4)),\"\")","v":0},{"$f":"IFERROR(SUMIFS(data!$K$3:$K$1000,data!$B$3:$B$1000,score!$B$39,data!$A$3:$A$1000,\">=\"&DATE(score!$B$1,K3,K4),data!$A$3:$A$1000,\"<=\"&DATE(score!$B$1,L3,L4)),\"\")","v":0},{"$f":"IFERROR(SUMIFS(data!$K$3:$K$1000,data!$B$3:$B$1000,score!$B$39,data!$A$3:$A$1000,\">=\"&DATE(score!$B$1,L3,L4),data!$A$3:$A$1000,\"<=\"&DATE(score!$B$1,M3,M4)),\"\")","v":0},{"$f":"IFERROR(SUMIFS(data!$K$3:$K$1000,data!$B$3:$B$1000,score!$B$39,data!$A$3:$A$1000,\">=\"&DATE(score!$B$1,M3,M4),data!$A$3:$A$1000,\"<=\"&DATE(score!$B$1,N3,N4)),\"\")","v":0},{"$f":"IFERROR(SUMIFS(data!$K$3:$K$1000,data!$B$3:$B$1000,score!$B$39,data!$A$3:$A$1000,\">=\"&DATE(score!$B$1,N3,N4),data!$A$3:$A$1000,\"<=\"&DATE(score!$B$1,O3,O4)),\"\")","v":0},{"$f":"IFERROR(SUMIFS(data!$K$3:$K$1000,data!$B$3:$B$1000,score!$B$39,data!$A$3:$A$1000,\">=\"&DATE(score!$B$1,O3,O4),data!$A$3:$A$1000,\"<=\"&DATE(score!$B$1,P3,P4)),\"\")","v":0},{"$f":"IFERROR(SUMIFS(data!$K$3:$K$1000,data!$B$3:$B$1000,score!$B$39,data!$A$3:$A$1000,\">=\"&DATE(score!$B$1,P3,P4),data!$A$3:$A$1000,\"<=\"&DATE(score!$B$1,Q3,Q4)),\"\")","v":0},{"$f":"IFERROR(SUMIFS(data!$K$3:$K$1000,data!$B$3:$B$1000,score!$B$39,data!$A$3:$A$1000,\">=\"&DATE(score!$B$1,Q3,Q4),data!$A$3:$A$1000,\"<=\"&DATE(score!$B$1,R3,R4)),\"\")","v":0},{"$f":"IFERROR(SUMIFS(data!$K$3:$K$1000,data!$B$3:$B$1000,score!$B$39,data!$A$3:$A$1000,\">=\"&DATE(score!$B$1,R3,R4),data!$A$3:$A$1000,\"<=\"&DATE(score!$B$1,S3,S4)),\"\")","v":0},{"$f":"IFERROR(SUMIFS(data!$K$3:$K$1000,data!$B$3:$B$1000,score!$B$39,data!$A$3:$A$1000,\">=\"&DATE(score!$B$1,S3,S4),data!$A$3:$A$1000,\"<=\"&DATE(score!$B$1,T3,T4)),\"\")","v":0},{"$f":"IFERROR(SUMIFS(data!$K$3:$K$1000,data!$B$3:$B$1000,score!$B$39,data!$A$3:$A$1000,\">=\"&DATE(score!$B$1,T3,T4),data!$A$3:$A$1000,\"<=\"&DATE(score!$B$1,U3,U4)),\"\")","v":0},{"$f":"IFERROR(SUMIFS(data!$K$3:$K$1000,data!$B$3:$B$1000,score!$B$39,data!$A$3:$A$1000,\">=\"&DATE(score!$B$1,U3,U4),data!$A$3:$A$1000,\"<=\"&DATE(score!$B$1,V3,V4)),\"\")","v":0},{"$f":"IFERROR(SUMIFS(data!$K$3:$K$1000,data!$B$3:$B$1000,score!$B$39,data!$A$3:$A$1000,\">=\"&DATE(score!$B$1,V3,V4),data!$A$3:$A$1000,\"<=\"&DATE(score!$B$1,W3,W4)),\"\")","v":0},{"$f":"IFERROR(SUMIFS(data!$K$3:$K$1000,data!$B$3:$B$1000,score!$B$39,data!$A$3:$A$1000,\">=\"&DATE(score!$B$1,W3,W4),data!$A$3:$A$1000,\"<=\"&DATE(score!$B$1,X3,X4)),\"\")","v":0},{"$f":"IFERROR(SUMIFS(data!$K$3:$K$1000,data!$B$3:$B$1000,score!$B$39,data!$A$3:$A$1000,\">=\"&DATE(score!$B$1,X3,X4),data!$A$3:$A$1000,\"<=\"&DATE(score!$B$1,Y3,Y4)),\"\")","v":0},{"$f":"IFERROR(SUMIFS(data!$K$3:$K$1000,data!$B$3:$B$1000,score!$B$39,data!$A$3:$A$1000,\">=\"&DATE(score!$B$1,Y3,Y4),data!$A$3:$A$1000,\"<=\"&DATE(score!$B$1,Z3,Z4)),\"\")","v":0},{"$f":"IFERROR(SUMIFS(data!$K$3:$K$1000,data!$B$3:$B$1000,score!$B$39,data!$A$3:$A$1000,\">=\"&DATE(score!$B$1,Z3,Z4),data!$A$3:$A$1000,\"<=\"&DATE(score!$B$1,AA3,AA4)),\"\")","v":0},{"$f":"IFERROR(SUMIFS(data!$K$3:$K$1000,data!$B$3:$B$1000,score!$B$39,data!$A$3:$A$1000,\">=\"&DATE(score!$B$1,AA3,AA4),data!$A$3:$A$1000,\"<=\"&DATE(score!$B$1,AB3,AB4)),\"\")","v":0},{"$f":"IFERROR(SUMIFS(data!$K$3:$K$1000,data!$B$3:$B$1000,score!$B$39,data!$A$3:$A$1000,\">=\"&DATE(score!$B$1,AB3,AB4),data!$A$3:$A$1000,\"<=\"&DATE(score!$B$1,AC3,AC4)),\"\")","v":0},{"$f":"IFERROR(SUMIFS(data!$K$3:$K$1000,data!$B$3:$B$1000,score!$B$39,data!$A$3:$A$1000,\">=\"&DATE(score!$B$1,AC3,AC4),data!$A$3:$A$1000,\"<=\"&DATE(score!$B$1,AD3,AD4)),\"\")","v":0},{"$f":"IFERROR(SUMIFS(data!$K$3:$K$1000,data!$B$3:$B$1000,score!$B$39,data!$A$3:$A$1000,\">=\"&DATE(score!$B$1,AD3,AD4),data!$A$3:$A$1000,\"<=\"&DATE(score!$B$1,AE3,AE4)),\"\")","v":0},{"$f":"IFERROR(SUMIFS(data!$K$3:$K$1000,data!$B$3:$B$1000,score!$B$39,data!$A$3:$A$1000,\">=\"&DATE(score!$B$1,AE3,AE4),data!$A$3:$A$1000,\"<=\"&DATE(score!$B$1,AF3,AF4)),\"\")","v":0},{"$f":"IFERROR(SUMIFS(data!$K$3:$K$1000,data!$B$3:$B$1000,score!$B$39,data!$A$3:$A$1000,\">=\"&DATE(score!$B$1,AF3,AF4),data!$A$3:$A$1000,\"<=\"&DATE(score!$B$1,AG3,AG4)),\"\")","v":0},{"$f":"IFERROR(SUMIFS(data!$K$3:$K$1000,data!$B$3:$B$1000,score!$B$39,data!$A$3:$A$1000,\">=\"&DATE(score!$B$1,AG3,AG4),data!$A$3:$A$1000,\"<=\"&DATE(score!$B$1,AH3,AH4)),\"\")","v":0},{"$f":"IFERROR(SUMIFS(data!$K$3:$K$1000,data!$B$3:$B$1000,score!$B$39,data!$A$3:$A$1000,\">=\"&DATE(score!$B$1,AH3,AH4),data!$A$3:$A$1000,\"<=\"&DATE(score!$B$1,AI3,AI4)),\"\")","v":0},{"$f":"IFERROR(SUMIFS(data!$K$3:$K$1000,data!$B$3:$B$1000,score!$B$39,data!$A$3:$A$1000,\">=\"&DATE(score!$B$1,AI3,AI4),data!$A$3:$A$1000,\"<=\"&DATE(score!$B$1,AJ3,AJ4)),\"\")","v":0},{"$f":"IFERROR(SUMIFS(data!$K$3:$K$1000,data!$B$3:$B$1000,score!$B$39,data!$A$3:$A$1000,\">=\"&DATE(score!$B$1,AJ3,AJ4),data!$A$3:$A$1000,\"<=\"&DATE(score!$B$1,AK3,AK4)),\"\")","v":0},{"$f":"IFERROR(SUMIFS(data!$K$3:$K$1000,data!$B$3:$B$1000,score!$B$39,data!$A$3:$A$1000,\">=\"&DATE(score!$B$1,AK3,AK4),data!$A$3:$A$1000,\"<=\"&DATE(score!$B$1,AL3,AL4)),\"\")","v":0},{"$f":"IFERROR(SUMIFS(data!$K$3:$K$1000,data!$B$3:$B$1000,score!$B$39,data!$A$3:$A$1000,\">=\"&DATE(score!$B$1,AL3,AL4),data!$A$3:$A$1000,\"<=\"&DATE(score!$B$1,AM3,AM4)),\"\")","v":0},{"$f":"IFERROR(SUMIFS(data!$K$3:$K$1000,data!$B$3:$B$1000,score!$B$39,data!$A$3:$A$1000,\">=\"&DATE(score!$B$1,AM3,AM4),data!$A$3:$A$1000,\"<=\"&DATE(score!$B$1,AN3,AN4)),\"\")","v":0},{"$f":"IFERROR(SUMIFS(data!$K$3:$K$1000,data!$B$3:$B$1000,score!$B$39,data!$A$3:$A$1000,\">=\"&DATE(score!$B$1,AN3,AN4),data!$A$3:$A$1000,\"<=\"&DATE(score!$B$1,AO3,AO4)),\"\")","v":0},{"$f":"IFERROR(SUMIFS(data!$K$3:$K$1000,data!$B$3:$B$1000,score!$B$39,data!$A$3:$A$1000,\">=\"&DATE(score!$B$1,AO3,AO4),data!$A$3:$A$1000,\"<=\"&DATE(score!$B$1,AP3,AP4)),\"\")","v":0},{"$f":"IFERROR(SUMIFS(data!$K$3:$K$1000,data!$B$3:$B$1000,score!$B$39,data!$A$3:$A$1000,\">=\"&DATE(score!$B$1,AP3,AP4),data!$A$3:$A$1000,\"<=\"&DATE(score!$B$1,AQ3,AQ4)),\"\")","v":0},{"$f":"IFERROR(SUMIFS(data!$K$3:$K$1000,data!$B$3:$B$1000,score!$B$39,data!$A$3:$A$1000,\">=\"&DATE(score!$B$1,AQ3,AQ4),data!$A$3:$A$1000,\"<=\"&DATE(score!$B$1,AR3,AR4)),\"\")","v":0},{"$f":"IFERROR(SUMIFS(data!$K$3:$K$1000,data!$B$3:$B$1000,score!$B$39,data!$A$3:$A$1000,\">=\"&DATE(score!$B$1,AR3,AR4),data!$A$3:$A$1000,\"<=\"&DATE(score!$B$1,AS3,AS4)),\"\")","v":0},{"$f":"IFERROR(SUMIFS(data!$K$3:$K$1000,data!$B$3:$B$1000,score!$B$39,data!$A$3:$A$1000,\">=\"&DATE(score!$B$1,AS3,AS4),data!$A$3:$A$1000,\"<=\"&DATE(score!$B$1,AT3,AT4)),\"\")","v":0},{"$f":"IFERROR(SUMIFS(data!$K$3:$K$1000,data!$B$3:$B$1000,score!$B$39,data!$A$3:$A$1000,\">=\"&DATE(score!$B$1,AT3,AT4),data!$A$3:$A$1000,\"<=\"&DATE(score!$B$1,AU3,AU4)),\"\")","v":0},{"$f":"IFERROR(SUMIFS(data!$K$3:$K$1000,data!$B$3:$B$1000,score!$B$39,data!$A$3:$A$1000,\">=\"&DATE(score!$B$1,AU3,AU4),data!$A$3:$A$1000,\"<=\"&DATE(score!$B$1,AV3,AV4)),\"\")","v":0},{"$f":"IFERROR(SUMIFS(data!$K$3:$K$1000,data!$B$3:$B$1000,score!$B$39,data!$A$3:$A$1000,\">=\"&DATE(score!$B$1,AV3,AV4),data!$A$3:$A$1000,\"<=\"&DATE(score!$B$1,AW3,AW4)),\"\")","v":0},{"$f":"IFERROR(SUMIFS(data!$K$3:$K$1000,data!$B$3:$B$1000,score!$B$39,data!$A$3:$A$1000,\">=\"&DATE(score!$B$1,AW3,AW4),data!$A$3:$A$1000,\"<=\"&DATE(score!$B$1,AX3,AX4)),\"\")","v":0},{"$f":"IFERROR(SUMIFS(data!$K$3:$K$1000,data!$B$3:$B$1000,score!$B$39,data!$A$3:$A$1000,\">=\"&DATE(score!$B$1,AX3,AX4),data!$A$3:$A$1000,\"<=\"&DATE(score!$B$1,AY3,AY4)),\"\")","v":0},{"$f":"IFERROR(SUMIFS(data!$K$3:$K$1000,data!$B$3:$B$1000,score!$B$39,data!$A$3:$A$1000,\">=\"&DATE(score!$B$1,AY3,AY4),data!$A$3:$A$1000,\"<=\"&DATE(score!$B$1,AZ3,AZ4)),\"\")","v":0},{"$f":"IFERROR(SUMIFS(data!$K$3:$K$1000,data!$B$3:$B$1000,score!$B$39,data!$A$3:$A$1000,\">=\"&DATE(score!$B$1,AZ3,AZ4),data!$A$3:$A$1000,\"<=\"&DATE(score!$B$1,BA3,BA4)),\"\")","v":0},{"$f":"IFERROR(SUMIFS(data!$K$3:$K$1000,data!$B$3:$B$1000,score!$B$39,data!$A$3:$A$1000,\">=\"&DATE(score!$B$1,BA3,BA4),data!$A$3:$A$1000,\"<=\"&DATE(score!$B$1,BB3,BB4)),\"\")","v":0},{"$f":"IFERROR(SUMIFS(data!$K$3:$K$1000,data!$B$3:$B$1000,score!$B$39,data!$A$3:$A$1000,\">=\"&DATE(score!$B$1,BB3,BB4),data!$A$3:$A$1000,\"<=\"&DATE(score!$B$1,BC3,BC4)),\"\")","v":0}]
[null,null,{"$f":"IFERROR(SUMIF(C33:G39,\"<>0\"),\"\")","v":0},null,null,null,null,{"$f":"IFERROR(SUMIF(H33:K39,\"<>0\"),\"\")","v":0},null,null,null,{"$f":"IFERROR(SUMIF(L33:O39,\"<>0\"),\"\")","v":0},null,null,null,{"$f":"IFERROR(SUMIF(P33:T39,\"<>0\"),\"\")","v":0},null,null,null,null,{"$f":"IFERROR(SUMIF(U33:X39,\"<>0\"),\"\")","v":0},null,null,null,{"$f":"IFERROR(SUMIF(Y33:AB39,\"<>0\"),\"\")","v":0},null,null,null,{"$f":"IFERROR(SUMIF(AC33:AG39,\"<>0\"),\"\")","v":0},null,null,null,null,{"$f":"IFERROR(SUMIF(AH33:AK39,\"<>0\"),\"\")","v":0},null,null,null,{"$f":"IFERROR(SUMIF(AL33:AP39,\"<>0\"),\"\")","v":0},null,null,null,null,{"$f":"IFERROR(SUMIF(AQ33:AT39,\"<>0\"),\"\")","v":0},null,null,null,{"$f":"IFERROR(SUMIF(AU33:AX39,\"<>0\"),\"\")","v":0},null,null,null,{"$f":"IFERROR(SUMIF(AY33:BB39,\"<>0\"),\"\")","v":0}]
[]
[]
[null,null,"January",null,null,null,null,"February",null,null,null,"March",null,null,null,"April",null,null,null,null,"May",null,null,null,"June",null,null,null,"July",null,null,null,null,"August",null,null,null,"September",null,null,null,null,"October",null,null,null,"November",null,null,null,"December"]
[null,null,"W1","W2","W3","W4","W5","W6","W7","W8","W9","W10","W11","W12","W13","W14","W15","W16","W17","W18","W19","W20","W21","W22","W23","W24","W25","W26","W27","W28","W29","W30","W31","W32","W33","W34","W35","W36","W37","W38","W39","W40","W41","W42","W43","W44","W45","W46","W47","W48","W49","W50","W51","W52"]
[null,null,{"$f":"IFERROR(SUMIFS(data!$M$3:$M$1000,data!$B$3:$B$1000,score!$B$45,data!$A$3:$A$1000,\">=\"&DATE(score!$B$1,C3,C4),data!$A$3:$A$1000,\"<=\"&DATE(score!$B$1,D3,D4)),\"\")","v":0},{"$f":"IFERROR(SUMIFS(data!$M$3:$M$1000,data!$B$3:$B$1000,score!$B$45,data!$A$3:$A$1000,\">=\"&DATE(score!$B$1,D3,D4),data!$A$3:$A$1000,\"<=\"&DATE(score!$B$1,E3,E4)),\"\")","v":0},{"$f":"IFERROR(SUMIFS(data!$M$3:$M$1000,data!$B$3:$B$1000,score!$B$45,data!$A$3:$A$1000,\">=\"&DATE(score!$B$1,E3,E4),data!$A$3:$A$1000,\"<=\"&DATE(score!$B$1,F3,F4)),\"\")","v":0},{"$f":"IFERROR(SUMIFS(data!$M$3:$M$1000,data!$B$3:$B$1000,score!$B$45,data!$A$3:$A$1000,\">=\"&DATE(score!$B$1,F3,F4),data!$A$3:$A$1000,\"<=\"&DATE(score!$B$1,G3,G4)),\"\")","v":0},{"$f":"IFERROR(SUMIFS(data!$M$3:$M$1000,data!$B$3:$B$1000,score!$B$45,data!$A$3:$A$1000,\">=\"&DATE(score!$B$1,G3,G4),data!$A$3:$A$1000,\"<=\"&DATE(score!$B$1,H3,H4)),\"\")","v":0},{"$f":"IFERROR(SUMIFS(data!$M$3:$M$1000,data!$B$3:$B$1000,score!$B$45,data!$A$3:$A$1000,\">=\"&DATE(score!$B$1,H3,H4),data!$A$3:$A$1000,\"<=\"&DATE(score!$B$1,I3,I4)),\"\")","v":0},{"$f":"IFERROR(SUMIFS(data!$M$3:$M$1000,data!$B$3:$B$1000,score!$B$45,data!$A$3:$A$1000,\">=\"&DATE(score!$B$1,I3,I4),data!$A$3:$A$1000,\"<=\"&DATE(score!$B$1,J3,J4)),\"\")","v":0},{"$f":"IFERROR(SUMIFS(data!$M$3:$M$1000,data!$B$3:$B$1000,score!$B$45,data!$A$3:$A$1000,\">=\"&DATE(score!$B$1,J3,J4),data!$A$3:$A$1000,\"<=\"&DATE(score!$B$1,K3,K4)),\"\")","v":0},{"$f":"IFERROR(SUMIFS(data!$M$3:$M$1000,data!$B$3:$B$1000,score!$B$45,data!$A$3:$A$1000,\">=\"&DATE(score!$B$1,K3,K4),data!$A$3:$A$1000,\"<=\"&DATE(score!$B$1,L3,L4)),\"\")","v":0},{"$f":"IFERROR(SUMIFS(data!$M$3:$M$1000,data!$B$3:$B$1000,score!$B$45,data!$A$3:$A$1000,\">=\"&DATE(score!$B$1,L3,L4),data!$A$3:$A$1000,\"<=\"&DATE(score!$B$1,M3,M4)),\"\")","v":0},{"$f":"IFERROR(SUMIFS(data!$M$3:$M$1000,data!$B$3:$B$1000,score!$B$45,data!$A$3:$A$1000,\">=\"&DATE(score!$B$1,M3,M4),data!$A$3:$A$1000,\"<=\"&DATE(score!$B$1,N3,N4)),\"\")","v":0},{"$f":"IFERROR(SUMIFS(data!$M$3:$M$1000,data!$B$3:$B$1000,score!$B$45,data!$A$3:$A$1000,\">=\"&DATE(score!$B$1,N3,N4),data!$A$3:$A$1000,\"<=\"&DATE(score!$B$1,O3,O4)),\"\")","v":0},{"$f":"IFERROR(SUMIFS(data!$M$3:$M$1000,data!$B$3:$B$1000,score!$B$45,data!$A$3:$A$1000,\">=\"&DATE(score!$B$1,O3,O4),data!$A$3:$A$1000,\"<=\"&DATE(score!$B$1,P3,P4)),\"\")","v":0},{"$f":"IFERROR(SUMIFS(data!$M$3:$M$1000,data!$B$3:$B$1000,score!$B$45,data!$A$3:$A$1000,\">=\"&DATE(score!$B$1,P3,P4),data!$A$3:$A$1000,\"<=\"&DATE(score!$B$1,Q3,Q4)),\"\")","v":0},{"$f":"IFERROR(SUMIFS(data!$M$3:$M$1000,data!$B$3:$B$1000,score!$B$45,data!$A$3:$A$1000,\">=\"&DATE(score!$B$1,Q3,Q4),data!$A$3:$A$1000,\"<=\"&DATE(score!$B$1,R3,R4)),\"\")","v":0},{"$f":"IFERROR(SUMIFS(data!$M$3:$M$1000,data!$B$3:$B$1000,score!$B$45,data!$A$3:$A$1000,\">=\"&DATE(score!$B$1,R3,R4),data!$A$3:$A$1000,\"<=\"&DATE(score!$B$1,S3,S4)),\"\")","v":0},{"$f":"IFERROR(SUMIFS(data!$M$3:$M$1000,data!$B$3:$B$1000,score!$B$45,data!$A$3:$A$1000,\">=\"&DATE(score!$B$1,S3,S4),data!$A$3:$A$1000,\"<=\"&DATE(score!$B$1,T3,T4)),\"\")","v":0},{"$f":"IFERROR(SUMIFS(data!$M$3:$M$1000,data!$B$3:$B$1000,score!$B$45,data!$A$3:$A$1000,\">=\"&DATE(score!$B$1,T3,T4),data!$A$3:$A$1000,\"<=\"&DATE(score!$B$1,U3,U4)),\"\")","v":0},{"$f":"IFERROR(SUMIFS(data!$M$3:$M$1000,data!$B$3:$B$1000,score!$B$45,data!$A$3:$A$1000,\">=\"&DATE(score!$B$1,U3,U4),data!$A$3:$A$1000,\"<=\"&DATE(score!$B$1,V3,V4)),\"\")","v":0},{"$f":"IFERROR(SUMIFS(data!$M$3:$M$1000,data!$B$3:$B$1000,score!$B$45,data!$A$3:$A$1000,\">=\"&DATE(score!$B$1,V3,V4),data!$A$3:$A$1000,\"<=\"&DATE(score!$B$1,W3,W4)),\"\")","v":0},{"$f":"IFERROR(SUMIFS(data!$M$3:$M$1000,data!$B$3:$B$1000,score!$B$45,data!$A$3:$A$1000,\">=\"&DATE(score!$B$1,W3,W4),data!$A$3:$A$1000,\"<=\"&DATE(score!$B$1,X3,X4)),\"\")","v":0},{"$f":"IFERROR(SUMIFS(data!$M$3:$M$1000,data!$B$3:$B$1000,score!$B$45,data!$A$3:$A$1000,\">=\"&DATE(score!$B$1,X3,X4),data!$A$3:$A$1000,\"<=\"&DATE(score!$B$1,Y3,Y4)),\"\")","v":0},{"$f":"IFERROR(SUMIFS(data!$M$3:$M$1000,data!$B$3:$B$1000,score!$B$45,data!$A$3:$A$1000,\">=\"&DATE(score!$B$1,Y3,Y4),data!$A$3:$A$1000,\"<=\"&DATE(score!$B$1,Z3,Z4)),\"\")","v":0},{"$f":"IFERROR(SUMIFS(data!$M$3:$M$1000,data!$B$3:$B$1000,score!$B$45,data!$A$3:$A$1000,\">=\"&DATE(score!$B$1,Z3,Z4),data!$A$3:$A$1000,\"<=\"&DATE(score!$B$1,AA3,AA4)),\"\")","v":0},{"$f":"IFERROR(SUMIFS(data!$M$3:$M$1000,data!$B$3:$B$1000,score!$B$45,data!$A$3:$A$1000,\">=\"&DATE(score!$B$1,AA3,AA4),data!$A$3:$A$1000,\"<=\"&DATE(score!$B$1,AB3,AB4)),\"\")","v":0},{"$f":"IFERROR(SUMIFS(data!$M$3:$M$1000,data!$B$3:$B$1000,score!$B$45,data!$A$3:$A$1000,\">=\"&DATE(score!$B$1,AB3,AB4),data!$A$3:$A$1000,\"<=\"&DATE(score!$B$1,AC3,AC4)),\"\")","v":0},{"$f":"IFERROR(SUMIFS(data!$M$3:$M$1000,data!$B$3:$B$1000,score!$B$45,data!$A$3:$A$1000,\">=\"&DATE(score!$B$1,AC3,AC4),data!$A$3:$A$1000,\"<=\"&DATE(score!$B$1,AD3,AD4)),\"\")","v":0},{"$f":"IFERROR(SUMIFS(data!$M$3:$M$1000,data!$B$3:$B$1000,score!$B$45,data!$A$3:$A$1000,\">=\"&DATE(score!$B$1,AD3,AD4),data!$A$3:$A$1000,\"<=\"&DATE(score!$B$1,AE3,AE4)),\"\")","v":0},{"$f":"IFERROR(SUMIFS(data!$M$3:$M$1000,data!$B$3:$B$1000,score!$B$45,data!$A$3:$A$1000,\">=\"&DATE(score!$B$1,AE3,AE4),data!$A$3:$A$1000,\"<=\"&DATE(score!$B$1,AF3,AF4)),\"\")","v":0},{"$f":"IFERROR(SUMIFS(data!$M$3:$M$1000,data!$B$3:$B$1000,score!$B$45,data!$A$3:$A$1000,\">=\"&DATE(score!$B$1,AF3,AF4),data!$A$3:$A$1000,\"<=\"&DATE(score!$B$1,AG3,AG4)),\"\")","v":0},{"$f":"IFERROR(SUMIFS(data!$M$3:$M$1000,data!$B$3:$B$1000,score!$B$45,data!$A$3:$A$1000,\">=\"&DATE(score!$B$1,AG3,AG4),data!$A$3:$A$1000,\"<=\"&DATE(score!$B$1,AH3,AH4)),\"\")","v":0},{"$f":"IFERROR(SUMIFS(data!$M$3:$M$1000,data!$B$3:$B$1000,score!$B$45,data!$A$3:$A$1000,\">=\"&DATE(score!$B$1,AH3,AH4),data!$A$3:$A$1000,\"<=\"&DATE(score!$B$1,AI3,AI4)),\"\")","v":0},{"$f":"IFERROR(SUMIFS(data!$M$3:$M$1000,data!$B$3:$B$1000,score!$B$45,data!$A$3:$A$1000,\">=\"&DATE(score!$B$1,AI3,AI4),data!$A$3:$A$1000,\"<=\"&DATE(score!$B$1,AJ3,AJ4)),\"\")","v":0},{"$f":"IFERROR(SUMIFS(data!$M$3:$M$1000,data!$B$3:$B$1000,score!$B$45,data!$A$3:$A$1000,\">=\"&DATE(score!$B$1,AJ3,AJ4),data!$A$3:$A$1000,\"<=\"&DATE(score!$B$1,AK3,AK4)),\"\")","v":0},{"$f":"IFERROR(SUMIFS(data!$M$3:$M$1000,data!$B$3:$B$1000,score!$B$45,data!$A$3:$A$1000,\">=\"&DATE(score!$B$1,AK3,AK4),data!$A$3:$A$1000,\"<=\"&DATE(score!$B$1,AL3,AL4)),\"\")","v":0},{"$f":"IFERROR(SUMIFS(data!$M$3:$M$1000,data!$B$3:$B$1000,score!$B$45,data!$A$3:$A$1000,\">=\"&DATE(score!$B$1,AL3,AL4),data!$A$3:$A$1000,\"<=\"&DATE(score!$B$1,AM3,AM4)),\"\")","v":0},{"$f":"IFERROR(SUMIFS(data!$M$3:$M$1000,data!$B$3:$B$1000,score!$B$45,data!$A$3:$A$1000,\">=\"&DATE(score!$B$1,AM3,AM4),data!$A$3:$A$1000,\"<=\"&DATE(score!$B$1,AN3,AN4)),\"\")","v":0},{"$f":"IFERROR(SUMIFS(data!$M$3:$M$1000,data!$B$3:$B$1000,score!$B$45,data!$A$3:$A$1000,\">=\"&DATE(score!$B$1,AN3,AN4),data!$A$3:$A$1000,\"<=\"&DATE(score!$B$1,AO3,AO4)),\"\")","v":0},{"$f":"IFERROR(SUMIFS(data!$M$3:$M$1000,data!$B$3:$B$1000,score!$B$45,data!$A$3:$A$1000,\">=\"&DATE(score!$B$1,AO3,AO4),data!$A$3:$A$1000,\"<=\"&DATE(score!$B$1,AP3,AP4)),\"\")","v":0},{"$f":"IFERROR(SUMIFS(data!$M$3:$M$1000,data!$B$3:$B$1000,score!$B$45,data!$A$3:$A$1000,\">=\"&DATE(score!$B$1,AP3,AP4),data!$A$3:$A$1000,\"<=\"&DATE(score!$B$1,AQ3,AQ4)),\"\")","v":0},{"$f":"IFERROR(SUMIFS(data!$M$3:$M$1000,data!$B$3:$B$1000,score!$B$45,data!$A$3:$A$1000,\">=\"&DATE(score!$B$1,AQ3,AQ4),data!$A$3:$A$1000,\"<=\"&DATE(score!$B$1,AR3,AR4)),\"\")","v":0},{"$f":"IFERROR(SUMIFS(data!$M$3:$M$1000,data!$B$3:$B$1000,score!$B$45,data!$A$3:$A$1000,\">=\"&DATE(score!$B$1,AR3,AR4),data!$A$3:$A$1000,\"<=\"&DATE(score!$B$1,AS3,AS4)),\"\")","v":0},{"$f":"IFERROR(SUMIFS(data!$M$3:$M$1000,data!$B$3:$B$1000,score!$B$45,data!$A$3:$A$1000,\">=\"&DATE(score!$B$1,AS3,AS4),data!$A$3:$A$1000,\"<=\"&DATE(score!$B$1,AT3,AT4)),\"\")","v":0},{"$f":"IFERROR(SUMIFS(data!$M$3:$M$1000,data!$B$3:$B$1000,score!$B$45,data!$A$3:$A$1000,\">=\"&DATE(score!$B$1,AT3,AT4),data!$A$3:$A$1000,\"<=\"&DATE(score!$B$1,AU3,AU4)),\"\")","v":0},{"$f":"IFERROR(SUMIFS(data!$M$3:$M$1000,data!$B$3:$B$1000,score!$B$45,data!$A$3:$A$1000,\">=\"&DATE(score!$B$1,AU3,AU4),data!$A$3:$A$1000,\"<=\"&DATE(score!$B$1,AV3,AV4)),\"\")","v":0},{"$f":"IFERROR(SUMIFS(data!$M$3:$M$1000,data!$B$3:$B$1000,score!$B$45,data!$A$3:$A$1000,\">=\"&DATE(score!$B$1,AV3,AV4),data!$A$3:$A$1000,\"<=\"&DATE(score!$B$1,AW3,AW4)),\"\")","v":0},{"$f":"IFERROR(SUMIFS(data!$M$3:$M$1000,data!$B$3:$B$1000,score!$B$45,data!$A$3:$A$1000,\">=\"&DATE(score!$B$1,AW3,AW4),data!$A$3:$A$1000,\"<=\"&DATE(score!$B$1,AX3,AX4)),\"\")","v":0},{"$f":"IFERROR(SUMIFS(data!$M$3:$M$1000,data!$B$3:$B$1000,score!$B$45,data!$A$3:$A$1000,\">=\"&DATE(score!$B$1,AX3,AX4),data!$A$3:$A$1000,\"<=\"&DATE(score!$B$1,AY3,AY4)),\"\")","v":0},{"$f":"IFERROR(SUMIFS(data!$M$3:$M$1000,data!$B$3:$B$1000,score!$B$45,data!$A$3:$A$1000,\">=\"&DATE(score!$B$1,AY3,AY4),data!$A$3:$A$1000,\"<=\"&DATE(score!$B$1,AZ3,AZ4)),\"\")","v":0},{"$f":"IFERROR(SUMIFS(data!$M$3:$M$1000,data!$B$3:$B$1000,score!$B$45,data!$A$3:$A$1000,\">=\"&DATE(score!$B$1,AZ3,AZ4),data!$A$3:$A$1000,\"<=\"&DATE(score!$B$1,BA3,BA4)),\"\")","v":0},{"$f":"IFERROR(SUMIFS(data!$M$3:$M$1000,data!$B$3:$B$1000,score!$B$45,data!$A$3:$A$1000,\">=\"&DATE(score!$B$1,BA3,BA4),data!$A$3:$A$1000,\"<=\"&DATE(score!$B$1,BB3,BB4)),\"\")","v":0},{"$f":"IFERROR(SUMIFS(data!$M$3:$M$1000,data!$B$3:$B$1000,score!$B$45,data!$A$3:$A$1000,\">=\"&DATE(score!$B$1,BB3,BB4),data!$A$3:$A$1000,\"<=\"&DATE(score!$B$1,BC3,BC4)),\"\")","v":0}]
[null,null,{"$f":"IFERROR(SUMIFS(data!$M$3:$M$1000,data!$B$3:$B$1000,score!$B$46,data!$A$3:$A$1000,\">=\"&DATE(score!$B$1,C3,C4),data!$A$3:$A$1000,\"<=\"&DATE(score!$B$1,D3,D4)),\"\")","v":0},{"$f":"IFERROR(SUMIFS(data!$M$3:$M$1000,data!$B$3:$B$1000,score!$B$46,data!$A$3:$A$1000,\">=\"&DATE(score!$B$1,D3,D4),data!$A$3:$A$1000,\"<=\"&DATE(score!$B$1,E3,E4)),\"\")","v":0},{"$f":"IFERROR(SUMIFS(data!$M$3:$M$1000,data!$B$3:$B$1000,score!$B$46,data!$A$3:$A$1000,\">=\"&DATE(score!$B$1,E3,E4),data!$A$3:$A$1000,\"<=\"&DATE(score!$B$1,F3,F4)),\"\")","v":0},{"$f":"IFERROR(SUMIFS(data!$M$3:$M$1000,data!$B$3:$B$1000,score!$B$46,data!$A$3:$A$1000,\">=\"&DATE(score!$B$1,F3,F4),data!$A$3:$A$1000,\"<=\"&DATE(score!$B$1,G3,G4)),\"\")","v":0},{"$f":"IFERROR(SUMIFS(data!$M$3:$M$1000,data!$B$3:$B$1000,score!$B$46,data!$A$3:$A$1000,\">=\"&DATE(score!$B$1,G3,G4),data!$A$3:$A$1000,\"<=\"&DATE(score!$B$1,H3,H4)),\"\")","v":0},{"$f":"IFERROR(SUMIFS(data!$M$3:$M$1000,data!$B$3:$B$1000,score!$B$46,data!$A$3:$A$1000,\">=\"&DATE(score!$B$1,H3,H4),data!$A$3:$A$1000,\"<=\"&DATE(score!$B$1,I3,I4)),\"\")","v":0},{"$f":"IFERROR(SUMIFS(data!$M$3:$M$1000,data!$B$3:$B$1000,score!$B$46,data!$A$3:$A$1000,\">=\"&DATE(score!$B$1,I3,I4),data!$A$3:$A$1000,\"<=\"&DATE(score!$B$1,J3,J4)),\"\")","v":0},{"$f":"IFERROR(SUMIFS(data!$M$3:$M$1000,data!$B$3:$B$1000,score!$B$46,data!$A$3:$A$1000,\">=\"&DATE(score!$B$1,J3,J4),data!$A$3:$A$1000,\"<=\"&DATE(score!$B$1,K3,K4)),\"\")","v":0},{"$f":"IFERROR(SUMIFS(data!$M$3:$M$1000,data!$B$3:$B$1000,score!$B$46,data!$A$3:$A$1000,\">=\"&DATE(score!$B$1,K3,K4),data!$A$3:$A$1000,\"<=\"&DATE(score!$B$1,L3,L4)),\"\")","v":0},{"$f":"IFERROR(SUMIFS(data!$M$3:$M$1000,data!$B$3:$B$1000,score!$B$46,data!$A$3:$A$1000,\">=\"&DATE(score!$B$1,L3,L4),data!$A$3:$A$1000,\"<=\"&DATE(score!$B$1,M3,M4)),\"\")","v":0},{"$f":"IFERROR(SUMIFS(data!$M$3:$M$1000,data!$B$3:$B$1000,score!$B$46,data!$A$3:$A$1000,\">=\"&DATE(score!$B$1,M3,M4),data!$A$3:$A$1000,\"<=\"&DATE(score!$B$1,N3,N4)),\"\")","v":0},{"$f":"IFERROR(SUMIFS(data!$M$3:$M$1000,data!$B$3:$B$1000,score!$B$46,data!$A$3:$A$1000,\">=\"&DATE(score!$B$1,N3,N4),data!$A$3:$A$1000,\"<=\"&DATE(score!$B$1,O3,O4)),\"\")","v":0},{"$f":"IFERROR(SUMIFS(data!$M$3:$M$1000,data!$B$3:$B$1000,score!$B$46,data!$A$3:$A$1000,\">=\"&DATE(score!$B$1,O3,O4),data!$A$3:$A$1000,\"<=\"&DATE(score!$B$1,P3,P4)),\"\")","v":0},{"$f":"IFERROR(SUMIFS(data!$M$3:$M$1000,data!$B$3:$B$1000,score!$B$46,data!$A$3:$A$1000,\">=\"&DATE(score!$B$1,P3,P4),data!$A$3:$A$1000,\"<=\"&DATE(score!$B$1,Q3,Q4)),\"\")","v":0},{"$f":"IFERROR(SUMIFS(data!$M$3:$M$1000,data!$B$3:$B$1000,score!$B$46,data!$A$3:$A$1000,\">=\"&DATE(score!$B$1,Q3,Q4),data!$A$3:$A$1000,\"<=\"&DATE(score!$B$1,R3,R4)),\"\")","v":0},{"$f":"IFERROR(SUMIFS(data!$M$3:$M$1000,data!$B$3:$B$1000,score!$B$46,data!$A$3:$A$1000,\">=\"&DATE(score!$B$1,R3,R4),data!$A$3:$A$1000,\"<=\"&DATE(score!$B$1,S3,S4)),\"\")","v":0},{"$f":"IFERROR(SUMIFS(data!$M$3:$M$1000,data!$B$3:$B$1000,score!$B$46,data!$A$3:$A$1000,\">=\"&DATE(score!$B$1,S3,S4),data!$A$3:$A$1000,\"<=\"&DATE(score!$B$1,T3,T4)),\"\")","v":0},{"$f":"IFERROR(SUMIFS(data!$M$3:$M$1000,data!$B$3:$B$1000,score!$B$46,data!$A$3:$A$1000,\">=\"&DATE(score!$B$1,T3,T4),data!$A$3:$A$1000,\"<=\"&DATE(score!$B$1,U3,U4)),\"\")","v":0},{"$f":"IFERROR(SUMIFS(data!$M$3:$M$1000,data!$B$3:$B$1000,score!$B$46,data!$A$3:$A$1000,\">=\"&DATE(score!$B$1,U3,U4),data!$A$3:$A$1000,\"<=\"&DATE(score!$B$1,V3,V4)),\"\")","v":0},{"$f":"IFERROR(SUMIFS(data!$M$3:$M$1000,data!$B$3:$B$1000,score!$B$46,data!$A$3:$A$1000,\">=\"&DATE(score!$B$1,V3,V4),data!$A$3:$A$1000,\"<=\"&DATE(score!$B$1,W3,W4)),\"\")","v":0},{"$f":"IFERROR(SUMIFS(data!$M$3:$M$1000,data!$B$3:$B$1000,score!$B$46,data!$A$3:$A$1000,\">=\"&DATE(score!$B$1,W3,W4),data!$A$3:$A$1000,\"<=\"&DATE(score!$B$1,X3,X4)),\"\")","v":0},{"$f":"IFERROR(SUMIFS(data!$M$3:$M$1000,data!$B$3:$B$1000,score!$B$46,data!$A$3:$A$1000,\">=\"&DATE(score!$B$1,X3,X4),data!$A$3:$A$1000,\"<=\"&DATE(score!$B$1,Y3,Y4)),\"\")","v":0},{"$f":"IFERROR(SUMIFS(data!$M$3:$M$1000,data!$B$3:$B$1000,score!$B$46,data!$A$3:$A$1000,\">=\"&DATE(score!$B$1,Y3,Y4),data!$A$3:$A$1000,\"<=\"&DATE(score!$B$1,Z3,Z4)),\"\")","v":0},{"$f":"IFERROR(SUMIFS(data!$M$3:$M$1000,data!$B$3:$B$1000,score!$B$46,data!$A$3:$A$1000,\">=\"&DATE(score!$B$1,Z3,Z4),data!$A$3:$A$1000,\"<=\"&DATE(score!$B$1,AA3,AA4)),\"\")","v":0},{"$f":"IFERROR(SUMIFS(data!$M$3:$M$1000,data!$B$3:$B$1000,score!$B$46,data!$A$3:$A$1000,\">=\"&DATE(score!$B$1,AA3,AA4),data!$A$3:$A$1000,\"<=\"&DATE(score!$B$1,AB3,AB4)),\"\")","v":0},{"$f":"IFERROR(SUMIFS(data!$M$3:$M$1000,data!$B$3:$B$1000,score!$B$46,data!$A$3:$A$1000,\">=\"&DATE(score!$B$1,AB3,AB4),data!$A$3:$A$1000,\"<=\"&DATE(score!$B$1,AC3,AC4)),\"\")","v":0},{"$f":"IFERROR(SUMIFS(data!$M$3:$M$1000,data!$B$3:$B$1000,score!$B$46,data!$A$3:$A$1000,\">=\"&DATE(score!$B$1,AC3,AC4),data!$A$3:$A$1000,\"<=\"&DATE(score!$B$1,AD3,AD4)),\"\")","v":0},{"$f":"IFERROR(SUMIFS(data!$M$3:$M$1000,data!$B$3:$B$1000,score!$B$46,data!$A$3:$A$1000,\">=\"&DATE(score!$B$1,AD3,AD4),data!$A$3:$A$1000,\"<=\"&DATE(score!$B$1,AE3,AE4)),\"\")","v":0},{"$f":"IFERROR(SUMIFS(data!$M$3:$M$1000,data!$B$3:$B$1000,score!$B$46,data!$A$3:$A$1000,\">=\"&DATE(score!$B$1,AE3,AE4),data!$A$3:$A$1000,\"<=\"&DATE(score!$B$1,AF3,AF4)),\"\")","v":0},{"$f":"IFERROR(SUMIFS(data!$M$3:$M$1000,data!$B$3:$B$1000,score!$B$46,data!$A$3:$A$1000,\">=\"&DATE(score!$B$1,AF3,AF4),data!$A$3:$A$1000,\"<=\"&DATE(score!$B$1,AG3,AG4)),\"\")","v":0},{"$f":"IFERROR(SUMIFS(data!$M$3:$M$1000,data!$B$3:$B$1000,score!$B$46,data!$A$3:$A$1000,\">=\"&DATE(score!$B$1,AG3,AG4),data!$A$3:$A$1000,\"<=\"&DATE(score!$B$1,AH3,AH4)),\"\")","v":0},{"$f":"IFERROR(SUMIFS(data!$M$3:$M$1000,data!$B$3:$B$1000,score!$B$46,data!$A$3:$A$1000,\">=\"&DATE(score!$B$1,AH3,AH4),data!$A$3:$A$1000,\"<=\"&DATE(score!$B$1,AI3,AI4)),\"\")","v":0},{"$f":"IFERROR(SUMIFS(data!$M$3:$M$1000,data!$B$3:$B$1000,score!$B$46,data!$A$3:$A$1000,\">=\"&DATE(score!$B$1,AI3,AI4),data!$A$3:$A$1000,\"<=\"&DATE(score!$B$1,AJ3,AJ4)),\"\")","v":0},{"$f":"IFERROR(SUMIFS(data!$M$3:$M$1000,data!$B$3:$B$1000,score!$B$46,data!$A$3:$A$1000,\">=\"&DATE(score!$B$1,AJ3,AJ4),data!$A$3:$A$1000,\"<=\"&DATE(score!$B$1,AK3,AK4)),\"\")","v":0},{"$f":"IFERROR(SUMIFS(data!$M$3:$M$1000,data!$B$3:$B$1000,score!$B$46,data!$A$3:$A$1000,\">=\"&DATE(score!$B$1,AK3,AK4),data!$A$3:$A$1000,\"<=\"&DATE(score!$B$1,AL3,AL4)),\"\")","v":0},{"$f":"IFERROR(SUMIFS(data!$M$3:$M$1000,data!$B$3:$B$1000,score!$B$46,data!$A$3:$A$1000,\">=\"&DATE(score!$B$1,AL3,AL4),data!$A$3:$A$1000,\"<=\"&DATE(score!$B$1,AM3,AM4)),\"\")","v":0},{"$f":"IFERROR(SUMIFS(data!$M$3:$M$1000,data!$B$3:$B$1000,score!$B$46,data!$A$3:$A$1000,\">=\"&DATE(score!$B$1,AM3,AM4),data!$A$3:$A$1000,\"<=\"&DATE(score!$B$1,AN3,AN4)),\"\")","v":0},{"$f":"IFERROR(SUMIFS(data!$M$3:$M$1000,data!$B$3:$B$1000,score!$B$46,data!$A$3:$A$1000,\">=\"&DATE(score!$B$1,AN3,AN4),data!$A$3:$A$1000,\"<=\"&DATE(score!$B$1,AO3,AO4)),\"\")","v":0},{"$f":"IFERROR(SUMIFS(data!$M$3:$M$1000,data!$B$3:$B$1000,score!$B$46,data!$A$3:$A$1000,\">=\"&DATE(score!$B$1,AO3,AO4),data!$A$3:$A$1000,\"<=\"&DATE(score!$B$1,AP3,AP4)),\"\")","v":0},{"$f":"IFERROR(SUMIFS(data!$M$3:$M$1000,data!$B$3:$B$1000,score!$B$46,data!$A$3:$A$1000,\">=\"&DATE(score!$B$1,AP3,AP4),data!$A$3:$A$1000,\"<=\"&DATE(score!$B$1,AQ3,AQ4)),\"\")","v":0},{"$f":"IFERROR(SUMIFS(data!$M$3:$M$1000,data!$B$3:$B$1000,score!$B$46,data!$A$3:$A$1000,\">=\"&DATE(score!$B$1,AQ3,AQ4),data!$A$3:$A$1000,\"<=\"&DATE(score!$B$1,AR3,AR4)),\"\")","v":0},{"$f":"IFERROR(SUMIFS(data!$M$3:$M$1000,data!$B$3:$B$1000,score!$B$46,data!$A$3:$A$1000,\">=\"&DATE(score!$B$1,AR3,AR4),data!$A$3:$A$1000,\"<=\"&DATE(score!$B$1,AS3,AS4)),\"\")","v":0},{"$f":"IFERROR(SUMIFS(data!$M$3:$M$1000,data!$B$3:$B$1000,score!$B$46,data!$A$3:$A$1000,\">=\"&DATE(score!$B$1,AS3,AS4),data!$A$3:$A$1000,\"<=\"&DATE(score!$B$1,AT3,AT4)),\"\")","v":0},{"$f":"IFERROR(SUMIFS(data!$M$3:$M$1000,data!$B$3:$B$1000,score!$B$46,data!$A$3:$A$1000,\">=\"&DATE(score!$B$1,AT3,AT4),data!$A$3:$A$1000,\"<=\"&DATE(score!$B$1,AU3,AU4)),\"\")","v":0},{"$f":"IFERROR(SUMIFS(data!$M$3:$M$1000,data!$B$3:$B$1000,score!$B$46,data!$A$3:$A$1000,\">=\"&DATE(score!$B$1,AU3,AU4),data!$A$3:$A$1000,\"<=\"&DATE(score!$B$1,AV3,AV4)),\"\")","v":0},{"$f":"IFERROR(SUMIFS(data!$M$3:$M$1000,data!$B$3:$B$1000,score!$B$46,data!$A$3:$A$1000,\">=\"&DATE(score!$B$1,AV3,AV4),data!$A$3:$A$1000,\"<=\"&DATE(score!$B$1,AW3,AW4)),\"\")","v":0},{"$f":"IFERROR(SUMIFS(data!$M$3:$M$1000,data!$B$3:$B$1000,score!$B$46,data!$A$3:$A$1000,\">=\"&DATE(score!$B$1,AW3,AW4),data!$A$3:$A$1000,\"<=\"&DATE(score!$B$1,AX3,AX4)),\"\")","v":0},{"$f":"IFERROR(SUMIFS(data!$M$3:$M$1000,data!$B$3:$B$1000,score!$B$46,data!$A$3:$A$1000,\">=\"&DATE(score!$B$1,AX3,AX4),data!$A$3:$A$1000,\"<=\"&DATE(score!$B$1,AY3,AY4)),\"\")","v":0},{"$f":"IFERROR(SUMIFS(data!$M$3:$M$1000,data!$B$3:$B$1000,score!$B$46,data!$A$3:$A$1000,\">=\"&DATE(score!$B$1,AY3,AY4),data!$A$3:$A$1000,\"<=\"&DATE(score!$B$1,AZ3,AZ4)),\"\")","v":0},{"$f":"IFERROR(SUMIFS(data!$M$3:$M$1000,data!$B$3:$B$1000,score!$B$46,data!$A$3:$A$1000,\">=\"&DATE(score!$B$1,AZ3,AZ4),data!$A$3:$A$1000,\"<=\"&DATE(score!$B$1,BA3,BA4)),\"\")","v":0},{"$f":"IFERROR(SUMIFS(data!$M$3:$M$1000,data!$B$3:$B$1000,score!$B$46,data!$A$3:$A$1000,\">=\"&DATE(score!$B$1,BA3,BA4),data!$A$3:$A$1000,\"<=\"&DATE(score!$B$1,BB3,BB4)),\"\")","v":0},{"$f":"IFERROR(SUMIFS(data!$M$3:$M$1000,data!$B$3:$B$1000,score!$B$46,data!$A$3:$A$1000,\">=\"&DATE(score!$B$1,BB3,BB4),data!$A$3:$A$1000,\"<=\"&DATE(score!$B$1,BC3,BC4)),\"\")","v":0}]
[null,null,{"$f":"IFERROR(SUMIFS(data!$M$3:$M$1000,data!$B$3:$B$1000,score!$B$47,data!$A$3:$A$1000,\">=\"&DATE(score!$B$1,C3,C4),data!$A$3:$A$1000,\"<=\"&DATE(score!$B$1,D3,D4)),\"\")","v":0},{"$f":"IFERROR(SUMIFS(data!$M$3:$M$1000,data!$B$3:$B$1000,score!$B$47,data!$A$3:$A$1000,\">=\"&DATE(score!$B$1,D3,D4),data!$A$3:$A$1000,\"<=\"&DATE(score!$B$1,E3,E4)),\"\")","v":0},{"$f":"IFERROR(SUMIFS(data!$M$3:$M$1000,data!$B$3:$B$1000,score!$B$47,data!$A$3:$A$1000,\">=\"&DATE(score!$B$1,E3,E4),data!$A$3:$A$1000,\"<=\"&DATE(score!$B$1,F3,F4)),\"\")","v":0},{"$f":"IFERROR(SUMIFS(data!$M$3:$M$1000,data!$B$3:$B$1000,score!$B$47,data!$A$3:$A$1000,\">=\"&DATE(score!$B$1,F3,F4),data!$A$3:$A$1000,\"<=\"&DATE(score!$B$1,G3,G4)),\"\")","v":0},{"$f":"IFERROR(SUMIFS(data!$M$3:$M$1000,data!$B$3:$B$1000,score!$B$47,data!$A$3:$A$1000,\">=\"&DATE(score!$B$1,G3,G4),data!$A$3:$A$1000,\"<=\"&DATE(score!$B$1,H3,H4)),\"\")","v":0},{"$f":"IFERROR(SUMIFS(data!$M$3:$M$1000,data!$B$3:$B$1000,score!$B$47,data!$A$3:$A$1000,\">=\"&DATE(score!$B$1,H3,H4),data!$A$3:$A$1000,\"<=\"&DATE(score!$B$1,I3,I4)),\"\")","v":0},{"$f":"IFERROR(SUMIFS(data!$M$3:$M$1000,data!$B$3:$B$1000,score!$B$47,data!$A$3:$A$1000,\">=\"&DATE(score!$B$1,I3,I4),data!$A$3:$A$1000,\"<=\"&DATE(score!$B$1,J3,J4)),\"\")","v":0},{"$f":"IFERROR(SUMIFS(data!$M$3:$M$1000,data!$B$3:$B$1000,score!$B$47,data!$A$3:$A$1000,\">=\"&DATE(score!$B$1,J3,J4),data!$A$3:$A$1000,\"<=\"&DATE(score!$B$1,K3,K4)),\"\")","v":0},{"$f":"IFERROR(SUMIFS(data!$M$3:$M$1000,data!$B$3:$B$1000,score!$B$47,data!$A$3:$A$1000,\">=\"&DATE(score!$B$1,K3,K4),data!$A$3:$A$1000,\"<=\"&DATE(score!$B$1,L3,L4)),\"\")","v":0},{"$f":"IFERROR(SUMIFS(data!$M$3:$M$1000,data!$B$3:$B$1000,score!$B$47,data!$A$3:$A$1000,\">=\"&DATE(score!$B$1,L3,L4),data!$A$3:$A$1000,\"<=\"&DATE(score!$B$1,M3,M4)),\"\")","v":0},{"$f":"IFERROR(SUMIFS(data!$M$3:$M$1000,data!$B$3:$B$1000,score!$B$47,data!$A$3:$A$1000,\">=\"&DATE(score!$B$1,M3,M4),data!$A$3:$A$1000,\"<=\"&DATE(score!$B$1,N3,N4)),\"\")","v":0},{"$f":"IFERROR(SUMIFS(data!$M$3:$M$1000,data!$B$3:$B$1000,score!$B$47,data!$A$3:$A$1000,\">=\"&DATE(score!$B$1,N3,N4),data!$A$3:$A$1000,\"<=\"&DATE(score!$B$1,O3,O4)),\"\")","v":0},{"$f":"IFERROR(SUMIFS(data!$M$3:$M$1000,data!$B$3:$B$1000,score!$B$47,data!$A$3:$A$1000,\">=\"&DATE(score!$B$1,O3,O4),data!$A$3:$A$1000,\"<=\"&DATE(score!$B$1,P3,P4)),\"\")","v":0},{"$f":"IFERROR(SUMIFS(data!$M$3:$M$1000,data!$B$3:$B$1000,score!$B$47,data!$A$3:$A$1000,\">=\"&DATE(score!$B$1,P3,P4),data!$A$3:$A$1000,\"<=\"&DATE(score!$B$1,Q3,Q4)),\"\")","v":0},{"$f":"IFERROR(SUMIFS(data!$M$3:$M$1000,data!$B$3:$B$1000,score!$B$47,data!$A$3:$A$1000,\">=\"&DATE(score!$B$1,Q3,Q4),data!$A$3:$A$1000,\"<=\"&DATE(score!$B$1,R3,R4)),\"\")","v":0},{"$f":"IFERROR(SUMIFS(data!$M$3:$M$1000,data!$B$3:$B$1000,score!$B$47,data!$A$3:$A$1000,\">=\"&DATE(score!$B$1,R3,R4),data!$A$3:$A$1000,\"<=\"&DATE(score!$B$1,S3,S4)),\"\")","v":0},{"$f":"IFERROR(SUMIFS(data!$M$3:$M$1000,data!$B$3:$B$1000,score!$B$47,data!$A$3:$A$1000,\">=\"&DATE(score!$B$1,S3,S4),data!$A$3:$A$1000,\"<=\"&DATE(score!$B$1,T3,T4)),\"\")","v":0},{"$f":"IFERROR(SUMIFS(data!$M$3:$M$1000,data!$B$3:$B$1000,score!$B$47,data!$A$3:$A$1000,\">=\"&DATE(score!$B$1,T3,T4),data!$A$3:$A$1000,\"<=\"&DATE(score!$B$1,U3,U4)),\"\")","v":0},{"$f":"IFERROR(SUMIFS(data!$M$3:$M$1000,data!$B$3:$B$1000,score!$B$47,data!$A$3:$A$1000,\">=\"&DATE(score!$B$1,U3,U4),data!$A$3:$A$1000,\"<=\"&DATE(score!$B$1,V3,V4)),\"\")","v":0},{"$f":"IFERROR(SUMIFS(data!$M$3:$M$1000,data!$B$3:$B$1000,score!$B$47,data!$A$3:$A$1000,\">=\"&DATE(score!$B$1,V3,V4),data!$A$3:$A$1000,\"<=\"&DATE(score!$B$1,W3,W4)),\"\")","v":0},{"$f":"IFERROR(SUMIFS(data!$M$3:$M$1000,data!$B$3:$B$1000,score!$B$47,data!$A$3:$A$1000,\">=\"&DATE(score!$B$1,W3,W4),data!$A$3:$A$1000,\"<=\"&DATE(score!$B$1,X3,X4)),\"\")","v":0},{"$f":"IFERROR(SUMIFS(data!$M$3:$M$1000,data!$B$3:$B$1000,score!$B$47,data!$A$3:$A$1000,\">=\"&DATE(score!$B$1,X3,X4),data!$A$3:$A$1000,\"<=\"&DATE(score!$B$1,Y3,Y4)),\"\")","v":0},{"$f":"IFERROR(SUMIFS(data!$M$3:$M$1000,data!$B$3:$B$1000,score!$B$47,data!$A$3:$A$1000,\">=\"&DATE(score!$B$1,Y3,Y4),data!$A$3:$A$1000,\"<=\"&DATE(score!$B$1,Z3,Z4)),\"\")","v":0},{"$f":"IFERROR(SUMIFS(data!$M$3:$M$1000,data!$B$3:$B$1000,score!$B$47,data!$A$3:$A$1000,\">=\"&DATE(score!$B$1,Z3,Z4),data!$A$3:$A$1000,\"<=\"&DATE(score!$B$1,AA3,AA4)),\"\")","v":0},{"$f":"IFERROR(SUMIFS(data!$M$3:$M$1000,data!$B$3:$B$1000,score!$B$47,data!$A$3:$A$1000,\">=\"&DATE(score!$B$1,AA3,AA4),data!$A$3:$A$1000,\"<=\"&DATE(score!$B$1,AB3,AB4)),\"\")","v":0},{"$f":"IFERROR(SUMIFS(data!$M$3:$M$1000,data!$B$3:$B$1000,score!$B$47,data!$A$3:$A$1000,\">=\"&DATE(score!$B$1,AB3,AB4),data!$A$3:$A$1000,\"<=\"&DATE(score!$B$1,AC3,AC4)),\"\")","v":0},{"$f":"IFERROR(SUMIFS(data!$M$3:$M$1000,data!$B$3:$B$1000,score!$B$47,data!$A$3:$A$1000,\">=\"&DATE(score!$B$1,AC3,AC4),data!$A$3:$A$1000,\"<=\"&DATE(score!$B$1,AD3,AD4)),\"\")","v":0},{"$f":"IFERROR(SUMIFS(data!$M$3:$M$1000,data!$B$3:$B$1000,score!$B$47,data!$A$3:$A$1000,\">=\"&DATE(score!$B$1,AD3,AD4),data!$A$3:$A$1000,\"<=\"&DATE(score!$B$1,AE3,AE4)),\"\")","v":0},{"$f":"IFERROR(SUMIFS(data!$M$3:$M$1000,data!$B$3:$B$1000,score!$B$47,data!$A$3:$A$1000,\">=\"&DATE(score!$B$1,AE3,AE4),data!$A$3:$A$1000,\"<=\"&DATE(score!$B$1,AF3,AF4)),\"\")","v":0},{"$f":"IFERROR(SUMIFS(data!$M$3:$M$1000,data!$B$3:$B$1000,score!$B$47,data!$A$3:$A$1000,\">=\"&DATE(score!$B$1,AF3,AF4),data!$A$3:$A$1000,\"<=\"&DATE(score!$B$1,AG3,AG4)),\"\")","v":0},{"$f":"IFERROR(SUMIFS(data!$M$3:$M$1000,data!$B$3:$B$1000,score!$B$47,data!$A$3:$A$1000,\">=\"&DATE(score!$B$1,AG3,AG4),data!$A$3:$A$1000,\"<=\"&DATE(score!$B$1,AH3,AH4)),\"\")","v":0},{"$f":"IFERROR(SUMIFS(data!$M$3:$M$1000,data!$B$3:$B$1000,score!$B$47,data!$A$3:$A$1000,\">=\"&DATE(score!$B$1,AH3,AH4),data!$A$3:$A$1000,\"<=\"&DATE(score!$B$1,AI3,AI4)),\"\")","v":0},{"$f":"IFERROR(SUMIFS(data!$M$3:$M$1000,data!$B$3:$B$1000,score!$B$47,data!$A$3:$A$1000,\">=\"&DATE(score!$B$1,AI3,AI4),data!$A$3:$A$1000,\"<=\"&DATE(score!$B$1,AJ3,AJ4)),\"\")","v":0},{"$f":"IFERROR(SUMIFS(data!$M$3:$M$1000,data!$B$3:$B$1000,score!$B$47,data!$A$3:$A$1000,\">=\"&DATE(score!$B$1,AJ3,AJ4),data!$A$3:$A$1000,\"<=\"&DATE(score!$B$1,AK3,AK4)),\"\")","v":0},{"$f":"IFERROR(SUMIFS(data!$M$3:$M$1000,data!$B$3:$B$1000,score!$B$47,data!$A$3:$A$1000,\">=\"&DATE(score!$B$1,AK3,AK4),data!$A$3:$A$1000,\"<=\"&DATE(score!$B$1,AL3,AL4)),\"\")","v":0},{"$f":"IFERROR(SUMIFS(data!$M$3:$M$1000,data!$B$3:$B$1000,score!$B$47,data!$A$3:$A$1000,\">=\"&DATE(score!$B$1,AL3,AL4),data!$A$3:$A$1000,\"<=\"&DATE(score!$B$1,AM3,AM4)),\"\")","v":0},{"$f":"IFERROR(SUMIFS(data!$M$3:$M$1000,data!$B$3:$B$1000,score!$B$47,data!$A$3:$A$1000,\">=\"&DATE(score!$B$1,AM3,AM4),data!$A$3:$A$1000,\"<=\"&DATE(score!$B$1,AN3,AN4)),\"\")","v":0},{"$f":"IFERROR(SUMIFS(data!$M$3:$M$1000,data!$B$3:$B$1000,score!$B$47,data!$A$3:$A$1000,\">=\"&DATE(score!$B$1,AN3,AN4),data!$A$3:$A$1000,\"<=\"&DATE(score!$B$1,AO3,AO4)),\"\")","v":0},{"$f":"IFERROR(SUMIFS(data!$M$3:$M$1000,data!$B$3:$B$1000,score!$B$47,data!$A$3:$A$1000,\">=\"&DATE(score!$B$1,AO3,AO4),data!$A$3:$A$1000,\"<=\"&DATE(score!$B$1,AP3,AP4)),\"\")","v":0},{"$f":"IFERROR(SUMIFS(data!$M$3:$M$1000,data!$B$3:$B$1000,score!$B$47,data!$A$3:$A$1000,\">=\"&DATE(score!$B$1,AP3,AP4),data!$A$3:$A$1000,\"<=\"&DATE(score!$B$1,AQ3,AQ4)),\"\")","v":0},{"$f":"IFERROR(SUMIFS(data!$M$3:$M$1000,data!$B$3:$B$1000,score!$B$47,data!$A$3:$A$1000,\">=\"&DATE(score!$B$1,AQ3,AQ4),data!$A$3:$A$1000,\"<=\"&DATE(score!$B$1,AR3,AR4)),\"\")","v":0},{"$f":"IFERROR(SUMIFS(data!$M$3:$M$1000,data!$B$3:$B$1000,score!$B$47,data!$A$3:$A$1000,\">=\"&DATE(score!$B$1,AR3,AR4),data!$A$3:$A$1000,\"<=\"&DATE(score!$B$1,AS3,AS4)),\"\")","v":0},{"$f":"IFERROR(SUMIFS(data!$M$3:$M$1000,data!$B$3:$B$1000,score!$B$47,data!$A$3:$A$1000,\">=\"&DATE(score!$B$1,AS3,AS4),data!$A$3:$A$1000,\"<=\"&DATE(score!$B$1,AT3,AT4)),\"\")","v":0},{"$f":"IFERROR(SUMIFS(data!$M$3:$M$1000,data!$B$3:$B$1000,score!$B$47,data!$A$3:$A$1000,\">=\"&DATE(score!$B$1,AT3,AT4),data!$A$3:$A$1000,\"<=\"&DATE(score!$B$1,AU3,AU4)),\"\")","v":0},{"$f":"IFERROR(SUMIFS(data!$M$3:$M$1000,data!$B$3:$B$1000,score!$B$47,data!$A$3:$A$1000,\">=\"&DATE(score!$B$1,AU3,AU4),data!$A$3:$A$1000,\"<=\"&DATE(score!$B$1,AV3,AV4)),\"\")","v":0},{"$f":"IFERROR(SUMIFS(data!$M$3:$M$1000,data!$B$3:$B$1000,score!$B$47,data!$A$3:$A$1000,\">=\"&DATE(score!$B$1,AV3,AV4),data!$A$3:$A$1000,\"<=\"&DATE(score!$B$1,AW3,AW4)),\"\")","v":0},{"$f":"IFERROR(SUMIFS(data!$M$3:$M$1000,data!$B$3:$B$1000,score!$B$47,data!$A$3:$A$1000,\">=\"&DATE(score!$B$1,AW3,AW4),data!$A$3:$A$1000,\"<=\"&DATE(score!$B$1,AX3,AX4)),\"\")","v":0},{"$f":"IFERROR(SUMIFS(data!$M$3:$M$1000,data!$B$3:$B$1000,score!$B$47,data!$A$3:$A$1000,\">=\"&DATE(score!$B$1,AX3,AX4),data!$A$3:$A$1000,\"<=\"&DATE(score!$B$1,AY3,AY4)),\"\")","v":0},{"$f":"IFERROR(SUMIFS(data!$M$3:$M$1000,data!$B$3:$B$1000,score!$B$47,data!$A$3:$A$1000,\">=\"&DATE(score!$B$1,AY3,AY4),data!$A$3:$A$1000,\"<=\"&DATE(score!$B$1,AZ3,AZ4)),\"\")","v":0},{"$f":"IFERROR(SUMIFS(data!$M$3:$M$1000,data!$B$3:$B$1000,score!$B$47,data!$A$3:$A$1000,\">=\"&DATE(score!$B$1,AZ3,AZ4),data!$A$3:$A$1000,\"<=\"&DATE(score!$B$1,BA3,BA4)),\"\")","v":0},{"$f":"IFERROR(SUMIFS(data!$M$3:$M$1000,data!$B$3:$B$1000,score!$B$47,data!$A$3:$A$1000,\">=\"&DATE(score!$B$1,BA3,BA4),data!$A$3:$A$1000,\"<=\"&DATE(score!$B$1,BB3,BB4)),\"\")","v":0},{"$f":"IFERROR(SUMIFS(data!$M$3:$M$1000,data!$B$3:$B$1000,score!$B$47,data!$A$3:$A$1000,\">=\"&DATE(score!$B$1,BB3,BB4),data!$A$3:$A$1000,\"<=\"&DATE(score!$B$1,BC3,BC4)),\"\")","v":0}]
[null,null,{"$f":"IFERROR(SUMIFS(data!$M$3:$M$1000,data!$B$3:$B$1000,score!$B$48,data!$A$3:$A$1000,\">=\"&DATE(score!$B$1,C3,C4),data!$A$3:$A$1000,\"<=\"&DATE(score!$B$1,D3,D4)),\"\")","v":0},{"$f":"IFERROR(SUMIFS(data!$M$3:$M$1000,data!$B$3:$B$1000,score!$B$48,data!$A$3:$A$1000,\">=\"&DATE(score!$B$1,D3,D4),data!$A$3:$A$1000,\"<=\"&DATE(score!$B$1,E3,E4)),\"\")","v":0},{"$f":"IFERROR(SUMIFS(data!$M$3:$M$1000,data!$B$3:$B$1000,score!$B$48,data!$A$3:$A$1000,\">=\"&DATE(score!$B$1,E3,E4),data!$A$3:$A$1000,\"<=\"&DATE(score!$B$1,F3,F4)),\"\")","v":0},{"$f":"IFERROR(SUMIFS(data!$M$3:$M$1000,data!$B$3:$B$1000,score!$B$48,data!$A$3:$A$1000,\">=\"&DATE(score!$B$1,F3,F4),data!$A$3:$A$1000,\"<=\"&DATE(score!$B$1,G3,G4)),\"\")","v":0},{"$f":"IFERROR(SUMIFS(data!$M$3:$M$1000,data!$B$3:$B$1000,score!$B$48,data!$A$3:$A$1000,\">=\"&DATE(score!$B$1,G3,G4),data!$A$3:$A$1000,\"<=\"&DATE(score!$B$1,H3,H4)),\"\")","v":0},{"$f":"IFERROR(SUMIFS(data!$M$3:$M$1000,data!$B$3:$B$1000,score!$B$48,data!$A$3:$A$1000,\">=\"&DATE(score!$B$1,H3,H4),data!$A$3:$A$1000,\"<=\"&DATE(score!$B$1,I3,I4)),\"\")","v":0},{"$f":"IFERROR(SUMIFS(data!$M$3:$M$1000,data!$B$3:$B$1000,score!$B$48,data!$A$3:$A$1000,\">=\"&DATE(score!$B$1,I3,I4),data!$A$3:$A$1000,\"<=\"&DATE(score!$B$1,J3,J4)),\"\")","v":0},{"$f":"IFERROR(SUMIFS(data!$M$3:$M$1000,data!$B$3:$B$1000,score!$B$48,data!$A$3:$A$1000,\">=\"&DATE(score!$B$1,J3,J4),data!$A$3:$A$1000,\"<=\"&DATE(score!$B$1,K3,K4)),\"\")","v":0},{"$f":"IFERROR(SUMIFS(data!$M$3:$M$1000,data!$B$3:$B$1000,score!$B$48,data!$A$3:$A$1000,\">=\"&DATE(score!$B$1,K3,K4),data!$A$3:$A$1000,\"<=\"&DATE(score!$B$1,L3,L4)),\"\")","v":0},{"$f":"IFERROR(SUMIFS(data!$M$3:$M$1000,data!$B$3:$B$1000,score!$B$48,data!$A$3:$A$1000,\">=\"&DATE(score!$B$1,L3,L4),data!$A$3:$A$1000,\"<=\"&DATE(score!$B$1,M3,M4)),\"\")","v":0},{"$f":"IFERROR(SUMIFS(data!$M$3:$M$1000,data!$B$3:$B$1000,score!$B$48,data!$A$3:$A$1000,\">=\"&DATE(score!$B$1,M3,M4),data!$A$3:$A$1000,\"<=\"&DATE(score!$B$1,N3,N4)),\"\")","v":0},{"$f":"IFERROR(SUMIFS(data!$M$3:$M$1000,data!$B$3:$B$1000,score!$B$48,data!$A$3:$A$1000,\">=\"&DATE(score!$B$1,N3,N4),data!$A$3:$A$1000,\"<=\"&DATE(score!$B$1,O3,O4)),\"\")","v":0},{"$f":"IFERROR(SUMIFS(data!$M$3:$M$1000,data!$B$3:$B$1000,score!$B$48,data!$A$3:$A$1000,\">=\"&DATE(score!$B$1,O3,O4),data!$A$3:$A$1000,\"<=\"&DATE(score!$B$1,P3,P4)),\"\")","v":0},{"$f":"IFERROR(SUMIFS(data!$M$3:$M$1000,data!$B$3:$B$1000,score!$B$48,data!$A$3:$A$1000,\">=\"&DATE(score!$B$1,P3,P4),data!$A$3:$A$1000,\"<=\"&DATE(score!$B$1,Q3,Q4)),\"\")","v":0},{"$f":"IFERROR(SUMIFS(data!$M$3:$M$1000,data!$B$3:$B$1000,score!$B$48,data!$A$3:$A$1000,\">=\"&DATE(score!$B$1,Q3,Q4),data!$A$3:$A$1000,\"<=\"&DATE(score!$B$1,R3,R4)),\"\")","v":0},{"$f":"IFERROR(SUMIFS(data!$M$3:$M$1000,data!$B$3:$B$1000,score!$B$48,data!$A$3:$A$1000,\">=\"&DATE(score!$B$1,R3,R4),data!$A$3:$A$1000,\"<=\"&DATE(score!$B$1,S3,S4)),\"\")","v":0},{"$f":"IFERROR(SUMIFS(data!$M$3:$M$1000,data!$B$3:$B$1000,score!$B$48,data!$A$3:$A$1000,\">=\"&DATE(score!$B$1,S3,S4),data!$A$3:$A$1000,\"<=\"&DATE(score!$B$1,T3,T4)),\"\")","v":0},{"$f":"IFERROR(SUMIFS(data!$M$3:$M$1000,data!$B$3:$B$1000,score!$B$48,data!$A$3:$A$1000,\">=\"&DATE(score!$B$1,T3,T4),data!$A$3:$A$1000,\"<=\"&DATE(score!$B$1,U3,U4)),\"\")","v":0},{"$f":"IFERROR(SUMIFS(data!$M$3:$M$1000,data!$B$3:$B$1000,score!$B$48,data!$A$3:$A$1000,\">=\"&DATE(score!$B$1,U3,U4),data!$A$3:$A$1000,\"<=\"&DATE(score!$B$1,V3,V4)),\"\")","v":0},{"$f":"IFERROR(SUMIFS(data!$M$3:$M$1000,data!$B$3:$B$1000,score!$B$48,data!$A$3:$A$1000,\">=\"&DATE(score!$B$1,V3,V4),data!$A$3:$A$1000,\"<=\"&DATE(score!$B$1,W3,W4)),\"\")","v":0},{"$f":"IFERROR(SUMIFS(data!$M$3:$M$1000,data!$B$3:$B$1000,score!$B$48,data!$A$3:$A$1000,\">=\"&DATE(score!$B$1,W3,W4),data!$A$3:$A$1000,\"<=\"&DATE(score!$B$1,X3,X4)),\"\")","v":0},{"$f":"IFERROR(SUMIFS(data!$M$3:$M$1000,data!$B$3:$B$1000,score!$B$48,data!$A$3:$A$1000,\">=\"&DATE(score!$B$1,X3,X4),data!$A$3:$A$1000,\"<=\"&DATE(score!$B$1,Y3,Y4)),\"\")","v":0},{"$f":"IFERROR(SUMIFS(data!$M$3:$M$1000,data!$B$3:$B$1000,score!$B$48,data!$A$3:$A$1000,\">=\"&DATE(score!$B$1,Y3,Y4),data!$A$3:$A$1000,\"<=\"&DATE(score!$B$1,Z3,Z4)),\"\")","v":0},{"$f":"IFERROR(SUMIFS(data!$M$3:$M$1000,data!$B$3:$B$1000,score!$B$48,data!$A$3:$A$1000,\">=\"&DATE(score!$B$1,Z3,Z4),data!$A$3:$A$1000,\"<=\"&DATE(score!$B$1,AA3,AA4)),\"\")","v":0},{"$f":"IFERROR(SUMIFS(data!$M$3:$M$1000,data!$B$3:$B$1000,score!$B$48,data!$A$3:$A$1000,\">=\"&DATE(score!$B$1,AA3,AA4),data!$A$3:$A$1000,\"<=\"&DATE(score!$B$1,AB3,AB4)),\"\")","v":0},{"$f":"IFERROR(SUMIFS(data!$M$3:$M$1000,data!$B$3:$B$1000,score!$B$48,data!$A$3:$A$1000,\">=\"&DATE(score!$B$1,AB3,AB4),data!$A$3:$A$1000,\"<=\"&DATE(score!$B$1,AC3,AC4)),\"\")","v":0},{"$f":"IFERROR(SUMIFS(data!$M$3:$M$1000,data!$B$3:$B$1000,score!$B$48,data!$A$3:$A$1000,\">=\"&DATE(score!$B$1,AC3,AC4),data!$A$3:$A$1000,\"<=\"&DATE(score!$B$1,AD3,AD4)),\"\")","v":0},{"$f":"IFERROR(SUMIFS(data!$M$3:$M$1000,data!$B$3:$B$1000,score!$B$48,data!$A$3:$A$1000,\">=\"&DATE(score!$B$1,AD3,AD4),data!$A$3:$A$1000,\"<=\"&DATE(score!$B$1,AE3,AE4)),\"\")","v":0},{"$f":"IFERROR(SUMIFS(data!$M$3:$M$1000,data!$B$3:$B$1000,score!$B$48,data!$A$3:$A$1000,\">=\"&DATE(score!$B$1,AE3,AE4),data!$A$3:$A$1000,\"<=\"&DATE(score!$B$1,AF3,AF4)),\"\")","v":0},{"$f":"IFERROR(SUMIFS(data!$M$3:$M$1000,data!$B$3:$B$1000,score!$B$48,data!$A$3:$A$1000,\">=\"&DATE(score!$B$1,AF3,AF4),data!$A$3:$A$1000,\"<=\"&DATE(score!$B$1,AG3,AG4)),\"\")","v":0},{"$f":"IFERROR(SUMIFS(data!$M$3:$M$1000,data!$B$3:$B$1000,score!$B$48,data!$A$3:$A$1000,\">=\"&DATE(score!$B$1,AG3,AG4),data!$A$3:$A$1000,\"<=\"&DATE(score!$B$1,AH3,AH4)),\"\")","v":0},{"$f":"IFERROR(SUMIFS(data!$M$3:$M$1000,data!$B$3:$B$1000,score!$B$48,data!$A$3:$A$1000,\">=\"&DATE(score!$B$1,AH3,AH4),data!$A$3:$A$1000,\"<=\"&DATE(score!$B$1,AI3,AI4)),\"\")","v":0},{"$f":"IFERROR(SUMIFS(data!$M$3:$M$1000,data!$B$3:$B$1000,score!$B$48,data!$A$3:$A$1000,\">=\"&DATE(score!$B$1,AI3,AI4),data!$A$3:$A$1000,\"<=\"&DATE(score!$B$1,AJ3,AJ4)),\"\")","v":0},{"$f":"IFERROR(SUMIFS(data!$M$3:$M$1000,data!$B$3:$B$1000,score!$B$48,data!$A$3:$A$1000,\">=\"&DATE(score!$B$1,AJ3,AJ4),data!$A$3:$A$1000,\"<=\"&DATE(score!$B$1,AK3,AK4)),\"\")","v":0},{"$f":"IFERROR(SUMIFS(data!$M$3:$M$1000,data!$B$3:$B$1000,score!$B$48,data!$A$3:$A$1000,\">=\"&DATE(score!$B$1,AK3,AK4),data!$A$3:$A$1000,\"<=\"&DATE(score!$B$1,AL3,AL4)),\"\")","v":0},{"$f":"IFERROR(SUMIFS(data!$M$3:$M$1000,data!$B$3:$B$1000,score!$B$48,data!$A$3:$A$1000,\">=\"&DATE(score!$B$1,AL3,AL4),data!$A$3:$A$1000,\"<=\"&DATE(score!$B$1,AM3,AM4)),\"\")","v":0},{"$f":"IFERROR(SUMIFS(data!$M$3:$M$1000,data!$B$3:$B$1000,score!$B$48,data!$A$3:$A$1000,\">=\"&DATE(score!$B$1,AM3,AM4),data!$A$3:$A$1000,\"<=\"&DATE(score!$B$1,AN3,AN4)),\"\")","v":0},{"$f":"IFERROR(SUMIFS(data!$M$3:$M$1000,data!$B$3:$B$1000,score!$B$48,data!$A$3:$A$1000,\">=\"&DATE(score!$B$1,AN3,AN4),data!$A$3:$A$1000,\"<=\"&DATE(score!$B$1,AO3,AO4)),\"\")","v":0},{"$f":"IFERROR(SUMIFS(data!$M$3:$M$1000,data!$B$3:$B$1000,score!$B$48,data!$A$3:$A$1000,\">=\"&DATE(score!$B$1,AO3,AO4),data!$A$3:$A$1000,\"<=\"&DATE(score!$B$1,AP3,AP4)),\"\")","v":0},{"$f":"IFERROR(SUMIFS(data!$M$3:$M$1000,data!$B$3:$B$1000,score!$B$48,data!$A$3:$A$1000,\">=\"&DATE(score!$B$1,AP3,AP4),data!$A$3:$A$1000,\"<=\"&DATE(score!$B$1,AQ3,AQ4)),\"\")","v":0},{"$f":"IFERROR(SUMIFS(data!$M$3:$M$1000,data!$B$3:$B$1000,score!$B$48,data!$A$3:$A$1000,\">=\"&DATE(score!$B$1,AQ3,AQ4),data!$A$3:$A$1000,\"<=\"&DATE(score!$B$1,AR3,AR4)),\"\")","v":0},{"$f":"IFERROR(SUMIFS(data!$M$3:$M$1000,data!$B$3:$B$1000,score!$B$48,data!$A$3:$A$1000,\">=\"&DATE(score!$B$1,AR3,AR4),data!$A$3:$A$1000,\"<=\"&DATE(score!$B$1,AS3,AS4)),\"\")","v":0},{"$f":"IFERROR(SUMIFS(data!$M$3:$M$1000,data!$B$3:$B$1000,score!$B$48,data!$A$3:$A$1000,\">=\"&DATE(score!$B$1,AS3,AS4),data!$A$3:$A$1000,\"<=\"&DATE(score!$B$1,AT3,AT4)),\"\")","v":0},{"$f":"IFERROR(SUMIFS(data!$M$3:$M$1000,data!$B$3:$B$1000,score!$B$48,data!$A$3:$A$1000,\">=\"&DATE(score!$B$1,AT3,AT4),data!$A$3:$A$1000,\"<=\"&DATE(score!$B$1,AU3,AU4)),\"\")","v":0},{"$f":"IFERROR(SUMIFS(data!$M$3:$M$1000,data!$B$3:$B$1000,score!$B$48,data!$A$3:$A$1000,\">=\"&DATE(score!$B$1,AU3,AU4),data!$A$3:$A$1000,\"<=\"&DATE(score!$B$1,AV3,AV4)),\"\")","v":0},{"$f":"IFERROR(SUMIFS(data!$M$3:$M$1000,data!$B$3:$B$1000,score!$B$48,data!$A$3:$A$1000,\">=\"&DATE(score!$B$1,AV3,AV4),data!$A$3:$A$1000,\"<=\"&DATE(score!$B$1,AW3,AW4)),\"\")","v":0},{"$f":"IFERROR(SUMIFS(data!$M$3:$M$1000,data!$B$3:$B$1000,score!$B$48,data!$A$3:$A$1000,\">=\"&DATE(score!$B$1,AW3,AW4),data!$A$3:$A$1000,\"<=\"&DATE(score!$B$1,AX3,AX4)),\"\")","v":0},{"$f":"IFERROR(SUMIFS(data!$M$3:$M$1000,data!$B$3:$B$1000,score!$B$48,data!$A$3:$A$1000,\">=\"&DATE(score!$B$1,AX3,AX4),data!$A$3:$A$1000,\"<=\"&DATE(score!$B$1,AY3,AY4)),\"\")","v":0},{"$f":"IFERROR(SUMIFS(data!$M$3:$M$1000,data!$B$3:$B$1000,score!$B$48,data!$A$3:$A$1000,\">=\"&DATE(score!$B$1,AY3,AY4),data!$A$3:$A$1000,\"<=\"&DATE(score!$B$1,AZ3,AZ4)),\"\")","v":0},{"$f":"IFERROR(SUMIFS(data!$M$3:$M$1000,data!$B$3:$B$1000,score!$B$48,data!$A$3:$A$1000,\">=\"&DATE(score!$B$1,AZ3,AZ4),data!$A$3:$A$1000,\"<=\"&DATE(score!$B$1,BA3,BA4)),\"\")","v":0},{"$f":"IFERROR(SUMIFS(data!$M$3:$M$1000,data!$B$3:$B$1000,score!$B$48,data!$A$3:$A$1000,\">=\"&DATE(score!$B$1,BA3,BA4),data!$A$3:$A$1000,\"<=\"&DATE(score!$B$1,BB3,BB4)),\"\")","v":0},{"$f":"IFERROR(SUMIFS(data!$M$3:$M$1000,data!$B$3:$B$1000,score!$B$48,data!$A$3:$A$1000,\">=\"&DATE(score!$B$1,BB3,BB4),data!$A$3:$A$1000,\"<=\"&DATE(score!$B$1,BC3,BC4)),\"\")","v":0}]
[null,null,{"$f":"IFERROR(SUMIFS(data!$M$3:$M$1000,data!$B$3:$B$1000,score!$B$49,data!$A$3:$A$1000,\">=\"&DATE(score!$B$1,C3,C4),data!$A$3:$A$1000,\"<=\"&DATE(score!$B$1,D3,D4)),\"\")","v":0},{"$f":"IFERROR(SUMIFS(data!$M$3:$M$1000,data!$B$3:$B$1000,score!$B$49,data!$A$3:$A$1000,\">=\"&DATE(score!$B$1,D3,D4),data!$A$3:$A$1000,\"<=\"&DATE(score!$B$1,E3,E4)),\"\")","v":0},{"$f":"IFERROR(SUMIFS(data!$M$3:$M$1000,data!$B$3:$B$1000,score!$B$49,data!$A$3:$A$1000,\">=\"&DATE(score!$B$1,E3,E4),data!$A$3:$A$1000,\"<=\"&DATE(score!$B$1,F3,F4)),\"\")","v":0},{"$f":"IFERROR(SUMIFS(data!$M$3:$M$1000,data!$B$3:$B$1000,score!$B$49,data!$A$3:$A$1000,\">=\"&DATE(score!$B$1,F3,F4),data!$A$3:$A$1000,\"<=\"&DATE(score!$B$1,G3,G4)),\"\")","v":0},{"$f":"IFERROR(SUMIFS(data!$M$3:$M$1000,data!$B$3:$B$1000,score!$B$49,data!$A$3:$A$1000,\">=\"&DATE(score!$B$1,G3,G4),data!$A$3:$A$1000,\"<=\"&DATE(score!$B$1,H3,H4)),\"\")","v":0},{"$f":"IFERROR(SUMIFS(data!$M$3:$M$1000,data!$B$3:$B$1000,score!$B$49,data!$A$3:$A$1000,\">=\"&DATE(score!$B$1,H3,H4),data!$A$3:$A$1000,\"<=\"&DATE(score!$B$1,I3,I4)),\"\")","v":0},{"$f":"IFERROR(SUMIFS(data!$M$3:$M$1000,data!$B$3:$B$1000,score!$B$49,data!$A$3:$A$1000,\">=\"&DATE(score!$B$1,I3,I4),data!$A$3:$A$1000,\"<=\"&DATE(score!$B$1,J3,J4)),\"\")","v":0},{"$f":"IFERROR(SUMIFS(data!$M$3:$M$1000,data!$B$3:$B$1000,score!$B$49,data!$A$3:$A$1000,\">=\"&DATE(score!$B$1,J3,J4),data!$A$3:$A$1000,\"<=\"&DATE(score!$B$1,K3,K4)),\"\")","v":0},{"$f":"IFERROR(SUMIFS(data!$M$3:$M$1000,data!$B$3:$B$1000,score!$B$49,data!$A$3:$A$1000,\">=\"&DATE(score!$B$1,K3,K4),data!$A$3:$A$1000,\"<=\"&DATE(score!$B$1,L3,L4)),\"\")","v":0},{"$f":"IFERROR(SUMIFS(data!$M$3:$M$1000,data!$B$3:$B$1000,score!$B$49,data!$A$3:$A$1000,\">=\"&DATE(score!$B$1,L3,L4),data!$A$3:$A$1000,\"<=\"&DATE(score!$B$1,M3,M4)),\"\")","v":0},{"$f":"IFERROR(SUMIFS(data!$M$3:$M$1000,data!$B$3:$B$1000,score!$B$49,data!$A$3:$A$1000,\">=\"&DATE(score!$B$1,M3,M4),data!$A$3:$A$1000,\"<=\"&DATE(score!$B$1,N3,N4)),\"\")","v":0},{"$f":"IFERROR(SUMIFS(data!$M$3:$M$1000,data!$B$3:$B$1000,score!$B$49,data!$A$3:$A$1000,\">=\"&DATE(score!$B$1,N3,N4),data!$A$3:$A$1000,\"<=\"&DATE(score!$B$1,O3,O4)),\"\")","v":0},{"$f":"IFERROR(SUMIFS(data!$M$3:$M$1000,data!$B$3:$B$1000,score!$B$49,data!$A$3:$A$1000,\">=\"&DATE(score!$B$1,O3,O4),data!$A$3:$A$1000,\"<=\"&DATE(score!$B$1,P3,P4)),\"\")","v":0},{"$f":"IFERROR(SUMIFS(data!$M$3:$M$1000,data!$B$3:$B$1000,score!$B$49,data!$A$3:$A$1000,\">=\"&DATE(score!$B$1,P3,P4),data!$A$3:$A$1000,\"<=\"&DATE(score!$B$1,Q3,Q4)),\"\")","v":0},{"$f":"IFERROR(SUMIFS(data!$M$3:$M$1000,data!$B$3:$B$1000,score!$B$49,data!$A$3:$A$1000,\">=\"&DATE(score!$B$1,Q3,Q4),data!$A$3:$A$1000,\"<=\"&DATE(score!$B$1,R3,R4)),\"\")","v":0},{"$f":"IFERROR(SUMIFS(data!$M$3:$M$1000,data!$B$3:$B$1000,score!$B$49,data!$A$3:$A$1000,\">=\"&DATE(score!$B$1,R3,R4),data!$A$3:$A$1000,\"<=\"&DATE(score!$B$1,S3,S4)),\"\")","v":0},{"$f":"IFERROR(SUMIFS(data!$M$3:$M$1000,data!$B$3:$B$1000,score!$B$49,data!$A$3:$A$1000,\">=\"&DATE(score!$B$1,S3,S4),data!$A$3:$A$1000,\"<=\"&DATE(score!$B$1,T3,T4)),\"\")","v":0},{"$f":"IFERROR(SUMIFS(data!$M$3:$M$1000,data!$B$3:$B$1000,score!$B$49,data!$A$3:$A$1000,\">=\"&DATE(score!$B$1,T3,T4),data!$A$3:$A$1000,\"<=\"&DATE(score!$B$1,U3,U4)),\"\")","v":0},{"$f":"IFERROR(SUMIFS(data!$M$3:$M$1000,data!$B$3:$B$1000,score!$B$49,data!$A$3:$A$1000,\">=\"&DATE(score!$B$1,U3,U4),data!$A$3:$A$1000,\"<=\"&DATE(score!$B$1,V3,V4)),\"\")","v":0},{"$f":"IFERROR(SUMIFS(data!$M$3:$M$1000,data!$B$3:$B$1000,score!$B$49,data!$A$3:$A$1000,\">=\"&DATE(score!$B$1,V3,V4),data!$A$3:$A$1000,\"<=\"&DATE(score!$B$1,W3,W4)),\"\")","v":0},{"$f":"IFERROR(SUMIFS(data!$M$3:$M$1000,data!$B$3:$B$1000,score!$B$49,data!$A$3:$A$1000,\">=\"&DATE(score!$B$1,W3,W4),data!$A$3:$A$1000,\"<=\"&DATE(score!$B$1,X3,X4)),\"\")","v":0},{"$f":"IFERROR(SUMIFS(data!$M$3:$M$1000,data!$B$3:$B$1000,score!$B$49,data!$A$3:$A$1000,\">=\"&DATE(score!$B$1,X3,X4),data!$A$3:$A$1000,\"<=\"&DATE(score!$B$1,Y3,Y4)),\"\")","v":0},{"$f":"IFERROR(SUMIFS(data!$M$3:$M$1000,data!$B$3:$B$1000,score!$B$49,data!$A$3:$A$1000,\">=\"&DATE(score!$B$1,Y3,Y4),data!$A$3:$A$1000,\"<=\"&DATE(score!$B$1,Z3,Z4)),\"\")","v":0},{"$f":"IFERROR(SUMIFS(data!$M$3:$M$1000,data!$B$3:$B$1000,score!$B$49,data!$A$3:$A$1000,\">=\"&DATE(score!$B$1,Z3,Z4),data!$A$3:$A$1000,\"<=\"&DATE(score!$B$1,AA3,AA4)),\"\")","v":0},{"$f":"IFERROR(SUMIFS(data!$M$3:$M$1000,data!$B$3:$B$1000,score!$B$49,data!$A$3:$A$1000,\">=\"&DATE(score!$B$1,AA3,AA4),data!$A$3:$A$1000,\"<=\"&DATE(score!$B$1,AB3,AB4)),\"\")","v":0},{"$f":"IFERROR(SUMIFS(data!$M$3:$M$1000,data!$B$3:$B$1000,score!$B$49,data!$A$3:$A$1000,\">=\"&DATE(score!$B$1,AB3,AB4),data!$A$3:$A$1000,\"<=\"&DATE(score!$B$1,AC3,AC4)),\"\")","v":0},{"$f":"IFERROR(SUMIFS(data!$M$3:$M$1000,data!$B$3:$B$1000,score!$B$49,data!$A$3:$A$1000,\">=\"&DATE(score!$B$1,AC3,AC4),data!$A$3:$A$1000,\"<=\"&DATE(score!$B$1,AD3,AD4)),\"\")","v":0},{"$f":"IFERROR(SUMIFS(data!$M$3:$M$1000,data!$B$3:$B$1000,score!$B$49,data!$A$3:$A$1000,\">=\"&DATE(score!$B$1,AD3,AD4),data!$A$3:$A$1000,\"<=\"&DATE(score!$B$1,AE3,AE4)),\"\")","v":0},{"$f":"IFERROR(SUMIFS(data!$M$3:$M$1000,data!$B$3:$B$1000,score!$B$49,data!$A$3:$A$1000,\">=\"&DATE(score!$B$1,AE3,AE4),data!$A$3:$A$1000,\"<=\"&DATE(score!$B$1,AF3,AF4)),\"\")","v":0},{"$f":"IFERROR(SUMIFS(data!$M$3:$M$1000,data!$B$3:$B$1000,score!$B$49,data!$A$3:$A$1000,\">=\"&DATE(score!$B$1,AF3,AF4),data!$A$3:$A$1000,\"<=\"&DATE(score!$B$1,AG3,AG4)),\"\")","v":0},{"$f":"IFERROR(SUMIFS(data!$M$3:$M$1000,data!$B$3:$B$1000,score!$B$49,data!$A$3:$A$1000,\">=\"&DATE(score!$B$1,AG3,AG4),data!$A$3:$A$1000,\"<=\"&DATE(score!$B$1,AH3,AH4)),\"\")","v":0},{"$f":"IFERROR(SUMIFS(data!$M$3:$M$1000,data!$B$3:$B$1000,score!$B$49,data!$A$3:$A$1000,\">=\"&DATE(score!$B$1,AH3,AH4),data!$A$3:$A$1000,\"<=\"&DATE(score!$B$1,AI3,AI4)),\"\")","v":0},{"$f":"IFERROR(SUMIFS(data!$M$3:$M$1000,data!$B$3:$B$1000,score!$B$49,data!$A$3:$A$1000,\">=\"&DATE(score!$B$1,AI3,AI4),data!$A$3:$A$1000,\"<=\"&DATE(score!$B$1,AJ3,AJ4)),\"\")","v":0},{"$f":"IFERROR(SUMIFS(data!$M$3:$M$1000,data!$B$3:$B$1000,score!$B$49,data!$A$3:$A$1000,\">=\"&DATE(score!$B$1,AJ3,AJ4),data!$A$3:$A$1000,\"<=\"&DATE(score!$B$1,AK3,AK4)),\"\")","v":0},{"$f":"IFERROR(SUMIFS(data!$M$3:$M$1000,data!$B$3:$B$1000,score!$B$49,data!$A$3:$A$1000,\">=\"&DATE(score!$B$1,AK3,AK4),data!$A$3:$A$1000,\"<=\"&DATE(score!$B$1,AL3,AL4)),\"\")","v":0},{"$f":"IFERROR(SUMIFS(data!$M$3:$M$1000,data!$B$3:$B$1000,score!$B$49,data!$A$3:$A$1000,\">=\"&DATE(score!$B$1,AL3,AL4),data!$A$3:$A$1000,\"<=\"&DATE(score!$B$1,AM3,AM4)),\"\")","v":0},{"$f":"IFERROR(SUMIFS(data!$M$3:$M$1000,data!$B$3:$B$1000,score!$B$49,data!$A$3:$A$1000,\">=\"&DATE(score!$B$1,AM3,AM4),data!$A$3:$A$1000,\"<=\"&DATE(score!$B$1,AN3,AN4)),\"\")","v":0},{"$f":"IFERROR(SUMIFS(data!$M$3:$M$1000,data!$B$3:$B$1000,score!$B$49,data!$A$3:$A$1000,\">=\"&DATE(score!$B$1,AN3,AN4),data!$A$3:$A$1000,\"<=\"&DATE(score!$B$1,AO3,AO4)),\"\")","v":0},{"$f":"IFERROR(SUMIFS(data!$M$3:$M$1000,data!$B$3:$B$1000,score!$B$49,data!$A$3:$A$1000,\">=\"&DATE(score!$B$1,AO3,AO4),data!$A$3:$A$1000,\"<=\"&DATE(score!$B$1,AP3,AP4)),\"\")","v":0},{"$f":"IFERROR(SUMIFS(data!$M$3:$M$1000,data!$B$3:$B$1000,score!$B$49,data!$A$3:$A$1000,\">=\"&DATE(score!$B$1,AP3,AP4),data!$A$3:$A$1000,\"<=\"&DATE(score!$B$1,AQ3,AQ4)),\"\")","v":0},{"$f":"IFERROR(SUMIFS(data!$M$3:$M$1000,data!$B$3:$B$1000,score!$B$49,data!$A$3:$A$1000,\">=\"&DATE(score!$B$1,AQ3,AQ4),data!$A$3:$A$1000,\"<=\"&DATE(score!$B$1,AR3,AR4)),\"\")","v":0},{"$f":"IFERROR(SUMIFS(data!$M$3:$M$1000,data!$B$3:$B$1000,score!$B$49,data!$A$3:$A$1000,\">=\"&DATE(score!$B$1,AR3,AR4),data!$A$3:$A$1000,\"<=\"&DATE(score!$B$1,AS3,AS4)),\"\")","v":0},{"$f":"IFERROR(SUMIFS(data!$M$3:$M$1000,data!$B$3:$B$1000,score!$B$49,data!$A$3:$A$1000,\">=\"&DATE(score!$B$1,AS3,AS4),data!$A$3:$A$1000,\"<=\"&DATE(score!$B$1,AT3,AT4)),\"\")","v":0},{"$f":"IFERROR(SUMIFS(data!$M$3:$M$1000,data!$B$3:$B$1000,score!$B$49,data!$A$3:$A$1000,\">=\"&DATE(score!$B$1,AT3,AT4),data!$A$3:$A$1000,\"<=\"&DATE(score!$B$1,AU3,AU4)),\"\")","v":0},{"$f":"IFERROR(SUMIFS(data!$M$3:$M$1000,data!$B$3:$B$1000,score!$B$49,data!$A$3:$A$1000,\">=\"&DATE(score!$B$1,AU3,AU4),data!$A$3:$A$1000,\"<=\"&DATE(score!$B$1,AV3,AV4)),\"\")","v":0},{"$f":"IFERROR(SUMIFS(data!$M$3:$M$1000,data!$B$3:$B$1000,score!$B$49,data!$A$3:$A$1000,\">=\"&DATE(score!$B$1,AV3,AV4),data!$A$3:$A$1000,\"<=\"&DATE(score!$B$1,AW3,AW4)),\"\")","v":0},{"$f":"IFERROR(SUMIFS(data!$M$3:$M$1000,data!$B$3:$B$1000,score!$B$49,data!$A$3:$A$1000,\">=\"&DATE(score!$B$1,AW3,AW4),data!$A$3:$A$1000,\"<=\"&DATE(score!$B$1,AX3,AX4)),\"\")","v":0},{"$f":"IFERROR(SUMIFS(data!$M$3:$M$1000,data!$B$3:$B$1000,score!$B$49,data!$A$3:$A$1000,\">=\"&DATE(score!$B$1,AX3,AX4),data!$A$3:$A$1000,\"<=\"&DATE(score!$B$1,AY3,AY4)),\"\")","v":0},{"$f":"IFERROR(SUMIFS(data!$M$3:$M$1000,data!$B$3:$B$1000,score!$B$49,data!$A$3:$A$1000,\">=\"&DATE(score!$B$1,AY3,AY4),data!$A$3:$A$1000,\"<=\"&DATE(score!$B$1,AZ3,AZ4)),\"\")","v":0},{"$f":"IFERROR(SUMIFS(data!$M$3:$M$1000,data!$B$3:$B$1000,score!$B$49,data!$A$3:$A$1000,\">=\"&DATE(score!$B$1,AZ3,AZ4),data!$A$3:$A$1000,\"<=\"&DATE(score!$B$1,BA3,BA4)),\"\")","v":0},{"$f":"IFERROR(SUMIFS(data!$M$3:$M$1000,data!$B$3:$B$1000,score!$B$49,data!$A$3:$A$1000,\">=\"&DATE(score!$B$1,BA3,BA4),data!$A$3:$A$1000,\"<=\"&DATE(score!$B$1,BB3,BB4)),\"\")","v":0},{"$f":"IFERROR(SUMIFS(data!$M$3:$M$1000,data!$B$3:$B$1000,score!$B$49,data!$A$3:$A$1000,\">=\"&DATE(score!$B$1,BB3,BB4),data!$A$3:$A$1000,\"<=\"&DATE(score!$B$1,BC3,BC4)),\"\")","v":0}]
[null,null,{"$f":"IFERROR(SUMIFS(data!$M$3:$M$1000,data!$B$3:$B$1000,score!$B$50,data!$A$3:$A$1000,\">=\"&DATE(score!$B$1,C3,C4),data!$A$3:$A$1000,\"<=\"&DATE(score!$B$1,D3,D4)),\"\")","v":0},{"$f":"IFERROR(SUMIFS(data!$M$3:$M$1000,data!$B$3:$B$1000,score!$B$50,data!$A$3:$A$1000,\">=\"&DATE(score!$B$1,D3,D4),data!$A$3:$A$1000,\"<=\"&DATE(score!$B$1,E3,E4)),\"\")","v":0},{"$f":"IFERROR(SUMIFS(data!$M$3:$M$1000,data!$B$3:$B$1000,score!$B$50,data!$A$3:$A$1000,\">=\"&DATE(score!$B$1,E3,E4),data!$A$3:$A$1000,\"<=\"&DATE(score!$B$1,F3,F4)),\"\")","v":0},{"$f":"IFERROR(SUMIFS(data!$M$3:$M$1000,data!$B$3:$B$1000,score!$B$50,data!$A$3:$A$1000,\">=\"&DATE(score!$B$1,F3,F4),data!$A$3:$A$1000,\"<=\"&DATE(score!$B$1,G3,G4)),\"\")","v":0},{"$f":"IFERROR(SUMIFS(data!$M$3:$M$1000,data!$B$3:$B$1000,score!$B$50,data!$A$3:$A$1000,\">=\"&DATE(score!$B$1,G3,G4),data!$A$3:$A$1000,\"<=\"&DATE(score!$B$1,H3,H4)),\"\")","v":0},{"$f":"IFERROR(SUMIFS(data!$M$3:$M$1000,data!$B$3:$B$1000,score!$B$50,data!$A$3:$A$1000,\">=\"&DATE(score!$B$1,H3,H4),data!$A$3:$A$1000,\"<=\"&DATE(score!$B$1,I3,I4)),\"\")","v":0},{"$f":"IFERROR(SUMIFS(data!$M$3:$M$1000,data!$B$3:$B$1000,score!$B$50,data!$A$3:$A$1000,\">=\"&DATE(score!$B$1,I3,I4),data!$A$3:$A$1000,\"<=\"&DATE(score!$B$1,J3,J4)),\"\")","v":0},{"$f":"IFERROR(SUMIFS(data!$M$3:$M$1000,data!$B$3:$B$1000,score!$B$50,data!$A$3:$A$1000,\">=\"&DATE(score!$B$1,J3,J4),data!$A$3:$A$1000,\"<=\"&DATE(score!$B$1,K3,K4)),\"\")","v":0},{"$f":"IFERROR(SUMIFS(data!$M$3:$M$1000,data!$B$3:$B$1000,score!$B$50,data!$A$3:$A$1000,\">=\"&DATE(score!$B$1,K3,K4),data!$A$3:$A$1000,\"<=\"&DATE(score!$B$1,L3,L4)),\"\")","v":0},{"$f":"IFERROR(SUMIFS(data!$M$3:$M$1000,data!$B$3:$B$1000,score!$B$50,data!$A$3:$A$1000,\">=\"&DATE(score!$B$1,L3,L4),data!$A$3:$A$1000,\"<=\"&DATE(score!$B$1,M3,M4)),\"\")","v":0},{"$f":"IFERROR(SUMIFS(data!$M$3:$M$1000,data!$B$3:$B$1000,score!$B$50,data!$A$3:$A$1000,\">=\"&DATE(score!$B$1,M3,M4),data!$A$3:$A$1000,\"<=\"&DATE(score!$B$1,N3,N4)),\"\")","v":0},{"$f":"IFERROR(SUMIFS(data!$M$3:$M$1000,data!$B$3:$B$1000,score!$B$50,data!$A$3:$A$1000,\">=\"&DATE(score!$B$1,N3,N4),data!$A$3:$A$1000,\"<=\"&DATE(score!$B$1,O3,O4)),\"\")","v":0},{"$f":"IFERROR(SUMIFS(data!$M$3:$M$1000,data!$B$3:$B$1000,score!$B$50,data!$A$3:$A$1000,\">=\"&DATE(score!$B$1,O3,O4),data!$A$3:$A$1000,\"<=\"&DATE(score!$B$1,P3,P4)),\"\")","v":0},{"$f":"IFERROR(SUMIFS(data!$M$3:$M$1000,data!$B$3:$B$1000,score!$B$50,data!$A$3:$A$1000,\">=\"&DATE(score!$B$1,P3,P4),data!$A$3:$A$1000,\"<=\"&DATE(score!$B$1,Q3,Q4)),\"\")","v":0},{"$f":"IFERROR(SUMIFS(data!$M$3:$M$1000,data!$B$3:$B$1000,score!$B$50,data!$A$3:$A$1000,\">=\"&DATE(score!$B$1,Q3,Q4),data!$A$3:$A$1000,\"<=\"&DATE(score!$B$1,R3,R4)),\"\")","v":0},{"$f":"IFERROR(SUMIFS(data!$M$3:$M$1000,data!$B$3:$B$1000,score!$B$50,data!$A$3:$A$1000,\">=\"&DATE(score!$B$1,R3,R4),data!$A$3:$A$1000,\"<=\"&DATE(score!$B$1,S3,S4)),\"\")","v":0},{"$f":"IFERROR(SUMIFS(data!$M$3:$M$1000,data!$B$3:$B$1000,score!$B$50,data!$A$3:$A$1000,\">=\"&DATE(score!$B$1,S3,S4),data!$A$3:$A$1000,\"<=\"&DATE(score!$B$1,T3,T4)),\"\")","v":0},{"$f":"IFERROR(SUMIFS(data!$M$3:$M$1000,data!$B$3:$B$1000,score!$B$50,data!$A$3:$A$1000,\">=\"&DATE(score!$B$1,T3,T4),data!$A$3:$A$1000,\"<=\"&DATE(score!$B$1,U3,U4)),\"\")","v":0},{"$f":"IFERROR(SUMIFS(data!$M$3:$M$1000,data!$B$3:$B$1000,score!$B$50,data!$A$3:$A$1000,\">=\"&DATE(score!$B$1,U3,U4),data!$A$3:$A$1000,\"<=\"&DATE(score!$B$1,V3,V4)),\"\")","v":0},{"$f":"IFERROR(SUMIFS(data!$M$3:$M$1000,data!$B$3:$B$1000,score!$B$50,data!$A$3:$A$1000,\">=\"&DATE(score!$B$1,V3,V4),data!$A$3:$A$1000,\"<=\"&DATE(score!$B$1,W3,W4)),\"\")","v":0},{"$f":"IFERROR(SUMIFS(data!$M$3:$M$1000,data!$B$3:$B$1000,score!$B$50,data!$A$3:$A$1000,\">=\"&DATE(score!$B$1,W3,W4),data!$A$3:$A$1000,\"<=\"&DATE(score!$B$1,X3,X4)),\"\")","v":0},{"$f":"IFERROR(SUMIFS(data!$M$3:$M$1000,data!$B$3:$B$1000,score!$B$50,data!$A$3:$A$1000,\">=\"&DATE(score!$B$1,X3,X4),data!$A$3:$A$1000,\"<=\"&DATE(score!$B$1,Y3,Y4)),\"\")","v":0},{"$f":"IFERROR(SUMIFS(data!$M$3:$M$1000,data!$B$3:$B$1000,score!$B$50,data!$A$3:$A$1000,\">=\"&DATE(score!$B$1,Y3,Y4),data!$A$3:$A$1000,\"<=\"&DATE(score!$B$1,Z3,Z4)),\"\")","v":0},{"$f":"IFERROR(SUMIFS(data!$M$3:$M$1000,data!$B$3:$B$1000,score!$B$50,data!$A$3:$A$1000,\">=\"&DATE(score!$B$1,Z3,Z4),data!$A$3:$A$1000,\"<=\"&DATE(score!$B$1,AA3,AA4)),\"\")","v":0},{"$f":"IFERROR(SUMIFS(data!$M$3:$M$1000,data!$B$3:$B$1000,score!$B$50,data!$A$3:$A$1000,\">=\"&DATE(score!$B$1,AA3,AA4),data!$A$3:$A$1000,\"<=\"&DATE(score!$B$1,AB3,AB4)),\"\")","v":0},{"$f":"IFERROR(SUMIFS(data!$M$3:$M$1000,data!$B$3:$B$1000,score!$B$50,data!$A$3:$A$1000,\">=\"&DATE(score!$B$1,AB3,AB4),data!$A$3:$A$1000,\"<=\"&DATE(score!$B$1,AC3,AC4)),\"\")","v":0},{"$f":"IFERROR(SUMIFS(data!$M$3:$M$1000,data!$B$3:$B$1000,score!$B$50,data!$A$3:$A$1000,\">=\"&DATE(score!$B$1,AC3,AC4),data!$A$3:$A$1000,\"<=\"&DATE(score!$B$1,AD3,AD4)),\"\")","v":0},{"$f":"IFERROR(SUMIFS(data!$M$3:$M$1000,data!$B$3:$B$1000,score!$B$50,data!$A$3:$A$1000,\">=\"&DATE(score!$B$1,AD3,AD4),data!$A$3:$A$1000,\"<=\"&DATE(score!$B$1,AE3,AE4)),\"\")","v":0},{"$f":"IFERROR(SUMIFS(data!$M$3:$M$1000,data!$B$3:$B$1000,score!$B$50,data!$A$3:$A$1000,\">=\"&DATE(score!$B$1,AE3,AE4),data!$A$3:$A$1000,\"<=\"&DATE(score!$B$1,AF3,AF4)),\"\")","v":0},{"$f":"IFERROR(SUMIFS(data!$M$3:$M$1000,data!$B$3:$B$1000,score!$B$50,data!$A$3:$A$1000,\">=\"&DATE(score!$B$1,AF3,AF4),data!$A$3:$A$1000,\"<=\"&DATE(score!$B$1,AG3,AG4)),\"\")","v":0},{"$f":"IFERROR(SUMIFS(data!$M$3:$M$1000,data!$B$3:$B$1000,score!$B$50,data!$A$3:$A$1000,\">=\"&DATE(score!$B$1,AG3,AG4),data!$A$3:$A$1000,\"<=\"&DATE(score!$B$1,AH3,AH4)),\"\")","v":0},{"$f":"IFERROR(SUMIFS(data!$M$3:$M$1000,data!$B$3:$B$1000,score!$B$50,data!$A$3:$A$1000,\">=\"&DATE(score!$B$1,AH3,AH4),data!$A$3:$A$1000,\"<=\"&DATE(score!$B$1,AI3,AI4)),\"\")","v":0},{"$f":"IFERROR(SUMIFS(data!$M$3:$M$1000,data!$B$3:$B$1000,score!$B$50,data!$A$3:$A$1000,\">=\"&DATE(score!$B$1,AI3,AI4),data!$A$3:$A$1000,\"<=\"&DATE(score!$B$1,AJ3,AJ4)),\"\")","v":0},{"$f":"IFERROR(SUMIFS(data!$M$3:$M$1000,data!$B$3:$B$1000,score!$B$50,data!$A$3:$A$1000,\">=\"&DATE(score!$B$1,AJ3,AJ4),data!$A$3:$A$1000,\"<=\"&DATE(score!$B$1,AK3,AK4)),\"\")","v":0},{"$f":"IFERROR(SUMIFS(data!$M$3:$M$1000,data!$B$3:$B$1000,score!$B$50,data!$A$3:$A$1000,\">=\"&DATE(score!$B$1,AK3,AK4),data!$A$3:$A$1000,\"<=\"&DATE(score!$B$1,AL3,AL4)),\"\")","v":0},{"$f":"IFERROR(SUMIFS(data!$M$3:$M$1000,data!$B$3:$B$1000,score!$B$50,data!$A$3:$A$1000,\">=\"&DATE(score!$B$1,AL3,AL4),data!$A$3:$A$1000,\"<=\"&DATE(score!$B$1,AM3,AM4)),\"\")","v":0},{"$f":"IFERROR(SUMIFS(data!$M$3:$M$1000,data!$B$3:$B$1000,score!$B$50,data!$A$3:$A$1000,\">=\"&DATE(score!$B$1,AM3,AM4),data!$A$3:$A$1000,\"<=\"&DATE(score!$B$1,AN3,AN4)),\"\")","v":0},{"$f":"IFERROR(SUMIFS(data!$M$3:$M$1000,data!$B$3:$B$1000,score!$B$50,data!$A$3:$A$1000,\">=\"&DATE(score!$B$1,AN3,AN4),data!$A$3:$A$1000,\"<=\"&DATE(score!$B$1,AO3,AO4)),\"\")","v":0},{"$f":"IFERROR(SUMIFS(data!$M$3:$M$1000,data!$B$3:$B$1000,score!$B$50,data!$A$3:$A$1000,\">=\"&DATE(score!$B$1,AO3,AO4),data!$A$3:$A$1000,\"<=\"&DATE(score!$B$1,AP3,AP4)),\"\")","v":0},{"$f":"IFERROR(SUMIFS(data!$M$3:$M$1000,data!$B$3:$B$1000,score!$B$50,data!$A$3:$A$1000,\">=\"&DATE(score!$B$1,AP3,AP4),data!$A$3:$A$1000,\"<=\"&DATE(score!$B$1,AQ3,AQ4)),\"\")","v":0},{"$f":"IFERROR(SUMIFS(data!$M$3:$M$1000,data!$B$3:$B$1000,score!$B$50,data!$A$3:$A$1000,\">=\"&DATE(score!$B$1,AQ3,AQ4),data!$A$3:$A$1000,\"<=\"&DATE(score!$B$1,AR3,AR4)),\"\")","v":0},{"$f":"IFERROR(SUMIFS(data!$M$3:$M$1000,data!$B$3:$B$1000,score!$B$50,data!$A$3:$A$1000,\">=\"&DATE(score!$B$1,AR3,AR4),data!$A$3:$A$1000,\"<=\"&DATE(score!$B$1,AS3,AS4)),\"\")","v":0},{"$f":"IFERROR(SUMIFS(data!$M$3:$M$1000,data!$B$3:$B$1000,score!$B$50,data!$A$3:$A$1000,\">=\"&DATE(score!$B$1,AS3,AS4),data!$A$3:$A$1000,\"<=\"&DATE(score!$B$1,AT3,AT4)),\"\")","v":0},{"$f":"IFERROR(SUMIFS(data!$M$3:$M$1000,data!$B$3:$B$1000,score!$B$50,data!$A$3:$A$1000,\">=\"&DATE(score!$B$1,AT3,AT4),data!$A$3:$A$1000,\"<=\"&DATE(score!$B$1,AU3,AU4)),\"\")","v":0},{"$f":"IFERROR(SUMIFS(data!$M$3:$M$1000,data!$B$3:$B$1000,score!$B$50,data!$A$3:$A$1000,\">=\"&DATE(score!$B$1,AU3,AU4),data!$A$3:$A$1000,\"<=\"&DATE(score!$B$1,AV3,AV4)),\"\")","v":0},{"$f":"IFERROR(SUMIFS(data!$M$3:$M$1000,data!$B$3:$B$1000,score!$B$50,data!$A$3:$A$1000,\">=\"&DATE(score!$B$1,AV3,AV4),data!$A$3:$A$1000,\"<=\"&DATE(score!$B$1,AW3,AW4)),\"\")","v":0},{"$f":"IFERROR(SUMIFS(data!$M$3:$M$1000,data!$B$3:$B$1000,score!$B$50,data!$A$3:$A$1000,\">=\"&DATE(score!$B$1,AW3,AW4),data!$A$3:$A$1000,\"<=\"&DATE(score!$B$1,AX3,AX4)),\"\")","v":0},{"$f":"IFERROR(SUMIFS(data!$M$3:$M$1000,data!$B$3:$B$1000,score!$B$50,data!$A$3:$A$1000,\">=\"&DATE(score!$B$1,AX3,AX4),data!$A$3:$A$1000,\"<=\"&DATE(score!$B$1,AY3,AY4)),\"\")","v":0},{"$f":"IFERROR(SUMIFS(data!$M$3:$M$1000,data!$B$3:$B$1000,score!$B$50,data!$A$3:$A$1000,\">=\"&DATE(score!$B$1,AY3,AY4),data!$A$3:$A$1000,\"<=\"&DATE(score!$B$1,AZ3,AZ4)),\"\")","v":0},{"$f":"IFERROR(SUMIFS(data!$M$3:$M$1000,data!$B$3:$B$1000,score!$B$50,data!$A$3:$A$1000,\">=\"&DATE(score!$B$1,AZ3,AZ4),data!$A$3:$A$1000,\"<=\"&DATE(score!$B$1,BA3,BA4)),\"\")","v":0},{"$f":"IFERROR(SUMIFS(data!$M$3:$M$1000,data!$B$3:$B$1000,score!$B$50,data!$A$3:$A$1000,\">=\"&DATE(score!$B$1,BA3,BA4),data!$A$3:$A$1000,\"<=\"&DATE(score!$B$1,BB3,BB4)),\"\")","v":0},{"$f":"IFERROR(SUMIFS(data!$M$3:$M$1000,data!$B$3:$B$1000,score!$B$50,data!$A$3:$A$1000,\">=\"&DATE(score!$B$1,BB3,BB4),data!$A$3:$A$1000,\"<=\"&DATE(score!$B$1,BC3,BC4)),\"\")","v":0}]
[null,null,{"$f":"IFERROR(SUMIFS(data!$M$3:$M$1000,data!$B$3:$B$1000,score!$B$51,data!$A$3:$A$1000,\">=\"&DATE(score!$B$1,C3,C4),data!$A$3:$A$1000,\"<=\"&DATE(score!$B$1,D3,D4)),\"\")","v":0},{"$f":"IFERROR(SUMIFS(data!$M$3:$M$1000,data!$B$3:$B$1000,score!$B$51,data!$A$3:$A$1000,\">=\"&DATE(score!$B$1,D3,D4),data!$A$3:$A$1000,\"<=\"&DATE(score!$B$1,E3,E4)),\"\")","v":0},{"$f":"IFERROR(SUMIFS(data!$M$3:$M$1000,data!$B$3:$B$1000,score!$B$51,data!$A$3:$A$1000,\">=\"&DATE(score!$B$1,E3,E4),data!$A$3:$A$1000,\"<=\"&DATE(score!$B$1,F3,F4)),\"\")","v":0},{"$f":"IFERROR(SUMIFS(data!$M$3:$M$1000,data!$B$3:$B$1000,score!$B$51,data!$A$3:$A$1000,\">=\"&DATE(score!$B$1,F3,F4),data!$A$3:$A$1000,\"<=\"&DATE(score!$B$1,G3,G4)),\"\")","v":0},{"$f":"IFERROR(SUMIFS(data!$M$3:$M$1000,data!$B$3:$B$1000,score!$B$51,data!$A$3:$A$1000,\">=\"&DATE(score!$B$1,G3,G4),data!$A$3:$A$1000,\"<=\"&DATE(score!$B$1,H3,H4)),\"\")","v":0},{"$f":"IFERROR(SUMIFS(data!$M$3:$M$1000,data!$B$3:$B$1000,score!$B$51,data!$A$3:$A$1000,\">=\"&DATE(score!$B$1,H3,H4),data!$A$3:$A$1000,\"<=\"&DATE(score!$B$1,I3,I4)),\"\")","v":0},{"$f":"IFERROR(SUMIFS(data!$M$3:$M$1000,data!$B$3:$B$1000,score!$B$51,data!$A$3:$A$1000,\">=\"&DATE(score!$B$1,I3,I4),data!$A$3:$A$1000,\"<=\"&DATE(score!$B$1,J3,J4)),\"\")","v":0},{"$f":"IFERROR(SUMIFS(data!$M$3:$M$1000,data!$B$3:$B$1000,score!$B$51,data!$A$3:$A$1000,\">=\"&DATE(score!$B$1,J3,J4),data!$A$3:$A$1000,\"<=\"&DATE(score!$B$1,K3,K4)),\"\")","v":0},{"$f":"IFERROR(SUMIFS(data!$M$3:$M$1000,data!$B$3:$B$1000,score!$B$51,data!$A$3:$A$1000,\">=\"&DATE(score!$B$1,K3,K4),data!$A$3:$A$1000,\"<=\"&DATE(score!$B$1,L3,L4)),\"\")","v":0},{"$f":"IFERROR(SUMIFS(data!$M$3:$M$1000,data!$B$3:$B$1000,score!$B$51,data!$A$3:$A$1000,\">=\"&DATE(score!$B$1,L3,L4),data!$A$3:$A$1000,\"<=\"&DATE(score!$B$1,M3,M4)),\"\")","v":0},{"$f":"IFERROR(SUMIFS(data!$M$3:$M$1000,data!$B$3:$B$1000,score!$B$51,data!$A$3:$A$1000,\">=\"&DATE(score!$B$1,M3,M4),data!$A$3:$A$1000,\"<=\"&DATE(score!$B$1,N3,N4)),\"\")","v":0},{"$f":"IFERROR(SUMIFS(data!$M$3:$M$1000,data!$B$3:$B$1000,score!$B$51,data!$A$3:$A$1000,\">=\"&DATE(score!$B$1,N3,N4),data!$A$3:$A$1000,\"<=\"&DATE(score!$B$1,O3,O4)),\"\")","v":0},{"$f":"IFERROR(SUMIFS(data!$M$3:$M$1000,data!$B$3:$B$1000,score!$B$51,data!$A$3:$A$1000,\">=\"&DATE(score!$B$1,O3,O4),data!$A$3:$A$1000,\"<=\"&DATE(score!$B$1,P3,P4)),\"\")","v":0},{"$f":"IFERROR(SUMIFS(data!$M$3:$M$1000,data!$B$3:$B$1000,score!$B$51,data!$A$3:$A$1000,\">=\"&DATE(score!$B$1,P3,P4),data!$A$3:$A$1000,\"<=\"&DATE(score!$B$1,Q3,Q4)),\"\")","v":0},{"$f":"IFERROR(SUMIFS(data!$M$3:$M$1000,data!$B$3:$B$1000,score!$B$51,data!$A$3:$A$1000,\">=\"&DATE(score!$B$1,Q3,Q4),data!$A$3:$A$1000,\"<=\"&DATE(score!$B$1,R3,R4)),\"\")","v":0},{"$f":"IFERROR(SUMIFS(data!$M$3:$M$1000,data!$B$3:$B$1000,score!$B$51,data!$A$3:$A$1000,\">=\"&DATE(score!$B$1,R3,R4),data!$A$3:$A$1000,\"<=\"&DATE(score!$B$1,S3,S4)),\"\")","v":0},{"$f":"IFERROR(SUMIFS(data!$M$3:$M$1000,data!$B$3:$B$1000,score!$B$51,data!$A$3:$A$1000,\">=\"&DATE(score!$B$1,S3,S4),data!$A$3:$A$1000,\"<=\"&DATE(score!$B$1,T3,T4)),\"\")","v":0},{"$f":"IFERROR(SUMIFS(data!$M$3:$M$1000,data!$B$3:$B$1000,score!$B$51,data!$A$3:$A$1000,\">=\"&DATE(score!$B$1,T3,T4),data!$A$3:$A$1000,\"<=\"&DATE(score!$B$1,U3,U4)),\"\")","v":0},{"$f":"IFERROR(SUMIFS(data!$M$3:$M$1000,data!$B$3:$B$1000,score!$B$51,data!$A$3:$A$1000,\">=\"&DATE(score!$B$1,U3,U4),data!$A$3:$A$1000,\"<=\"&DATE(score!$B$1,V3,V4)),\"\")","v":0},{"$f":"IFERROR(SUMIFS(data!$M$3:$M$1000,data!$B$3:$B$1000,score!$B$51,data!$A$3:$A$1000,\">=\"&DATE(score!$B$1,V3,V4),data!$A$3:$A$1000,\"<=\"&DATE(score!$B$1,W3,W4)),\"\")","v":0},{"$f":"IFERROR(SUMIFS(data!$M$3:$M$1000,data!$B$3:$B$1000,score!$B$51,data!$A$3:$A$1000,\">=\"&DATE(score!$B$1,W3,W4),data!$A$3:$A$1000,\"<=\"&DATE(score!$B$1,X3,X4)),\"\")","v":0},{"$f":"IFERROR(SUMIFS(data!$M$3:$M$1000,data!$B$3:$B$1000,score!$B$51,data!$A$3:$A$1000,\">=\"&DATE(score!$B$1,X3,X4),data!$A$3:$A$1000,\"<=\"&DATE(score!$B$1,Y3,Y4)),\"\")","v":0},{"$f":"IFERROR(SUMIFS(data!$M$3:$M$1000,data!$B$3:$B$1000,score!$B$51,data!$A$3:$A$1000,\">=\"&DATE(score!$B$1,Y3,Y4),data!$A$3:$A$1000,\"<=\"&DATE(score!$B$1,Z3,Z4)),\"\")","v":0},{"$f":"IFERROR(SUMIFS(data!$M$3:$M$1000,data!$B$3:$B$1000,score!$B$51,data!$A$3:$A$1000,\">=\"&DATE(score!$B$1,Z3,Z4),data!$A$3:$A$1000,\"<=\"&DATE(score!$B$1,AA3,AA4)),\"\")","v":0},{"$f":"IFERROR(SUMIFS(data!$M$3:$M$1000,data!$B$3:$B$1000,score!$B$51,data!$A$3:$A$1000,\">=\"&DATE(score!$B$1,AA3,AA4),data!$A$3:$A$1000,\"<=\"&DATE(score!$B$1,AB3,AB4)),\"\")","v":0},{"$f":"IFERROR(SUMIFS(data!$M$3:$M$1000,data!$B$3:$B$1000,score!$B$51,data!$A$3:$A$1000,\">=\"&DATE(score!$B$1,AB3,AB4),data!$A$3:$A$1000,\"<=\"&DATE(score!$B$1,AC3,AC4)),\"\")","v":0},{"$f":"IFERROR(SUMIFS(data!$M$3:$M$1000,data!$B$3:$B$1000,score!$B$51,data!$A$3:$A$1000,\">=\"&DATE(score!$B$1,AC3,AC4),data!$A$3:$A$1000,\"<=\"&DATE(score!$B$1,AD3,AD4)),\"\")","v":0},{"$f":"IFERROR(SUMIFS(data!$M$3:$M$1000,data!$B$3:$B$1000,score!$B$51,data!$A$3:$A$1000,\">=\"&DATE(score!$B$1,AD3,AD4),data!$A$3:$A$1000,\"<=\"&DATE(score!$B$1,AE3,AE4)),\"\")","v":0},{"$f":"IFERROR(SUMIFS(data!$M$3:$M$1000,data!$B$3:$B$1000,score!$B$51,data!$A$3:$A$1000,\">=\"&DATE(score!$B$1,AE3,AE4),data!$A$3:$A$1000,\"<=\"&DATE(score!$B$1,AF3,AF4)),\"\")","v":0},{"$f":"IFERROR(SUMIFS(data!$M$3:$M$1000,data!$B$3:$B$1000,score!$B$51,data!$A$3:$A$1000,\">=\"&DATE(score!$B$1,AF3,AF4),data!$A$3:$A$1000,\"<=\"&DATE(score!$B$1,AG3,AG4)),\"\")","v":0},{"$f":"IFERROR(SUMIFS(data!$M$3:$M$1000,data!$B$3:$B$1000,score!$B$51,data!$A$3:$A$1000,\">=\"&DATE(score!$B$1,AG3,AG4),data!$A$3:$A$1000,\"<=\"&DATE(score!$B$1,AH3,AH4)),\"\")","v":0},{"$f":"IFERROR(SUMIFS(data!$M$3:$M$1000,data!$B$3:$B$1000,score!$B$51,data!$A$3:$A$1000,\">=\"&DATE(score!$B$1,AH3,AH4),data!$A$3:$A$1000,\"<=\"&DATE(score!$B$1,AI3,AI4)),\"\")","v":0},{"$f":"IFERROR(SUMIFS(data!$M$3:$M$1000,data!$B$3:$B$1000,score!$B$51,data!$A$3:$A$1000,\">=\"&DATE(score!$B$1,AI3,AI4),data!$A$3:$A$1000,\"<=\"&DATE(score!$B$1,AJ3,AJ4)),\"\")","v":0},{"$f":"IFERROR(SUMIFS(data!$M$3:$M$1000,data!$B$3:$B$1000,score!$B$51,data!$A$3:$A$1000,\">=\"&DATE(score!$B$1,AJ3,AJ4),data!$A$3:$A$1000,\"<=\"&DATE(score!$B$1,AK3,AK4)),\"\")","v":0},{"$f":"IFERROR(SUMIFS(data!$M$3:$M$1000,data!$B$3:$B$1000,score!$B$51,data!$A$3:$A$1000,\">=\"&DATE(score!$B$1,AK3,AK4),data!$A$3:$A$1000,\"<=\"&DATE(score!$B$1,AL3,AL4)),\"\")","v":0},{"$f":"IFERROR(SUMIFS(data!$M$3:$M$1000,data!$B$3:$B$1000,score!$B$51,data!$A$3:$A$1000,\">=\"&DATE(score!$B$1,AL3,AL4),data!$A$3:$A$1000,\"<=\"&DATE(score!$B$1,AM3,AM4)),\"\")","v":0},{"$f":"IFERROR(SUMIFS(data!$M$3:$M$1000,data!$B$3:$B$1000,score!$B$51,data!$A$3:$A$1000,\">=\"&DATE(score!$B$1,AM3,AM4),data!$A$3:$A$1000,\"<=\"&DATE(score!$B$1,AN3,AN4)),\"\")","v":0},{"$f":"IFERROR(SUMIFS(data!$M$3:$M$1000,data!$B$3:$B$1000,score!$B$51,data!$A$3:$A$1000,\">=\"&DATE(score!$B$1,AN3,AN4),data!$A$3:$A$1000,\"<=\"&DATE(score!$B$1,AO3,AO4)),\"\")","v":0},{"$f":"IFERROR(SUMIFS(data!$M$3:$M$1000,data!$B$3:$B$1000,score!$B$51,data!$A$3:$A$1000,\">=\"&DATE(score!$B$1,AO3,AO4),data!$A$3:$A$1000,\"<=\"&DATE(score!$B$1,AP3,AP4)),\"\")","v":0},{"$f":"IFERROR(SUMIFS(data!$M$3:$M$1000,data!$B$3:$B$1000,score!$B$51,data!$A$3:$A$1000,\">=\"&DATE(score!$B$1,AP3,AP4),data!$A$3:$A$1000,\"<=\"&DATE(score!$B$1,AQ3,AQ4)),\"\")","v":0},{"$f":"IFERROR(SUMIFS(data!$M$3:$M$1000,data!$B$3:$B$1000,score!$B$51,data!$A$3:$A$1000,\">=\"&DATE(score!$B$1,AQ3,AQ4),data!$A$3:$A$1000,\"<=\"&DATE(score!$B$1,AR3,AR4)),\"\")","v":0},{"$f":"IFERROR(SUMIFS(data!$M$3:$M$1000,data!$B$3:$B$1000,score!$B$51,data!$A$3:$A$1000,\">=\"&DATE(score!$B$1,AR3,AR4),data!$A$3:$A$1000,\"<=\"&DATE(score!$B$1,AS3,AS4)),\"\")","v":0},{"$f":"IFERROR(SUMIFS(data!$M$3:$M$1000,data!$B$3:$B$1000,score!$B$51,data!$A$3:$A$1000,\">=\"&DATE(score!$B$1,AS3,AS4),data!$A$3:$A$1000,\"<=\"&DATE(score!$B$1,AT3,AT4)),\"\")","v":0},{"$f":"IFERROR(SUMIFS(data!$M$3:$M$1000,data!$B$3:$B$1000,score!$B$51,data!$A$3:$A$1000,\">=\"&DATE(score!$B$1,AT3,AT4),data!$A$3:$A$1000,\"<=\"&DATE(score!$B$1,AU3,AU4)),\"\")","v":0},{"$f":"IFERROR(SUMIFS(data!$M$3:$M$1000,data!$B$3:$B$1000,score!$B$51,data!$A$3:$A$1000,\">=\"&DATE(score!$B$1,AU3,AU4),data!$A$3:$A$1000,\"<=\"&DATE(score!$B$1,AV3,AV4)),\"\")","v":0},{"$f":"IFERROR(SUMIFS(data!$M$3:$M$1000,data!$B$3:$B$1000,score!$B$51,data!$A$3:$A$1000,\">=\"&DATE(score!$B$1,AV3,AV4),data!$A$3:$A$1000,\"<=\"&DATE(score!$B$1,AW3,AW4)),\"\")","v":0},{"$f":"IFERROR(SUMIFS(data!$M$3:$M$1000,data!$B$3:$B$1000,score!$B$51,data!$A$3:$A$1000,\">=\"&DATE(score!$B$1,AW3,AW4),data!$A$3:$A$1000,\"<=\"&DATE(score!$B$1,AX3,AX4)),\"\")","v":0},{"$f":"IFERROR(SUMIFS(data!$M$3:$M$1000,data!$B$3:$B$1000,score!$B$51,data!$A$3:$A$1000,\">=\"&DATE(score!$B$1,AX3,AX4),data!$A$3:$A$1000,\"<=\"&DATE(score!$B$1,AY3,AY4)),\"\")","v":0},{"$f":"IFERROR(SUMIFS(data!$M$3:$M$1000,data!$B$3:$B$1000,score!$B$51,data!$A$3:$A$1000,\">=\"&DATE(score!$B$1,AY3,AY4),data!$A$3:$A$1000,\"<=\"&DATE(score!$B$1,AZ3,AZ4)),\"\")","v":0},{"$f":"IFERROR(SUMIFS(data!$M$3:$M$1000,data!$B$3:$B$1000,score!$B$51,data!$A$3:$A$1000,\">=\"&DATE(score!$B$1,AZ3,AZ4),data!$A$3:$A$1000,\"<=\"&DATE(score!$B$1,BA3,BA4)),\"\")","v":0},{"$f":"IFERROR(SUMIFS(data!$M$3:$M$1000,data!$B$3:$B$1000,score!$B$51,data!$A$3:$A$1000,\">=\"&DATE(score!$B$1,BA3,BA4),data!$A$3:$A$1000,\"<=\"&DATE(score!$B$1,BB3,BB4)),\"\")","v":0},{"$f":"IFERROR(SUMIFS(data!$M$3:$M$1000,data!$B$3:$B$1000,score!$B$51,data!$A$3:$A$1000,\">=\"&DATE(score!$B$1,BB3,BB4),data!$A$3:$A$1000,\"<=\"&DATE(score!$B$1,BC3,BC4)),\"\")","v":0}]
[null,null,{"$f":"IFERROR(SUMIF(C45:G51,\"<>0\"),\"\")","v":0},null,null,null,null,{"$f":"IFERROR(SUMIF(H45:K51,\"<>0\"),\"\")","v":0},null,null,null,{"$f":"IFERROR(SUMIF(L45:O51,\"<>0\"),\"\")","v":0},null,null,null,{"$f":"IFERROR(SUMIF(P45:T51,\"<>0\"),\"\")","v":0},null,null,null,null,{"$f":"IFERROR(SUMIF(U45:X51,\"<>0\"),\"\")","v":0},null,null,null,{"$f":"IFERROR(SUMIF(Y45:AB51,\"<>0\"),\"\")","v":0},null,null,null,{"$f":"IFERROR(SUMIF(AC45:AG51,\"<>0\"),\"\")","v":0},null,null,null,null,{"$f":"IFERROR(SUMIF(AH45:AK51,\"<>0\"),\"\")","v":0},null,null,null,{"$f":"IFERROR(SUMIF(AL45:AP51,\"<>0\"),\"\")","v":0},null,null,null,null,{"$f":"IFERROR(SUMIF(AQ45:AT51,\"<>0\"),\"\")","v":0},null,null,null,{"$f":"IFERROR(SUMIF(AU45:AX51,\"<>0\"),\"\")","v":0},null,null,null,{"$f":"IFERROR(SUMIF(AY45:BB51,\"<>0\"),\"\")","v":0}]
[]
[]
[null,null,"January",null,null,null,null,"February",null,null,null,"March",null,null,null,"April",null,null,null,null,"May",null,null,null,"June",null,null,null,"July",null,null,null,null,"August",null,null,null,"September",null,null,null,null,"October",null,null,null,"November",null,null,null,"December"]
[null,null,"W1","W2","W3","W4","W5","W6","W7","W8","W9","W10","W11","W12","W13","W14","W15","W16","W17","W18","W19","W20","W21","W22","W23","W24","W25","W26","W27","W28","W29","W30","W31","W32","W33","W34","W35","W36","W37","W38","W39","W40","W41","W42","W43","W44","W45","W46","W47","W48","W49","W50","W51","W52"]
[null,null,{"$f":"IFERROR(SUMIFS(data!$R$3:$R$1000,data!$B$3:$B$1000,score!$B$57,data!$A$3:$A$1000,\">=\"&DATE(score!$B$1,C3,C4),data!$A$3:$A$1000,\"<=\"&DATE(score!$B$1,D3,D4)),\"\")","v":0},{"$f":"IFERROR(SUMIFS(data!$R$3:$R$1000,data!$B$3:$B$1000,score!$B$57,data!$A$3:$A$1000,\">=\"&DATE(score!$B$1,D3,D4),data!$A$3:$A$1000,\"<=\"&DATE(score!$B$1,E3,E4)),\"\")","v":0},{"$f":"IFERROR(SUMIFS(data!$R$3:$R$1000,data!$B$3:$B$1000,score!$B$57,data!$A$3:$A$1000,\">=\"&DATE(score!$B$1,E3,E4),data!$A$3:$A$1000,\"<=\"&DATE(score!$B$1,F3,F4)),\"\")","v":0},{"$f":"IFERROR(SUMIFS(data!$R$3:$R$1000,data!$B$3:$B$1000,score!$B$57,data!$A$3:$A$1000,\">=\"&DATE(score!$B$1,F3,F4),data!$A$3:$A$1000,\"<=\"&DATE(score!$B$1,G3,G4)),\"\")","v":0},{"$f":"IFERROR(SUMIFS(data!$R$3:$R$1000,data!$B$3:$B$1000,score!$B$57,data!$A$3:$A$1000,\">=\"&DATE(score!$B$1,G3,G4),data!$A$3:$A$1000,\"<=\"&DATE(score!$B$1,H3,H4)),\"\")","v":0},{"$f":"IFERROR(SUMIFS(data!$R$3:$R$1000,data!$B$3:$B$1000,score!$B$57,data!$A$3:$A$1000,\">=\"&DATE(score!$B$1,H3,H4),data!$A$3:$A$1000,\"<=\"&DATE(score!$B$1,I3,I4)),\"\")","v":0},{"$f":"IFERROR(SUMIFS(data!$R$3:$R$1000,data!$B$3:$B$1000,score!$B$57,data!$A$3:$A$1000,\">=\"&DATE(score!$B$1,I3,I4),data!$A$3:$A$1000,\"<=\"&DATE(score!$B$1,J3,J4)),\"\")","v":0},{"$f":"IFERROR(SUMIFS(data!$R$3:$R$1000,data!$B$3:$B$1000,score!$B$57,data!$A$3:$A$1000,\">=\"&DATE(score!$B$1,J3,J4),data!$A$3:$A$1000,\"<=\"&DATE(score!$B$1,K3,K4)),\"\")","v":0},{"$f":"IFERROR(SUMIFS(data!$R$3:$R$1000,data!$B$3:$B$1000,score!$B$57,data!$A$3:$A$1000,\">=\"&DATE(score!$B$1,K3,K4),data!$A$3:$A$1000,\"<=\"&DATE(score!$B$1,L3,L4)),\"\")","v":0},{"$f":"IFERROR(SUMIFS(data!$R$3:$R$1000,data!$B$3:$B$1000,score!$B$57,data!$A$3:$A$1000,\">=\"&DATE(score!$B$1,L3,L4),data!$A$3:$A$1000,\"<=\"&DATE(score!$B$1,M3,M4)),\"\")","v":0},{"$f":"IFERROR(SUMIFS(data!$R$3:$R$1000,data!$B$3:$B$1000,score!$B$57,data!$A$3:$A$1000,\">=\"&DATE(score!$B$1,M3,M4),data!$A$3:$A$1000,\"<=\"&DATE(score!$B$1,N3,N4)),\"\")","v":0},{"$f":"IFERROR(SUMIFS(data!$R$3:$R$1000,data!$B$3:$B$1000,score!$B$57,data!$A$3:$A$1000,\">=\"&DATE(score!$B$1,N3,N4),data!$A$3:$A$1000,\"<=\"&DATE(score!$B$1,O3,O4)),\"\")","v":0},{"$f":"IFERROR(SUMIFS(data!$R$3:$R$1000,data!$B$3:$B$1000,score!$B$57,data!$A$3:$A$1000,\">=\"&DATE(score!$B$1,O3,O4),data!$A$3:$A$1000,\"<=\"&DATE(score!$B$1,P3,P4)),\"\")","v":0},{"$f":"IFERROR(SUMIFS(data!$R$3:$R$1000,data!$B$3:$B$1000,score!$B$57,data!$A$3:$A$1000,\">=\"&DATE(score!$B$1,P3,P4),data!$A$3:$A$1000,\"<=\"&DATE(score!$B$1,Q3,Q4)),\"\")","v":0},{"$f":"IFERROR(SUMIFS(data!$R$3:$R$1000,data!$B$3:$B$1000,score!$B$57,data!$A$3:$A$1000,\">=\"&DATE(score!$B$1,Q3,Q4),data!$A$3:$A$1000,\"<=\"&DATE(score!$B$1,R3,R4)),\"\")","v":0},{"$f":"IFERROR(SUMIFS(data!$R$3:$R$1000,data!$B$3:$B$1000,score!$B$57,data!$A$3:$A$1000,\">=\"&DATE(score!$B$1,R3,R4),data!$A$3:$A$1000,\"<=\"&DATE(score!$B$1,S3,S4)),\"\")","v":0},{"$f":"IFERROR(SUMIFS(data!$R$3:$R$1000,data!$B$3:$B$1000,score!$B$57,data!$A$3:$A$1000,\">=\"&DATE(score!$B$1,S3,S4),data!$A$3:$A$1000,\"<=\"&DATE(score!$B$1,T3,T4)),\"\")","v":0},{"$f":"IFERROR(SUMIFS(data!$R$3:$R$1000,data!$B$3:$B$1000,score!$B$57,data!$A$3:$A$1000,\">=\"&DATE(score!$B$1,T3,T4),data!$A$3:$A$1000,\"<=\"&DATE(score!$B$1,U3,U4)),\"\")","v":0},{"$f":"IFERROR(SUMIFS(data!$R$3:$R$1000,data!$B$3:$B$1000,score!$B$57,data!$A$3:$A$1000,\">=\"&DATE(score!$B$1,U3,U4),data!$A$3:$A$1000,\"<=\"&DATE(score!$B$1,V3,V4)),\"\")","v":0},{"$f":"IFERROR(SUMIFS(data!$R$3:$R$1000,data!$B$3:$B$1000,score!$B$57,data!$A$3:$A$1000,\">=\"&DATE(score!$B$1,V3,V4),data!$A$3:$A$1000,\"<=\"&DATE(score!$B$1,W3,W4)),\"\")","v":0},{"$f":"IFERROR(SUMIFS(data!$R$3:$R$1000,data!$B$3:$B$1000,score!$B$57,data!$A$3:$A$1000,\">=\"&DATE(score!$B$1,W3,W4),data!$A$3:$A$1000,\"<=\"&DATE(score!$B$1,X3,X4)),\"\")","v":0},{"$f":"IFERROR(SUMIFS(data!$R$3:$R$1000,data!$B$3:$B$1000,score!$B$57,data!$A$3:$A$1000,\">=\"&DATE(score!$B$1,X3,X4),data!$A$3:$A$1000,\"<=\"&DATE(score!$B$1,Y3,Y4)),\"\")","v":0},{"$f":"IFERROR(SUMIFS(data!$R$3:$R$1000,data!$B$3:$B$1000,score!$B$57,data!$A$3:$A$1000,\">=\"&DATE(score!$B$1,Y3,Y4),data!$A$3:$A$1000,\"<=\"&DATE(score!$B$1,Z3,Z4)),\"\")","v":0},{"$f":"IFERROR(SUMIFS(data!$R$3:$R$1000,data!$B$3:$B$1000,score!$B$57,data!$A$3:$A$1000,\">=\"&DATE(score!$B$1,Z3,Z4),data!$A$3:$A$1000,\"<=\"&DATE(score!$B$1,AA3,AA4)),\"\")","v":0},{"$f":"IFERROR(SUMIFS(data!$R$3:$R$1000,data!$B$3:$B$1000,score!$B$57,data!$A$3:$A$1000,\">=\"&DATE(score!$B$1,AA3,AA4),data!$A$3:$A$1000,\"<=\"&DATE(score!$B$1,AB3,AB4)),\"\")","v":0},{"$f":"IFERROR(SUMIFS(data!$R$3:$R$1000,data!$B$3:$B$1000,score!$B$57,data!$A$3:$A$1000,\">=\"&DATE(score!$B$1,AB3,AB4),data!$A$3:$A$1000,\"<=\"&DATE(score!$B$1,AC3,AC4)),\"\")","v":0},{"$f":"IFERROR(SUMIFS(data!$R$3:$R$1000,data!$B$3:$B$1000,score!$B$57,data!$A$3:$A$1000,\">=\"&DATE(score!$B$1,AC3,AC4),data!$A$3:$A$1000,\"<=\"&DATE(score!$B$1,AD3,AD4)),\"\")","v":0},{"$f":"IFERROR(SUMIFS(data!$R$3:$R$1000,data!$B$3:$B$1000,score!$B$57,data!$A$3:$A$1000,\">=\"&DATE(score!$B$1,AD3,AD4),data!$A$3:$A$1000,\"<=\"&DATE(score!$B$1,AE3,AE4)),\"\")","v":0},{"$f":"IFERROR(SUMIFS(data!$R$3:$R$1000,data!$B$3:$B$1000,score!$B$57,data!$A$3:$A$1000,\">=\"&DATE(score!$B$1,AE3,AE4),data!$A$3:$A$1000,\"<=\"&DATE(score!$B$1,AF3,AF4)),\"\")","v":0},{"$f":"IFERROR(SUMIFS(data!$R$3:$R$1000,data!$B$3:$B$1000,score!$B$57,data!$A$3:$A$1000,\">=\"&DATE(score!$B$1,AF3,AF4),data!$A$3:$A$1000,\"<=\"&DATE(score!$B$1,AG3,AG4)),\"\")","v":0},{"$f":"IFERROR(SUMIFS(data!$R$3:$R$1000,data!$B$3:$B$1000,score!$B$57,data!$A$3:$A$1000,\">=\"&DATE(score!$B$1,AG3,AG4),data!$A$3:$A$1000,\"<=\"&DATE(score!$B$1,AH3,AH4)),\"\")","v":0},{"$f":"IFERROR(SUMIFS(data!$R$3:$R$1000,data!$B$3:$B$1000,score!$B$57,data!$A$3:$A$1000,\">=\"&DATE(score!$B$1,AH3,AH4),data!$A$3:$A$1000,\"<=\"&DATE(score!$B$1,AI3,AI4)),\"\")","v":0},{"$f":"IFERROR(SUMIFS(data!$R$3:$R$1000,data!$B$3:$B$1000,score!$B$57,data!$A$3:$A$1000,\">=\"&DATE(score!$B$1,AI3,AI4),data!$A$3:$A$1000,\"<=\"&DATE(score!$B$1,AJ3,AJ4)),\"\")","v":0},{"$f":"IFERROR(SUMIFS(data!$R$3:$R$1000,data!$B$3:$B$1000,score!$B$57,data!$A$3:$A$1000,\">=\"&DATE(score!$B$1,AJ3,AJ4),data!$A$3:$A$1000,\"<=\"&DATE(score!$B$1,AK3,AK4)),\"\")","v":0},{"$f":"IFERROR(SUMIFS(data!$R$3:$R$1000,data!$B$3:$B$1000,score!$B$57,data!$A$3:$A$1000,\">=\"&DATE(score!$B$1,AK3,AK4),data!$A$3:$A$1000,\"<=\"&DATE(score!$B$1,AL3,AL4)),\"\")","v":0},{"$f":"IFERROR(SUMIFS(data!$R$3:$R$1000,data!$B$3:$B$1000,score!$B$57,data!$A$3:$A$1000,\">=\"&DATE(score!$B$1,AL3,AL4),data!$A$3:$A$1000,\"<=\"&DATE(score!$B$1,AM3,AM4)),\"\")","v":0},{"$f":"IFERROR(SUMIFS(data!$R$3:$R$1000,data!$B$3:$B$1000,score!$B$57,data!$A$3:$A$1000,\">=\"&DATE(score!$B$1,AM3,AM4),data!$A$3:$A$1000,\"<=\"&DATE(score!$B$1,AN3,AN4)),\"\")","v":0},{"$f":"IFERROR(SUMIFS(data!$R$3:$R$1000,data!$B$3:$B$1000,score!$B$57,data!$A$3:$A$1000,\">=\"&DATE(score!$B$1,AN3,AN4),data!$A$3:$A$1000,\"<=\"&DATE(score!$B$1,AO3,AO4)),\"\")","v":0},{"$f":"IFERROR(SUMIFS(data!$R$3:$R$1000,data!$B$3:$B$1000,score!$B$57,data!$A$3:$A$1000,\">=\"&DATE(score!$B$1,AO3,AO4),data!$A$3:$A$1000,\"<=\"&DATE(score!$B$1,AP3,AP4)),\"\")","v":0},{"$f":"IFERROR(SUMIFS(data!$R$3:$R$1000,data!$B$3:$B$1000,score!$B$57,data!$A$3:$A$1000,\">=\"&DATE(score!$B$1,AP3,AP4),data!$A$3:$A$1000,\"<=\"&DATE(score!$B$1,AQ3,AQ4)),\"\")","v":0},{"$f":"IFERROR(SUMIFS(data!$R$3:$R$1000,data!$B$3:$B$1000,score!$B$57,data!$A$3:$A$1000,\">=\"&DATE(score!$B$1,AQ3,AQ4),data!$A$3:$A$1000,\"<=\"&DATE(score!$B$1,AR3,AR4)),\"\")","v":0},{"$f":"IFERROR(SUMIFS(data!$R$3:$R$1000,data!$B$3:$B$1000,score!$B$57,data!$A$3:$A$1000,\">=\"&DATE(score!$B$1,AR3,AR4),data!$A$3:$A$1000,\"<=\"&DATE(score!$B$1,AS3,AS4)),\"\")","v":0},{"$f":"IFERROR(SUMIFS(data!$R$3:$R$1000,data!$B$3:$B$1000,score!$B$57,data!$A$3:$A$1000,\">=\"&DATE(score!$B$1,AS3,AS4),data!$A$3:$A$1000,\"<=\"&DATE(score!$B$1,AT3,AT4)),\"\")","v":0},{"$f":"IFERROR(SUMIFS(data!$R$3:$R$1000,data!$B$3:$B$1000,score!$B$57,data!$A$3:$A$1000,\">=\"&DATE(score!$B$1,AT3,AT4),data!$A$3:$A$1000,\"<=\"&DATE(score!$B$1,AU3,AU4)),\"\")","v":0},{"$f":"IFERROR(SUMIFS(data!$R$3:$R$1000,data!$B$3:$B$1000,score!$B$57,data!$A$3:$A$1000,\">=\"&DATE(score!$B$1,AU3,AU4),data!$A$3:$A$1000,\"<=\"&DATE(score!$B$1,AV3,AV4)),\"\")","v":0},{"$f":"IFERROR(SUMIFS(data!$R$3:$R$1000,data!$B$3:$B$1000,score!$B$57,data!$A$3:$A$1000,\">=\"&DATE(score!$B$1,AV3,AV4),data!$A$3:$A$1000,\"<=\"&DATE(score!$B$1,AW3,AW4)),\"\")","v":0},{"$f":"IFERROR(SUMIFS(data!$R$3:$R$1000,data!$B$3:$B$1000,score!$B$57,data!$A$3:$A$1000,\">=\"&DATE(score!$B$1,AW3,AW4),data!$A$3:$A$1000,\"<=\"&DATE(score!$B$1,AX3,AX4)),\"\")","v":0},{"$f":"IFERROR(SUMIFS(data!$R$3:$R$1000,data!$B$3:$B$1000,score!$B$57,data!$A$3:$A$1000,\">=\"&DATE(score!$B$1,AX3,AX4),data!$A$3:$A$1000,\"<=\"&DATE(score!$B$1,AY3,AY4)),\"\")","v":0},{"$f":"IFERROR(SUMIFS(data!$R$3:$R$1000,data!$B$3:$B$1000,score!$B$57,data!$A$3:$A$1000,\">=\"&DATE(score!$B$1,AY3,AY4),data!$A$3:$A$1000,\"<=\"&DATE(score!$B$1,AZ3,AZ4)),\"\")","v":0},{"$f":"IFERROR(SUMIFS(data!$R$3:$R$1000,data!$B$3:$B$1000,score!$B$57,data!$A$3:$A$1000,\">=\"&DATE(score!$B$1,AZ3,AZ4),data!$A$3:$A$1000,\"<=\"&DATE(score!$B$1,BA3,BA4)),\"\")","v":0},{"$f":"IFERROR(SUMIFS(data!$R$3:$R$1000,data!$B$3:$B$1000,score!$B$57,data!$A$3:$A$1000,\">=\"&DATE(score!$B$1,BA3,BA4),data!$A$3:$A$1000,\"<=\"&DATE(score!$B$1,BB3,BB4)),\"\")","v":0},{"$f":"IFERROR(SUMIFS(data!$R$3:$R$1000,data!$B$3:$B$1000,score!$B$57,data!$A$3:$A$1000,\">=\"&DATE(score!$B$1,BB3,BB4),data!$A$3:$A$1000,\"<=\"&DATE(score!$B$1,BC3,BC4)),\"\")","v":0}]
[null,null,{"$f":"IFERROR(SUMIFS(data!$R$3:$R$1000,data!$B$3:$B$1000,score!$B$58,data!$A$3:$A$1000,\">=\"&DATE(score!$B$1,C3,C4),data!$A$3:$A$1000,\"<=\"&DATE(score!$B$1,D3,D4)),\"\")","v":0},{"$f":"IFERROR(SUMIFS(data!$R$3:$R$1000,data!$B$3:$B$1000,score!$B$58,data!$A$3:$A$1000,\">=\"&DATE(score!$B$1,D3,D4),data!$A$3:$A$1000,\"<=\"&DATE(score!$B$1,E3,E4)),\"\")","v":0},{"$f":"IFERROR(SUMIFS(data!$R$3:$R$1000,data!$B$3:$B$1000,score!$B$58,data!$A$3:$A$1000,\">=\"&DATE(score!$B$1,E3,E4),data!$A$3:$A$1000,\"<=\"&DATE(score!$B$1,F3,F4)),\"\")","v":0},{"$f":"IFERROR(SUMIFS(data!$R$3:$R$1000,data!$B$3:$B$1000,score!$B$58,data!$A$3:$A$1000,\">=\"&DATE(score!$B$1,F3,F4),data!$A$3:$A$1000,\"<=\"&DATE(score!$B$1,G3,G4)),\"\")","v":0},{"$f":"IFERROR(SUMIFS(data!$R$3:$R$1000,data!$B$3:$B$1000,score!$B$58,data!$A$3:$A$1000,\">=\"&DATE(score!$B$1,G3,G4),data!$A$3:$A$1000,\"<=\"&DATE(score!$B$1,H3,H4)),\"\")","v":0},{"$f":"IFERROR(SUMIFS(data!$R$3:$R$1000,data!$B$3:$B$1000,score!$B$58,data!$A$3:$A$1000,\">=\"&DATE(score!$B$1,H3,H4),data!$A$3:$A$1000,\"<=\"&DATE(score!$B$1,I3,I4)),\"\")","v":0},{"$f":"IFERROR(SUMIFS(data!$R$3:$R$1000,data!$B$3:$B$1000,score!$B$58,data!$A$3:$A$1000,\">=\"&DATE(score!$B$1,I3,I4),data!$A$3:$A$1000,\"<=\"&DATE(score!$B$1,J3,J4)),\"\")","v":0},{"$f":"IFERROR(SUMIFS(data!$R$3:$R$1000,data!$B$3:$B$1000,score!$B$58,data!$A$3:$A$1000,\">=\"&DATE(score!$B$1,J3,J4),data!$A$3:$A$1000,\"<=\"&DATE(score!$B$1,K3,K4)),\"\")","v":0},{"$f":"IFERROR(SUMIFS(data!$R$3:$R$1000,data!$B$3:$B$1000,score!$B$58,data!$A$3:$A$1000,\">=\"&DATE(score!$B$1,K3,K4),data!$A$3:$A$1000,\"<=\"&DATE(score!$B$1,L3,L4)),\"\")","v":0},{"$f":"IFERROR(SUMIFS(data!$R$3:$R$1000,data!$B$3:$B$1000,score!$B$58,data!$A$3:$A$1000,\">=\"&DATE(score!$B$1,L3,L4),data!$A$3:$A$1000,\"<=\"&DATE(score!$B$1,M3,M4)),\"\")","v":0},{"$f":"IFERROR(SUMIFS(data!$R$3:$R$1000,data!$B$3:$B$1000,score!$B$58,data!$A$3:$A$1000,\">=\"&DATE(score!$B$1,M3,M4),data!$A$3:$A$1000,\"<=\"&DATE(score!$B$1,N3,N4)),\"\")","v":0},{"$f":"IFERROR(SUMIFS(data!$R$3:$R$1000,data!$B$3:$B$1000,score!$B$58,data!$A$3:$A$1000,\">=\"&DATE(score!$B$1,N3,N4),data!$A$3:$A$1000,\"<=\"&DATE(score!$B$1,O3,O4)),\"\")","v":0},{"$f":"IFERROR(SUMIFS(data!$R$3:$R$1000,data!$B$3:$B$1000,score!$B$58,data!$A$3:$A$1000,\">=\"&DATE(score!$B$1,O3,O4),data!$A$3:$A$1000,\"<=\"&DATE(score!$B$1,P3,P4)),\"\")","v":0},{"$f":"IFERROR(SUMIFS(data!$R$3:$R$1000,data!$B$3:$B$1000,score!$B$58,data!$A$3:$A$1000,\">=\"&DATE(score!$B$1,P3,P4),data!$A$3:$A$1000,\"<=\"&DATE(score!$B$1,Q3,Q4)),\"\")","v":0},{"$f":"IFERROR(SUMIFS(data!$R$3:$R$1000,data!$B$3:$B$1000,score!$B$58,data!$A$3:$A$1000,\">=\"&DATE(score!$B$1,Q3,Q4),data!$A$3:$A$1000,\"<=\"&DATE(score!$B$1,R3,R4)),\"\")","v":0},{"$f":"IFERROR(SUMIFS(data!$R$3:$R$1000,data!$B$3:$B$1000,score!$B$58,data!$A$3:$A$1000,\">=\"&DATE(score!$B$1,R3,R4),data!$A$3:$A$1000,\"<=\"&DATE(score!$B$1,S3,S4)),\"\")","v":0},{"$f":"IFERROR(SUMIFS(data!$R$3:$R$1000,data!$B$3:$B$1000,score!$B$58,data!$A$3:$A$1000,\">=\"&DATE(score!$B$1,S3,S4),data!$A$3:$A$1000,\"<=\"&DATE(score!$B$1,T3,T4)),\"\")","v":0},{"$f":"IFERROR(SUMIFS(data!$R$3:$R$1000,data!$B$3:$B$1000,score!$B$58,data!$A$3:$A$1000,\">=\"&DATE(score!$B$1,T3,T4),data!$A$3:$A$1000,\"<=\"&DATE(score!$B$1,U3,U4)),\"\")","v":0},{"$f":"IFERROR(SUMIFS(data!$R$3:$R$1000,data!$B$3:$B$1000,score!$B$58,data!$A$3:$A$1000,\">=\"&DATE(score!$B$1,U3,U4),data!$A$3:$A$1000,\"<=\"&DATE(score!$B$1,V3,V4)),\"\")","v":0},{"$f":"IFERROR(SUMIFS(data!$R$3:$R$1000,data!$B$3:$B$1000,score!$B$58,data!$A$3:$A$1000,\">=\"&DATE(score!$B$1,V3,V4),data!$A$3:$A$1000,\"<=\"&DATE(score!$B$1,W3,W4)),\"\")","v":0},{"$f":"IFERROR(SUMIFS(data!$R$3:$R$1000,data!$B$3:$B$1000,score!$B$58,data!$A$3:$A$1000,\">=\"&DATE(score!$B$1,W3,W4),data!$A$3:$A$1000,\"<=\"&DATE(score!$B$1,X3,X4)),\"\")","v":0},{"$f":"IFERROR(SUMIFS(data!$R$3:$R$1000,data!$B$3:$B$1000,score!$B$58,data!$A$3:$A$1000,\">=\"&DATE(score!$B$1,X3,X4),data!$A$3:$A$1000,\"<=\"&DATE(score!$B$1,Y3,Y4)),\"\")","v":0},{"$f":"IFERROR(SUMIFS(data!$R$3:$R$1000,data!$B$3:$B$1000,score!$B$58,data!$A$3:$A$1000,\">=\"&DATE(score!$B$1,Y3,Y4),data!$A$3:$A$1000,\"<=\"&DATE(score!$B$1,Z3,Z4)),\"\")","v":0},{"$f":"IFERROR(SUMIFS(data!$R$3:$R$1000,data!$B$3:$B$1000,score!$B$58,data!$A$3:$A$1000,\">=\"&DATE(score!$B$1,Z3,Z4),data!$A$3:$A$1000,\"<=\"&DATE(score!$B$1,AA3,AA4)),\"\")","v":0},{"$f":"IFERROR(SUMIFS(data!$R$3:$R$1000,data!$B$3:$B$1000,score!$B$58,data!$A$3:$A$1000,\">=\"&DATE(score!$B$1,AA3,AA4),data!$A$3:$A$1000,\"<=\"&DATE(score!$B$1,AB3,AB4)),\"\")","v":0},{"$f":"IFERROR(SUMIFS(data!$R$3:$R$1000,data!$B$3:$B$1000,score!$B$58,data!$A$3:$A$1000,\">=\"&DATE(score!$B$1,AB3,AB4),data!$A$3:$A$1000,\"<=\"&DATE(score!$B$1,AC3,AC4)),\"\")","v":0},{"$f":"IFERROR(SUMIFS(data!$R$3:$R$1000,data!$B$3:$B$1000,score!$B$58,data!$A$3:$A$1000,\">=\"&DATE(score!$B$1,AC3,AC4),data!$A$3:$A$1000,\"<=\"&DATE(score!$B$1,AD3,AD4)),\"\")","v":0},{"$f":"IFERROR(SUMIFS(data!$R$3:$R$1000,data!$B$3:$B$1000,score!$B$58,data!$A$3:$A$1000,\">=\"&DATE(score!$B$1,AD3,AD4),data!$A$3:$A$1000,\"<=\"&DATE(score!$B$1,AE3,AE4)),\"\")","v":0},{"$f":"IFERROR(SUMIFS(data!$R$3:$R$1000,data!$B$3:$B$1000,score!$B$58,data!$A$3:$A$1000,\">=\"&DATE(score!$B$1,AE3,AE4),data!$A$3:$A$1000,\"<=\"&DATE(score!$B$1,AF3,AF4)),\"\")","v":0},{"$f":"IFERROR(SUMIFS(data!$R$3:$R$1000,data!$B$3:$B$1000,score!$B$58,data!$A$3:$A$1000,\">=\"&DATE(score!$B$1,AF3,AF4),data!$A$3:$A$1000,\"<=\"&DATE(score!$B$1,AG3,AG4)),\"\")","v":0},{"$f":"IFERROR(SUMIFS(data!$R$3:$R$1000,data!$B$3:$B$1000,score!$B$58,data!$A$3:$A$1000,\">=\"&DATE(score!$B$1,AG3,AG4),data!$A$3:$A$1000,\"<=\"&DATE(score!$B$1,AH3,AH4)),\"\")","v":0},{"$f":"IFERROR(SUMIFS(data!$R$3:$R$1000,data!$B$3:$B$1000,score!$B$58,data!$A$3:$A$1000,\">=\"&DATE(score!$B$1,AH3,AH4),data!$A$3:$A$1000,\"<=\"&DATE(score!$B$1,AI3,AI4)),\"\")","v":0},{"$f":"IFERROR(SUMIFS(data!$R$3:$R$1000,data!$B$3:$B$1000,score!$B$58,data!$A$3:$A$1000,\">=\"&DATE(score!$B$1,AI3,AI4),data!$A$3:$A$1000,\"<=\"&DATE(score!$B$1,AJ3,AJ4)),\"\")","v":0},{"$f":"IFERROR(SUMIFS(data!$R$3:$R$1000,data!$B$3:$B$1000,score!$B$58,data!$A$3:$A$1000,\">=\"&DATE(score!$B$1,AJ3,AJ4),data!$A$3:$A$1000,\"<=\"&DATE(score!$B$1,AK3,AK4)),\"\")","v":0},{"$f":"IFERROR(SUMIFS(data!$R$3:$R$1000,data!$B$3:$B$1000,score!$B$58,data!$A$3:$A$1000,\">=\"&DATE(score!$B$1,AK3,AK4),data!$A$3:$A$1000,\"<=\"&DATE(score!$B$1,AL3,AL4)),\"\")","v":0},{"$f":"IFERROR(SUMIFS(data!$R$3:$R$1000,data!$B$3:$B$1000,score!$B$58,data!$A$3:$A$1000,\">=\"&DATE(score!$B$1,AL3,AL4),data!$A$3:$A$1000,\"<=\"&DATE(score!$B$1,AM3,AM4)),\"\")","v":0},{"$f":"IFERROR(SUMIFS(data!$R$3:$R$1000,data!$B$3:$B$1000,score!$B$58,data!$A$3:$A$1000,\">=\"&DATE(score!$B$1,AM3,AM4),data!$A$3:$A$1000,\"<=\"&DATE(score!$B$1,AN3,AN4)),\"\")","v":0},{"$f":"IFERROR(SUMIFS(data!$R$3:$R$1000,data!$B$3:$B$1000,score!$B$58,data!$A$3:$A$1000,\">=\"&DATE(score!$B$1,AN3,AN4),data!$A$3:$A$1000,\"<=\"&DATE(score!$B$1,AO3,AO4)),\"\")","v":0},{"$f":"IFERROR(SUMIFS(data!$R$3:$R$1000,data!$B$3:$B$1000,score!$B$58,data!$A$3:$A$1000,\">=\"&DATE(score!$B$1,AO3,AO4),data!$A$3:$A$1000,\"<=\"&DATE(score!$B$1,AP3,AP4)),\"\")","v":0},{"$f":"IFERROR(SUMIFS(data!$R$3:$R$1000,data!$B$3:$B$1000,score!$B$58,data!$A$3:$A$1000,\">=\"&DATE(score!$B$1,AP3,AP4),data!$A$3:$A$1000,\"<=\"&DATE(score!$B$1,AQ3,AQ4)),\"\")","v":0},{"$f":"IFERROR(SUMIFS(data!$R$3:$R$1000,data!$B$3:$B$1000,score!$B$58,data!$A$3:$A$1000,\">=\"&DATE(score!$B$1,AQ3,AQ4),data!$A$3:$A$1000,\"<=\"&DATE(score!$B$1,AR3,AR4)),\"\")","v":0},{"$f":"IFERROR(SUMIFS(data!$R$3:$R$1000,data!$B$3:$B$1000,score!$B$58,data!$A$3:$A$1000,\">=\"&DATE(score!$B$1,AR3,AR4),data!$A$3:$A$1000,\"<=\"&DATE(score!$B$1,AS3,AS4)),\"\")","v":0},{"$f":"IFERROR(SUMIFS(data!$R$3:$R$1000,data!$B$3:$B$1000,score!$B$58,data!$A$3:$A$1000,\">=\"&DATE(score!$B$1,AS3,AS4),data!$A$3:$A$1000,\"<=\"&DATE(score!$B$1,AT3,AT4)),\"\")","v":0},{"$f":"IFERROR(SUMIFS(data!$R$3:$R$1000,data!$B$3:$B$1000,score!$B$58,data!$A$3:$A$1000,\">=\"&DATE(score!$B$1,AT3,AT4),data!$A$3:$A$1000,\"<=\"&DATE(score!$B$1,AU3,AU4)),\"\")","v":0},{"$f":"IFERROR(SUMIFS(data!$R$3:$R$1000,data!$B$3:$B$1000,score!$B$58,data!$A$3:$A$1000,\">=\"&DATE(score!$B$1,AU3,AU4),data!$A$3:$A$1000,\"<=\"&DATE(score!$B$1,AV3,AV4)),\"\")","v":0},{"$f":"IFERROR(SUMIFS(data!$R$3:$R$1000,data!$B$3:$B$1000,score!$B$58,data!$A$3:$A$1000,\">=\"&DATE(score!$B$1,AV3,AV4),data!$A$3:$A$1000,\"<=\"&DATE(score!$B$1,AW3,AW4)),\"\")","v":0},{"$f":"IFERROR(SUMIFS(data!$R$3:$R$1000,data!$B$3:$B$1000,score!$B$58,data!$A$3:$A$1000,\">=\"&DATE(score!$B$1,AW3,AW4),data!$A$3:$A$1000,\"<=\"&DATE(score!$B$1,AX3,AX4)),\"\")","v":0},{"$f":"IFERROR(SUMIFS(data!$R$3:$R$1000,data!$B$3:$B$1000,score!$B$58,data!$A$3:$A$1000,\">=\"&DATE(score!$B$1,AX3,AX4),data!$A$3:$A$1000,\"<=\"&DATE(score!$B$1,AY3,AY4)),\"\")","v":0},{"$f":"IFERROR(SUMIFS(data!$R$3:$R$1000,data!$B$3:$B$1000,score!$B$58,data!$A$3:$A$1000,\">=\"&DATE(score!$B$1,AY3,AY4),data!$A$3:$A$1000,\"<=\"&DATE(score!$B$1,AZ3,AZ4)),\"\")","v":0},{"$f":"IFERROR(SUMIFS(data!$R$3:$R$1000,data!$B$3:$B$1000,score!$B$58,data!$A$3:$A$1000,\">=\"&DATE(score!$B$1,AZ3,AZ4),data!$A$3:$A$1000,\"<=\"&DATE(score!$B$1,BA3,BA4)),\"\")","v":0},{"$f":"IFERROR(SUMIFS(data!$R$3:$R$1000,data!$B$3:$B$1000,score!$B$58,data!$A$3:$A$1000,\">=\"&DATE(score!$B$1,BA3,BA4),data!$A$3:$A$1000,\"<=\"&DATE(score!$B$1,BB3,BB4)),\"\")","v":0},{"$f":"IFERROR(SUMIFS(data!$R$3:$R$1000,data!$B$3:$B$1000,score!$B$58,data!$A$3:$A$1000,\">=\"&DATE(score!$B$1,BB3,BB4),data!$A$3:$A$1000,\"<=\"&DATE(score!$B$1,BC3,BC4)),\"\")","v":0}]
[null,null,{"$f":"IFERROR(SUMIFS(data!$R$3:$R$1000,data!$B$3:$B$1000,score!$B$59,data!$A$3:$A$1000,\">=\"&DATE(score!$B$1,C3,C4),data!$A$3:$A$1000,\"<=\"&DATE(score!$B$1,D3,D4)),\"\")","v":0},{"$f":"IFERROR(SUMIFS(data!$R$3:$R$1000,data!$B$3:$B$1000,score!$B$59,data!$A$3:$A$1000,\">=\"&DATE(score!$B$1,D3,D4),data!$A$3:$A$1000,\"<=\"&DATE(score!$B$1,E3,E4)),\"\")","v":0},{"$f":"IFERROR(SUMIFS(data!$R$3:$R$1000,data!$B$3:$B$1000,score!$B$59,data!$A$3:$A$1000,\">=\"&DATE(score!$B$1,E3,E4),data!$A$3:$A$1000,\"<=\"&DATE(score!$B$1,F3,F4)),\"\")","v":0},{"$f":"IFERROR(SUMIFS(data!$R$3:$R$1000,data!$B$3:$B$1000,score!$B$59,data!$A$3:$A$1000,\">=\"&DATE(score!$B$1,F3,F4),data!$A$3:$A$1000,\"<=\"&DATE(score!$B$1,G3,G4)),\"\")","v":0},{"$f":"IFERROR(SUMIFS(data!$R$3:$R$1000,data!$B$3:$B$1000,score!$B$59,data!$A$3:$A$1000,\">=\"&DATE(score!$B$1,G3,G4),data!$A$3:$A$1000,\"<=\"&DATE(score!$B$1,H3,H4)),\"\")","v":0},{"$f":"IFERROR(SUMIFS(data!$R$3:$R$1000,data!$B$3:$B$1000,score!$B$59,data!$A$3:$A$1000,\">=\"&DATE(score!$B$1,H3,H4),data!$A$3:$A$1000,\"<=\"&DATE(score!$B$1,I3,I4)),\"\")","v":0},{"$f":"IFERROR(SUMIFS(data!$R$3:$R$1000,data!$B$3:$B$1000,score!$B$59,data!$A$3:$A$1000,\">=\"&DATE(score!$B$1,I3,I4),data!$A$3:$A$1000,\"<=\"&DATE(score!$B$1,J3,J4)),\"\")","v":0},{"$f":"IFERROR(SUMIFS(data!$R$3:$R$1000,data!$B$3:$B$1000,score!$B$59,data!$A$3:$A$1000,\">=\"&DATE(score!$B$1,J3,J4),data!$A$3:$A$1000,\"<=\"&DATE(score!$B$1,K3,K4)),\"\")","v":0},{"$f":"IFERROR(SUMIFS(data!$R$3:$R$1000,data!$B$3:$B$1000,score!$B$59,data!$A$3:$A$1000,\">=\"&DATE(score!$B$1,K3,K4),data!$A$3:$A$1000,\"<=\"&DATE(score!$B$1,L3,L4)),\"\")","v":0},{"$f":"IFERROR(SUMIFS(data!$R$3:$R$1000,data!$B$3:$B$1000,score!$B$59,data!$A$3:$A$1000,\">=\"&DATE(score!$B$1,L3,L4),data!$A$3:$A$1000,\"<=\"&DATE(score!$B$1,M3,M4)),\"\")","v":0},{"$f":"IFERROR(SUMIFS(data!$R$3:$R$1000,data!$B$3:$B$1000,score!$B$59,data!$A$3:$A$1000,\">=\"&DATE(score!$B$1,M3,M4),data!$A$3:$A$1000,\"<=\"&DATE(score!$B$1,N3,N4)),\"\")","v":0},{"$f":"IFERROR(SUMIFS(data!$R$3:$R$1000,data!$B$3:$B$1000,score!$B$59,data!$A$3:$A$1000,\">=\"&DATE(score!$B$1,N3,N4),data!$A$3:$A$1000,\"<=\"&DATE(score!$B$1,O3,O4)),\"\")","v":0},{"$f":"IFERROR(SUMIFS(data!$R$3:$R$1000,data!$B$3:$B$1000,score!$B$59,data!$A$3:$A$1000,\">=\"&DATE(score!$B$1,O3,O4),data!$A$3:$A$1000,\"<=\"&DATE(score!$B$1,P3,P4)),\"\")","v":0},{"$f":"IFERROR(SUMIFS(data!$R$3:$R$1000,data!$B$3:$B$1000,score!$B$59,data!$A$3:$A$1000,\">=\"&DATE(score!$B$1,P3,P4),data!$A$3:$A$1000,\"<=\"&DATE(score!$B$1,Q3,Q4)),\"\")","v":0},{"$f":"IFERROR(SUMIFS(data!$R$3:$R$1000,data!$B$3:$B$1000,score!$B$59,data!$A$3:$A$1000,\">=\"&DATE(score!$B$1,Q3,Q4),data!$A$3:$A$1000,\"<=\"&DATE(score!$B$1,R3,R4)),\"\")","v":0},{"$f":"IFERROR(SUMIFS(data!$R$3:$R$1000,data!$B$3:$B$1000,score!$B$59,data!$A$3:$A$1000,\">=\"&DATE(score!$B$1,R3,R4),data!$A$3:$A$1000,\"<=\"&DATE(score!$B$1,S3,S4)),\"\")","v":0},{"$f":"IFERROR(SUMIFS(data!$R$3:$R$1000,data!$B$3:$B$1000,score!$B$59,data!$A$3:$A$1000,\">=\"&DATE(score!$B$1,S3,S4),data!$A$3:$A$1000,\"<=\"&DATE(score!$B$1,T3,T4)),\"\")","v":0},{"$f":"IFERROR(SUMIFS(data!$R$3:$R$1000,data!$B$3:$B$1000,score!$B$59,data!$A$3:$A$1000,\">=\"&DATE(score!$B$1,T3,T4),data!$A$3:$A$1000,\"<=\"&DATE(score!$B$1,U3,U4)),\"\")","v":0},{"$f":"IFERROR(SUMIFS(data!$R$3:$R$1000,data!$B$3:$B$1000,score!$B$59,data!$A$3:$A$1000,\">=\"&DATE(score!$B$1,U3,U4),data!$A$3:$A$1000,\"<=\"&DATE(score!$B$1,V3,V4)),\"\")","v":0},{"$f":"IFERROR(SUMIFS(data!$R$3:$R$1000,data!$B$3:$B$1000,score!$B$59,data!$A$3:$A$1000,\">=\"&DATE(score!$B$1,V3,V4),data!$A$3:$A$1000,\"<=\"&DATE(score!$B$1,W3,W4)),\"\")","v":0},{"$f":"IFERROR(SUMIFS(data!$R$3:$R$1000,data!$B$3:$B$1000,score!$B$59,data!$A$3:$A$1000,\">=\"&DATE(score!$B$1,W3,W4),data!$A$3:$A$1000,\"<=\"&DATE(score!$B$1,X3,X4)),\"\")","v":0},{"$f":"IFERROR(SUMIFS(data!$R$3:$R$1000,data!$B$3:$B$1000,score!$B$59,data!$A$3:$A$1000,\">=\"&DATE(score!$B$1,X3,X4),data!$A$3:$A$1000,\"<=\"&DATE(score!$B$1,Y3,Y4)),\"\")","v":0},{"$f":"IFERROR(SUMIFS(data!$R$3:$R$1000,data!$B$3:$B$1000,score!$B$59,data!$A$3:$A$1000,\">=\"&DATE(score!$B$1,Y3,Y4),data!$A$3:$A$1000,\"<=\"&DATE(score!$B$1,Z3,Z4)),\"\")","v":0},{"$f":"IFERROR(SUMIFS(data!$R$3:$R$1000,data!$B$3:$B$1000,score!$B$59,data!$A$3:$A$1000,\">=\"&DATE(score!$B$1,Z3,Z4),data!$A$3:$A$1000,\"<=\"&DATE(score!$B$1,AA3,AA4)),\"\")","v":0},{"$f":"IFERROR(SUMIFS(data!$R$3:$R$1000,data!$B$3:$B$1000,score!$B$59,data!$A$3:$A$1000,\">=\"&DATE(score!$B$1,AA3,AA4),data!$A$3:$A$1000,\"<=\"&DATE(score!$B$1,AB3,AB4)),\"\")","v":0},{"$f":"IFERROR(SUMIFS(data!$R$3:$R$1000,data!$B$3:$B$1000,score!$B$59,data!$A$3:$A$1000,\">=\"&DATE(score!$B$1,AB3,AB4),data!$A$3:$A$1000,\"<=\"&DATE(score!$B$1,AC3,AC4)),\"\")","v":0},{"$f":"IFERROR(SUMIFS(data!$R$3:$R$1000,data!$B$3:$B$1000,score!$B$59,data!$A$3:$A$1000,\">=\"&DATE(score!$B$1,AC3,AC4),data!$A$3:$A$1000,\"<=\"&DATE(score!$B$1,AD3,AD4)),\"\")","v":0},{"$f":"IFERROR(SUMIFS(data!$R$3:$R$1000,data!$B$3:$B$1000,score!$B$59,data!$A$3:$A$1000,\">=\"&DATE(score!$B$1,AD3,AD4),data!$A$3:$A$1000,\"<=\"&DATE(score!$B$1,AE3,AE4)),\"\")","v":0},{"$f":"IFERROR(SUMIFS(data!$R$3:$R$1000,data!$B$3:$B$1000,score!$B$59,data!$A$3:$A$1000,\">=\"&DATE(score!$B$1,AE3,AE4),data!$A$3:$A$1000,\"<=\"&DATE(score!$B$1,AF3,AF4)),\"\")","v":0},{"$f":"IFERROR(SUMIFS(data!$R$3:$R$1000,data!$B$3:$B$1000,score!$B$59,data!$A$3:$A$1000,\">=\"&DATE(score!$B$1,AF3,AF4),data!$A$3:$A$1000,\"<=\"&DATE(score!$B$1,AG3,AG4)),\"\")","v":0},{"$f":"IFERROR(SUMIFS(data!$R$3:$R$1000,data!$B$3:$B$1000,score!$B$59,data!$A$3:$A$1000,\">=\"&DATE(score!$B$1,AG3,AG4),data!$A$3:$A$1000,\"<=\"&DATE(score!$B$1,AH3,AH4)),\"\")","v":0},{"$f":"IFERROR(SUMIFS(data!$R$3:$R$1000,data!$B$3:$B$1000,score!$B$59,data!$A$3:$A$1000,\">=\"&DATE(score!$B$1,AH3,AH4),data!$A$3:$A$1000,\"<=\"&DATE(score!$B$1,AI3,AI4)),\"\")","v":0},{"$f":"IFERROR(SUMIFS(data!$R$3:$R$1000,data!$B$3:$B$1000,score!$B$59,data!$A$3:$A$1000,\">=\"&DATE(score!$B$1,AI3,AI4),data!$A$3:$A$1000,\"<=\"&DATE(score!$B$1,AJ3,AJ4)),\"\")","v":0},{"$f":"IFERROR(SUMIFS(data!$R$3:$R$1000,data!$B$3:$B$1000,score!$B$59,data!$A$3:$A$1000,\">=\"&DATE(score!$B$1,AJ3,AJ4),data!$A$3:$A$1000,\"<=\"&DATE(score!$B$1,AK3,AK4)),\"\")","v":0},{"$f":"IFERROR(SUMIFS(data!$R$3:$R$1000,data!$B$3:$B$1000,score!$B$59,data!$A$3:$A$1000,\">=\"&DATE(score!$B$1,AK3,AK4),data!$A$3:$A$1000,\"<=\"&DATE(score!$B$1,AL3,AL4)),\"\")","v":0},{"$f":"IFERROR(SUMIFS(data!$R$3:$R$1000,data!$B$3:$B$1000,score!$B$59,data!$A$3:$A$1000,\">=\"&DATE(score!$B$1,AL3,AL4),data!$A$3:$A$1000,\"<=\"&DATE(score!$B$1,AM3,AM4)),\"\")","v":0},{"$f":"IFERROR(SUMIFS(data!$R$3:$R$1000,data!$B$3:$B$1000,score!$B$59,data!$A$3:$A$1000,\">=\"&DATE(score!$B$1,AM3,AM4),data!$A$3:$A$1000,\"<=\"&DATE(score!$B$1,AN3,AN4)),\"\")","v":0},{"$f":"IFERROR(SUMIFS(data!$R$3:$R$1000,data!$B$3:$B$1000,score!$B$59,data!$A$3:$A$1000,\">=\"&DATE(score!$B$1,AN3,AN4),data!$A$3:$A$1000,\"<=\"&DATE(score!$B$1,AO3,AO4)),\"\")","v":0},{"$f":"IFERROR(SUMIFS(data!$R$3:$R$1000,data!$B$3:$B$1000,score!$B$59,data!$A$3:$A$1000,\">=\"&DATE(score!$B$1,AO3,AO4),data!$A$3:$A$1000,\"<=\"&DATE(score!$B$1,AP3,AP4)),\"\")","v":0},{"$f":"IFERROR(SUMIFS(data!$R$3:$R$1000,data!$B$3:$B$1000,score!$B$59,data!$A$3:$A$1000,\">=\"&DATE(score!$B$1,AP3,AP4),data!$A$3:$A$1000,\"<=\"&DATE(score!$B$1,AQ3,AQ4)),\"\")","v":0},{"$f":"IFERROR(SUMIFS(data!$R$3:$R$1000,data!$B$3:$B$1000,score!$B$59,data!$A$3:$A$1000,\">=\"&DATE(score!$B$1,AQ3,AQ4),data!$A$3:$A$1000,\"<=\"&DATE(score!$B$1,AR3,AR4)),\"\")","v":0},{"$f":"IFERROR(SUMIFS(data!$R$3:$R$1000,data!$B$3:$B$1000,score!$B$59,data!$A$3:$A$1000,\">=\"&DATE(score!$B$1,AR3,AR4),data!$A$3:$A$1000,\"<=\"&DATE(score!$B$1,AS3,AS4)),\"\")","v":0},{"$f":"IFERROR(SUMIFS(data!$R$3:$R$1000,data!$B$3:$B$1000,score!$B$59,data!$A$3:$A$1000,\">=\"&DATE(score!$B$1,AS3,AS4),data!$A$3:$A$1000,\"<=\"&DATE(score!$B$1,AT3,AT4)),\"\")","v":0},{"$f":"IFERROR(SUMIFS(data!$R$3:$R$1000,data!$B$3:$B$1000,score!$B$59,data!$A$3:$A$1000,\">=\"&DATE(score!$B$1,AT3,AT4),data!$A$3:$A$1000,\"<=\"&DATE(score!$B$1,AU3,AU4)),\"\")","v":0},{"$f":"IFERROR(SUMIFS(data!$R$3:$R$1000,data!$B$3:$B$1000,score!$B$59,data!$A$3:$A$1000,\">=\"&DATE(score!$B$1,AU3,AU4),data!$A$3:$A$1000,\"<=\"&DATE(score!$B$1,AV3,AV4)),\"\")","v":0},{"$f":"IFERROR(SUMIFS(data!$R$3:$R$1000,data!$B$3:$B$1000,score!$B$59,data!$A$3:$A$1000,\">=\"&DATE(score!$B$1,AV3,AV4),data!$A$3:$A$1000,\"<=\"&DATE(score!$B$1,AW3,AW4)),\"\")","v":0},{"$f":"IFERROR(SUMIFS(data!$R$3:$R$1000,data!$B$3:$B$1000,score!$B$59,data!$A$3:$A$1000,\">=\"&DATE(score!$B$1,AW3,AW4),data!$A$3:$A$1000,\"<=\"&DATE(score!$B$1,AX3,AX4)),\"\")","v":0},{"$f":"IFERROR(SUMIFS(data!$R$3:$R$1000,data!$B$3:$B$1000,score!$B$59,data!$A$3:$A$1000,\">=\"&DATE(score!$B$1,AX3,AX4),data!$A$3:$A$1000,\"<=\"&DATE(score!$B$1,AY3,AY4)),\"\")","v":0},{"$f":"IFERROR(SUMIFS(data!$R$3:$R$1000,data!$B$3:$B$1000,score!$B$59,data!$A$3:$A$1000,\">=\"&DATE(score!$B$1,AY3,AY4),data!$A$3:$A$1000,\"<=\"&DATE(score!$B$1,AZ3,AZ4)),\"\")","v":0},{"$f":"IFERROR(SUMIFS(data!$R$3:$R$1000,data!$B$3:$B$1000,score!$B$59,data!$A$3:$A$1000,\">=\"&DATE(score!$B$1,AZ3,AZ4),data!$A$3:$A$1000,\"<=\"&DATE(score!$B$1,BA3,BA4)),\"\")","v":0},{"$f":"IFERROR(SUMIFS(data!$R$3:$R$1000,data!$B$3:$B$1000,score!$B$59,data!$A$3:$A$1000,\">=\"&DATE(score!$B$1,BA3,BA4),data!$A$3:$A$1000,\"<=\"&DATE(score!$B$1,BB3,BB4)),\"\")","v":0},{"$f":"IFERROR(SUMIFS(data!$R$3:$R$1000,data!$B$3:$B$1000,score!$B$59,data!$A$3:$A$1000,\">=\"&DATE(score!$B$1,BB3,BB4),data!$A$3:$A$1000,\"<=\"&DATE(score!$B$1,BC3,BC4)),\"\")","v":0}]
[null,null,{"$f":"IFERROR(SUMIFS(data!$R$3:$R$1000,data!$B$3:$B$1000,score!$B$60,data!$A$3:$A$1000,\">=\"&DATE(score!$B$1,C3,C4),data!$A$3:$A$1000,\"<=\"&DATE(score!$B$1,D3,D4)),\"\")","v":0},{"$f":"IFERROR(SUMIFS(data!$R$3:$R$1000,data!$B$3:$B$1000,score!$B$60,data!$A$3:$A$1000,\">=\"&DATE(score!$B$1,D3,D4),data!$A$3:$A$1000,\"<=\"&DATE(score!$B$1,E3,E4)),\"\")","v":0},{"$f":"IFERROR(SUMIFS(data!$R$3:$R$1000,data!$B$3:$B$1000,score!$B$60,data!$A$3:$A$1000,\">=\"&DATE(score!$B$1,E3,E4),data!$A$3:$A$1000,\"<=\"&DATE(score!$B$1,F3,F4)),\"\")","v":0},{"$f":"IFERROR(SUMIFS(data!$R$3:$R$1000,data!$B$3:$B$1000,score!$B$60,data!$A$3:$A$1000,\">=\"&DATE(score!$B$1,F3,F4),data!$A$3:$A$1000,\"<=\"&DATE(score!$B$1,G3,G4)),\"\")","v":0},{"$f":"IFERROR(SUMIFS(data!$R$3:$R$1000,data!$B$3:$B$1000,score!$B$60,data!$A$3:$A$1000,\">=\"&DATE(score!$B$1,G3,G4),data!$A$3:$A$1000,\"<=\"&DATE(score!$B$1,H3,H4)),\"\")","v":0},{"$f":"IFERROR(SUMIFS(data!$R$3:$R$1000,data!$B$3:$B$1000,score!$B$60,data!$A$3:$A$1000,\">=\"&DATE(score!$B$1,H3,H4),data!$A$3:$A$1000,\"<=\"&DATE(score!$B$1,I3,I4)),\"\")","v":0},{"$f":"IFERROR(SUMIFS(data!$R$3:$R$1000,data!$B$3:$B$1000,score!$B$60,data!$A$3:$A$1000,\">=\"&DATE(score!$B$1,I3,I4),data!$A$3:$A$1000,\"<=\"&DATE(score!$B$1,J3,J4)),\"\")","v":0},{"$f":"IFERROR(SUMIFS(data!$R$3:$R$1000,data!$B$3:$B$1000,score!$B$60,data!$A$3:$A$1000,\">=\"&DATE(score!$B$1,J3,J4),data!$A$3:$A$1000,\"<=\"&DATE(score!$B$1,K3,K4)),\"\")","v":0},{"$f":"IFERROR(SUMIFS(data!$R$3:$R$1000,data!$B$3:$B$1000,score!$B$60,data!$A$3:$A$1000,\">=\"&DATE(score!$B$1,K3,K4),data!$A$3:$A$1000,\"<=\"&DATE(score!$B$1,L3,L4)),\"\")","v":0},{"$f":"IFERROR(SUMIFS(data!$R$3:$R$1000,data!$B$3:$B$1000,score!$B$60,data!$A$3:$A$1000,\">=\"&DATE(score!$B$1,L3,L4),data!$A$3:$A$1000,\"<=\"&DATE(score!$B$1,M3,M4)),\"\")","v":0},{"$f":"IFERROR(SUMIFS(data!$R$3:$R$1000,data!$B$3:$B$1000,score!$B$60,data!$A$3:$A$1000,\">=\"&DATE(score!$B$1,M3,M4),data!$A$3:$A$1000,\"<=\"&DATE(score!$B$1,N3,N4)),\"\")","v":0},{"$f":"IFERROR(SUMIFS(data!$R$3:$R$1000,data!$B$3:$B$1000,score!$B$60,data!$A$3:$A$1000,\">=\"&DATE(score!$B$1,N3,N4),data!$A$3:$A$1000,\"<=\"&DATE(score!$B$1,O3,O4)),\"\")","v":0},{"$f":"IFERROR(SUMIFS(data!$R$3:$R$1000,data!$B$3:$B$1000,score!$B$60,data!$A$3:$A$1000,\">=\"&DATE(score!$B$1,O3,O4),data!$A$3:$A$1000,\"<=\"&DATE(score!$B$1,P3,P4)),\"\")","v":0},{"$f":"IFERROR(SUMIFS(data!$R$3:$R$1000,data!$B$3:$B$1000,score!$B$60,data!$A$3:$A$1000,\">=\"&DATE(score!$B$1,P3,P4),data!$A$3:$A$1000,\"<=\"&DATE(score!$B$1,Q3,Q4)),\"\")","v":0},{"$f":"IFERROR(SUMIFS(data!$R$3:$R$1000,data!$B$3:$B$1000,score!$B$60,data!$A$3:$A$1000,\">=\"&DATE(score!$B$1,Q3,Q4),data!$A$3:$A$1000,\"<=\"&DATE(score!$B$1,R3,R4)),\"\")","v":0},{"$f":"IFERROR(SUMIFS(data!$R$3:$R$1000,data!$B$3:$B$1000,score!$B$60,data!$A$3:$A$1000,\">=\"&DATE(score!$B$1,R3,R4),data!$A$3:$A$1000,\"<=\"&DATE(score!$B$1,S3,S4)),\"\")","v":0},{"$f":"IFERROR(SUMIFS(data!$R$3:$R$1000,data!$B$3:$B$1000,score!$B$60,data!$A$3:$A$1000,\">=\"&DATE(score!$B$1,S3,S4),data!$A$3:$A$1000,\"<=\"&DATE(score!$B$1,T3,T4)),\"\")","v":0},{"$f":"IFERROR(SUMIFS(data!$R$3:$R$1000,data!$B$3:$B$1000,score!$B$60,data!$A$3:$A$1000,\">=\"&DATE(score!$B$1,T3,T4),data!$A$3:$A$1000,\"<=\"&DATE(score!$B$1,U3,U4)),\"\")","v":0},{"$f":"IFERROR(SUMIFS(data!$R$3:$R$1000,data!$B$3:$B$1000,score!$B$60,data!$A$3:$A$1000,\">=\"&DATE(score!$B$1,U3,U4),data!$A$3:$A$1000,\"<=\"&DATE(score!$B$1,V3,V4)),\"\")","v":0},{"$f":"IFERROR(SUMIFS(data!$R$3:$R$1000,data!$B$3:$B$1000,score!$B$60,data!$A$3:$A$1000,\">=\"&DATE(score!$B$1,V3,V4),data!$A$3:$A$1000,\"<=\"&DATE(score!$B$1,W3,W4)),\"\")","v":0},{"$f":"IFERROR(SUMIFS(data!$R$3:$R$1000,data!$B$3:$B$1000,score!$B$60,data!$A$3:$A$1000,\">=\"&DATE(score!$B$1,W3,W4),data!$A$3:$A$1000,\"<=\"&DATE(score!$B$1,X3,X4)),\"\")","v":0},{"$f":"IFERROR(SUMIFS(data!$R$3:$R$1000,data!$B$3:$B$1000,score!$B$60,data!$A$3:$A$1000,\">=\"&DATE(score!$B$1,X3,X4),data!$A$3:$A$1000,\"<=\"&DATE(score!$B$1,Y3,Y4)),\"\")","v":0},{"$f":"IFERROR(SUMIFS(data!$R$3:$R$1000,data!$B$3:$B$1000,score!$B$60,data!$A$3:$A$1000,\">=\"&DATE(score!$B$1,Y3,Y4),data!$A$3:$A$1000,\"<=\"&DATE(score!$B$1,Z3,Z4)),\"\")","v":0},{"$f":"IFERROR(SUMIFS(data!$R$3:$R$1000,data!$B$3:$B$1000,score!$B$60,data!$A$3:$A$1000,\">=\"&DATE(score!$B$1,Z3,Z4),data!$A$3:$A$1000,\"<=\"&DATE(score!$B$1,AA3,AA4)),\"\")","v":0},{"$f":"IFERROR(SUMIFS(data!$R$3:$R$1000,data!$B$3:$B$1000,score!$B$60,data!$A$3:$A$1000,\">=\"&DATE(score!$B$1,AA3,AA4),data!$A$3:$A$1000,\"<=\"&DATE(score!$B$1,AB3,AB4)),\"\")","v":0},{"$f":"IFERROR(SUMIFS(data!$R$3:$R$1000,data!$B$3:$B$1000,score!$B$60,data!$A$3:$A$1000,\">=\"&DATE(score!$B$1,AB3,AB4),data!$A$3:$A$1000,\"<=\"&DATE(score!$B$1,AC3,AC4)),\"\")","v":0},{"$f":"IFERROR(SUMIFS(data!$R$3:$R$1000,data!$B$3:$B$1000,score!$B$60,data!$A$3:$A$1000,\">=\"&DATE(score!$B$1,AC3,AC4),data!$A$3:$A$1000,\"<=\"&DATE(score!$B$1,AD3,AD4)),\"\")","v":0},{"$f":"IFERROR(SUMIFS(data!$R$3:$R$1000,data!$B$3:$B$1000,score!$B$60,data!$A$3:$A$1000,\">=\"&DATE(score!$B$1,AD3,AD4),data!$A$3:$A$1000,\"<=\"&DATE(score!$B$1,AE3,AE4)),\"\")","v":0},{"$f":"IFERROR(SUMIFS(data!$R$3:$R$1000,data!$B$3:$B$1000,score!$B$60,data!$A$3:$A$1000,\">=\"&DATE(score!$B$1,AE3,AE4),data!$A$3:$A$1000,\"<=\"&DATE(score!$B$1,AF3,AF4)),\"\")","v":0},{"$f":"IFERROR(SUMIFS(data!$R$3:$R$1000,data!$B$3:$B$1000,score!$B$60,data!$A$3:$A$1000,\">=\"&DATE(score!$B$1,AF3,AF4),data!$A$3:$A$1000,\"<=\"&DATE(score!$B$1,AG3,AG4)),\"\")","v":0},{"$f":"IFERROR(SUMIFS(data!$R$3:$R$1000,data!$B$3:$B$1000,score!$B$60,data!$A$3:$A$1000,\">=\"&DATE(score!$B$1,AG3,AG4),data!$A$3:$A$1000,\"<=\"&DATE(score!$B$1,AH3,AH4)),\"\")","v":0},{"$f":"IFERROR(SUMIFS(data!$R$3:$R$1000,data!$B$3:$B$1000,score!$B$60,data!$A$3:$A$1000,\">=\"&DATE(score!$B$1,AH3,AH4),data!$A$3:$A$1000,\"<=\"&DATE(score!$B$1,AI3,AI4)),\"\")","v":0},{"$f":"IFERROR(SUMIFS(data!$R$3:$R$1000,data!$B$3:$B$1000,score!$B$60,data!$A$3:$A$1000,\">=\"&DATE(score!$B$1,AI3,AI4),data!$A$3:$A$1000,\"<=\"&DATE(score!$B$1,AJ3,AJ4)),\"\")","v":0},{"$f":"IFERROR(SUMIFS(data!$R$3:$R$1000,data!$B$3:$B$1000,score!$B$60,data!$A$3:$A$1000,\">=\"&DATE(score!$B$1,AJ3,AJ4),data!$A$3:$A$1000,\"<=\"&DATE(score!$B$1,AK3,AK4)),\"\")","v":0},{"$f":"IFERROR(SUMIFS(data!$R$3:$R$1000,data!$B$3:$B$1000,score!$B$60,data!$A$3:$A$1000,\">=\"&DATE(score!$B$1,AK3,AK4),data!$A$3:$A$1000,\"<=\"&DATE(score!$B$1,AL3,AL4)),\"\")","v":0},{"$f":"IFERROR(SUMIFS(data!$R$3:$R$1000,data!$B$3:$B$1000,score!$B$60,data!$A$3:$A$1000,\">=\"&DATE(score!$B$1,AL3,AL4),data!$A$3:$A$1000,\"<=\"&DATE(score!$B$1,AM3,AM4)),\"\")","v":0},{"$f":"IFERROR(SUMIFS(data!$R$3:$R$1000,data!$B$3:$B$1000,score!$B$60,data!$A$3:$A$1000,\">=\"&DATE(score!$B$1,AM3,AM4),data!$A$3:$A$1000,\"<=\"&DATE(score!$B$1,AN3,AN4)),\"\")","v":0},{"$f":"IFERROR(SUMIFS(data!$R$3:$R$1000,data!$B$3:$B$1000,score!$B$60,data!$A$3:$A$1000,\">=\"&DATE(score!$B$1,AN3,AN4),data!$A$3:$A$1000,\"<=\"&DATE(score!$B$1,AO3,AO4)),\"\")","v":0},{"$f":"IFERROR(SUMIFS(data!$R$3:$R$1000,data!$B$3:$B$1000,score!$B$60,data!$A$3:$A$1000,\">=\"&DATE(score!$B$1,AO3,AO4),data!$A$3:$A$1000,\"<=\"&DATE(score!$B$1,AP3,AP4)),\"\")","v":0},{"$f":"IFERROR(SUMIFS(data!$R$3:$R$1000,data!$B$3:$B$1000,score!$B$60,data!$A$3:$A$1000,\">=\"&DATE(score!$B$1,AP3,AP4),data!$A$3:$A$1000,\"<=\"&DATE(score!$B$1,AQ3,AQ4)),\"\")","v":0},{"$f":"IFERROR(SUMIFS(data!$R$3:$R$1000,data!$B$3:$B$1000,score!$B$60,data!$A$3:$A$1000,\">=\"&DATE(score!$B$1,AQ3,AQ4),data!$A$3:$A$1000,\"<=\"&DATE(score!$B$1,AR3,AR4)),\"\")","v":0},{"$f":"IFERROR(SUMIFS(data!$R$3:$R$1000,data!$B$3:$B$1000,score!$B$60,data!$A$3:$A$1000,\">=\"&DATE(score!$B$1,AR3,AR4),data!$A$3:$A$1000,\"<=\"&DATE(score!$B$1,AS3,AS4)),\"\")","v":0},{"$f":"IFERROR(SUMIFS(data!$R$3:$R$1000,data!$B$3:$B$1000,score!$B$60,data!$A$3:$A$1000,\">=\"&DATE(score!$B$1,AS3,AS4),data!$A$3:$A$1000,\"<=\"&DATE(score!$B$1,AT3,AT4)),\"\")","v":0},{"$f":"IFERROR(SUMIFS(data!$R$3:$R$1000,data!$B$3:$B$1000,score!$B$60,data!$A$3:$A$1000,\">=\"&DATE(score!$B$1,AT3,AT4),data!$A$3:$A$1000,\"<=\"&DATE(score!$B$1,AU3,AU4)),\"\")","v":0},{"$f":"IFERROR(SUMIFS(data!$R$3:$R$1000,data!$B$3:$B$1000,score!$B$60,data!$A$3:$A$1000,\">=\"&DATE(score!$B$1,AU3,AU4),data!$A$3:$A$1000,\"<=\"&DATE(score!$B$1,AV3,AV4)),\"\")","v":0},{"$f":"IFERROR(SUMIFS(data!$R$3:$R$1000,data!$B$3:$B$1000,score!$B$60,data!$A$3:$A$1000,\">=\"&DATE(score!$B$1,AV3,AV4),data!$A$3:$A$1000,\"<=\"&DATE(score!$B$1,AW3,AW4)),\"\")","v":0},{"$f":"IFERROR(SUMIFS(data!$R$3:$R$1000,data!$B$3:$B$1000,score!$B$60,data!$A$3:$A$1000,\">=\"&DATE(score!$B$1,AW3,AW4),data!$A$3:$A$1000,\"<=\"&DATE(score!$B$1,AX3,AX4)),\"\")","v":0},{"$f":"IFERROR(SUMIFS(data!$R$3:$R$1000,data!$B$3:$B$1000,score!$B$60,data!$A$3:$A$1000,\">=\"&DATE(score!$B$1,AX3,AX4),data!$A$3:$A$1000,\"<=\"&DATE(score!$B$1,AY3,AY4)),\"\")","v":0},{"$f":"IFERROR(SUMIFS(data!$R$3:$R$1000,data!$B$3:$B$1000,score!$B$60,data!$A$3:$A$1000,\">=\"&DATE(score!$B$1,AY3,AY4),data!$A$3:$A$1000,\"<=\"&DATE(score!$B$1,AZ3,AZ4)),\"\")","v":0},{"$f":"IFERROR(SUMIFS(data!$R$3:$R$1000,data!$B$3:$B$1000,score!$B$60,data!$A$3:$A$1000,\">=\"&DATE(score!$B$1,AZ3,AZ4),data!$A$3:$A$1000,\"<=\"&DATE(score!$B$1,BA3,BA4)),\"\")","v":0},{"$f":"IFERROR(SUMIFS(data!$R$3:$R$1000,data!$B$3:$B$1000,score!$B$60,data!$A$3:$A$1000,\">=\"&DATE(score!$B$1,BA3,BA4),data!$A$3:$A$1000,\"<=\"&DATE(score!$B$1,BB3,BB4)),\"\")","v":0},{"$f":"IFERROR(SUMIFS(data!$R$3:$R$1000,data!$B$3:$B$1000,score!$B$60,data!$A$3:$A$1000,\">=\"&DATE(score!$B$1,BB3,BB4),data!$A$3:$A$1000,\"<=\"&DATE(score!$B$1,BC3,BC4)),\"\")","v":0}]
[null,null,{"$f":"IFERROR(SUMIFS(data!$R$3:$R$1000,data!$B$3:$B$1000,score!$B$61,data!$A$3:$A$1000,\">=\"&DATE(score!$B$1,C3,C4),data!$A$3:$A$1000,\"<=\"&DATE(score!$B$1,D3,D4)),\"\")","v":0},{"$f":"IFERROR(SUMIFS(data!$R$3:$R$1000,data!$B$3:$B$1000,score!$B$61,data!$A$3:$A$1000,\">=\"&DATE(score!$B$1,D3,D4),data!$A$3:$A$1000,\"<=\"&DATE(score!$B$1,E3,E4)),\"\")","v":0},{"$f":"IFERROR(SUMIFS(data!$R$3:$R$1000,data!$B$3:$B$1000,score!$B$61,data!$A$3:$A$1000,\">=\"&DATE(score!$B$1,E3,E4),data!$A$3:$A$1000,\"<=\"&DATE(score!$B$1,F3,F4)),\"\")","v":0},{"$f":"IFERROR(SUMIFS(data!$R$3:$R$1000,data!$B$3:$B$1000,score!$B$61,data!$A$3:$A$1000,\">=\"&DATE(score!$B$1,F3,F4),data!$A$3:$A$1000,\"<=\"&DATE(score!$B$1,G3,G4)),\"\")","v":0},{"$f":"IFERROR(SUMIFS(data!$R$3:$R$1000,data!$B$3:$B$1000,score!$B$61,data!$A$3:$A$1000,\">=\"&DATE(score!$B$1,G3,G4),data!$A$3:$A$1000,\"<=\"&DATE(score!$B$1,H3,H4)),\"\")","v":0},{"$f":"IFERROR(SUMIFS(data!$R$3:$R$1000,data!$B$3:$B$1000,score!$B$61,data!$A$3:$A$1000,\">=\"&DATE(score!$B$1,H3,H4),data!$A$3:$A$1000,\"<=\"&DATE(score!$B$1,I3,I4)),\"\")","v":0},{"$f":"IFERROR(SUMIFS(data!$R$3:$R$1000,data!$B$3:$B$1000,score!$B$61,data!$A$3:$A$1000,\">=\"&DATE(score!$B$1,I3,I4),data!$A$3:$A$1000,\"<=\"&DATE(score!$B$1,J3,J4)),\"\")","v":0},{"$f":"IFERROR(SUMIFS(data!$R$3:$R$1000,data!$B$3:$B$1000,score!$B$61,data!$A$3:$A$1000,\">=\"&DATE(score!$B$1,J3,J4),data!$A$3:$A$1000,\"<=\"&DATE(score!$B$1,K3,K4)),\"\")","v":0},{"$f":"IFERROR(SUMIFS(data!$R$3:$R$1000,data!$B$3:$B$1000,score!$B$61,data!$A$3:$A$1000,\">=\"&DATE(score!$B$1,K3,K4),data!$A$3:$A$1000,\"<=\"&DATE(score!$B$1,L3,L4)),\"\")","v":0},{"$f":"IFERROR(SUMIFS(data!$R$3:$R$1000,data!$B$3:$B$1000,score!$B$61,data!$A$3:$A$1000,\">=\"&DATE(score!$B$1,L3,L4),data!$A$3:$A$1000,\"<=\"&DATE(score!$B$1,M3,M4)),\"\")","v":0},{"$f":"IFERROR(SUMIFS(data!$R$3:$R$1000,data!$B$3:$B$1000,score!$B$61,data!$A$3:$A$1000,\">=\"&DATE(score!$B$1,M3,M4),data!$A$3:$A$1000,\"<=\"&DATE(score!$B$1,N3,N4)),\"\")","v":0},{"$f":"IFERROR(SUMIFS(data!$R$3:$R$1000,data!$B$3:$B$1000,score!$B$61,data!$A$3:$A$1000,\">=\"&DATE(score!$B$1,N3,N4),data!$A$3:$A$1000,\"<=\"&DATE(score!$B$1,O3,O4)),\"\")","v":0},{"$f":"IFERROR(SUMIFS(data!$R$3:$R$1000,data!$B$3:$B$1000,score!$B$61,data!$A$3:$A$1000,\">=\"&DATE(score!$B$1,O3,O4),data!$A$3:$A$1000,\"<=\"&DATE(score!$B$1,P3,P4)),\"\")","v":0},{"$f":"IFERROR(SUMIFS(data!$R$3:$R$1000,data!$B$3:$B$1000,score!$B$61,data!$A$3:$A$1000,\">=\"&DATE(score!$B$1,P3,P4),data!$A$3:$A$1000,\"<=\"&DATE(score!$B$1,Q3,Q4)),\"\")","v":0},{"$f":"IFERROR(SUMIFS(data!$R$3:$R$1000,data!$B$3:$B$1000,score!$B$61,data!$A$3:$A$1000,\">=\"&DATE(score!$B$1,Q3,Q4),data!$A$3:$A$1000,\"<=\"&DATE(score!$B$1,R3,R4)),\"\")","v":0},{"$f":"IFERROR(SUMIFS(data!$R$3:$R$1000,data!$B$3:$B$1000,score!$B$61,data!$A$3:$A$1000,\">=\"&DATE(score!$B$1,R3,R4),data!$A$3:$A$1000,\"<=\"&DATE(score!$B$1,S3,S4)),\"\")","v":0},{"$f":"IFERROR(SUMIFS(data!$R$3:$R$1000,data!$B$3:$B$1000,score!$B$61,data!$A$3:$A$1000,\">=\"&DATE(score!$B$1,S3,S4),data!$A$3:$A$1000,\"<=\"&DATE(score!$B$1,T3,T4)),\"\")","v":0},{"$f":"IFERROR(SUMIFS(data!$R$3:$R$1000,data!$B$3:$B$1000,score!$B$61,data!$A$3:$A$1000,\">=\"&DATE(score!$B$1,T3,T4),data!$A$3:$A$1000,\"<=\"&DATE(score!$B$1,U3,U4)),\"\")","v":0},{"$f":"IFERROR(SUMIFS(data!$R$3:$R$1000,data!$B$3:$B$1000,score!$B$61,data!$A$3:$A$1000,\">=\"&DATE(score!$B$1,U3,U4),data!$A$3:$A$1000,\"<=\"&DATE(score!$B$1,V3,V4)),\"\")","v":0},{"$f":"IFERROR(SUMIFS(data!$R$3:$R$1000,data!$B$3:$B$1000,score!$B$61,data!$A$3:$A$1000,\">=\"&DATE(score!$B$1,V3,V4),data!$A$3:$A$1000,\"<=\"&DATE(score!$B$1,W3,W4)),\"\")","v":0},{"$f":"IFERROR(SUMIFS(data!$R$3:$R$1000,data!$B$3:$B$1000,score!$B$61,data!$A$3:$A$1000,\">=\"&DATE(score!$B$1,W3,W4),data!$A$3:$A$1000,\"<=\"&DATE(score!$B$1,X3,X4)),\"\")","v":0},{"$f":"IFERROR(SUMIFS(data!$R$3:$R$1000,data!$B$3:$B$1000,score!$B$61,data!$A$3:$A$1000,\">=\"&DATE(score!$B$1,X3,X4),data!$A$3:$A$1000,\"<=\"&DATE(score!$B$1,Y3,Y4)),\"\")","v":0},{"$f":"IFERROR(SUMIFS(data!$R$3:$R$1000,data!$B$3:$B$1000,score!$B$61,data!$A$3:$A$1000,\">=\"&DATE(score!$B$1,Y3,Y4),data!$A$3:$A$1000,\"<=\"&DATE(score!$B$1,Z3,Z4)),\"\")","v":0},{"$f":"IFERROR(SUMIFS(data!$R$3:$R$1000,data!$B$3:$B$1000,score!$B$61,data!$A$3:$A$1000,\">=\"&DATE(score!$B$1,Z3,Z4),data!$A$3:$A$1000,\"<=\"&DATE(score!$B$1,AA3,AA4)),\"\")","v":0},{"$f":"IFERROR(SUMIFS(data!$R$3:$R$1000,data!$B$3:$B$1000,score!$B$61,data!$A$3:$A$1000,\">=\"&DATE(score!$B$1,AA3,AA4),data!$A$3:$A$1000,\"<=\"&DATE(score!$B$1,AB3,AB4)),\"\")","v":0},{"$f":"IFERROR(SUMIFS(data!$R$3:$R$1000,data!$B$3:$B$1000,score!$B$61,data!$A$3:$A$1000,\">=\"&DATE(score!$B$1,AB3,AB4),data!$A$3:$A$1000,\"<=\"&DATE(score!$B$1,AC3,AC4)),\"\")","v":0},{"$f":"IFERROR(SUMIFS(data!$R$3:$R$1000,data!$B$3:$B$1000,score!$B$61,data!$A$3:$A$1000,\">=\"&DATE(score!$B$1,AC3,AC4),data!$A$3:$A$1000,\"<=\"&DATE(score!$B$1,AD3,AD4)),\"\")","v":0},{"$f":"IFERROR(SUMIFS(data!$R$3:$R$1000,data!$B$3:$B$1000,score!$B$61,data!$A$3:$A$1000,\">=\"&DATE(score!$B$1,AD3,AD4),data!$A$3:$A$1000,\"<=\"&DATE(score!$B$1,AE3,AE4)),\"\")","v":0},{"$f":"IFERROR(SUMIFS(data!$R$3:$R$1000,data!$B$3:$B$1000,score!$B$61,data!$A$3:$A$1000,\">=\"&DATE(score!$B$1,AE3,AE4),data!$A$3:$A$1000,\"<=\"&DATE(score!$B$1,AF3,AF4)),\"\")","v":0},{"$f":"IFERROR(SUMIFS(data!$R$3:$R$1000,data!$B$3:$B$1000,score!$B$61,data!$A$3:$A$1000,\">=\"&DATE(score!$B$1,AF3,AF4),data!$A$3:$A$1000,\"<=\"&DATE(score!$B$1,AG3,AG4)),\"\")","v":0},{"$f":"IFERROR(SUMIFS(data!$R$3:$R$1000,data!$B$3:$B$1000,score!$B$61,data!$A$3:$A$1000,\">=\"&DATE(score!$B$1,AG3,AG4),data!$A$3:$A$1000,\"<=\"&DATE(score!$B$1,AH3,AH4)),\"\")","v":0},{"$f":"IFERROR(SUMIFS(data!$R$3:$R$1000,data!$B$3:$B$1000,score!$B$61,data!$A$3:$A$1000,\">=\"&DATE(score!$B$1,AH3,AH4),data!$A$3:$A$1000,\"<=\"&DATE(score!$B$1,AI3,AI4)),\"\")","v":0},{"$f":"IFERROR(SUMIFS(data!$R$3:$R$1000,data!$B$3:$B$1000,score!$B$61,data!$A$3:$A$1000,\">=\"&DATE(score!$B$1,AI3,AI4),data!$A$3:$A$1000,\"<=\"&DATE(score!$B$1,AJ3,AJ4)),\"\")","v":0},{"$f":"IFERROR(SUMIFS(data!$R$3:$R$1000,data!$B$3:$B$1000,score!$B$61,data!$A$3:$A$1000,\">=\"&DATE(score!$B$1,AJ3,AJ4),data!$A$3:$A$1000,\"<=\"&DATE(score!$B$1,AK3,AK4)),\"\")","v":0},{"$f":"IFERROR(SUMIFS(data!$R$3:$R$1000,data!$B$3:$B$1000,score!$B$61,data!$A$3:$A$1000,\">=\"&DATE(score!$B$1,AK3,AK4),data!$A$3:$A$1000,\"<=\"&DATE(score!$B$1,AL3,AL4)),\"\")","v":0},{"$f":"IFERROR(SUMIFS(data!$R$3:$R$1000,data!$B$3:$B$1000,score!$B$61,data!$A$3:$A$1000,\">=\"&DATE(score!$B$1,AL3,AL4),data!$A$3:$A$1000,\"<=\"&DATE(score!$B$1,AM3,AM4)),\"\")","v":0},{"$f":"IFERROR(SUMIFS(data!$R$3:$R$1000,data!$B$3:$B$1000,score!$B$61,data!$A$3:$A$1000,\">=\"&DATE(score!$B$1,AM3,AM4),data!$A$3:$A$1000,\"<=\"&DATE(score!$B$1,AN3,AN4)),\"\")","v":0},{"$f":"IFERROR(SUMIFS(data!$R$3:$R$1000,data!$B$3:$B$1000,score!$B$61,data!$A$3:$A$1000,\">=\"&DATE(score!$B$1,AN3,AN4),data!$A$3:$A$1000,\"<=\"&DATE(score!$B$1,AO3,AO4)),\"\")","v":0},{"$f":"IFERROR(SUMIFS(data!$R$3:$R$1000,data!$B$3:$B$1000,score!$B$61,data!$A$3:$A$1000,\">=\"&DATE(score!$B$1,AO3,AO4),data!$A$3:$A$1000,\"<=\"&DATE(score!$B$1,AP3,AP4)),\"\")","v":0},{"$f":"IFERROR(SUMIFS(data!$R$3:$R$1000,data!$B$3:$B$1000,score!$B$61,data!$A$3:$A$1000,\">=\"&DATE(score!$B$1,AP3,AP4),data!$A$3:$A$1000,\"<=\"&DATE(score!$B$1,AQ3,AQ4)),\"\")","v":0},{"$f":"IFERROR(SUMIFS(data!$R$3:$R$1000,data!$B$3:$B$1000,score!$B$61,data!$A$3:$A$1000,\">=\"&DATE(score!$B$1,AQ3,AQ4),data!$A$3:$A$1000,\"<=\"&DATE(score!$B$1,AR3,AR4)),\"\")","v":0},{"$f":"IFERROR(SUMIFS(data!$R$3:$R$1000,data!$B$3:$B$1000,score!$B$61,data!$A$3:$A$1000,\">=\"&DATE(score!$B$1,AR3,AR4),data!$A$3:$A$1000,\"<=\"&DATE(score!$B$1,AS3,AS4)),\"\")","v":0},{"$f":"IFERROR(SUMIFS(data!$R$3:$R$1000,data!$B$3:$B$1000,score!$B$61,data!$A$3:$A$1000,\">=\"&DATE(score!$B$1,AS3,AS4),data!$A$3:$A$1000,\"<=\"&DATE(score!$B$1,AT3,AT4)),\"\")","v":0},{"$f":"IFERROR(SUMIFS(data!$R$3:$R$1000,data!$B$3:$B$1000,score!$B$61,data!$A$3:$A$1000,\">=\"&DATE(score!$B$1,AT3,AT4),data!$A$3:$A$1000,\"<=\"&DATE(score!$B$1,AU3,AU4)),\"\")","v":0},{"$f":"IFERROR(SUMIFS(data!$R$3:$R$1000,data!$B$3:$B$1000,score!$B$61,data!$A$3:$A$1000,\">=\"&DATE(score!$B$1,AU3,AU4),data!$A$3:$A$1000,\"<=\"&DATE(score!$B$1,AV3,AV4)),\"\")","v":0},{"$f":"IFERROR(SUMIFS(data!$R$3:$R$1000,data!$B$3:$B$1000,score!$B$61,data!$A$3:$A$1000,\">=\"&DATE(score!$B$1,AV3,AV4),data!$A$3:$A$1000,\"<=\"&DATE(score!$B$1,AW3,AW4)),\"\")","v":0},{"$f":"IFERROR(SUMIFS(data!$R$3:$R$1000,data!$B$3:$B$1000,score!$B$61,data!$A$3:$A$1000,\">=\"&DATE(score!$B$1,AW3,AW4),data!$A$3:$A$1000,\"<=\"&DATE(score!$B$1,AX3,AX4)),\"\")","v":0},{"$f":"IFERROR(SUMIFS(data!$R$3:$R$1000,data!$B$3:$B$1000,score!$B$61,data!$A$3:$A$1000,\">=\"&DATE(score!$B$1,AX3,AX4),data!$A$3:$A$1000,\"<=\"&DATE(score!$B$1,AY3,AY4)),\"\")","v":0},{"$f":"IFERROR(SUMIFS(data!$R$3:$R$1000,data!$B$3:$B$1000,score!$B$61,data!$A$3:$A$1000,\">=\"&DATE(score!$B$1,AY3,AY4),data!$A$3:$A$1000,\"<=\"&DATE(score!$B$1,AZ3,AZ4)),\"\")","v":0},{"$f":"IFERROR(SUMIFS(data!$R$3:$R$1000,data!$B$3:$B$1000,score!$B$61,data!$A$3:$A$1000,\">=\"&DATE(score!$B$1,AZ3,AZ4),data!$A$3:$A$1000,\"<=\"&DATE(score!$B$1,BA3,BA4)),\"\")","v":0},{"$f":"IFERROR(SUMIFS(data!$R$3:$R$1000,data!$B$3:$B$1000,score!$B$61,data!$A$3:$A$1000,\">=\"&DATE(score!$B$1,BA3,BA4),data!$A$3:$A$1000,\"<=\"&DATE(score!$B$1,BB3,BB4)),\"\")","v":0},{"$f":"IFERROR(SUMIFS(data!$R$3:$R$1000,data!$B$3:$B$1000,score!$B$61,data!$A$3:$A$1000,\">=\"&DATE(score!$B$1,BB3,BB4),data!$A$3:$A$1000,\"<=\"&DATE(score!$B$1,BC3,BC4)),\"\")","v":0}]
[null,null,{"$f":"IFERROR(SUMIFS(data!$R$3:$R$1000,data!$B$3:$B$1000,score!$B$62,data!$A$3:$A$1000,\">=\"&DATE(score!$B$1,C3,C4),data!$A$3:$A$1000,\"<=\"&DATE(score!$B$1,D3,D4)),\"\")","v":0},{"$f":"IFERROR(SUMIFS(data!$R$3:$R$1000,data!$B$3:$B$1000,score!$B$62,data!$A$3:$A$1000,\">=\"&DATE(score!$B$1,D3,D4),data!$A$3:$A$1000,\"<=\"&DATE(score!$B$1,E3,E4)),\"\")","v":0},{"$f":"IFERROR(SUMIFS(data!$R$3:$R$1000,data!$B$3:$B$1000,score!$B$62,data!$A$3:$A$1000,\">=\"&DATE(score!$B$1,E3,E4),data!$A$3:$A$1000,\"<=\"&DATE(score!$B$1,F3,F4)),\"\")","v":0},{"$f":"IFERROR(SUMIFS(data!$R$3:$R$1000,data!$B$3:$B$1000,score!$B$62,data!$A$3:$A$1000,\">=\"&DATE(score!$B$1,F3,F4),data!$A$3:$A$1000,\"<=\"&DATE(score!$B$1,G3,G4)),\"\")","v":0},{"$f":"IFERROR(SUMIFS(data!$R$3:$R$1000,data!$B$3:$B$1000,score!$B$62,data!$A$3:$A$1000,\">=\"&DATE(score!$B$1,G3,G4),data!$A$3:$A$1000,\"<=\"&DATE(score!$B$1,H3,H4)),\"\")","v":0},{"$f":"IFERROR(SUMIFS(data!$R$3:$R$1000,data!$B$3:$B$1000,score!$B$62,data!$A$3:$A$1000,\">=\"&DATE(score!$B$1,H3,H4),data!$A$3:$A$1000,\"<=\"&DATE(score!$B$1,I3,I4)),\"\")","v":0},{"$f":"IFERROR(SUMIFS(data!$R$3:$R$1000,data!$B$3:$B$1000,score!$B$62,data!$A$3:$A$1000,\">=\"&DATE(score!$B$1,I3,I4),data!$A$3:$A$1000,\"<=\"&DATE(score!$B$1,J3,J4)),\"\")","v":0},{"$f":"IFERROR(SUMIFS(data!$R$3:$R$1000,data!$B$3:$B$1000,score!$B$62,data!$A$3:$A$1000,\">=\"&DATE(score!$B$1,J3,J4),data!$A$3:$A$1000,\"<=\"&DATE(score!$B$1,K3,K4)),\"\")","v":0},{"$f":"IFERROR(SUMIFS(data!$R$3:$R$1000,data!$B$3:$B$1000,score!$B$62,data!$A$3:$A$1000,\">=\"&DATE(score!$B$1,K3,K4),data!$A$3:$A$1000,\"<=\"&DATE(score!$B$1,L3,L4)),\"\")","v":0},{"$f":"IFERROR(SUMIFS(data!$R$3:$R$1000,data!$B$3:$B$1000,score!$B$62,data!$A$3:$A$1000,\">=\"&DATE(score!$B$1,L3,L4),data!$A$3:$A$1000,\"<=\"&DATE(score!$B$1,M3,M4)),\"\")","v":0},{"$f":"IFERROR(SUMIFS(data!$R$3:$R$1000,data!$B$3:$B$1000,score!$B$62,data!$A$3:$A$1000,\">=\"&DATE(score!$B$1,M3,M4),data!$A$3:$A$1000,\"<=\"&DATE(score!$B$1,N3,N4)),\"\")","v":0},{"$f":"IFERROR(SUMIFS(data!$R$3:$R$1000,data!$B$3:$B$1000,score!$B$62,data!$A$3:$A$1000,\">=\"&DATE(score!$B$1,N3,N4),data!$A$3:$A$1000,\"<=\"&DATE(score!$B$1,O3,O4)),\"\")","v":0},{"$f":"IFERROR(SUMIFS(data!$R$3:$R$1000,data!$B$3:$B$1000,score!$B$62,data!$A$3:$A$1000,\">=\"&DATE(score!$B$1,O3,O4),data!$A$3:$A$1000,\"<=\"&DATE(score!$B$1,P3,P4)),\"\")","v":0},{"$f":"IFERROR(SUMIFS(data!$R$3:$R$1000,data!$B$3:$B$1000,score!$B$62,data!$A$3:$A$1000,\">=\"&DATE(score!$B$1,P3,P4),data!$A$3:$A$1000,\"<=\"&DATE(score!$B$1,Q3,Q4)),\"\")","v":0},{"$f":"IFERROR(SUMIFS(data!$R$3:$R$1000,data!$B$3:$B$1000,score!$B$62,data!$A$3:$A$1000,\">=\"&DATE(score!$B$1,Q3,Q4),data!$A$3:$A$1000,\"<=\"&DATE(score!$B$1,R3,R4)),\"\")","v":0},{"$f":"IFERROR(SUMIFS(data!$R$3:$R$1000,data!$B$3:$B$1000,score!$B$62,data!$A$3:$A$1000,\">=\"&DATE(score!$B$1,R3,R4),data!$A$3:$A$1000,\"<=\"&DATE(score!$B$1,S3,S4)),\"\")","v":0},{"$f":"IFERROR(SUMIFS(data!$R$3:$R$1000,data!$B$3:$B$1000,score!$B$62,data!$A$3:$A$1000,\">=\"&DATE(score!$B$1,S3,S4),data!$A$3:$A$1000,\"<=\"&DATE(score!$B$1,T3,T4)),\"\")","v":0},{"$f":"IFERROR(SUMIFS(data!$R$3:$R$1000,data!$B$3:$B$1000,score!$B$62,data!$A$3:$A$1000,\">=\"&DATE(score!$B$1,T3,T4),data!$A$3:$A$1000,\"<=\"&DATE(score!$B$1,U3,U4)),\"\")","v":0},{"$f":"IFERROR(SUMIFS(data!$R$3:$R$1000,data!$B$3:$B$1000,score!$B$62,data!$A$3:$A$1000,\">=\"&DATE(score!$B$1,U3,U4),data!$A$3:$A$1000,\"<=\"&DATE(score!$B$1,V3,V4)),\"\")","v":0},{"$f":"IFERROR(SUMIFS(data!$R$3:$R$1000,data!$B$3:$B$1000,score!$B$62,data!$A$3:$A$1000,\">=\"&DATE(score!$B$1,V3,V4),data!$A$3:$A$1000,\"<=\"&DATE(score!$B$1,W3,W4)),\"\")","v":0},{"$f":"IFERROR(SUMIFS(data!$R$3:$R$1000,data!$B$3:$B$1000,score!$B$62,data!$A$3:$A$1000,\">=\"&DATE(score!$B$1,W3,W4),data!$A$3:$A$1000,\"<=\"&DATE(score!$B$1,X3,X4)),\"\")","v":0},{"$f":"IFERROR(SUMIFS(data!$R$3:$R$1000,data!$B$3:$B$1000,score!$B$62,data!$A$3:$A$1000,\">=\"&DATE(score!$B$1,X3,X4),data!$A$3:$A$1000,\"<=\"&DATE(score!$B$1,Y3,Y4)),\"\")","v":0},{"$f":"IFERROR(SUMIFS(data!$R$3:$R$1000,data!$B$3:$B$1000,score!$B$62,data!$A$3:$A$1000,\">=\"&DATE(score!$B$1,Y3,Y4),data!$A$3:$A$1000,\"<=\"&DATE(score!$B$1,Z3,Z4)),\"\")","v":0},{"$f":"IFERROR(SUMIFS(data!$R$3:$R$1000,data!$B$3:$B$1000,score!$B$62,data!$A$3:$A$1000,\">=\"&DATE(score!$B$1,Z3,Z4),data!$A$3:$A$1000,\"<=\"&DATE(score!$B$1,AA3,AA4)),\"\")","v":0},{"$f":"IFERROR(SUMIFS(data!$R$3:$R$1000,data!$B$3:$B$1000,score!$B$62,data!$A$3:$A$1000,\">=\"&DATE(score!$B$1,AA3,AA4),data!$A$3:$A$1000,\"<=\"&DATE(score!$B$1,AB3,AB4)),\"\")","v":0},{"$f":"IFERROR(SUMIFS(data!$R$3:$R$1000,data!$B$3:$B$1000,score!$B$62,data!$A$3:$A$1000,\">=\"&DATE(score!$B$1,AB3,AB4),data!$A$3:$A$1000,\"<=\"&DATE(score!$B$1,AC3,AC4)),\"\")","v":0},{"$f":"IFERROR(SUMIFS(data!$R$3:$R$1000,data!$B$3:$B$1000,score!$B$62,data!$A$3:$A$1000,\">=\"&DATE(score!$B$1,AC3,AC4),data!$A$3:$A$1000,\"<=\"&DATE(score!$B$1,AD3,AD4)),\"\")","v":0},{"$f":"IFERROR(SUMIFS(data!$R$3:$R$1000,data!$B$3:$B$1000,score!$B$62,data!$A$3:$A$1000,\">=\"&DATE(score!$B$1,AD3,AD4),data!$A$3:$A$1000,\"<=\"&DATE(score!$B$1,AE3,AE4)),\"\")","v":0},{"$f":"IFERROR(SUMIFS(data!$R$3:$R$1000,data!$B$3:$B$1000,score!$B$62,data!$A$3:$A$1000,\">=\"&DATE(score!$B$1,AE3,AE4),data!$A$3:$A$1000,\"<=\"&DATE(score!$B$1,AF3,AF4)),\"\")","v":0},{"$f":"IFERROR(SUMIFS(data!$R$3:$R$1000,data!$B$3:$B$1000,score!$B$62,data!$A$3:$A$1000,\">=\"&DATE(score!$B$1,AF3,AF4),data!$A$3:$A$1000,\"<=\"&DATE(score!$B$1,AG3,AG4)),\"\")","v":0},{"$f":"IFERROR(SUMIFS(data!$R$3:$R$1000,data!$B$3:$B$1000,score!$B$62,data!$A$3:$A$1000,\">=\"&DATE(score!$B$1,AG3,AG4),data!$A$3:$A$1000,\"<=\"&DATE(score!$B$1,AH3,AH4)),\"\")","v":0},{"$f":"IFERROR(SUMIFS(data!$R$3:$R$1000,data!$B$3:$B$1000,score!$B$62,data!$A$3:$A$1000,\">=\"&DATE(score!$B$1,AH3,AH4),data!$A$3:$A$1000,\"<=\"&DATE(score!$B$1,AI3,AI4)),\"\")","v":0},{"$f":"IFERROR(SUMIFS(data!$R$3:$R$1000,data!$B$3:$B$1000,score!$B$62,data!$A$3:$A$1000,\">=\"&DATE(score!$B$1,AI3,AI4),data!$A$3:$A$1000,\"<=\"&DATE(score!$B$1,AJ3,AJ4)),\"\")","v":0},{"$f":"IFERROR(SUMIFS(data!$R$3:$R$1000,data!$B$3:$B$1000,score!$B$62,data!$A$3:$A$1000,\">=\"&DATE(score!$B$1,AJ3,AJ4),data!$A$3:$A$1000,\"<=\"&DATE(score!$B$1,AK3,AK4)),\"\")","v":0},{"$f":"IFERROR(SUMIFS(data!$R$3:$R$1000,data!$B$3:$B$1000,score!$B$62,data!$A$3:$A$1000,\">=\"&DATE(score!$B$1,AK3,AK4),data!$A$3:$A$1000,\"<=\"&DATE(score!$B$1,AL3,AL4)),\"\")","v":0},{"$f":"IFERROR(SUMIFS(data!$R$3:$R$1000,data!$B$3:$B$1000,score!$B$62,data!$A$3:$A$1000,\">=\"&DATE(score!$B$1,AL3,AL4),data!$A$3:$A$1000,\"<=\"&DATE(score!$B$1,AM3,AM4)),\"\")","v":0},{"$f":"IFERROR(SUMIFS(data!$R$3:$R$1000,data!$B$3:$B$1000,score!$B$62,data!$A$3:$A$1000,\">=\"&DATE(score!$B$1,AM3,AM4),data!$A$3:$A$1000,\"<=\"&DATE(score!$B$1,AN3,AN4)),\"\")","v":0},{"$f":"IFERROR(SUMIFS(data!$R$3:$R$1000,data!$B$3:$B$1000,score!$B$62,data!$A$3:$A$1000,\">=\"&DATE(score!$B$1,AN3,AN4),data!$A$3:$A$1000,\"<=\"&DATE(score!$B$1,AO3,AO4)),\"\")","v":0},{"$f":"IFERROR(SUMIFS(data!$R$3:$R$1000,data!$B$3:$B$1000,score!$B$62,data!$A$3:$A$1000,\">=\"&DATE(score!$B$1,AO3,AO4),data!$A$3:$A$1000,\"<=\"&DATE(score!$B$1,AP3,AP4)),\"\")","v":0},{"$f":"IFERROR(SUMIFS(data!$R$3:$R$1000,data!$B$3:$B$1000,score!$B$62,data!$A$3:$A$1000,\">=\"&DATE(score!$B$1,AP3,AP4),data!$A$3:$A$1000,\"<=\"&DATE(score!$B$1,AQ3,AQ4)),\"\")","v":0},{"$f":"IFERROR(SUMIFS(data!$R$3:$R$1000,data!$B$3:$B$1000,score!$B$62,data!$A$3:$A$1000,\">=\"&DATE(score!$B$1,AQ3,AQ4),data!$A$3:$A$1000,\"<=\"&DATE(score!$B$1,AR3,AR4)),\"\")","v":0},{"$f":"IFERROR(SUMIFS(data!$R$3:$R$1000,data!$B$3:$B$1000,score!$B$62,data!$A$3:$A$1000,\">=\"&DATE(score!$B$1,AR3,AR4),data!$A$3:$A$1000,\"<=\"&DATE(score!$B$1,AS3,AS4)),\"\")","v":0},{"$f":"IFERROR(SUMIFS(data!$R$3:$R$1000,data!$B$3:$B$1000,score!$B$62,data!$A$3:$A$1000,\">=\"&DATE(score!$B$1,AS3,AS4),data!$A$3:$A$1000,\"<=\"&DATE(score!$B$1,AT3,AT4)),\"\")","v":0},{"$f":"IFERROR(SUMIFS(data!$R$3:$R$1000,data!$B$3:$B$1000,score!$B$62,data!$A$3:$A$1000,\">=\"&DATE(score!$B$1,AT3,AT4),data!$A$3:$A$1000,\"<=\"&DATE(score!$B$1,AU3,AU4)),\"\")","v":0},{"$f":"IFERROR(SUMIFS(data!$R$3:$R$1000,data!$B$3:$B$1000,score!$B$62,data!$A$3:$A$1000,\">=\"&DATE(score!$B$1,AU3,AU4),data!$A$3:$A$1000,\"<=\"&DATE(score!$B$1,AV3,AV4)),\"\")","v":0},{"$f":"IFERROR(SUMIFS(data!$R$3:$R$1000,data!$B$3:$B$1000,score!$B$62,data!$A$3:$A$1000,\">=\"&DATE(score!$B$1,AV3,AV4),data!$A$3:$A$1000,\"<=\"&DATE(score!$B$1,AW3,AW4)),\"\")","v":0},{"$f":"IFERROR(SUMIFS(data!$R$3:$R$1000,data!$B$3:$B$1000,score!$B$62,data!$A$3:$A$1000,\">=\"&DATE(score!$B$1,AW3,AW4),data!$A$3:$A$1000,\"<=\"&DATE(score!$B$1,AX3,AX4)),\"\")","v":0},{"$f":"IFERROR(SUMIFS(data!$R$3:$R$1000,data!$B$3:$B$1000,score!$B$62,data!$A$3:$A$1000,\">=\"&DATE(score!$B$1,AX3,AX4),data!$A$3:$A$1000,\"<=\"&DATE(score!$B$1,AY3,AY4)),\"\")","v":0},{"$f":"IFERROR(SUMIFS(data!$R$3:$R$1000,data!$B$3:$B$1000,score!$B$62,data!$A$3:$A$1000,\">=\"&DATE(score!$B$1,AY3,AY4),data!$A$3:$A$1000,\"<=\"&DATE(score!$B$1,AZ3,AZ4)),\"\")","v":0},{"$f":"IFERROR(SUMIFS(data!$R$3:$R$1000,data!$B$3:$B$1000,score!$B$62,data!$A$3:$A$1000,\">=\"&DATE(score!$B$1,AZ3,AZ4),data!$A$3:$A$1000,\"<=\"&DATE(score!$B$1,BA3,BA4)),\"\")","v":0},{"$f":"IFERROR(SUMIFS(data!$R$3:$R$1000,data!$B$3:$B$1000,score!$B$62,data!$A$3:$A$1000,\">=\"&DATE(score!$B$1,BA3,BA4),data!$A$3:$A$1000,\"<=\"&DATE(score!$B$1,BB3,BB4)),\"\")","v":0},{"$f":"IFERROR(SUMIFS(data!$R$3:$R$1000,data!$B$3:$B$1000,score!$B$62,data!$A$3:$A$1000,\">=\"&DATE(score!$B$1,BB3,BB4),data!$A$3:$A$1000,\"<=\"&DATE(score!$B$1,BC3,BC4)),\"\")","v":0}]
[null,null,{"$f":"IFERROR(SUMIFS(data!$R$3:$R$1000,data!$B$3:$B$1000,score!$B$63,data!$A$3:$A$1000,\">=\"&DATE(score!$B$1,C3,C4),data!$A$3:$A$1000,\"<=\"&DATE(score!$B$1,D3,D4)),\"\")","v":0},{"$f":"IFERROR(SUMIFS(data!$R$3:$R$1000,data!$B$3:$B$1000,score!$B$63,data!$A$3:$A$1000,\">=\"&DATE(score!$B$1,D3,D4),data!$A$3:$A$1000,\"<=\"&DATE(score!$B$1,E3,E4)),\"\")","v":0},{"$f":"IFERROR(SUMIFS(data!$R$3:$R$1000,data!$B$3:$B$1000,score!$B$63,data!$A$3:$A$1000,\">=\"&DATE(score!$B$1,E3,E4),data!$A$3:$A$1000,\"<=\"&DATE(score!$B$1,F3,F4)),\"\")","v":0},{"$f":"IFERROR(SUMIFS(data!$R$3:$R$1000,data!$B$3:$B$1000,score!$B$63,data!$A$3:$A$1000,\">=\"&DATE(score!$B$1,F3,F4),data!$A$3:$A$1000,\"<=\"&DATE(score!$B$1,G3,G4)),\"\")","v":0},{"$f":"IFERROR(SUMIFS(data!$R$3:$R$1000,data!$B$3:$B$1000,score!$B$63,data!$A$3:$A$1000,\">=\"&DATE(score!$B$1,G3,G4),data!$A$3:$A$1000,\"<=\"&DATE(score!$B$1,H3,H4)),\"\")","v":0},{"$f":"IFERROR(SUMIFS(data!$R$3:$R$1000,data!$B$3:$B$1000,score!$B$63,data!$A$3:$A$1000,\">=\"&DATE(score!$B$1,H3,H4),data!$A$3:$A$1000,\"<=\"&DATE(score!$B$1,I3,I4)),\"\")","v":0},{"$f":"IFERROR(SUMIFS(data!$R$3:$R$1000,data!$B$3:$B$1000,score!$B$63,data!$A$3:$A$1000,\">=\"&DATE(score!$B$1,I3,I4),data!$A$3:$A$1000,\"<=\"&DATE(score!$B$1,J3,J4)),\"\")","v":0},{"$f":"IFERROR(SUMIFS(data!$R$3:$R$1000,data!$B$3:$B$1000,score!$B$63,data!$A$3:$A$1000,\">=\"&DATE(score!$B$1,J3,J4),data!$A$3:$A$1000,\"<=\"&DATE(score!$B$1,K3,K4)),\"\")","v":0},{"$f":"IFERROR(SUMIFS(data!$R$3:$R$1000,data!$B$3:$B$1000,score!$B$63,data!$A$3:$A$1000,\">=\"&DATE(score!$B$1,K3,K4),data!$A$3:$A$1000,\"<=\"&DATE(score!$B$1,L3,L4)),\"\")","v":0},{"$f":"IFERROR(SUMIFS(data!$R$3:$R$1000,data!$B$3:$B$1000,score!$B$63,data!$A$3:$A$1000,\">=\"&DATE(score!$B$1,L3,L4),data!$A$3:$A$1000,\"<=\"&DATE(score!$B$1,M3,M4)),\"\")","v":0},{"$f":"IFERROR(SUMIFS(data!$R$3:$R$1000,data!$B$3:$B$1000,score!$B$63,data!$A$3:$A$1000,\">=\"&DATE(score!$B$1,M3,M4),data!$A$3:$A$1000,\"<=\"&DATE(score!$B$1,N3,N4)),\"\")","v":0},{"$f":"IFERROR(SUMIFS(data!$R$3:$R$1000,data!$B$3:$B$1000,score!$B$63,data!$A$3:$A$1000,\">=\"&DATE(score!$B$1,N3,N4),data!$A$3:$A$1000,\"<=\"&DATE(score!$B$1,O3,O4)),\"\")","v":0},{"$f":"IFERROR(SUMIFS(data!$R$3:$R$1000,data!$B$3:$B$1000,score!$B$63,data!$A$3:$A$1000,\">=\"&DATE(score!$B$1,O3,O4),data!$A$3:$A$1000,\"<=\"&DATE(score!$B$1,P3,P4)),\"\")","v":0},{"$f":"IFERROR(SUMIFS(data!$R$3:$R$1000,data!$B$3:$B$1000,score!$B$63,data!$A$3:$A$1000,\">=\"&DATE(score!$B$1,P3,P4),data!$A$3:$A$1000,\"<=\"&DATE(score!$B$1,Q3,Q4)),\"\")","v":0},{"$f":"IFERROR(SUMIFS(data!$R$3:$R$1000,data!$B$3:$B$1000,score!$B$63,data!$A$3:$A$1000,\">=\"&DATE(score!$B$1,Q3,Q4),data!$A$3:$A$1000,\"<=\"&DATE(score!$B$1,R3,R4)),\"\")","v":0},{"$f":"IFERROR(SUMIFS(data!$R$3:$R$1000,data!$B$3:$B$1000,score!$B$63,data!$A$3:$A$1000,\">=\"&DATE(score!$B$1,R3,R4),data!$A$3:$A$1000,\"<=\"&DATE(score!$B$1,S3,S4)),\"\")","v":0},{"$f":"IFERROR(SUMIFS(data!$R$3:$R$1000,data!$B$3:$B$1000,score!$B$63,data!$A$3:$A$1000,\">=\"&DATE(score!$B$1,S3,S4),data!$A$3:$A$1000,\"<=\"&DATE(score!$B$1,T3,T4)),\"\")","v":0},{"$f":"IFERROR(SUMIFS(data!$R$3:$R$1000,data!$B$3:$B$1000,score!$B$63,data!$A$3:$A$1000,\">=\"&DATE(score!$B$1,T3,T4),data!$A$3:$A$1000,\"<=\"&DATE(score!$B$1,U3,U4)),\"\")","v":0},{"$f":"IFERROR(SUMIFS(data!$R$3:$R$1000,data!$B$3:$B$1000,score!$B$63,data!$A$3:$A$1000,\">=\"&DATE(score!$B$1,U3,U4),data!$A$3:$A$1000,\"<=\"&DATE(score!$B$1,V3,V4)),\"\")","v":0},{"$f":"IFERROR(SUMIFS(data!$R$3:$R$1000,data!$B$3:$B$1000,score!$B$63,data!$A$3:$A$1000,\">=\"&DATE(score!$B$1,V3,V4),data!$A$3:$A$1000,\"<=\"&DATE(score!$B$1,W3,W4)),\"\")","v":0},{"$f":"IFERROR(SUMIFS(data!$R$3:$R$1000,data!$B$3:$B$1000,score!$B$63,data!$A$3:$A$1000,\">=\"&DATE(score!$B$1,W3,W4),data!$A$3:$A$1000,\"<=\"&DATE(score!$B$1,X3,X4)),\"\")","v":0},{"$f":"IFERROR(SUMIFS(data!$R$3:$R$1000,data!$B$3:$B$1000,score!$B$63,data!$A$3:$A$1000,\">=\"&DATE(score!$B$1,X3,X4),data!$A$3:$A$1000,\"<=\"&DATE(score!$B$1,Y3,Y4)),\"\")","v":0},{"$f":"IFERROR(SUMIFS(data!$R$3:$R$1000,data!$B$3:$B$1000,score!$B$63,data!$A$3:$A$1000,\">=\"&DATE(score!$B$1,Y3,Y4),data!$A$3:$A$1000,\"<=\"&DATE(score!$B$1,Z3,Z4)),\"\")","v":0},{"$f":"IFERROR(SUMIFS(data!$R$3:$R$1000,data!$B$3:$B$1000,score!$B$63,data!$A$3:$A$1000,\">=\"&DATE(score!$B$1,Z3,Z4),data!$A$3:$A$1000,\"<=\"&DATE(score!$B$1,AA3,AA4)),\"\")","v":0},{"$f":"IFERROR(SUMIFS(data!$R$3:$R$1000,data!$B$3:$B$1000,score!$B$63,data!$A$3:$A$1000,\">=\"&DATE(score!$B$1,AA3,AA4),data!$A$3:$A$1000,\"<=\"&DATE(score!$B$1,AB3,AB4)),\"\")","v":0},{"$f":"IFERROR(SUMIFS(data!$R$3:$R$1000,data!$B$3:$B$1000,score!$B$63,data!$A$3:$A$1000,\">=\"&DATE(score!$B$1,AB3,AB4),data!$A$3:$A$1000,\"<=\"&DATE(score!$B$1,AC3,AC4)),\"\")","v":0},{"$f":"IFERROR(SUMIFS(data!$R$3:$R$1000,data!$B$3:$B$1000,score!$B$63,data!$A$3:$A$1000,\">=\"&DATE(score!$B$1,AC3,AC4),data!$A$3:$A$1000,\"<=\"&DATE(score!$B$1,AD3,AD4)),\"\")","v":0},{"$f":"IFERROR(SUMIFS(data!$R$3:$R$1000,data!$B$3:$B$1000,score!$B$63,data!$A$3:$A$1000,\">=\"&DATE(score!$B$1,AD3,AD4),data!$A$3:$A$1000,\"<=\"&DATE(score!$B$1,AE3,AE4)),\"\")","v":0},{"$f":"IFERROR(SUMIFS(data!$R$3:$R$1000,data!$B$3:$B$1000,score!$B$63,data!$A$3:$A$1000,\">=\"&DATE(score!$B$1,AE3,AE4),data!$A$3:$A$1000,\"<=\"&DATE(score!$B$1,AF3,AF4)),\"\")","v":0},{"$f":"IFERROR(SUMIFS(data!$R$3:$R$1000,data!$B$3:$B$1000,score!$B$63,data!$A$3:$A$1000,\">=\"&DATE(score!$B$1,AF3,AF4),data!$A$3:$A$1000,\"<=\"&DATE(score!$B$1,AG3,AG4)),\"\")","v":0},{"$f":"IFERROR(SUMIFS(data!$R$3:$R$1000,data!$B$3:$B$1000,score!$B$63,data!$A$3:$A$1000,\">=\"&DATE(score!$B$1,AG3,AG4),data!$A$3:$A$1000,\"<=\"&DATE(score!$B$1,AH3,AH4)),\"\")","v":0},{"$f":"IFERROR(SUMIFS(data!$R$3:$R$1000,data!$B$3:$B$1000,score!$B$63,data!$A$3:$A$1000,\">=\"&DATE(score!$B$1,AH3,AH4),data!$A$3:$A$1000,\"<=\"&DATE(score!$B$1,AI3,AI4)),\"\")","v":0},{"$f":"IFERROR(SUMIFS(data!$R$3:$R$1000,data!$B$3:$B$1000,score!$B$63,data!$A$3:$A$1000,\">=\"&DATE(score!$B$1,AI3,AI4),data!$A$3:$A$1000,\"<=\"&DATE(score!$B$1,AJ3,AJ4)),\"\")","v":0},{"$f":"IFERROR(SUMIFS(data!$R$3:$R$1000,data!$B$3:$B$1000,score!$B$63,data!$A$3:$A$1000,\">=\"&DATE(score!$B$1,AJ3,AJ4),data!$A$3:$A$1000,\"<=\"&DATE(score!$B$1,AK3,AK4)),\"\")","v":0},{"$f":"IFERROR(SUMIFS(data!$R$3:$R$1000,data!$B$3:$B$1000,score!$B$63,data!$A$3:$A$1000,\">=\"&DATE(score!$B$1,AK3,AK4),data!$A$3:$A$1000,\"<=\"&DATE(score!$B$1,AL3,AL4)),\"\")","v":0},{"$f":"IFERROR(SUMIFS(data!$R$3:$R$1000,data!$B$3:$B$1000,score!$B$63,data!$A$3:$A$1000,\">=\"&DATE(score!$B$1,AL3,AL4),data!$A$3:$A$1000,\"<=\"&DATE(score!$B$1,AM3,AM4)),\"\")","v":0},{"$f":"IFERROR(SUMIFS(data!$R$3:$R$1000,data!$B$3:$B$1000,score!$B$63,data!$A$3:$A$1000,\">=\"&DATE(score!$B$1,AM3,AM4),data!$A$3:$A$1000,\"<=\"&DATE(score!$B$1,AN3,AN4)),\"\")","v":0},{"$f":"IFERROR(SUMIFS(data!$R$3:$R$1000,data!$B$3:$B$1000,score!$B$63,data!$A$3:$A$1000,\">=\"&DATE(score!$B$1,AN3,AN4),data!$A$3:$A$1000,\"<=\"&DATE(score!$B$1,AO3,AO4)),\"\")","v":0},{"$f":"IFERROR(SUMIFS(data!$R$3:$R$1000,data!$B$3:$B$1000,score!$B$63,data!$A$3:$A$1000,\">=\"&DATE(score!$B$1,AO3,AO4),data!$A$3:$A$1000,\"<=\"&DATE(score!$B$1,AP3,AP4)),\"\")","v":0},{"$f":"IFERROR(SUMIFS(data!$R$3:$R$1000,data!$B$3:$B$1000,score!$B$63,data!$A$3:$A$1000,\">=\"&DATE(score!$B$1,AP3,AP4),data!$A$3:$A$1000,\"<=\"&DATE(score!$B$1,AQ3,AQ4)),\"\")","v":0},{"$f":"IFERROR(SUMIFS(data!$R$3:$R$1000,data!$B$3:$B$1000,score!$B$63,data!$A$3:$A$1000,\">=\"&DATE(score!$B$1,AQ3,AQ4),data!$A$3:$A$1000,\"<=\"&DATE(score!$B$1,AR3,AR4)),\"\")","v":0},{"$f":"IFERROR(SUMIFS(data!$R$3:$R$1000,data!$B$3:$B$1000,score!$B$63,data!$A$3:$A$1000,\">=\"&DATE(score!$B$1,AR3,AR4),data!$A$3:$A$1000,\"<=\"&DATE(score!$B$1,AS3,AS4)),\"\")","v":0},{"$f":"IFERROR(SUMIFS(data!$R$3:$R$1000,data!$B$3:$B$1000,score!$B$63,data!$A$3:$A$1000,\">=\"&DATE(score!$B$1,AS3,AS4),data!$A$3:$A$1000,\"<=\"&DATE(score!$B$1,AT3,AT4)),\"\")","v":0},{"$f":"IFERROR(SUMIFS(data!$R$3:$R$1000,data!$B$3:$B$1000,score!$B$63,data!$A$3:$A$1000,\">=\"&DATE(score!$B$1,AT3,AT4),data!$A$3:$A$1000,\"<=\"&DATE(score!$B$1,AU3,AU4)),\"\")","v":0},{"$f":"IFERROR(SUMIFS(data!$R$3:$R$1000,data!$B$3:$B$1000,score!$B$63,data!$A$3:$A$1000,\">=\"&DATE(score!$B$1,AU3,AU4),data!$A$3:$A$1000,\"<=\"&DATE(score!$B$1,AV3,AV4)),\"\")","v":0},{"$f":"IFERROR(SUMIFS(data!$R$3:$R$1000,data!$B$3:$B$1000,score!$B$63,data!$A$3:$A$1000,\">=\"&DATE(score!$B$1,AV3,AV4),data!$A$3:$A$1000,\"<=\"&DATE(score!$B$1,AW3,AW4)),\"\")","v":0},{"$f":"IFERROR(SUMIFS(data!$R$3:$R$1000,data!$B$3:$B$1000,score!$B$63,data!$A$3:$A$1000,\">=\"&DATE(score!$B$1,AW3,AW4),data!$A$3:$A$1000,\"<=\"&DATE(score!$B$1,AX3,AX4)),\"\")","v":0},{"$f":"IFERROR(SUMIFS(data!$R$3:$R$1000,data!$B$3:$B$1000,score!$B$63,data!$A$3:$A$1000,\">=\"&DATE(score!$B$1,AX3,AX4),data!$A$3:$A$1000,\"<=\"&DATE(score!$B$1,AY3,AY4)),\"\")","v":0},{"$f":"IFERROR(SUMIFS(data!$R$3:$R$1000,data!$B$3:$B$1000,score!$B$63,data!$A$3:$A$1000,\">=\"&DATE(score!$B$1,AY3,AY4),data!$A$3:$A$1000,\"<=\"&DATE(score!$B$1,AZ3,AZ4)),\"\")","v":0},{"$f":"IFERROR(SUMIFS(data!$R$3:$R$1000,data!$B$3:$B$1000,score!$B$63,data!$A$3:$A$1000,\">=\"&DATE(score!$B$1,AZ3,AZ4),data!$A$3:$A$1000,\"<=\"&DATE(score!$B$1,BA3,BA4)),\"\")","v":0},{"$f":"IFERROR(SUMIFS(data!$R$3:$R$1000,data!$B$3:$B$1000,score!$B$63,data!$A$3:$A$1000,\">=\"&DATE(score!$B$1,BA3,BA4),data!$A$3:$A$1000,\"<=\"&DATE(score!$B$1,BB3,BB4)),\"\")","v":0},{"$f":"IFERROR(SUMIFS(data!$R$3:$R$1000,data!$B$3:$B$1000,score!$B$63,data!$A$3:$A$1000,\">=\"&DATE(score!$B$1,BB3,BB4),data!$A$3:$A$1000,\"<=\"&DATE(score!$B$1,BC3,BC4)),\"\")","v":0}]
[null,null,{"$f":"IFERROR(AVERAGEIF(C57:G63,\"<>0\"),\"\")","v":""},null,null,null,null,{"$f":"IFERROR(AVERAGEIF(H57:K63,\"<>0\"),\"\")","v":""},null,null,null,{"$f":"IFERROR(AVERAGEIF(L57:O63,\"<>0\"),\"\")","v":""},null,null,null,{"$f":"IFERROR(AVERAGEIF(P57:T63,\"<>0\"),\"\")","v":""},null,null,null,null,{"$f":"IFERROR(AVERAGEIF(U57:X63,\"<>0\"),\"\")","v":""},null,null,null,{"$f":"IFERROR(AVERAGEIF(Y57:AB63,\"<>0\"),\"\")","v":""},null,null,null,{"$f":"IFERROR(AVERAGEIF(AC57:AG63,\"<>0\"),\"\")","v":""},null,null,null,null,{"$f":"IFERROR(AVERAGEIF(AH57:AK63,\"<>0\"),\"\")","v":""},null,null,null,{"$f":"IFERROR(AVERAGEIF(AL57:AP63,\"<>0\"),\"\")","v":""},null,null,null,null,{"$f":"IFERROR(AVERAGEIF(AQ57:AT63,\"<>0\"),\"\")","v":""},null,null,null,{"$f":"IFERROR(AVERAGEIF(AU57:AX63,\"<>0\"),\"\")","v":""},null,null,null,{"$f":"IFERROR(AVERAGEIF(AY57:BB63,\"<>0\"),\"\")","v":""}]
[]
[]
["Hit Rate","Month","2020-01-01","2020-02-01","2020-03-01","2020-04-01","2020-05-01","2020-06-01","2020-07-01","2020-08-01","2020-09-01","2020-10-01","2020-11-01","2020-12-01"]
[null,"Hit",{"$f":"COUNTIFS(data!$S$3:$S$2000,score!$B$68,data!$A$3:$A$2000,\">=\"&score!$C$67,data!$A$3:$A$2000,\"<=\"&EOMONTH(score!$C$67,0))","v":2},{"$f":"COUNTIFS(data!$S$3:$S$2000,score!$B$68,data!$A$3:$A$2000,\">=\"&score!$D$67,data!$A$3:$A$2000,\"<=\"&EOMONTH(score!$D$67,0))","v":6},{"$f":"COUNTIFS(data!$S$3:$S$2000,score!$B$68,data!$A$3:$A$2000,\">=\"&score!$E$67,data!$A$3:$A$2000,\"<=\"&EOMONTH(score!$E$67,0))","v":6},{"$f":"COUNTIFS(data!$S$3:$S$2000,score!$B$68,data!$A$3:$A$2000,\">=\"&score!$F$67,data!$A$3:$A$2000,\"<=\"&EOMONTH(score!$F$67,0))","v":2},{"$f":"COUNTIFS(data!$S$3:$S$2000,score!$B$68,data!$A$3:$A$2000,\">=\"&score!$G$67,data!$A$3:$A$2000,\"<=\"&EOMONTH(score!$G$67,0))","v":7},{"$f":"COUNTIFS(data!$S$3:$S$2000,score!$B$68,data!$A$3:$A$2000,\">=\"&score!$H$67,data!$A$3:$A$2000,\"<=\"&EOMONTH(score!$H$67,0))","v":2},{"$f":"COUNTIFS(data!$S$3:$S$2000,score!$B$68,data!$A$3:$A$2000,\">=\"&score!$I$67,data!$A$3:$A$2000,\"<=\"&EOMONTH(score!$I$67,0))","v":2},{"$f":"COUNTIFS(data!$S$3:$S$2000,score!$B$68,data!$A$3:$A$2000,\">=\"&score!$J$67,data!$A$3:$A$2000,\"<=\"&EOMONTH(score!$J$67,0))","v":2},{"$f":"COUNTIFS(data!$S$3:$S$2000,score!$B$68,data!$A$3:$A$2000,\">=\"&score!$K$67,data!$A$3:$A$2000,\"<=\"&EOMONTH(score!$K$67,0))","v":0},{"$f":"COUNTIFS(data!$S$3:$S$2000,score!$B$68,data!$A$3:$A$2000,\">=\"&score!$L$67,data!$A$3:$A$2000,\"<=\"&EOMONTH(score!$L$67,0))","v":0},{"$f":"COUNTIFS(data!$S$3:$S$2000,score!$B$68,data!$A$3:$A$2000,\">=\"&score!$M$67,data!$A$3:$A$2000,\"<=\"&EOMONTH(score!$M$67,0))","v":0},{"$f":"COUNTIFS(data!$S$3:$S$2000,score!$B$68,data!$A$3:$A$2000,\">=\"&score!$N$67,data!$A$3:$A$2000,\"<=\"&EOMONTH(score!$N$67,0))","v":0}]
[null,"Miss",{"$f":"COUNTIFS(data!$S$3:$S$2000,score!$B$69,data!$A$3:$A$2000,\">=\"&score!$C$67,data!$A$3:$A$2000,\"<=\"&EOMONTH(score!$C$67,0))","v":0},{"$f":"COUNTIFS(data!$S$3:$S$2000,score!$B$69,data!$A$3:$A$2000,\">=\"&score!$D$67,data!$A$3:$A$2000,\"<=\"&EOMONTH(score!$D$67,0))","v":0},{"$f":"COUNTIFS(data!$S$3:$S$2000,score!$B$69,data!$A$3:$A$2000,\">=\"&score!$E$67,data!$A$3:$A$2000,\"<=\"&EOMONTH(score!$E$67,0))","v":2},{"$f":"COUNTIFS(data!$S$3:$S$2000,score!$B$69,data!$A$3:$A$2000,\">=\"&score!$F$67,data!$A$3:$A$2000,\"<=\"&EOMONTH(score!$F$67,0))","v":5},{"$f":"COUNTIFS(data!$S$3:$S$2000,score!$B$69,data!$A$3:$A$2000,\">=\"&score!$G$67,data!$A$3:$A$2000,\"<=\"&EOMONTH(score!$G$67,0))","v":0},{"$f":"COUNTIFS(data!$S$3:$S$2000,score!$B$69,data!$A$3:$A$2000,\">=\"&score!$H$67,data!$A$3:$A$2000,\"<=\"&EOMONTH(score!$H$67,0))","v":0},{"$f":"COUNTIFS(data!$S$3:$S$2000,score!$B$69,data!$A$3:$A$2000,\">=\"&score!$I$67,data!$A$3:$A$2000,\"<=\"&EOMONTH(score!$I$67,0))","v":1},{"$f":"COUNTIFS(data!$S$3:$S$2000,score!$B$69,data!$A$3:$A$2000,\">=\"&score!$J$67,data!$A$3:$A$2000,\"<=\"&EOMONTH(score!$J$67,0))","v":1},{"$f":"COUNTIFS(data!$S$3:$S$2000,score!$B$69,data!$A$3:$A$2000,\">=\"&score!$K$67,data!$A$3:$A$2000,\"<=\"&EOMONTH(score!$K$67,0))","v":0},{"$f":"COUNTIFS(data!$S$3:$S$2000,score!$B$69,data!$A$3:$A$2000,\">=\"&score!$L$67,data!$A$3:$A$2000,\"<=\"&EOMONTH(score!$L$67,0))","v":0},{"$f":"COUNTIFS(data!$S$3:$S$2000,score!$B$69,data!$A$3:$A$2000,\">=\"&score!$M$67,data!$A$3:$A$2000,\"<=\"&EOMONTH(score!$M$67,0))","v":0},{"$f":"COUNTIFS(data!$S$3:$S$2000,score!$B$69,data!$A$3:$A$2000,\">=\"&score!$N$67,data!$A$3:$A$2000,\"<=\"&EOMONTH(score!$N$67,0))","v":0}]
[null,null,{"$f":"IFERROR(C68/(C68+C69),\"\")","v":1},{"$f":"IFERROR(D68/(D68+D69),\"\")","v":1},0.75,0.2857142857142857,1,1,0.66666666666666663,0.66666666666666663,"","","",""]