{"text_format":"1","workbook":"xlsx","n_sheets":2,"sheets":["Sheet1","Pom"],"not_rendered":{"charts":0,"images":0,"macros":1,"external_links":0,"defined_names":0,"comments":1,"pivot_tables":0},"unopened":[],"bounds":{"document_bytes":16777216,"sheet_cells":100000,"rows_first":2000,"rows_last":500,"rows_between":2000,"halvings":0,"cell_chars":16384,"cell_head_chars":4096},"cells_cut":0,"cells_raw":0,"read":"whole","date_system":"1900"}

{"sheet":"Sheet1","index":0,"n_rows":28,"n_cols":3,"rows_kept":28,"cut":false,"hidden":false,"merged":[]}
["Petar Petrović","Mirko Mirić","Stevan Stević"]
[null,2]
[2]
[null,2]
[null,2,2]
[null,2]
[null,2]
[null,2,2]
[2,2]
[]
[]
[]
[]
[2,null,2]
[]
[2]
[2]
[]
[null,2]
[null,null,2]
[]
[2,null,2]
[]
[]
[]
["Petar Petrović",{"$f":"OFFSET(Pom!$A$1,25,MATCH(A26,$A$1:$C$1,0)-1)","v":"3,9,14,16,17,22"},{"$f":"PopunjeniRedovi(A2:A25)","v":"3,9,14,16,17,22"}]
["Mirko Mirić",{"$f":"OFFSET(Pom!$A$1,25,MATCH(A27,$A$1:$C$1,0)-1)","v":"2,4,5,6,7,8,9,19"},{"$f":"PopunjeniRedovi(B2:B25)","v":"2,4,5,6,7,8,9,19"}]
["Stevan Stević",{"$f":"OFFSET(Pom!$A$1,25,MATCH(A28,$A$1:$C$1,0)-1)","v":"5,8,14,20,22"}]

{"sheet":"Pom","index":1,"n_rows":26,"n_cols":6,"rows_kept":26,"cut":false,"hidden":false,"merged":[]}
["","","",null,"",""]
[{"$f":"IF(LEN(Sheet1!A2)>0,A1&ROW(A2)&\",\",A1)","v":""},{"$f":"IF(LEN(Sheet1!B2)>0,B1&ROW(B2)&\",\",B1)","v":"2,"},{"$f":"IF(LEN(Sheet1!C2)>0,C1&ROW(C2)&\",\",C1)","v":""},null,{"$f":"IF(LEN(Sheet1!D2)>0,E1&ROW(E2)&\",\",E1)","v":""},{"$f":"IF(LEN(Sheet1!E2)>0,F1&ROW(F2)&\",\",F1)","v":""}]
[{"$f":"IF(LEN(Sheet1!A3)>0,A2&ROW(A3)&\",\",A2)","v":"3,"},{"$f":"IF(LEN(Sheet1!B3)>0,B2&ROW(B3)&\",\",B2)","v":"2,"},{"$f":"IF(LEN(Sheet1!C3)>0,C2&ROW(C3)&\",\",C2)","v":""},null,{"$f":"IF(LEN(Sheet1!D3)>0,E2&ROW(E3)&\",\",E2)","v":""},{"$f":"IF(LEN(Sheet1!E3)>0,F2&ROW(F3)&\",\",F2)","v":""}]
[{"$f":"IF(LEN(Sheet1!A4)>0,A3&ROW(A4)&\",\",A3)","v":"3,"},{"$f":"IF(LEN(Sheet1!B4)>0,B3&ROW(B4)&\",\",B3)","v":"2,4,"},{"$f":"IF(LEN(Sheet1!C4)>0,C3&ROW(C4)&\",\",C3)","v":""},null,{"$f":"IF(LEN(Sheet1!D4)>0,E3&ROW(E4)&\",\",E3)","v":""},{"$f":"IF(LEN(Sheet1!E4)>0,F3&ROW(F4)&\",\",F3)","v":""}]
[{"$f":"IF(LEN(Sheet1!A5)>0,A4&ROW(A5)&\",\",A4)","v":"3,"},{"$f":"IF(LEN(Sheet1!B5)>0,B4&ROW(B5)&\",\",B4)","v":"2,4,5,"},{"$f":"IF(LEN(Sheet1!C5)>0,C4&ROW(C5)&\",\",C4)","v":"5,"},null,{"$f":"IF(LEN(Sheet1!D5)>0,E4&ROW(E5)&\",\",E4)","v":""},{"$f":"IF(LEN(Sheet1!E5)>0,F4&ROW(F5)&\",\",F4)","v":""}]
[{"$f":"IF(LEN(Sheet1!A6)>0,A5&ROW(A6)&\",\",A5)","v":"3,"},{"$f":"IF(LEN(Sheet1!B6)>0,B5&ROW(B6)&\",\",B5)","v":"2,4,5,6,"},{"$f":"IF(LEN(Sheet1!C6)>0,C5&ROW(C6)&\",\",C5)","v":"5,"},null,{"$f":"IF(LEN(Sheet1!D6)>0,E5&ROW(E6)&\",\",E5)","v":""},{"$f":"IF(LEN(Sheet1!E6)>0,F5&ROW(F6)&\",\",F5)","v":""}]
[{"$f":"IF(LEN(Sheet1!A7)>0,A6&ROW(A7)&\",\",A6)","v":"3,"},{"$f":"IF(LEN(Sheet1!B7)>0,B6&ROW(B7)&\",\",B6)","v":"2,4,5,6,7,"},{"$f":"IF(LEN(Sheet1!C7)>0,C6&ROW(C7)&\",\",C6)","v":"5,"},null,{"$f":"IF(LEN(Sheet1!D7)>0,E6&ROW(E7)&\",\",E6)","v":""},{"$f":"IF(LEN(Sheet1!E7)>0,F6&ROW(F7)&\",\",F6)","v":""}]
[{"$f":"IF(LEN(Sheet1!A8)>0,A7&ROW(A8)&\",\",A7)","v":"3,"},{"$f":"IF(LEN(Sheet1!B8)>0,B7&ROW(B8)&\",\",B7)","v":"2,4,5,6,7,8,"},{"$f":"IF(LEN(Sheet1!C8)>0,C7&ROW(C8)&\",\",C7)","v":"5,8,"},null,{"$f":"IF(LEN(Sheet1!D8)>0,E7&ROW(E8)&\",\",E7)","v":""},{"$f":"IF(LEN(Sheet1!E8)>0,F7&ROW(F8)&\",\",F7)","v":""}]
[{"$f":"IF(LEN(Sheet1!A9)>0,A8&ROW(A9)&\",\",A8)","v":"3,9,"},{"$f":"IF(LEN(Sheet1!B9)>0,B8&ROW(B9)&\",\",B8)","v":"2,4,5,6,7,8,9,"},{"$f":"IF(LEN(Sheet1!C9)>0,C8&ROW(C9)&\",\",C8)","v":"5,8,"},null,{"$f":"IF(LEN(Sheet1!D9)>0,E8&ROW(E9)&\",\",E8)","v":""},{"$f":"IF(LEN(Sheet1!E9)>0,F8&ROW(F9)&\",\",F8)","v":""}]
[{"$f":"IF(LEN(Sheet1!A10)>0,A9&ROW(A10)&\",\",A9)","v":"3,9,"},{"$f":"IF(LEN(Sheet1!B10)>0,B9&ROW(B10)&\",\",B9)","v":"2,4,5,6,7,8,9,"},{"$f":"IF(LEN(Sheet1!C10)>0,C9&ROW(C10)&\",\",C9)","v":"5,8,"},null,{"$f":"IF(LEN(Sheet1!D10)>0,E9&ROW(E10)&\",\",E9)","v":""},{"$f":"IF(LEN(Sheet1!E10)>0,F9&ROW(F10)&\",\",F9)","v":""}]
[{"$f":"IF(LEN(Sheet1!A11)>0,A10&ROW(A11)&\",\",A10)","v":"3,9,"},{"$f":"IF(LEN(Sheet1!B11)>0,B10&ROW(B11)&\",\",B10)","v":"2,4,5,6,7,8,9,"},{"$f":"IF(LEN(Sheet1!C11)>0,C10&ROW(C11)&\",\",C10)","v":"5,8,"},null,{"$f":"IF(LEN(Sheet1!D11)>0,E10&ROW(E11)&\",\",E10)","v":""},{"$f":"IF(LEN(Sheet1!E11)>0,F10&ROW(F11)&\",\",F10)","v":""}]
[{"$f":"IF(LEN(Sheet1!A12)>0,A11&ROW(A12)&\",\",A11)","v":"3,9,"},{"$f":"IF(LEN(Sheet1!B12)>0,B11&ROW(B12)&\",\",B11)","v":"2,4,5,6,7,8,9,"},{"$f":"IF(LEN(Sheet1!C12)>0,C11&ROW(C12)&\",\",C11)","v":"5,8,"},null,{"$f":"IF(LEN(Sheet1!D12)>0,E11&ROW(E12)&\",\",E11)","v":""},{"$f":"IF(LEN(Sheet1!E12)>0,F11&ROW(F12)&\",\",F11)","v":""}]
[{"$f":"IF(LEN(Sheet1!A13)>0,A12&ROW(A13)&\",\",A12)","v":"3,9,"},{"$f":"IF(LEN(Sheet1!B13)>0,B12&ROW(B13)&\",\",B12)","v":"2,4,5,6,7,8,9,"},{"$f":"IF(LEN(Sheet1!C13)>0,C12&ROW(C13)&\",\",C12)","v":"5,8,"},null,{"$f":"IF(LEN(Sheet1!D13)>0,E12&ROW(E13)&\",\",E12)","v":""},{"$f":"IF(LEN(Sheet1!E13)>0,F12&ROW(F13)&\",\",F12)","v":""}]
[{"$f":"IF(LEN(Sheet1!A14)>0,A13&ROW(A14)&\",\",A13)","v":"3,9,14,"},{"$f":"IF(LEN(Sheet1!B14)>0,B13&ROW(B14)&\",\",B13)","v":"2,4,5,6,7,8,9,"},{"$f":"IF(LEN(Sheet1!C14)>0,C13&ROW(C14)&\",\",C13)","v":"5,8,14,"},null,{"$f":"IF(LEN(Sheet1!D14)>0,E13&ROW(E14)&\",\",E13)","v":""},{"$f":"IF(LEN(Sheet1!E14)>0,F13&ROW(F14)&\",\",F13)","v":""}]
[{"$f":"IF(LEN(Sheet1!A15)>0,A14&ROW(A15)&\",\",A14)","v":"3,9,14,"},{"$f":"IF(LEN(Sheet1!B15)>0,B14&ROW(B15)&\",\",B14)","v":"2,4,5,6,7,8,9,"},{"$f":"IF(LEN(Sheet1!C15)>0,C14&ROW(C15)&\",\",C14)","v":"5,8,14,"},null,{"$f":"IF(LEN(Sheet1!D15)>0,E14&ROW(E15)&\",\",E14)","v":""},{"$f":"IF(LEN(Sheet1!E15)>0,F14&ROW(F15)&\",\",F14)","v":""}]
[{"$f":"IF(LEN(Sheet1!A16)>0,A15&ROW(A16)&\",\",A15)","v":"3,9,14,16,"},{"$f":"IF(LEN(Sheet1!B16)>0,B15&ROW(B16)&\",\",B15)","v":"2,4,5,6,7,8,9,"},{"$f":"IF(LEN(Sheet1!C16)>0,C15&ROW(C16)&\",\",C15)","v":"5,8,14,"},null,{"$f":"IF(LEN(Sheet1!D16)>0,E15&ROW(E16)&\",\",E15)","v":""},{"$f":"IF(LEN(Sheet1!E16)>0,F15&ROW(F16)&\",\",F15)","v":""}]
[{"$f":"IF(LEN(Sheet1!A17)>0,A16&ROW(A17)&\",\",A16)","v":"3,9,14,16,17,"},{"$f":"IF(LEN(Sheet1!B17)>0,B16&ROW(B17)&\",\",B16)","v":"2,4,5,6,7,8,9,"},{"$f":"IF(LEN(Sheet1!C17)>0,C16&ROW(C17)&\",\",C16)","v":"5,8,14,"},null,{"$f":"IF(LEN(Sheet1!D17)>0,E16&ROW(E17)&\",\",E16)","v":""},{"$f":"IF(LEN(Sheet1!E17)>0,F16&ROW(F17)&\",\",F16)","v":""}]
[{"$f":"IF(LEN(Sheet1!A18)>0,A17&ROW(A18)&\",\",A17)","v":"3,9,14,16,17,"},{"$f":"IF(LEN(Sheet1!B18)>0,B17&ROW(B18)&\",\",B17)","v":"2,4,5,6,7,8,9,"},{"$f":"IF(LEN(Sheet1!C18)>0,C17&ROW(C18)&\",\",C17)","v":"5,8,14,"},null,{"$f":"IF(LEN(Sheet1!D18)>0,E17&ROW(E18)&\",\",E17)","v":""},{"$f":"IF(LEN(Sheet1!E18)>0,F17&ROW(F18)&\",\",F17)","v":""}]
[{"$f":"IF(LEN(Sheet1!A19)>0,A18&ROW(A19)&\",\",A18)","v":"3,9,14,16,17,"},{"$f":"IF(LEN(Sheet1!B19)>0,B18&ROW(B19)&\",\",B18)","v":"2,4,5,6,7,8,9,19,"},{"$f":"IF(LEN(Sheet1!C19)>0,C18&ROW(C19)&\",\",C18)","v":"5,8,14,"},null,{"$f":"IF(LEN(Sheet1!D19)>0,E18&ROW(E19)&\",\",E18)","v":""},{"$f":"IF(LEN(Sheet1!E19)>0,F18&ROW(F19)&\",\",F18)","v":""}]
[{"$f":"IF(LEN(Sheet1!A20)>0,A19&ROW(A20)&\",\",A19)","v":"3,9,14,16,17,"},{"$f":"IF(LEN(Sheet1!B20)>0,B19&ROW(B20)&\",\",B19)","v":"2,4,5,6,7,8,9,19,"},{"$f":"IF(LEN(Sheet1!C20)>0,C19&ROW(C20)&\",\",C19)","v":"5,8,14,20,"},null,{"$f":"IF(LEN(Sheet1!D20)>0,E19&ROW(E20)&\",\",E19)","v":""},{"$f":"IF(LEN(Sheet1!E20)>0,F19&ROW(F20)&\",\",F19)","v":""}]
[{"$f":"IF(LEN(Sheet1!A21)>0,A20&ROW(A21)&\",\",A20)","v":"3,9,14,16,17,"},{"$f":"IF(LEN(Sheet1!B21)>0,B20&ROW(B21)&\",\",B20)","v":"2,4,5,6,7,8,9,19,"},{"$f":"IF(LEN(Sheet1!C21)>0,C20&ROW(C21)&\",\",C20)","v":"5,8,14,20,"},null,{"$f":"IF(LEN(Sheet1!D21)>0,E20&ROW(E21)&\",\",E20)","v":""},{"$f":"IF(LEN(Sheet1!E21)>0,F20&ROW(F21)&\",\",F20)","v":""}]
[{"$f":"IF(LEN(Sheet1!A22)>0,A21&ROW(A22)&\",\",A21)","v":"3,9,14,16,17,22,"},{"$f":"IF(LEN(Sheet1!B22)>0,B21&ROW(B22)&\",\",B21)","v":"2,4,5,6,7,8,9,19,"},{"$f":"IF(LEN(Sheet1!C22)>0,C21&ROW(C22)&\",\",C21)","v":"5,8,14,20,22,"},null,{"$f":"IF(LEN(Sheet1!D22)>0,E21&ROW(E22)&\",\",E21)","v":""},{"$f":"IF(LEN(Sheet1!E22)>0,F21&ROW(F22)&\",\",F21)","v":""}]
[{"$f":"IF(LEN(Sheet1!A23)>0,A22&ROW(A23)&\",\",A22)","v":"3,9,14,16,17,22,"},{"$f":"IF(LEN(Sheet1!B23)>0,B22&ROW(B23)&\",\",B22)","v":"2,4,5,6,7,8,9,19,"},{"$f":"IF(LEN(Sheet1!C23)>0,C22&ROW(C23)&\",\",C22)","v":"5,8,14,20,22,"},null,{"$f":"IF(LEN(Sheet1!D23)>0,E22&ROW(E23)&\",\",E22)","v":""},{"$f":"IF(LEN(Sheet1!E23)>0,F22&ROW(F23)&\",\",F22)","v":""}]
[{"$f":"IF(LEN(Sheet1!A24)>0,A23&ROW(A24)&\",\",A23)","v":"3,9,14,16,17,22,"},{"$f":"IF(LEN(Sheet1!B24)>0,B23&ROW(B24)&\",\",B23)","v":"2,4,5,6,7,8,9,19,"},{"$f":"IF(LEN(Sheet1!C24)>0,C23&ROW(C24)&\",\",C23)","v":"5,8,14,20,22,"},null,{"$f":"IF(LEN(Sheet1!D24)>0,E23&ROW(E24)&\",\",E23)","v":""},{"$f":"IF(LEN(Sheet1!E24)>0,F23&ROW(F24)&\",\",F23)","v":""}]
[{"$f":"IF(LEN(Sheet1!A25)>0,A24&ROW(A25)&\",\",A24)","v":"3,9,14,16,17,22,"},{"$f":"IF(LEN(Sheet1!B25)>0,B24&ROW(B25)&\",\",B24)","v":"2,4,5,6,7,8,9,19,"},{"$f":"IF(LEN(Sheet1!C25)>0,C24&ROW(C25)&\",\",C24)","v":"5,8,14,20,22,"},null,{"$f":"IF(LEN(Sheet1!D25)>0,E24&ROW(E25)&\",\",E24)","v":""},{"$f":"IF(LEN(Sheet1!E25)>0,F24&ROW(F25)&\",\",F24)","v":""}]
[{"$f":"LEFT(A25,LEN(A25)-(RIGHT(A25)=\",\"))","v":"3,9,14,16,17,22"},{"$f":"LEFT(B25,LEN(B25)-(RIGHT(B25)=\",\"))","v":"2,4,5,6,7,8,9,19"},"5,8,14,20,22"]