{"text_format":"1","workbook":"xlsx","n_sheets":4,"sheets":["Tabele","kodovi","Resenje1","Resenje2"],"not_rendered":{"charts":0,"images":0,"macros":1,"external_links":0,"defined_names":35,"comments":0,"pivot_tables":0},"unopened":[],"bounds":{"document_bytes":16777216,"sheet_cells":100000,"rows_first":2000,"rows_last":500,"rows_between":2000,"halvings":0,"cell_chars":16384,"cell_head_chars":4096},"cells_cut":0,"cells_raw":0,"read":"whole","date_system":"1900"}

{"sheet":"Tabele","index":0,"n_rows":97,"n_cols":159,"rows_kept":97,"cut":false,"hidden":false,"merged":[]}
["Kodovi",null,"Tab_1","Profil",null,null,null,"Tab_2",null,null,null,null,"Tab_3",null,null,null,null,"Tab 4",null,null,null,null,"Tab 5",null,null,null,null,"Tab 6",null,null,null,null,"Tab 7",null,null,null,null,"Tab 8",null,null,null,null,"Tab 9",null,null,null,null,"Tab 10",null,null,null,null,"Tab 11",null,null,null,null,"Tab 12",null,null,null,null,"Tab 13",null,null,null,null,"Tab 14",null,null,null,null,"Tab 15",null,null,192154,null,"Tab 16",null,null,null,null,"Tab 17",null,null,null,null,"Tab 18",null,null,null,null,"Tab 19",null,null,null,null,"Tab 20",null,null,null,null,"Tab 21",null,null,null,null,"Tab 22",null,null,null,null,"Tab 23",null,null,null,null,"Tab 24",null,null,null,null,"Tab 25",null,null,null,null,"Tab 26",null,null,null,null,"Tab 27",null,null,null,null,"Tab 28",null,null,null,null,"Tab 29",null,null,null,null,"Tab 30",null,null,null,null,"Tab 31",null,null,null,null,"Tab 32"]
[686298,null,1,171072,null,686302,"VRATA A6 OT L1077 880 KPL",1,191987,null,686388,"VRATA 6NH OT L1384 503 KPL",2,328056,null,686395,"VRATA 6NH OT L1384 880 KPL",2,328258,null,686367,"VRATA 6N OT L708 027 KPL",2,171574,null,686360,"VRATA 6N OT L1025 027 KPL",1,171578,null,686360,"VRATA 6N OT L1025 027 KPL",1,171579,null,686370,"VRATA 6N OT L708 880 KPL",2,196767,null,686363,"VRATA 6N OT L1025 880 KPL",1,196843,null,686363,"VRATA 6N OT L1025 880 KPL",1,196844,null,686374,"VRATA 6N OT L1075 027 KPL",2,171185,null,686381,"VRATA 6N OT L508 027 KPL",1,171078,null,686381,"VRATA 6N OT L508 027 KPL",1,171079,null,686377,"VRATA 6N OT L1075 880 KPL",2,192021,null,686384,"VRATA 6N OT L508 880 KPL",1,192153,null,686384,"VRATA 6N OT L508 880 KPL",1,192154,null,686328,"VRATA 6N OT L1023 503 KPL",2,394146,null,686349,"VRATA 6N OT L510 503 KPL",2,394149,null,686345,"VRATA 6N OT L1023 880 KPL",2,406631,null,686356,"VRATA 6N OT L510 880 KPL",2,406632,null,686274,"VRATA A6 OT L1412 503 KPL",1,515737,null,686274,"VRATA A6 OT L1412 503 KPL",1,515739,null,686274,"VRATA A6 OT L1412 503 KPL",1,515740,null,686279,"VRATA A6 OT L1412 880 KPL",1,516936,null,686279,"VRATA A6 OT L1412 880 KPL",1,516937,null,686279,"VRATA A6 OT L1412 880 KPL",1,516938,null,686298,"VRATA A6 OT L1077 503 KPL",1,513331,null,686313,"VRATA A6 OT L721 503",2,513333,null,686298,"VRATA A6 OT L1077 503 KPL",1,513693,null,686302,"VRATA A6 OT L1077 880 KPL",1,518164,null,686302,"VRATA A6 OT L1077 880 KPL",1,518167,null,686317,"VRATA A6 OT L721 880",2,518185]
[686299,null,1,171072,null,686304,"VRATA A6 OT L1077 9005 KPL",1,191987,null,686389,"VRATA 6NH OT L1384 027 KPL",2,328056,null,686398,"VRATA 6NH OT L1384 9005 SIJ KPL",2,328258,null,686368,"VRATA 6N OT L708 024 KPL",2,171574,null,686361,"VRATA 6N OT L1025 024 KPL",1,171578,null,686361,"VRATA 6N OT L1025 024 KPL",1,171579,null,686373,"VRATA 6N OT L708 9005 SIJ KPL",2,196767,null,686366,"VRATA 6N OT L1025 9005 SIJ KPL",1,196843,null,686366,"VRATA 6N OT L1025 9005 SIJ KPL",1,196844,null,686375,"VRATA 6N OT L1075 024 KPL",2,171185,null,686382,"VRATA 6N OT L508 024 KPL",1,171078,null,686382,"VRATA 6N OT L508 024 KPL",1,171079,null,686380,"VRATA 6N OT L1075 9005 SIJ KPL",2,192021,null,686387,"VRATA 6N OT L508 9005 SIJ KPL",1,192153,null,686387,"VRATA 6N OT L508 9005 SIJ KPL",1,192154,null,686329,"VRATA 6N OT L1023 027 KPL",2,394146,null,686350,"VRATA 6N OT L510 027 KPL",2,394149,null,686348,"VRATA 6N OT L1023 9005 SIJ KPL",2,406631,null,686359,"VRATA 6N OT L510 9005 SIJ KPL",2,406632,null,686276,"VRATA A6 OT L1412 024 KPL",1,515737,null,686276,"VRATA A6 OT L1412 024 KPL",1,515739,null,686276,"VRATA A6 OT L1412 024 KPL",1,515740,null,686281,"VRATA A6 OT L1412 9005 KPL",1,516936,null,686281,"VRATA A6 OT L1412 9005 KPL",1,516937,null,686281,"VRATA A6 OT L1412 9005 KPL",1,516938,null,686299,"VRATA A6 OT L1077 024 KPL",1,513331,null,686314,"VRATA A6 OT L721 024",2,513333,null,686299,"VRATA A6 OT L1077 024 KPL",1,513693,null,686304,"VRATA A6 OT L1077 9005 KPL",1,518164,null,686304,"VRATA A6 OT L1077 9005 KPL",1,518167,null,686319,"VRATA A6 OT L721 9005",2,518185]
[686300,null,1,171072,null,686309,"VRATA A6 OT L1077 UL 9005 KPL",1,191987,null,686390,"VRATA 6NH OT L1384 036A KPL",2,328056,null,null,null,null,null,null,686369,"VRATA 6N OT L708 304A KPL",2,171574,null,686362,"VRATA 6N OT L1025 304A KPL",1,171578,null,686362,"VRATA 6N OT L1025 304A KPL",1,171579,null,null,null,null,null,null,null,null,null,null,null,null,null,null,null,null,686376,"VRATA 6N OT L1075 304A KPL",2,171185,null,686383,"VRATA 6N OT L508 304A KPL",1,171078,null,686383,"VRATA 6N OT L508 304A KPL",1,171079,null,null,null,null,null,null,null,null,null,null,null,null,null,null,null,null,686330,"VRATA 6N OT L1023 036A KPL",2,394146,null,686351,"VRATA 6N OT L510 036A KPL",2,394149,null,null,null,null,null,null,null,null,null,null,null,686277,"VRATA A6 OT L1412 304A KPL",1,515737,null,686277,"VRATA A6 OT L1412 304A KPL",1,515739,null,686277,"VRATA A6 OT L1412 304A KPL",1,515740,null,686296,"VRATA A6 OT L1412 DE 9005 KPL",1,516936,null,686296,"VRATA A6 OT L1412 DE 9005 KPL",1,516937,null,686296,"VRATA A6 OT L1412 DE 9005 KPL",1,516938,null,686300,"VRATA A6 OT L1077 304A KPL",1,513331,null,686315,"VRATA A6 OT L721 304A",2,513333,null,686300,"VRATA A6 OT L1077 304A KPL",1,513693,null,686309,"VRATA A6 OT L1077 UL 9005 KPL",1,518164,null,686309,"VRATA A6 OT L1077 UL 9005 KPL",1,518167,null,686324,"VRATA A6 OT L721 UL 9005",2,518185]
[686301,null,1,171072,null,686317,"VRATA A6 OT L721 880",2,191987,null,686391,"VRATA 6NH OT L1384 034A KPL",2,328056,null,null,null,null,null,null,686371,"VRATA 6N OT L708 879 KPL",2,171574,null,686364,"VRATA 6N OT L1025 879 KPL",1,171578,null,686364,"VRATA 6N OT L1025 879 KPL",1,171579,null,null,null,null,null,null,null,null,null,null,null,null,null,null,null,null,686378,"VRATA 6N OT L1075 879 KPL",2,171185,null,686385,"VRATA 6N OT L508 879 KPL",1,171078,null,686385,"VRATA 6N OT L508 879 KPL",1,171079,null,null,null,null,null,null,null,null,null,null,null,null,null,null,null,null,686331,"VRATA 6N OT L1023 034A KPL",2,394146,null,686352,"VRATA 6N OT L510 034A KPL",2,394149,null,null,null,null,null,null,null,null,null,null,null,686278,"VRATA A6 OT L1412 027 KPL",1,515737,null,686278,"VRATA A6 OT L1412 027 KPL",1,515739,null,686278,"VRATA A6 OT L1412 027 KPL",1,515740,null,null,null,null,null,null,null,null,null,null,null,null,null,null,null,null,686301,"VRATA A6 OT L1077 027 KPL",1,513331,null,686316,"VRATA A6 OT L721 027",2,513333,null,686301,"VRATA A6 OT L1077 027 KPL",1,513693]
[686303,null,1,171072,null,686319,"VRATA A6 OT L721 9005",2,191987,null,686392,"VRATA 6NH OT L1384 328 KPL",2,328056,null,null,null,null,null,null,686372,"VRATA 6N OT L708 070 KPL",2,171574,null,686365,"VRATA 6N OT L1025 070 KPL",1,171578,null,686365,"VRATA 6N OT L1025 070 KPL",1,171579,null,null,null,null,null,null,null,null,null,null,null,null,null,null,null,null,686379,"VRATA 6N OT L1075 070 KPL",2,171185,null,686386,"VRATA 6N OT L508 070 KPL",1,171078,null,686386,"VRATA 6N OT L508 070 KPL",1,171079,null,null,null,null,null,null,null,null,null,null,null,null,null,null,null,null,686342,"VRATA 6N OT L1023 328 KPL",2,394146,null,686353,"VRATA 6N OT L510 328 KPL",2,394149,null,null,null,null,null,null,null,null,null,null,null,686280,"VRATA A6 OT L1412 879 KPL",1,515737,null,686280,"VRATA A6 OT L1412 879 KPL",1,515739,null,686280,"VRATA A6 OT L1412 879 KPL",1,515740,null,null,null,null,null,null,null,null,null,null,null,null,null,null,null,null,686303,"VRATA A6 OT L1077 879 KPL",1,513331,null,686318,"VRATA A6 OT L721 879",2,513333,null,686303,"VRATA A6 OT L1077 879 KPL",1,513693]
[686305,null,1,171072,null,686324,"VRATA A6 OT L721 UL 9005",2,191987,null,686393,"VRATA 6NH OT L1384 024 KPL",2,328056,null,null,null,null,null,null,686758,"VRATA 6N OT L708 304 KPL",2,171574,null,686749,"VRATA 6N OT L508 504 KPL",1,171578,null,686749,"VRATA 6N OT L508 504 KPL",1,171579,null,null,null,null,null,null,null,null,null,null,null,null,null,null,null,null,686761,"VRATA 6N OT L1075 304 KPL",2,171185,null,686752,"VRATA 6N OT L508 304 KPL",1,171078,null,686752,"VRATA 6N OT L508 304 KPL",1,171079,null,null,null,null,null,null,null,null,null,null,null,null,null,null,null,null,686343,"VRATA 6N OT L1023 024 KPL",2,394146,null,686354,"VRATA 6N OT L510 024 KPL",2,394149,null,null,null,null,null,null,null,null,null,null,null,686292,"VRATA A6 OT L1412 036A KPL",1,515737,null,686292,"VRATA A6 OT L1412 036A KPL",1,515739,null,686292,"VRATA A6 OT L1412 036A KPL",1,515740,null,null,null,null,null,null,null,null,null,null,null,null,null,null,null,null,686305,"VRATA A6 OT L1077 036A KPL",1,513331,null,686320,"VRATA A6 OT L721 036A",2,513333,null,686305,"VRATA A6 OT L1077 036A KPL",1,513693]
[686306,null,1,171072,null,686345,"VRATA 6N OT L1023 880 KPL",2,191987,null,686394,"VRATA 6NH OT L1384 304A KPL",2,328056,null,null,null,null,null,null,686759,"VRATA 6N OT L708 097 KPL",2,171574,null,686750,"VRATA 6N OT L1025 097 KPL",1,171578,null,686750,"VRATA 6N OT L1025 097 KPL",1,171579,null,null,null,null,null,null,null,null,null,null,null,null,null,null,null,null,686762,"VRATA 6N OT L1075 097 KPL",2,171185,null,686754,"VRATA 6N OT L508 097 KPL",1,171078,null,686754,"VRATA 6N OT L508 097 KPL",1,171079,null,null,null,null,null,null,null,null,null,null,null,null,null,null,null,null,686344,"VRATA 6N OT L1023 304A KPL",2,394146,null,686355,"VRATA 6N OT L510 304A KPL",2,394149,null,null,null,null,null,null,null,null,null,null,null,686293,"VRATA A6 OT L1412 034A KPL",1,515737,null,686293,"VRATA A6 OT L1412 034A KPL",1,515739,null,686293,"VRATA A6 OT L1412 034A KPL",1,515740,null,null,null,null,null,null,null,null,null,null,null,null,null,null,null,null,686306,"VRATA A6 OT L1077 034A KPL",1,513331,null,686321,"VRATA A6 OT L721 034A",2,513333,null,686306,"VRATA A6 OT L1077 034A KPL",1,513693]
[686307,null,1,171072,null,686348,"VRATA 6N OT L1023 9005 SIJ KPL",2,191987,null,686396,"VRATA 6NH OT L1384 879 KPL",2,328056,null,null,null,null,null,null,null,null,null,null,null,null,null,null,null,null,null,null,null,null,null,null,null,null,null,null,null,null,null,null,null,null,null,null,null,null,null,null,null,null,null,null,null,null,null,null,null,null,null,null,null,null,null,null,null,null,null,null,null,null,null,null,null,null,null,null,686346,"VRATA 6N OT L1023 879 KPL",2,394146,null,686357,"VRATA 6N OT L510 879 KPL",2,394149,null,null,null,null,null,null,null,null,null,null,null,686294,"VRATA A6 OT L1412 328 KPL",1,515737,null,686294,"VRATA A6 OT L1412 328 KPL",1,515739,null,686294,"VRATA A6 OT L1412 328 KPL",1,515740,null,null,null,null,null,null,null,null,null,null,null,null,null,null,null,null,686307,"VRATA A6 OT L1077 328 KPL",1,513331,null,686322,"VRATA A6 OT L721 328",2,513333,null,686307,"VRATA A6 OT L1077 328 KPL",1,513693]
[686308,null,1,171072,null,686356,"VRATA 6N OT L510 880 KPL",2,191987,null,686397,"VRATA 6NH OT L1384 070 KPL",2,328056,null,null,null,null,null,null,null,null,null,null,null,null,null,null,null,null,null,null,null,null,null,null,null,null,null,null,null,null,null,null,null,null,null,null,null,null,null,null,null,null,null,null,null,null,null,null,null,null,null,null,null,null,null,null,null,null,null,null,null,null,null,null,null,null,null,null,686347,"VRATA 6N OT L1023 070 KPL",2,394146,null,686358,"VRATA 6N OT L510 070 KPL",2,394149,null,null,null,null,null,null,null,null,null,null,null,686297,"VRATA A6 OT L1412 035A KPL",1,515737,null,686297,"VRATA A6 OT L1412 035A KPL",1,515739,null,686297,"VRATA A6 OT L1412 035A KPL",1,515740,null,null,null,null,null,null,null,null,null,null,null,null,null,null,null,null,686308,"VRATA A6 OT L1077 035A KPL",1,513331,null,686323,"VRATA A6 OT L721 035A",2,513333,null,686308,"VRATA A6 OT L1077 035A KPL",1,513693]
[686310,null,1,171072,null,686359,"VRATA 6N OT L510 9005 SIJ KPL",2,191987,null,686399,"VRATA 6NH OT L1384 035A KPL",2,328056,null,null,null,null,null,null,null,null,null,null,null,null,null,null,null,null,null,null,null,null,null,null,null,null,null,null,null,null,null,null,null,null,null,null,null,null,null,null,null,null,null,null,null,null,null,null,null,null,null,null,null,null,null,null,null,null,null,null,null,null,null,null,null,null,null,null,686768,"VRATA 6N OT L1023 304 KPL",2,394146,null,686769,"VRATA 6N OT L510 304 KPL",2,394149,null,null,null,null,null,null,null,null,null,null,null,686770,"VRATA A6 OT L1412 UL 024 KPL",1,515737,null,686770,"VRATA A6 OT L1412 UL 024 KPL",1,515739,null,686770,"VRATA A6 OT L1412 UL 024 KPL",1,515740,null,null,null,null,null,null,null,null,null,null,null,null,null,null,null,null,686310,"VRATA A6 OT L1077 UL 304A KPL",1,513331,null,686325,"VRATA A6 OT L721 UL 304A",2,513333,null,686310,"VRATA A6 OT L1077 UL 304A KPL",1,513693]
[686311,null,1,171072,null,686363,"VRATA 6N OT L1025 880 KPL",1,191987,null,686765,"VRATA 6N OT L1384 097 KPL",2,328056,null,null,null,null,null,null,null,null,null,null,null,null,null,null,null,null,null,null,null,null,null,null,null,null,null,null,null,null,null,null,null,null,null,null,null,null,null,null,null,null,null,null,null,null,null,null,null,null,null,null,null,null,null,null,null,null,null,null,null,null,null,null,null,null,null,null,711792,"VRATA 6N OT L1023 313 KPL",2,394146,null,711796,"VRATA 6N OT L510 313 KPL",2,394149,null,null,null,null,null,null,null,null,null,null,null,688447,"VRATA A6 OT L1412 503 VW KPL",1,515737,null,688447,"VRATA A6 OT L1412 503 VW KPL",1,515739,null,688447,"VRATA A6 OT L1412 503 VW KPL",1,515740,null,null,null,null,null,null,null,null,null,null,null,null,null,null,null,null,686311,"VRATA A6 OT L1077 UL 027 KPL",1,513331,null,686326,"VRATA A6 OT L721 UL 027",2,513333,null,686311,"VRATA A6 OT L1077 UL 027 KPL",1,513693]
[686312,null,1,171072,null,686366,"VRATA 6N OT L1025 9005 SIJ KPL",1,191987,null,686766,"VRATA 6N OT L1384 304 KPL",2,328056,null,null,null,null,null,null,null,null,null,null,null,null,null,null,null,null,null,null,null,null,null,null,null,null,null,null,null,null,null,null,null,null,null,null,null,null,null,null,null,null,null,null,null,null,null,null,null,null,null,null,null,null,null,null,null,null,null,null,null,null,null,null,null,null,null,null,711986,"VRATA 6N OT L1023 660 KPL",2,394146,null,711990,"VRATA 6N OT L510 660 KPL",2,394149,null,null,null,null,null,null,null,null,null,null,null,688451,"VRATA A6 OT L1412 304 VW KPL",1,515737,null,688451,"VRATA A6 OT L1412 304 VW KPL",1,515739,null,688451,"VRATA A6 OT L1412 304 VW KPL",1,515740,null,null,null,null,null,null,null,null,null,null,null,null,null,null,null,null,686312,"VRATA A6 OT L1077 UL 024 KPL",1,513331,null,686327,"VRATA A6 OT L721 UL 024",2,513333,null,686312,"VRATA A6 OT L1077 UL 024 KPL",1,513693]
[686313,null,2,171072,null,686370,"VRATA 6N OT L708 880 KPL",2,191987,null,null,null,null,null,null,null,null,null,null,null,null,null,null,null,null,null,null,null,null,null,null,null,null,null,null,null,null,null,null,null,null,null,null,null,null,null,null,null,null,null,null,null,null,null,null,null,null,null,null,null,null,null,null,null,null,null,null,null,null,null,null,null,null,null,null,null,null,null,null,null,712059,"VRATA 6N OT L1023 601 KPL",2,394146,null,712073,"VRATA 6N OT L510 601 KPL",2,394149,null,null,null,null,null,null,null,null,null,null,null,711185,"VRATA A6 OT L1412 313 KPL",1,515737,null,711185,"VRATA A6 OT L1412 313 KPL",1,515739,null,711185,"VRATA A6 OT L1412 313 KPL",1,515740,null,null,null,null,null,null,null,null,null,null,null,null,null,null,null,null,710625,"VRATA A6 OT L1077 601 KPL",1,513331,null,710630,"VRATA A6 OT L721 601 KPL",2,513333,null,710625,"VRATA A6 OT L1077 601 KPL",1,513693]
[686314,null,2,171072,null,686373,"VRATA 6N OT L708 9005 SIJ KPL",2,191987,null,null,null,null,null,null,null,null,null,null,null,null,null,null,null,null,null,null,null,null,null,null,null,null,null,null,null,null,null,null,null,null,null,null,null,null,null,null,null,null,null,null,null,null,null,null,null,null,null,null,null,null,null,null,null,null,null,null,null,null,null,null,null,null,null,null,null,null,null,null,null,null,null,null,null,null,null,null,null,null,null,null,null,null,null,null,null,null,null,null,null,711209,"VRATA A6 OT L1412 601 KPL",1,515737,null,711209,"VRATA A6 OT L1412 601 KPL",1,515739,null,711209,"VRATA A6 OT L1412 601 KPL",1,515740,null,null,null,null,null,null,null,null,null,null,null,null,null,null,null,null,710733,"VRATA A6 OT L1077 660 KPL",1,513331,null,710737,"VRATA A6 OT L721 660 KPL",2,513333,null,710733,"VRATA A6 OT L1077 660 KPL",1,513693]
[686315,null,2,171072,null,686377,"VRATA 6N OT L1075 880 KPL",2,191987,null,null,null,null,null,null,null,null,null,null,null,null,null,null,null,null,null,null,null,null,null,null,null,null,null,null,null,null,null,null,null,null,null,null,null,null,null,null,null,null,null,null,null,null,null,null,null,null,null,null,null,null,null,null,null,null,null,null,null,null,null,null,null,null,null,null,null,null,null,null,null,null,null,null,null,null,null,null,null,null,null,null,null,null,null,null,null,null,null,null,null,711271,"VRATA A6 OT L1412 660 KPL",1,515737,null,711271,"VRATA A6 OT L1412 660 KPL",1,515739,null,711271,"VRATA A6 OT L1412 660 KPL",1,515740,null,null,null,null,null,null,null,null,null,null,null,null,null,null,null,null,710754,"VRATA A6 OT L1077 313 KPL",1,513331,null,710758,"VRATA A6 OT L721 313 KPL",2,513333,null,710754,"VRATA A6 OT L1077 313 KPL",1,513693]
[686316,null,2,171072,null,686380,"VRATA 6N OT L1075 9005 SIJ KPL",2,191987]
[686318,null,2,171072,null,686384,"VRATA 6N OT L508 880 KPL",1,191987]
[686320,null,2,171072,null,686387,"VRATA 6N OT L508 9005 SIJ KPL",1,191987]
[686321,null,2,171072,null,686395,"VRATA 6NH OT L1384 880 KPL",2,191987]
[686322,null,2,171072,null,686398,"VRATA 6NH OT L1384 9005 SIJ KPL",2,191987]
[686323,null,2,171072]
[686325,null,2,171072]
[686326,null,2,171072]
[686327,null,2,171072]
[686328,null,2,171072]
[686329,null,2,171072]
[686330,null,2,171072]
[686331,null,2,171072]
[686342,null,2,171072]
[686343,null,2,171072]
[686344,null,2,171072]
[686346,null,2,171072]
[686347,null,2,171072]
[686349,null,2,171072]
[686350,null,2,171072]
[686351,null,2,171072]
[686352,null,2,171072]
[686353,null,2,171072]
[686354,null,2,171072]
[686355,null,2,171072]
[686357,null,2,171072]
[686358,null,2,171072]
[686360,null,1,171072]
[686361,null,1,171072]
[686362,null,1,171072]
[686364,null,1,171072]
[686365,null,1,171072]
[686367,null,2,171072]
[686368,null,2,171072]
[686369,null,2,171072]
[686371,null,2,171072]
[686372,null,2,171072]
[686374,null,2,171072]
[686375,null,2,171072]
[686376,null,2,171072]
[686378,null,2,171072]
[686379,null,2,171072]
[686381,null,1,171072]
[686382,null,1,171072]
[686383,null,1,171072]
[686385,null,1,171072]
[686386,null,1,171072]
[686388,null,2,171072]
[686389,null,2,171072]
[686390,null,2,171072]
[686391,null,2,171072]
[686392,null,2,171072]
[686393,null,2,171072]
[686394,null,2,171072]
[686396,null,2,171072]
[686397,null,2,171072]
[686399,null,2,171072]
[686749,null,1,171072]
[686750,null,1,171072]
[686752,null,1,171072]
[686754,null,1,171072]
[686758,null,2,171072]
[686759,null,2,171072]
[686761,null,2,171072]
[686762,null,2,171072]
[686765,null,2,171072]
[686766,null,2,171072]
[686768,null,2,171072]
[686769,null,2,171072]
[710625,null,1,171072]
[710630,null,2,171072]
[710733,null,1,171072]
[710737,null,2,171072]
[710754,null,1,171072]
[710758,null,2,171072]
[711792,null,2,171072]
[711796,null,2,171072]
[711986,null,2,171072]
[711990,null,2,171072]
[712059,null,2,171072]
[712073,null,2,171072]

{"sheet":"kodovi","index":1,"n_rows":134,"n_cols":48,"rows_kept":134,"cut":false,"hidden":false,"merged":[[1,9,16,14]]}
[null,null,null,"Kodovi","Br ponavljanja","Profil 1","Profil 2","Profil 3",null,null,null,null,null,null,null,null,"Tab_1","Tab_2","Tab_3","Tab_4","Tab_5","Tab_6","Tab_7","Tab_8","Tab_9","Tab_10","Tab_11","Tab_12","Tab_13","Tab_14","Tab_15","Tab_16","Tab_17","Tab_18","Tab_19","Tab_20","Tab_21","Tab_22","Tab_23","Tab_24","Tab_25","Tab_26","Tab_27","Tab_28","Tab_29","Tab_30","Tab_31","Tab_32"]
[null,null,null,686313,{"$f":"+COUNTIF(Tabele!$A$1:$FC$500,D2)","v":2},513333,171072,"/",null,"Uzeo sam primer za ova dva koda obojena crveno.\nPrvi kod se pojavljuje dva puta u one 32 tabele i za njega se vezuju dva profila,\ndok drugi kod se pojavljuje ukupno tri puta i on ima tri profila.\nZa ostale kodove mi treba formula da bi dobio njihove profile.\nZnam da može bez korišćenja makroa, ali je daleko komplikovanije.",null,null,null,null,null,null,{"$f":"_xlfn.IFNA(VLOOKUP($D2,INDIRECT(Q1),4,FALSE),\"\")","v":171072},{"$f":"_xlfn.IFNA(VLOOKUP($D2,INDIRECT(R1),4,FALSE),\"\")","v":""},"","","","","","","","","","","","","","","","","","","","","","","","","",513333,"","","",""]
[null,null,null,686314,{"$f":"+COUNTIF(Tabele!$A$1:$FC$500,D3)","v":2}]
[null,null,null,686315,{"$f":"+COUNTIF(Tabele!$A$1:$FC$500,D4)","v":2}]
[null,null,null,686316,{"$f":"+COUNTIF(Tabele!$A$1:$FC$500,D5)","v":2}]
[null,null,null,686317,{"$f":"+COUNTIF(Tabele!$A$1:$FC$500,D6)","v":2}]
[null,null,null,686318,{"$f":"+COUNTIF(Tabele!$A$1:$FC$500,D7)","v":2}]
[null,null,null,686319,{"$f":"+COUNTIF(Tabele!$A$1:$FC$500,D8)","v":2}]
[null,null,null,686320,{"$f":"+COUNTIF(Tabele!$A$1:$FC$500,D9)","v":2}]
[null,null,null,686321,{"$f":"+COUNTIF(Tabele!$A$1:$FC$500,D10)","v":2}]
[null,null,null,686322,{"$f":"+COUNTIF(Tabele!$A$1:$FC$500,D11)","v":2}]
[null,null,null,686323,{"$f":"+COUNTIF(Tabele!$A$1:$FC$500,D12)","v":2}]
[null,null,null,686324,{"$f":"+COUNTIF(Tabele!$A$1:$FC$500,D13)","v":2}]
[null,null,null,686325,{"$f":"+COUNTIF(Tabele!$A$1:$FC$500,D14)","v":2}]
[null,null,null,686326,{"$f":"+COUNTIF(Tabele!$A$1:$FC$500,D15)","v":2}]
[null,null,null,686327,{"$f":"+COUNTIF(Tabele!$A$1:$FC$500,D16)","v":2}]
[null,null,null,686276,{"$f":"+COUNTIF(Tabele!$A$1:$FC$500,D17)","v":3},515737,515739,515740]
[null,null,null,686277,{"$f":"+COUNTIF(Tabele!$A$1:$FC$500,D18)","v":3}]
[null,null,null,686278,{"$f":"+COUNTIF(Tabele!$A$1:$FC$500,D19)","v":3}]
[null,null,null,686279,{"$f":"+COUNTIF(Tabele!$A$1:$FC$500,D20)","v":3}]
[null,null,null,686280,{"$f":"+COUNTIF(Tabele!$A$1:$FC$500,D21)","v":3}]
[null,null,null,686281,{"$f":"+COUNTIF(Tabele!$A$1:$FC$500,D22)","v":3}]
[null,null,null,686292,{"$f":"+COUNTIF(Tabele!$A$1:$FC$500,D23)","v":3}]
[null,null,null,686293,{"$f":"+COUNTIF(Tabele!$A$1:$FC$500,D24)","v":3}]
[null,null,null,686294,{"$f":"+COUNTIF(Tabele!$A$1:$FC$500,D25)","v":3}]
[null,null,null,686296,{"$f":"+COUNTIF(Tabele!$A$1:$FC$500,D26)","v":3}]
[null,null,null,686297,{"$f":"+COUNTIF(Tabele!$A$1:$FC$500,D27)","v":3}]
[null,null,null,686770,{"$f":"+COUNTIF(Tabele!$A$1:$FC$500,D28)","v":3}]
[null,null,null,688447,{"$f":"+COUNTIF(Tabele!$A$1:$FC$500,D29)","v":3}]
[null,null,null,688451,{"$f":"+COUNTIF(Tabele!$A$1:$FC$500,D30)","v":3}]
[null,null,null,711185,{"$f":"+COUNTIF(Tabele!$A$1:$FC$500,D31)","v":3}]
[null,null,null,711209,{"$f":"+COUNTIF(Tabele!$A$1:$FC$500,D32)","v":3}]
[null,null,null,711271,{"$f":"+COUNTIF(Tabele!$A$1:$FC$500,D33)","v":3}]
[null,null,null,686387,{"$f":"+COUNTIF(Tabele!$A$1:$FC$500,D34)","v":3}]
[null,null,null,686386,{"$f":"+COUNTIF(Tabele!$A$1:$FC$500,D35)","v":3}]
[null,null,null,686385,{"$f":"+COUNTIF(Tabele!$A$1:$FC$500,D36)","v":3}]
[null,null,null,686384,{"$f":"+COUNTIF(Tabele!$A$1:$FC$500,D37)","v":3}]
[null,null,null,686383,{"$f":"+COUNTIF(Tabele!$A$1:$FC$500,D38)","v":3}]
[null,null,null,686382,{"$f":"+COUNTIF(Tabele!$A$1:$FC$500,D39)","v":3}]
[null,null,null,686381,{"$f":"+COUNTIF(Tabele!$A$1:$FC$500,D40)","v":3}]
[null,null,null,686366,{"$f":"+COUNTIF(Tabele!$A$1:$FC$500,D41)","v":3}]
[null,null,null,686365,{"$f":"+COUNTIF(Tabele!$A$1:$FC$500,D42)","v":3}]
[null,null,null,686364,{"$f":"+COUNTIF(Tabele!$A$1:$FC$500,D43)","v":3}]
[null,null,null,686363,{"$f":"+COUNTIF(Tabele!$A$1:$FC$500,D44)","v":3}]
[null,null,null,686362,{"$f":"+COUNTIF(Tabele!$A$1:$FC$500,D45)","v":3}]
[null,null,null,686361,{"$f":"+COUNTIF(Tabele!$A$1:$FC$500,D46)","v":3}]
[null,null,null,686360,{"$f":"+COUNTIF(Tabele!$A$1:$FC$500,D47)","v":3}]
[null,null,null,686750,{"$f":"+COUNTIF(Tabele!$A$1:$FC$500,D48)","v":3}]
[null,null,null,686754,{"$f":"+COUNTIF(Tabele!$A$1:$FC$500,D49)","v":3}]
[null,null,null,686298,{"$f":"+COUNTIF(Tabele!$A$1:$FC$500,D50)","v":3}]
[null,null,null,686299,{"$f":"+COUNTIF(Tabele!$A$1:$FC$500,D51)","v":3}]
[null,null,null,686274,{"$f":"+COUNTIF(Tabele!$A$1:$FC$500,D52)","v":3}]
[null,null,null,686300,{"$f":"+COUNTIF(Tabele!$A$1:$FC$500,D53)","v":3}]
[null,null,null,686301,{"$f":"+COUNTIF(Tabele!$A$1:$FC$500,D54)","v":3}]
[null,null,null,686302,{"$f":"+COUNTIF(Tabele!$A$1:$FC$500,D55)","v":3}]
[null,null,null,686303,{"$f":"+COUNTIF(Tabele!$A$1:$FC$500,D56)","v":3}]
[null,null,null,686304,{"$f":"+COUNTIF(Tabele!$A$1:$FC$500,D57)","v":3}]
[null,null,null,686305,{"$f":"+COUNTIF(Tabele!$A$1:$FC$500,D58)","v":3}]
[null,null,null,686306,{"$f":"+COUNTIF(Tabele!$A$1:$FC$500,D59)","v":3}]
[null,null,null,686307,{"$f":"+COUNTIF(Tabele!$A$1:$FC$500,D60)","v":3}]
[null,null,null,686308,{"$f":"+COUNTIF(Tabele!$A$1:$FC$500,D61)","v":3}]
[null,null,null,686309,{"$f":"+COUNTIF(Tabele!$A$1:$FC$500,D62)","v":3}]
[null,null,null,686310,{"$f":"+COUNTIF(Tabele!$A$1:$FC$500,D63)","v":3}]
[null,null,null,686311,{"$f":"+COUNTIF(Tabele!$A$1:$FC$500,D64)","v":3}]
[null,null,null,686312,{"$f":"+COUNTIF(Tabele!$A$1:$FC$500,D65)","v":3}]
[null,null,null,710625,{"$f":"+COUNTIF(Tabele!$A$1:$FC$500,D66)","v":3}]
[null,null,null,710733,{"$f":"+COUNTIF(Tabele!$A$1:$FC$500,D67)","v":3}]
[null,null,null,710754,{"$f":"+COUNTIF(Tabele!$A$1:$FC$500,D68)","v":3}]
[null,null,null,686374,{"$f":"+COUNTIF(Tabele!$A$1:$FC$500,D69)","v":2}]
[null,null,null,686375,{"$f":"+COUNTIF(Tabele!$A$1:$FC$500,D70)","v":2}]
[null,null,null,686376,{"$f":"+COUNTIF(Tabele!$A$1:$FC$500,D71)","v":2}]
[null,null,null,686377,{"$f":"+COUNTIF(Tabele!$A$1:$FC$500,D72)","v":2}]
[null,null,null,686378,{"$f":"+COUNTIF(Tabele!$A$1:$FC$500,D73)","v":2}]
[null,null,null,686379,{"$f":"+COUNTIF(Tabele!$A$1:$FC$500,D74)","v":2}]
[null,null,null,686380,{"$f":"+COUNTIF(Tabele!$A$1:$FC$500,D75)","v":2}]
[null,null,null,686367,{"$f":"+COUNTIF(Tabele!$A$1:$FC$500,D76)","v":2}]
[null,null,null,686368,{"$f":"+COUNTIF(Tabele!$A$1:$FC$500,D77)","v":2}]
[null,null,null,686369,{"$f":"+COUNTIF(Tabele!$A$1:$FC$500,D78)","v":2}]
[null,null,null,686370,{"$f":"+COUNTIF(Tabele!$A$1:$FC$500,D79)","v":2}]
[null,null,null,686371,{"$f":"+COUNTIF(Tabele!$A$1:$FC$500,D80)","v":2}]
[null,null,null,686372,{"$f":"+COUNTIF(Tabele!$A$1:$FC$500,D81)","v":2}]
[null,null,null,686373,{"$f":"+COUNTIF(Tabele!$A$1:$FC$500,D82)","v":2}]
[null,null,null,686399,{"$f":"+COUNTIF(Tabele!$A$1:$FC$500,D83)","v":2}]
[null,null,null,686398,{"$f":"+COUNTIF(Tabele!$A$1:$FC$500,D84)","v":2}]
[null,null,null,686397,{"$f":"+COUNTIF(Tabele!$A$1:$FC$500,D85)","v":2}]
[null,null,null,686396,{"$f":"+COUNTIF(Tabele!$A$1:$FC$500,D86)","v":2}]
[null,null,null,686395,{"$f":"+COUNTIF(Tabele!$A$1:$FC$500,D87)","v":2}]
[null,null,null,686394,{"$f":"+COUNTIF(Tabele!$A$1:$FC$500,D88)","v":2}]
[null,null,null,686393,{"$f":"+COUNTIF(Tabele!$A$1:$FC$500,D89)","v":2}]
[null,null,null,686392,{"$f":"+COUNTIF(Tabele!$A$1:$FC$500,D90)","v":2}]
[null,null,null,686391,{"$f":"+COUNTIF(Tabele!$A$1:$FC$500,D91)","v":2}]
[null,null,null,686390,{"$f":"+COUNTIF(Tabele!$A$1:$FC$500,D92)","v":2}]
[null,null,null,686389,{"$f":"+COUNTIF(Tabele!$A$1:$FC$500,D93)","v":2}]
[null,null,null,686388,{"$f":"+COUNTIF(Tabele!$A$1:$FC$500,D94)","v":2}]
[null,null,null,686348,{"$f":"+COUNTIF(Tabele!$A$1:$FC$500,D95)","v":2}]
[null,null,null,686347,{"$f":"+COUNTIF(Tabele!$A$1:$FC$500,D96)","v":2}]
[null,null,null,686346,{"$f":"+COUNTIF(Tabele!$A$1:$FC$500,D97)","v":2}]
[null,null,null,686345,{"$f":"+COUNTIF(Tabele!$A$1:$FC$500,D98)","v":2}]
[null,null,null,686344,{"$f":"+COUNTIF(Tabele!$A$1:$FC$500,D99)","v":2}]
[null,null,null,686343,{"$f":"+COUNTIF(Tabele!$A$1:$FC$500,D100)","v":2}]
[null,null,null,686342,{"$f":"+COUNTIF(Tabele!$A$1:$FC$500,D101)","v":2}]
[null,null,null,686331,{"$f":"+COUNTIF(Tabele!$A$1:$FC$500,D102)","v":2}]
[null,null,null,686330,{"$f":"+COUNTIF(Tabele!$A$1:$FC$500,D103)","v":2}]
[null,null,null,686329,{"$f":"+COUNTIF(Tabele!$A$1:$FC$500,D104)","v":2}]
[null,null,null,686328,{"$f":"+COUNTIF(Tabele!$A$1:$FC$500,D105)","v":2}]
[null,null,null,711792,{"$f":"+COUNTIF(Tabele!$A$1:$FC$500,D106)","v":2}]
[null,null,null,711986,{"$f":"+COUNTIF(Tabele!$A$1:$FC$500,D107)","v":2}]
[null,null,null,712059,{"$f":"+COUNTIF(Tabele!$A$1:$FC$500,D108)","v":2}]
[null,null,null,686762,{"$f":"+COUNTIF(Tabele!$A$1:$FC$500,D109)","v":2}]
[null,null,null,686759,{"$f":"+COUNTIF(Tabele!$A$1:$FC$500,D110)","v":2}]
[null,null,null,712073,{"$f":"+COUNTIF(Tabele!$A$1:$FC$500,D111)","v":2}]
[null,null,null,711990,{"$f":"+COUNTIF(Tabele!$A$1:$FC$500,D112)","v":2}]
[null,null,null,711796,{"$f":"+COUNTIF(Tabele!$A$1:$FC$500,D113)","v":2}]
[null,null,null,686359,{"$f":"+COUNTIF(Tabele!$A$1:$FC$500,D114)","v":2}]
[null,null,null,686358,{"$f":"+COUNTIF(Tabele!$A$1:$FC$500,D115)","v":2}]
[null,null,null,686357,{"$f":"+COUNTIF(Tabele!$A$1:$FC$500,D116)","v":2}]
[null,null,null,686356,{"$f":"+COUNTIF(Tabele!$A$1:$FC$500,D117)","v":2}]
[null,null,null,686355,{"$f":"+COUNTIF(Tabele!$A$1:$FC$500,D118)","v":2}]
[null,null,null,686354,{"$f":"+COUNTIF(Tabele!$A$1:$FC$500,D119)","v":2}]
[null,null,null,686353,{"$f":"+COUNTIF(Tabele!$A$1:$FC$500,D120)","v":2}]
[null,null,null,686352,{"$f":"+COUNTIF(Tabele!$A$1:$FC$500,D121)","v":2}]
[null,null,null,686351,{"$f":"+COUNTIF(Tabele!$A$1:$FC$500,D122)","v":2}]
[null,null,null,686350,{"$f":"+COUNTIF(Tabele!$A$1:$FC$500,D123)","v":2}]
[null,null,null,686349,{"$f":"+COUNTIF(Tabele!$A$1:$FC$500,D124)","v":2}]
[null,null,null,686765,{"$f":"+COUNTIF(Tabele!$A$1:$FC$500,D125)","v":2}]
[null,null,null,710630,{"$f":"+COUNTIF(Tabele!$A$1:$FC$500,D126)","v":2}]
[null,null,null,710737,{"$f":"+COUNTIF(Tabele!$A$1:$FC$500,D127)","v":2}]
[null,null,null,710758,{"$f":"+COUNTIF(Tabele!$A$1:$FC$500,D128)","v":2}]
[null,null,null,686752,{"$f":"+COUNTIF(Tabele!$A$1:$FC$500,D129)","v":3}]
[null,null,null,686758,{"$f":"+COUNTIF(Tabele!$A$1:$FC$500,D130)","v":2}]
[null,null,null,686761,{"$f":"+COUNTIF(Tabele!$A$1:$FC$500,D131)","v":2}]
[null,null,null,686766,{"$f":"+COUNTIF(Tabele!$A$1:$FC$500,D132)","v":2}]
[null,null,null,686768,{"$f":"+COUNTIF(Tabele!$A$1:$FC$500,D133)","v":2}]
[null,null,null,686769,{"$f":"+COUNTIF(Tabele!$A$1:$FC$500,D134)","v":2}]

{"sheet":"Resenje1","index":2,"n_rows":134,"n_cols":48,"rows_kept":134,"cut":false,"hidden":false,"merged":[]}
[null,null,null,"Kodovi","Br ponavljanja","Profil 1","Profil 2","Profil 3",null,null,null,null,null,null,null,null,"Tab_1","Tab_2","Tab_3","Tab_4","Tab_5","Tab_6","Tab_7","Tab_8","Tab_9","Tab_10","Tab_11","Tab_12","Tab_13","Tab_14","Tab_15","Tab_16","Tab_17","Tab_18","Tab_19","Tab_20","Tab_21","Tab_22","Tab_23","Tab_24","Tab_25","Tab_26","Tab_27","Tab_28","Tab_29","Tab_30","Tab_31","Tab_32"]
[null,null,null,686313,{"$f":"+COUNTIF(Tabele!$A$1:$FC$500,D2)","v":2},{"$f":"IFERROR(INDEX($Q2:$AV2,SMALL(IF(($Q2:$AV2)<>\"\",COLUMN($A$1:$AF$1),\"\"),COLUMN(A$1))),\"\")","v":171072},{"$f":"IFERROR(INDEX($Q2:$AV2,SMALL(IF(($Q2:$AV2)<>\"\",COLUMN($A$1:$AF$1),\"\"),COLUMN(B$1))),\"\")","v":513333},{"$f":"IFERROR(INDEX($Q2:$AV2,SMALL(IF(($Q2:$AV2)<>\"\",COLUMN($A$1:$AF$1),\"\"),COLUMN(C$1))),\"\")","v":""},null,null,null,null,null,null,null,null,{"$f":"_xlfn.IFNA(VLOOKUP($D2,INDIRECT(Q$1),4,FALSE),\"\")","v":171072},{"$f":"_xlfn.IFNA(VLOOKUP($D2,INDIRECT(R$1),4,FALSE),\"\")","v":""},"","","","","","","","","","","","","","","","","","","","","","","","","",513333,"","","",""]
[null,null,null,686314,{"$f":"+COUNTIF(Tabele!$A$1:$FC$500,D3)","v":2},{"$f":"IFERROR(INDEX($Q3:$AV3,SMALL(IF(($Q3:$AV3)<>\"\",COLUMN($A$1:$AF$1),\"\"),COLUMN(A$1))),\"\")","v":171072},{"$f":"IFERROR(INDEX($Q3:$AV3,SMALL(IF(($Q3:$AV3)<>\"\",COLUMN($A$1:$AF$1),\"\"),COLUMN(B$1))),\"\")","v":513333},{"$f":"IFERROR(INDEX($Q3:$AV3,SMALL(IF(($Q3:$AV3)<>\"\",COLUMN($A$1:$AF$1),\"\"),COLUMN(C$1))),\"\")","v":""},null,null,null,null,null,null,null,null,{"$f":"_xlfn.IFNA(VLOOKUP($D3,INDIRECT(Q$1),4,FALSE),\"\")","v":171072},"","","","","","","","","","","","","","","","","","","","","","","","","","",513333,"","","",""]
[null,null,null,686315,{"$f":"+COUNTIF(Tabele!$A$1:$FC$500,D4)","v":2},{"$f":"IFERROR(INDEX($Q4:$AV4,SMALL(IF(($Q4:$AV4)<>\"\",COLUMN($A$1:$AF$1),\"\"),COLUMN(A$1))),\"\")","v":171072},{"$f":"IFERROR(INDEX($Q4:$AV4,SMALL(IF(($Q4:$AV4)<>\"\",COLUMN($A$1:$AF$1),\"\"),COLUMN(B$1))),\"\")","v":513333},{"$f":"IFERROR(INDEX($Q4:$AV4,SMALL(IF(($Q4:$AV4)<>\"\",COLUMN($A$1:$AF$1),\"\"),COLUMN(C$1))),\"\")","v":""},null,null,null,null,null,null,null,null,171072,"","","","","","","","","","","","","","","","","","","","","","","","","","",513333,"","","",""]
[null,null,null,686316,{"$f":"+COUNTIF(Tabele!$A$1:$FC$500,D5)","v":2},{"$f":"IFERROR(INDEX($Q5:$AV5,SMALL(IF(($Q5:$AV5)<>\"\",COLUMN($A$1:$AF$1),\"\"),COLUMN(A$1))),\"\")","v":171072},{"$f":"IFERROR(INDEX($Q5:$AV5,SMALL(IF(($Q5:$AV5)<>\"\",COLUMN($A$1:$AF$1),\"\"),COLUMN(B$1))),\"\")","v":513333},{"$f":"IFERROR(INDEX($Q5:$AV5,SMALL(IF(($Q5:$AV5)<>\"\",COLUMN($A$1:$AF$1),\"\"),COLUMN(C$1))),\"\")","v":""},null,null,null,null,null,null,null,null,171072,"","","","","","","","","","","","","","","","","","","","","","","","","","",513333,"","","",""]
[null,null,null,686317,{"$f":"+COUNTIF(Tabele!$A$1:$FC$500,D6)","v":2},{"$f":"IFERROR(INDEX($Q6:$AV6,SMALL(IF(($Q6:$AV6)<>\"\",COLUMN($A$1:$AF$1),\"\"),COLUMN(A$1))),\"\")","v":191987},{"$f":"IFERROR(INDEX($Q6:$AV6,SMALL(IF(($Q6:$AV6)<>\"\",COLUMN($A$1:$AF$1),\"\"),COLUMN(B$1))),\"\")","v":518185},{"$f":"IFERROR(INDEX($Q6:$AV6,SMALL(IF(($Q6:$AV6)<>\"\",COLUMN($A$1:$AF$1),\"\"),COLUMN(C$1))),\"\")","v":""},null,null,null,null,null,null,null,null,"",191987,"","","","","","","","","","","","","","","","","","","","","","","","","","","","","",518185]
[null,null,null,686318,{"$f":"+COUNTIF(Tabele!$A$1:$FC$500,D7)","v":2},{"$f":"IFERROR(INDEX($Q7:$AV7,SMALL(IF(($Q7:$AV7)<>\"\",COLUMN($A$1:$AF$1),\"\"),COLUMN(A$1))),\"\")","v":171072},{"$f":"IFERROR(INDEX($Q7:$AV7,SMALL(IF(($Q7:$AV7)<>\"\",COLUMN($A$1:$AF$1),\"\"),COLUMN(B$1))),\"\")","v":513333},{"$f":"IFERROR(INDEX($Q7:$AV7,SMALL(IF(($Q7:$AV7)<>\"\",COLUMN($A$1:$AF$1),\"\"),COLUMN(C$1))),\"\")","v":""},null,null,null,null,null,null,null,null,171072,"","","","","","","","","","","","","","","","","","","","","","","","","","",513333,"","","",""]
[null,null,null,686319,{"$f":"+COUNTIF(Tabele!$A$1:$FC$500,D8)","v":2},{"$f":"IFERROR(INDEX($Q8:$AV8,SMALL(IF(($Q8:$AV8)<>\"\",COLUMN($A$1:$AF$1),\"\"),COLUMN(A$1))),\"\")","v":191987},{"$f":"IFERROR(INDEX($Q8:$AV8,SMALL(IF(($Q8:$AV8)<>\"\",COLUMN($A$1:$AF$1),\"\"),COLUMN(B$1))),\"\")","v":518185},{"$f":"IFERROR(INDEX($Q8:$AV8,SMALL(IF(($Q8:$AV8)<>\"\",COLUMN($A$1:$AF$1),\"\"),COLUMN(C$1))),\"\")","v":""},null,null,null,null,null,null,null,null,"",191987,"","","","","","","","","","","","","","","","","","","","","","","","","","","","","",518185]
[null,null,null,686320,{"$f":"+COUNTIF(Tabele!$A$1:$FC$500,D9)","v":2},{"$f":"IFERROR(INDEX($Q9:$AV9,SMALL(IF(($Q9:$AV9)<>\"\",COLUMN($A$1:$AF$1),\"\"),COLUMN(A$1))),\"\")","v":171072},{"$f":"IFERROR(INDEX($Q9:$AV9,SMALL(IF(($Q9:$AV9)<>\"\",COLUMN($A$1:$AF$1),\"\"),COLUMN(B$1))),\"\")","v":513333},{"$f":"IFERROR(INDEX($Q9:$AV9,SMALL(IF(($Q9:$AV9)<>\"\",COLUMN($A$1:$AF$1),\"\"),COLUMN(C$1))),\"\")","v":""},null,null,null,null,null,null,null,null,171072,"","","","","","","","","","","","","","","","","","","","","","","","","","",513333,"","","",""]
[null,null,null,686321,{"$f":"+COUNTIF(Tabele!$A$1:$FC$500,D10)","v":2},{"$f":"IFERROR(INDEX($Q10:$AV10,SMALL(IF(($Q10:$AV10)<>\"\",COLUMN($A$1:$AF$1),\"\"),COLUMN(A$1))),\"\")","v":171072},{"$f":"IFERROR(INDEX($Q10:$AV10,SMALL(IF(($Q10:$AV10)<>\"\",COLUMN($A$1:$AF$1),\"\"),COLUMN(B$1))),\"\")","v":513333},{"$f":"IFERROR(INDEX($Q10:$AV10,SMALL(IF(($Q10:$AV10)<>\"\",COLUMN($A$1:$AF$1),\"\"),COLUMN(C$1))),\"\")","v":""},null,null,null,null,null,null,null,null,171072,"","","","","","","","","","","","","","","","","","","","","","","","","","",513333,"","","",""]
[null,null,null,686322,{"$f":"+COUNTIF(Tabele!$A$1:$FC$500,D11)","v":2},{"$f":"IFERROR(INDEX($Q11:$AV11,SMALL(IF(($Q11:$AV11)<>\"\",COLUMN($A$1:$AF$1),\"\"),COLUMN(A$1))),\"\")","v":171072},{"$f":"IFERROR(INDEX($Q11:$AV11,SMALL(IF(($Q11:$AV11)<>\"\",COLUMN($A$1:$AF$1),\"\"),COLUMN(B$1))),\"\")","v":513333},{"$f":"IFERROR(INDEX($Q11:$AV11,SMALL(IF(($Q11:$AV11)<>\"\",COLUMN($A$1:$AF$1),\"\"),COLUMN(C$1))),\"\")","v":""},null,null,null,null,null,null,null,null,171072,"","","","","","","","","","","","","","","","","","","","","","","","","","",513333,"","","",""]
[null,null,null,686323,{"$f":"+COUNTIF(Tabele!$A$1:$FC$500,D12)","v":2},{"$f":"IFERROR(INDEX($Q12:$AV12,SMALL(IF(($Q12:$AV12)<>\"\",COLUMN($A$1:$AF$1),\"\"),COLUMN(A$1))),\"\")","v":171072},{"$f":"IFERROR(INDEX($Q12:$AV12,SMALL(IF(($Q12:$AV12)<>\"\",COLUMN($A$1:$AF$1),\"\"),COLUMN(B$1))),\"\")","v":513333},{"$f":"IFERROR(INDEX($Q12:$AV12,SMALL(IF(($Q12:$AV12)<>\"\",COLUMN($A$1:$AF$1),\"\"),COLUMN(C$1))),\"\")","v":""},null,null,null,null,null,null,null,null,171072,"","","","","","","","","","","","","","","","","","","","","","","","","","",513333,"","","",""]
[null,null,null,686324,{"$f":"+COUNTIF(Tabele!$A$1:$FC$500,D13)","v":2},{"$f":"IFERROR(INDEX($Q13:$AV13,SMALL(IF(($Q13:$AV13)<>\"\",COLUMN($A$1:$AF$1),\"\"),COLUMN(A$1))),\"\")","v":191987},{"$f":"IFERROR(INDEX($Q13:$AV13,SMALL(IF(($Q13:$AV13)<>\"\",COLUMN($A$1:$AF$1),\"\"),COLUMN(B$1))),\"\")","v":518185},{"$f":"IFERROR(INDEX($Q13:$AV13,SMALL(IF(($Q13:$AV13)<>\"\",COLUMN($A$1:$AF$1),\"\"),COLUMN(C$1))),\"\")","v":""},null,null,null,null,null,null,null,null,"",191987,"","","","","","","","","","","","","","","","","","","","","","","","","","","","","",518185]
[null,null,null,686325,{"$f":"+COUNTIF(Tabele!$A$1:$FC$500,D14)","v":2},{"$f":"IFERROR(INDEX($Q14:$AV14,SMALL(IF(($Q14:$AV14)<>\"\",COLUMN($A$1:$AF$1),\"\"),COLUMN(A$1))),\"\")","v":171072},{"$f":"IFERROR(INDEX($Q14:$AV14,SMALL(IF(($Q14:$AV14)<>\"\",COLUMN($A$1:$AF$1),\"\"),COLUMN(B$1))),\"\")","v":513333},{"$f":"IFERROR(INDEX($Q14:$AV14,SMALL(IF(($Q14:$AV14)<>\"\",COLUMN($A$1:$AF$1),\"\"),COLUMN(C$1))),\"\")","v":""},null,null,null,null,null,null,null,null,171072,"","","","","","","","","","","","","","","","","","","","","","","","","","",513333,"","","",""]
[null,null,null,686326,{"$f":"+COUNTIF(Tabele!$A$1:$FC$500,D15)","v":2},{"$f":"IFERROR(INDEX($Q15:$AV15,SMALL(IF(($Q15:$AV15)<>\"\",COLUMN($A$1:$AF$1),\"\"),COLUMN(A$1))),\"\")","v":171072},{"$f":"IFERROR(INDEX($Q15:$AV15,SMALL(IF(($Q15:$AV15)<>\"\",COLUMN($A$1:$AF$1),\"\"),COLUMN(B$1))),\"\")","v":513333},{"$f":"IFERROR(INDEX($Q15:$AV15,SMALL(IF(($Q15:$AV15)<>\"\",COLUMN($A$1:$AF$1),\"\"),COLUMN(C$1))),\"\")","v":""},null,null,null,null,null,null,null,null,{"$f":"_xlfn.IFNA(VLOOKUP($D15,INDIRECT(Q$1),4,FALSE),\"\")","v":171072},"","","","","","","","","","","","","","","","","","","","","","","","","","",513333,"","","",""]
[null,null,null,686327,{"$f":"+COUNTIF(Tabele!$A$1:$FC$500,D16)","v":2},{"$f":"IFERROR(INDEX($Q16:$AV16,SMALL(IF(($Q16:$AV16)<>\"\",COLUMN($A$1:$AF$1),\"\"),COLUMN(A$1))),\"\")","v":171072},{"$f":"IFERROR(INDEX($Q16:$AV16,SMALL(IF(($Q16:$AV16)<>\"\",COLUMN($A$1:$AF$1),\"\"),COLUMN(B$1))),\"\")","v":513333},{"$f":"IFERROR(INDEX($Q16:$AV16,SMALL(IF(($Q16:$AV16)<>\"\",COLUMN($A$1:$AF$1),\"\"),COLUMN(C$1))),\"\")","v":""},null,null,null,null,null,null,null,null,171072,"","","","","","","","","","","","","","","","","","","","","","","","","","",513333,"","","",""]
[null,null,null,686276,{"$f":"+COUNTIF(Tabele!$A$1:$FC$500,D17)","v":3},{"$f":"IFERROR(INDEX($Q17:$AV17,SMALL(IF(($Q17:$AV17)<>\"\",COLUMN($A$1:$AF$1),\"\"),COLUMN(A$1))),\"\")","v":515737},{"$f":"IFERROR(INDEX($Q17:$AV17,SMALL(IF(($Q17:$AV17)<>\"\",COLUMN($A$1:$AF$1),\"\"),COLUMN(B$1))),\"\")","v":515739},{"$f":"IFERROR(INDEX($Q17:$AV17,SMALL(IF(($Q17:$AV17)<>\"\",COLUMN($A$1:$AF$1),\"\"),COLUMN(C$1))),\"\")","v":515740},null,null,null,null,null,null,null,null,"","","","","","","","","","","","","","","","",{"$f":"_xlfn.IFNA(VLOOKUP($D17,INDIRECT(AG$1),4,FALSE),\"\")","v":""},"","","",515737,515739,515740,"","","","","","","","",""]
[null,null,null,686277,{"$f":"+COUNTIF(Tabele!$A$1:$FC$500,D18)","v":3},{"$f":"IFERROR(INDEX($Q18:$AV18,SMALL(IF(($Q18:$AV18)<>\"\",COLUMN($A$1:$AF$1),\"\"),COLUMN(A$1))),\"\")","v":515737},{"$f":"IFERROR(INDEX($Q18:$AV18,SMALL(IF(($Q18:$AV18)<>\"\",COLUMN($A$1:$AF$1),\"\"),COLUMN(B$1))),\"\")","v":515739},{"$f":"IFERROR(INDEX($Q18:$AV18,SMALL(IF(($Q18:$AV18)<>\"\",COLUMN($A$1:$AF$1),\"\"),COLUMN(C$1))),\"\")","v":515740},null,null,null,null,null,null,null,null,"","","","","","","","","","","","","","","","","","","","",515737,515739,515740,"","","","","","","","",""]
[null,null,null,686278,{"$f":"+COUNTIF(Tabele!$A$1:$FC$500,D19)","v":3},{"$f":"IFERROR(INDEX($Q19:$AV19,SMALL(IF(($Q19:$AV19)<>\"\",COLUMN($A$1:$AF$1),\"\"),COLUMN(A$1))),\"\")","v":515737},{"$f":"IFERROR(INDEX($Q19:$AV19,SMALL(IF(($Q19:$AV19)<>\"\",COLUMN($A$1:$AF$1),\"\"),COLUMN(B$1))),\"\")","v":515739},{"$f":"IFERROR(INDEX($Q19:$AV19,SMALL(IF(($Q19:$AV19)<>\"\",COLUMN($A$1:$AF$1),\"\"),COLUMN(C$1))),\"\")","v":515740},null,null,null,null,null,null,null,null,"","","","","","","","","","","","","","","","","","","","",515737,515739,515740,"","","","","","","","",""]
[null,null,null,686279,{"$f":"+COUNTIF(Tabele!$A$1:$FC$500,D20)","v":3},{"$f":"IFERROR(INDEX($Q20:$AV20,SMALL(IF(($Q20:$AV20)<>\"\",COLUMN($A$1:$AF$1),\"\"),COLUMN(A$1))),\"\")","v":516936},{"$f":"IFERROR(INDEX($Q20:$AV20,SMALL(IF(($Q20:$AV20)<>\"\",COLUMN($A$1:$AF$1),\"\"),COLUMN(B$1))),\"\")","v":516937},{"$f":"IFERROR(INDEX($Q20:$AV20,SMALL(IF(($Q20:$AV20)<>\"\",COLUMN($A$1:$AF$1),\"\"),COLUMN(C$1))),\"\")","v":516938},null,null,null,null,null,null,null,null,"","","","","","","","","","","","","","","","","","","","","","","",516936,516937,516938,"","","","","",""]
[null,null,null,686280,{"$f":"+COUNTIF(Tabele!$A$1:$FC$500,D21)","v":3},{"$f":"IFERROR(INDEX($Q21:$AV21,SMALL(IF(($Q21:$AV21)<>\"\",COLUMN($A$1:$AF$1),\"\"),COLUMN(A$1))),\"\")","v":515737},{"$f":"IFERROR(INDEX($Q21:$AV21,SMALL(IF(($Q21:$AV21)<>\"\",COLUMN($A$1:$AF$1),\"\"),COLUMN(B$1))),\"\")","v":515739},{"$f":"IFERROR(INDEX($Q21:$AV21,SMALL(IF(($Q21:$AV21)<>\"\",COLUMN($A$1:$AF$1),\"\"),COLUMN(C$1))),\"\")","v":515740},null,null,null,null,null,null,null,null,"","","","","","","","","","","","","","","","","","","","",515737,515739,515740,"","","","","","","","",""]
[null,null,null,686281,{"$f":"+COUNTIF(Tabele!$A$1:$FC$500,D22)","v":3},{"$f":"IFERROR(INDEX($Q22:$AV22,SMALL(IF(($Q22:$AV22)<>\"\",COLUMN($A$1:$AF$1),\"\"),COLUMN(A$1))),\"\")","v":516936},{"$f":"IFERROR(INDEX($Q22:$AV22,SMALL(IF(($Q22:$AV22)<>\"\",COLUMN($A$1:$AF$1),\"\"),COLUMN(B$1))),\"\")","v":516937},{"$f":"IFERROR(INDEX($Q22:$AV22,SMALL(IF(($Q22:$AV22)<>\"\",COLUMN($A$1:$AF$1),\"\"),COLUMN(C$1))),\"\")","v":516938},null,null,null,null,null,null,null,null,"","","","","","","","","","","","","","","","","","","","","","","",516936,516937,516938,"","","","","",""]
[null,null,null,686292,{"$f":"+COUNTIF(Tabele!$A$1:$FC$500,D23)","v":3},{"$f":"IFERROR(INDEX($Q23:$AV23,SMALL(IF(($Q23:$AV23)<>\"\",COLUMN($A$1:$AF$1),\"\"),COLUMN(A$1))),\"\")","v":515737},{"$f":"IFERROR(INDEX($Q23:$AV23,SMALL(IF(($Q23:$AV23)<>\"\",COLUMN($A$1:$AF$1),\"\"),COLUMN(B$1))),\"\")","v":515739},{"$f":"IFERROR(INDEX($Q23:$AV23,SMALL(IF(($Q23:$AV23)<>\"\",COLUMN($A$1:$AF$1),\"\"),COLUMN(C$1))),\"\")","v":515740},null,null,null,null,null,null,null,null,"","","","","","","","","","","","","","","","","","","","",515737,515739,515740,"","","","","","","","",""]
[null,null,null,686293,{"$f":"+COUNTIF(Tabele!$A$1:$FC$500,D24)","v":3},{"$f":"IFERROR(INDEX($Q24:$AV24,SMALL(IF(($Q24:$AV24)<>\"\",COLUMN($A$1:$AF$1),\"\"),COLUMN(A$1))),\"\")","v":515737},{"$f":"IFERROR(INDEX($Q24:$AV24,SMALL(IF(($Q24:$AV24)<>\"\",COLUMN($A$1:$AF$1),\"\"),COLUMN(B$1))),\"\")","v":515739},{"$f":"IFERROR(INDEX($Q24:$AV24,SMALL(IF(($Q24:$AV24)<>\"\",COLUMN($A$1:$AF$1),\"\"),COLUMN(C$1))),\"\")","v":515740},null,null,null,null,null,null,null,null,"","","","","","","","","","","","","","","","","","","","",515737,515739,515740,"","","","","","","","",""]
[null,null,null,686294,{"$f":"+COUNTIF(Tabele!$A$1:$FC$500,D25)","v":3},{"$f":"IFERROR(INDEX($Q25:$AV25,SMALL(IF(($Q25:$AV25)<>\"\",COLUMN($A$1:$AF$1),\"\"),COLUMN(A$1))),\"\")","v":515737},{"$f":"IFERROR(INDEX($Q25:$AV25,SMALL(IF(($Q25:$AV25)<>\"\",COLUMN($A$1:$AF$1),\"\"),COLUMN(B$1))),\"\")","v":515739},{"$f":"IFERROR(INDEX($Q25:$AV25,SMALL(IF(($Q25:$AV25)<>\"\",COLUMN($A$1:$AF$1),\"\"),COLUMN(C$1))),\"\")","v":515740},null,null,null,null,null,null,null,null,"","","","","","","","","","","","","","","","","","","","",515737,515739,515740,"","","","","","","","",""]
[null,null,null,686296,{"$f":"+COUNTIF(Tabele!$A$1:$FC$500,D26)","v":3},{"$f":"IFERROR(INDEX($Q26:$AV26,SMALL(IF(($Q26:$AV26)<>\"\",COLUMN($A$1:$AF$1),\"\"),COLUMN(A$1))),\"\")","v":516936},{"$f":"IFERROR(INDEX($Q26:$AV26,SMALL(IF(($Q26:$AV26)<>\"\",COLUMN($A$1:$AF$1),\"\"),COLUMN(B$1))),\"\")","v":516937},{"$f":"IFERROR(INDEX($Q26:$AV26,SMALL(IF(($Q26:$AV26)<>\"\",COLUMN($A$1:$AF$1),\"\"),COLUMN(C$1))),\"\")","v":516938},null,null,null,null,null,null,null,null,"","","","","","","","","","","","","","","","","","","","","","","",516936,516937,516938,"","","","","",""]
[null,null,null,686297,{"$f":"+COUNTIF(Tabele!$A$1:$FC$500,D27)","v":3},{"$f":"IFERROR(INDEX($Q27:$AV27,SMALL(IF(($Q27:$AV27)<>\"\",COLUMN($A$1:$AF$1),\"\"),COLUMN(A$1))),\"\")","v":515737},{"$f":"IFERROR(INDEX($Q27:$AV27,SMALL(IF(($Q27:$AV27)<>\"\",COLUMN($A$1:$AF$1),\"\"),COLUMN(B$1))),\"\")","v":515739},{"$f":"IFERROR(INDEX($Q27:$AV27,SMALL(IF(($Q27:$AV27)<>\"\",COLUMN($A$1:$AF$1),\"\"),COLUMN(C$1))),\"\")","v":515740},null,null,null,null,null,null,null,null,"","","","","","","","","","","","","","","","","","","","",515737,515739,515740,"","","","","","","","",""]
[null,null,null,686770,{"$f":"+COUNTIF(Tabele!$A$1:$FC$500,D28)","v":3},{"$f":"IFERROR(INDEX($Q28:$AV28,SMALL(IF(($Q28:$AV28)<>\"\",COLUMN($A$1:$AF$1),\"\"),COLUMN(A$1))),\"\")","v":515737},{"$f":"IFERROR(INDEX($Q28:$AV28,SMALL(IF(($Q28:$AV28)<>\"\",COLUMN($A$1:$AF$1),\"\"),COLUMN(B$1))),\"\")","v":515739},{"$f":"IFERROR(INDEX($Q28:$AV28,SMALL(IF(($Q28:$AV28)<>\"\",COLUMN($A$1:$AF$1),\"\"),COLUMN(C$1))),\"\")","v":515740},null,null,null,null,null,null,null,null,"","","","","","","","","","","","","","","","","","","","",515737,515739,515740,"","","","","","","","",""]
[null,null,null,688447,{"$f":"+COUNTIF(Tabele!$A$1:$FC$500,D29)","v":3},{"$f":"IFERROR(INDEX($Q29:$AV29,SMALL(IF(($Q29:$AV29)<>\"\",COLUMN($A$1:$AF$1),\"\"),COLUMN(A$1))),\"\")","v":515737},{"$f":"IFERROR(INDEX($Q29:$AV29,SMALL(IF(($Q29:$AV29)<>\"\",COLUMN($A$1:$AF$1),\"\"),COLUMN(B$1))),\"\")","v":515739},{"$f":"IFERROR(INDEX($Q29:$AV29,SMALL(IF(($Q29:$AV29)<>\"\",COLUMN($A$1:$AF$1),\"\"),COLUMN(C$1))),\"\")","v":515740},null,null,null,null,null,null,null,null,"","","","","","","","","","","","","","","","","","","","",515737,515739,515740,"","","","","","","","",""]
[null,null,null,688451,{"$f":"+COUNTIF(Tabele!$A$1:$FC$500,D30)","v":3},{"$f":"IFERROR(INDEX($Q30:$AV30,SMALL(IF(($Q30:$AV30)<>\"\",COLUMN($A$1:$AF$1),\"\"),COLUMN(A$1))),\"\")","v":515737},{"$f":"IFERROR(INDEX($Q30:$AV30,SMALL(IF(($Q30:$AV30)<>\"\",COLUMN($A$1:$AF$1),\"\"),COLUMN(B$1))),\"\")","v":515739},{"$f":"IFERROR(INDEX($Q30:$AV30,SMALL(IF(($Q30:$AV30)<>\"\",COLUMN($A$1:$AF$1),\"\"),COLUMN(C$1))),\"\")","v":515740},null,null,null,null,null,null,null,null,"","","","","","","","","","","","","","","",{"$f":"_xlfn.IFNA(VLOOKUP($D30,INDIRECT(AF$1),4,FALSE),\"\")","v":""},"","","","",515737,515739,515740,"","","","","","","","",""]
[null,null,null,711185,{"$f":"+COUNTIF(Tabele!$A$1:$FC$500,D31)","v":3},{"$f":"IFERROR(INDEX($Q31:$AV31,SMALL(IF(($Q31:$AV31)<>\"\",COLUMN($A$1:$AF$1),\"\"),COLUMN(A$1))),\"\")","v":515737},{"$f":"IFERROR(INDEX($Q31:$AV31,SMALL(IF(($Q31:$AV31)<>\"\",COLUMN($A$1:$AF$1),\"\"),COLUMN(B$1))),\"\")","v":515739},{"$f":"IFERROR(INDEX($Q31:$AV31,SMALL(IF(($Q31:$AV31)<>\"\",COLUMN($A$1:$AF$1),\"\"),COLUMN(C$1))),\"\")","v":515740},null,null,null,null,null,null,null,null,"","","","","","","","","","","","","","","","","","","","",515737,515739,515740,"","","","","","","","",""]
[null,null,null,711209,{"$f":"+COUNTIF(Tabele!$A$1:$FC$500,D32)","v":3},{"$f":"IFERROR(INDEX($Q32:$AV32,SMALL(IF(($Q32:$AV32)<>\"\",COLUMN($A$1:$AF$1),\"\"),COLUMN(A$1))),\"\")","v":515737},{"$f":"IFERROR(INDEX($Q32:$AV32,SMALL(IF(($Q32:$AV32)<>\"\",COLUMN($A$1:$AF$1),\"\"),COLUMN(B$1))),\"\")","v":515739},{"$f":"IFERROR(INDEX($Q32:$AV32,SMALL(IF(($Q32:$AV32)<>\"\",COLUMN($A$1:$AF$1),\"\"),COLUMN(C$1))),\"\")","v":515740},null,null,null,null,null,null,null,null,"","","","","","","","","","","","","","","","","","","","",515737,515739,515740,"","","","","","","","",{"$f":"_xlfn.IFNA(VLOOKUP($D32,INDIRECT(AV$1),4,FALSE),\"\")","v":""}]
[null,null,null,711271,{"$f":"+COUNTIF(Tabele!$A$1:$FC$500,D33)","v":3},{"$f":"IFERROR(INDEX($Q33:$AV33,SMALL(IF(($Q33:$AV33)<>\"\",COLUMN($A$1:$AF$1),\"\"),COLUMN(A$1))),\"\")","v":515737},{"$f":"IFERROR(INDEX($Q33:$AV33,SMALL(IF(($Q33:$AV33)<>\"\",COLUMN($A$1:$AF$1),\"\"),COLUMN(B$1))),\"\")","v":515739},{"$f":"IFERROR(INDEX($Q33:$AV33,SMALL(IF(($Q33:$AV33)<>\"\",COLUMN($A$1:$AF$1),\"\"),COLUMN(C$1))),\"\")","v":515740},null,null,null,null,null,null,null,null,"","","","","","","","","","","","","","","","","","","","",515737,515739,515740,"","","","","","","","",""]
[null,null,null,686387,{"$f":"+COUNTIF(Tabele!$A$1:$FC$500,D34)","v":3},{"$f":"IFERROR(INDEX($Q34:$AV34,SMALL(IF(($Q34:$AV34)<>\"\",COLUMN($A$1:$AF$1),\"\"),COLUMN(A$1))),\"\")","v":191987},{"$f":"IFERROR(INDEX($Q34:$AV34,SMALL(IF(($Q34:$AV34)<>\"\",COLUMN($A$1:$AF$1),\"\"),COLUMN(B$1))),\"\")","v":192153},{"$f":"IFERROR(INDEX($Q34:$AV34,SMALL(IF(($Q34:$AV34)<>\"\",COLUMN($A$1:$AF$1),\"\"),COLUMN(C$1))),\"\")","v":192154},null,null,null,null,null,null,null,null,"",191987,"","","","","","","","","","","","",192153,192154,"","","","","","","","","","","","","","","",""]
[null,null,null,686386,{"$f":"+COUNTIF(Tabele!$A$1:$FC$500,D35)","v":3},{"$f":"IFERROR(INDEX($Q35:$AV35,SMALL(IF(($Q35:$AV35)<>\"\",COLUMN($A$1:$AF$1),\"\"),COLUMN(A$1))),\"\")","v":171072},{"$f":"IFERROR(INDEX($Q35:$AV35,SMALL(IF(($Q35:$AV35)<>\"\",COLUMN($A$1:$AF$1),\"\"),COLUMN(B$1))),\"\")","v":171078},{"$f":"IFERROR(INDEX($Q35:$AV35,SMALL(IF(($Q35:$AV35)<>\"\",COLUMN($A$1:$AF$1),\"\"),COLUMN(C$1))),\"\")","v":171079},null,null,null,null,null,null,null,null,171072,"","","","","","","","","","",171078,171079,"","","","","","","","","","","","","","","","","","",""]
[null,null,null,686385,{"$f":"+COUNTIF(Tabele!$A$1:$FC$500,D36)","v":3},{"$f":"IFERROR(INDEX($Q36:$AV36,SMALL(IF(($Q36:$AV36)<>\"\",COLUMN($A$1:$AF$1),\"\"),COLUMN(A$1))),\"\")","v":171072},{"$f":"IFERROR(INDEX($Q36:$AV36,SMALL(IF(($Q36:$AV36)<>\"\",COLUMN($A$1:$AF$1),\"\"),COLUMN(B$1))),\"\")","v":171078},{"$f":"IFERROR(INDEX($Q36:$AV36,SMALL(IF(($Q36:$AV36)<>\"\",COLUMN($A$1:$AF$1),\"\"),COLUMN(C$1))),\"\")","v":171079},null,null,null,null,null,null,null,null,171072,"","","","","","","","","","",171078,171079,"","","","","","","","","","","","","","","","","","",""]
[null,null,null,686384,{"$f":"+COUNTIF(Tabele!$A$1:$FC$500,D37)","v":3},{"$f":"IFERROR(INDEX($Q37:$AV37,SMALL(IF(($Q37:$AV37)<>\"\",COLUMN($A$1:$AF$1),\"\"),COLUMN(A$1))),\"\")","v":191987},{"$f":"IFERROR(INDEX($Q37:$AV37,SMALL(IF(($Q37:$AV37)<>\"\",COLUMN($A$1:$AF$1),\"\"),COLUMN(B$1))),\"\")","v":192153},{"$f":"IFERROR(INDEX($Q37:$AV37,SMALL(IF(($Q37:$AV37)<>\"\",COLUMN($A$1:$AF$1),\"\"),COLUMN(C$1))),\"\")","v":192154},null,null,null,null,null,null,null,null,"",191987,"","","","","","","","","","","","",192153,192154,"","","","","","","","","","","","","","","",""]
[null,null,null,686383,{"$f":"+COUNTIF(Tabele!$A$1:$FC$500,D38)","v":3},{"$f":"IFERROR(INDEX($Q38:$AV38,SMALL(IF(($Q38:$AV38)<>\"\",COLUMN($A$1:$AF$1),\"\"),COLUMN(A$1))),\"\")","v":171072},{"$f":"IFERROR(INDEX($Q38:$AV38,SMALL(IF(($Q38:$AV38)<>\"\",COLUMN($A$1:$AF$1),\"\"),COLUMN(B$1))),\"\")","v":171078},{"$f":"IFERROR(INDEX($Q38:$AV38,SMALL(IF(($Q38:$AV38)<>\"\",COLUMN($A$1:$AF$1),\"\"),COLUMN(C$1))),\"\")","v":171079},null,null,null,null,null,null,null,null,171072,"","","","","","","","","","",171078,171079,"","","","","","","","","","","","","","","","","","",""]
[null,null,null,686382,{"$f":"+COUNTIF(Tabele!$A$1:$FC$500,D39)","v":3},{"$f":"IFERROR(INDEX($Q39:$AV39,SMALL(IF(($Q39:$AV39)<>\"\",COLUMN($A$1:$AF$1),\"\"),COLUMN(A$1))),\"\")","v":171072},{"$f":"IFERROR(INDEX($Q39:$AV39,SMALL(IF(($Q39:$AV39)<>\"\",COLUMN($A$1:$AF$1),\"\"),COLUMN(B$1))),\"\")","v":171078},{"$f":"IFERROR(INDEX($Q39:$AV39,SMALL(IF(($Q39:$AV39)<>\"\",COLUMN($A$1:$AF$1),\"\"),COLUMN(C$1))),\"\")","v":171079},null,null,null,null,null,null,null,null,171072,"","","","","","","","","","",171078,171079,"","","","","","","","","","","","","","","","","","",""]
[null,null,null,686381,{"$f":"+COUNTIF(Tabele!$A$1:$FC$500,D40)","v":3},{"$f":"IFERROR(INDEX($Q40:$AV40,SMALL(IF(($Q40:$AV40)<>\"\",COLUMN($A$1:$AF$1),\"\"),COLUMN(A$1))),\"\")","v":171072},{"$f":"IFERROR(INDEX($Q40:$AV40,SMALL(IF(($Q40:$AV40)<>\"\",COLUMN($A$1:$AF$1),\"\"),COLUMN(B$1))),\"\")","v":171078},{"$f":"IFERROR(INDEX($Q40:$AV40,SMALL(IF(($Q40:$AV40)<>\"\",COLUMN($A$1:$AF$1),\"\"),COLUMN(C$1))),\"\")","v":171079},null,null,null,null,null,null,null,null,171072,"","","","","","","","","","",171078,171079,"","","","","","","","","","","","","","","","","","",""]
[null,null,null,686366,{"$f":"+COUNTIF(Tabele!$A$1:$FC$500,D41)","v":3},{"$f":"IFERROR(INDEX($Q41:$AV41,SMALL(IF(($Q41:$AV41)<>\"\",COLUMN($A$1:$AF$1),\"\"),COLUMN(A$1))),\"\")","v":191987},{"$f":"IFERROR(INDEX($Q41:$AV41,SMALL(IF(($Q41:$AV41)<>\"\",COLUMN($A$1:$AF$1),\"\"),COLUMN(B$1))),\"\")","v":196843},{"$f":"IFERROR(INDEX($Q41:$AV41,SMALL(IF(($Q41:$AV41)<>\"\",COLUMN($A$1:$AF$1),\"\"),COLUMN(C$1))),\"\")","v":196844},null,null,null,null,null,null,null,null,"",191987,"","","","","","",196843,196844,"","","","","","","","","","","","","","","","","","","","","",""]
[null,null,null,686365,{"$f":"+COUNTIF(Tabele!$A$1:$FC$500,D42)","v":3},{"$f":"IFERROR(INDEX($Q42:$AV42,SMALL(IF(($Q42:$AV42)<>\"\",COLUMN($A$1:$AF$1),\"\"),COLUMN(A$1))),\"\")","v":171072},{"$f":"IFERROR(INDEX($Q42:$AV42,SMALL(IF(($Q42:$AV42)<>\"\",COLUMN($A$1:$AF$1),\"\"),COLUMN(B$1))),\"\")","v":171578},{"$f":"IFERROR(INDEX($Q42:$AV42,SMALL(IF(($Q42:$AV42)<>\"\",COLUMN($A$1:$AF$1),\"\"),COLUMN(C$1))),\"\")","v":171579},null,null,null,null,null,null,null,null,171072,"","","","",171578,171579,"","","","","","","","","","","","","","","","","","","","","","","","",""]
[null,null,null,686364,{"$f":"+COUNTIF(Tabele!$A$1:$FC$500,D43)","v":3},{"$f":"IFERROR(INDEX($Q43:$AV43,SMALL(IF(($Q43:$AV43)<>\"\",COLUMN($A$1:$AF$1),\"\"),COLUMN(A$1))),\"\")","v":171072},{"$f":"IFERROR(INDEX($Q43:$AV43,SMALL(IF(($Q43:$AV43)<>\"\",COLUMN($A$1:$AF$1),\"\"),COLUMN(B$1))),\"\")","v":171578},{"$f":"IFERROR(INDEX($Q43:$AV43,SMALL(IF(($Q43:$AV43)<>\"\",COLUMN($A$1:$AF$1),\"\"),COLUMN(C$1))),\"\")","v":171579},null,null,null,null,null,null,null,null,171072,"","","","",171578,171579,"","","","","","","","","","","","","","","","","","","","","","","","",""]
[null,null,null,686363,{"$f":"+COUNTIF(Tabele!$A$1:$FC$500,D44)","v":3},{"$f":"IFERROR(INDEX($Q44:$AV44,SMALL(IF(($Q44:$AV44)<>\"\",COLUMN($A$1:$AF$1),\"\"),COLUMN(A$1))),\"\")","v":191987},{"$f":"IFERROR(INDEX($Q44:$AV44,SMALL(IF(($Q44:$AV44)<>\"\",COLUMN($A$1:$AF$1),\"\"),COLUMN(B$1))),\"\")","v":196843},{"$f":"IFERROR(INDEX($Q44:$AV44,SMALL(IF(($Q44:$AV44)<>\"\",COLUMN($A$1:$AF$1),\"\"),COLUMN(C$1))),\"\")","v":196844},null,null,null,null,null,null,null,null,"",191987,"","","","","","",196843,196844,"","","","","","","","","","","","","","","","","","","","","",""]
[null,null,null,686362,{"$f":"+COUNTIF(Tabele!$A$1:$FC$500,D45)","v":3},{"$f":"IFERROR(INDEX($Q45:$AV45,SMALL(IF(($Q45:$AV45)<>\"\",COLUMN($A$1:$AF$1),\"\"),COLUMN(A$1))),\"\")","v":171072},{"$f":"IFERROR(INDEX($Q45:$AV45,SMALL(IF(($Q45:$AV45)<>\"\",COLUMN($A$1:$AF$1),\"\"),COLUMN(B$1))),\"\")","v":171578},{"$f":"IFERROR(INDEX($Q45:$AV45,SMALL(IF(($Q45:$AV45)<>\"\",COLUMN($A$1:$AF$1),\"\"),COLUMN(C$1))),\"\")","v":171579},null,null,null,null,null,null,null,null,171072,"","","","",171578,171579,"","","","","","","","","","","","","","","","","","","","","","","","",""]
[null,null,null,686361,{"$f":"+COUNTIF(Tabele!$A$1:$FC$500,D46)","v":3},{"$f":"IFERROR(INDEX($Q46:$AV46,SMALL(IF(($Q46:$AV46)<>\"\",COLUMN($A$1:$AF$1),\"\"),COLUMN(A$1))),\"\")","v":171072},{"$f":"IFERROR(INDEX($Q46:$AV46,SMALL(IF(($Q46:$AV46)<>\"\",COLUMN($A$1:$AF$1),\"\"),COLUMN(B$1))),\"\")","v":171578},{"$f":"IFERROR(INDEX($Q46:$AV46,SMALL(IF(($Q46:$AV46)<>\"\",COLUMN($A$1:$AF$1),\"\"),COLUMN(C$1))),\"\")","v":171579},null,null,null,null,null,null,null,null,171072,"","","","",171578,171579,"","","","","","","",{"$f":"_xlfn.IFNA(VLOOKUP($D46,INDIRECT(AE$1),4,FALSE),\"\")","v":""},"","","","","","","","","","","","","","","","",""]
[null,null,null,686360,{"$f":"+COUNTIF(Tabele!$A$1:$FC$500,D47)","v":3},{"$f":"IFERROR(INDEX($Q47:$AV47,SMALL(IF(($Q47:$AV47)<>\"\",COLUMN($A$1:$AF$1),\"\"),COLUMN(A$1))),\"\")","v":171072},{"$f":"IFERROR(INDEX($Q47:$AV47,SMALL(IF(($Q47:$AV47)<>\"\",COLUMN($A$1:$AF$1),\"\"),COLUMN(B$1))),\"\")","v":171578},{"$f":"IFERROR(INDEX($Q47:$AV47,SMALL(IF(($Q47:$AV47)<>\"\",COLUMN($A$1:$AF$1),\"\"),COLUMN(C$1))),\"\")","v":171579},null,null,null,null,null,null,null,null,171072,"","","","",171578,171579,"","","","","","","","","","","","","","","","","","","","","","","","",""]
[null,null,null,686750,{"$f":"+COUNTIF(Tabele!$A$1:$FC$500,D48)","v":3},{"$f":"IFERROR(INDEX($Q48:$AV48,SMALL(IF(($Q48:$AV48)<>\"\",COLUMN($A$1:$AF$1),\"\"),COLUMN(A$1))),\"\")","v":171072},{"$f":"IFERROR(INDEX($Q48:$AV48,SMALL(IF(($Q48:$AV48)<>\"\",COLUMN($A$1:$AF$1),\"\"),COLUMN(B$1))),\"\")","v":171578},{"$f":"IFERROR(INDEX($Q48:$AV48,SMALL(IF(($Q48:$AV48)<>\"\",COLUMN($A$1:$AF$1),\"\"),COLUMN(C$1))),\"\")","v":171579},null,null,null,null,null,null,null,null,171072,"","","","",171578,171579,"","","","","","","","","","","","","","","","","","","","","","","",{"$f":"_xlfn.IFNA(VLOOKUP($D48,INDIRECT(AU$1),4,FALSE),\"\")","v":""},""]
[null,null,null,686754,{"$f":"+COUNTIF(Tabele!$A$1:$FC$500,D49)","v":3},{"$f":"IFERROR(INDEX($Q49:$AV49,SMALL(IF(($Q49:$AV49)<>\"\",COLUMN($A$1:$AF$1),\"\"),COLUMN(A$1))),\"\")","v":171072},{"$f":"IFERROR(INDEX($Q49:$AV49,SMALL(IF(($Q49:$AV49)<>\"\",COLUMN($A$1:$AF$1),\"\"),COLUMN(B$1))),\"\")","v":171078},{"$f":"IFERROR(INDEX($Q49:$AV49,SMALL(IF(($Q49:$AV49)<>\"\",COLUMN($A$1:$AF$1),\"\"),COLUMN(C$1))),\"\")","v":171079},null,null,null,null,null,null,null,null,171072,"","","","","","","","","","",171078,171079,"","","","","","","","","","","","","","","","","","",""]
[null,null,null,686298,{"$f":"+COUNTIF(Tabele!$A$1:$FC$500,D50)","v":3},{"$f":"IFERROR(INDEX($Q50:$AV50,SMALL(IF(($Q50:$AV50)<>\"\",COLUMN($A$1:$AF$1),\"\"),COLUMN(A$1))),\"\")","v":171072},{"$f":"IFERROR(INDEX($Q50:$AV50,SMALL(IF(($Q50:$AV50)<>\"\",COLUMN($A$1:$AF$1),\"\"),COLUMN(B$1))),\"\")","v":513331},{"$f":"IFERROR(INDEX($Q50:$AV50,SMALL(IF(($Q50:$AV50)<>\"\",COLUMN($A$1:$AF$1),\"\"),COLUMN(C$1))),\"\")","v":513693},null,null,null,null,null,null,null,null,171072,"","","","","","","","","","","","","","","","","","","","","","","","","",513331,"",513693,"","",""]
[null,null,null,686299,{"$f":"+COUNTIF(Tabele!$A$1:$FC$500,D51)","v":3},{"$f":"IFERROR(INDEX($Q51:$AV51,SMALL(IF(($Q51:$AV51)<>\"\",COLUMN($A$1:$AF$1),\"\"),COLUMN(A$1))),\"\")","v":171072},{"$f":"IFERROR(INDEX($Q51:$AV51,SMALL(IF(($Q51:$AV51)<>\"\",COLUMN($A$1:$AF$1),\"\"),COLUMN(B$1))),\"\")","v":513331},{"$f":"IFERROR(INDEX($Q51:$AV51,SMALL(IF(($Q51:$AV51)<>\"\",COLUMN($A$1:$AF$1),\"\"),COLUMN(C$1))),\"\")","v":513693},null,null,null,null,null,null,null,null,171072,"","","","","","","","","","","","","","","","","","","","","","","","","",513331,"",513693,"","",""]
[null,null,null,686274,{"$f":"+COUNTIF(Tabele!$A$1:$FC$500,D52)","v":3},{"$f":"IFERROR(INDEX($Q52:$AV52,SMALL(IF(($Q52:$AV52)<>\"\",COLUMN($A$1:$AF$1),\"\"),COLUMN(A$1))),\"\")","v":515737},{"$f":"IFERROR(INDEX($Q52:$AV52,SMALL(IF(($Q52:$AV52)<>\"\",COLUMN($A$1:$AF$1),\"\"),COLUMN(B$1))),\"\")","v":515739},{"$f":"IFERROR(INDEX($Q52:$AV52,SMALL(IF(($Q52:$AV52)<>\"\",COLUMN($A$1:$AF$1),\"\"),COLUMN(C$1))),\"\")","v":515740},null,null,null,null,null,null,null,null,"","","","","","","","","","","","","","","","","","","","",515737,515739,515740,"","","","","","","","",""]
[null,null,null,686300,{"$f":"+COUNTIF(Tabele!$A$1:$FC$500,D53)","v":3},{"$f":"IFERROR(INDEX($Q53:$AV53,SMALL(IF(($Q53:$AV53)<>\"\",COLUMN($A$1:$AF$1),\"\"),COLUMN(A$1))),\"\")","v":171072},{"$f":"IFERROR(INDEX($Q53:$AV53,SMALL(IF(($Q53:$AV53)<>\"\",COLUMN($A$1:$AF$1),\"\"),COLUMN(B$1))),\"\")","v":513331},{"$f":"IFERROR(INDEX($Q53:$AV53,SMALL(IF(($Q53:$AV53)<>\"\",COLUMN($A$1:$AF$1),\"\"),COLUMN(C$1))),\"\")","v":513693},null,null,null,null,null,null,null,null,171072,"","","","","","","","","","","","","","","","","","","","","","","","","",513331,"",513693,"","",""]
[null,null,null,686301,{"$f":"+COUNTIF(Tabele!$A$1:$FC$500,D54)","v":3},{"$f":"IFERROR(INDEX($Q54:$AV54,SMALL(IF(($Q54:$AV54)<>\"\",COLUMN($A$1:$AF$1),\"\"),COLUMN(A$1))),\"\")","v":171072},{"$f":"IFERROR(INDEX($Q54:$AV54,SMALL(IF(($Q54:$AV54)<>\"\",COLUMN($A$1:$AF$1),\"\"),COLUMN(B$1))),\"\")","v":513331},{"$f":"IFERROR(INDEX($Q54:$AV54,SMALL(IF(($Q54:$AV54)<>\"\",COLUMN($A$1:$AF$1),\"\"),COLUMN(C$1))),\"\")","v":513693},null,null,null,null,null,null,null,null,171072,"","","","","","","","","","","","","","","","","","","","","","","","","",513331,"",513693,"","",""]
[null,null,null,686302,{"$f":"+COUNTIF(Tabele!$A$1:$FC$500,D55)","v":3},{"$f":"IFERROR(INDEX($Q55:$AV55,SMALL(IF(($Q55:$AV55)<>\"\",COLUMN($A$1:$AF$1),\"\"),COLUMN(A$1))),\"\")","v":191987},{"$f":"IFERROR(INDEX($Q55:$AV55,SMALL(IF(($Q55:$AV55)<>\"\",COLUMN($A$1:$AF$1),\"\"),COLUMN(B$1))),\"\")","v":518164},{"$f":"IFERROR(INDEX($Q55:$AV55,SMALL(IF(($Q55:$AV55)<>\"\",COLUMN($A$1:$AF$1),\"\"),COLUMN(C$1))),\"\")","v":518167},null,null,null,null,null,null,null,null,"",191987,"","","","","","","","","","","","","","","","","","","","","","","","","","","",518164,518167,""]
[null,null,null,686303,{"$f":"+COUNTIF(Tabele!$A$1:$FC$500,D56)","v":3},{"$f":"IFERROR(INDEX($Q56:$AV56,SMALL(IF(($Q56:$AV56)<>\"\",COLUMN($A$1:$AF$1),\"\"),COLUMN(A$1))),\"\")","v":171072},{"$f":"IFERROR(INDEX($Q56:$AV56,SMALL(IF(($Q56:$AV56)<>\"\",COLUMN($A$1:$AF$1),\"\"),COLUMN(B$1))),\"\")","v":513331},{"$f":"IFERROR(INDEX($Q56:$AV56,SMALL(IF(($Q56:$AV56)<>\"\",COLUMN($A$1:$AF$1),\"\"),COLUMN(C$1))),\"\")","v":513693},null,null,null,null,null,null,null,null,171072,"","","","","","","","","","","","","","","","","","","","","","","","","",513331,"",513693,"","",""]
[null,null,null,686304,{"$f":"+COUNTIF(Tabele!$A$1:$FC$500,D57)","v":3},{"$f":"IFERROR(INDEX($Q57:$AV57,SMALL(IF(($Q57:$AV57)<>\"\",COLUMN($A$1:$AF$1),\"\"),COLUMN(A$1))),\"\")","v":191987},{"$f":"IFERROR(INDEX($Q57:$AV57,SMALL(IF(($Q57:$AV57)<>\"\",COLUMN($A$1:$AF$1),\"\"),COLUMN(B$1))),\"\")","v":518164},{"$f":"IFERROR(INDEX($Q57:$AV57,SMALL(IF(($Q57:$AV57)<>\"\",COLUMN($A$1:$AF$1),\"\"),COLUMN(C$1))),\"\")","v":518167},null,null,null,null,null,null,null,null,"",191987,"","","","","","","","","","","","","","","","","","","","","","","","","","","",518164,518167,""]
[null,null,null,686305,{"$f":"+COUNTIF(Tabele!$A$1:$FC$500,D58)","v":3},{"$f":"IFERROR(INDEX($Q58:$AV58,SMALL(IF(($Q58:$AV58)<>\"\",COLUMN($A$1:$AF$1),\"\"),COLUMN(A$1))),\"\")","v":171072},{"$f":"IFERROR(INDEX($Q58:$AV58,SMALL(IF(($Q58:$AV58)<>\"\",COLUMN($A$1:$AF$1),\"\"),COLUMN(B$1))),\"\")","v":513331},{"$f":"IFERROR(INDEX($Q58:$AV58,SMALL(IF(($Q58:$AV58)<>\"\",COLUMN($A$1:$AF$1),\"\"),COLUMN(C$1))),\"\")","v":513693},null,null,null,null,null,null,null,null,171072,"","","","","","","","","","","","","","","","","","","","","","","","","",513331,"",513693,"","",""]
[null,null,null,686306,{"$f":"+COUNTIF(Tabele!$A$1:$FC$500,D59)","v":3},{"$f":"IFERROR(INDEX($Q59:$AV59,SMALL(IF(($Q59:$AV59)<>\"\",COLUMN($A$1:$AF$1),\"\"),COLUMN(A$1))),\"\")","v":171072},{"$f":"IFERROR(INDEX($Q59:$AV59,SMALL(IF(($Q59:$AV59)<>\"\",COLUMN($A$1:$AF$1),\"\"),COLUMN(B$1))),\"\")","v":513331},{"$f":"IFERROR(INDEX($Q59:$AV59,SMALL(IF(($Q59:$AV59)<>\"\",COLUMN($A$1:$AF$1),\"\"),COLUMN(C$1))),\"\")","v":513693},null,null,null,null,null,null,null,null,171072,"","","","","","","","","","","","","","","","","","","","","","","","","",513331,"",513693,"","",""]
[null,null,null,686307,{"$f":"+COUNTIF(Tabele!$A$1:$FC$500,D60)","v":3},{"$f":"IFERROR(INDEX($Q60:$AV60,SMALL(IF(($Q60:$AV60)<>\"\",COLUMN($A$1:$AF$1),\"\"),COLUMN(A$1))),\"\")","v":171072},{"$f":"IFERROR(INDEX($Q60:$AV60,SMALL(IF(($Q60:$AV60)<>\"\",COLUMN($A$1:$AF$1),\"\"),COLUMN(B$1))),\"\")","v":513331},{"$f":"IFERROR(INDEX($Q60:$AV60,SMALL(IF(($Q60:$AV60)<>\"\",COLUMN($A$1:$AF$1),\"\"),COLUMN(C$1))),\"\")","v":513693},null,null,null,null,null,null,null,null,171072,"","","","","","","","","","","","","","","","","","","","","","","","","",513331,"",513693,"","",""]
[null,null,null,686308,{"$f":"+COUNTIF(Tabele!$A$1:$FC$500,D61)","v":3},{"$f":"IFERROR(INDEX($Q61:$AV61,SMALL(IF(($Q61:$AV61)<>\"\",COLUMN($A$1:$AF$1),\"\"),COLUMN(A$1))),\"\")","v":171072},{"$f":"IFERROR(INDEX($Q61:$AV61,SMALL(IF(($Q61:$AV61)<>\"\",COLUMN($A$1:$AF$1),\"\"),COLUMN(B$1))),\"\")","v":513331},{"$f":"IFERROR(INDEX($Q61:$AV61,SMALL(IF(($Q61:$AV61)<>\"\",COLUMN($A$1:$AF$1),\"\"),COLUMN(C$1))),\"\")","v":513693},null,null,null,null,null,null,null,null,171072,"","","","","","","","","","","","","","","","","","","","","","","","","",513331,"",513693,"","",""]
[null,null,null,686309,{"$f":"+COUNTIF(Tabele!$A$1:$FC$500,D62)","v":3},{"$f":"IFERROR(INDEX($Q62:$AV62,SMALL(IF(($Q62:$AV62)<>\"\",COLUMN($A$1:$AF$1),\"\"),COLUMN(A$1))),\"\")","v":191987},{"$f":"IFERROR(INDEX($Q62:$AV62,SMALL(IF(($Q62:$AV62)<>\"\",COLUMN($A$1:$AF$1),\"\"),COLUMN(B$1))),\"\")","v":518164},{"$f":"IFERROR(INDEX($Q62:$AV62,SMALL(IF(($Q62:$AV62)<>\"\",COLUMN($A$1:$AF$1),\"\"),COLUMN(C$1))),\"\")","v":518167},null,null,null,null,null,null,null,null,{"$f":"_xlfn.IFNA(VLOOKUP($D62,INDIRECT(Q$1),4,FALSE),\"\")","v":""},191987,"","","","","","","","","","","","","","","","","","","","","","","","","","","",518164,518167,""]
[null,null,null,686310,{"$f":"+COUNTIF(Tabele!$A$1:$FC$500,D63)","v":3},{"$f":"IFERROR(INDEX($Q63:$AV63,SMALL(IF(($Q63:$AV63)<>\"\",COLUMN($A$1:$AF$1),\"\"),COLUMN(A$1))),\"\")","v":171072},{"$f":"IFERROR(INDEX($Q63:$AV63,SMALL(IF(($Q63:$AV63)<>\"\",COLUMN($A$1:$AF$1),\"\"),COLUMN(B$1))),\"\")","v":513331},{"$f":"IFERROR(INDEX($Q63:$AV63,SMALL(IF(($Q63:$AV63)<>\"\",COLUMN($A$1:$AF$1),\"\"),COLUMN(C$1))),\"\")","v":513693},null,null,null,null,null,null,null,null,171072,"","","","","","","","","","","","","","","","","","","","","","","","","",513331,"",513693,"","",""]
[null,null,null,686311,{"$f":"+COUNTIF(Tabele!$A$1:$FC$500,D64)","v":3},{"$f":"IFERROR(INDEX($Q64:$AV64,SMALL(IF(($Q64:$AV64)<>\"\",COLUMN($A$1:$AF$1),\"\"),COLUMN(A$1))),\"\")","v":171072},{"$f":"IFERROR(INDEX($Q64:$AV64,SMALL(IF(($Q64:$AV64)<>\"\",COLUMN($A$1:$AF$1),\"\"),COLUMN(B$1))),\"\")","v":513331},{"$f":"IFERROR(INDEX($Q64:$AV64,SMALL(IF(($Q64:$AV64)<>\"\",COLUMN($A$1:$AF$1),\"\"),COLUMN(C$1))),\"\")","v":513693},null,null,null,null,null,null,null,null,171072,"","","","","","","","","","","","","","","",{"$f":"_xlfn.IFNA(VLOOKUP($D64,INDIRECT(AG$1),4,FALSE),\"\")","v":""},"","","","","","","","","",513331,"",513693,"","",""]
[null,null,null,686312,{"$f":"+COUNTIF(Tabele!$A$1:$FC$500,D65)","v":3},{"$f":"IFERROR(INDEX($Q65:$AV65,SMALL(IF(($Q65:$AV65)<>\"\",COLUMN($A$1:$AF$1),\"\"),COLUMN(A$1))),\"\")","v":171072},{"$f":"IFERROR(INDEX($Q65:$AV65,SMALL(IF(($Q65:$AV65)<>\"\",COLUMN($A$1:$AF$1),\"\"),COLUMN(B$1))),\"\")","v":513331},{"$f":"IFERROR(INDEX($Q65:$AV65,SMALL(IF(($Q65:$AV65)<>\"\",COLUMN($A$1:$AF$1),\"\"),COLUMN(C$1))),\"\")","v":513693},null,null,null,null,null,null,null,null,171072,"","","","","","","","","","","","","","","","","","","","","","","","","",513331,"",513693,"","",""]
[null,null,null,710625,{"$f":"+COUNTIF(Tabele!$A$1:$FC$500,D66)","v":3},{"$f":"IFERROR(INDEX($Q66:$AV66,SMALL(IF(($Q66:$AV66)<>\"\",COLUMN($A$1:$AF$1),\"\"),COLUMN(A$1))),\"\")","v":171072},{"$f":"IFERROR(INDEX($Q66:$AV66,SMALL(IF(($Q66:$AV66)<>\"\",COLUMN($A$1:$AF$1),\"\"),COLUMN(B$1))),\"\")","v":513331},{"$f":"IFERROR(INDEX($Q66:$AV66,SMALL(IF(($Q66:$AV66)<>\"\",COLUMN($A$1:$AF$1),\"\"),COLUMN(C$1))),\"\")","v":513693},null,null,null,null,null,null,null,null,171072,"","","","","","","","","","","","","","","","","","","","","","","","","",513331,"",513693,"","",""]
[null,null,null,710733,{"$f":"+COUNTIF(Tabele!$A$1:$FC$500,D67)","v":3},{"$f":"IFERROR(INDEX($Q67:$AV67,SMALL(IF(($Q67:$AV67)<>\"\",COLUMN($A$1:$AF$1),\"\"),COLUMN(A$1))),\"\")","v":171072},{"$f":"IFERROR(INDEX($Q67:$AV67,SMALL(IF(($Q67:$AV67)<>\"\",COLUMN($A$1:$AF$1),\"\"),COLUMN(B$1))),\"\")","v":513331},{"$f":"IFERROR(INDEX($Q67:$AV67,SMALL(IF(($Q67:$AV67)<>\"\",COLUMN($A$1:$AF$1),\"\"),COLUMN(C$1))),\"\")","v":513693},null,null,null,null,null,null,null,null,171072,"","","","","","","","","","","","","","","","","","","","","","","","","",513331,"",513693,"","",""]
[null,null,null,710754,{"$f":"+COUNTIF(Tabele!$A$1:$FC$500,D68)","v":3},{"$f":"IFERROR(INDEX($Q68:$AV68,SMALL(IF(($Q68:$AV68)<>\"\",COLUMN($A$1:$AF$1),\"\"),COLUMN(A$1))),\"\")","v":171072},{"$f":"IFERROR(INDEX($Q68:$AV68,SMALL(IF(($Q68:$AV68)<>\"\",COLUMN($A$1:$AF$1),\"\"),COLUMN(B$1))),\"\")","v":513331},{"$f":"IFERROR(INDEX($Q68:$AV68,SMALL(IF(($Q68:$AV68)<>\"\",COLUMN($A$1:$AF$1),\"\"),COLUMN(C$1))),\"\")","v":513693},null,null,null,null,null,null,null,null,171072,"","","","","","","","","","","","","","","","","","","","","","","","","",513331,"",513693,"","",""]
[null,null,null,686374,{"$f":"+COUNTIF(Tabele!$A$1:$FC$500,D69)","v":2},{"$f":"IFERROR(INDEX($Q69:$AV69,SMALL(IF(($Q69:$AV69)<>\"\",COLUMN($A$1:$AF$1),\"\"),COLUMN(A$1))),\"\")","v":171072},{"$f":"IFERROR(INDEX($Q69:$AV69,SMALL(IF(($Q69:$AV69)<>\"\",COLUMN($A$1:$AF$1),\"\"),COLUMN(B$1))),\"\")","v":171185},{"$f":"IFERROR(INDEX($Q69:$AV69,SMALL(IF(($Q69:$AV69)<>\"\",COLUMN($A$1:$AF$1),\"\"),COLUMN(C$1))),\"\")","v":""},null,null,null,null,null,null,null,null,171072,"","","","","","","","","",171185,"","","","","","","","","","","","","","","","","","","","",""]
[null,null,null,686375,{"$f":"+COUNTIF(Tabele!$A$1:$FC$500,D70)","v":2},{"$f":"IFERROR(INDEX($Q70:$AV70,SMALL(IF(($Q70:$AV70)<>\"\",COLUMN($A$1:$AF$1),\"\"),COLUMN(A$1))),\"\")","v":171072},{"$f":"IFERROR(INDEX($Q70:$AV70,SMALL(IF(($Q70:$AV70)<>\"\",COLUMN($A$1:$AF$1),\"\"),COLUMN(B$1))),\"\")","v":171185},{"$f":"IFERROR(INDEX($Q70:$AV70,SMALL(IF(($Q70:$AV70)<>\"\",COLUMN($A$1:$AF$1),\"\"),COLUMN(C$1))),\"\")","v":""},null,null,null,null,null,null,null,null,171072,"","","","","","","","","",171185,"","","","","","","","","","","","","","","","","","","","",""]
[null,null,null,686376,{"$f":"+COUNTIF(Tabele!$A$1:$FC$500,D71)","v":2},{"$f":"IFERROR(INDEX($Q71:$AV71,SMALL(IF(($Q71:$AV71)<>\"\",COLUMN($A$1:$AF$1),\"\"),COLUMN(A$1))),\"\")","v":171072},{"$f":"IFERROR(INDEX($Q71:$AV71,SMALL(IF(($Q71:$AV71)<>\"\",COLUMN($A$1:$AF$1),\"\"),COLUMN(B$1))),\"\")","v":171185},{"$f":"IFERROR(INDEX($Q71:$AV71,SMALL(IF(($Q71:$AV71)<>\"\",COLUMN($A$1:$AF$1),\"\"),COLUMN(C$1))),\"\")","v":""},null,null,null,null,null,null,null,null,171072,"","","","","","","","","",171185,"","","","","","","","","","","","","","","","","","","","",""]
[null,null,null,686377,{"$f":"+COUNTIF(Tabele!$A$1:$FC$500,D72)","v":2},{"$f":"IFERROR(INDEX($Q72:$AV72,SMALL(IF(($Q72:$AV72)<>\"\",COLUMN($A$1:$AF$1),\"\"),COLUMN(A$1))),\"\")","v":191987},{"$f":"IFERROR(INDEX($Q72:$AV72,SMALL(IF(($Q72:$AV72)<>\"\",COLUMN($A$1:$AF$1),\"\"),COLUMN(B$1))),\"\")","v":192021},{"$f":"IFERROR(INDEX($Q72:$AV72,SMALL(IF(($Q72:$AV72)<>\"\",COLUMN($A$1:$AF$1),\"\"),COLUMN(C$1))),\"\")","v":""},null,null,null,null,null,null,null,null,"",191987,"","","","","","","","","","","",192021,"","","","","","","","","","","","","","","","","",""]
[null,null,null,686378,{"$f":"+COUNTIF(Tabele!$A$1:$FC$500,D73)","v":2},{"$f":"IFERROR(INDEX($Q73:$AV73,SMALL(IF(($Q73:$AV73)<>\"\",COLUMN($A$1:$AF$1),\"\"),COLUMN(A$1))),\"\")","v":171072},{"$f":"IFERROR(INDEX($Q73:$AV73,SMALL(IF(($Q73:$AV73)<>\"\",COLUMN($A$1:$AF$1),\"\"),COLUMN(B$1))),\"\")","v":171185},{"$f":"IFERROR(INDEX($Q73:$AV73,SMALL(IF(($Q73:$AV73)<>\"\",COLUMN($A$1:$AF$1),\"\"),COLUMN(C$1))),\"\")","v":""},null,null,null,null,null,null,null,null,171072,"","","","","","","","","",171185,"","","","","","","","","","","","","","","","","","","","",""]
[null,null,null,686379,{"$f":"+COUNTIF(Tabele!$A$1:$FC$500,D74)","v":2},{"$f":"IFERROR(INDEX($Q74:$AV74,SMALL(IF(($Q74:$AV74)<>\"\",COLUMN($A$1:$AF$1),\"\"),COLUMN(A$1))),\"\")","v":171072},{"$f":"IFERROR(INDEX($Q74:$AV74,SMALL(IF(($Q74:$AV74)<>\"\",COLUMN($A$1:$AF$1),\"\"),COLUMN(B$1))),\"\")","v":171185},{"$f":"IFERROR(INDEX($Q74:$AV74,SMALL(IF(($Q74:$AV74)<>\"\",COLUMN($A$1:$AF$1),\"\"),COLUMN(C$1))),\"\")","v":""},null,null,null,null,null,null,null,null,171072,"","","","","","","","","",171185,"","","","","","","","","","","","","","","","","","","","",""]
[null,null,null,686380,{"$f":"+COUNTIF(Tabele!$A$1:$FC$500,D75)","v":2},{"$f":"IFERROR(INDEX($Q75:$AV75,SMALL(IF(($Q75:$AV75)<>\"\",COLUMN($A$1:$AF$1),\"\"),COLUMN(A$1))),\"\")","v":191987},{"$f":"IFERROR(INDEX($Q75:$AV75,SMALL(IF(($Q75:$AV75)<>\"\",COLUMN($A$1:$AF$1),\"\"),COLUMN(B$1))),\"\")","v":192021},{"$f":"IFERROR(INDEX($Q75:$AV75,SMALL(IF(($Q75:$AV75)<>\"\",COLUMN($A$1:$AF$1),\"\"),COLUMN(C$1))),\"\")","v":""},null,null,null,null,null,null,null,null,"",191987,"","","","","","","","","","","",192021,"","","","","","","","","","","","","","","","","",""]
[null,null,null,686367,{"$f":"+COUNTIF(Tabele!$A$1:$FC$500,D76)","v":2},{"$f":"IFERROR(INDEX($Q76:$AV76,SMALL(IF(($Q76:$AV76)<>\"\",COLUMN($A$1:$AF$1),\"\"),COLUMN(A$1))),\"\")","v":171072},{"$f":"IFERROR(INDEX($Q76:$AV76,SMALL(IF(($Q76:$AV76)<>\"\",COLUMN($A$1:$AF$1),\"\"),COLUMN(B$1))),\"\")","v":171574},{"$f":"IFERROR(INDEX($Q76:$AV76,SMALL(IF(($Q76:$AV76)<>\"\",COLUMN($A$1:$AF$1),\"\"),COLUMN(C$1))),\"\")","v":""},null,null,null,null,null,null,null,null,171072,"","","",171574,"","","","","","","","","","","","","","","","","","","","","","","","","","",""]
[null,null,null,686368,{"$f":"+COUNTIF(Tabele!$A$1:$FC$500,D77)","v":2},{"$f":"IFERROR(INDEX($Q77:$AV77,SMALL(IF(($Q77:$AV77)<>\"\",COLUMN($A$1:$AF$1),\"\"),COLUMN(A$1))),\"\")","v":171072},{"$f":"IFERROR(INDEX($Q77:$AV77,SMALL(IF(($Q77:$AV77)<>\"\",COLUMN($A$1:$AF$1),\"\"),COLUMN(B$1))),\"\")","v":171574},{"$f":"IFERROR(INDEX($Q77:$AV77,SMALL(IF(($Q77:$AV77)<>\"\",COLUMN($A$1:$AF$1),\"\"),COLUMN(C$1))),\"\")","v":""},null,null,null,null,null,null,null,null,171072,"","","",171574,"","","","","","","","","","",{"$f":"_xlfn.IFNA(VLOOKUP($D77,INDIRECT(AF$1),4,FALSE),\"\")","v":""},"","","","","","","","","","","","","","","",""]
[null,null,null,686369,{"$f":"+COUNTIF(Tabele!$A$1:$FC$500,D78)","v":2},{"$f":"IFERROR(INDEX($Q78:$AV78,SMALL(IF(($Q78:$AV78)<>\"\",COLUMN($A$1:$AF$1),\"\"),COLUMN(A$1))),\"\")","v":171072},{"$f":"IFERROR(INDEX($Q78:$AV78,SMALL(IF(($Q78:$AV78)<>\"\",COLUMN($A$1:$AF$1),\"\"),COLUMN(B$1))),\"\")","v":171574},{"$f":"IFERROR(INDEX($Q78:$AV78,SMALL(IF(($Q78:$AV78)<>\"\",COLUMN($A$1:$AF$1),\"\"),COLUMN(C$1))),\"\")","v":""},null,null,null,null,null,null,null,null,{"$f":"_xlfn.IFNA(VLOOKUP($D78,INDIRECT(Q$1),4,FALSE),\"\")","v":171072},"","","",171574,"","","","","","","","","","","","","","","","","","","","","","","","","","",""]
[null,null,null,686370,{"$f":"+COUNTIF(Tabele!$A$1:$FC$500,D79)","v":2},{"$f":"IFERROR(INDEX($Q79:$AV79,SMALL(IF(($Q79:$AV79)<>\"\",COLUMN($A$1:$AF$1),\"\"),COLUMN(A$1))),\"\")","v":191987},{"$f":"IFERROR(INDEX($Q79:$AV79,SMALL(IF(($Q79:$AV79)<>\"\",COLUMN($A$1:$AF$1),\"\"),COLUMN(B$1))),\"\")","v":196767},{"$f":"IFERROR(INDEX($Q79:$AV79,SMALL(IF(($Q79:$AV79)<>\"\",COLUMN($A$1:$AF$1),\"\"),COLUMN(C$1))),\"\")","v":""},null,null,null,null,null,null,null,null,"",191987,"","","","","",196767,"","","","","","","","","","","","","","","","","","","","","","","",{"$f":"_xlfn.IFNA(VLOOKUP($D79,INDIRECT(AV$1),4,FALSE),\"\")","v":""}]
[null,null,null,686371,{"$f":"+COUNTIF(Tabele!$A$1:$FC$500,D80)","v":2},{"$f":"IFERROR(INDEX($Q80:$AV80,SMALL(IF(($Q80:$AV80)<>\"\",COLUMN($A$1:$AF$1),\"\"),COLUMN(A$1))),\"\")","v":171072},{"$f":"IFERROR(INDEX($Q80:$AV80,SMALL(IF(($Q80:$AV80)<>\"\",COLUMN($A$1:$AF$1),\"\"),COLUMN(B$1))),\"\")","v":171574},{"$f":"IFERROR(INDEX($Q80:$AV80,SMALL(IF(($Q80:$AV80)<>\"\",COLUMN($A$1:$AF$1),\"\"),COLUMN(C$1))),\"\")","v":""},null,null,null,null,null,null,null,null,171072,"","","",171574,"","","","","","","","","","","","","","","","","","","","","","","","","","",""]
[null,null,null,686372,{"$f":"+COUNTIF(Tabele!$A$1:$FC$500,D81)","v":2},{"$f":"IFERROR(INDEX($Q81:$AV81,SMALL(IF(($Q81:$AV81)<>\"\",COLUMN($A$1:$AF$1),\"\"),COLUMN(A$1))),\"\")","v":171072},{"$f":"IFERROR(INDEX($Q81:$AV81,SMALL(IF(($Q81:$AV81)<>\"\",COLUMN($A$1:$AF$1),\"\"),COLUMN(B$1))),\"\")","v":171574},{"$f":"IFERROR(INDEX($Q81:$AV81,SMALL(IF(($Q81:$AV81)<>\"\",COLUMN($A$1:$AF$1),\"\"),COLUMN(C$1))),\"\")","v":""},null,null,null,null,null,null,null,null,171072,"","","",171574,"","","","","","","","","","","","","","","","","","","","","","","","","","",""]
[null,null,null,686373,{"$f":"+COUNTIF(Tabele!$A$1:$FC$500,D82)","v":2},{"$f":"IFERROR(INDEX($Q82:$AV82,SMALL(IF(($Q82:$AV82)<>\"\",COLUMN($A$1:$AF$1),\"\"),COLUMN(A$1))),\"\")","v":191987},{"$f":"IFERROR(INDEX($Q82:$AV82,SMALL(IF(($Q82:$AV82)<>\"\",COLUMN($A$1:$AF$1),\"\"),COLUMN(B$1))),\"\")","v":196767},{"$f":"IFERROR(INDEX($Q82:$AV82,SMALL(IF(($Q82:$AV82)<>\"\",COLUMN($A$1:$AF$1),\"\"),COLUMN(C$1))),\"\")","v":""},null,null,null,null,null,null,null,null,"",191987,"","","","","",196767,"","","","","","","","","","","","","","","","","","","","","","","",""]
[null,null,null,686399,{"$f":"+COUNTIF(Tabele!$A$1:$FC$500,D83)","v":2},{"$f":"IFERROR(INDEX($Q83:$AV83,SMALL(IF(($Q83:$AV83)<>\"\",COLUMN($A$1:$AF$1),\"\"),COLUMN(A$1))),\"\")","v":171072},{"$f":"IFERROR(INDEX($Q83:$AV83,SMALL(IF(($Q83:$AV83)<>\"\",COLUMN($A$1:$AF$1),\"\"),COLUMN(B$1))),\"\")","v":328056},{"$f":"IFERROR(INDEX($Q83:$AV83,SMALL(IF(($Q83:$AV83)<>\"\",COLUMN($A$1:$AF$1),\"\"),COLUMN(C$1))),\"\")","v":""},null,null,null,null,null,null,null,null,171072,"",328056,"","","","","","","","","","","","","","","","","","","","","","","","","","","","",""]
[null,null,null,686398,{"$f":"+COUNTIF(Tabele!$A$1:$FC$500,D84)","v":2},{"$f":"IFERROR(INDEX($Q84:$AV84,SMALL(IF(($Q84:$AV84)<>\"\",COLUMN($A$1:$AF$1),\"\"),COLUMN(A$1))),\"\")","v":191987},{"$f":"IFERROR(INDEX($Q84:$AV84,SMALL(IF(($Q84:$AV84)<>\"\",COLUMN($A$1:$AF$1),\"\"),COLUMN(B$1))),\"\")","v":328258},{"$f":"IFERROR(INDEX($Q84:$AV84,SMALL(IF(($Q84:$AV84)<>\"\",COLUMN($A$1:$AF$1),\"\"),COLUMN(C$1))),\"\")","v":""},null,null,null,null,null,null,null,null,"",191987,"",328258,"","","","","","","","","","","","","","","","","","","","","","","","","","","",""]
[null,null,null,686397,{"$f":"+COUNTIF(Tabele!$A$1:$FC$500,D85)","v":2},{"$f":"IFERROR(INDEX($Q85:$AV85,SMALL(IF(($Q85:$AV85)<>\"\",COLUMN($A$1:$AF$1),\"\"),COLUMN(A$1))),\"\")","v":171072},{"$f":"IFERROR(INDEX($Q85:$AV85,SMALL(IF(($Q85:$AV85)<>\"\",COLUMN($A$1:$AF$1),\"\"),COLUMN(B$1))),\"\")","v":328056},{"$f":"IFERROR(INDEX($Q85:$AV85,SMALL(IF(($Q85:$AV85)<>\"\",COLUMN($A$1:$AF$1),\"\"),COLUMN(C$1))),\"\")","v":""},null,null,null,null,null,null,null,null,171072,"",328056,"","","","","","","","","","","","","","","","","","","","","","","","","","","","",""]
[null,null,null,686396,{"$f":"+COUNTIF(Tabele!$A$1:$FC$500,D86)","v":2},{"$f":"IFERROR(INDEX($Q86:$AV86,SMALL(IF(($Q86:$AV86)<>\"\",COLUMN($A$1:$AF$1),\"\"),COLUMN(A$1))),\"\")","v":171072},{"$f":"IFERROR(INDEX($Q86:$AV86,SMALL(IF(($Q86:$AV86)<>\"\",COLUMN($A$1:$AF$1),\"\"),COLUMN(B$1))),\"\")","v":328056},{"$f":"IFERROR(INDEX($Q86:$AV86,SMALL(IF(($Q86:$AV86)<>\"\",COLUMN($A$1:$AF$1),\"\"),COLUMN(C$1))),\"\")","v":""},null,null,null,null,null,null,null,null,171072,"",328056,"","","","","","","","","","","","","","","","","","","","","","","","","","","","",""]
[null,null,null,686395,{"$f":"+COUNTIF(Tabele!$A$1:$FC$500,D87)","v":2},{"$f":"IFERROR(INDEX($Q87:$AV87,SMALL(IF(($Q87:$AV87)<>\"\",COLUMN($A$1:$AF$1),\"\"),COLUMN(A$1))),\"\")","v":191987},{"$f":"IFERROR(INDEX($Q87:$AV87,SMALL(IF(($Q87:$AV87)<>\"\",COLUMN($A$1:$AF$1),\"\"),COLUMN(B$1))),\"\")","v":328258},{"$f":"IFERROR(INDEX($Q87:$AV87,SMALL(IF(($Q87:$AV87)<>\"\",COLUMN($A$1:$AF$1),\"\"),COLUMN(C$1))),\"\")","v":""},null,null,null,null,null,null,null,null,"",191987,"",328258,"","","","","","","","","","","","","","","","","","","","","","","","","","","",""]
[null,null,null,686394,{"$f":"+COUNTIF(Tabele!$A$1:$FC$500,D88)","v":2},{"$f":"IFERROR(INDEX($Q88:$AV88,SMALL(IF(($Q88:$AV88)<>\"\",COLUMN($A$1:$AF$1),\"\"),COLUMN(A$1))),\"\")","v":171072},{"$f":"IFERROR(INDEX($Q88:$AV88,SMALL(IF(($Q88:$AV88)<>\"\",COLUMN($A$1:$AF$1),\"\"),COLUMN(B$1))),\"\")","v":328056},{"$f":"IFERROR(INDEX($Q88:$AV88,SMALL(IF(($Q88:$AV88)<>\"\",COLUMN($A$1:$AF$1),\"\"),COLUMN(C$1))),\"\")","v":""},null,null,null,null,null,null,null,null,171072,"",328056,"","","","","","","","","","","","","","","","","","","","","","","","","","","","",""]
[null,null,null,686393,{"$f":"+COUNTIF(Tabele!$A$1:$FC$500,D89)","v":2},{"$f":"IFERROR(INDEX($Q89:$AV89,SMALL(IF(($Q89:$AV89)<>\"\",COLUMN($A$1:$AF$1),\"\"),COLUMN(A$1))),\"\")","v":171072},{"$f":"IFERROR(INDEX($Q89:$AV89,SMALL(IF(($Q89:$AV89)<>\"\",COLUMN($A$1:$AF$1),\"\"),COLUMN(B$1))),\"\")","v":328056},{"$f":"IFERROR(INDEX($Q89:$AV89,SMALL(IF(($Q89:$AV89)<>\"\",COLUMN($A$1:$AF$1),\"\"),COLUMN(C$1))),\"\")","v":""},null,null,null,null,null,null,null,null,171072,"",328056,"","","","","","","","","","","","","","","","","","","","","","","","","","","","",""]
[null,null,null,686392,{"$f":"+COUNTIF(Tabele!$A$1:$FC$500,D90)","v":2},{"$f":"IFERROR(INDEX($Q90:$AV90,SMALL(IF(($Q90:$AV90)<>\"\",COLUMN($A$1:$AF$1),\"\"),COLUMN(A$1))),\"\")","v":171072},{"$f":"IFERROR(INDEX($Q90:$AV90,SMALL(IF(($Q90:$AV90)<>\"\",COLUMN($A$1:$AF$1),\"\"),COLUMN(B$1))),\"\")","v":328056},{"$f":"IFERROR(INDEX($Q90:$AV90,SMALL(IF(($Q90:$AV90)<>\"\",COLUMN($A$1:$AF$1),\"\"),COLUMN(C$1))),\"\")","v":""},null,null,null,null,null,null,null,null,171072,"",328056,"","","","","","","","","","","","","","","","","","","","","","","","","","","","",""]
[null,null,null,686391,{"$f":"+COUNTIF(Tabele!$A$1:$FC$500,D91)","v":2},{"$f":"IFERROR(INDEX($Q91:$AV91,SMALL(IF(($Q91:$AV91)<>\"\",COLUMN($A$1:$AF$1),\"\"),COLUMN(A$1))),\"\")","v":171072},{"$f":"IFERROR(INDEX($Q91:$AV91,SMALL(IF(($Q91:$AV91)<>\"\",COLUMN($A$1:$AF$1),\"\"),COLUMN(B$1))),\"\")","v":328056},{"$f":"IFERROR(INDEX($Q91:$AV91,SMALL(IF(($Q91:$AV91)<>\"\",COLUMN($A$1:$AF$1),\"\"),COLUMN(C$1))),\"\")","v":""},null,null,null,null,null,null,null,null,171072,"",328056,"","","","","","","","","","","","","","","","","","","","","","","","","","","","",""]
[null,null,null,686390,{"$f":"+COUNTIF(Tabele!$A$1:$FC$500,D92)","v":2},{"$f":"IFERROR(INDEX($Q92:$AV92,SMALL(IF(($Q92:$AV92)<>\"\",COLUMN($A$1:$AF$1),\"\"),COLUMN(A$1))),\"\")","v":171072},{"$f":"IFERROR(INDEX($Q92:$AV92,SMALL(IF(($Q92:$AV92)<>\"\",COLUMN($A$1:$AF$1),\"\"),COLUMN(B$1))),\"\")","v":328056},{"$f":"IFERROR(INDEX($Q92:$AV92,SMALL(IF(($Q92:$AV92)<>\"\",COLUMN($A$1:$AF$1),\"\"),COLUMN(C$1))),\"\")","v":""},null,null,null,null,null,null,null,null,171072,"",328056,"","","","","","","","","","","","","","","","","","","","","","","","","","","","",""]
[null,null,null,686389,{"$f":"+COUNTIF(Tabele!$A$1:$FC$500,D93)","v":2},{"$f":"IFERROR(INDEX($Q93:$AV93,SMALL(IF(($Q93:$AV93)<>\"\",COLUMN($A$1:$AF$1),\"\"),COLUMN(A$1))),\"\")","v":171072},{"$f":"IFERROR(INDEX($Q93:$AV93,SMALL(IF(($Q93:$AV93)<>\"\",COLUMN($A$1:$AF$1),\"\"),COLUMN(B$1))),\"\")","v":328056},{"$f":"IFERROR(INDEX($Q93:$AV93,SMALL(IF(($Q93:$AV93)<>\"\",COLUMN($A$1:$AF$1),\"\"),COLUMN(C$1))),\"\")","v":""},null,null,null,null,null,null,null,null,171072,"",328056,"","","","","","","","","","","","",{"$f":"_xlfn.IFNA(VLOOKUP($D93,INDIRECT(AF$1),4,FALSE),\"\")","v":""},"","","","","","","","","","","","","","","",""]
[null,null,null,686388,{"$f":"+COUNTIF(Tabele!$A$1:$FC$500,D94)","v":2},{"$f":"IFERROR(INDEX($Q94:$AV94,SMALL(IF(($Q94:$AV94)<>\"\",COLUMN($A$1:$AF$1),\"\"),COLUMN(A$1))),\"\")","v":171072},{"$f":"IFERROR(INDEX($Q94:$AV94,SMALL(IF(($Q94:$AV94)<>\"\",COLUMN($A$1:$AF$1),\"\"),COLUMN(B$1))),\"\")","v":328056},{"$f":"IFERROR(INDEX($Q94:$AV94,SMALL(IF(($Q94:$AV94)<>\"\",COLUMN($A$1:$AF$1),\"\"),COLUMN(C$1))),\"\")","v":""},null,null,null,null,null,null,null,null,{"$f":"_xlfn.IFNA(VLOOKUP($D94,INDIRECT(Q$1),4,FALSE),\"\")","v":171072},"",328056,"","","","","","","","","","","","","","","","","","","","","","","","","","","","",""]
[null,null,null,686348,{"$f":"+COUNTIF(Tabele!$A$1:$FC$500,D95)","v":2},{"$f":"IFERROR(INDEX($Q95:$AV95,SMALL(IF(($Q95:$AV95)<>\"\",COLUMN($A$1:$AF$1),\"\"),COLUMN(A$1))),\"\")","v":191987},{"$f":"IFERROR(INDEX($Q95:$AV95,SMALL(IF(($Q95:$AV95)<>\"\",COLUMN($A$1:$AF$1),\"\"),COLUMN(B$1))),\"\")","v":406631},{"$f":"IFERROR(INDEX($Q95:$AV95,SMALL(IF(($Q95:$AV95)<>\"\",COLUMN($A$1:$AF$1),\"\"),COLUMN(C$1))),\"\")","v":""},null,null,null,null,null,null,null,null,"",191987,"","","","","","","","","","","","","","",{"$f":"_xlfn.IFNA(VLOOKUP($D95,INDIRECT(AG$1),4,FALSE),\"\")","v":""},"",406631,"","","","","","","","","","","","",""]
[null,null,null,686347,{"$f":"+COUNTIF(Tabele!$A$1:$FC$500,D96)","v":2},{"$f":"IFERROR(INDEX($Q96:$AV96,SMALL(IF(($Q96:$AV96)<>\"\",COLUMN($A$1:$AF$1),\"\"),COLUMN(A$1))),\"\")","v":171072},{"$f":"IFERROR(INDEX($Q96:$AV96,SMALL(IF(($Q96:$AV96)<>\"\",COLUMN($A$1:$AF$1),\"\"),COLUMN(B$1))),\"\")","v":394146},{"$f":"IFERROR(INDEX($Q96:$AV96,SMALL(IF(($Q96:$AV96)<>\"\",COLUMN($A$1:$AF$1),\"\"),COLUMN(C$1))),\"\")","v":""},null,null,null,null,null,null,null,null,171072,"","","","","","","","","","","","","","","",394146,"","","","","","","","","","","","","","",""]
[null,null,null,686346,{"$f":"+COUNTIF(Tabele!$A$1:$FC$500,D97)","v":2},{"$f":"IFERROR(INDEX($Q97:$AV97,SMALL(IF(($Q97:$AV97)<>\"\",COLUMN($A$1:$AF$1),\"\"),COLUMN(A$1))),\"\")","v":171072},{"$f":"IFERROR(INDEX($Q97:$AV97,SMALL(IF(($Q97:$AV97)<>\"\",COLUMN($A$1:$AF$1),\"\"),COLUMN(B$1))),\"\")","v":394146},{"$f":"IFERROR(INDEX($Q97:$AV97,SMALL(IF(($Q97:$AV97)<>\"\",COLUMN($A$1:$AF$1),\"\"),COLUMN(C$1))),\"\")","v":""},null,null,null,null,null,null,null,null,171072,"","","","","","","","","","","","","","","",394146,"","","","","","","","","","","","","","",""]
[null,null,null,686345,{"$f":"+COUNTIF(Tabele!$A$1:$FC$500,D98)","v":2},{"$f":"IFERROR(INDEX($Q98:$AV98,SMALL(IF(($Q98:$AV98)<>\"\",COLUMN($A$1:$AF$1),\"\"),COLUMN(A$1))),\"\")","v":191987},{"$f":"IFERROR(INDEX($Q98:$AV98,SMALL(IF(($Q98:$AV98)<>\"\",COLUMN($A$1:$AF$1),\"\"),COLUMN(B$1))),\"\")","v":406631},{"$f":"IFERROR(INDEX($Q98:$AV98,SMALL(IF(($Q98:$AV98)<>\"\",COLUMN($A$1:$AF$1),\"\"),COLUMN(C$1))),\"\")","v":""},null,null,null,null,null,null,null,null,"",191987,"","","","","","","","","","","","","","","","",406631,"","","","","","","","","","","","",""]
[null,null,null,686344,{"$f":"+COUNTIF(Tabele!$A$1:$FC$500,D99)","v":2},{"$f":"IFERROR(INDEX($Q99:$AV99,SMALL(IF(($Q99:$AV99)<>\"\",COLUMN($A$1:$AF$1),\"\"),COLUMN(A$1))),\"\")","v":171072},{"$f":"IFERROR(INDEX($Q99:$AV99,SMALL(IF(($Q99:$AV99)<>\"\",COLUMN($A$1:$AF$1),\"\"),COLUMN(B$1))),\"\")","v":394146},{"$f":"IFERROR(INDEX($Q99:$AV99,SMALL(IF(($Q99:$AV99)<>\"\",COLUMN($A$1:$AF$1),\"\"),COLUMN(C$1))),\"\")","v":""},null,null,null,null,null,null,null,null,171072,"","","","","","","","","","","","","","","",394146,"","","","","","","","","","","","","","",""]
[null,null,null,686343,{"$f":"+COUNTIF(Tabele!$A$1:$FC$500,D100)","v":2},{"$f":"IFERROR(INDEX($Q100:$AV100,SMALL(IF(($Q100:$AV100)<>\"\",COLUMN($A$1:$AF$1),\"\"),COLUMN(A$1))),\"\")","v":171072},{"$f":"IFERROR(INDEX($Q100:$AV100,SMALL(IF(($Q100:$AV100)<>\"\",COLUMN($A$1:$AF$1),\"\"),COLUMN(B$1))),\"\")","v":394146},{"$f":"IFERROR(INDEX($Q100:$AV100,SMALL(IF(($Q100:$AV100)<>\"\",COLUMN($A$1:$AF$1),\"\"),COLUMN(C$1))),\"\")","v":""},null,null,null,null,null,null,null,null,171072,"","","","","","","","","","","","","","","",394146,"","","","","","","","","","","","","","",""]
[null,null,null,686342,{"$f":"+COUNTIF(Tabele!$A$1:$FC$500,D101)","v":2},{"$f":"IFERROR(INDEX($Q101:$AV101,SMALL(IF(($Q101:$AV101)<>\"\",COLUMN($A$1:$AF$1),\"\"),COLUMN(A$1))),\"\")","v":171072},{"$f":"IFERROR(INDEX($Q101:$AV101,SMALL(IF(($Q101:$AV101)<>\"\",COLUMN($A$1:$AF$1),\"\"),COLUMN(B$1))),\"\")","v":394146},{"$f":"IFERROR(INDEX($Q101:$AV101,SMALL(IF(($Q101:$AV101)<>\"\",COLUMN($A$1:$AF$1),\"\"),COLUMN(C$1))),\"\")","v":""},null,null,null,null,null,null,null,null,171072,"","","","","","","","","","","","","","","",394146,"","","","","","","","","","","","","","",""]
[null,null,null,686331,{"$f":"+COUNTIF(Tabele!$A$1:$FC$500,D102)","v":2},{"$f":"IFERROR(INDEX($Q102:$AV102,SMALL(IF(($Q102:$AV102)<>\"\",COLUMN($A$1:$AF$1),\"\"),COLUMN(A$1))),\"\")","v":171072},{"$f":"IFERROR(INDEX($Q102:$AV102,SMALL(IF(($Q102:$AV102)<>\"\",COLUMN($A$1:$AF$1),\"\"),COLUMN(B$1))),\"\")","v":394146},{"$f":"IFERROR(INDEX($Q102:$AV102,SMALL(IF(($Q102:$AV102)<>\"\",COLUMN($A$1:$AF$1),\"\"),COLUMN(C$1))),\"\")","v":""},null,null,null,null,null,null,null,null,171072,"","","","","","","","","","","","","","","",394146,"","","","","","","","","","","","","","",""]
[null,null,null,686330,{"$f":"+COUNTIF(Tabele!$A$1:$FC$500,D103)","v":2},{"$f":"IFERROR(INDEX($Q103:$AV103,SMALL(IF(($Q103:$AV103)<>\"\",COLUMN($A$1:$AF$1),\"\"),COLUMN(A$1))),\"\")","v":171072},{"$f":"IFERROR(INDEX($Q103:$AV103,SMALL(IF(($Q103:$AV103)<>\"\",COLUMN($A$1:$AF$1),\"\"),COLUMN(B$1))),\"\")","v":394146},{"$f":"IFERROR(INDEX($Q103:$AV103,SMALL(IF(($Q103:$AV103)<>\"\",COLUMN($A$1:$AF$1),\"\"),COLUMN(C$1))),\"\")","v":""},null,null,null,null,null,null,null,null,171072,"","","","","","","","","","","","","","","",394146,"","","","","","","","","","","","","","",""]
[null,null,null,686329,{"$f":"+COUNTIF(Tabele!$A$1:$FC$500,D104)","v":2},{"$f":"IFERROR(INDEX($Q104:$AV104,SMALL(IF(($Q104:$AV104)<>\"\",COLUMN($A$1:$AF$1),\"\"),COLUMN(A$1))),\"\")","v":171072},{"$f":"IFERROR(INDEX($Q104:$AV104,SMALL(IF(($Q104:$AV104)<>\"\",COLUMN($A$1:$AF$1),\"\"),COLUMN(B$1))),\"\")","v":394146},{"$f":"IFERROR(INDEX($Q104:$AV104,SMALL(IF(($Q104:$AV104)<>\"\",COLUMN($A$1:$AF$1),\"\"),COLUMN(C$1))),\"\")","v":""},null,null,null,null,null,null,null,null,171072,"","","","","","","","","","","","","","","",394146,"","","","","","","","","","","","","","",""]
[null,null,null,686328,{"$f":"+COUNTIF(Tabele!$A$1:$FC$500,D105)","v":2},{"$f":"IFERROR(INDEX($Q105:$AV105,SMALL(IF(($Q105:$AV105)<>\"\",COLUMN($A$1:$AF$1),\"\"),COLUMN(A$1))),\"\")","v":171072},{"$f":"IFERROR(INDEX($Q105:$AV105,SMALL(IF(($Q105:$AV105)<>\"\",COLUMN($A$1:$AF$1),\"\"),COLUMN(B$1))),\"\")","v":394146},{"$f":"IFERROR(INDEX($Q105:$AV105,SMALL(IF(($Q105:$AV105)<>\"\",COLUMN($A$1:$AF$1),\"\"),COLUMN(C$1))),\"\")","v":""},null,null,null,null,null,null,null,null,171072,"","","","","","","","","","","","","","","",394146,"","","","","","","","","","","","","","",""]
[null,null,null,711792,{"$f":"+COUNTIF(Tabele!$A$1:$FC$500,D106)","v":2},{"$f":"IFERROR(INDEX($Q106:$AV106,SMALL(IF(($Q106:$AV106)<>\"\",COLUMN($A$1:$AF$1),\"\"),COLUMN(A$1))),\"\")","v":171072},{"$f":"IFERROR(INDEX($Q106:$AV106,SMALL(IF(($Q106:$AV106)<>\"\",COLUMN($A$1:$AF$1),\"\"),COLUMN(B$1))),\"\")","v":394146},{"$f":"IFERROR(INDEX($Q106:$AV106,SMALL(IF(($Q106:$AV106)<>\"\",COLUMN($A$1:$AF$1),\"\"),COLUMN(C$1))),\"\")","v":""},null,null,null,null,null,null,null,null,171072,"","","","","","","","","","","","","","","",394146,"","","","","","","","","","","","","","",""]
[null,null,null,711986,{"$f":"+COUNTIF(Tabele!$A$1:$FC$500,D107)","v":2},{"$f":"IFERROR(INDEX($Q107:$AV107,SMALL(IF(($Q107:$AV107)<>\"\",COLUMN($A$1:$AF$1),\"\"),COLUMN(A$1))),\"\")","v":171072},{"$f":"IFERROR(INDEX($Q107:$AV107,SMALL(IF(($Q107:$AV107)<>\"\",COLUMN($A$1:$AF$1),\"\"),COLUMN(B$1))),\"\")","v":394146},{"$f":"IFERROR(INDEX($Q107:$AV107,SMALL(IF(($Q107:$AV107)<>\"\",COLUMN($A$1:$AF$1),\"\"),COLUMN(C$1))),\"\")","v":""},null,null,null,null,null,null,null,null,171072,"","","","","","","","","","","","","","","",394146,"","","","","","","","","","","","","","",""]
[null,null,null,712059,{"$f":"+COUNTIF(Tabele!$A$1:$FC$500,D108)","v":2},{"$f":"IFERROR(INDEX($Q108:$AV108,SMALL(IF(($Q108:$AV108)<>\"\",COLUMN($A$1:$AF$1),\"\"),COLUMN(A$1))),\"\")","v":171072},{"$f":"IFERROR(INDEX($Q108:$AV108,SMALL(IF(($Q108:$AV108)<>\"\",COLUMN($A$1:$AF$1),\"\"),COLUMN(B$1))),\"\")","v":394146},{"$f":"IFERROR(INDEX($Q108:$AV108,SMALL(IF(($Q108:$AV108)<>\"\",COLUMN($A$1:$AF$1),\"\"),COLUMN(C$1))),\"\")","v":""},null,null,null,null,null,null,null,null,171072,"","","","","","","","","","","","","","","",394146,"","","","","","","","","","","","","","",""]
[null,null,null,686762,{"$f":"+COUNTIF(Tabele!$A$1:$FC$500,D109)","v":2},{"$f":"IFERROR(INDEX($Q109:$AV109,SMALL(IF(($Q109:$AV109)<>\"\",COLUMN($A$1:$AF$1),\"\"),COLUMN(A$1))),\"\")","v":171072},{"$f":"IFERROR(INDEX($Q109:$AV109,SMALL(IF(($Q109:$AV109)<>\"\",COLUMN($A$1:$AF$1),\"\"),COLUMN(B$1))),\"\")","v":171185},{"$f":"IFERROR(INDEX($Q109:$AV109,SMALL(IF(($Q109:$AV109)<>\"\",COLUMN($A$1:$AF$1),\"\"),COLUMN(C$1))),\"\")","v":""},null,null,null,null,null,null,null,null,171072,"","","","","","","","","",171185,"","","","",{"$f":"_xlfn.IFNA(VLOOKUP($D109,INDIRECT(AF$1),4,FALSE),\"\")","v":""},"","","","","","","","","","","","","","","",""]
[null,null,null,686759,{"$f":"+COUNTIF(Tabele!$A$1:$FC$500,D110)","v":2},{"$f":"IFERROR(INDEX($Q110:$AV110,SMALL(IF(($Q110:$AV110)<>\"\",COLUMN($A$1:$AF$1),\"\"),COLUMN(A$1))),\"\")","v":171072},{"$f":"IFERROR(INDEX($Q110:$AV110,SMALL(IF(($Q110:$AV110)<>\"\",COLUMN($A$1:$AF$1),\"\"),COLUMN(B$1))),\"\")","v":171574},{"$f":"IFERROR(INDEX($Q110:$AV110,SMALL(IF(($Q110:$AV110)<>\"\",COLUMN($A$1:$AF$1),\"\"),COLUMN(C$1))),\"\")","v":""},null,null,null,null,null,null,null,null,{"$f":"_xlfn.IFNA(VLOOKUP($D110,INDIRECT(Q$1),4,FALSE),\"\")","v":171072},"","","",171574,"","","","","","","","","","","","","","","","","","","","","","","","","","",{"$f":"_xlfn.IFNA(VLOOKUP($D110,INDIRECT(AV$1),4,FALSE),\"\")","v":""}]
[null,null,null,712073,{"$f":"+COUNTIF(Tabele!$A$1:$FC$500,D111)","v":2},{"$f":"IFERROR(INDEX($Q111:$AV111,SMALL(IF(($Q111:$AV111)<>\"\",COLUMN($A$1:$AF$1),\"\"),COLUMN(A$1))),\"\")","v":171072},{"$f":"IFERROR(INDEX($Q111:$AV111,SMALL(IF(($Q111:$AV111)<>\"\",COLUMN($A$1:$AF$1),\"\"),COLUMN(B$1))),\"\")","v":394149},{"$f":"IFERROR(INDEX($Q111:$AV111,SMALL(IF(($Q111:$AV111)<>\"\",COLUMN($A$1:$AF$1),\"\"),COLUMN(C$1))),\"\")","v":""},null,null,null,null,null,null,null,null,171072,"","","","","","","","","","","","","","","","",394149,"","","","","","","","","","","","","",""]
[null,null,null,711990,{"$f":"+COUNTIF(Tabele!$A$1:$FC$500,D112)","v":2},{"$f":"IFERROR(INDEX($Q112:$AV112,SMALL(IF(($Q112:$AV112)<>\"\",COLUMN($A$1:$AF$1),\"\"),COLUMN(A$1))),\"\")","v":171072},{"$f":"IFERROR(INDEX($Q112:$AV112,SMALL(IF(($Q112:$AV112)<>\"\",COLUMN($A$1:$AF$1),\"\"),COLUMN(B$1))),\"\")","v":394149},{"$f":"IFERROR(INDEX($Q112:$AV112,SMALL(IF(($Q112:$AV112)<>\"\",COLUMN($A$1:$AF$1),\"\"),COLUMN(C$1))),\"\")","v":""},null,null,null,null,null,null,null,null,171072,"","","","","","","","","","","","","","","","",394149,"","","","","","","","","","","","","",""]
[null,null,null,711796,{"$f":"+COUNTIF(Tabele!$A$1:$FC$500,D113)","v":2},{"$f":"IFERROR(INDEX($Q113:$AV113,SMALL(IF(($Q113:$AV113)<>\"\",COLUMN($A$1:$AF$1),\"\"),COLUMN(A$1))),\"\")","v":171072},{"$f":"IFERROR(INDEX($Q113:$AV113,SMALL(IF(($Q113:$AV113)<>\"\",COLUMN($A$1:$AF$1),\"\"),COLUMN(B$1))),\"\")","v":394149},{"$f":"IFERROR(INDEX($Q113:$AV113,SMALL(IF(($Q113:$AV113)<>\"\",COLUMN($A$1:$AF$1),\"\"),COLUMN(C$1))),\"\")","v":""},null,null,null,null,null,null,null,null,171072,"","","","","","","","","","","","","","","","",394149,"","","","","","","","","","","","","",""]
[null,null,null,686359,{"$f":"+COUNTIF(Tabele!$A$1:$FC$500,D114)","v":2},{"$f":"IFERROR(INDEX($Q114:$AV114,SMALL(IF(($Q114:$AV114)<>\"\",COLUMN($A$1:$AF$1),\"\"),COLUMN(A$1))),\"\")","v":191987},{"$f":"IFERROR(INDEX($Q114:$AV114,SMALL(IF(($Q114:$AV114)<>\"\",COLUMN($A$1:$AF$1),\"\"),COLUMN(B$1))),\"\")","v":406632},{"$f":"IFERROR(INDEX($Q114:$AV114,SMALL(IF(($Q114:$AV114)<>\"\",COLUMN($A$1:$AF$1),\"\"),COLUMN(C$1))),\"\")","v":""},null,null,null,null,null,null,null,null,"",191987,"","","","","","","","","","","","","","","","","",406632,"","","","","","","","","","","",""]
[null,null,null,686358,{"$f":"+COUNTIF(Tabele!$A$1:$FC$500,D115)","v":2},{"$f":"IFERROR(INDEX($Q115:$AV115,SMALL(IF(($Q115:$AV115)<>\"\",COLUMN($A$1:$AF$1),\"\"),COLUMN(A$1))),\"\")","v":171072},{"$f":"IFERROR(INDEX($Q115:$AV115,SMALL(IF(($Q115:$AV115)<>\"\",COLUMN($A$1:$AF$1),\"\"),COLUMN(B$1))),\"\")","v":394149},{"$f":"IFERROR(INDEX($Q115:$AV115,SMALL(IF(($Q115:$AV115)<>\"\",COLUMN($A$1:$AF$1),\"\"),COLUMN(C$1))),\"\")","v":""},null,null,null,null,null,null,null,null,171072,"","","","","","","","","","","","","","","","",394149,"","","","","","","","","","","","","",""]
[null,null,null,686357,{"$f":"+COUNTIF(Tabele!$A$1:$FC$500,D116)","v":2},{"$f":"IFERROR(INDEX($Q116:$AV116,SMALL(IF(($Q116:$AV116)<>\"\",COLUMN($A$1:$AF$1),\"\"),COLUMN(A$1))),\"\")","v":171072},{"$f":"IFERROR(INDEX($Q116:$AV116,SMALL(IF(($Q116:$AV116)<>\"\",COLUMN($A$1:$AF$1),\"\"),COLUMN(B$1))),\"\")","v":394149},{"$f":"IFERROR(INDEX($Q116:$AV116,SMALL(IF(($Q116:$AV116)<>\"\",COLUMN($A$1:$AF$1),\"\"),COLUMN(C$1))),\"\")","v":""},null,null,null,null,null,null,null,null,171072,"","","","","","","","","","","","","","","","",394149,"","","","","","","","","","","","","",""]
[null,null,null,686356,{"$f":"+COUNTIF(Tabele!$A$1:$FC$500,D117)","v":2},{"$f":"IFERROR(INDEX($Q117:$AV117,SMALL(IF(($Q117:$AV117)<>\"\",COLUMN($A$1:$AF$1),\"\"),COLUMN(A$1))),\"\")","v":191987},{"$f":"IFERROR(INDEX($Q117:$AV117,SMALL(IF(($Q117:$AV117)<>\"\",COLUMN($A$1:$AF$1),\"\"),COLUMN(B$1))),\"\")","v":406632},{"$f":"IFERROR(INDEX($Q117:$AV117,SMALL(IF(($Q117:$AV117)<>\"\",COLUMN($A$1:$AF$1),\"\"),COLUMN(C$1))),\"\")","v":""},null,null,null,null,null,null,null,null,"",191987,"","","","","","","","","","","","","","","","","",406632,"","","","","","","","","","","",""]
[null,null,null,686355,{"$f":"+COUNTIF(Tabele!$A$1:$FC$500,D118)","v":2},{"$f":"IFERROR(INDEX($Q118:$AV118,SMALL(IF(($Q118:$AV118)<>\"\",COLUMN($A$1:$AF$1),\"\"),COLUMN(A$1))),\"\")","v":171072},{"$f":"IFERROR(INDEX($Q118:$AV118,SMALL(IF(($Q118:$AV118)<>\"\",COLUMN($A$1:$AF$1),\"\"),COLUMN(B$1))),\"\")","v":394149},{"$f":"IFERROR(INDEX($Q118:$AV118,SMALL(IF(($Q118:$AV118)<>\"\",COLUMN($A$1:$AF$1),\"\"),COLUMN(C$1))),\"\")","v":""},null,null,null,null,null,null,null,null,171072,"","","","","","","","","","","","","","","","",394149,"","","","","","","","","","","","","",""]
[null,null,null,686354,{"$f":"+COUNTIF(Tabele!$A$1:$FC$500,D119)","v":2},{"$f":"IFERROR(INDEX($Q119:$AV119,SMALL(IF(($Q119:$AV119)<>\"\",COLUMN($A$1:$AF$1),\"\"),COLUMN(A$1))),\"\")","v":171072},{"$f":"IFERROR(INDEX($Q119:$AV119,SMALL(IF(($Q119:$AV119)<>\"\",COLUMN($A$1:$AF$1),\"\"),COLUMN(B$1))),\"\")","v":394149},{"$f":"IFERROR(INDEX($Q119:$AV119,SMALL(IF(($Q119:$AV119)<>\"\",COLUMN($A$1:$AF$1),\"\"),COLUMN(C$1))),\"\")","v":""},null,null,null,null,null,null,null,null,171072,"","","","","","","","","","","","","","","","",394149,"","","","","","","","","","","","","",""]
[null,null,null,686353,{"$f":"+COUNTIF(Tabele!$A$1:$FC$500,D120)","v":2},{"$f":"IFERROR(INDEX($Q120:$AV120,SMALL(IF(($Q120:$AV120)<>\"\",COLUMN($A$1:$AF$1),\"\"),COLUMN(A$1))),\"\")","v":171072},{"$f":"IFERROR(INDEX($Q120:$AV120,SMALL(IF(($Q120:$AV120)<>\"\",COLUMN($A$1:$AF$1),\"\"),COLUMN(B$1))),\"\")","v":394149},{"$f":"IFERROR(INDEX($Q120:$AV120,SMALL(IF(($Q120:$AV120)<>\"\",COLUMN($A$1:$AF$1),\"\"),COLUMN(C$1))),\"\")","v":""},null,null,null,null,null,null,null,null,171072,"","","","","","","","","","","","","","","","",394149,"","","","","","","","","","","","","",""]
[null,null,null,686352,{"$f":"+COUNTIF(Tabele!$A$1:$FC$500,D121)","v":2},{"$f":"IFERROR(INDEX($Q121:$AV121,SMALL(IF(($Q121:$AV121)<>\"\",COLUMN($A$1:$AF$1),\"\"),COLUMN(A$1))),\"\")","v":171072},{"$f":"IFERROR(INDEX($Q121:$AV121,SMALL(IF(($Q121:$AV121)<>\"\",COLUMN($A$1:$AF$1),\"\"),COLUMN(B$1))),\"\")","v":394149},{"$f":"IFERROR(INDEX($Q121:$AV121,SMALL(IF(($Q121:$AV121)<>\"\",COLUMN($A$1:$AF$1),\"\"),COLUMN(C$1))),\"\")","v":""},null,null,null,null,null,null,null,null,171072,"","","","","","","","","","","","","","","","",394149,"","","","","","","","","","","","","",""]
[null,null,null,686351,{"$f":"+COUNTIF(Tabele!$A$1:$FC$500,D122)","v":2},{"$f":"IFERROR(INDEX($Q122:$AV122,SMALL(IF(($Q122:$AV122)<>\"\",COLUMN($A$1:$AF$1),\"\"),COLUMN(A$1))),\"\")","v":171072},{"$f":"IFERROR(INDEX($Q122:$AV122,SMALL(IF(($Q122:$AV122)<>\"\",COLUMN($A$1:$AF$1),\"\"),COLUMN(B$1))),\"\")","v":394149},{"$f":"IFERROR(INDEX($Q122:$AV122,SMALL(IF(($Q122:$AV122)<>\"\",COLUMN($A$1:$AF$1),\"\"),COLUMN(C$1))),\"\")","v":""},null,null,null,null,null,null,null,null,171072,"","","","","","","","","","","","","","","","",394149,"","","","","","","","","","","","","",""]
[null,null,null,686350,{"$f":"+COUNTIF(Tabele!$A$1:$FC$500,D123)","v":2},{"$f":"IFERROR(INDEX($Q123:$AV123,SMALL(IF(($Q123:$AV123)<>\"\",COLUMN($A$1:$AF$1),\"\"),COLUMN(A$1))),\"\")","v":171072},{"$f":"IFERROR(INDEX($Q123:$AV123,SMALL(IF(($Q123:$AV123)<>\"\",COLUMN($A$1:$AF$1),\"\"),COLUMN(B$1))),\"\")","v":394149},{"$f":"IFERROR(INDEX($Q123:$AV123,SMALL(IF(($Q123:$AV123)<>\"\",COLUMN($A$1:$AF$1),\"\"),COLUMN(C$1))),\"\")","v":""},null,null,null,null,null,null,null,null,171072,"","","","","","","","","","","","","","","","",394149,"","","","","","","","","","","","","",""]
[null,null,null,686349,{"$f":"+COUNTIF(Tabele!$A$1:$FC$500,D124)","v":2},{"$f":"IFERROR(INDEX($Q124:$AV124,SMALL(IF(($Q124:$AV124)<>\"\",COLUMN($A$1:$AF$1),\"\"),COLUMN(A$1))),\"\")","v":171072},{"$f":"IFERROR(INDEX($Q124:$AV124,SMALL(IF(($Q124:$AV124)<>\"\",COLUMN($A$1:$AF$1),\"\"),COLUMN(B$1))),\"\")","v":394149},{"$f":"IFERROR(INDEX($Q124:$AV124,SMALL(IF(($Q124:$AV124)<>\"\",COLUMN($A$1:$AF$1),\"\"),COLUMN(C$1))),\"\")","v":""},null,null,null,null,null,null,null,null,171072,"","","","","","","","","","","","","","","","",394149,"","","","","","","","","","","","","",""]
[null,null,null,686765,{"$f":"+COUNTIF(Tabele!$A$1:$FC$500,D125)","v":2},{"$f":"IFERROR(INDEX($Q125:$AV125,SMALL(IF(($Q125:$AV125)<>\"\",COLUMN($A$1:$AF$1),\"\"),COLUMN(A$1))),\"\")","v":171072},{"$f":"IFERROR(INDEX($Q125:$AV125,SMALL(IF(($Q125:$AV125)<>\"\",COLUMN($A$1:$AF$1),\"\"),COLUMN(B$1))),\"\")","v":328056},{"$f":"IFERROR(INDEX($Q125:$AV125,SMALL(IF(($Q125:$AV125)<>\"\",COLUMN($A$1:$AF$1),\"\"),COLUMN(C$1))),\"\")","v":""},null,null,null,null,null,null,null,null,171072,"",328056,"","","","","","","","","","","","",{"$f":"_xlfn.IFNA(VLOOKUP($D125,INDIRECT(AF$1),4,FALSE),\"\")","v":""},"","","","","","","","","","","","","","","",""]
[null,null,null,710630,{"$f":"+COUNTIF(Tabele!$A$1:$FC$500,D126)","v":2},{"$f":"IFERROR(INDEX($Q126:$AV126,SMALL(IF(($Q126:$AV126)<>\"\",COLUMN($A$1:$AF$1),\"\"),COLUMN(A$1))),\"\")","v":171072},{"$f":"IFERROR(INDEX($Q126:$AV126,SMALL(IF(($Q126:$AV126)<>\"\",COLUMN($A$1:$AF$1),\"\"),COLUMN(B$1))),\"\")","v":513333},{"$f":"IFERROR(INDEX($Q126:$AV126,SMALL(IF(($Q126:$AV126)<>\"\",COLUMN($A$1:$AF$1),\"\"),COLUMN(C$1))),\"\")","v":""},null,null,null,null,null,null,null,null,{"$f":"_xlfn.IFNA(VLOOKUP($D126,INDIRECT(Q$1),4,FALSE),\"\")","v":171072},"","","","","","","","","","","","","","","","","","","","","","","","","","",513333,"","",{"$f":"_xlfn.IFNA(VLOOKUP($D126,INDIRECT(AU$1),4,FALSE),\"\")","v":""},""]
[null,null,null,710737,{"$f":"+COUNTIF(Tabele!$A$1:$FC$500,D127)","v":2},{"$f":"IFERROR(INDEX($Q127:$AV127,SMALL(IF(($Q127:$AV127)<>\"\",COLUMN($A$1:$AF$1),\"\"),COLUMN(A$1))),\"\")","v":171072},{"$f":"IFERROR(INDEX($Q127:$AV127,SMALL(IF(($Q127:$AV127)<>\"\",COLUMN($A$1:$AF$1),\"\"),COLUMN(B$1))),\"\")","v":513333},{"$f":"IFERROR(INDEX($Q127:$AV127,SMALL(IF(($Q127:$AV127)<>\"\",COLUMN($A$1:$AF$1),\"\"),COLUMN(C$1))),\"\")","v":""},null,null,null,null,null,null,null,null,171072,"","","","","","","","","","","","","","","","","","","","","","","","","","",513333,"","","",""]
[null,null,null,710758,{"$f":"+COUNTIF(Tabele!$A$1:$FC$500,D128)","v":2},{"$f":"IFERROR(INDEX($Q128:$AV128,SMALL(IF(($Q128:$AV128)<>\"\",COLUMN($A$1:$AF$1),\"\"),COLUMN(A$1))),\"\")","v":171072},{"$f":"IFERROR(INDEX($Q128:$AV128,SMALL(IF(($Q128:$AV128)<>\"\",COLUMN($A$1:$AF$1),\"\"),COLUMN(B$1))),\"\")","v":513333},{"$f":"IFERROR(INDEX($Q128:$AV128,SMALL(IF(($Q128:$AV128)<>\"\",COLUMN($A$1:$AF$1),\"\"),COLUMN(C$1))),\"\")","v":""},null,null,null,null,null,null,null,null,171072,"","","","","","","","","","","","","","","","","","","","","","","","","","",513333,"","","",""]
[null,null,null,686752,{"$f":"+COUNTIF(Tabele!$A$1:$FC$500,D129)","v":3},{"$f":"IFERROR(INDEX($Q129:$AV129,SMALL(IF(($Q129:$AV129)<>\"\",COLUMN($A$1:$AF$1),\"\"),COLUMN(A$1))),\"\")","v":171072},{"$f":"IFERROR(INDEX($Q129:$AV129,SMALL(IF(($Q129:$AV129)<>\"\",COLUMN($A$1:$AF$1),\"\"),COLUMN(B$1))),\"\")","v":171078},{"$f":"IFERROR(INDEX($Q129:$AV129,SMALL(IF(($Q129:$AV129)<>\"\",COLUMN($A$1:$AF$1),\"\"),COLUMN(C$1))),\"\")","v":171079},null,null,null,null,null,null,null,null,171072,"","","","","","","","","","",171078,171079,"","","","","","","","","","","","","","","","","","",""]
[null,null,null,686758,{"$f":"+COUNTIF(Tabele!$A$1:$FC$500,D130)","v":2},{"$f":"IFERROR(INDEX($Q130:$AV130,SMALL(IF(($Q130:$AV130)<>\"\",COLUMN($A$1:$AF$1),\"\"),COLUMN(A$1))),\"\")","v":171072},{"$f":"IFERROR(INDEX($Q130:$AV130,SMALL(IF(($Q130:$AV130)<>\"\",COLUMN($A$1:$AF$1),\"\"),COLUMN(B$1))),\"\")","v":171574},{"$f":"IFERROR(INDEX($Q130:$AV130,SMALL(IF(($Q130:$AV130)<>\"\",COLUMN($A$1:$AF$1),\"\"),COLUMN(C$1))),\"\")","v":""},null,null,null,null,null,null,null,null,171072,"","","",171574,"","","","","","","","","","","","","","","","","","","","","","","","","","",""]
[null,null,null,686761,{"$f":"+COUNTIF(Tabele!$A$1:$FC$500,D131)","v":2},{"$f":"IFERROR(INDEX($Q131:$AV131,SMALL(IF(($Q131:$AV131)<>\"\",COLUMN($A$1:$AF$1),\"\"),COLUMN(A$1))),\"\")","v":171072},{"$f":"IFERROR(INDEX($Q131:$AV131,SMALL(IF(($Q131:$AV131)<>\"\",COLUMN($A$1:$AF$1),\"\"),COLUMN(B$1))),\"\")","v":171185},{"$f":"IFERROR(INDEX($Q131:$AV131,SMALL(IF(($Q131:$AV131)<>\"\",COLUMN($A$1:$AF$1),\"\"),COLUMN(C$1))),\"\")","v":""},null,null,null,null,null,null,null,null,171072,"","","","","","","","","",171185,"","","","","","","","","","","","","","","","","","","","",""]
[null,null,null,686766,{"$f":"+COUNTIF(Tabele!$A$1:$FC$500,D132)","v":2},{"$f":"IFERROR(INDEX($Q132:$AV132,SMALL(IF(($Q132:$AV132)<>\"\",COLUMN($A$1:$AF$1),\"\"),COLUMN(A$1))),\"\")","v":171072},{"$f":"IFERROR(INDEX($Q132:$AV132,SMALL(IF(($Q132:$AV132)<>\"\",COLUMN($A$1:$AF$1),\"\"),COLUMN(B$1))),\"\")","v":328056},{"$f":"IFERROR(INDEX($Q132:$AV132,SMALL(IF(($Q132:$AV132)<>\"\",COLUMN($A$1:$AF$1),\"\"),COLUMN(C$1))),\"\")","v":""},null,null,null,null,null,null,null,null,171072,"",328056,"","","","","","","","","","","","","","","","","","","","","","","","","","","","",""]
[null,null,null,686768,{"$f":"+COUNTIF(Tabele!$A$1:$FC$500,D133)","v":2},{"$f":"IFERROR(INDEX($Q133:$AV133,SMALL(IF(($Q133:$AV133)<>\"\",COLUMN($A$1:$AF$1),\"\"),COLUMN(A$1))),\"\")","v":171072},{"$f":"IFERROR(INDEX($Q133:$AV133,SMALL(IF(($Q133:$AV133)<>\"\",COLUMN($A$1:$AF$1),\"\"),COLUMN(B$1))),\"\")","v":394146},{"$f":"IFERROR(INDEX($Q133:$AV133,SMALL(IF(($Q133:$AV133)<>\"\",COLUMN($A$1:$AF$1),\"\"),COLUMN(C$1))),\"\")","v":""},null,null,null,null,null,null,null,null,171072,"","","","","","","","","","","","","","","",394146,"","","","","","","","","","","","","","",""]
[null,null,null,686769,{"$f":"+COUNTIF(Tabele!$A$1:$FC$500,D134)","v":2},{"$f":"IFERROR(INDEX($Q134:$AV134,SMALL(IF(($Q134:$AV134)<>\"\",COLUMN($A$1:$AF$1),\"\"),COLUMN(A$1))),\"\")","v":171072},{"$f":"IFERROR(INDEX($Q134:$AV134,SMALL(IF(($Q134:$AV134)<>\"\",COLUMN($A$1:$AF$1),\"\"),COLUMN(B$1))),\"\")","v":394149},{"$f":"IFERROR(INDEX($Q134:$AV134,SMALL(IF(($Q134:$AV134)<>\"\",COLUMN($A$1:$AF$1),\"\"),COLUMN(C$1))),\"\")","v":""},null,null,null,null,null,null,null,null,171072,"","","","","","","","","","","","","","","","",394149,"","","","","","","","","","","","","",""]

{"sheet":"Resenje2","index":3,"n_rows":134,"n_cols":48,"rows_kept":134,"cut":false,"hidden":false,"merged":[]}
[null,null,null,"Kodovi","Br ponavljanja","Profil 1","Profil 2","Profil 3",null,null,null,null,null,null,null,null,"Tab_1","Tab_2","Tab_3","Tab_4","Tab_5","Tab_6","Tab_7","Tab_8","Tab_9","Tab_10","Tab_11","Tab_12","Tab_13","Tab_14","Tab_15","Tab_16","Tab_17","Tab_18","Tab_19","Tab_20","Tab_21","Tab_22","Tab_23","Tab_24","Tab_25","Tab_26","Tab_27","Tab_28","Tab_29","Tab_30","Tab_31","Tab_32"]
[null,null,null,686313,{"$f":"+COUNTIF(Tabele!$A$1:$FC$500,D2)","v":2},{"$f":"NonBlankFromRange($Q2:$AV2,RIGHT(F$1,1))","v":"171072"},{"$f":"NonBlankFromRange($Q2:$AV2,RIGHT(G$1,1))","v":"513333"},"",null,null,null,null,null,null,null,null,{"$f":"_xlfn.IFNA(VLOOKUP($D2,INDIRECT(Q$1),4,FALSE),\"\")","v":171072},{"$f":"_xlfn.IFNA(VLOOKUP($D2,INDIRECT(R$1),4,FALSE),\"\")","v":""},"","","","","","","","","","","","","","","","","","","","","","","","","",513333,"","","",""]
[null,null,null,686314,{"$f":"+COUNTIF(Tabele!$A$1:$FC$500,D3)","v":2},{"$f":"NonBlankFromRange($Q3:$AV3,RIGHT(F$1,1))","v":"171072"},"513333","",null,null,null,null,null,null,null,null,{"$f":"_xlfn.IFNA(VLOOKUP($D3,INDIRECT(Q$1),4,FALSE),\"\")","v":171072},"","","","","","","","","","","","","","","","","","","","","","","","","","",513333,"","","",""]
[null,null,null,686315,{"$f":"+COUNTIF(Tabele!$A$1:$FC$500,D4)","v":2},"171072","513333","",null,null,null,null,null,null,null,null,171072,"","","","","","","","","","","","","","","","","","","","","","","","","","",513333,"","","",""]
[null,null,null,686316,{"$f":"+COUNTIF(Tabele!$A$1:$FC$500,D5)","v":2},"171072","513333","",null,null,null,null,null,null,null,null,171072,"","","","","","","","","","","","","","","","","","","","","","","","","","",513333,"","","",""]
[null,null,null,686317,{"$f":"+COUNTIF(Tabele!$A$1:$FC$500,D6)","v":2},"191987","518185","",null,null,null,null,null,null,null,null,"",191987,"","","","","","","","","","","","","","","","","","","","","","","","","","","","","",518185]
[null,null,null,686318,{"$f":"+COUNTIF(Tabele!$A$1:$FC$500,D7)","v":2},"171072","513333","",null,null,null,null,null,null,null,null,171072,"","","","","","","","","","","","","","","","","","","","","","","","","","",513333,"","","",""]
[null,null,null,686319,{"$f":"+COUNTIF(Tabele!$A$1:$FC$500,D8)","v":2},"191987","518185","",null,null,null,null,null,null,null,null,"",191987,"","","","","","","","","","","","","","","","","","","","","","","","","","","","","",518185]
[null,null,null,686320,{"$f":"+COUNTIF(Tabele!$A$1:$FC$500,D9)","v":2},"171072","513333","",null,null,null,null,null,null,null,null,171072,"","","","","","","","","","","","","","","","","","","","","","","","","","",513333,"","","",""]
[null,null,null,686321,{"$f":"+COUNTIF(Tabele!$A$1:$FC$500,D10)","v":2},"171072","513333","",null,null,null,null,null,null,null,null,171072,"","","","","","","","","","","","","","","","","","","","","","",{"$f":"_xlfn.IFNA(VLOOKUP($D10,INDIRECT(AN$1),4,FALSE),\"\")","v":""},"","","",513333,"","","",""]
[null,null,null,686322,{"$f":"+COUNTIF(Tabele!$A$1:$FC$500,D11)","v":2},"171072","513333","",null,null,null,null,null,null,null,null,171072,"","","","","","","","","","","","","","","","","","","","","","","","","","",513333,"","","",""]
[null,null,null,686323,{"$f":"+COUNTIF(Tabele!$A$1:$FC$500,D12)","v":2},"171072","513333","",null,null,null,null,null,null,null,null,171072,"","","","","","","","","","","","","","","","","","","","","","","","","","",513333,"","","",""]
[null,null,null,686324,{"$f":"+COUNTIF(Tabele!$A$1:$FC$500,D13)","v":2},"191987","518185","",null,null,null,null,null,null,null,null,"",191987,"","","","","","","","","","","","","","","","","","","","","","","","","","","","","",518185]
[null,null,null,686325,{"$f":"+COUNTIF(Tabele!$A$1:$FC$500,D14)","v":2},"171072","513333","",null,null,null,null,null,null,null,null,171072,"","","","","","","","","","","","","","","","","","","","","","","","","","",513333,"","","",""]
[null,null,null,686326,{"$f":"+COUNTIF(Tabele!$A$1:$FC$500,D15)","v":2},"171072","513333","",null,null,null,null,null,null,null,null,171072,"","","","","","","","","","","","","","","","","","","","","","","","","","",513333,"","","",""]
[null,null,null,686327,{"$f":"+COUNTIF(Tabele!$A$1:$FC$500,D16)","v":2},"171072","513333","",null,null,null,null,null,null,null,null,171072,"","","","","","","","","","","","","","","","","","","","","","","","","","",513333,"","","",""]
[null,null,null,686276,{"$f":"+COUNTIF(Tabele!$A$1:$FC$500,D17)","v":3},"515737","515739","515740",null,null,null,null,null,null,null,null,"","","","","","","","","","","","","","","","","","","","",515737,515739,515740,"","","","","","","","",""]
[null,null,null,686277,{"$f":"+COUNTIF(Tabele!$A$1:$FC$500,D18)","v":3},"515737","515739","515740",null,null,null,null,null,null,null,null,"","","","","","","","","","","","","","","","","","","","",515737,515739,515740,"","","","","","","",{"$f":"_xlfn.IFNA(VLOOKUP($D18,INDIRECT(AU$1),4,FALSE),\"\")","v":""},""]
[null,null,null,686278,{"$f":"+COUNTIF(Tabele!$A$1:$FC$500,D19)","v":3},"515737","515739","515740",null,null,null,null,null,null,null,null,"","","","","","","","","","","","","","","","","","","","",515737,515739,515740,"","","","","","","","",""]
[null,null,null,686279,{"$f":"+COUNTIF(Tabele!$A$1:$FC$500,D20)","v":3},"516936","516937","516938",null,null,null,null,null,null,null,null,"","","","","","","","","","","","","","","","","","","","","","","",516936,516937,516938,"","","","","",""]
[null,null,null,686280,{"$f":"+COUNTIF(Tabele!$A$1:$FC$500,D21)","v":3},"515737","515739","515740",null,null,null,null,null,null,null,null,"","","","","","","","","","","","","","","","","","","","",515737,515739,515740,"","","","","","","","",""]
[null,null,null,686281,{"$f":"+COUNTIF(Tabele!$A$1:$FC$500,D22)","v":3},"516936","516937","516938",null,null,null,null,null,null,null,null,"","","","","","","","","","","","","","","","","","","","","","","",516936,516937,516938,"","","","","",""]
[null,null,null,686292,{"$f":"+COUNTIF(Tabele!$A$1:$FC$500,D23)","v":3},"515737","515739","515740",null,null,null,null,null,null,null,null,"","","","","","","","","","","","","","","","","","","","",515737,515739,515740,"","","","","","","","",""]
[null,null,null,686293,{"$f":"+COUNTIF(Tabele!$A$1:$FC$500,D24)","v":3},"515737","515739","515740",null,null,null,null,null,null,null,null,"","","","","","","","","","","","","","","","","","","","",515737,515739,515740,"","","","","","","","",""]
[null,null,null,686294,{"$f":"+COUNTIF(Tabele!$A$1:$FC$500,D25)","v":3},"515737","515739","515740",null,null,null,null,null,null,null,null,"","","","","","","","","","","","","","","","","","","","",515737,515739,515740,"","","","","","","","",""]
[null,null,null,686296,{"$f":"+COUNTIF(Tabele!$A$1:$FC$500,D26)","v":3},"516936","516937","516938",null,null,null,null,null,null,null,null,"","","","","","","","","","","","","","","","","","","","","","","",516936,516937,516938,"","","","","",""]
[null,null,null,686297,{"$f":"+COUNTIF(Tabele!$A$1:$FC$500,D27)","v":3},"515737","515739","515740",null,null,null,null,null,null,null,null,"","","","","","",{"$f":"_xlfn.IFNA(VLOOKUP($D27,INDIRECT(W$1),4,FALSE),\"\")","v":""},"","","","","","","","","","","","","",515737,515739,515740,"","","","","","","","",""]
[null,null,null,686770,{"$f":"+COUNTIF(Tabele!$A$1:$FC$500,D28)","v":3},"515737","515739","515740",null,null,null,null,null,null,null,null,"","","","","","","","","","","","","","","","","","","","",515737,515739,515740,"","","","","","","","",""]
[null,null,null,688447,{"$f":"+COUNTIF(Tabele!$A$1:$FC$500,D29)","v":3},{"$f":"NonBlankFromRange($Q29:$AV29,RIGHT(F$1,1))","v":"515737"},"515739","515740",null,null,null,null,null,null,null,null,"","","","","","","","","","","","","","","","","","","","",515737,515739,515740,"","","","","","","","",""]
[null,null,null,688451,{"$f":"+COUNTIF(Tabele!$A$1:$FC$500,D30)","v":3},"515737","515739","515740",null,null,null,null,null,null,null,null,"","","","","","","","","","","","","","","","","","","","",515737,515739,515740,"","","","","","","","",""]
[null,null,null,711185,{"$f":"+COUNTIF(Tabele!$A$1:$FC$500,D31)","v":3},"515737","515739","515740",null,null,null,null,null,null,null,null,"","","","","","","","","","","","","","","","","","","","",515737,515739,515740,"","","","","","","","",""]
[null,null,null,711209,{"$f":"+COUNTIF(Tabele!$A$1:$FC$500,D32)","v":3},"515737","515739","515740",null,null,null,null,null,null,null,null,"","","","","","","","","","","","","","","","","","","","",515737,515739,515740,"","","","","","","","",""]
[null,null,null,711271,{"$f":"+COUNTIF(Tabele!$A$1:$FC$500,D33)","v":3},"515737","515739","515740",null,null,null,null,null,null,null,null,"","","","","","","","","","","","","","","","","","","","",515737,515739,515740,"","","","","","","","",""]
[null,null,null,686387,{"$f":"+COUNTIF(Tabele!$A$1:$FC$500,D34)","v":3},"191987","192153","192154",null,null,null,null,null,null,null,null,"",191987,"","","","","","","","","","","","",192153,192154,"","","","","","","","","","","","","","","",""]
[null,null,null,686386,{"$f":"+COUNTIF(Tabele!$A$1:$FC$500,D35)","v":3},"171072","171078","171079",null,null,null,null,null,null,null,null,171072,"","","","","","","","","","",171078,171079,{"$f":"_xlfn.IFNA(VLOOKUP($D35,INDIRECT(AD$1),4,FALSE),\"\")","v":""},"","","","","","","","","","","","","","","","","",""]
[null,null,null,686385,{"$f":"+COUNTIF(Tabele!$A$1:$FC$500,D36)","v":3},"171072","171078","171079",null,null,null,null,null,null,null,null,171072,"","","","","","","","","","",171078,171079,"","","","","","","","","","","","","","","","","","",""]
[null,null,null,686384,{"$f":"+COUNTIF(Tabele!$A$1:$FC$500,D37)","v":3},"191987","192153","192154",null,null,null,null,null,null,null,null,"",191987,"","","","","","","","","","","","",192153,192154,"","","","","","","","","","","","","","","",""]
[null,null,null,686383,{"$f":"+COUNTIF(Tabele!$A$1:$FC$500,D38)","v":3},"171072","171078","171079",null,null,null,null,null,null,null,null,171072,"","","","","","","","","","",171078,171079,"","","","","","","","","","","","","","","","","","",""]
[null,null,null,686382,{"$f":"+COUNTIF(Tabele!$A$1:$FC$500,D39)","v":3},"171072","171078","171079",null,null,null,null,null,null,null,null,171072,"","","","","","","","","","",171078,171079,"","","","","","","","","","","","","","","","","","",""]
[null,null,null,686381,{"$f":"+COUNTIF(Tabele!$A$1:$FC$500,D40)","v":3},"171072","171078","171079",null,null,null,null,null,null,null,null,171072,"","","","","","","","","","",171078,171079,"","","","","","","","","","","","","","","","","","",""]
[null,null,null,686366,{"$f":"+COUNTIF(Tabele!$A$1:$FC$500,D41)","v":3},"191987","196843","196844",null,null,null,null,null,null,null,null,"",191987,"","","","","","",196843,196844,"","","","","","","","","","","","","","","","","","","","","",""]
[null,null,null,686365,{"$f":"+COUNTIF(Tabele!$A$1:$FC$500,D42)","v":3},"171072","171578","171579",null,null,null,null,null,null,null,null,171072,"","","","",171578,171579,"","","","","","","","","","","","","","","","","","","","","","","","",""]
[null,null,null,686364,{"$f":"+COUNTIF(Tabele!$A$1:$FC$500,D43)","v":3},"171072","171578","171579",null,null,null,null,null,null,null,null,171072,"","","","",171578,171579,"","","","","","","","","","","","","",{"$f":"_xlfn.IFNA(VLOOKUP($D43,INDIRECT(AK$1),4,FALSE),\"\")","v":""},"","","","","","","","","","",""]
[null,null,null,686363,{"$f":"+COUNTIF(Tabele!$A$1:$FC$500,D44)","v":3},"191987","196843","196844",null,null,null,null,null,null,null,null,"",191987,"","","","","","",196843,196844,"","","","","","","","","","","","","","","","","","","","","",""]
[null,null,null,686362,{"$f":"+COUNTIF(Tabele!$A$1:$FC$500,D45)","v":3},"171072","171578","171579",null,null,null,null,null,null,null,null,171072,"","","","",171578,171579,"","","","","","","","","","","","","","","","","","","","","","","","",""]
[null,null,null,686361,{"$f":"+COUNTIF(Tabele!$A$1:$FC$500,D46)","v":3},"171072","171578","171579",null,null,null,null,null,null,null,null,171072,"","","","",171578,171579,"","","","","","","","","","","","","","","","","","","","","","","","",""]
[null,null,null,686360,{"$f":"+COUNTIF(Tabele!$A$1:$FC$500,D47)","v":3},"171072","171578","171579",null,null,null,null,null,null,null,null,171072,"","","","",171578,171579,"","","","","","","","","","","","","","","","","","","","","","","","",""]
[null,null,null,686750,{"$f":"+COUNTIF(Tabele!$A$1:$FC$500,D48)","v":3},"171072","171578","171579",null,null,null,null,null,null,null,null,171072,"","","","",171578,171579,"","","","","","","","","","","","","","","","","","","","","","","","",""]
[null,null,null,686754,{"$f":"+COUNTIF(Tabele!$A$1:$FC$500,D49)","v":3},"171072","171078","171079",null,null,null,null,null,null,null,null,171072,"","","","","","","","","","",171078,171079,"","","","","","","","","","","","","","","","","","",""]
[null,null,null,686298,{"$f":"+COUNTIF(Tabele!$A$1:$FC$500,D50)","v":3},"171072","513331","513693",null,null,null,null,null,null,null,null,171072,"","","","","","","","","","","","","","","","","","","","","","","","","",513331,"",513693,"","",""]
[null,null,null,686299,{"$f":"+COUNTIF(Tabele!$A$1:$FC$500,D51)","v":3},"171072","513331","513693",null,null,null,null,null,null,null,null,171072,"","","","","","","","","","","","","","","","","","","","","","","","","",513331,{"$f":"_xlfn.IFNA(VLOOKUP($D51,INDIRECT(AR$1),4,FALSE),\"\")","v":""},513693,"","",""]
[null,null,null,686274,{"$f":"+COUNTIF(Tabele!$A$1:$FC$500,D52)","v":3},"515737","515739","515740",null,null,null,null,null,null,null,null,"","","","","","","","","","","","","","","","","","","","",515737,515739,515740,"","","","","","","","",""]
[null,null,null,686300,{"$f":"+COUNTIF(Tabele!$A$1:$FC$500,D53)","v":3},"171072","513331","513693",null,null,null,null,null,null,null,null,171072,"","","","","","","","","","","","","","","","","","","","","","","","","",513331,"",513693,"","",""]
[null,null,null,686301,{"$f":"+COUNTIF(Tabele!$A$1:$FC$500,D54)","v":3},"171072","513331","513693",null,null,null,null,null,null,null,null,171072,"","","","","","","","","","","","","","","","","","","","","","","","","",513331,"",513693,"","",""]
[null,null,null,686302,{"$f":"+COUNTIF(Tabele!$A$1:$FC$500,D55)","v":3},"191987","518164","518167",null,null,null,null,null,null,null,null,"",191987,"","","","","","","","","","","","","","","","","","","","","","","","","","","",518164,518167,""]
[null,null,null,686303,{"$f":"+COUNTIF(Tabele!$A$1:$FC$500,D56)","v":3},"171072","513331","513693",null,null,null,null,null,null,null,null,171072,"","","","","","","","","","","","","","","","","","","","","","","","","",513331,"",513693,"","",""]
[null,null,null,686304,{"$f":"+COUNTIF(Tabele!$A$1:$FC$500,D57)","v":3},"191987","518164","518167",null,null,null,null,null,null,null,null,"",191987,"","","","","","","","","","","","","","","","","","","","","","","","","","","",518164,518167,""]
[null,null,null,686305,{"$f":"+COUNTIF(Tabele!$A$1:$FC$500,D58)","v":3},"171072","513331","513693",null,null,null,null,null,null,null,null,171072,"","","","","","","","","","","","","","","","","","","","","","","","","",513331,"",513693,"","",""]
[null,null,null,686306,{"$f":"+COUNTIF(Tabele!$A$1:$FC$500,D59)","v":3},"171072","513331","513693",null,null,null,null,null,null,null,null,171072,"","","","","","","","","","","","","","","","","","","","","","","","","",513331,"",513693,"","",""]
[null,null,null,686307,{"$f":"+COUNTIF(Tabele!$A$1:$FC$500,D60)","v":3},"171072","513331","513693",null,null,null,null,null,null,null,null,171072,"","",{"$f":"_xlfn.IFNA(VLOOKUP($D60,INDIRECT(T$1),4,FALSE),\"\")","v":""},"","","","","","","","","","","","","","","","","","","","","","",513331,"",513693,"","",""]
[null,null,null,686308,{"$f":"+COUNTIF(Tabele!$A$1:$FC$500,D61)","v":3},"171072","513331","513693",null,null,null,null,null,null,null,null,171072,"","","","","","","","","","","","","","","","","","","","","","","","","",513331,"",513693,"","",""]
[null,null,null,686309,{"$f":"+COUNTIF(Tabele!$A$1:$FC$500,D62)","v":3},"191987","518164","518167",null,null,null,null,null,null,null,null,"",191987,"","","","","","","","","","","","","","","","","","","","","","","","","","","",518164,518167,""]
[null,null,null,686310,{"$f":"+COUNTIF(Tabele!$A$1:$FC$500,D63)","v":3},"171072","513331","513693",null,null,null,null,null,null,null,null,171072,"","","","","","","","","","","","","","","","","","","","","","","","","",513331,"",513693,"","",""]
[null,null,null,686311,{"$f":"+COUNTIF(Tabele!$A$1:$FC$500,D64)","v":3},"171072","513331","513693",null,null,null,null,null,null,null,null,171072,"","","","","","","","","","","","","","","","","","","","","","","","","",513331,"",513693,"","",""]
[null,null,null,686312,{"$f":"+COUNTIF(Tabele!$A$1:$FC$500,D65)","v":3},"171072","513331","513693",null,null,null,null,null,null,null,null,171072,"","","","","","","","","","","","","","","","","","","","","","","","","",513331,"",513693,"","",""]
[null,null,null,710625,{"$f":"+COUNTIF(Tabele!$A$1:$FC$500,D66)","v":3},"171072","513331","513693",null,null,null,null,null,null,null,null,171072,"","","","","","","","","","","","","","","","","","","","","","","","","",513331,"",513693,"","",""]
[null,null,null,710733,{"$f":"+COUNTIF(Tabele!$A$1:$FC$500,D67)","v":3},"171072","513331","513693",null,null,null,null,null,null,null,null,{"$f":"_xlfn.IFNA(VLOOKUP($D67,INDIRECT(Q$1),4,FALSE),\"\")","v":171072},"","","","","","","","","","","","","","","","","","","","","","","","","",513331,"",513693,"","",""]
[null,null,null,710754,{"$f":"+COUNTIF(Tabele!$A$1:$FC$500,D68)","v":3},"171072","513331","513693",null,null,null,null,null,null,null,null,171072,"","","","","","","","","","","","","","","","","","","","","","","","",{"$f":"_xlfn.IFNA(VLOOKUP($D68,INDIRECT(AP$1),4,FALSE),\"\")","v":""},513331,"",513693,"","",""]
[null,null,null,686374,{"$f":"+COUNTIF(Tabele!$A$1:$FC$500,D69)","v":2},"171072","171185","",null,null,null,null,null,null,null,null,171072,"","","","","","","","","",171185,"","","","","","","","","","","","","","","","","","","","",""]
[null,null,null,686375,{"$f":"+COUNTIF(Tabele!$A$1:$FC$500,D70)","v":2},"171072","171185","",null,null,null,null,null,null,null,null,171072,"","","","","","","","","",171185,"","","","","","","","","","","","","","","","","","","","",""]
[null,null,null,686376,{"$f":"+COUNTIF(Tabele!$A$1:$FC$500,D71)","v":2},"171072","171185","",null,null,null,null,null,null,null,null,171072,"","","","","","","","","",171185,"","","","","","","","","","","","","","","","","","","","",""]
[null,null,null,686377,{"$f":"+COUNTIF(Tabele!$A$1:$FC$500,D72)","v":2},"191987","192021","",null,null,null,null,null,null,null,null,"",191987,"","","","","","","","","","","",192021,"","","","","","","","","","","","","","","","","",""]
[null,null,null,686378,{"$f":"+COUNTIF(Tabele!$A$1:$FC$500,D73)","v":2},"171072","171185","",null,null,null,null,null,null,null,null,171072,"","","","","","","","","",171185,"","","","","","","","","","","","","","","","","","","","",""]
[null,null,null,686379,{"$f":"+COUNTIF(Tabele!$A$1:$FC$500,D74)","v":2},"171072","171185","",null,null,null,null,null,null,null,null,171072,"","","","","","","","","",171185,"","","","","","","","","","","","","","","","","","","","",""]
[null,null,null,686380,{"$f":"+COUNTIF(Tabele!$A$1:$FC$500,D75)","v":2},"191987","192021","",null,null,null,null,null,null,null,null,"",191987,"","","","","","","","","","","",192021,"","","","","","","","","","","","","","","","","",""]
[null,null,null,686367,{"$f":"+COUNTIF(Tabele!$A$1:$FC$500,D76)","v":2},"171072","171574","",null,null,null,null,null,null,null,null,171072,"","","",171574,"","","","","","","","","","","","","","","","","","","","","","","","","","",""]
[null,null,null,686368,{"$f":"+COUNTIF(Tabele!$A$1:$FC$500,D77)","v":2},"171072","171574","",null,null,null,null,null,null,null,null,171072,{"$f":"_xlfn.IFNA(VLOOKUP($D77,INDIRECT(R$1),4,FALSE),\"\")","v":""},"","",171574,"","","","","","","","","","","","","","","","","","","","","","","","","","",""]
[null,null,null,686369,{"$f":"+COUNTIF(Tabele!$A$1:$FC$500,D78)","v":2},"171072","171574","",null,null,null,null,null,null,null,null,171072,"","","",171574,"","","","","","","","","","","","","","","","","","","","","","","","","","",""]
[null,null,null,686370,{"$f":"+COUNTIF(Tabele!$A$1:$FC$500,D79)","v":2},"191987","196767","",null,null,null,null,null,null,null,null,"",191987,"","","","","",196767,"","","","","","","","","","","","","","","","","","","","","","","",""]
[null,null,null,686371,{"$f":"+COUNTIF(Tabele!$A$1:$FC$500,D80)","v":2},"171072","171574","",null,null,null,null,null,null,null,null,171072,"","","",171574,"","","","","","","","","","","","","","","","","","","","","","","","","","",""]
[null,null,null,686372,{"$f":"+COUNTIF(Tabele!$A$1:$FC$500,D81)","v":2},"171072","171574","",null,null,null,null,null,null,null,null,171072,"","","",171574,"","","","","","","","","","","","","","","","","","","","","","","","","","",""]
[null,null,null,686373,{"$f":"+COUNTIF(Tabele!$A$1:$FC$500,D82)","v":2},"191987","196767","",null,null,null,null,null,null,null,null,"",191987,"","","","","",196767,"","","","","","","","","","","","","","","","","","","","","","","",""]
[null,null,null,686399,{"$f":"+COUNTIF(Tabele!$A$1:$FC$500,D83)","v":2},"171072","328056","",null,null,null,null,null,null,null,null,171072,"",328056,"","","","","","","","","","","","","","","","","","","","","","","","","","","","",""]
[null,null,null,686398,{"$f":"+COUNTIF(Tabele!$A$1:$FC$500,D84)","v":2},"191987","328258","",null,null,null,null,null,null,null,null,"",191987,"",328258,"","","","","","","","","","","","","","","","","","","","","","","","","","","",""]
[null,null,null,686397,{"$f":"+COUNTIF(Tabele!$A$1:$FC$500,D85)","v":2},"171072","328056","",null,null,null,null,null,null,null,null,171072,"",328056,"","","","","",{"$f":"_xlfn.IFNA(VLOOKUP($D85,INDIRECT(Y$1),4,FALSE),\"\")","v":""},"","","","","","","","","","","","","","","","","","","","","","",""]
[null,null,null,686396,{"$f":"+COUNTIF(Tabele!$A$1:$FC$500,D86)","v":2},"171072","328056","",null,null,null,null,null,null,null,null,171072,"",328056,"","","","","","","","","","","","","","","","","","","","","","","","","","","","",""]
[null,null,null,686395,{"$f":"+COUNTIF(Tabele!$A$1:$FC$500,D87)","v":2},"191987","328258","",null,null,null,null,null,null,null,null,"",191987,"",328258,"","","","","","","","","","","","","","","","","","","","","","","","","","","",""]
[null,null,null,686394,{"$f":"+COUNTIF(Tabele!$A$1:$FC$500,D88)","v":2},"171072","328056","",null,null,null,null,null,null,null,null,171072,"",328056,"","","","","","","","","","","","","","","","","","","","","","","","","","","","",""]
[null,null,null,686393,{"$f":"+COUNTIF(Tabele!$A$1:$FC$500,D89)","v":2},"171072","328056","",null,null,null,null,null,null,null,null,171072,"",328056,"","","","","","","","","","","","","","","","","","","","","","","","","","","","",""]
[null,null,null,686392,{"$f":"+COUNTIF(Tabele!$A$1:$FC$500,D90)","v":2},"171072","328056","",null,null,null,null,null,null,null,null,171072,"",328056,"","","","","","","","","","","","","","","","","","","","","","","","","","","","",""]
[null,null,null,686391,{"$f":"+COUNTIF(Tabele!$A$1:$FC$500,D91)","v":2},"171072","328056","",null,null,null,null,null,null,null,null,171072,"",328056,"","","","","","","","","","","","","","","","","","","","","","","","","","","","",""]
[null,null,null,686390,{"$f":"+COUNTIF(Tabele!$A$1:$FC$500,D92)","v":2},"171072","328056","",null,null,null,null,null,null,null,null,171072,"",328056,"","","","","","","","","","","","","","","","","","","","","","","","","","","","",""]
[null,null,null,686389,{"$f":"+COUNTIF(Tabele!$A$1:$FC$500,D93)","v":2},{"$f":"NonBlankFromRange($Q93:$AV93,RIGHT(F$1,1))","v":"171072"},"328056","",null,null,null,null,null,null,null,null,171072,"",328056,"","","","","","","","","","","","",{"$f":"_xlfn.IFNA(VLOOKUP($D93,INDIRECT(AF$1),4,FALSE),\"\")","v":""},"","","","","","","","","","","","","","","",""]
[null,null,null,686388,{"$f":"+COUNTIF(Tabele!$A$1:$FC$500,D94)","v":2},"171072","328056","",null,null,null,null,null,null,null,null,171072,"",328056,"","","","","","","","","","","","","","","","","","","","","","","","","","","","",""]
[null,null,null,686348,{"$f":"+COUNTIF(Tabele!$A$1:$FC$500,D95)","v":2},"191987","406631","",null,null,null,null,null,null,null,null,"",191987,"","","","","","","","","","","","","","","","",406631,"","","","","","","","","","","","",""]
[null,null,null,686347,{"$f":"+COUNTIF(Tabele!$A$1:$FC$500,D96)","v":2},"171072","394146","",null,null,null,null,null,null,null,null,171072,"","","","","","","","","","","","","","","",394146,"","","","","","","","","","","","","","",""]
[null,null,null,686346,{"$f":"+COUNTIF(Tabele!$A$1:$FC$500,D97)","v":2},"171072","394146","",null,null,null,null,null,null,null,null,171072,"","","","","","","","","","","","","","","",394146,"","","","","","","","","","","","","","",""]
[null,null,null,686345,{"$f":"+COUNTIF(Tabele!$A$1:$FC$500,D98)","v":2},"191987","406631","",null,null,null,null,null,null,null,null,"",191987,"","","","","","","","","","","","","","","","",406631,"","","","","","","","","","","","",""]
[null,null,null,686344,{"$f":"+COUNTIF(Tabele!$A$1:$FC$500,D99)","v":2},"171072","394146","",null,null,null,null,null,null,null,null,171072,"","","","","","","","","","","","","","","",394146,"","","","","","","","","","","","","","",""]
[null,null,null,686343,{"$f":"+COUNTIF(Tabele!$A$1:$FC$500,D100)","v":2},"171072","394146","",null,null,null,null,null,null,null,null,171072,"","","","","","","","","","","","","","","",394146,"","","","","","","","","","","","","","",""]
[null,null,null,686342,{"$f":"+COUNTIF(Tabele!$A$1:$FC$500,D101)","v":2},"171072","394146","",null,null,null,null,null,null,null,null,171072,"","","","","","","","","","","","","","","",394146,"","","","","",{"$f":"_xlfn.IFNA(VLOOKUP($D101,INDIRECT(AM$1),4,FALSE),\"\")","v":""},"","","","","","","","",""]
[null,null,null,686331,{"$f":"+COUNTIF(Tabele!$A$1:$FC$500,D102)","v":2},"171072","394146","",null,null,null,null,null,null,null,null,171072,"","","","","","","","","","","","","","","",394146,"","","","","","","","","","","","","","",""]
[null,null,null,686330,{"$f":"+COUNTIF(Tabele!$A$1:$FC$500,D103)","v":2},"171072","394146","",null,null,null,null,null,null,null,null,171072,"","","","","","","","","","","","","","","",394146,"","","","","","","","","","","","","","",""]
[null,null,null,686329,{"$f":"+COUNTIF(Tabele!$A$1:$FC$500,D104)","v":2},"171072","394146","",null,null,null,null,null,null,null,null,171072,"","","","","","","","","","","","","","","",394146,"","","","","","","","","","","","","","",""]
[null,null,null,686328,{"$f":"+COUNTIF(Tabele!$A$1:$FC$500,D105)","v":2},"171072","394146","",null,null,null,null,null,null,null,null,171072,"","","","","","","","","","","","","","","",394146,"","","","","","","","","","","","","","",""]
[null,null,null,711792,{"$f":"+COUNTIF(Tabele!$A$1:$FC$500,D106)","v":2},"171072","394146","",null,null,null,null,null,null,null,null,171072,"","","","","","","","","","","","","","","",394146,"","","","","","","","","","","","","","",""]
[null,null,null,711986,{"$f":"+COUNTIF(Tabele!$A$1:$FC$500,D107)","v":2},"171072","394146","",null,null,null,null,null,null,null,null,171072,"","","","","","","","","","","","","","","",394146,"","","","","","","","","","","","","","",""]
[null,null,null,712059,{"$f":"+COUNTIF(Tabele!$A$1:$FC$500,D108)","v":2},"171072","394146","",null,null,null,null,null,null,null,null,171072,"","","","","","","","","","","","","","","",394146,"","","","","","","","","","","","","","",""]
[null,null,null,686762,{"$f":"+COUNTIF(Tabele!$A$1:$FC$500,D109)","v":2},"171072","171185","",null,null,null,null,null,null,null,null,171072,"","","","","","","","","",171185,"","","","","","","","","","","","","","","","","","",{"$f":"_xlfn.IFNA(VLOOKUP($D109,INDIRECT(AT$1),4,FALSE),\"\")","v":""},"",""]
[null,null,null,686759,{"$f":"+COUNTIF(Tabele!$A$1:$FC$500,D110)","v":2},"171072","171574","",null,null,null,null,null,null,null,null,171072,"","","",171574,"","","","","","","","","","","","","","","","","","","","","","","","","","",""]
[null,null,null,712073,{"$f":"+COUNTIF(Tabele!$A$1:$FC$500,D111)","v":2},"171072","394149","",null,null,null,null,null,null,null,null,171072,"","","","","","","","","","","","","","","","",394149,"","","","","","","","","","","","","",""]
[null,null,null,711990,{"$f":"+COUNTIF(Tabele!$A$1:$FC$500,D112)","v":2},"171072","394149","",null,null,null,null,null,null,null,null,171072,"","","","","","","","","","","","","","","","",394149,"","","","","","","","","","","","","",""]
[null,null,null,711796,{"$f":"+COUNTIF(Tabele!$A$1:$FC$500,D113)","v":2},"171072","394149","",null,null,null,null,null,null,null,null,171072,"","","","","","","","","","","","","","","","",394149,"","","","","","","","","","","","","",""]
[null,null,null,686359,{"$f":"+COUNTIF(Tabele!$A$1:$FC$500,D114)","v":2},"191987","406632","",null,null,null,null,null,null,null,null,"",191987,"","","","","","","","","","","","","","","","","",406632,"","","","","","","","","","","",""]
[null,null,null,686358,{"$f":"+COUNTIF(Tabele!$A$1:$FC$500,D115)","v":2},"171072","394149","",null,null,null,null,null,null,null,null,171072,"","","","","","","","","","","","","","","","",394149,"","","","","","","","","","","","","",""]
[null,null,null,686357,{"$f":"+COUNTIF(Tabele!$A$1:$FC$500,D116)","v":2},"171072","394149","",null,null,null,null,null,null,null,null,171072,"","","","","","","","","","","","","","","","",394149,"","","","","","","","","","","","","",""]
[null,null,null,686356,{"$f":"+COUNTIF(Tabele!$A$1:$FC$500,D117)","v":2},"191987","406632","",null,null,null,null,null,null,null,null,"",191987,"","","","","","","","","","","","","","","","","",406632,"","","","","","","","","","","",""]
[null,null,null,686355,{"$f":"+COUNTIF(Tabele!$A$1:$FC$500,D118)","v":2},"171072","394149","",null,null,null,null,null,null,null,null,171072,"","","","",{"$f":"_xlfn.IFNA(VLOOKUP($D118,INDIRECT(V$1),4,FALSE),\"\")","v":""},"","","","","","","","","","","",394149,"","","","","","","","","","","","","",""]
[null,null,null,686354,{"$f":"+COUNTIF(Tabele!$A$1:$FC$500,D119)","v":2},"171072","394149","",null,null,null,null,null,null,null,null,171072,"","","","","","","","","","","","","","","","",394149,"","","","","","","","","","","","","",""]
[null,null,null,686353,{"$f":"+COUNTIF(Tabele!$A$1:$FC$500,D120)","v":2},"171072","394149","",null,null,null,null,null,null,null,null,171072,"","","","","","","","","","","","","","","","",394149,"","","","","","","","","","","","","",""]
[null,null,null,686352,{"$f":"+COUNTIF(Tabele!$A$1:$FC$500,D121)","v":2},"171072","394149","",null,null,null,null,null,null,null,null,171072,"","","","","","","","","","","","","","","","",394149,"","","","","","","","","","","","","",""]
[null,null,null,686351,{"$f":"+COUNTIF(Tabele!$A$1:$FC$500,D122)","v":2},"171072","394149","",null,null,null,null,null,null,null,null,171072,"","","","","","","","","","","","","","","","",394149,"","","","","","","","","","","","","",""]
[null,null,null,686350,{"$f":"+COUNTIF(Tabele!$A$1:$FC$500,D123)","v":2},"171072","394149","",null,null,null,null,null,null,null,null,171072,"","","","","","","","","","","","","","","","",394149,"","","","","","","","","","","","","",""]
[null,null,null,686349,{"$f":"+COUNTIF(Tabele!$A$1:$FC$500,D124)","v":2},"171072","394149","",null,null,null,null,null,null,null,null,171072,"","","","","","","","","","","","","","","","",394149,"","","","","","","","","","","","","",""]
[null,null,null,686765,{"$f":"+COUNTIF(Tabele!$A$1:$FC$500,D125)","v":2},"171072","328056","",null,null,null,null,null,null,null,null,171072,"",328056,"","","","","","","","","","","","","","","","","","","","","","","","","","","","",""]
[null,null,null,710630,{"$f":"+COUNTIF(Tabele!$A$1:$FC$500,D126)","v":2},"171072","513333","",null,null,null,null,null,null,null,null,171072,"","","","","","","","","","","",{"$f":"_xlfn.IFNA(VLOOKUP($D126,INDIRECT(AC$1),4,FALSE),\"\")","v":""},"","","","","","","","","","","","","","",513333,"","","",""]
[null,null,null,710737,{"$f":"+COUNTIF(Tabele!$A$1:$FC$500,D127)","v":2},"171072","513333","",null,null,null,null,null,null,null,null,171072,"","","","","","","","","","","","","","","","","","","","","","","","","","",513333,"","","",""]
[null,null,null,710758,{"$f":"+COUNTIF(Tabele!$A$1:$FC$500,D128)","v":2},"171072","513333","",null,null,null,null,null,null,null,null,171072,"","","","","","","","","","","","","","","","","","","","","","","","","","",513333,"","","",""]
[null,null,null,686752,{"$f":"+COUNTIF(Tabele!$A$1:$FC$500,D129)","v":3},"171072","171078","171079",null,null,null,null,null,null,null,null,171072,"","","","","","","","","","",171078,171079,"","","","","","","","","","","","","","","","","","",""]
[null,null,null,686758,{"$f":"+COUNTIF(Tabele!$A$1:$FC$500,D130)","v":2},"171072","171574","",null,null,null,null,null,null,null,null,171072,"","","",171574,"","","","","","","","","","","","","","","","","","","","","","","","","","",""]
[null,null,null,686761,{"$f":"+COUNTIF(Tabele!$A$1:$FC$500,D131)","v":2},"171072","171185","",null,null,null,null,null,null,null,null,{"$f":"_xlfn.IFNA(VLOOKUP($D131,INDIRECT(Q$1),4,FALSE),\"\")","v":171072},"","","","","","","","","",171185,"","","","","","","","","","","","","","","","","","","","",""]
[null,null,null,686766,{"$f":"+COUNTIF(Tabele!$A$1:$FC$500,D132)","v":2},"171072","328056","",null,null,null,null,null,null,null,null,171072,"",328056,"","","","","","","","","","","","","","","","","","","","","","","","","","","","",""]
[null,null,null,686768,{"$f":"+COUNTIF(Tabele!$A$1:$FC$500,D133)","v":2},"171072","394146","",null,null,null,null,null,null,null,null,171072,"","","","","","","","","","","","","","","",394146,"","","","","","","","","","","","","","",""]
[null,null,null,686769,{"$f":"+COUNTIF(Tabele!$A$1:$FC$500,D134)","v":2},"171072","394149","",null,null,null,null,null,null,null,null,171072,"","","","","","","","","","","","","","","","",394149,"","","","","","","","","","","","","",""]