{"text_format":"1","workbook":"xlsx","n_sheets":4,"sheets":["PRIMER","RESENJE","DemoVBA","DemoPQ"],"not_rendered":{"charts":0,"images":0,"macros":1,"external_links":0,"defined_names":1,"comments":0,"pivot_tables":0},"unopened":[],"bounds":{"document_bytes":16777216,"sheet_cells":100000,"rows_first":2000,"rows_last":500,"rows_between":2000,"halvings":0,"cell_chars":16384,"cell_head_chars":4096},"cells_cut":0,"cells_raw":0,"read":"whole","date_system":"1900"}

{"sheet":"PRIMER","index":0,"n_rows":24,"n_cols":17,"rows_kept":24,"cut":false,"hidden":false,"merged":[]}
["Dobavljac","Broj otpremnice","DAN1","MES1","GOD1","PROIZVOD1","IZNOS1","DAN2","MES2","GOD2","PROIZVOD2","IZNOS2","DAN3","MES3","GOD3","PROIZVOD3","IZNOS3"]
["Neki 1",2316520816,12,10,17,"Jabuka",27000]
["Neki 1",166961216,19,9,17,"Jabuka",25500]
["Neki 1",166958016,19,9,17,"Sok",25500]
["Neki 1",166668616,19,9,17,"Sok",25500]
["Neki 2",10950516,7,2,18,"Pomorandza",14250]
["Neki 3",4413166216,3,10,16,"Pivo",25500,18,1,17,"Vino",27000,15,9,17,"Pomorandza",51000]
["Neki 3",787555816,8,6,17,"Kruska",27000,14,9,17,"Bundeva",27000]
["Neki 3",4313376516,3,10,16,"Breska",25500]
["Neki 3",505991815,7,6,16,"Breska",14250]
["Neki 3",718705716,22,6,16,"Vino",27000]
["Neki 3",2713022214,5,2,16,"Vino",27000]
["Neki 4",657263315,10,8,17,"Bundeva",51000]
["Neki 4",854001415,13,7,17,"Bundeva",12750,8,8,17,"Kruska",27000,10,8,17,"Bundeva",27000]
["Neki 4",10874616,13,7,17,"Pisana od.",25500]
["Neki 5",null,null,null,null,"Prazno"]
["Neki 6",166662617,19,9,17,"Jabuka",14250,13,9,17,"Pivo",27000,30,11,17,"Ananas",27000]
["Neki 6",166675617,13,9,17,"Jabuka",27000,19,9,17,"Sok",27000,30,11,17,"Ananas",27000]
["Neki 7",10955616,7,2,18,"Sok",27000]
["Neki 7",10955716,7,2,18,"Sok",27000]
["Neki 8",2416321216,26,5,17,"Pivo",27000,26,5,17,"Jabuka",27000,11,9,17,"Rakija",25500]
["Neki 8",7511877417,19,5,17,"Pivo",27000]
["Neki 8",2713302915,5,12,16,"Ananas",27000]
["Neki 9",10969416,5,6,17,"Ananas",25500,9,2,18,"Ananas",14250]

{"sheet":"RESENJE","index":1,"n_rows":36,"n_cols":9,"rows_kept":36,"cut":false,"hidden":false,"merged":[]}
["Dobavljac","Broj otpremnice","DAN","MES","GOD","PROIZVOD","IZNOS",null,"Check"]
["Neki 1",2316520816,12,10,17,"Jabuka",27000,null,{"$f":"COUNTIF(DemoPQ!B:B,RESENJE!B2)","v":1}]
["Neki 1",166961216,19,9,17,"Jabuka",25500,null,{"$f":"COUNTIF(DemoPQ!B:B,RESENJE!B3)","v":1}]
["Neki 1",166958016,19,9,17,"Sok",25500,null,{"$f":"COUNTIF(DemoPQ!B:B,RESENJE!B4)","v":1}]
["Neki 1",166668616,19,9,17,"Sok",25500,null,{"$f":"COUNTIF(DemoPQ!B:B,RESENJE!B5)","v":1}]
["Neki 2",10950516,7,2,18,"Pomorandza",14250,null,{"$f":"COUNTIF(DemoPQ!B:B,RESENJE!B6)","v":1}]
["Neki 3",4413166216,3,10,16,"Pivo",25500,null,{"$f":"COUNTIF(DemoPQ!B:B,RESENJE!B7)","v":3}]
["Neki 3",4413166216,18,1,17,"Vino",27000,null,{"$f":"COUNTIF(DemoPQ!B:B,RESENJE!B8)","v":3}]
["Neki 3",4413166216,15,9,17,"Pomorandza",51000,null,{"$f":"COUNTIF(DemoPQ!B:B,RESENJE!B9)","v":3}]
["Neki 3",787555816,8,6,17,"Kruska",27000,null,{"$f":"COUNTIF(DemoPQ!B:B,RESENJE!B10)","v":2}]
["Neki 3",787555816,14,9,17,"Bundeva",27000,null,{"$f":"COUNTIF(DemoPQ!B:B,RESENJE!B11)","v":2}]
["Neki 3",4313376516,3,10,16,"Breska",25500,null,{"$f":"COUNTIF(DemoPQ!B:B,RESENJE!B12)","v":1}]
["Neki 3",505991815,7,6,16,"Breska",14250,null,{"$f":"COUNTIF(DemoPQ!B:B,RESENJE!B13)","v":1}]
["Neki 3",718705716,22,6,16,"Vino",27000,null,{"$f":"COUNTIF(DemoPQ!B:B,RESENJE!B14)","v":1}]
["Neki 3",2713022214,5,2,16,"Vino",27000,null,{"$f":"COUNTIF(DemoPQ!B:B,RESENJE!B15)","v":1}]
["Neki 4",657263315,10,8,17,"Bundeva",51000,null,{"$f":"COUNTIF(DemoPQ!B:B,RESENJE!B16)","v":1}]
["Neki 4",854001415,13,7,17,"Bundeva",12750,null,{"$f":"COUNTIF(DemoPQ!B:B,RESENJE!B17)","v":3}]
["Neki 4",854001415,8,8,17,"Kruska",27000,null,{"$f":"COUNTIF(DemoPQ!B:B,RESENJE!B18)","v":3}]
["Neki 4",854001415,10,8,17,"Bundeva",27000,null,{"$f":"COUNTIF(DemoPQ!B:B,RESENJE!B19)","v":3}]
["Neki 4",10874616,13,7,17,"Pisana od.",25500,null,{"$f":"COUNTIF(DemoPQ!B:B,RESENJE!B20)","v":1}]
["Neki 5",null,null,null,null,"Prazno",null,null,{"$f":"COUNTIF(DemoPQ!B:B,RESENJE!B21)","v":0}]
["Neki 6",166662617,19,9,17,"Jabuka",14250,null,{"$f":"COUNTIF(DemoPQ!B:B,RESENJE!B22)","v":3}]
["Neki 6",166662617,13,9,17,"Pivo",27000,null,{"$f":"COUNTIF(DemoPQ!B:B,RESENJE!B23)","v":3}]
["Neki 6",166662617,30,11,17,"Ananas",27000,null,{"$f":"COUNTIF(DemoPQ!B:B,RESENJE!B24)","v":3}]
["Neki 6",166675617,13,9,17,"Jabuka",27000,null,{"$f":"COUNTIF(DemoPQ!B:B,RESENJE!B25)","v":3}]
["Neki 6",166675617,19,9,17,"Sok",27000,null,{"$f":"COUNTIF(DemoPQ!B:B,RESENJE!B26)","v":3}]
["Neki 6",166675617,30,11,17,"Ananas",27000,null,{"$f":"COUNTIF(DemoPQ!B:B,RESENJE!B27)","v":3}]
["Neki 7",10955616,7,2,18,"Sok",27000,null,{"$f":"COUNTIF(DemoPQ!B:B,RESENJE!B28)","v":1}]
["Neki 7",10955716,7,2,18,"Sok",27000,null,{"$f":"COUNTIF(DemoPQ!B:B,RESENJE!B29)","v":1}]
["Neki 8",2416321216,26,5,17,"Pivo",27000,null,{"$f":"COUNTIF(DemoPQ!B:B,RESENJE!B30)","v":3}]
["Neki 8",2416321216,26,5,17,"Jabuka",27000,null,{"$f":"COUNTIF(DemoPQ!B:B,RESENJE!B31)","v":3}]
["Neki 8",2416321216,11,9,17,"Rakija",25500,null,{"$f":"COUNTIF(DemoPQ!B:B,RESENJE!B32)","v":3}]
["Neki 8",7511877417,19,5,17,"Pivo",27000,null,{"$f":"COUNTIF(DemoPQ!B:B,RESENJE!B33)","v":1}]
["Neki 8",2713302915,5,12,16,"Ananas",27000,null,{"$f":"COUNTIF(DemoPQ!B:B,RESENJE!B34)","v":1}]
["Neki 9",10969416,5,6,17,"Ananas",25500,null,{"$f":"COUNTIF(DemoPQ!B:B,RESENJE!B35)","v":2}]
["Neki 9",10969416,9,2,18,"Ananas",14250,null,{"$f":"COUNTIF(DemoPQ!B:B,RESENJE!B36)","v":2}]

{"sheet":"DemoVBA","index":2,"n_rows":36,"n_cols":7,"rows_kept":36,"cut":false,"hidden":false,"merged":[]}
["Dobavljac","Broj otpremnice","DAN","MES","GOD","PROIZVOD","IZNOS"]
["Neki 1",2316520816,12,10,17,"Jabuka",27000]
["Neki 1",166961216,19,9,17,"Jabuka",25500]
["Neki 1",166958016,19,9,17,"Sok",25500]
["Neki 1",166668616,19,9,17,"Sok",25500]
["Neki 2",10950516,7,2,18,"Pomorandza",14250]
["Neki 3",4413166216,3,10,16,"Pivo",25500]
["Neki 3",4413166216,18,1,17,"Vino",27000]
["Neki 3",4413166216,15,9,17,"Pomorandza",51000]
["Neki 3",787555816,8,6,17,"Kruska",27000]
["Neki 3",787555816,14,9,17,"Bundeva",27000]
["Neki 3",4313376516,3,10,16,"Breska",25500]
["Neki 3",505991815,7,6,16,"Breska",14250]
["Neki 3",718705716,22,6,16,"Vino",27000]
["Neki 3",2713022214,5,2,16,"Vino",27000]
["Neki 4",657263315,10,8,17,"Bundeva",51000]
["Neki 4",854001415,13,7,17,"Bundeva",12750]
["Neki 4",854001415,8,8,17,"Kruska",27000]
["Neki 4",854001415,10,8,17,"Bundeva",27000]
["Neki 4",10874616,13,7,17,"Pisana od.",25500]
["Neki 5",null,null,null,null,"Prazno"]
["Neki 6",166662617,19,9,17,"Jabuka",14250]
["Neki 6",166662617,13,9,17,"Pivo",27000]
["Neki 6",166662617,30,11,17,"Ananas",27000]
["Neki 6",166675617,13,9,17,"Jabuka",27000]
["Neki 6",166675617,19,9,17,"Sok",27000]
["Neki 6",166675617,30,11,17,"Ananas",27000]
["Neki 7",10955616,7,2,18,"Sok",27000]
["Neki 7",10955716,7,2,18,"Sok",27000]
["Neki 8",2416321216,26,5,17,"Pivo",27000]
["Neki 8",2416321216,26,5,17,"Jabuka",27000]
["Neki 8",2416321216,11,9,17,"Rakija",25500]
["Neki 8",7511877417,19,5,17,"Pivo",27000]
["Neki 8",2713302915,5,12,16,"Ananas",27000]
["Neki 9",10969416,5,6,17,"Ananas",25500]
["Neki 9",10969416,9,2,18,"Ananas",14250]

{"sheet":"DemoPQ","index":3,"n_rows":35,"n_cols":7,"rows_kept":35,"cut":false,"hidden":false,"merged":[]}
["Dobavljac","Broj otpremnice","DAN","MES","GOD","PROIZVOD","IZNOS"]
["Neki 1",2316520816,12,10,17,"Jabuka",27000]
["Neki 1",166961216,19,9,17,"Jabuka",25500]
["Neki 1",166958016,19,9,17,"Sok",25500]
["Neki 1",166668616,19,9,17,"Sok",25500]
["Neki 2",10950516,7,2,18,"Pomorandza",14250]
["Neki 3",4413166216,3,10,16,"Pivo",25500]
["Neki 3",4413166216,18,1,17,"Vino",27000]
["Neki 3",4413166216,15,9,17,"Pomorandza",51000]
["Neki 3",787555816,8,6,17,"Kruska",27000]
["Neki 3",787555816,14,9,17,"Bundeva",27000]
["Neki 3",4313376516,3,10,16,"Breska",25500]
["Neki 3",505991815,7,6,16,"Breska",14250]
["Neki 3",718705716,22,6,16,"Vino",27000]
["Neki 3",2713022214,5,2,16,"Vino",27000]
["Neki 4",657263315,10,8,17,"Bundeva",51000]
["Neki 4",854001415,13,7,17,"Bundeva",12750]
["Neki 4",854001415,8,8,17,"Kruska",27000]
["Neki 4",854001415,10,8,17,"Bundeva",27000]
["Neki 4",10874616,13,7,17,"Pisana od.",25500]
["Neki 6",166662617,19,9,17,"Jabuka",14250]
["Neki 6",166662617,13,9,17,"Pivo",27000]
["Neki 6",166662617,30,11,17,"Ananas",27000]
["Neki 6",166675617,13,9,17,"Jabuka",27000]
["Neki 6",166675617,19,9,17,"Sok",27000]
["Neki 6",166675617,30,11,17,"Ananas",27000]
["Neki 7",10955616,7,2,18,"Sok",27000]
["Neki 7",10955716,7,2,18,"Sok",27000]
["Neki 8",2416321216,26,5,17,"Pivo",27000]
["Neki 8",2416321216,26,5,17,"Jabuka",27000]
["Neki 8",2416321216,11,9,17,"Rakija",25500]
["Neki 8",7511877417,19,5,17,"Pivo",27000]
["Neki 8",2713302915,5,12,16,"Ananas",27000]
["Neki 9",10969416,5,6,17,"Ananas",25500]
["Neki 9",10969416,9,2,18,"Ananas",14250]