{"text_format":"1","workbook":"xlsx","n_sheets":7,"sheets":["UPIS","IZVEŠTAJ ZA ODELJENSKO VEĆE","NEDOVOLJNI","NEOCENJENI","SVE PETICE","NEDOVOLJNI I NEOCENJENI","VLADANJE"],"not_rendered":{"charts":0,"images":0,"macros":1,"external_links":0,"defined_names":0,"comments":7,"pivot_tables":0},"unopened":[],"bounds":{"document_bytes":16777216,"sheet_cells":100000,"rows_first":2000,"rows_last":500,"rows_between":2000,"halvings":0,"cell_chars":16384,"cell_head_chars":4096},"cells_cut":0,"cells_raw":0,"read":"whole","date_system":"1900"}

{"sheet":"UPIS","index":0,"n_rows":42,"n_cols":30,"rows_kept":42,"cut":false,"hidden":false,"merged":[]}
[null,"ПРЕЗИМЕ И ИМЕ УЧЕНИКА","српски","енглески","историја","физика","хемија","физичко","математика","биологија","биологија","биологија","биологија","биологија","биологија","биологија","биологија","биологија","биологија","биологија","биологија","биологија","ВЛАДАЊЕ","оправдани изостанци","неоправдани изостанци","просек оцена","општи успех","број  неоцењених предмета","број јединица","недовољни и неоцењени"]
["1.","Алексић Петар",5,5,5,5,5,5,5,5,5,5,5,5,5,5,5,5,5,5,5,5,5,null,null,5,"одличан",null,{"$f":"COUNTIF(C2:W2,\"=1\")","v":0},"недовољан и неоцењен"]
["2.","Антић Миодраг",1,"N",3,3,3,3,3,3,3,3,3,3,3,3,3,3,3,3,3,3,3,null,null,"1,00","неоцењен",null,{"$f":"COUNTIF(C3:W3,\"=1\")","v":1}]
["3.","Балашевић Весна",2,3,4,5,2,3,4,5,2,3,4,5,2,3,4,5,2,3,4,5,2,null,null,3.4285714285714284,"добар",null,{"$f":"COUNTIF(C4:W4,\"=1\")","v":0}]
["4.","Берић Миша",2,3,4,5,2,3,4,5,2,3,4,5,2,3,4,5,2,3,4,5,2,null,null,3.4285714285714284,"добар",null,0,"недовољан и неоцењен"]
["5.","Величковић Лука",2,3,4,5,2,3,4,5,2,3,4,5,2,3,4,5,2,3,4,5,2,null,null,3.4285714285714284,"добар",null,0]
["6.","Гроздановић Мила",2,3,4,5,2,3,4,5,2,3,4,5,2,3,4,5,2,3,4,5,2,null,null,3.4285714285714284,"добар",null,0]
["7.","Денић Виолета",2,3,4,5,2,3,4,5,2,3,4,5,2,3,4,5,2,3,4,5,2,null,null,3.4285714285714284,"добар",null,0,"недовољан и неоцењен"]
["8.","Денчић Перица",2,3,4,5,2,3,4,5,2,3,4,5,2,3,4,5,2,3,4,5,2,null,null,3.4285714285714284,"добар",null,0]
["9.","Динић Клаудија",2,3,4,5,2,3,4,5,2,3,4,5,2,3,4,5,2,3,4,5,2,null,null,3.4285714285714284,"добар",null,0]
["10.","Ђокић Биљана",2,3,4,5,2,3,4,5,2,3,4,5,2,3,4,5,2,3,4,5,2,null,null,3.4285714285714284,"добар",null,{"$f":"COUNTIF(C11:W11,\"=1\")","v":0}]
["11.","Ђорђевић Тијана",2,3,4,5,2,3,4,5,2,3,4,5,2,3,4,5,2,3,4,5,2,null,null,3.4285714285714284,"добар",null,0]
["12.","Жељановић Жељко",2,3,4,5,2,3,4,5,2,3,4,5,2,3,4,5,2,3,4,5,2,null,null,3.4285714285714284,"добар",null,0]
["13.","Живаљевић Драгана",2,3,4,5,2,3,4,5,2,3,4,5,2,3,4,5,2,3,4,5,2,null,null,3.4285714285714284,"добар",null,0]
["14.","Живковић Лука",2,3,4,5,2,3,4,5,2,3,4,5,2,3,4,5,2,3,4,5,2,null,null,3.4285714285714284,"добар",null,0]
["15.","Жикић Саша",2,3,4,5,2,3,4,5,2,3,4,5,2,3,4,5,2,3,4,5,2,null,null,3.4285714285714284,"добар",null,0]
["16.","Игњатовић Радмила",2,3,4,5,2,3,4,5,2,3,4,5,2,3,4,5,2,3,4,5,2,null,null,3.4285714285714284,"добар",null,0,"недовољан и неоцењен"]
["17.","Исаковић Јефимија",2,3,4,5,2,3,4,5,2,3,4,5,2,3,4,5,2,3,4,5,2,null,null,3.4285714285714284,"добар",null,0]
["18.","Јаковљевић Милан",2,3,4,5,2,3,4,5,2,3,4,5,2,3,4,5,2,3,4,5,2,null,null,3.4285714285714284,"добар",null,0]
["19.","Јанаћковић Драгана",2,3,4,5,2,3,4,5,2,3,4,5,2,3,4,5,2,3,4,5,2,null,null,3.4285714285714284,"добар",null,0]
["20.","Јанић Добрила",2,3,4,5,2,3,4,5,2,3,4,5,2,3,4,5,2,3,4,5,2,null,null,3.4285714285714284,"добар",null,0]
["21.","Јелић Персида",2,3,4,5,2,3,4,5,2,3,4,5,2,3,4,5,2,3,4,5,2,null,null,3.4285714285714284,"добар",null,0]
["22.","Јовановић Вишња",2,3,4,5,2,3,4,5,2,3,4,5,2,3,4,5,2,3,4,5,2,null,null,3.4285714285714284,"добар",null,0]
["23.","Јовић Сања",2,3,4,5,2,3,4,5,2,3,4,5,2,3,4,5,2,3,4,5,2,null,null,3.4285714285714284,"добар",null,0]
["24.","Караклајић Ненад",2,3,4,5,2,3,4,5,2,3,4,5,2,3,4,5,2,3,4,5,2,null,null,3.4285714285714284,"добар",null,0]
["25.","Керковић Милан",2,3,4,5,2,3,4,5,2,3,4,5,2,3,4,5,2,3,4,5,2,null,null,3.4285714285714284,"добар",null,0]
["26.","Костић Марина",2,3,4,5,2,3,4,5,2,3,4,5,2,3,4,5,2,3,4,5,2,null,null,3.4285714285714284,"добар",null,0]
["27.","Коштуница Никола",2,3,4,5,2,3,4,5,2,3,4,5,2,3,4,5,2,3,4,5,2,null,null,3.4285714285714284,"добар",null,0]
["28.","Кркобабић Милена",2,3,4,5,2,3,4,5,2,3,4,5,2,3,4,5,2,3,4,5,2,null,null,3.4285714285714284,"добар",null,0]
["29.","Лалатовић Петар",2,3,4,5,2,3,4,5,2,3,4,5,2,3,4,5,2,3,4,5,2,null,null,3.4285714285714284,"добар",null,0]
["30.","Лалић Ратко",2,3,4,5,2,3,4,5,2,3,4,5,2,3,4,5,2,3,4,5,2,null,null,3.4285714285714284,"добар",null,0]
["31.","Лалић Ратко",2,3,4,5,2,3,4,5,2,3,4,5,2,3,4,5,2,3,4,5,2,null,null,3.4285714285714284,"добар",null,0]
["32.","Лалић Ратко",2,3,4,5,2,3,4,5,2,3,4,5,2,3,4,5,2,3,4,5,2,null,null,3.4285714285714284,"добар",null,0]
["33.","Лалић Ратко",2,3,4,5,2,3,4,5,2,3,4,5,2,3,4,5,2,3,4,5,2,null,null,3.4285714285714284,"добар",null,0]
["34.","Лалић Ратко",2,3,4,5,2,3,4,5,2,3,4,5,2,3,4,5,2,3,4,5,2,null,null,3.4285714285714284,"добар",null,0]
["35.","Лалић Ратко",2,3,4,5,2,3,4,5,2,3,4,5,2,3,4,5,2,3,4,5,2,null,null,3.4285714285714284,"добар",null,0]
["36.","Лалић Ратко",2,3,4,5,2,3,4,5,2,3,4,5,2,3,4,5,2,3,4,5,2,null,null,3.4285714285714284,"добар",null,0]
["37.","Лалић Ратко",2,3,4,5,2,3,4,5,2,3,4,5,2,3,4,5,2,3,4,5,2,null,null,3.4285714285714284,"добар",null,0]
["38.","Лалић Ратко",2,3,4,5,2,3,4,5,2,3,4,5,2,3,4,5,2,3,4,5,2,null,null,3.4285714285714284,"добар",null,0]
["39.","Лалић Ратко",2,3,4,5,2,3,4,5,2,3,4,5,2,3,4,5,2,3,4,5,2,null,null,3.4285714285714284,"добар",null,0]
["40.","Лалић Ратко",2,3,4,5,2,3,4,5,2,3,4,5,2,3,4,5,2,3,4,5,2,null,null,3.4285714285714284,"добар",null,0]
[null,null,null,null,null,null,null,null,null,null,null,null,null,null,null,null,null,null,null,null,null,null,null,null,{"$f":"SUM(Y2:Y41)","v":0},null,null,{"$f":"COUNTIF(C42:W42,\"=N\")","v":0},0]

{"sheet":"IZVEŠTAJ ZA ODELJENSKO VEĆE","index":1,"n_rows":248,"n_cols":10,"rows_kept":248,"cut":false,"hidden":false,"merged":[[25,7,25,8],[164,2,164,6],[12,1,12,3],[13,1,13,3],[14,1,14,3],[15,1,15,3],[22,6,22,7],[23,6,23,7],[17,0,17,3],[18,0,18,3],[16,0,16,3],[13,6,13,7],[14,6,14,7],[15,6,15,7],[24,6,24,7],[18,6,18,7],[2,6,3,8],[8,1,8,3],[8,6,8,7],[16,6,16,7],[17,6,17,7],[7,1,7,3],[9,1,9,3],[10,1,10,3],[11,1,11,3],[10,6,10,7],[11,6,11,7],[2,1,2,3],[3,1,3,3],[4,1,4,3],[5,1,5,3],[6,1,6,3],[19,6,19,7],[20,6,20,7],[21,6,21,7],[4,6,4,7],[5,6,5,7],[6,6,6,7],[7,6,7,7],[9,6,9,7],[12,6,12,7],[207,1,207,6],[207,7,207,9],[163,1,163,6],[163,7,163,9],[27,1,27,6],[27,7,27,9],[72,1,72,6],[72,7,72,9],[117,1,117,8]]}
[]
[]
[null,"број ученика у одељењу",null,null,{"$f":"#REF!","v":{"$error":"#REF!"}},null,"број јединица по предметима"]
[null,"број ученика мушког пола"]
[null,"број ученика женског пола",null,null,null,null,"српски",null,{"$f":"#REF!","v":{"$error":"#REF!"}}]
[null,"број ученика са позитивним успехом",null,null,{"$f":"#REF!","v":{"$error":"#REF!"}},null,"енглески",null,{"$f":"#REF!","v":{"$error":"#REF!"}}]
[null,"број ученика са недовољним оценама",null,null,{"$f":"#REF!","v":{"$error":"#REF!"}},null,"историја",null,{"$f":"#REF!","v":{"$error":"#REF!"}}]
[null,"број ученика који су неоцењени",null,null,{"$f":"#REF!","v":{"$error":"#REF!"}},null,"физика",null,{"$f":"#REF!","v":{"$error":"#REF!"}}]
[null,"број ученика са свим петицама",null,null,{"$f":"#REF!","v":{"$error":"#REF!"}},null,"хемија",null,{"$f":"#REF!","v":{"$error":"#REF!"}}]
[null,"број ученика са одличним успехом",null,null,{"$f":"#REF!","v":{"$error":"#REF!"}},null,"физичко",null,{"$f":"#REF!","v":{"$error":"#REF!"}}]
[null,"број ученика са врлодобрим успехом",null,null,{"$f":"#REF!","v":{"$error":"#REF!"}},null,"математика",null,{"$f":"#REF!","v":{"$error":"#REF!"}}]
[null,"број ученика са добрим успехом",null,null,{"$f":"#REF!","v":{"$error":"#REF!"}},null,"биологија",null,{"$f":"#REF!","v":{"$error":"#REF!"}}]
[null,"број ученика са довољним успехом",null,null,{"$f":"#REF!","v":{"$error":"#REF!"}},null,"хигијена",null,{"$f":"#REF!","v":{"$error":"#REF!"}}]
[null,"број ученика са недовољним  успехом",null,null,{"$f":"#REF!","v":{"$error":"#REF!"}},null,"микробиологија",null,{"$f":"#REF!","v":{"$error":"#REF!"}}]
[null,"број ученика са једном недовољном оценом ",null,null,{"$f":"#REF!","v":{"$error":"#REF!"}},null,"патологија",null,{"$f":"#REF!","v":{"$error":"#REF!"}}]
[null,"број ученика са две  недовољне оцене ",null,null,{"$f":"#REF!","v":{"$error":"#REF!"}},null,"фармакологија",null,{"$f":"#REF!","v":{"$error":"#REF!"}}]
["број ученика са три и више недовољних  оцена",null,null,null,{"$f":"#REF!","v":{"$error":"#REF!"}},null,"здр.нега деце",null,{"$f":"#REF!","v":{"$error":"#REF!"}}]
[" број ученика са четири и више недовољних  оцена",null,null,null,{"$f":"#REF!","v":{"$error":"#REF!"}},null,"педијатрија",null,{"$f":"#REF!","v":{"$error":"#REF!"}}]
[" број ученика са пет  и више недовољних  оцена",null,null,null,{"$f":"#REF!","v":{"$error":"#REF!"}},null,"грађанско васп.",null,{"$f":"#REF!","v":{"$error":"#REF!"}}]
[null,null,null,null,null,null,"веронаука",null,{"$f":"#REF!","v":{"$error":"#REF!"}}]
[null,null,null,null,null,null,"психологија",null,{"$f":"#REF!","v":{"$error":"#REF!"}}]
[null,null,null,null,null,null,"социологија",null,{"$f":"#REF!","v":{"$error":"#REF!"}}]
[null,null,null,null,null,null,"филозофија",null,{"$f":"#REF!","v":{"$error":"#REF!"}}]
[null,null,null,null,null,null,"устав",null,{"$f":"#REF!","v":{"$error":"#REF!"}}]
[null,null,null,null,null,null,"владање",null,{"$f":"#REF!","v":{"$error":"#REF!"}}]
[null,null,null,null,null,null,{"$f":"$E$14","v":{"$error":"#REF!"}},{"$f":"SUM(I5:I25)","v":{"$error":"#REF!"}}]
[]
[null,"Ученици са свим петицама",null,null,null,null,null,{"$f":"'SVE PETICE'!$B$42","v":1}]
[null,"1.",{"$f":"'SVE PETICE'!B44","v":""}]
[null,"2.",{"$f":"'SVE PETICE'!B45","v":""}]
[null,"3.",{"$f":"'SVE PETICE'!B46","v":""}]
[null,"4.",{"$f":"'SVE PETICE'!B47","v":""}]
[null,"5.",{"$f":"'SVE PETICE'!B48","v":""}]
[null,"6.",{"$f":"'SVE PETICE'!B49","v":""}]
[null,"7.",{"$f":"'SVE PETICE'!B50","v":""}]
[null,"8.",{"$f":"'SVE PETICE'!B51","v":""}]
[null,"9.",{"$f":"'SVE PETICE'!B52","v":""}]
[null,"10.",{"$f":"'SVE PETICE'!B53","v":""}]
[null,"11.",{"$f":"'SVE PETICE'!B54","v":""}]
[null,"12.",{"$f":"'SVE PETICE'!B55","v":""}]
[null,"13.",{"$f":"'SVE PETICE'!B56","v":""}]
[null,"14.",{"$f":"'SVE PETICE'!B57","v":"Алексић Петар"}]
[null,"15.",{"$f":"'SVE PETICE'!B58","v":""}]
[null,"16.",{"$f":"'SVE PETICE'!B59","v":""}]
[null,"17.",{"$f":"'SVE PETICE'!B60","v":""}]
[null,"18.",{"$f":"'SVE PETICE'!B61","v":""}]
[null,"19.",{"$f":"'SVE PETICE'!B62","v":""}]
[null,"20.",{"$f":"'SVE PETICE'!B63","v":""}]
[null,"21.",{"$f":"'SVE PETICE'!B64","v":""}]
[null,"22.",{"$f":"'SVE PETICE'!B65","v":""}]
[null,"23.",{"$f":"'SVE PETICE'!B66","v":""}]
[null,"24.",{"$f":"'SVE PETICE'!B67","v":""}]
[null,"25.",{"$f":"'SVE PETICE'!B68","v":""}]
[null,"26.",{"$f":"'SVE PETICE'!B69","v":""}]
[null,"27.",{"$f":"'SVE PETICE'!B70","v":""}]
[null,"28.",{"$f":"'SVE PETICE'!B71","v":""}]
[null,"29.",{"$f":"'SVE PETICE'!B72","v":""}]
[null,"30.",{"$f":"'SVE PETICE'!B73","v":""}]
[null,"31.",{"$f":"'SVE PETICE'!B74","v":""}]
[null,"32.",{"$f":"'SVE PETICE'!B75","v":""}]
[null,"33.",{"$f":"'SVE PETICE'!B76","v":""}]
[null,"34.",{"$f":"'SVE PETICE'!B77","v":""}]
[null,"35.",{"$f":"'SVE PETICE'!B78","v":""}]
[null,"36.",{"$f":"'SVE PETICE'!B79","v":""}]
[null,"37.",{"$f":"'SVE PETICE'!B80","v":""}]
[null,"38.",{"$f":"'SVE PETICE'!B81","v":""}]
[null,"39.",{"$f":"'SVE PETICE'!B82","v":""}]
[null,"40.",{"$f":"'SVE PETICE'!B83","v":""}]
[]
[]
[]
[]
[null,"Ученици са негативним оценама:",null,null,null,null,null,{"$f":"NEDOVOLJNI!$B$42","v":1}]
[null,"1.",{"$f":"NEDOVOLJNI!B44","v":""}]
[null,"2.",{"$f":"NEDOVOLJNI!B45","v":""}]
[null,"3.",{"$f":"NEDOVOLJNI!B46","v":""}]
[null,"4.",{"$f":"NEDOVOLJNI!B47","v":""}]
[null,"5.",{"$f":"NEDOVOLJNI!B48","v":""}]
[null,"6.",{"$f":"NEDOVOLJNI!B49","v":""}]
[null,"7.",{"$f":"NEDOVOLJNI!B50","v":""}]
[null,"8.",{"$f":"NEDOVOLJNI!B51","v":""}]
[null,"9.",{"$f":"NEDOVOLJNI!B52","v":""}]
[null,"10.",{"$f":"NEDOVOLJNI!B53","v":""}]
[null,"11.",{"$f":"NEDOVOLJNI!B54","v":""}]
[null,"12.",{"$f":"NEDOVOLJNI!B55","v":""}]
[null,"13.",{"$f":"NEDOVOLJNI!B56","v":""}]
[null,"14.",{"$f":"NEDOVOLJNI!B57","v":""}]
[null,"15.",{"$f":"NEDOVOLJNI!B58","v":""}]
[null,"16.",{"$f":"NEDOVOLJNI!B59","v":""}]
[null,"17.",{"$f":"NEDOVOLJNI!B60","v":""}]
[null,"18.",{"$f":"NEDOVOLJNI!B61","v":""}]
[null,"19.",{"$f":"NEDOVOLJNI!B62","v":""}]
[null,"20.",{"$f":"NEDOVOLJNI!B63","v":""}]
[null,"21.",{"$f":"NEDOVOLJNI!B64","v":""}]
[null,"22.",{"$f":"NEDOVOLJNI!B65","v":""}]
[null,"23.",{"$f":"NEDOVOLJNI!B66","v":""}]
[null,"24.",{"$f":"NEDOVOLJNI!B67","v":""}]
[null,"25.",{"$f":"NEDOVOLJNI!B68","v":"Антић Миодраг има 1 јединице-a:српски"}]
[null,"26.",{"$f":"NEDOVOLJNI!B69","v":""}]
[null,"27.",{"$f":"NEDOVOLJNI!B70","v":""}]
[null,"28.",{"$f":"NEDOVOLJNI!B71","v":""}]
[null,"29.",{"$f":"NEDOVOLJNI!B72","v":""}]
[null,"30.",{"$f":"NEDOVOLJNI!B73","v":""}]
[null,"31.",{"$f":"NEDOVOLJNI!B74","v":""}]
[null,"32.",{"$f":"NEDOVOLJNI!B75","v":""}]
[null,"33.",{"$f":"NEDOVOLJNI!B76","v":""}]
[null,"34.",{"$f":"NEDOVOLJNI!B77","v":""}]
[null,"35.",{"$f":"NEDOVOLJNI!B78","v":""}]
[null,"36.",{"$f":"NEDOVOLJNI!B79","v":""}]
[null,"37.",{"$f":"NEDOVOLJNI!B80","v":""}]
[null,"38.",{"$f":"NEDOVOLJNI!B81","v":""}]
[null,"39.",{"$f":"NEDOVOLJNI!B82","v":""}]
[null,"40.",{"$f":"NEDOVOLJNI!B83","v":""}]
[]
[]
[]
[]
[null,"Ученици са умањеном  оценом из владања:",null,null,null,null,null,null,null,{"$f":"VLADANJE!$B$42","v":39}]
[null,"1.",{"$f":"VLADANJE!B44","v":"Ђокић Биљана  има 2 из владања ."}]
[null,"2.",{"$f":"VLADANJE!B45","v":"Лалатовић Петар  има 2 из владања ."}]
[null,"3.",{"$f":"VLADANJE!B46","v":"Јелић Персида  има 2 из владања ."}]
[null,"4.",{"$f":"VLADANJE!B47","v":""}]
[null,"5.",{"$f":"VLADANJE!B48","v":"Величковић Лука  има 2 из владања ."}]
[null,"6.",{"$f":"VLADANJE!B49","v":"Живаљевић Драгана  има 2 из владања ."}]
[null,"7.",{"$f":"VLADANJE!B50","v":"Исаковић Јефимија  има 2 из владања ."}]
[null,"8.",{"$f":"VLADANJE!B51","v":"Керковић Милан  има 2 из владања ."}]
[null,"9.",{"$f":"VLADANJE!B52","v":"Лалић Ратко  има 2 из владања ."}]
[null,"10.",{"$f":"VLADANJE!B53","v":"Антић Миодраг  има 3 из владања ."}]
[null,"11.",{"$f":"VLADANJE!B54","v":"Гроздановић Мила  има 2 из владања ."}]
[null,"12.",{"$f":"VLADANJE!B55","v":"Живковић Лука  има 2 из владања ."}]
[null,"13.",{"$f":"VLADANJE!B56","v":"Јаковљевић Милан  има 2 из владања ."}]
[null,"14.",{"$f":"VLADANJE!B57","v":"Јовановић Вишња  има 2 из владања ."}]
[null,"15.",{"$f":"VLADANJE!B58","v":"Костић Марина  има 2 из владања ."}]
[null,"16.",{"$f":"VLADANJE!B59","v":"Јанаћковић Драгана  има 2 из владања ."}]
[null,"17.",{"$f":"VLADANJE!B60","v":"Балашевић Весна  има 2 из владања ."}]
[null,"18.",{"$f":"VLADANJE!B61","v":"Денић Виолета  има 2 из владања ."}]
[null,"19.",{"$f":"VLADANJE!B62","v":"Ђорђевић Тијана  има 2 из владања ."}]
[null,"20.",{"$f":"VLADANJE!B63","v":"Жикић Саша  има 2 из владања ."}]
[null,"21.",{"$f":"VLADANJE!B64","v":"Јовић Сања  има 2 из владања ."}]
[null,"22.",{"$f":"VLADANJE!B65","v":"Коштуница Никола  има 2 из владања ."}]
[null,"23.",{"$f":"VLADANJE!B66","v":"Берић Миша  има 2 из владања ."}]
[null,"24.",{"$f":"VLADANJE!B67","v":"Денчић Перица  има 2 из владања ."}]
[null,"25.",{"$f":"VLADANJE!B68","v":"Жељановић Жељко  има 2 из владања ."}]
[null,"26.",{"$f":"VLADANJE!B69","v":"Игњатовић Радмила  има 2 из владања ."}]
[null,"27.",{"$f":"VLADANJE!B70","v":"Јанић Добрила  има 2 из владања ."}]
[null,"28.",{"$f":"VLADANJE!B71","v":"Караклајић Ненад  има 2 из владања ."}]
[null,"29.",{"$f":"VLADANJE!B72","v":"Кркобабић Милена  има 2 из владања ."}]
[null,"30.",{"$f":"VLADANJE!B73","v":"Динић Клаудија  има 2 из владања ."}]
[null,"31.",{"$f":"VLADANJE!B74","v":"Лалић Ратко  има 2 из владања ."}]
[null,"32.",{"$f":"VLADANJE!B75","v":"Лалић Ратко  има 2 из владања ."}]
[null,"33.",{"$f":"VLADANJE!B76","v":"Лалић Ратко  има 2 из владања ."}]
[null,"34.",{"$f":"VLADANJE!B77","v":"Лалић Ратко  има 2 из владања ."}]
[null,"35.",{"$f":"VLADANJE!B78","v":"Лалић Ратко  има 2 из владања ."}]
[null,"36.",{"$f":"VLADANJE!B79","v":"Лалић Ратко  има 2 из владања ."}]
[null,"37.",{"$f":"VLADANJE!B80","v":"Лалић Ратко  има 2 из владања ."}]
[null,"38.",{"$f":"VLADANJE!B81","v":"Лалић Ратко  има 2 из владања ."}]
[null,"39.",{"$f":"VLADANJE!B82","v":"Лалић Ратко  има 2 из владања ."}]
[null,"40.",{"$f":"VLADANJE!B83","v":"Лалић Ратко  има 2 из владања ."}]
[]
[]
[]
[]
[]
[null,"Неоцењени ученици",null,null,null,null,null,{"$f":"NEOCENJENI!$B$42","v":0}]
[null,"1.",{"$f":"NEOCENJENI!B44","v":""}]
[null,"2.",{"$f":"NEOCENJENI!B45","v":""}]
[null,"3.",{"$f":"NEOCENJENI!B46","v":""}]
[null,"4.",{"$f":"NEOCENJENI!B47","v":""}]
[null,"5.",{"$f":"NEOCENJENI!B48","v":""}]
[null,"6.",{"$f":"NEOCENJENI!B49","v":""}]
[null,"7.",{"$f":"NEOCENJENI!B50","v":""}]
[null,"8.",{"$f":"NEOCENJENI!B51","v":""}]
[null,"9.",{"$f":"NEOCENJENI!B52","v":""}]
[null,"10.",{"$f":"NEOCENJENI!B53","v":""}]
[null,"11.",{"$f":"NEOCENJENI!B54","v":""}]
[null,"12.",{"$f":"NEOCENJENI!B55","v":""}]
[null,"13.",{"$f":"NEOCENJENI!B56","v":""}]
[null,"14.",{"$f":"NEOCENJENI!B57","v":""}]
[null,"15.",{"$f":"NEOCENJENI!B58","v":""}]
[null,"16.",{"$f":"NEOCENJENI!B59","v":""}]
[null,"17.",{"$f":"NEOCENJENI!B60","v":""}]
[null,"18.",{"$f":"NEOCENJENI!B61","v":""}]
[null,"19.",{"$f":"NEOCENJENI!B62","v":""}]
[null,"20.",{"$f":"NEOCENJENI!B63","v":""}]
[null,"21.",{"$f":"NEOCENJENI!B64","v":""}]
[null,"22.",{"$f":"NEOCENJENI!B65","v":""}]
[null,"23.",{"$f":"NEOCENJENI!B66","v":""}]
[null,"24.",{"$f":"NEOCENJENI!B67","v":""}]
[null,"25.",{"$f":"NEOCENJENI!B68","v":""}]
[null,"26.",{"$f":"NEOCENJENI!B69","v":""}]
[null,"27.",{"$f":"NEOCENJENI!B70","v":""}]
[null,"28.",{"$f":"NEOCENJENI!B71","v":""}]
[null,"29.",{"$f":"NEOCENJENI!B72","v":""}]
[null,"30.",{"$f":"NEOCENJENI!B73","v":""}]
[null,"31.",{"$f":"NEOCENJENI!B74","v":""}]
[null,"32.",{"$f":"NEOCENJENI!B75","v":""}]
[null,"33.",{"$f":"NEOCENJENI!B76","v":""}]
[null,"34.",{"$f":"NEOCENJENI!B77","v":""}]
[null,"35.",{"$f":"NEOCENJENI!B78","v":""}]
[null,"36.",{"$f":"NEOCENJENI!B79","v":""}]
[null,"37.",{"$f":"NEOCENJENI!B80","v":""}]
[null,"38.",{"$f":"NEOCENJENI!B81","v":""}]
[null,"39.",{"$f":"NEOCENJENI!B82","v":""}]
[null,"40.",{"$f":"NEOCENJENI!B83","v":""}]
[]
[]
[]
[null,"НЕДОВОЉНИ И НЕОЦЕЊЕНИ УЧЕНИЦИ",null,null,null,null,null,{"$f":"'NEDOVOLJNI I NEOCENJENI'!$B$42","v":0}]
[null,"1.",{"$f":"'NEDOVOLJNI I NEOCENJENI'!B44","v":{"$error":"#REF!"}}]
[null,"2.",{"$f":"'NEDOVOLJNI I NEOCENJENI'!B45","v":""}]
[null,"3.",{"$f":"'NEDOVOLJNI I NEOCENJENI'!B46","v":""}]
[null,"4.",{"$f":"'NEDOVOLJNI I NEOCENJENI'!B47","v":{"$error":"#REF!"}}]
[null,"5.",{"$f":"'NEDOVOLJNI I NEOCENJENI'!B48","v":""}]
[null,"6.",{"$f":"'NEDOVOLJNI I NEOCENJENI'!B49","v":""}]
[null,"7.",{"$f":"'NEDOVOLJNI I NEOCENJENI'!B50","v":{"$error":"#REF!"}}]
[null,"8.",{"$f":"'NEDOVOLJNI I NEOCENJENI'!B51","v":""}]
[null,"9.",{"$f":"'NEDOVOLJNI I NEOCENJENI'!B52","v":""}]
[null,"10.",{"$f":"'NEDOVOLJNI I NEOCENJENI'!B53","v":""}]
[null,"11.",{"$f":"'NEDOVOLJNI I NEOCENJENI'!B54","v":""}]
[null,"12.",{"$f":"'NEDOVOLJNI I NEOCENJENI'!B55","v":""}]
[null,"13.",{"$f":"'NEDOVOLJNI I NEOCENJENI'!B56","v":""}]
[null,"14.",{"$f":"'NEDOVOLJNI I NEOCENJENI'!B57","v":""}]
[null,"15.",{"$f":"'NEDOVOLJNI I NEOCENJENI'!B58","v":""}]
[null,"16.",{"$f":"'NEDOVOLJNI I NEOCENJENI'!B59","v":{"$error":"#REF!"}}]
[null,"17.",{"$f":"'NEDOVOLJNI I NEOCENJENI'!B60","v":""}]
[null,"18.",{"$f":"'NEDOVOLJNI I NEOCENJENI'!B61","v":""}]
[null,"19.",{"$f":"'NEDOVOLJNI I NEOCENJENI'!B62","v":""}]
[null,"20.",{"$f":"'NEDOVOLJNI I NEOCENJENI'!B63","v":""}]
[null,"21.",{"$f":"'NEDOVOLJNI I NEOCENJENI'!B64","v":""}]
[null,"22.",{"$f":"'NEDOVOLJNI I NEOCENJENI'!B65","v":""}]
[null,"23.",{"$f":"'NEDOVOLJNI I NEOCENJENI'!B66","v":""}]
[null,"24.",{"$f":"'NEDOVOLJNI I NEOCENJENI'!B67","v":""}]
[null,"25.",{"$f":"'NEDOVOLJNI I NEOCENJENI'!B68","v":""}]
[null,"26.",{"$f":"'NEDOVOLJNI I NEOCENJENI'!B69","v":""}]
[null,"27.",{"$f":"'NEDOVOLJNI I NEOCENJENI'!B70","v":""}]
[null,"28.",{"$f":"'NEDOVOLJNI I NEOCENJENI'!B71","v":""}]
[null,"29.",{"$f":"'NEDOVOLJNI I NEOCENJENI'!B72","v":""}]
[null,"30.",{"$f":"'NEDOVOLJNI I NEOCENJENI'!B73","v":""}]
[null,"31.",{"$f":"'NEDOVOLJNI I NEOCENJENI'!B74","v":""}]
[null,"32.",{"$f":"'NEDOVOLJNI I NEOCENJENI'!B75","v":""}]
[null,"33.",{"$f":"'NEDOVOLJNI I NEOCENJENI'!B76","v":""}]
[null,"34.",{"$f":"'NEDOVOLJNI I NEOCENJENI'!B77","v":""}]
[null,"35.",{"$f":"'NEDOVOLJNI I NEOCENJENI'!B78","v":""}]
[null,"36.",{"$f":"'NEDOVOLJNI I NEOCENJENI'!B79","v":""}]
[null,"37.",{"$f":"'NEDOVOLJNI I NEOCENJENI'!B80","v":""}]
[null,"38.",{"$f":"'NEDOVOLJNI I NEOCENJENI'!B81","v":""}]
[null,"39.",{"$f":"'NEDOVOLJNI I NEOCENJENI'!B82","v":""}]
[null,"40.",{"$f":"'NEDOVOLJNI I NEOCENJENI'!B83","v":""}]

{"sheet":"NEDOVOLJNI","index":2,"n_rows":83,"n_cols":24,"rows_kept":83,"cut":false,"hidden":false,"merged":[]}
[null,null,"БРОЈ ЈЕДИНИЦА","српски","енглески","историја","физика","хемија","физичко","математика","биологија","биологија","биологија","биологија","биологија","биологија","биологија","биологија","биологија","биологија","биологија","биологија","биологија","владање"]
["1.",{"$f":"IF(UPIS!AC34>0,UPIS!B34,\"\")","v":""},{"$f":"IF(UPIS!AC34>0,UPIS!AC34,\"\")","v":""},{"$f":"IF(UPIS!C34=1,UPIS!C$1,\"\")","v":""},{"$f":"IF(UPIS!D34=1,UPIS!D$1,\"\")","v":""},{"$f":"IF(UPIS!E34=1,UPIS!E$1,\"\")","v":""},{"$f":"IF(UPIS!F34=1,UPIS!F$1,\"\")","v":""},{"$f":"IF(UPIS!G34=1,UPIS!G$1,\"\")","v":""},{"$f":"IF(UPIS!H34=1,UPIS!H$1,\"\")","v":""},{"$f":"IF(UPIS!I34=1,UPIS!I$1,\"\")","v":""},{"$f":"IF(UPIS!J34=1,UPIS!J$1,\"\")","v":""},{"$f":"IF(UPIS!K34=1,UPIS!K$1,\"\")","v":""},{"$f":"IF(UPIS!L34=1,UPIS!L$1,\"\")","v":""},{"$f":"IF(UPIS!M34=1,UPIS!M$1,\"\")","v":""},{"$f":"IF(UPIS!N34=1,UPIS!N$1,\"\")","v":""},{"$f":"IF(UPIS!O34=1,UPIS!O$1,\"\")","v":""},{"$f":"IF(UPIS!P34=1,UPIS!P$1,\"\")","v":""},{"$f":"IF(UPIS!Q34=1,UPIS!Q$1,\"\")","v":""},{"$f":"IF(UPIS!R34=1,UPIS!R$1,\"\")","v":""},{"$f":"IF(UPIS!S34=1,UPIS!S$1,\"\")","v":""},{"$f":"IF(UPIS!T34=1,UPIS!T$1,\"\")","v":""},{"$f":"IF(UPIS!U34=1,UPIS!U$1,\"\")","v":""},{"$f":"IF(UPIS!V34=1,UPIS!V$1,\"\")","v":""},{"$f":"IF(UPIS!W34=1,UPIS!W$1,\"\")","v":""}]
["2.",{"$f":"IF(UPIS!AC36>0,UPIS!B36,\"\")","v":""},{"$f":"IF(UPIS!AC36>0,UPIS!AC36,\"\")","v":""},{"$f":"IF(UPIS!C36=1,UPIS!C$1,\"\")","v":""},{"$f":"IF(UPIS!D36=1,UPIS!D$1,\"\")","v":""},{"$f":"IF(UPIS!E36=1,UPIS!E$1,\"\")","v":""},{"$f":"IF(UPIS!F36=1,UPIS!F$1,\"\")","v":""},{"$f":"IF(UPIS!G36=1,UPIS!G$1,\"\")","v":""},{"$f":"IF(UPIS!H36=1,UPIS!H$1,\"\")","v":""},{"$f":"IF(UPIS!I36=1,UPIS!I$1,\"\")","v":""},{"$f":"IF(UPIS!J36=1,UPIS!J$1,\"\")","v":""},{"$f":"IF(UPIS!K36=1,UPIS!K$1,\"\")","v":""},{"$f":"IF(UPIS!L36=1,UPIS!L$1,\"\")","v":""},{"$f":"IF(UPIS!M36=1,UPIS!M$1,\"\")","v":""},{"$f":"IF(UPIS!N36=1,UPIS!N$1,\"\")","v":""},{"$f":"IF(UPIS!O36=1,UPIS!O$1,\"\")","v":""},{"$f":"IF(UPIS!P36=1,UPIS!P$1,\"\")","v":""},{"$f":"IF(UPIS!Q36=1,UPIS!Q$1,\"\")","v":""},{"$f":"IF(UPIS!R36=1,UPIS!R$1,\"\")","v":""},{"$f":"IF(UPIS!S36=1,UPIS!S$1,\"\")","v":""},{"$f":"IF(UPIS!T36=1,UPIS!T$1,\"\")","v":""},{"$f":"IF(UPIS!U36=1,UPIS!U$1,\"\")","v":""},{"$f":"IF(UPIS!V36=1,UPIS!V$1,\"\")","v":""},{"$f":"IF(UPIS!W36=1,UPIS!W$1,\"\")","v":""}]
["3.",{"$f":"IF(UPIS!AC32>0,UPIS!B32,\"\")","v":""},{"$f":"IF(UPIS!AC32>0,UPIS!AC32,\"\")","v":""},{"$f":"IF(UPIS!C32=1,UPIS!C$1,\"\")","v":""},{"$f":"IF(UPIS!D32=1,UPIS!D$1,\"\")","v":""},{"$f":"IF(UPIS!E32=1,UPIS!E$1,\"\")","v":""},{"$f":"IF(UPIS!F32=1,UPIS!F$1,\"\")","v":""},{"$f":"IF(UPIS!G32=1,UPIS!G$1,\"\")","v":""},{"$f":"IF(UPIS!H32=1,UPIS!H$1,\"\")","v":""},{"$f":"IF(UPIS!I32=1,UPIS!I$1,\"\")","v":""},{"$f":"IF(UPIS!J32=1,UPIS!J$1,\"\")","v":""},{"$f":"IF(UPIS!K32=1,UPIS!K$1,\"\")","v":""},{"$f":"IF(UPIS!L32=1,UPIS!L$1,\"\")","v":""},{"$f":"IF(UPIS!M32=1,UPIS!M$1,\"\")","v":""},{"$f":"IF(UPIS!N32=1,UPIS!N$1,\"\")","v":""},{"$f":"IF(UPIS!O32=1,UPIS!O$1,\"\")","v":""},{"$f":"IF(UPIS!P32=1,UPIS!P$1,\"\")","v":""},{"$f":"IF(UPIS!Q32=1,UPIS!Q$1,\"\")","v":""},{"$f":"IF(UPIS!R32=1,UPIS!R$1,\"\")","v":""},{"$f":"IF(UPIS!S32=1,UPIS!S$1,\"\")","v":""},{"$f":"IF(UPIS!T32=1,UPIS!T$1,\"\")","v":""},{"$f":"IF(UPIS!U32=1,UPIS!U$1,\"\")","v":""},{"$f":"IF(UPIS!V32=1,UPIS!V$1,\"\")","v":""},{"$f":"IF(UPIS!W32=1,UPIS!W$1,\"\")","v":""}]
["4.",{"$f":"IF(UPIS!AC33>0,UPIS!B33,\"\")","v":""},{"$f":"IF(UPIS!AC33>0,UPIS!AC33,\"\")","v":""},{"$f":"IF(UPIS!C33=1,UPIS!C$1,\"\")","v":""},{"$f":"IF(UPIS!D33=1,UPIS!D$1,\"\")","v":""},{"$f":"IF(UPIS!E33=1,UPIS!E$1,\"\")","v":""},{"$f":"IF(UPIS!F33=1,UPIS!F$1,\"\")","v":""},{"$f":"IF(UPIS!G33=1,UPIS!G$1,\"\")","v":""},{"$f":"IF(UPIS!H33=1,UPIS!H$1,\"\")","v":""},{"$f":"IF(UPIS!I33=1,UPIS!I$1,\"\")","v":""},{"$f":"IF(UPIS!J33=1,UPIS!J$1,\"\")","v":""},{"$f":"IF(UPIS!K33=1,UPIS!K$1,\"\")","v":""},{"$f":"IF(UPIS!L33=1,UPIS!L$1,\"\")","v":""},{"$f":"IF(UPIS!M33=1,UPIS!M$1,\"\")","v":""},{"$f":"IF(UPIS!N33=1,UPIS!N$1,\"\")","v":""},{"$f":"IF(UPIS!O33=1,UPIS!O$1,\"\")","v":""},{"$f":"IF(UPIS!P33=1,UPIS!P$1,\"\")","v":""},{"$f":"IF(UPIS!Q33=1,UPIS!Q$1,\"\")","v":""},{"$f":"IF(UPIS!R33=1,UPIS!R$1,\"\")","v":""},{"$f":"IF(UPIS!S33=1,UPIS!S$1,\"\")","v":""},{"$f":"IF(UPIS!T33=1,UPIS!T$1,\"\")","v":""},{"$f":"IF(UPIS!U33=1,UPIS!U$1,\"\")","v":""},{"$f":"IF(UPIS!V33=1,UPIS!V$1,\"\")","v":""},{"$f":"IF(UPIS!W33=1,UPIS!W$1,\"\")","v":""}]
["5.",{"$f":"IF(UPIS!AC35>0,UPIS!B35,\"\")","v":""},{"$f":"IF(UPIS!AC35>0,UPIS!AC35,\"\")","v":""},{"$f":"IF(UPIS!C35=1,UPIS!C$1,\"\")","v":""},{"$f":"IF(UPIS!D35=1,UPIS!D$1,\"\")","v":""},{"$f":"IF(UPIS!E35=1,UPIS!E$1,\"\")","v":""},{"$f":"IF(UPIS!F35=1,UPIS!F$1,\"\")","v":""},{"$f":"IF(UPIS!G35=1,UPIS!G$1,\"\")","v":""},{"$f":"IF(UPIS!H35=1,UPIS!H$1,\"\")","v":""},{"$f":"IF(UPIS!I35=1,UPIS!I$1,\"\")","v":""},{"$f":"IF(UPIS!J35=1,UPIS!J$1,\"\")","v":""},{"$f":"IF(UPIS!K35=1,UPIS!K$1,\"\")","v":""},{"$f":"IF(UPIS!L35=1,UPIS!L$1,\"\")","v":""},{"$f":"IF(UPIS!M35=1,UPIS!M$1,\"\")","v":""},{"$f":"IF(UPIS!N35=1,UPIS!N$1,\"\")","v":""},{"$f":"IF(UPIS!O35=1,UPIS!O$1,\"\")","v":""},{"$f":"IF(UPIS!P35=1,UPIS!P$1,\"\")","v":""},{"$f":"IF(UPIS!Q35=1,UPIS!Q$1,\"\")","v":""},{"$f":"IF(UPIS!R35=1,UPIS!R$1,\"\")","v":""},{"$f":"IF(UPIS!S35=1,UPIS!S$1,\"\")","v":""},{"$f":"IF(UPIS!T35=1,UPIS!T$1,\"\")","v":""},{"$f":"IF(UPIS!U35=1,UPIS!U$1,\"\")","v":""},{"$f":"IF(UPIS!V35=1,UPIS!V$1,\"\")","v":""},{"$f":"IF(UPIS!W35=1,UPIS!W$1,\"\")","v":""}]
["6.",{"$f":"IF(UPIS!AC37>0,UPIS!B37,\"\")","v":""},{"$f":"IF(UPIS!AC37>0,UPIS!AC37,\"\")","v":""},{"$f":"IF(UPIS!C37=1,UPIS!C$1,\"\")","v":""},{"$f":"IF(UPIS!D37=1,UPIS!D$1,\"\")","v":""},{"$f":"IF(UPIS!E37=1,UPIS!E$1,\"\")","v":""},{"$f":"IF(UPIS!F37=1,UPIS!F$1,\"\")","v":""},{"$f":"IF(UPIS!G37=1,UPIS!G$1,\"\")","v":""},{"$f":"IF(UPIS!H37=1,UPIS!H$1,\"\")","v":""},{"$f":"IF(UPIS!I37=1,UPIS!I$1,\"\")","v":""},{"$f":"IF(UPIS!J37=1,UPIS!J$1,\"\")","v":""},{"$f":"IF(UPIS!K37=1,UPIS!K$1,\"\")","v":""},{"$f":"IF(UPIS!L37=1,UPIS!L$1,\"\")","v":""},{"$f":"IF(UPIS!M37=1,UPIS!M$1,\"\")","v":""},{"$f":"IF(UPIS!N37=1,UPIS!N$1,\"\")","v":""},{"$f":"IF(UPIS!O37=1,UPIS!O$1,\"\")","v":""},{"$f":"IF(UPIS!P37=1,UPIS!P$1,\"\")","v":""},{"$f":"IF(UPIS!Q37=1,UPIS!Q$1,\"\")","v":""},{"$f":"IF(UPIS!R37=1,UPIS!R$1,\"\")","v":""},{"$f":"IF(UPIS!S37=1,UPIS!S$1,\"\")","v":""},{"$f":"IF(UPIS!T37=1,UPIS!T$1,\"\")","v":""},{"$f":"IF(UPIS!U37=1,UPIS!U$1,\"\")","v":""},{"$f":"IF(UPIS!V37=1,UPIS!V$1,\"\")","v":""},{"$f":"IF(UPIS!W37=1,UPIS!W$1,\"\")","v":""}]
["7.",{"$f":"IF(UPIS!AC38>0,UPIS!B38,\"\")","v":""},{"$f":"IF(UPIS!AC38>0,UPIS!AC38,\"\")","v":""},{"$f":"IF(UPIS!C38=1,UPIS!C$1,\"\")","v":""},{"$f":"IF(UPIS!D38=1,UPIS!D$1,\"\")","v":""},{"$f":"IF(UPIS!E38=1,UPIS!E$1,\"\")","v":""},{"$f":"IF(UPIS!F38=1,UPIS!F$1,\"\")","v":""},{"$f":"IF(UPIS!G38=1,UPIS!G$1,\"\")","v":""},{"$f":"IF(UPIS!H38=1,UPIS!H$1,\"\")","v":""},{"$f":"IF(UPIS!I38=1,UPIS!I$1,\"\")","v":""},{"$f":"IF(UPIS!J38=1,UPIS!J$1,\"\")","v":""},{"$f":"IF(UPIS!K38=1,UPIS!K$1,\"\")","v":""},{"$f":"IF(UPIS!L38=1,UPIS!L$1,\"\")","v":""},{"$f":"IF(UPIS!M38=1,UPIS!M$1,\"\")","v":""},{"$f":"IF(UPIS!N38=1,UPIS!N$1,\"\")","v":""},{"$f":"IF(UPIS!O38=1,UPIS!O$1,\"\")","v":""},{"$f":"IF(UPIS!P38=1,UPIS!P$1,\"\")","v":""},{"$f":"IF(UPIS!Q38=1,UPIS!Q$1,\"\")","v":""},{"$f":"IF(UPIS!R38=1,UPIS!R$1,\"\")","v":""},{"$f":"IF(UPIS!S38=1,UPIS!S$1,\"\")","v":""},{"$f":"IF(UPIS!T38=1,UPIS!T$1,\"\")","v":""},{"$f":"IF(UPIS!U38=1,UPIS!U$1,\"\")","v":""},{"$f":"IF(UPIS!V38=1,UPIS!V$1,\"\")","v":""},{"$f":"IF(UPIS!W38=1,UPIS!W$1,\"\")","v":""}]
["8.",{"$f":"IF(UPIS!AC39>0,UPIS!B39,\"\")","v":""},{"$f":"IF(UPIS!AC39>0,UPIS!AC39,\"\")","v":""},{"$f":"IF(UPIS!C39=1,UPIS!C$1,\"\")","v":""},{"$f":"IF(UPIS!D39=1,UPIS!D$1,\"\")","v":""},{"$f":"IF(UPIS!E39=1,UPIS!E$1,\"\")","v":""},{"$f":"IF(UPIS!F39=1,UPIS!F$1,\"\")","v":""},{"$f":"IF(UPIS!G39=1,UPIS!G$1,\"\")","v":""},{"$f":"IF(UPIS!H39=1,UPIS!H$1,\"\")","v":""},{"$f":"IF(UPIS!I39=1,UPIS!I$1,\"\")","v":""},{"$f":"IF(UPIS!J39=1,UPIS!J$1,\"\")","v":""},{"$f":"IF(UPIS!K39=1,UPIS!K$1,\"\")","v":""},{"$f":"IF(UPIS!L39=1,UPIS!L$1,\"\")","v":""},{"$f":"IF(UPIS!M39=1,UPIS!M$1,\"\")","v":""},{"$f":"IF(UPIS!N39=1,UPIS!N$1,\"\")","v":""},{"$f":"IF(UPIS!O39=1,UPIS!O$1,\"\")","v":""},{"$f":"IF(UPIS!P39=1,UPIS!P$1,\"\")","v":""},{"$f":"IF(UPIS!Q39=1,UPIS!Q$1,\"\")","v":""},{"$f":"IF(UPIS!R39=1,UPIS!R$1,\"\")","v":""},{"$f":"IF(UPIS!S39=1,UPIS!S$1,\"\")","v":""},{"$f":"IF(UPIS!T39=1,UPIS!T$1,\"\")","v":""},{"$f":"IF(UPIS!U39=1,UPIS!U$1,\"\")","v":""},{"$f":"IF(UPIS!V39=1,UPIS!V$1,\"\")","v":""},{"$f":"IF(UPIS!W39=1,UPIS!W$1,\"\")","v":""}]
["9.",{"$f":"IF(UPIS!AC40>0,UPIS!B40,\"\")","v":""},{"$f":"IF(UPIS!AC40>0,UPIS!AC40,\"\")","v":""},{"$f":"IF(UPIS!C40=1,UPIS!C$1,\"\")","v":""},{"$f":"IF(UPIS!D40=1,UPIS!D$1,\"\")","v":""},{"$f":"IF(UPIS!E40=1,UPIS!E$1,\"\")","v":""},{"$f":"IF(UPIS!F40=1,UPIS!F$1,\"\")","v":""},{"$f":"IF(UPIS!G40=1,UPIS!G$1,\"\")","v":""},{"$f":"IF(UPIS!H40=1,UPIS!H$1,\"\")","v":""},{"$f":"IF(UPIS!I40=1,UPIS!I$1,\"\")","v":""},{"$f":"IF(UPIS!J40=1,UPIS!J$1,\"\")","v":""},{"$f":"IF(UPIS!K40=1,UPIS!K$1,\"\")","v":""},{"$f":"IF(UPIS!L40=1,UPIS!L$1,\"\")","v":""},{"$f":"IF(UPIS!M40=1,UPIS!M$1,\"\")","v":""},{"$f":"IF(UPIS!N40=1,UPIS!N$1,\"\")","v":""},{"$f":"IF(UPIS!O40=1,UPIS!O$1,\"\")","v":""},{"$f":"IF(UPIS!P40=1,UPIS!P$1,\"\")","v":""},{"$f":"IF(UPIS!Q40=1,UPIS!Q$1,\"\")","v":""},{"$f":"IF(UPIS!R40=1,UPIS!R$1,\"\")","v":""},{"$f":"IF(UPIS!S40=1,UPIS!S$1,\"\")","v":""},{"$f":"IF(UPIS!T40=1,UPIS!T$1,\"\")","v":""},{"$f":"IF(UPIS!U40=1,UPIS!U$1,\"\")","v":""},{"$f":"IF(UPIS!V40=1,UPIS!V$1,\"\")","v":""},{"$f":"IF(UPIS!W40=1,UPIS!W$1,\"\")","v":""}]
["10.",{"$f":"IF(UPIS!AC41>0,UPIS!B41,\"\")","v":""},{"$f":"IF(UPIS!AC41>0,UPIS!AC41,\"\")","v":""},{"$f":"IF(UPIS!C41=1,UPIS!C$1,\"\")","v":""},{"$f":"IF(UPIS!D41=1,UPIS!D$1,\"\")","v":""},{"$f":"IF(UPIS!E41=1,UPIS!E$1,\"\")","v":""},{"$f":"IF(UPIS!F41=1,UPIS!F$1,\"\")","v":""},{"$f":"IF(UPIS!G41=1,UPIS!G$1,\"\")","v":""},{"$f":"IF(UPIS!H41=1,UPIS!H$1,\"\")","v":""},{"$f":"IF(UPIS!I41=1,UPIS!I$1,\"\")","v":""},{"$f":"IF(UPIS!J41=1,UPIS!J$1,\"\")","v":""},{"$f":"IF(UPIS!K41=1,UPIS!K$1,\"\")","v":""},{"$f":"IF(UPIS!L41=1,UPIS!L$1,\"\")","v":""},{"$f":"IF(UPIS!M41=1,UPIS!M$1,\"\")","v":""},{"$f":"IF(UPIS!N41=1,UPIS!N$1,\"\")","v":""},{"$f":"IF(UPIS!O41=1,UPIS!O$1,\"\")","v":""},{"$f":"IF(UPIS!P41=1,UPIS!P$1,\"\")","v":""},{"$f":"IF(UPIS!Q41=1,UPIS!Q$1,\"\")","v":""},{"$f":"IF(UPIS!R41=1,UPIS!R$1,\"\")","v":""},{"$f":"IF(UPIS!S41=1,UPIS!S$1,\"\")","v":""},{"$f":"IF(UPIS!T41=1,UPIS!T$1,\"\")","v":""},{"$f":"IF(UPIS!U41=1,UPIS!U$1,\"\")","v":""},{"$f":"IF(UPIS!V41=1,UPIS!V$1,\"\")","v":""},{"$f":"IF(UPIS!W41=1,UPIS!W$1,\"\")","v":""}]
["11.",{"$f":"IF(UPIS!AC2>0,UPIS!B2,\"\")","v":""},{"$f":"IF(UPIS!AC2>0,UPIS!AC2,\"\")","v":""},{"$f":"IF(UPIS!C2=1,UPIS!C$1,\"\")","v":""},{"$f":"IF(UPIS!D2=1,UPIS!D$1,\"\")","v":""},{"$f":"IF(UPIS!E2=1,UPIS!E$1,\"\")","v":""},{"$f":"IF(UPIS!F2=1,UPIS!F$1,\"\")","v":""},{"$f":"IF(UPIS!G2=1,UPIS!G$1,\"\")","v":""},{"$f":"IF(UPIS!H2=1,UPIS!H$1,\"\")","v":""},{"$f":"IF(UPIS!I2=1,UPIS!I$1,\"\")","v":""},{"$f":"IF(UPIS!J2=1,UPIS!J$1,\"\")","v":""},{"$f":"IF(UPIS!K2=1,UPIS!K$1,\"\")","v":""},{"$f":"IF(UPIS!L2=1,UPIS!L$1,\"\")","v":""},{"$f":"IF(UPIS!M2=1,UPIS!M$1,\"\")","v":""},{"$f":"IF(UPIS!N2=1,UPIS!N$1,\"\")","v":""},{"$f":"IF(UPIS!O2=1,UPIS!O$1,\"\")","v":""},{"$f":"IF(UPIS!P2=1,UPIS!P$1,\"\")","v":""},{"$f":"IF(UPIS!Q2=1,UPIS!Q$1,\"\")","v":""},{"$f":"IF(UPIS!R2=1,UPIS!R$1,\"\")","v":""},{"$f":"IF(UPIS!S2=1,UPIS!S$1,\"\")","v":""},{"$f":"IF(UPIS!T2=1,UPIS!T$1,\"\")","v":""},{"$f":"IF(UPIS!U2=1,UPIS!U$1,\"\")","v":""},{"$f":"IF(UPIS!V2=1,UPIS!V$1,\"\")","v":""},{"$f":"IF(UPIS!W2=1,UPIS!W$1,\"\")","v":""}]
["12.",{"$f":"IF(UPIS!AC6>0,UPIS!B6,\"\")","v":""},{"$f":"IF(UPIS!AC6>0,UPIS!AC6,\"\")","v":""},{"$f":"IF(UPIS!C6=1,UPIS!C$1,\"\")","v":""},{"$f":"IF(UPIS!D6=1,UPIS!D$1,\"\")","v":""},{"$f":"IF(UPIS!E6=1,UPIS!E$1,\"\")","v":""},{"$f":"IF(UPIS!F6=1,UPIS!F$1,\"\")","v":""},{"$f":"IF(UPIS!G6=1,UPIS!G$1,\"\")","v":""},{"$f":"IF(UPIS!H6=1,UPIS!H$1,\"\")","v":""},{"$f":"IF(UPIS!I6=1,UPIS!I$1,\"\")","v":""},{"$f":"IF(UPIS!J6=1,UPIS!J$1,\"\")","v":""},{"$f":"IF(UPIS!K6=1,UPIS!K$1,\"\")","v":""},{"$f":"IF(UPIS!L6=1,UPIS!L$1,\"\")","v":""},{"$f":"IF(UPIS!M6=1,UPIS!M$1,\"\")","v":""},{"$f":"IF(UPIS!N6=1,UPIS!N$1,\"\")","v":""},{"$f":"IF(UPIS!O6=1,UPIS!O$1,\"\")","v":""},{"$f":"IF(UPIS!P6=1,UPIS!P$1,\"\")","v":""},{"$f":"IF(UPIS!Q6=1,UPIS!Q$1,\"\")","v":""},{"$f":"IF(UPIS!R6=1,UPIS!R$1,\"\")","v":""},{"$f":"IF(UPIS!S6=1,UPIS!S$1,\"\")","v":""},{"$f":"IF(UPIS!T6=1,UPIS!T$1,\"\")","v":""},{"$f":"IF(UPIS!U6=1,UPIS!U$1,\"\")","v":""},{"$f":"IF(UPIS!V6=1,UPIS!V$1,\"\")","v":""},{"$f":"IF(UPIS!W6=1,UPIS!W$1,\"\")","v":""}]
["13.",{"$f":"IF(UPIS!AC10>0,UPIS!B10,\"\")","v":""},{"$f":"IF(UPIS!AC10>0,UPIS!AC10,\"\")","v":""},{"$f":"IF(UPIS!C10=1,UPIS!C$1,\"\")","v":""},{"$f":"IF(UPIS!D10=1,UPIS!D$1,\"\")","v":""},{"$f":"IF(UPIS!E10=1,UPIS!E$1,\"\")","v":""},{"$f":"IF(UPIS!F10=1,UPIS!F$1,\"\")","v":""},{"$f":"IF(UPIS!G10=1,UPIS!G$1,\"\")","v":""},{"$f":"IF(UPIS!H10=1,UPIS!H$1,\"\")","v":""},{"$f":"IF(UPIS!I10=1,UPIS!I$1,\"\")","v":""},{"$f":"IF(UPIS!J10=1,UPIS!J$1,\"\")","v":""},{"$f":"IF(UPIS!K10=1,UPIS!K$1,\"\")","v":""},{"$f":"IF(UPIS!L10=1,UPIS!L$1,\"\")","v":""},{"$f":"IF(UPIS!M10=1,UPIS!M$1,\"\")","v":""},{"$f":"IF(UPIS!N10=1,UPIS!N$1,\"\")","v":""},{"$f":"IF(UPIS!O10=1,UPIS!O$1,\"\")","v":""},{"$f":"IF(UPIS!P10=1,UPIS!P$1,\"\")","v":""},{"$f":"IF(UPIS!Q10=1,UPIS!Q$1,\"\")","v":""},{"$f":"IF(UPIS!R10=1,UPIS!R$1,\"\")","v":""},{"$f":"IF(UPIS!S10=1,UPIS!S$1,\"\")","v":""},{"$f":"IF(UPIS!T10=1,UPIS!T$1,\"\")","v":""},{"$f":"IF(UPIS!U10=1,UPIS!U$1,\"\")","v":""},{"$f":"IF(UPIS!V10=1,UPIS!V$1,\"\")","v":""},{"$f":"IF(UPIS!W10=1,UPIS!W$1,\"\")","v":""}]
["14.",{"$f":"IF(UPIS!AC14>0,UPIS!B14,\"\")","v":""},{"$f":"IF(UPIS!AC14>0,UPIS!AC14,\"\")","v":""},{"$f":"IF(UPIS!C14=1,UPIS!C$1,\"\")","v":""},{"$f":"IF(UPIS!D14=1,UPIS!D$1,\"\")","v":""},{"$f":"IF(UPIS!E14=1,UPIS!E$1,\"\")","v":""},{"$f":"IF(UPIS!F14=1,UPIS!F$1,\"\")","v":""},{"$f":"IF(UPIS!G14=1,UPIS!G$1,\"\")","v":""},{"$f":"IF(UPIS!H14=1,UPIS!H$1,\"\")","v":""},{"$f":"IF(UPIS!I14=1,UPIS!I$1,\"\")","v":""},{"$f":"IF(UPIS!J14=1,UPIS!J$1,\"\")","v":""},{"$f":"IF(UPIS!K14=1,UPIS!K$1,\"\")","v":""},{"$f":"IF(UPIS!L14=1,UPIS!L$1,\"\")","v":""},{"$f":"IF(UPIS!M14=1,UPIS!M$1,\"\")","v":""},{"$f":"IF(UPIS!N14=1,UPIS!N$1,\"\")","v":""},{"$f":"IF(UPIS!O14=1,UPIS!O$1,\"\")","v":""},{"$f":"IF(UPIS!P14=1,UPIS!P$1,\"\")","v":""},{"$f":"IF(UPIS!Q14=1,UPIS!Q$1,\"\")","v":""},{"$f":"IF(UPIS!R14=1,UPIS!R$1,\"\")","v":""},{"$f":"IF(UPIS!S14=1,UPIS!S$1,\"\")","v":""},{"$f":"IF(UPIS!T14=1,UPIS!T$1,\"\")","v":""},{"$f":"IF(UPIS!U14=1,UPIS!U$1,\"\")","v":""},{"$f":"IF(UPIS!V14=1,UPIS!V$1,\"\")","v":""},{"$f":"IF(UPIS!W14=1,UPIS!W$1,\"\")","v":""}]
["15.",{"$f":"IF(UPIS!AC13>0,UPIS!B13,\"\")","v":""},{"$f":"IF(UPIS!AC13>0,UPIS!AC13,\"\")","v":""},{"$f":"IF(UPIS!C13=1,UPIS!C$1,\"\")","v":""},{"$f":"IF(UPIS!D13=1,UPIS!D$1,\"\")","v":""},{"$f":"IF(UPIS!E13=1,UPIS!E$1,\"\")","v":""},{"$f":"IF(UPIS!F13=1,UPIS!F$1,\"\")","v":""},{"$f":"IF(UPIS!G13=1,UPIS!G$1,\"\")","v":""},{"$f":"IF(UPIS!H13=1,UPIS!H$1,\"\")","v":""},{"$f":"IF(UPIS!I13=1,UPIS!I$1,\"\")","v":""},{"$f":"IF(UPIS!J13=1,UPIS!J$1,\"\")","v":""},{"$f":"IF(UPIS!K13=1,UPIS!K$1,\"\")","v":""},{"$f":"IF(UPIS!L13=1,UPIS!L$1,\"\")","v":""},{"$f":"IF(UPIS!M13=1,UPIS!M$1,\"\")","v":""},{"$f":"IF(UPIS!N13=1,UPIS!N$1,\"\")","v":""},{"$f":"IF(UPIS!O13=1,UPIS!O$1,\"\")","v":""},{"$f":"IF(UPIS!P13=1,UPIS!P$1,\"\")","v":""},{"$f":"IF(UPIS!Q13=1,UPIS!Q$1,\"\")","v":""},{"$f":"IF(UPIS!R13=1,UPIS!R$1,\"\")","v":""},{"$f":"IF(UPIS!S13=1,UPIS!S$1,\"\")","v":""},{"$f":"IF(UPIS!T13=1,UPIS!T$1,\"\")","v":""},{"$f":"IF(UPIS!U13=1,UPIS!U$1,\"\")","v":""},{"$f":"IF(UPIS!V13=1,UPIS!V$1,\"\")","v":""},{"$f":"IF(UPIS!W13=1,UPIS!W$1,\"\")","v":""}]
["16.",{"$f":"IF(UPIS!AC15>0,UPIS!B15,\"\")","v":""},{"$f":"IF(UPIS!AC15>0,UPIS!AC15,\"\")","v":""},{"$f":"IF(UPIS!C15=1,UPIS!C$1,\"\")","v":""},{"$f":"IF(UPIS!D15=1,UPIS!D$1,\"\")","v":""},{"$f":"IF(UPIS!E15=1,UPIS!E$1,\"\")","v":""},{"$f":"IF(UPIS!F15=1,UPIS!F$1,\"\")","v":""},{"$f":"IF(UPIS!G15=1,UPIS!G$1,\"\")","v":""},{"$f":"IF(UPIS!H15=1,UPIS!H$1,\"\")","v":""},{"$f":"IF(UPIS!I15=1,UPIS!I$1,\"\")","v":""},{"$f":"IF(UPIS!J15=1,UPIS!J$1,\"\")","v":""},{"$f":"IF(UPIS!K15=1,UPIS!K$1,\"\")","v":""},{"$f":"IF(UPIS!L15=1,UPIS!L$1,\"\")","v":""},{"$f":"IF(UPIS!M15=1,UPIS!M$1,\"\")","v":""},{"$f":"IF(UPIS!N15=1,UPIS!N$1,\"\")","v":""},{"$f":"IF(UPIS!O15=1,UPIS!O$1,\"\")","v":""},{"$f":"IF(UPIS!P15=1,UPIS!P$1,\"\")","v":""},{"$f":"IF(UPIS!Q15=1,UPIS!Q$1,\"\")","v":""},{"$f":"IF(UPIS!R15=1,UPIS!R$1,\"\")","v":""},{"$f":"IF(UPIS!S15=1,UPIS!S$1,\"\")","v":""},{"$f":"IF(UPIS!T15=1,UPIS!T$1,\"\")","v":""},{"$f":"IF(UPIS!U15=1,UPIS!U$1,\"\")","v":""},{"$f":"IF(UPIS!V15=1,UPIS!V$1,\"\")","v":""},{"$f":"IF(UPIS!W15=1,UPIS!W$1,\"\")","v":""}]
["17.",{"$f":"IF(UPIS!AC16>0,UPIS!B16,\"\")","v":""},{"$f":"IF(UPIS!AC16>0,UPIS!AC16,\"\")","v":""},{"$f":"IF(UPIS!C16=1,UPIS!C$1,\"\")","v":""},{"$f":"IF(UPIS!D16=1,UPIS!D$1,\"\")","v":""},{"$f":"IF(UPIS!E16=1,UPIS!E$1,\"\")","v":""},{"$f":"IF(UPIS!F16=1,UPIS!F$1,\"\")","v":""},{"$f":"IF(UPIS!G16=1,UPIS!G$1,\"\")","v":""},{"$f":"IF(UPIS!H16=1,UPIS!H$1,\"\")","v":""},{"$f":"IF(UPIS!I16=1,UPIS!I$1,\"\")","v":""},{"$f":"IF(UPIS!J16=1,UPIS!J$1,\"\")","v":""},{"$f":"IF(UPIS!K16=1,UPIS!K$1,\"\")","v":""},{"$f":"IF(UPIS!L16=1,UPIS!L$1,\"\")","v":""},{"$f":"IF(UPIS!M16=1,UPIS!M$1,\"\")","v":""},{"$f":"IF(UPIS!N16=1,UPIS!N$1,\"\")","v":""},{"$f":"IF(UPIS!O16=1,UPIS!O$1,\"\")","v":""},{"$f":"IF(UPIS!P16=1,UPIS!P$1,\"\")","v":""},{"$f":"IF(UPIS!Q16=1,UPIS!Q$1,\"\")","v":""},{"$f":"IF(UPIS!R16=1,UPIS!R$1,\"\")","v":""},{"$f":"IF(UPIS!S16=1,UPIS!S$1,\"\")","v":""},{"$f":"IF(UPIS!T16=1,UPIS!T$1,\"\")","v":""},{"$f":"IF(UPIS!U16=1,UPIS!U$1,\"\")","v":""},{"$f":"IF(UPIS!V16=1,UPIS!V$1,\"\")","v":""},{"$f":"IF(UPIS!W16=1,UPIS!W$1,\"\")","v":""}]
["18.",{"$f":"IF(UPIS!AC4>0,UPIS!B4,\"\")","v":""},{"$f":"IF(UPIS!AC4>0,UPIS!AC4,\"\")","v":""},{"$f":"IF(UPIS!C4=1,UPIS!C$1,\"\")","v":""},{"$f":"IF(UPIS!D4=1,UPIS!D$1,\"\")","v":""},{"$f":"IF(UPIS!E4=1,UPIS!E$1,\"\")","v":""},{"$f":"IF(UPIS!F4=1,UPIS!F$1,\"\")","v":""},{"$f":"IF(UPIS!G4=1,UPIS!G$1,\"\")","v":""},{"$f":"IF(UPIS!H4=1,UPIS!H$1,\"\")","v":""},{"$f":"IF(UPIS!I4=1,UPIS!I$1,\"\")","v":""},{"$f":"IF(UPIS!J4=1,UPIS!J$1,\"\")","v":""},{"$f":"IF(UPIS!K4=1,UPIS!K$1,\"\")","v":""},{"$f":"IF(UPIS!L4=1,UPIS!L$1,\"\")","v":""},{"$f":"IF(UPIS!M4=1,UPIS!M$1,\"\")","v":""},{"$f":"IF(UPIS!N4=1,UPIS!N$1,\"\")","v":""},{"$f":"IF(UPIS!O4=1,UPIS!O$1,\"\")","v":""},{"$f":"IF(UPIS!P4=1,UPIS!P$1,\"\")","v":""},{"$f":"IF(UPIS!Q4=1,UPIS!Q$1,\"\")","v":""},{"$f":"IF(UPIS!R4=1,UPIS!R$1,\"\")","v":""},{"$f":"IF(UPIS!S4=1,UPIS!S$1,\"\")","v":""},{"$f":"IF(UPIS!T4=1,UPIS!T$1,\"\")","v":""},{"$f":"IF(UPIS!U4=1,UPIS!U$1,\"\")","v":""},{"$f":"IF(UPIS!V4=1,UPIS!V$1,\"\")","v":""},{"$f":"IF(UPIS!W4=1,UPIS!W$1,\"\")","v":""}]
["19.",{"$f":"IF(UPIS!AC5>0,UPIS!B5,\"\")","v":""},{"$f":"IF(UPIS!AC5>0,UPIS!AC5,\"\")","v":""},{"$f":"IF(UPIS!C5=1,UPIS!C$1,\"\")","v":""},{"$f":"IF(UPIS!D5=1,UPIS!D$1,\"\")","v":""},{"$f":"IF(UPIS!E5=1,UPIS!E$1,\"\")","v":""},{"$f":"IF(UPIS!F5=1,UPIS!F$1,\"\")","v":""},{"$f":"IF(UPIS!G5=1,UPIS!G$1,\"\")","v":""},{"$f":"IF(UPIS!H5=1,UPIS!H$1,\"\")","v":""},{"$f":"IF(UPIS!I5=1,UPIS!I$1,\"\")","v":""},{"$f":"IF(UPIS!J5=1,UPIS!J$1,\"\")","v":""},{"$f":"IF(UPIS!K5=1,UPIS!K$1,\"\")","v":""},{"$f":"IF(UPIS!L5=1,UPIS!L$1,\"\")","v":""},{"$f":"IF(UPIS!M5=1,UPIS!M$1,\"\")","v":""},{"$f":"IF(UPIS!N5=1,UPIS!N$1,\"\")","v":""},{"$f":"IF(UPIS!O5=1,UPIS!O$1,\"\")","v":""},{"$f":"IF(UPIS!P5=1,UPIS!P$1,\"\")","v":""},{"$f":"IF(UPIS!Q5=1,UPIS!Q$1,\"\")","v":""},{"$f":"IF(UPIS!R5=1,UPIS!R$1,\"\")","v":""},{"$f":"IF(UPIS!S5=1,UPIS!S$1,\"\")","v":""},{"$f":"IF(UPIS!T5=1,UPIS!T$1,\"\")","v":""},{"$f":"IF(UPIS!U5=1,UPIS!U$1,\"\")","v":""},{"$f":"IF(UPIS!V5=1,UPIS!V$1,\"\")","v":""},{"$f":"IF(UPIS!W5=1,UPIS!W$1,\"\")","v":""}]
["20.",{"$f":"IF(UPIS!AC11>0,UPIS!B11,\"\")","v":""},{"$f":"IF(UPIS!AC11>0,UPIS!AC11,\"\")","v":""},{"$f":"IF(UPIS!C11=1,UPIS!C$1,\"\")","v":""},{"$f":"IF(UPIS!D11=1,UPIS!D$1,\"\")","v":""},{"$f":"IF(UPIS!E11=1,UPIS!E$1,\"\")","v":""},{"$f":"IF(UPIS!F11=1,UPIS!F$1,\"\")","v":""},{"$f":"IF(UPIS!G11=1,UPIS!G$1,\"\")","v":""},{"$f":"IF(UPIS!H11=1,UPIS!H$1,\"\")","v":""},{"$f":"IF(UPIS!I11=1,UPIS!I$1,\"\")","v":""},{"$f":"IF(UPIS!J11=1,UPIS!J$1,\"\")","v":""},{"$f":"IF(UPIS!K11=1,UPIS!K$1,\"\")","v":""},{"$f":"IF(UPIS!L11=1,UPIS!L$1,\"\")","v":""},{"$f":"IF(UPIS!M11=1,UPIS!M$1,\"\")","v":""},{"$f":"IF(UPIS!N11=1,UPIS!N$1,\"\")","v":""},{"$f":"IF(UPIS!O11=1,UPIS!O$1,\"\")","v":""},{"$f":"IF(UPIS!P11=1,UPIS!P$1,\"\")","v":""},{"$f":"IF(UPIS!Q11=1,UPIS!Q$1,\"\")","v":""},{"$f":"IF(UPIS!R11=1,UPIS!R$1,\"\")","v":""},{"$f":"IF(UPIS!S11=1,UPIS!S$1,\"\")","v":""},{"$f":"IF(UPIS!T11=1,UPIS!T$1,\"\")","v":""},{"$f":"IF(UPIS!U11=1,UPIS!U$1,\"\")","v":""},{"$f":"IF(UPIS!V11=1,UPIS!V$1,\"\")","v":""},{"$f":"IF(UPIS!W11=1,UPIS!W$1,\"\")","v":""}]
["21.",{"$f":"IF(UPIS!AC7>0,UPIS!B7,\"\")","v":""},{"$f":"IF(UPIS!AC7>0,UPIS!AC7,\"\")","v":""},{"$f":"IF(UPIS!C7=1,UPIS!C$1,\"\")","v":""},{"$f":"IF(UPIS!D7=1,UPIS!D$1,\"\")","v":""},{"$f":"IF(UPIS!E7=1,UPIS!E$1,\"\")","v":""},{"$f":"IF(UPIS!F7=1,UPIS!F$1,\"\")","v":""},{"$f":"IF(UPIS!G7=1,UPIS!G$1,\"\")","v":""},{"$f":"IF(UPIS!H7=1,UPIS!H$1,\"\")","v":""},{"$f":"IF(UPIS!I7=1,UPIS!I$1,\"\")","v":""},{"$f":"IF(UPIS!J7=1,UPIS!J$1,\"\")","v":""},{"$f":"IF(UPIS!K7=1,UPIS!K$1,\"\")","v":""},{"$f":"IF(UPIS!L7=1,UPIS!L$1,\"\")","v":""},{"$f":"IF(UPIS!M7=1,UPIS!M$1,\"\")","v":""},{"$f":"IF(UPIS!N7=1,UPIS!N$1,\"\")","v":""},{"$f":"IF(UPIS!O7=1,UPIS!O$1,\"\")","v":""},{"$f":"IF(UPIS!P7=1,UPIS!P$1,\"\")","v":""},{"$f":"IF(UPIS!Q7=1,UPIS!Q$1,\"\")","v":""},{"$f":"IF(UPIS!R7=1,UPIS!R$1,\"\")","v":""},{"$f":"IF(UPIS!S7=1,UPIS!S$1,\"\")","v":""},{"$f":"IF(UPIS!T7=1,UPIS!T$1,\"\")","v":""},{"$f":"IF(UPIS!U7=1,UPIS!U$1,\"\")","v":""},{"$f":"IF(UPIS!V7=1,UPIS!V$1,\"\")","v":""},{"$f":"IF(UPIS!W7=1,UPIS!W$1,\"\")","v":""}]
["22.",{"$f":"IF(UPIS!AC31>0,UPIS!B31,\"\")","v":""},{"$f":"IF(UPIS!AC31>0,UPIS!AC31,\"\")","v":""},{"$f":"IF(UPIS!C31=1,UPIS!C$1,\"\")","v":""},{"$f":"IF(UPIS!D31=1,UPIS!D$1,\"\")","v":""},{"$f":"IF(UPIS!E31=1,UPIS!E$1,\"\")","v":""},{"$f":"IF(UPIS!F31=1,UPIS!F$1,\"\")","v":""},{"$f":"IF(UPIS!G31=1,UPIS!G$1,\"\")","v":""},{"$f":"IF(UPIS!H31=1,UPIS!H$1,\"\")","v":""},{"$f":"IF(UPIS!I31=1,UPIS!I$1,\"\")","v":""},{"$f":"IF(UPIS!J31=1,UPIS!J$1,\"\")","v":""},{"$f":"IF(UPIS!K31=1,UPIS!K$1,\"\")","v":""},{"$f":"IF(UPIS!L31=1,UPIS!L$1,\"\")","v":""},{"$f":"IF(UPIS!M31=1,UPIS!M$1,\"\")","v":""},{"$f":"IF(UPIS!N31=1,UPIS!N$1,\"\")","v":""},{"$f":"IF(UPIS!O31=1,UPIS!O$1,\"\")","v":""},{"$f":"IF(UPIS!P31=1,UPIS!P$1,\"\")","v":""},{"$f":"IF(UPIS!Q31=1,UPIS!Q$1,\"\")","v":""},{"$f":"IF(UPIS!R31=1,UPIS!R$1,\"\")","v":""},{"$f":"IF(UPIS!S31=1,UPIS!S$1,\"\")","v":""},{"$f":"IF(UPIS!T31=1,UPIS!T$1,\"\")","v":""},{"$f":"IF(UPIS!U31=1,UPIS!U$1,\"\")","v":""},{"$f":"IF(UPIS!V31=1,UPIS!V$1,\"\")","v":""},{"$f":"IF(UPIS!W31=1,UPIS!W$1,\"\")","v":""}]
["23.",{"$f":"IF(UPIS!AC30>0,UPIS!B30,\"\")","v":""},{"$f":"IF(UPIS!AC30>0,UPIS!AC30,\"\")","v":""},{"$f":"IF(UPIS!C30=1,UPIS!C$1,\"\")","v":""},{"$f":"IF(UPIS!D30=1,UPIS!D$1,\"\")","v":""},{"$f":"IF(UPIS!E30=1,UPIS!E$1,\"\")","v":""},{"$f":"IF(UPIS!F30=1,UPIS!F$1,\"\")","v":""},{"$f":"IF(UPIS!G30=1,UPIS!G$1,\"\")","v":""},{"$f":"IF(UPIS!H30=1,UPIS!H$1,\"\")","v":""},{"$f":"IF(UPIS!I30=1,UPIS!I$1,\"\")","v":""},{"$f":"IF(UPIS!J30=1,UPIS!J$1,\"\")","v":""},{"$f":"IF(UPIS!K30=1,UPIS!K$1,\"\")","v":""},{"$f":"IF(UPIS!L30=1,UPIS!L$1,\"\")","v":""},{"$f":"IF(UPIS!M30=1,UPIS!M$1,\"\")","v":""},{"$f":"IF(UPIS!N30=1,UPIS!N$1,\"\")","v":""},{"$f":"IF(UPIS!O30=1,UPIS!O$1,\"\")","v":""},{"$f":"IF(UPIS!P30=1,UPIS!P$1,\"\")","v":""},{"$f":"IF(UPIS!Q30=1,UPIS!Q$1,\"\")","v":""},{"$f":"IF(UPIS!R30=1,UPIS!R$1,\"\")","v":""},{"$f":"IF(UPIS!S30=1,UPIS!S$1,\"\")","v":""},{"$f":"IF(UPIS!T30=1,UPIS!T$1,\"\")","v":""},{"$f":"IF(UPIS!U30=1,UPIS!U$1,\"\")","v":""},{"$f":"IF(UPIS!V30=1,UPIS!V$1,\"\")","v":""},{"$f":"IF(UPIS!W30=1,UPIS!W$1,\"\")","v":""}]
["24.",{"$f":"IF(UPIS!AC25>0,UPIS!B25,\"\")","v":""},{"$f":"IF(UPIS!AC25>0,UPIS!AC25,\"\")","v":""},{"$f":"IF(UPIS!C25=1,UPIS!C$1,\"\")","v":""},{"$f":"IF(UPIS!D25=1,UPIS!D$1,\"\")","v":""},{"$f":"IF(UPIS!E25=1,UPIS!E$1,\"\")","v":""},{"$f":"IF(UPIS!F25=1,UPIS!F$1,\"\")","v":""},{"$f":"IF(UPIS!G25=1,UPIS!G$1,\"\")","v":""},{"$f":"IF(UPIS!H25=1,UPIS!H$1,\"\")","v":""},{"$f":"IF(UPIS!I25=1,UPIS!I$1,\"\")","v":""},{"$f":"IF(UPIS!J25=1,UPIS!J$1,\"\")","v":""},{"$f":"IF(UPIS!K25=1,UPIS!K$1,\"\")","v":""},{"$f":"IF(UPIS!L25=1,UPIS!L$1,\"\")","v":""},{"$f":"IF(UPIS!M25=1,UPIS!M$1,\"\")","v":""},{"$f":"IF(UPIS!N25=1,UPIS!N$1,\"\")","v":""},{"$f":"IF(UPIS!O25=1,UPIS!O$1,\"\")","v":""},{"$f":"IF(UPIS!P25=1,UPIS!P$1,\"\")","v":""},{"$f":"IF(UPIS!Q25=1,UPIS!Q$1,\"\")","v":""},{"$f":"IF(UPIS!R25=1,UPIS!R$1,\"\")","v":""},{"$f":"IF(UPIS!S25=1,UPIS!S$1,\"\")","v":""},{"$f":"IF(UPIS!T25=1,UPIS!T$1,\"\")","v":""},{"$f":"IF(UPIS!U25=1,UPIS!U$1,\"\")","v":""},{"$f":"IF(UPIS!V25=1,UPIS!V$1,\"\")","v":""},{"$f":"IF(UPIS!W25=1,UPIS!W$1,\"\")","v":""}]
["25.",{"$f":"IF(UPIS!AC3>0,UPIS!B3,\"\")","v":"Антић Миодраг"},{"$f":"IF(UPIS!AC3>0,UPIS!AC3,\"\")","v":1},{"$f":"IF(UPIS!C3=1,UPIS!C$1,\"\")","v":"српски"},{"$f":"IF(UPIS!D3=1,UPIS!D$1,\"\")","v":""},{"$f":"IF(UPIS!E3=1,UPIS!E$1,\"\")","v":""},{"$f":"IF(UPIS!F3=1,UPIS!F$1,\"\")","v":""},{"$f":"IF(UPIS!G3=1,UPIS!G$1,\"\")","v":""},{"$f":"IF(UPIS!H3=1,UPIS!H$1,\"\")","v":""},{"$f":"IF(UPIS!I3=1,UPIS!I$1,\"\")","v":""},{"$f":"IF(UPIS!J3=1,UPIS!J$1,\"\")","v":""},{"$f":"IF(UPIS!K3=1,UPIS!K$1,\"\")","v":""},{"$f":"IF(UPIS!L3=1,UPIS!L$1,\"\")","v":""},{"$f":"IF(UPIS!M3=1,UPIS!M$1,\"\")","v":""},{"$f":"IF(UPIS!N3=1,UPIS!N$1,\"\")","v":""},{"$f":"IF(UPIS!O3=1,UPIS!O$1,\"\")","v":""},{"$f":"IF(UPIS!P3=1,UPIS!P$1,\"\")","v":""},{"$f":"IF(UPIS!Q3=1,UPIS!Q$1,\"\")","v":""},{"$f":"IF(UPIS!R3=1,UPIS!R$1,\"\")","v":""},{"$f":"IF(UPIS!S3=1,UPIS!S$1,\"\")","v":""},{"$f":"IF(UPIS!T3=1,UPIS!T$1,\"\")","v":""},{"$f":"IF(UPIS!U3=1,UPIS!U$1,\"\")","v":""},{"$f":"IF(UPIS!V3=1,UPIS!V$1,\"\")","v":""},{"$f":"IF(UPIS!W3=1,UPIS!W$1,\"\")","v":""}]
["26.",{"$f":"IF(UPIS!AC8>0,UPIS!B8,\"\")","v":""},{"$f":"IF(UPIS!AC8>0,UPIS!AC8,\"\")","v":""},{"$f":"IF(UPIS!C8=1,UPIS!C$1,\"\")","v":""},{"$f":"IF(UPIS!D8=1,UPIS!D$1,\"\")","v":""},{"$f":"IF(UPIS!E8=1,UPIS!E$1,\"\")","v":""},{"$f":"IF(UPIS!F8=1,UPIS!F$1,\"\")","v":""},{"$f":"IF(UPIS!G8=1,UPIS!G$1,\"\")","v":""},{"$f":"IF(UPIS!H8=1,UPIS!H$1,\"\")","v":""},{"$f":"IF(UPIS!I8=1,UPIS!I$1,\"\")","v":""},{"$f":"IF(UPIS!J8=1,UPIS!J$1,\"\")","v":""},{"$f":"IF(UPIS!K8=1,UPIS!K$1,\"\")","v":""},{"$f":"IF(UPIS!L8=1,UPIS!L$1,\"\")","v":""},{"$f":"IF(UPIS!M8=1,UPIS!M$1,\"\")","v":""},{"$f":"IF(UPIS!N8=1,UPIS!N$1,\"\")","v":""},{"$f":"IF(UPIS!O8=1,UPIS!O$1,\"\")","v":""},{"$f":"IF(UPIS!P8=1,UPIS!P$1,\"\")","v":""},{"$f":"IF(UPIS!Q8=1,UPIS!Q$1,\"\")","v":""},{"$f":"IF(UPIS!R8=1,UPIS!R$1,\"\")","v":""},{"$f":"IF(UPIS!S8=1,UPIS!S$1,\"\")","v":""},{"$f":"IF(UPIS!T8=1,UPIS!T$1,\"\")","v":""},{"$f":"IF(UPIS!U8=1,UPIS!U$1,\"\")","v":""},{"$f":"IF(UPIS!V8=1,UPIS!V$1,\"\")","v":""},{"$f":"IF(UPIS!W8=1,UPIS!W$1,\"\")","v":""}]
["27.",{"$f":"IF(UPIS!AC9>0,UPIS!B9,\"\")","v":""},{"$f":"IF(UPIS!AC9>0,UPIS!AC9,\"\")","v":""},{"$f":"IF(UPIS!C9=1,UPIS!C$1,\"\")","v":""},{"$f":"IF(UPIS!D9=1,UPIS!D$1,\"\")","v":""},{"$f":"IF(UPIS!E9=1,UPIS!E$1,\"\")","v":""},{"$f":"IF(UPIS!F9=1,UPIS!F$1,\"\")","v":""},{"$f":"IF(UPIS!G9=1,UPIS!G$1,\"\")","v":""},{"$f":"IF(UPIS!H9=1,UPIS!H$1,\"\")","v":""},{"$f":"IF(UPIS!I9=1,UPIS!I$1,\"\")","v":""},{"$f":"IF(UPIS!J9=1,UPIS!J$1,\"\")","v":""},{"$f":"IF(UPIS!K9=1,UPIS!K$1,\"\")","v":""},{"$f":"IF(UPIS!L9=1,UPIS!L$1,\"\")","v":""},{"$f":"IF(UPIS!M9=1,UPIS!M$1,\"\")","v":""},{"$f":"IF(UPIS!N9=1,UPIS!N$1,\"\")","v":""},{"$f":"IF(UPIS!O9=1,UPIS!O$1,\"\")","v":""},{"$f":"IF(UPIS!P9=1,UPIS!P$1,\"\")","v":""},{"$f":"IF(UPIS!Q9=1,UPIS!Q$1,\"\")","v":""},{"$f":"IF(UPIS!R9=1,UPIS!R$1,\"\")","v":""},{"$f":"IF(UPIS!S9=1,UPIS!S$1,\"\")","v":""},{"$f":"IF(UPIS!T9=1,UPIS!T$1,\"\")","v":""},{"$f":"IF(UPIS!U9=1,UPIS!U$1,\"\")","v":""},{"$f":"IF(UPIS!V9=1,UPIS!V$1,\"\")","v":""},{"$f":"IF(UPIS!W9=1,UPIS!W$1,\"\")","v":""}]
["28.",{"$f":"IF(UPIS!AC12>0,UPIS!B12,\"\")","v":""},{"$f":"IF(UPIS!AC12>0,UPIS!AC12,\"\")","v":""},{"$f":"IF(UPIS!C12=1,UPIS!C$1,\"\")","v":""},{"$f":"IF(UPIS!D12=1,UPIS!D$1,\"\")","v":""},{"$f":"IF(UPIS!E12=1,UPIS!E$1,\"\")","v":""},{"$f":"IF(UPIS!F12=1,UPIS!F$1,\"\")","v":""},{"$f":"IF(UPIS!G12=1,UPIS!G$1,\"\")","v":""},{"$f":"IF(UPIS!H12=1,UPIS!H$1,\"\")","v":""},{"$f":"IF(UPIS!I12=1,UPIS!I$1,\"\")","v":""},{"$f":"IF(UPIS!J12=1,UPIS!J$1,\"\")","v":""},{"$f":"IF(UPIS!K12=1,UPIS!K$1,\"\")","v":""},{"$f":"IF(UPIS!L12=1,UPIS!L$1,\"\")","v":""},{"$f":"IF(UPIS!M12=1,UPIS!M$1,\"\")","v":""},{"$f":"IF(UPIS!N12=1,UPIS!N$1,\"\")","v":""},{"$f":"IF(UPIS!O12=1,UPIS!O$1,\"\")","v":""},{"$f":"IF(UPIS!P12=1,UPIS!P$1,\"\")","v":""},{"$f":"IF(UPIS!Q12=1,UPIS!Q$1,\"\")","v":""},{"$f":"IF(UPIS!R12=1,UPIS!R$1,\"\")","v":""},{"$f":"IF(UPIS!S12=1,UPIS!S$1,\"\")","v":""},{"$f":"IF(UPIS!T12=1,UPIS!T$1,\"\")","v":""},{"$f":"IF(UPIS!U12=1,UPIS!U$1,\"\")","v":""},{"$f":"IF(UPIS!V12=1,UPIS!V$1,\"\")","v":""},{"$f":"IF(UPIS!W12=1,UPIS!W$1,\"\")","v":""}]
["29.",{"$f":"IF(UPIS!AC17>0,UPIS!B17,\"\")","v":""},{"$f":"IF(UPIS!AC17>0,UPIS!AC17,\"\")","v":""},{"$f":"IF(UPIS!C17=1,UPIS!C$1,\"\")","v":""},{"$f":"IF(UPIS!D17=1,UPIS!D$1,\"\")","v":""},{"$f":"IF(UPIS!E17=1,UPIS!E$1,\"\")","v":""},{"$f":"IF(UPIS!F17=1,UPIS!F$1,\"\")","v":""},{"$f":"IF(UPIS!G17=1,UPIS!G$1,\"\")","v":""},{"$f":"IF(UPIS!H17=1,UPIS!H$1,\"\")","v":""},{"$f":"IF(UPIS!I17=1,UPIS!I$1,\"\")","v":""},{"$f":"IF(UPIS!J17=1,UPIS!J$1,\"\")","v":""},{"$f":"IF(UPIS!K17=1,UPIS!K$1,\"\")","v":""},{"$f":"IF(UPIS!L17=1,UPIS!L$1,\"\")","v":""},{"$f":"IF(UPIS!M17=1,UPIS!M$1,\"\")","v":""},{"$f":"IF(UPIS!N17=1,UPIS!N$1,\"\")","v":""},{"$f":"IF(UPIS!O17=1,UPIS!O$1,\"\")","v":""},{"$f":"IF(UPIS!P17=1,UPIS!P$1,\"\")","v":""},{"$f":"IF(UPIS!Q17=1,UPIS!Q$1,\"\")","v":""},{"$f":"IF(UPIS!R17=1,UPIS!R$1,\"\")","v":""},{"$f":"IF(UPIS!S17=1,UPIS!S$1,\"\")","v":""},{"$f":"IF(UPIS!T17=1,UPIS!T$1,\"\")","v":""},{"$f":"IF(UPIS!U17=1,UPIS!U$1,\"\")","v":""},{"$f":"IF(UPIS!V17=1,UPIS!V$1,\"\")","v":""},{"$f":"IF(UPIS!W17=1,UPIS!W$1,\"\")","v":""}]
["30.",{"$f":"IF(UPIS!AC18>0,UPIS!B18,\"\")","v":""},{"$f":"IF(UPIS!AC18>0,UPIS!AC18,\"\")","v":""},{"$f":"IF(UPIS!C18=1,UPIS!C$1,\"\")","v":""},{"$f":"IF(UPIS!D18=1,UPIS!D$1,\"\")","v":""},{"$f":"IF(UPIS!E18=1,UPIS!E$1,\"\")","v":""},{"$f":"IF(UPIS!F18=1,UPIS!F$1,\"\")","v":""},{"$f":"IF(UPIS!G18=1,UPIS!G$1,\"\")","v":""},{"$f":"IF(UPIS!H18=1,UPIS!H$1,\"\")","v":""},{"$f":"IF(UPIS!I18=1,UPIS!I$1,\"\")","v":""},{"$f":"IF(UPIS!J18=1,UPIS!J$1,\"\")","v":""},{"$f":"IF(UPIS!K18=1,UPIS!K$1,\"\")","v":""},{"$f":"IF(UPIS!L18=1,UPIS!L$1,\"\")","v":""},{"$f":"IF(UPIS!M18=1,UPIS!M$1,\"\")","v":""},{"$f":"IF(UPIS!N18=1,UPIS!N$1,\"\")","v":""},{"$f":"IF(UPIS!O18=1,UPIS!O$1,\"\")","v":""},{"$f":"IF(UPIS!P18=1,UPIS!P$1,\"\")","v":""},{"$f":"IF(UPIS!Q18=1,UPIS!Q$1,\"\")","v":""},{"$f":"IF(UPIS!R18=1,UPIS!R$1,\"\")","v":""},{"$f":"IF(UPIS!S18=1,UPIS!S$1,\"\")","v":""},{"$f":"IF(UPIS!T18=1,UPIS!T$1,\"\")","v":""},{"$f":"IF(UPIS!U18=1,UPIS!U$1,\"\")","v":""},{"$f":"IF(UPIS!V18=1,UPIS!V$1,\"\")","v":""},{"$f":"IF(UPIS!W18=1,UPIS!W$1,\"\")","v":""}]
["31.",{"$f":"IF(UPIS!AC19>0,UPIS!B19,\"\")","v":""},{"$f":"IF(UPIS!AC19>0,UPIS!AC19,\"\")","v":""},{"$f":"IF(UPIS!C19=1,UPIS!C$1,\"\")","v":""},{"$f":"IF(UPIS!D19=1,UPIS!D$1,\"\")","v":""},{"$f":"IF(UPIS!E19=1,UPIS!E$1,\"\")","v":""},{"$f":"IF(UPIS!F19=1,UPIS!F$1,\"\")","v":""},{"$f":"IF(UPIS!G19=1,UPIS!G$1,\"\")","v":""},{"$f":"IF(UPIS!H19=1,UPIS!H$1,\"\")","v":""},{"$f":"IF(UPIS!I19=1,UPIS!I$1,\"\")","v":""},{"$f":"IF(UPIS!J19=1,UPIS!J$1,\"\")","v":""},{"$f":"IF(UPIS!K19=1,UPIS!K$1,\"\")","v":""},{"$f":"IF(UPIS!L19=1,UPIS!L$1,\"\")","v":""},{"$f":"IF(UPIS!M19=1,UPIS!M$1,\"\")","v":""},{"$f":"IF(UPIS!N19=1,UPIS!N$1,\"\")","v":""},{"$f":"IF(UPIS!O19=1,UPIS!O$1,\"\")","v":""},{"$f":"IF(UPIS!P19=1,UPIS!P$1,\"\")","v":""},{"$f":"IF(UPIS!Q19=1,UPIS!Q$1,\"\")","v":""},{"$f":"IF(UPIS!R19=1,UPIS!R$1,\"\")","v":""},{"$f":"IF(UPIS!S19=1,UPIS!S$1,\"\")","v":""},{"$f":"IF(UPIS!T19=1,UPIS!T$1,\"\")","v":""},{"$f":"IF(UPIS!U19=1,UPIS!U$1,\"\")","v":""},{"$f":"IF(UPIS!V19=1,UPIS!V$1,\"\")","v":""},{"$f":"IF(UPIS!W19=1,UPIS!W$1,\"\")","v":""}]
["32.",{"$f":"IF(UPIS!AC20>0,UPIS!B20,\"\")","v":""},{"$f":"IF(UPIS!AC20>0,UPIS!AC20,\"\")","v":""},{"$f":"IF(UPIS!C20=1,UPIS!C$1,\"\")","v":""},{"$f":"IF(UPIS!D20=1,UPIS!D$1,\"\")","v":""},{"$f":"IF(UPIS!E20=1,UPIS!E$1,\"\")","v":""},{"$f":"IF(UPIS!F20=1,UPIS!F$1,\"\")","v":""},{"$f":"IF(UPIS!G20=1,UPIS!G$1,\"\")","v":""},{"$f":"IF(UPIS!H20=1,UPIS!H$1,\"\")","v":""},{"$f":"IF(UPIS!I20=1,UPIS!I$1,\"\")","v":""},{"$f":"IF(UPIS!J20=1,UPIS!J$1,\"\")","v":""},{"$f":"IF(UPIS!K20=1,UPIS!K$1,\"\")","v":""},{"$f":"IF(UPIS!L20=1,UPIS!L$1,\"\")","v":""},{"$f":"IF(UPIS!M20=1,UPIS!M$1,\"\")","v":""},{"$f":"IF(UPIS!N20=1,UPIS!N$1,\"\")","v":""},{"$f":"IF(UPIS!O20=1,UPIS!O$1,\"\")","v":""},{"$f":"IF(UPIS!P20=1,UPIS!P$1,\"\")","v":""},{"$f":"IF(UPIS!Q20=1,UPIS!Q$1,\"\")","v":""},{"$f":"IF(UPIS!R20=1,UPIS!R$1,\"\")","v":""},{"$f":"IF(UPIS!S20=1,UPIS!S$1,\"\")","v":""},{"$f":"IF(UPIS!T20=1,UPIS!T$1,\"\")","v":""},{"$f":"IF(UPIS!U20=1,UPIS!U$1,\"\")","v":""},{"$f":"IF(UPIS!V20=1,UPIS!V$1,\"\")","v":""},{"$f":"IF(UPIS!W20=1,UPIS!W$1,\"\")","v":""}]
["33.",{"$f":"IF(UPIS!AC21>0,UPIS!B21,\"\")","v":""},{"$f":"IF(UPIS!AC21>0,UPIS!AC21,\"\")","v":""},{"$f":"IF(UPIS!C21=1,UPIS!C$1,\"\")","v":""},{"$f":"IF(UPIS!D21=1,UPIS!D$1,\"\")","v":""},{"$f":"IF(UPIS!E21=1,UPIS!E$1,\"\")","v":""},{"$f":"IF(UPIS!F21=1,UPIS!F$1,\"\")","v":""},{"$f":"IF(UPIS!G21=1,UPIS!G$1,\"\")","v":""},{"$f":"IF(UPIS!H21=1,UPIS!H$1,\"\")","v":""},{"$f":"IF(UPIS!I21=1,UPIS!I$1,\"\")","v":""},{"$f":"IF(UPIS!J21=1,UPIS!J$1,\"\")","v":""},{"$f":"IF(UPIS!K21=1,UPIS!K$1,\"\")","v":""},{"$f":"IF(UPIS!L21=1,UPIS!L$1,\"\")","v":""},{"$f":"IF(UPIS!M21=1,UPIS!M$1,\"\")","v":""},{"$f":"IF(UPIS!N21=1,UPIS!N$1,\"\")","v":""},{"$f":"IF(UPIS!O21=1,UPIS!O$1,\"\")","v":""},{"$f":"IF(UPIS!P21=1,UPIS!P$1,\"\")","v":""},{"$f":"IF(UPIS!Q21=1,UPIS!Q$1,\"\")","v":""},{"$f":"IF(UPIS!R21=1,UPIS!R$1,\"\")","v":""},{"$f":"IF(UPIS!S21=1,UPIS!S$1,\"\")","v":""},{"$f":"IF(UPIS!T21=1,UPIS!T$1,\"\")","v":""},{"$f":"IF(UPIS!U21=1,UPIS!U$1,\"\")","v":""},{"$f":"IF(UPIS!V21=1,UPIS!V$1,\"\")","v":""},{"$f":"IF(UPIS!W21=1,UPIS!W$1,\"\")","v":""}]
["34.",{"$f":"IF(UPIS!AC22>0,UPIS!B22,\"\")","v":""},{"$f":"IF(UPIS!AC22>0,UPIS!AC22,\"\")","v":""},{"$f":"IF(UPIS!C22=1,UPIS!C$1,\"\")","v":""},{"$f":"IF(UPIS!D22=1,UPIS!D$1,\"\")","v":""},{"$f":"IF(UPIS!E22=1,UPIS!E$1,\"\")","v":""},{"$f":"IF(UPIS!F22=1,UPIS!F$1,\"\")","v":""},{"$f":"IF(UPIS!G22=1,UPIS!G$1,\"\")","v":""},{"$f":"IF(UPIS!H22=1,UPIS!H$1,\"\")","v":""},{"$f":"IF(UPIS!I22=1,UPIS!I$1,\"\")","v":""},{"$f":"IF(UPIS!J22=1,UPIS!J$1,\"\")","v":""},{"$f":"IF(UPIS!K22=1,UPIS!K$1,\"\")","v":""},{"$f":"IF(UPIS!L22=1,UPIS!L$1,\"\")","v":""},{"$f":"IF(UPIS!M22=1,UPIS!M$1,\"\")","v":""},{"$f":"IF(UPIS!N22=1,UPIS!N$1,\"\")","v":""},{"$f":"IF(UPIS!O22=1,UPIS!O$1,\"\")","v":""},{"$f":"IF(UPIS!P22=1,UPIS!P$1,\"\")","v":""},{"$f":"IF(UPIS!Q22=1,UPIS!Q$1,\"\")","v":""},{"$f":"IF(UPIS!R22=1,UPIS!R$1,\"\")","v":""},{"$f":"IF(UPIS!S22=1,UPIS!S$1,\"\")","v":""},{"$f":"IF(UPIS!T22=1,UPIS!T$1,\"\")","v":""},{"$f":"IF(UPIS!U22=1,UPIS!U$1,\"\")","v":""},{"$f":"IF(UPIS!V22=1,UPIS!V$1,\"\")","v":""},{"$f":"IF(UPIS!W22=1,UPIS!W$1,\"\")","v":""}]
["35.",{"$f":"IF(UPIS!AC23>0,UPIS!B23,\"\")","v":""},{"$f":"IF(UPIS!AC23>0,UPIS!AC23,\"\")","v":""},{"$f":"IF(UPIS!C23=1,UPIS!C$1,\"\")","v":""},{"$f":"IF(UPIS!D23=1,UPIS!D$1,\"\")","v":""},{"$f":"IF(UPIS!E23=1,UPIS!E$1,\"\")","v":""},{"$f":"IF(UPIS!F23=1,UPIS!F$1,\"\")","v":""},{"$f":"IF(UPIS!G23=1,UPIS!G$1,\"\")","v":""},{"$f":"IF(UPIS!H23=1,UPIS!H$1,\"\")","v":""},{"$f":"IF(UPIS!I23=1,UPIS!I$1,\"\")","v":""},{"$f":"IF(UPIS!J23=1,UPIS!J$1,\"\")","v":""},{"$f":"IF(UPIS!K23=1,UPIS!K$1,\"\")","v":""},{"$f":"IF(UPIS!L23=1,UPIS!L$1,\"\")","v":""},{"$f":"IF(UPIS!M23=1,UPIS!M$1,\"\")","v":""},{"$f":"IF(UPIS!N23=1,UPIS!N$1,\"\")","v":""},{"$f":"IF(UPIS!O23=1,UPIS!O$1,\"\")","v":""},{"$f":"IF(UPIS!P23=1,UPIS!P$1,\"\")","v":""},{"$f":"IF(UPIS!Q23=1,UPIS!Q$1,\"\")","v":""},{"$f":"IF(UPIS!R23=1,UPIS!R$1,\"\")","v":""},{"$f":"IF(UPIS!S23=1,UPIS!S$1,\"\")","v":""},{"$f":"IF(UPIS!T23=1,UPIS!T$1,\"\")","v":""},{"$f":"IF(UPIS!U23=1,UPIS!U$1,\"\")","v":""},{"$f":"IF(UPIS!V23=1,UPIS!V$1,\"\")","v":""},{"$f":"IF(UPIS!W23=1,UPIS!W$1,\"\")","v":""}]
["36.",{"$f":"IF(UPIS!AC24>0,UPIS!B24,\"\")","v":""},{"$f":"IF(UPIS!AC24>0,UPIS!AC24,\"\")","v":""},{"$f":"IF(UPIS!C24=1,UPIS!C$1,\"\")","v":""},{"$f":"IF(UPIS!D24=1,UPIS!D$1,\"\")","v":""},{"$f":"IF(UPIS!E24=1,UPIS!E$1,\"\")","v":""},{"$f":"IF(UPIS!F24=1,UPIS!F$1,\"\")","v":""},{"$f":"IF(UPIS!G24=1,UPIS!G$1,\"\")","v":""},{"$f":"IF(UPIS!H24=1,UPIS!H$1,\"\")","v":""},{"$f":"IF(UPIS!I24=1,UPIS!I$1,\"\")","v":""},{"$f":"IF(UPIS!J24=1,UPIS!J$1,\"\")","v":""},{"$f":"IF(UPIS!K24=1,UPIS!K$1,\"\")","v":""},{"$f":"IF(UPIS!L24=1,UPIS!L$1,\"\")","v":""},{"$f":"IF(UPIS!M24=1,UPIS!M$1,\"\")","v":""},{"$f":"IF(UPIS!N24=1,UPIS!N$1,\"\")","v":""},{"$f":"IF(UPIS!O24=1,UPIS!O$1,\"\")","v":""},{"$f":"IF(UPIS!P24=1,UPIS!P$1,\"\")","v":""},{"$f":"IF(UPIS!Q24=1,UPIS!Q$1,\"\")","v":""},{"$f":"IF(UPIS!R24=1,UPIS!R$1,\"\")","v":""},{"$f":"IF(UPIS!S24=1,UPIS!S$1,\"\")","v":""},{"$f":"IF(UPIS!T24=1,UPIS!T$1,\"\")","v":""},{"$f":"IF(UPIS!U24=1,UPIS!U$1,\"\")","v":""},{"$f":"IF(UPIS!V24=1,UPIS!V$1,\"\")","v":""},{"$f":"IF(UPIS!W24=1,UPIS!W$1,\"\")","v":""}]
["37.",{"$f":"IF(UPIS!AC26>0,UPIS!B26,\"\")","v":""},{"$f":"IF(UPIS!AC26>0,UPIS!AC26,\"\")","v":""},{"$f":"IF(UPIS!C26=1,UPIS!C$1,\"\")","v":""},{"$f":"IF(UPIS!D26=1,UPIS!D$1,\"\")","v":""},{"$f":"IF(UPIS!E26=1,UPIS!E$1,\"\")","v":""},{"$f":"IF(UPIS!F26=1,UPIS!F$1,\"\")","v":""},{"$f":"IF(UPIS!G26=1,UPIS!G$1,\"\")","v":""},{"$f":"IF(UPIS!H26=1,UPIS!H$1,\"\")","v":""},{"$f":"IF(UPIS!I26=1,UPIS!I$1,\"\")","v":""},{"$f":"IF(UPIS!J26=1,UPIS!J$1,\"\")","v":""},{"$f":"IF(UPIS!K26=1,UPIS!K$1,\"\")","v":""},{"$f":"IF(UPIS!L26=1,UPIS!L$1,\"\")","v":""},{"$f":"IF(UPIS!M26=1,UPIS!M$1,\"\")","v":""},{"$f":"IF(UPIS!N26=1,UPIS!N$1,\"\")","v":""},{"$f":"IF(UPIS!O26=1,UPIS!O$1,\"\")","v":""},{"$f":"IF(UPIS!P26=1,UPIS!P$1,\"\")","v":""},{"$f":"IF(UPIS!Q26=1,UPIS!Q$1,\"\")","v":""},{"$f":"IF(UPIS!R26=1,UPIS!R$1,\"\")","v":""},{"$f":"IF(UPIS!S26=1,UPIS!S$1,\"\")","v":""},{"$f":"IF(UPIS!T26=1,UPIS!T$1,\"\")","v":""},{"$f":"IF(UPIS!U26=1,UPIS!U$1,\"\")","v":""},{"$f":"IF(UPIS!V26=1,UPIS!V$1,\"\")","v":""},{"$f":"IF(UPIS!W26=1,UPIS!W$1,\"\")","v":""}]
["38.",{"$f":"IF(UPIS!AC27>0,UPIS!B27,\"\")","v":""},{"$f":"IF(UPIS!AC27>0,UPIS!AC27,\"\")","v":""},{"$f":"IF(UPIS!C27=1,UPIS!C$1,\"\")","v":""},{"$f":"IF(UPIS!D27=1,UPIS!D$1,\"\")","v":""},{"$f":"IF(UPIS!E27=1,UPIS!E$1,\"\")","v":""},{"$f":"IF(UPIS!F27=1,UPIS!F$1,\"\")","v":""},{"$f":"IF(UPIS!G27=1,UPIS!G$1,\"\")","v":""},{"$f":"IF(UPIS!H27=1,UPIS!H$1,\"\")","v":""},{"$f":"IF(UPIS!I27=1,UPIS!I$1,\"\")","v":""},{"$f":"IF(UPIS!J27=1,UPIS!J$1,\"\")","v":""},{"$f":"IF(UPIS!K27=1,UPIS!K$1,\"\")","v":""},{"$f":"IF(UPIS!L27=1,UPIS!L$1,\"\")","v":""},{"$f":"IF(UPIS!M27=1,UPIS!M$1,\"\")","v":""},{"$f":"IF(UPIS!N27=1,UPIS!N$1,\"\")","v":""},{"$f":"IF(UPIS!O27=1,UPIS!O$1,\"\")","v":""},{"$f":"IF(UPIS!P27=1,UPIS!P$1,\"\")","v":""},{"$f":"IF(UPIS!Q27=1,UPIS!Q$1,\"\")","v":""},{"$f":"IF(UPIS!R27=1,UPIS!R$1,\"\")","v":""},{"$f":"IF(UPIS!S27=1,UPIS!S$1,\"\")","v":""},{"$f":"IF(UPIS!T27=1,UPIS!T$1,\"\")","v":""},{"$f":"IF(UPIS!U27=1,UPIS!U$1,\"\")","v":""},{"$f":"IF(UPIS!V27=1,UPIS!V$1,\"\")","v":""},{"$f":"IF(UPIS!W27=1,UPIS!W$1,\"\")","v":""}]
["39.",{"$f":"IF(UPIS!AC28>0,UPIS!B28,\"\")","v":""},{"$f":"IF(UPIS!AC28>0,UPIS!AC28,\"\")","v":""},{"$f":"IF(UPIS!C28=1,UPIS!C$1,\"\")","v":""},{"$f":"IF(UPIS!D28=1,UPIS!D$1,\"\")","v":""},{"$f":"IF(UPIS!E28=1,UPIS!E$1,\"\")","v":""},{"$f":"IF(UPIS!F28=1,UPIS!F$1,\"\")","v":""},{"$f":"IF(UPIS!G28=1,UPIS!G$1,\"\")","v":""},{"$f":"IF(UPIS!H28=1,UPIS!H$1,\"\")","v":""},{"$f":"IF(UPIS!I28=1,UPIS!I$1,\"\")","v":""},{"$f":"IF(UPIS!J28=1,UPIS!J$1,\"\")","v":""},{"$f":"IF(UPIS!K28=1,UPIS!K$1,\"\")","v":""},{"$f":"IF(UPIS!L28=1,UPIS!L$1,\"\")","v":""},{"$f":"IF(UPIS!M28=1,UPIS!M$1,\"\")","v":""},{"$f":"IF(UPIS!N28=1,UPIS!N$1,\"\")","v":""},{"$f":"IF(UPIS!O28=1,UPIS!O$1,\"\")","v":""},{"$f":"IF(UPIS!P28=1,UPIS!P$1,\"\")","v":""},{"$f":"IF(UPIS!Q28=1,UPIS!Q$1,\"\")","v":""},{"$f":"IF(UPIS!R28=1,UPIS!R$1,\"\")","v":""},{"$f":"IF(UPIS!S28=1,UPIS!S$1,\"\")","v":""},{"$f":"IF(UPIS!T28=1,UPIS!T$1,\"\")","v":""},{"$f":"IF(UPIS!U28=1,UPIS!U$1,\"\")","v":""},{"$f":"IF(UPIS!V28=1,UPIS!V$1,\"\")","v":""},{"$f":"IF(UPIS!W28=1,UPIS!W$1,\"\")","v":""}]
["40.",{"$f":"IF(UPIS!AC29>0,UPIS!B29,\"\")","v":""},{"$f":"IF(UPIS!AC29>0,UPIS!AC29,\"\")","v":""},{"$f":"IF(UPIS!C29=1,UPIS!C$1,\"\")","v":""},{"$f":"IF(UPIS!D29=1,UPIS!D$1,\"\")","v":""},{"$f":"IF(UPIS!E29=1,UPIS!E$1,\"\")","v":""},{"$f":"IF(UPIS!F29=1,UPIS!F$1,\"\")","v":""},{"$f":"IF(UPIS!G29=1,UPIS!G$1,\"\")","v":""},{"$f":"IF(UPIS!H29=1,UPIS!H$1,\"\")","v":""},{"$f":"IF(UPIS!I29=1,UPIS!I$1,\"\")","v":""},{"$f":"IF(UPIS!J29=1,UPIS!J$1,\"\")","v":""},{"$f":"IF(UPIS!K29=1,UPIS!K$1,\"\")","v":""},{"$f":"IF(UPIS!L29=1,UPIS!L$1,\"\")","v":""},{"$f":"IF(UPIS!M29=1,UPIS!M$1,\"\")","v":""},{"$f":"IF(UPIS!N29=1,UPIS!N$1,\"\")","v":""},{"$f":"IF(UPIS!O29=1,UPIS!O$1,\"\")","v":""},{"$f":"IF(UPIS!P29=1,UPIS!P$1,\"\")","v":""},{"$f":"IF(UPIS!Q29=1,UPIS!Q$1,\"\")","v":""},{"$f":"IF(UPIS!R29=1,UPIS!R$1,\"\")","v":""},{"$f":"IF(UPIS!S29=1,UPIS!S$1,\"\")","v":""},{"$f":"IF(UPIS!T29=1,UPIS!T$1,\"\")","v":""},{"$f":"IF(UPIS!U29=1,UPIS!U$1,\"\")","v":""},{"$f":"IF(UPIS!V29=1,UPIS!V$1,\"\")","v":""},{"$f":"IF(UPIS!W29=1,UPIS!W$1,\"\")","v":""}]
[null,{"$f":"COUNTIF(C2:C41,\">0\")","v":1},{"$f":"SUM(C2:C41)","v":1},{"$f":"IF(UPIS!C36=1,UPIS!C$1,\"\")","v":""},{"$f":"IF(UPIS!D36=1,UPIS!D$1,\"\")","v":""},{"$f":"IF(UPIS!E36=1,UPIS!E$1,\"\")","v":""},{"$f":"IF(UPIS!F36=1,UPIS!F$1,\"\")","v":""},{"$f":"IF(UPIS!G36=1,UPIS!G$1,\"\")","v":""},{"$f":"IF(UPIS!H36=1,UPIS!H$1,\"\")","v":""},{"$f":"IF(UPIS!I36=1,UPIS!I$1,\"\")","v":""},{"$f":"IF(UPIS!J36=1,UPIS!J$1,\"\")","v":""},{"$f":"IF(UPIS!K36=1,UPIS!K$1,\"\")","v":""},{"$f":"IF(UPIS!L36=1,UPIS!L$1,\"\")","v":""},{"$f":"IF(UPIS!M36=1,UPIS!M$1,\"\")","v":""},{"$f":"IF(UPIS!N36=1,UPIS!N$1,\"\")","v":""},{"$f":"IF(UPIS!O36=1,UPIS!O$1,\"\")","v":""},null,null,null,{"$f":"IF(UPIS!S36=1,UPIS!S$1,\"\")","v":""},{"$f":"IF(UPIS!T36=1,UPIS!T$1,\"\")","v":""},{"$f":"IF(UPIS!U36=1,UPIS!U$1,\"\")","v":""},{"$f":"IF(UPIS!V36=1,UPIS!V$1,\"\")","v":""},{"$f":"IF(UPIS!W36=1,UPIS!W$1,\"\")","v":""}]
[]
["1.",{"$f":"IF(C2=\"\",\"\",TRIM(B2&\" \"&\"има \"&\" \"&C2&\" \"&\"јединице-a\"&\":\"&D2&\" \"&E2&\" \"&F2&\" \"&G2&\" \"&H2&\" \"&I2&\" \"&J2&\" \"&K2&\" \"&L2&\" \"&M2&\" \"&N2&\" \"&O2&\" \"&P2&\" \"&Q2&\" \"&R2&\" \"&S2&\" \"&T2&\" \"&U2&\" \"&V2&\" \"&W2&\" \"&X2))","v":""}]
["2.",{"$f":"IF(C3=\"\",\"\",TRIM(B3&\" \"&\"има \"&\" \"&C3&\" \"&\"јединице-a\"&\":\"&D3&\" \"&E3&\" \"&F3&\" \"&G3&\" \"&H3&\" \"&I3&\" \"&J3&\" \"&K3&\" \"&L3&\" \"&M3&\" \"&N3&\" \"&O3&\" \"&P3&\" \"&Q3&\" \"&R3&\" \"&S3&\" \"&T3&\" \"&U3&\" \"&V3&\" \"&W3&\" \"&X3))","v":""}]
["3.",""]
["4.",{"$f":"IF(C5=\"\",\"\",TRIM(B5&\" \"&\"има \"&\" \"&C5&\" \"&\"јединице-a\"&\":\"&D5&\" \"&E5&\" \"&F5&\" \"&G5&\" \"&H5&\" \"&I5&\" \"&J5&\" \"&K5&\" \"&L5&\" \"&M5&\" \"&N5&\" \"&O5&\" \"&P5&\" \"&Q5&\" \"&R5&\" \"&S5&\" \"&T5&\" \"&U5&\" \"&V5&\" \"&W5&\" \"&X5))","v":""}]
["5.",""]
["6.",""]
["7.",""]
["8.",""]
["9.",""]
["10.",""]
["11.",""]
["12.",""]
["13.",""]
["14.",""]
["15.",""]
["16.",""]
["17.",""]
["18.",""]
["19.",""]
["20.",""]
["21.",""]
["22.",""]
["23.",""]
["24.",""]
["25.","Антић Миодраг има 1 јединице-a:српски"]
["26.",""]
["27.",""]
["28.",""]
["29.",""]
["30.",""]
["31.",""]
["32.",""]
["33.",""]
["34.",""]
["35.",""]
["36.",""]
["37.",""]
["38.",""]
["39.",""]
["40.",""]

{"sheet":"NEOCENJENI","index":3,"n_rows":83,"n_cols":24,"rows_kept":83,"cut":false,"hidden":false,"merged":[[41,2,41,3]]}
[null,null,"БРОЈ NEOCENJENIH PREDMETA","српски","енглески","историја","физика","хемија","физичко","математика","биологија","биологија","биологија","биологија","биологија","биологија","биологија","биологија","биологија","биологија","биологија","биологија","биологија","владање"]
["1.",{"$f":"IF(UPIS!AB39>0,UPIS!B39,\"\")","v":""},{"$f":"IF(UPIS!AB39>0,UPIS!AB39,\"\")","v":""},{"$f":"IF(UPIS!C39=\"N\",UPIS!C$1,\"\")","v":""},{"$f":"IF(UPIS!D39=\"N\",UPIS!D$1,\"\")","v":""},{"$f":"IF(UPIS!E39=\"N\",UPIS!E$1,\"\")","v":""},{"$f":"IF(UPIS!F39=\"N\",UPIS!F$1,\"\")","v":""},{"$f":"IF(UPIS!G39=\"N\",UPIS!G$1,\"\")","v":""},{"$f":"IF(UPIS!H39=\"N\",UPIS!H$1,\"\")","v":""},{"$f":"IF(UPIS!I39=\"N\",UPIS!I$1,\"\")","v":""},{"$f":"IF(UPIS!J39=\"N\",UPIS!J$1,\"\")","v":""},{"$f":"IF(UPIS!K39=\"N\",UPIS!K$1,\"\")","v":""},{"$f":"IF(UPIS!L39=\"N\",UPIS!L$1,\"\")","v":""},{"$f":"IF(UPIS!M39=\"N\",UPIS!M$1,\"\")","v":""},{"$f":"IF(UPIS!N39=\"N\",UPIS!N$1,\"\")","v":""},{"$f":"IF(UPIS!O39=\"N\",UPIS!O$1,\"\")","v":""},{"$f":"IF(UPIS!P39=\"N\",UPIS!P$1,\"\")","v":""},{"$f":"IF(UPIS!Q39=\"N\",UPIS!Q$1,\"\")","v":""},{"$f":"IF(UPIS!R39=\"N\",UPIS!R$1,\"\")","v":""},{"$f":"IF(UPIS!S39=\"N\",UPIS!S$1,\"\")","v":""},{"$f":"IF(UPIS!T39=\"N\",UPIS!T$1,\"\")","v":""},{"$f":"IF(UPIS!U39=\"N\",UPIS!U$1,\"\")","v":""},{"$f":"IF(UPIS!V39=\"N\",UPIS!V$1,\"\")","v":""},{"$f":"IF(UPIS!W39=\"N\",UPIS!W$1,\"\")","v":""}]
["2.",{"$f":"IF(UPIS!AB32>0,UPIS!B32,\"\")","v":""},{"$f":"IF(UPIS!AB32>0,UPIS!AB32,\"\")","v":""},{"$f":"IF(UPIS!C32=\"N\",UPIS!C$1,\"\")","v":""},{"$f":"IF(UPIS!D32=\"N\",UPIS!D$1,\"\")","v":""},{"$f":"IF(UPIS!E32=\"N\",UPIS!E$1,\"\")","v":""},{"$f":"IF(UPIS!F32=\"N\",UPIS!F$1,\"\")","v":""},{"$f":"IF(UPIS!G32=\"N\",UPIS!G$1,\"\")","v":""},{"$f":"IF(UPIS!H32=\"N\",UPIS!H$1,\"\")","v":""},{"$f":"IF(UPIS!I32=\"N\",UPIS!I$1,\"\")","v":""},{"$f":"IF(UPIS!J32=\"N\",UPIS!J$1,\"\")","v":""},{"$f":"IF(UPIS!K32=\"N\",UPIS!K$1,\"\")","v":""},{"$f":"IF(UPIS!L32=\"N\",UPIS!L$1,\"\")","v":""},{"$f":"IF(UPIS!M32=\"N\",UPIS!M$1,\"\")","v":""},{"$f":"IF(UPIS!N32=\"N\",UPIS!N$1,\"\")","v":""},{"$f":"IF(UPIS!O32=\"N\",UPIS!O$1,\"\")","v":""},{"$f":"IF(UPIS!P32=\"N\",UPIS!P$1,\"\")","v":""},{"$f":"IF(UPIS!Q32=\"N\",UPIS!Q$1,\"\")","v":""},{"$f":"IF(UPIS!R32=\"N\",UPIS!R$1,\"\")","v":""},{"$f":"IF(UPIS!S32=\"N\",UPIS!S$1,\"\")","v":""},{"$f":"IF(UPIS!T32=\"N\",UPIS!T$1,\"\")","v":""},{"$f":"IF(UPIS!U32=\"N\",UPIS!U$1,\"\")","v":""},{"$f":"IF(UPIS!V32=\"N\",UPIS!V$1,\"\")","v":""},{"$f":"IF(UPIS!W32=\"N\",UPIS!W$1,\"\")","v":""}]
["3.",{"$f":"IF(UPIS!AB33>0,UPIS!B33,\"\")","v":""},{"$f":"IF(UPIS!AB33>0,UPIS!AB33,\"\")","v":""},{"$f":"IF(UPIS!C33=\"N\",UPIS!C$1,\"\")","v":""},{"$f":"IF(UPIS!D33=\"N\",UPIS!D$1,\"\")","v":""},{"$f":"IF(UPIS!E33=\"N\",UPIS!E$1,\"\")","v":""},{"$f":"IF(UPIS!F33=\"N\",UPIS!F$1,\"\")","v":""},{"$f":"IF(UPIS!G33=\"N\",UPIS!G$1,\"\")","v":""},{"$f":"IF(UPIS!H33=\"N\",UPIS!H$1,\"\")","v":""},{"$f":"IF(UPIS!I33=\"N\",UPIS!I$1,\"\")","v":""},{"$f":"IF(UPIS!J33=\"N\",UPIS!J$1,\"\")","v":""},{"$f":"IF(UPIS!K33=\"N\",UPIS!K$1,\"\")","v":""},{"$f":"IF(UPIS!L33=\"N\",UPIS!L$1,\"\")","v":""},{"$f":"IF(UPIS!M33=\"N\",UPIS!M$1,\"\")","v":""},{"$f":"IF(UPIS!N33=\"N\",UPIS!N$1,\"\")","v":""},{"$f":"IF(UPIS!O33=\"N\",UPIS!O$1,\"\")","v":""},{"$f":"IF(UPIS!P33=\"N\",UPIS!P$1,\"\")","v":""},{"$f":"IF(UPIS!Q33=\"N\",UPIS!Q$1,\"\")","v":""},{"$f":"IF(UPIS!R33=\"N\",UPIS!R$1,\"\")","v":""},{"$f":"IF(UPIS!S33=\"N\",UPIS!S$1,\"\")","v":""},{"$f":"IF(UPIS!T33=\"N\",UPIS!T$1,\"\")","v":""},{"$f":"IF(UPIS!U33=\"N\",UPIS!U$1,\"\")","v":""},{"$f":"IF(UPIS!V33=\"N\",UPIS!V$1,\"\")","v":""},{"$f":"IF(UPIS!W33=\"N\",UPIS!W$1,\"\")","v":""}]
["4.",{"$f":"IF(UPIS!AB34>0,UPIS!B34,\"\")","v":""},{"$f":"IF(UPIS!AB34>0,UPIS!AB34,\"\")","v":""},{"$f":"IF(UPIS!C34=\"N\",UPIS!C$1,\"\")","v":""},{"$f":"IF(UPIS!D34=\"N\",UPIS!D$1,\"\")","v":""},{"$f":"IF(UPIS!E34=\"N\",UPIS!E$1,\"\")","v":""},{"$f":"IF(UPIS!F34=\"N\",UPIS!F$1,\"\")","v":""},{"$f":"IF(UPIS!G34=\"N\",UPIS!G$1,\"\")","v":""},{"$f":"IF(UPIS!H34=\"N\",UPIS!H$1,\"\")","v":""},{"$f":"IF(UPIS!I34=\"N\",UPIS!I$1,\"\")","v":""},{"$f":"IF(UPIS!J34=\"N\",UPIS!J$1,\"\")","v":""},{"$f":"IF(UPIS!K34=\"N\",UPIS!K$1,\"\")","v":""},{"$f":"IF(UPIS!L34=\"N\",UPIS!L$1,\"\")","v":""},{"$f":"IF(UPIS!M34=\"N\",UPIS!M$1,\"\")","v":""},{"$f":"IF(UPIS!N34=\"N\",UPIS!N$1,\"\")","v":""},{"$f":"IF(UPIS!O34=\"N\",UPIS!O$1,\"\")","v":""},{"$f":"IF(UPIS!P34=\"N\",UPIS!P$1,\"\")","v":""},{"$f":"IF(UPIS!Q34=\"N\",UPIS!Q$1,\"\")","v":""},{"$f":"IF(UPIS!R34=\"N\",UPIS!R$1,\"\")","v":""},{"$f":"IF(UPIS!S34=\"N\",UPIS!S$1,\"\")","v":""},{"$f":"IF(UPIS!T34=\"N\",UPIS!T$1,\"\")","v":""},{"$f":"IF(UPIS!U34=\"N\",UPIS!U$1,\"\")","v":""},{"$f":"IF(UPIS!V34=\"N\",UPIS!V$1,\"\")","v":""},{"$f":"IF(UPIS!W34=\"N\",UPIS!W$1,\"\")","v":""}]
["5.",{"$f":"IF(UPIS!AB35>0,UPIS!B35,\"\")","v":""},{"$f":"IF(UPIS!AB35>0,UPIS!AB35,\"\")","v":""},{"$f":"IF(UPIS!C35=\"N\",UPIS!C$1,\"\")","v":""},{"$f":"IF(UPIS!D35=\"N\",UPIS!D$1,\"\")","v":""},{"$f":"IF(UPIS!E35=\"N\",UPIS!E$1,\"\")","v":""},{"$f":"IF(UPIS!F35=\"N\",UPIS!F$1,\"\")","v":""},{"$f":"IF(UPIS!G35=\"N\",UPIS!G$1,\"\")","v":""},{"$f":"IF(UPIS!H35=\"N\",UPIS!H$1,\"\")","v":""},{"$f":"IF(UPIS!I35=\"N\",UPIS!I$1,\"\")","v":""},{"$f":"IF(UPIS!J35=\"N\",UPIS!J$1,\"\")","v":""},{"$f":"IF(UPIS!K35=\"N\",UPIS!K$1,\"\")","v":""},{"$f":"IF(UPIS!L35=\"N\",UPIS!L$1,\"\")","v":""},{"$f":"IF(UPIS!M35=\"N\",UPIS!M$1,\"\")","v":""},{"$f":"IF(UPIS!N35=\"N\",UPIS!N$1,\"\")","v":""},{"$f":"IF(UPIS!O35=\"N\",UPIS!O$1,\"\")","v":""},{"$f":"IF(UPIS!P35=\"N\",UPIS!P$1,\"\")","v":""},{"$f":"IF(UPIS!Q35=\"N\",UPIS!Q$1,\"\")","v":""},{"$f":"IF(UPIS!R35=\"N\",UPIS!R$1,\"\")","v":""},{"$f":"IF(UPIS!S35=\"N\",UPIS!S$1,\"\")","v":""},{"$f":"IF(UPIS!T35=\"N\",UPIS!T$1,\"\")","v":""},{"$f":"IF(UPIS!U35=\"N\",UPIS!U$1,\"\")","v":""},{"$f":"IF(UPIS!V35=\"N\",UPIS!V$1,\"\")","v":""},{"$f":"IF(UPIS!W35=\"N\",UPIS!W$1,\"\")","v":""}]
["6.",{"$f":"IF(UPIS!AB36>0,UPIS!B36,\"\")","v":""},{"$f":"IF(UPIS!AB36>0,UPIS!AB36,\"\")","v":""},{"$f":"IF(UPIS!C36=\"N\",UPIS!C$1,\"\")","v":""},{"$f":"IF(UPIS!D36=\"N\",UPIS!D$1,\"\")","v":""},{"$f":"IF(UPIS!E36=\"N\",UPIS!E$1,\"\")","v":""},{"$f":"IF(UPIS!F36=\"N\",UPIS!F$1,\"\")","v":""},{"$f":"IF(UPIS!G36=\"N\",UPIS!G$1,\"\")","v":""},{"$f":"IF(UPIS!H36=\"N\",UPIS!H$1,\"\")","v":""},{"$f":"IF(UPIS!I36=\"N\",UPIS!I$1,\"\")","v":""},{"$f":"IF(UPIS!J36=\"N\",UPIS!J$1,\"\")","v":""},{"$f":"IF(UPIS!K36=\"N\",UPIS!K$1,\"\")","v":""},{"$f":"IF(UPIS!L36=\"N\",UPIS!L$1,\"\")","v":""},{"$f":"IF(UPIS!M36=\"N\",UPIS!M$1,\"\")","v":""},{"$f":"IF(UPIS!N36=\"N\",UPIS!N$1,\"\")","v":""},{"$f":"IF(UPIS!O36=\"N\",UPIS!O$1,\"\")","v":""},{"$f":"IF(UPIS!P36=\"N\",UPIS!P$1,\"\")","v":""},{"$f":"IF(UPIS!Q36=\"N\",UPIS!Q$1,\"\")","v":""},{"$f":"IF(UPIS!R36=\"N\",UPIS!R$1,\"\")","v":""},{"$f":"IF(UPIS!S36=\"N\",UPIS!S$1,\"\")","v":""},{"$f":"IF(UPIS!T36=\"N\",UPIS!T$1,\"\")","v":""},{"$f":"IF(UPIS!U36=\"N\",UPIS!U$1,\"\")","v":""},{"$f":"IF(UPIS!V36=\"N\",UPIS!V$1,\"\")","v":""},{"$f":"IF(UPIS!W36=\"N\",UPIS!W$1,\"\")","v":""}]
["7.",{"$f":"IF(UPIS!AB37>0,UPIS!B37,\"\")","v":""},{"$f":"IF(UPIS!AB37>0,UPIS!AB37,\"\")","v":""},{"$f":"IF(UPIS!C37=\"N\",UPIS!C$1,\"\")","v":""},{"$f":"IF(UPIS!D37=\"N\",UPIS!D$1,\"\")","v":""},{"$f":"IF(UPIS!E37=\"N\",UPIS!E$1,\"\")","v":""},{"$f":"IF(UPIS!F37=\"N\",UPIS!F$1,\"\")","v":""},{"$f":"IF(UPIS!G37=\"N\",UPIS!G$1,\"\")","v":""},{"$f":"IF(UPIS!H37=\"N\",UPIS!H$1,\"\")","v":""},{"$f":"IF(UPIS!I37=\"N\",UPIS!I$1,\"\")","v":""},{"$f":"IF(UPIS!J37=\"N\",UPIS!J$1,\"\")","v":""},{"$f":"IF(UPIS!K37=\"N\",UPIS!K$1,\"\")","v":""},{"$f":"IF(UPIS!L37=\"N\",UPIS!L$1,\"\")","v":""},{"$f":"IF(UPIS!M37=\"N\",UPIS!M$1,\"\")","v":""},{"$f":"IF(UPIS!N37=\"N\",UPIS!N$1,\"\")","v":""},{"$f":"IF(UPIS!O37=\"N\",UPIS!O$1,\"\")","v":""},{"$f":"IF(UPIS!P37=\"N\",UPIS!P$1,\"\")","v":""},{"$f":"IF(UPIS!Q37=\"N\",UPIS!Q$1,\"\")","v":""},{"$f":"IF(UPIS!R37=\"N\",UPIS!R$1,\"\")","v":""},{"$f":"IF(UPIS!S37=\"N\",UPIS!S$1,\"\")","v":""},{"$f":"IF(UPIS!T37=\"N\",UPIS!T$1,\"\")","v":""},{"$f":"IF(UPIS!U37=\"N\",UPIS!U$1,\"\")","v":""},{"$f":"IF(UPIS!V37=\"N\",UPIS!V$1,\"\")","v":""},{"$f":"IF(UPIS!W37=\"N\",UPIS!W$1,\"\")","v":""}]
["8.",{"$f":"IF(UPIS!AB38>0,UPIS!B38,\"\")","v":""},{"$f":"IF(UPIS!AB38>0,UPIS!AB38,\"\")","v":""},{"$f":"IF(UPIS!C38=\"N\",UPIS!C$1,\"\")","v":""},{"$f":"IF(UPIS!D38=\"N\",UPIS!D$1,\"\")","v":""},{"$f":"IF(UPIS!E38=\"N\",UPIS!E$1,\"\")","v":""},{"$f":"IF(UPIS!F38=\"N\",UPIS!F$1,\"\")","v":""},{"$f":"IF(UPIS!G38=\"N\",UPIS!G$1,\"\")","v":""},{"$f":"IF(UPIS!H38=\"N\",UPIS!H$1,\"\")","v":""},{"$f":"IF(UPIS!I38=\"N\",UPIS!I$1,\"\")","v":""},{"$f":"IF(UPIS!J38=\"N\",UPIS!J$1,\"\")","v":""},{"$f":"IF(UPIS!K38=\"N\",UPIS!K$1,\"\")","v":""},{"$f":"IF(UPIS!L38=\"N\",UPIS!L$1,\"\")","v":""},{"$f":"IF(UPIS!M38=\"N\",UPIS!M$1,\"\")","v":""},{"$f":"IF(UPIS!N38=\"N\",UPIS!N$1,\"\")","v":""},{"$f":"IF(UPIS!O38=\"N\",UPIS!O$1,\"\")","v":""},{"$f":"IF(UPIS!P38=\"N\",UPIS!P$1,\"\")","v":""},{"$f":"IF(UPIS!Q38=\"N\",UPIS!Q$1,\"\")","v":""},{"$f":"IF(UPIS!R38=\"N\",UPIS!R$1,\"\")","v":""},{"$f":"IF(UPIS!S38=\"N\",UPIS!S$1,\"\")","v":""},{"$f":"IF(UPIS!T38=\"N\",UPIS!T$1,\"\")","v":""},{"$f":"IF(UPIS!U38=\"N\",UPIS!U$1,\"\")","v":""},{"$f":"IF(UPIS!V38=\"N\",UPIS!V$1,\"\")","v":""},{"$f":"IF(UPIS!W38=\"N\",UPIS!W$1,\"\")","v":""}]
["9.",{"$f":"IF(UPIS!AB40>0,UPIS!B40,\"\")","v":""},{"$f":"IF(UPIS!AB40>0,UPIS!AB40,\"\")","v":""},{"$f":"IF(UPIS!C40=\"N\",UPIS!C$1,\"\")","v":""},{"$f":"IF(UPIS!D40=\"N\",UPIS!D$1,\"\")","v":""},{"$f":"IF(UPIS!E40=\"N\",UPIS!E$1,\"\")","v":""},{"$f":"IF(UPIS!F40=\"N\",UPIS!F$1,\"\")","v":""},{"$f":"IF(UPIS!G40=\"N\",UPIS!G$1,\"\")","v":""},{"$f":"IF(UPIS!H40=\"N\",UPIS!H$1,\"\")","v":""},{"$f":"IF(UPIS!I40=\"N\",UPIS!I$1,\"\")","v":""},{"$f":"IF(UPIS!J40=\"N\",UPIS!J$1,\"\")","v":""},{"$f":"IF(UPIS!K40=\"N\",UPIS!K$1,\"\")","v":""},{"$f":"IF(UPIS!L40=\"N\",UPIS!L$1,\"\")","v":""},{"$f":"IF(UPIS!M40=\"N\",UPIS!M$1,\"\")","v":""},{"$f":"IF(UPIS!N40=\"N\",UPIS!N$1,\"\")","v":""},{"$f":"IF(UPIS!O40=\"N\",UPIS!O$1,\"\")","v":""},{"$f":"IF(UPIS!P40=\"N\",UPIS!P$1,\"\")","v":""},{"$f":"IF(UPIS!Q40=\"N\",UPIS!Q$1,\"\")","v":""},{"$f":"IF(UPIS!R40=\"N\",UPIS!R$1,\"\")","v":""},{"$f":"IF(UPIS!S40=\"N\",UPIS!S$1,\"\")","v":""},{"$f":"IF(UPIS!T40=\"N\",UPIS!T$1,\"\")","v":""},{"$f":"IF(UPIS!U40=\"N\",UPIS!U$1,\"\")","v":""},{"$f":"IF(UPIS!V40=\"N\",UPIS!V$1,\"\")","v":""},{"$f":"IF(UPIS!W40=\"N\",UPIS!W$1,\"\")","v":""}]
["10.",{"$f":"IF(UPIS!AB41>0,UPIS!B41,\"\")","v":""},{"$f":"IF(UPIS!AB41>0,UPIS!AB41,\"\")","v":""},{"$f":"IF(UPIS!C41=\"N\",UPIS!C$1,\"\")","v":""},{"$f":"IF(UPIS!D41=\"N\",UPIS!D$1,\"\")","v":""},{"$f":"IF(UPIS!E41=\"N\",UPIS!E$1,\"\")","v":""},{"$f":"IF(UPIS!F41=\"N\",UPIS!F$1,\"\")","v":""},{"$f":"IF(UPIS!G41=\"N\",UPIS!G$1,\"\")","v":""},{"$f":"IF(UPIS!H41=\"N\",UPIS!H$1,\"\")","v":""},{"$f":"IF(UPIS!I41=\"N\",UPIS!I$1,\"\")","v":""},{"$f":"IF(UPIS!J41=\"N\",UPIS!J$1,\"\")","v":""},{"$f":"IF(UPIS!K41=\"N\",UPIS!K$1,\"\")","v":""},{"$f":"IF(UPIS!L41=\"N\",UPIS!L$1,\"\")","v":""},{"$f":"IF(UPIS!M41=\"N\",UPIS!M$1,\"\")","v":""},{"$f":"IF(UPIS!N41=\"N\",UPIS!N$1,\"\")","v":""},{"$f":"IF(UPIS!O41=\"N\",UPIS!O$1,\"\")","v":""},{"$f":"IF(UPIS!P41=\"N\",UPIS!P$1,\"\")","v":""},{"$f":"IF(UPIS!Q41=\"N\",UPIS!Q$1,\"\")","v":""},{"$f":"IF(UPIS!R41=\"N\",UPIS!R$1,\"\")","v":""},{"$f":"IF(UPIS!S41=\"N\",UPIS!S$1,\"\")","v":""},{"$f":"IF(UPIS!T41=\"N\",UPIS!T$1,\"\")","v":""},{"$f":"IF(UPIS!U41=\"N\",UPIS!U$1,\"\")","v":""},{"$f":"IF(UPIS!V41=\"N\",UPIS!V$1,\"\")","v":""},{"$f":"IF(UPIS!W41=\"N\",UPIS!W$1,\"\")","v":""}]
["11.",{"$f":"IF(UPIS!AB9>0,UPIS!B9,\"\")","v":""},{"$f":"IF(UPIS!AB9>0,UPIS!AB9,\"\")","v":""},{"$f":"IF(UPIS!C9=\"N\",UPIS!C$1,\"\")","v":""},{"$f":"IF(UPIS!D9=\"N\",UPIS!D$1,\"\")","v":""},{"$f":"IF(UPIS!E9=\"N\",UPIS!E$1,\"\")","v":""},{"$f":"IF(UPIS!F9=\"N\",UPIS!F$1,\"\")","v":""},{"$f":"IF(UPIS!G9=\"N\",UPIS!G$1,\"\")","v":""},{"$f":"IF(UPIS!H9=\"N\",UPIS!H$1,\"\")","v":""},{"$f":"IF(UPIS!I9=\"N\",UPIS!I$1,\"\")","v":""},{"$f":"IF(UPIS!J9=\"N\",UPIS!J$1,\"\")","v":""},{"$f":"IF(UPIS!K9=\"N\",UPIS!K$1,\"\")","v":""},{"$f":"IF(UPIS!L9=\"N\",UPIS!L$1,\"\")","v":""},{"$f":"IF(UPIS!M9=\"N\",UPIS!M$1,\"\")","v":""},{"$f":"IF(UPIS!N9=\"N\",UPIS!N$1,\"\")","v":""},{"$f":"IF(UPIS!O9=\"N\",UPIS!O$1,\"\")","v":""},{"$f":"IF(UPIS!P9=\"N\",UPIS!P$1,\"\")","v":""},{"$f":"IF(UPIS!Q9=\"N\",UPIS!Q$1,\"\")","v":""},{"$f":"IF(UPIS!R9=\"N\",UPIS!R$1,\"\")","v":""},{"$f":"IF(UPIS!S9=\"N\",UPIS!S$1,\"\")","v":""},{"$f":"IF(UPIS!T9=\"N\",UPIS!T$1,\"\")","v":""},{"$f":"IF(UPIS!U9=\"N\",UPIS!U$1,\"\")","v":""},{"$f":"IF(UPIS!V9=\"N\",UPIS!V$1,\"\")","v":""},{"$f":"IF(UPIS!W9=\"N\",UPIS!W$1,\"\")","v":""}]
["12.",{"$f":"IF(UPIS!AB7>0,UPIS!B7,\"\")","v":""},{"$f":"IF(UPIS!AB7>0,UPIS!AB7,\"\")","v":""},{"$f":"IF(UPIS!C7=\"N\",UPIS!C$1,\"\")","v":""},{"$f":"IF(UPIS!D7=\"N\",UPIS!D$1,\"\")","v":""},{"$f":"IF(UPIS!E7=\"N\",UPIS!E$1,\"\")","v":""},{"$f":"IF(UPIS!F7=\"N\",UPIS!F$1,\"\")","v":""},{"$f":"IF(UPIS!G7=\"N\",UPIS!G$1,\"\")","v":""},{"$f":"IF(UPIS!H7=\"N\",UPIS!H$1,\"\")","v":""},{"$f":"IF(UPIS!I7=\"N\",UPIS!I$1,\"\")","v":""},{"$f":"IF(UPIS!J7=\"N\",UPIS!J$1,\"\")","v":""},{"$f":"IF(UPIS!K7=\"N\",UPIS!K$1,\"\")","v":""},{"$f":"IF(UPIS!L7=\"N\",UPIS!L$1,\"\")","v":""},{"$f":"IF(UPIS!M7=\"N\",UPIS!M$1,\"\")","v":""},{"$f":"IF(UPIS!N7=\"N\",UPIS!N$1,\"\")","v":""},{"$f":"IF(UPIS!O7=\"N\",UPIS!O$1,\"\")","v":""},{"$f":"IF(UPIS!P7=\"N\",UPIS!P$1,\"\")","v":""},{"$f":"IF(UPIS!Q7=\"N\",UPIS!Q$1,\"\")","v":""},{"$f":"IF(UPIS!R7=\"N\",UPIS!R$1,\"\")","v":""},{"$f":"IF(UPIS!S7=\"N\",UPIS!S$1,\"\")","v":""},{"$f":"IF(UPIS!T7=\"N\",UPIS!T$1,\"\")","v":""},{"$f":"IF(UPIS!U7=\"N\",UPIS!U$1,\"\")","v":""},{"$f":"IF(UPIS!V7=\"N\",UPIS!V$1,\"\")","v":""},{"$f":"IF(UPIS!W7=\"N\",UPIS!W$1,\"\")","v":""}]
["13.",{"$f":"IF(UPIS!AB16>0,UPIS!B16,\"\")","v":""},{"$f":"IF(UPIS!AB16>0,UPIS!AB16,\"\")","v":""},{"$f":"IF(UPIS!C16=\"N\",UPIS!C$1,\"\")","v":""},{"$f":"IF(UPIS!D16=\"N\",UPIS!D$1,\"\")","v":""},{"$f":"IF(UPIS!E16=\"N\",UPIS!E$1,\"\")","v":""},{"$f":"IF(UPIS!F16=\"N\",UPIS!F$1,\"\")","v":""},{"$f":"IF(UPIS!G16=\"N\",UPIS!G$1,\"\")","v":""},{"$f":"IF(UPIS!H16=\"N\",UPIS!H$1,\"\")","v":""},{"$f":"IF(UPIS!I16=\"N\",UPIS!I$1,\"\")","v":""},{"$f":"IF(UPIS!J16=\"N\",UPIS!J$1,\"\")","v":""},{"$f":"IF(UPIS!K16=\"N\",UPIS!K$1,\"\")","v":""},{"$f":"IF(UPIS!L16=\"N\",UPIS!L$1,\"\")","v":""},{"$f":"IF(UPIS!M16=\"N\",UPIS!M$1,\"\")","v":""},{"$f":"IF(UPIS!N16=\"N\",UPIS!N$1,\"\")","v":""},{"$f":"IF(UPIS!O16=\"N\",UPIS!O$1,\"\")","v":""},{"$f":"IF(UPIS!P16=\"N\",UPIS!P$1,\"\")","v":""},{"$f":"IF(UPIS!Q16=\"N\",UPIS!Q$1,\"\")","v":""},{"$f":"IF(UPIS!R16=\"N\",UPIS!R$1,\"\")","v":""},{"$f":"IF(UPIS!S16=\"N\",UPIS!S$1,\"\")","v":""},{"$f":"IF(UPIS!T16=\"N\",UPIS!T$1,\"\")","v":""},{"$f":"IF(UPIS!U16=\"N\",UPIS!U$1,\"\")","v":""},{"$f":"IF(UPIS!V16=\"N\",UPIS!V$1,\"\")","v":""},{"$f":"IF(UPIS!W16=\"N\",UPIS!W$1,\"\")","v":""}]
["14.",{"$f":"IF(UPIS!AB8>0,UPIS!B8,\"\")","v":""},{"$f":"IF(UPIS!AB8>0,UPIS!AB8,\"\")","v":""},{"$f":"IF(UPIS!C8=\"N\",UPIS!C$1,\"\")","v":""},{"$f":"IF(UPIS!D8=\"N\",UPIS!D$1,\"\")","v":""},{"$f":"IF(UPIS!E8=\"N\",UPIS!E$1,\"\")","v":""},{"$f":"IF(UPIS!F8=\"N\",UPIS!F$1,\"\")","v":""},{"$f":"IF(UPIS!G8=\"N\",UPIS!G$1,\"\")","v":""},{"$f":"IF(UPIS!H8=\"N\",UPIS!H$1,\"\")","v":""},{"$f":"IF(UPIS!I8=\"N\",UPIS!I$1,\"\")","v":""},{"$f":"IF(UPIS!J8=\"N\",UPIS!J$1,\"\")","v":""},{"$f":"IF(UPIS!K8=\"N\",UPIS!K$1,\"\")","v":""},{"$f":"IF(UPIS!L8=\"N\",UPIS!L$1,\"\")","v":""},{"$f":"IF(UPIS!M8=\"N\",UPIS!M$1,\"\")","v":""},{"$f":"IF(UPIS!N8=\"N\",UPIS!N$1,\"\")","v":""},{"$f":"IF(UPIS!O8=\"N\",UPIS!O$1,\"\")","v":""},{"$f":"IF(UPIS!P8=\"N\",UPIS!P$1,\"\")","v":""},{"$f":"IF(UPIS!Q8=\"N\",UPIS!Q$1,\"\")","v":""},{"$f":"IF(UPIS!R8=\"N\",UPIS!R$1,\"\")","v":""},{"$f":"IF(UPIS!S8=\"N\",UPIS!S$1,\"\")","v":""},{"$f":"IF(UPIS!T8=\"N\",UPIS!T$1,\"\")","v":""},{"$f":"IF(UPIS!U8=\"N\",UPIS!U$1,\"\")","v":""},{"$f":"IF(UPIS!V8=\"N\",UPIS!V$1,\"\")","v":""},{"$f":"IF(UPIS!W8=\"N\",UPIS!W$1,\"\")","v":""}]
["15.",{"$f":"IF(UPIS!AB13>0,UPIS!B13,\"\")","v":""},{"$f":"IF(UPIS!AB13>0,UPIS!AB13,\"\")","v":""},{"$f":"IF(UPIS!C13=\"N\",UPIS!C$1,\"\")","v":""},{"$f":"IF(UPIS!D13=\"N\",UPIS!D$1,\"\")","v":""},{"$f":"IF(UPIS!E13=\"N\",UPIS!E$1,\"\")","v":""},{"$f":"IF(UPIS!F13=\"N\",UPIS!F$1,\"\")","v":""},{"$f":"IF(UPIS!G13=\"N\",UPIS!G$1,\"\")","v":""},{"$f":"IF(UPIS!H13=\"N\",UPIS!H$1,\"\")","v":""},{"$f":"IF(UPIS!I13=\"N\",UPIS!I$1,\"\")","v":""},{"$f":"IF(UPIS!J13=\"N\",UPIS!J$1,\"\")","v":""},{"$f":"IF(UPIS!K13=\"N\",UPIS!K$1,\"\")","v":""},{"$f":"IF(UPIS!L13=\"N\",UPIS!L$1,\"\")","v":""},{"$f":"IF(UPIS!M13=\"N\",UPIS!M$1,\"\")","v":""},{"$f":"IF(UPIS!N13=\"N\",UPIS!N$1,\"\")","v":""},{"$f":"IF(UPIS!O13=\"N\",UPIS!O$1,\"\")","v":""},{"$f":"IF(UPIS!P13=\"N\",UPIS!P$1,\"\")","v":""},{"$f":"IF(UPIS!Q13=\"N\",UPIS!Q$1,\"\")","v":""},{"$f":"IF(UPIS!R13=\"N\",UPIS!R$1,\"\")","v":""},{"$f":"IF(UPIS!S13=\"N\",UPIS!S$1,\"\")","v":""},{"$f":"IF(UPIS!T13=\"N\",UPIS!T$1,\"\")","v":""},{"$f":"IF(UPIS!U13=\"N\",UPIS!U$1,\"\")","v":""},{"$f":"IF(UPIS!V13=\"N\",UPIS!V$1,\"\")","v":""},{"$f":"IF(UPIS!W13=\"N\",UPIS!W$1,\"\")","v":""}]
["16.",{"$f":"IF(UPIS!AB14>0,UPIS!B14,\"\")","v":""},{"$f":"IF(UPIS!AB14>0,UPIS!AB14,\"\")","v":""},{"$f":"IF(UPIS!C14=\"N\",UPIS!C$1,\"\")","v":""},{"$f":"IF(UPIS!D14=\"N\",UPIS!D$1,\"\")","v":""},{"$f":"IF(UPIS!E14=\"N\",UPIS!E$1,\"\")","v":""},{"$f":"IF(UPIS!F14=\"N\",UPIS!F$1,\"\")","v":""},{"$f":"IF(UPIS!G14=\"N\",UPIS!G$1,\"\")","v":""},{"$f":"IF(UPIS!H14=\"N\",UPIS!H$1,\"\")","v":""},{"$f":"IF(UPIS!I14=\"N\",UPIS!I$1,\"\")","v":""},{"$f":"IF(UPIS!J14=\"N\",UPIS!J$1,\"\")","v":""},{"$f":"IF(UPIS!K14=\"N\",UPIS!K$1,\"\")","v":""},{"$f":"IF(UPIS!L14=\"N\",UPIS!L$1,\"\")","v":""},{"$f":"IF(UPIS!M14=\"N\",UPIS!M$1,\"\")","v":""},{"$f":"IF(UPIS!N14=\"N\",UPIS!N$1,\"\")","v":""},{"$f":"IF(UPIS!O14=\"N\",UPIS!O$1,\"\")","v":""},{"$f":"IF(UPIS!P14=\"N\",UPIS!P$1,\"\")","v":""},{"$f":"IF(UPIS!Q14=\"N\",UPIS!Q$1,\"\")","v":""},{"$f":"IF(UPIS!R14=\"N\",UPIS!R$1,\"\")","v":""},{"$f":"IF(UPIS!S14=\"N\",UPIS!S$1,\"\")","v":""},{"$f":"IF(UPIS!T14=\"N\",UPIS!T$1,\"\")","v":""},{"$f":"IF(UPIS!U14=\"N\",UPIS!U$1,\"\")","v":""},{"$f":"IF(UPIS!V14=\"N\",UPIS!V$1,\"\")","v":""},{"$f":"IF(UPIS!W14=\"N\",UPIS!W$1,\"\")","v":""}]
["17.",{"$f":"IF(UPIS!AB15>0,UPIS!B15,\"\")","v":""},{"$f":"IF(UPIS!AB15>0,UPIS!AB15,\"\")","v":""},{"$f":"IF(UPIS!C15=\"N\",UPIS!C$1,\"\")","v":""},{"$f":"IF(UPIS!D15=\"N\",UPIS!D$1,\"\")","v":""},{"$f":"IF(UPIS!E15=\"N\",UPIS!E$1,\"\")","v":""},{"$f":"IF(UPIS!F15=\"N\",UPIS!F$1,\"\")","v":""},{"$f":"IF(UPIS!G15=\"N\",UPIS!G$1,\"\")","v":""},{"$f":"IF(UPIS!H15=\"N\",UPIS!H$1,\"\")","v":""},{"$f":"IF(UPIS!I15=\"N\",UPIS!I$1,\"\")","v":""},{"$f":"IF(UPIS!J15=\"N\",UPIS!J$1,\"\")","v":""},{"$f":"IF(UPIS!K15=\"N\",UPIS!K$1,\"\")","v":""},{"$f":"IF(UPIS!L15=\"N\",UPIS!L$1,\"\")","v":""},{"$f":"IF(UPIS!M15=\"N\",UPIS!M$1,\"\")","v":""},{"$f":"IF(UPIS!N15=\"N\",UPIS!N$1,\"\")","v":""},{"$f":"IF(UPIS!O15=\"N\",UPIS!O$1,\"\")","v":""},{"$f":"IF(UPIS!P15=\"N\",UPIS!P$1,\"\")","v":""},{"$f":"IF(UPIS!Q15=\"N\",UPIS!Q$1,\"\")","v":""},{"$f":"IF(UPIS!R15=\"N\",UPIS!R$1,\"\")","v":""},{"$f":"IF(UPIS!S15=\"N\",UPIS!S$1,\"\")","v":""},{"$f":"IF(UPIS!T15=\"N\",UPIS!T$1,\"\")","v":""},{"$f":"IF(UPIS!U15=\"N\",UPIS!U$1,\"\")","v":""},{"$f":"IF(UPIS!V15=\"N\",UPIS!V$1,\"\")","v":""},{"$f":"IF(UPIS!W15=\"N\",UPIS!W$1,\"\")","v":""}]
["18.",{"$f":"IF(UPIS!AB10>0,UPIS!B10,\"\")","v":""},{"$f":"IF(UPIS!AB10>0,UPIS!AB10,\"\")","v":""},{"$f":"IF(UPIS!C10=\"N\",UPIS!C$1,\"\")","v":""},{"$f":"IF(UPIS!D10=\"N\",UPIS!D$1,\"\")","v":""},{"$f":"IF(UPIS!E10=\"N\",UPIS!E$1,\"\")","v":""},{"$f":"IF(UPIS!F10=\"N\",UPIS!F$1,\"\")","v":""},{"$f":"IF(UPIS!G10=\"N\",UPIS!G$1,\"\")","v":""},{"$f":"IF(UPIS!H10=\"N\",UPIS!H$1,\"\")","v":""},{"$f":"IF(UPIS!I10=\"N\",UPIS!I$1,\"\")","v":""},{"$f":"IF(UPIS!J10=\"N\",UPIS!J$1,\"\")","v":""},{"$f":"IF(UPIS!K10=\"N\",UPIS!K$1,\"\")","v":""},{"$f":"IF(UPIS!L10=\"N\",UPIS!L$1,\"\")","v":""},{"$f":"IF(UPIS!M10=\"N\",UPIS!M$1,\"\")","v":""},{"$f":"IF(UPIS!N10=\"N\",UPIS!N$1,\"\")","v":""},{"$f":"IF(UPIS!O10=\"N\",UPIS!O$1,\"\")","v":""},{"$f":"IF(UPIS!P10=\"N\",UPIS!P$1,\"\")","v":""},{"$f":"IF(UPIS!Q10=\"N\",UPIS!Q$1,\"\")","v":""},{"$f":"IF(UPIS!R10=\"N\",UPIS!R$1,\"\")","v":""},{"$f":"IF(UPIS!S10=\"N\",UPIS!S$1,\"\")","v":""},{"$f":"IF(UPIS!T10=\"N\",UPIS!T$1,\"\")","v":""},{"$f":"IF(UPIS!U10=\"N\",UPIS!U$1,\"\")","v":""},{"$f":"IF(UPIS!V10=\"N\",UPIS!V$1,\"\")","v":""},{"$f":"IF(UPIS!W10=\"N\",UPIS!W$1,\"\")","v":""}]
["19.",{"$f":"IF(UPIS!AB4>0,UPIS!B4,\"\")","v":""},{"$f":"IF(UPIS!AB4>0,UPIS!AB4,\"\")","v":""},{"$f":"IF(UPIS!C4=\"N\",UPIS!C$1,\"\")","v":""},{"$f":"IF(UPIS!D4=\"N\",UPIS!D$1,\"\")","v":""},{"$f":"IF(UPIS!E4=\"N\",UPIS!E$1,\"\")","v":""},{"$f":"IF(UPIS!F4=\"N\",UPIS!F$1,\"\")","v":""},{"$f":"IF(UPIS!G4=\"N\",UPIS!G$1,\"\")","v":""},{"$f":"IF(UPIS!H4=\"N\",UPIS!H$1,\"\")","v":""},{"$f":"IF(UPIS!I4=\"N\",UPIS!I$1,\"\")","v":""},{"$f":"IF(UPIS!J4=\"N\",UPIS!J$1,\"\")","v":""},{"$f":"IF(UPIS!K4=\"N\",UPIS!K$1,\"\")","v":""},{"$f":"IF(UPIS!L4=\"N\",UPIS!L$1,\"\")","v":""},{"$f":"IF(UPIS!M4=\"N\",UPIS!M$1,\"\")","v":""},{"$f":"IF(UPIS!N4=\"N\",UPIS!N$1,\"\")","v":""},{"$f":"IF(UPIS!O4=\"N\",UPIS!O$1,\"\")","v":""},{"$f":"IF(UPIS!P4=\"N\",UPIS!P$1,\"\")","v":""},{"$f":"IF(UPIS!Q4=\"N\",UPIS!Q$1,\"\")","v":""},{"$f":"IF(UPIS!R4=\"N\",UPIS!R$1,\"\")","v":""},{"$f":"IF(UPIS!S4=\"N\",UPIS!S$1,\"\")","v":""},{"$f":"IF(UPIS!T4=\"N\",UPIS!T$1,\"\")","v":""},{"$f":"IF(UPIS!U4=\"N\",UPIS!U$1,\"\")","v":""},{"$f":"IF(UPIS!V4=\"N\",UPIS!V$1,\"\")","v":""},{"$f":"IF(UPIS!W4=\"N\",UPIS!W$1,\"\")","v":""}]
["20.",{"$f":"IF(UPIS!AB6>0,UPIS!B6,\"\")","v":""},{"$f":"IF(UPIS!AB6>0,UPIS!AB6,\"\")","v":""},{"$f":"IF(UPIS!C6=\"N\",UPIS!C$1,\"\")","v":""},{"$f":"IF(UPIS!D6=\"N\",UPIS!D$1,\"\")","v":""},{"$f":"IF(UPIS!E6=\"N\",UPIS!E$1,\"\")","v":""},{"$f":"IF(UPIS!F6=\"N\",UPIS!F$1,\"\")","v":""},{"$f":"IF(UPIS!G6=\"N\",UPIS!G$1,\"\")","v":""},{"$f":"IF(UPIS!H6=\"N\",UPIS!H$1,\"\")","v":""},{"$f":"IF(UPIS!I6=\"N\",UPIS!I$1,\"\")","v":""},{"$f":"IF(UPIS!J6=\"N\",UPIS!J$1,\"\")","v":""},{"$f":"IF(UPIS!K6=\"N\",UPIS!K$1,\"\")","v":""},{"$f":"IF(UPIS!L6=\"N\",UPIS!L$1,\"\")","v":""},{"$f":"IF(UPIS!M6=\"N\",UPIS!M$1,\"\")","v":""},{"$f":"IF(UPIS!N6=\"N\",UPIS!N$1,\"\")","v":""},{"$f":"IF(UPIS!O6=\"N\",UPIS!O$1,\"\")","v":""},{"$f":"IF(UPIS!P6=\"N\",UPIS!P$1,\"\")","v":""},{"$f":"IF(UPIS!Q6=\"N\",UPIS!Q$1,\"\")","v":""},{"$f":"IF(UPIS!R6=\"N\",UPIS!R$1,\"\")","v":""},{"$f":"IF(UPIS!S6=\"N\",UPIS!S$1,\"\")","v":""},{"$f":"IF(UPIS!T6=\"N\",UPIS!T$1,\"\")","v":""},{"$f":"IF(UPIS!U6=\"N\",UPIS!U$1,\"\")","v":""},{"$f":"IF(UPIS!V6=\"N\",UPIS!V$1,\"\")","v":""},{"$f":"IF(UPIS!W6=\"N\",UPIS!W$1,\"\")","v":""}]
["21.",{"$f":"IF(UPIS!AB11>0,UPIS!B11,\"\")","v":""},{"$f":"IF(UPIS!AB11>0,UPIS!AB11,\"\")","v":""},{"$f":"IF(UPIS!C11=\"N\",UPIS!C$1,\"\")","v":""},{"$f":"IF(UPIS!D11=\"N\",UPIS!D$1,\"\")","v":""},{"$f":"IF(UPIS!E11=\"N\",UPIS!E$1,\"\")","v":""},{"$f":"IF(UPIS!F11=\"N\",UPIS!F$1,\"\")","v":""},{"$f":"IF(UPIS!G11=\"N\",UPIS!G$1,\"\")","v":""},{"$f":"IF(UPIS!H11=\"N\",UPIS!H$1,\"\")","v":""},{"$f":"IF(UPIS!I11=\"N\",UPIS!I$1,\"\")","v":""},{"$f":"IF(UPIS!J11=\"N\",UPIS!J$1,\"\")","v":""},{"$f":"IF(UPIS!K11=\"N\",UPIS!K$1,\"\")","v":""},{"$f":"IF(UPIS!L11=\"N\",UPIS!L$1,\"\")","v":""},{"$f":"IF(UPIS!M11=\"N\",UPIS!M$1,\"\")","v":""},{"$f":"IF(UPIS!N11=\"N\",UPIS!N$1,\"\")","v":""},{"$f":"IF(UPIS!O11=\"N\",UPIS!O$1,\"\")","v":""},{"$f":"IF(UPIS!P11=\"N\",UPIS!P$1,\"\")","v":""},{"$f":"IF(UPIS!Q11=\"N\",UPIS!Q$1,\"\")","v":""},{"$f":"IF(UPIS!R11=\"N\",UPIS!R$1,\"\")","v":""},{"$f":"IF(UPIS!S11=\"N\",UPIS!S$1,\"\")","v":""},{"$f":"IF(UPIS!T11=\"N\",UPIS!T$1,\"\")","v":""},{"$f":"IF(UPIS!U11=\"N\",UPIS!U$1,\"\")","v":""},{"$f":"IF(UPIS!V11=\"N\",UPIS!V$1,\"\")","v":""},{"$f":"IF(UPIS!W11=\"N\",UPIS!W$1,\"\")","v":""}]
["22.",{"$f":"IF(UPIS!AB2>0,UPIS!B2,\"\")","v":""},{"$f":"IF(UPIS!AB2>0,UPIS!AB2,\"\")","v":""},{"$f":"IF(UPIS!C2=\"N\",UPIS!C$1,\"\")","v":""},{"$f":"IF(UPIS!D2=\"N\",UPIS!D$1,\"\")","v":""},{"$f":"IF(UPIS!E2=\"N\",UPIS!E$1,\"\")","v":""},{"$f":"IF(UPIS!F2=\"N\",UPIS!F$1,\"\")","v":""},{"$f":"IF(UPIS!G2=\"N\",UPIS!G$1,\"\")","v":""},{"$f":"IF(UPIS!H2=\"N\",UPIS!H$1,\"\")","v":""},{"$f":"IF(UPIS!I2=\"N\",UPIS!I$1,\"\")","v":""},{"$f":"IF(UPIS!J2=\"N\",UPIS!J$1,\"\")","v":""},{"$f":"IF(UPIS!K2=\"N\",UPIS!K$1,\"\")","v":""},{"$f":"IF(UPIS!L2=\"N\",UPIS!L$1,\"\")","v":""},{"$f":"IF(UPIS!M2=\"N\",UPIS!M$1,\"\")","v":""},{"$f":"IF(UPIS!N2=\"N\",UPIS!N$1,\"\")","v":""},{"$f":"IF(UPIS!O2=\"N\",UPIS!O$1,\"\")","v":""},{"$f":"IF(UPIS!P2=\"N\",UPIS!P$1,\"\")","v":""},{"$f":"IF(UPIS!Q2=\"N\",UPIS!Q$1,\"\")","v":""},{"$f":"IF(UPIS!R2=\"N\",UPIS!R$1,\"\")","v":""},{"$f":"IF(UPIS!S2=\"N\",UPIS!S$1,\"\")","v":""},{"$f":"IF(UPIS!T2=\"N\",UPIS!T$1,\"\")","v":""},{"$f":"IF(UPIS!U2=\"N\",UPIS!U$1,\"\")","v":""},{"$f":"IF(UPIS!V2=\"N\",UPIS!V$1,\"\")","v":""},{"$f":"IF(UPIS!W2=\"N\",UPIS!W$1,\"\")","v":""}]
["23.",{"$f":"IF(UPIS!AB3>0,UPIS!B3,\"\")","v":""},{"$f":"IF(UPIS!AB3>0,UPIS!AB3,\"\")","v":""},{"$f":"IF(UPIS!C3=\"N\",UPIS!C$1,\"\")","v":""},{"$f":"IF(UPIS!D3=\"N\",UPIS!D$1,\"\")","v":"енглески"},{"$f":"IF(UPIS!E3=\"N\",UPIS!E$1,\"\")","v":""},{"$f":"IF(UPIS!F3=\"N\",UPIS!F$1,\"\")","v":""},{"$f":"IF(UPIS!G3=\"N\",UPIS!G$1,\"\")","v":""},{"$f":"IF(UPIS!H3=\"N\",UPIS!H$1,\"\")","v":""},{"$f":"IF(UPIS!I3=\"N\",UPIS!I$1,\"\")","v":""},{"$f":"IF(UPIS!J3=\"N\",UPIS!J$1,\"\")","v":""},{"$f":"IF(UPIS!K3=\"N\",UPIS!K$1,\"\")","v":""},{"$f":"IF(UPIS!L3=\"N\",UPIS!L$1,\"\")","v":""},{"$f":"IF(UPIS!M3=\"N\",UPIS!M$1,\"\")","v":""},{"$f":"IF(UPIS!N3=\"N\",UPIS!N$1,\"\")","v":""},{"$f":"IF(UPIS!O3=\"N\",UPIS!O$1,\"\")","v":""},{"$f":"IF(UPIS!P3=\"N\",UPIS!P$1,\"\")","v":""},{"$f":"IF(UPIS!Q3=\"N\",UPIS!Q$1,\"\")","v":""},{"$f":"IF(UPIS!R3=\"N\",UPIS!R$1,\"\")","v":""},{"$f":"IF(UPIS!S3=\"N\",UPIS!S$1,\"\")","v":""},{"$f":"IF(UPIS!T3=\"N\",UPIS!T$1,\"\")","v":""},{"$f":"IF(UPIS!U3=\"N\",UPIS!U$1,\"\")","v":""},{"$f":"IF(UPIS!V3=\"N\",UPIS!V$1,\"\")","v":""},{"$f":"IF(UPIS!W3=\"N\",UPIS!W$1,\"\")","v":""}]
["24.",{"$f":"IF(UPIS!AB5>0,UPIS!B5,\"\")","v":""},{"$f":"IF(UPIS!AB5>0,UPIS!AB5,\"\")","v":""},{"$f":"IF(UPIS!C5=\"N\",UPIS!C$1,\"\")","v":""},{"$f":"IF(UPIS!D5=\"N\",UPIS!D$1,\"\")","v":""},{"$f":"IF(UPIS!E5=\"N\",UPIS!E$1,\"\")","v":""},{"$f":"IF(UPIS!F5=\"N\",UPIS!F$1,\"\")","v":""},{"$f":"IF(UPIS!G5=\"N\",UPIS!G$1,\"\")","v":""},{"$f":"IF(UPIS!H5=\"N\",UPIS!H$1,\"\")","v":""},{"$f":"IF(UPIS!I5=\"N\",UPIS!I$1,\"\")","v":""},{"$f":"IF(UPIS!J5=\"N\",UPIS!J$1,\"\")","v":""},{"$f":"IF(UPIS!K5=\"N\",UPIS!K$1,\"\")","v":""},{"$f":"IF(UPIS!L5=\"N\",UPIS!L$1,\"\")","v":""},{"$f":"IF(UPIS!M5=\"N\",UPIS!M$1,\"\")","v":""},{"$f":"IF(UPIS!N5=\"N\",UPIS!N$1,\"\")","v":""},{"$f":"IF(UPIS!O5=\"N\",UPIS!O$1,\"\")","v":""},{"$f":"IF(UPIS!P5=\"N\",UPIS!P$1,\"\")","v":""},{"$f":"IF(UPIS!Q5=\"N\",UPIS!Q$1,\"\")","v":""},{"$f":"IF(UPIS!R5=\"N\",UPIS!R$1,\"\")","v":""},{"$f":"IF(UPIS!S5=\"N\",UPIS!S$1,\"\")","v":""},{"$f":"IF(UPIS!T5=\"N\",UPIS!T$1,\"\")","v":""},{"$f":"IF(UPIS!U5=\"N\",UPIS!U$1,\"\")","v":""},{"$f":"IF(UPIS!V5=\"N\",UPIS!V$1,\"\")","v":""},{"$f":"IF(UPIS!W5=\"N\",UPIS!W$1,\"\")","v":""}]
["25.",{"$f":"IF(UPIS!AB12>0,UPIS!B12,\"\")","v":""},{"$f":"IF(UPIS!AB12>0,UPIS!AB12,\"\")","v":""},{"$f":"IF(UPIS!C12=\"N\",UPIS!C$1,\"\")","v":""},{"$f":"IF(UPIS!D12=\"N\",UPIS!D$1,\"\")","v":""},{"$f":"IF(UPIS!E12=\"N\",UPIS!E$1,\"\")","v":""},{"$f":"IF(UPIS!F12=\"N\",UPIS!F$1,\"\")","v":""},{"$f":"IF(UPIS!G12=\"N\",UPIS!G$1,\"\")","v":""},{"$f":"IF(UPIS!H12=\"N\",UPIS!H$1,\"\")","v":""},{"$f":"IF(UPIS!I12=\"N\",UPIS!I$1,\"\")","v":""},{"$f":"IF(UPIS!J12=\"N\",UPIS!J$1,\"\")","v":""},{"$f":"IF(UPIS!K12=\"N\",UPIS!K$1,\"\")","v":""},{"$f":"IF(UPIS!L12=\"N\",UPIS!L$1,\"\")","v":""},{"$f":"IF(UPIS!M12=\"N\",UPIS!M$1,\"\")","v":""},{"$f":"IF(UPIS!N12=\"N\",UPIS!N$1,\"\")","v":""},{"$f":"IF(UPIS!O12=\"N\",UPIS!O$1,\"\")","v":""},{"$f":"IF(UPIS!P12=\"N\",UPIS!P$1,\"\")","v":""},{"$f":"IF(UPIS!Q12=\"N\",UPIS!Q$1,\"\")","v":""},{"$f":"IF(UPIS!R12=\"N\",UPIS!R$1,\"\")","v":""},{"$f":"IF(UPIS!S12=\"N\",UPIS!S$1,\"\")","v":""},{"$f":"IF(UPIS!T12=\"N\",UPIS!T$1,\"\")","v":""},{"$f":"IF(UPIS!U12=\"N\",UPIS!U$1,\"\")","v":""},{"$f":"IF(UPIS!V12=\"N\",UPIS!V$1,\"\")","v":""},{"$f":"IF(UPIS!W12=\"N\",UPIS!W$1,\"\")","v":""}]
["26.",{"$f":"IF(UPIS!AB17>0,UPIS!B17,\"\")","v":""},{"$f":"IF(UPIS!AB17>0,UPIS!AB17,\"\")","v":""},{"$f":"IF(UPIS!C17=\"N\",UPIS!C$1,\"\")","v":""},{"$f":"IF(UPIS!D17=\"N\",UPIS!D$1,\"\")","v":""},{"$f":"IF(UPIS!E17=\"N\",UPIS!E$1,\"\")","v":""},{"$f":"IF(UPIS!F17=\"N\",UPIS!F$1,\"\")","v":""},{"$f":"IF(UPIS!G17=\"N\",UPIS!G$1,\"\")","v":""},{"$f":"IF(UPIS!H17=\"N\",UPIS!H$1,\"\")","v":""},{"$f":"IF(UPIS!I17=\"N\",UPIS!I$1,\"\")","v":""},{"$f":"IF(UPIS!J17=\"N\",UPIS!J$1,\"\")","v":""},{"$f":"IF(UPIS!K17=\"N\",UPIS!K$1,\"\")","v":""},{"$f":"IF(UPIS!L17=\"N\",UPIS!L$1,\"\")","v":""},{"$f":"IF(UPIS!M17=\"N\",UPIS!M$1,\"\")","v":""},{"$f":"IF(UPIS!N17=\"N\",UPIS!N$1,\"\")","v":""},{"$f":"IF(UPIS!O17=\"N\",UPIS!O$1,\"\")","v":""},{"$f":"IF(UPIS!P17=\"N\",UPIS!P$1,\"\")","v":""},{"$f":"IF(UPIS!Q17=\"N\",UPIS!Q$1,\"\")","v":""},{"$f":"IF(UPIS!R17=\"N\",UPIS!R$1,\"\")","v":""},{"$f":"IF(UPIS!S17=\"N\",UPIS!S$1,\"\")","v":""},{"$f":"IF(UPIS!T17=\"N\",UPIS!T$1,\"\")","v":""},{"$f":"IF(UPIS!U17=\"N\",UPIS!U$1,\"\")","v":""},{"$f":"IF(UPIS!V17=\"N\",UPIS!V$1,\"\")","v":""},{"$f":"IF(UPIS!W17=\"N\",UPIS!W$1,\"\")","v":""}]
["27.",{"$f":"IF(UPIS!AB18>0,UPIS!B18,\"\")","v":""},{"$f":"IF(UPIS!AB18>0,UPIS!AB18,\"\")","v":""},{"$f":"IF(UPIS!C18=\"N\",UPIS!C$1,\"\")","v":""},{"$f":"IF(UPIS!D18=\"N\",UPIS!D$1,\"\")","v":""},{"$f":"IF(UPIS!E18=\"N\",UPIS!E$1,\"\")","v":""},{"$f":"IF(UPIS!F18=\"N\",UPIS!F$1,\"\")","v":""},{"$f":"IF(UPIS!G18=\"N\",UPIS!G$1,\"\")","v":""},{"$f":"IF(UPIS!H18=\"N\",UPIS!H$1,\"\")","v":""},{"$f":"IF(UPIS!I18=\"N\",UPIS!I$1,\"\")","v":""},{"$f":"IF(UPIS!J18=\"N\",UPIS!J$1,\"\")","v":""},{"$f":"IF(UPIS!K18=\"N\",UPIS!K$1,\"\")","v":""},{"$f":"IF(UPIS!L18=\"N\",UPIS!L$1,\"\")","v":""},{"$f":"IF(UPIS!M18=\"N\",UPIS!M$1,\"\")","v":""},{"$f":"IF(UPIS!N18=\"N\",UPIS!N$1,\"\")","v":""},{"$f":"IF(UPIS!O18=\"N\",UPIS!O$1,\"\")","v":""},{"$f":"IF(UPIS!P18=\"N\",UPIS!P$1,\"\")","v":""},{"$f":"IF(UPIS!Q18=\"N\",UPIS!Q$1,\"\")","v":""},{"$f":"IF(UPIS!R18=\"N\",UPIS!R$1,\"\")","v":""},{"$f":"IF(UPIS!S18=\"N\",UPIS!S$1,\"\")","v":""},{"$f":"IF(UPIS!T18=\"N\",UPIS!T$1,\"\")","v":""},{"$f":"IF(UPIS!U18=\"N\",UPIS!U$1,\"\")","v":""},{"$f":"IF(UPIS!V18=\"N\",UPIS!V$1,\"\")","v":""},{"$f":"IF(UPIS!W18=\"N\",UPIS!W$1,\"\")","v":""}]
["28.",{"$f":"IF(UPIS!AB19>0,UPIS!B19,\"\")","v":""},{"$f":"IF(UPIS!AB19>0,UPIS!AB19,\"\")","v":""},{"$f":"IF(UPIS!C19=\"N\",UPIS!C$1,\"\")","v":""},{"$f":"IF(UPIS!D19=\"N\",UPIS!D$1,\"\")","v":""},{"$f":"IF(UPIS!E19=\"N\",UPIS!E$1,\"\")","v":""},{"$f":"IF(UPIS!F19=\"N\",UPIS!F$1,\"\")","v":""},{"$f":"IF(UPIS!G19=\"N\",UPIS!G$1,\"\")","v":""},{"$f":"IF(UPIS!H19=\"N\",UPIS!H$1,\"\")","v":""},{"$f":"IF(UPIS!I19=\"N\",UPIS!I$1,\"\")","v":""},{"$f":"IF(UPIS!J19=\"N\",UPIS!J$1,\"\")","v":""},{"$f":"IF(UPIS!K19=\"N\",UPIS!K$1,\"\")","v":""},{"$f":"IF(UPIS!L19=\"N\",UPIS!L$1,\"\")","v":""},{"$f":"IF(UPIS!M19=\"N\",UPIS!M$1,\"\")","v":""},{"$f":"IF(UPIS!N19=\"N\",UPIS!N$1,\"\")","v":""},{"$f":"IF(UPIS!O19=\"N\",UPIS!O$1,\"\")","v":""},{"$f":"IF(UPIS!P19=\"N\",UPIS!P$1,\"\")","v":""},{"$f":"IF(UPIS!Q19=\"N\",UPIS!Q$1,\"\")","v":""},{"$f":"IF(UPIS!R19=\"N\",UPIS!R$1,\"\")","v":""},{"$f":"IF(UPIS!S19=\"N\",UPIS!S$1,\"\")","v":""},{"$f":"IF(UPIS!T19=\"N\",UPIS!T$1,\"\")","v":""},{"$f":"IF(UPIS!U19=\"N\",UPIS!U$1,\"\")","v":""},{"$f":"IF(UPIS!V19=\"N\",UPIS!V$1,\"\")","v":""},{"$f":"IF(UPIS!W19=\"N\",UPIS!W$1,\"\")","v":""}]
["29.",{"$f":"IF(UPIS!AB20>0,UPIS!B20,\"\")","v":""},{"$f":"IF(UPIS!AB20>0,UPIS!AB20,\"\")","v":""},{"$f":"IF(UPIS!C20=\"N\",UPIS!C$1,\"\")","v":""},{"$f":"IF(UPIS!D20=\"N\",UPIS!D$1,\"\")","v":""},{"$f":"IF(UPIS!E20=\"N\",UPIS!E$1,\"\")","v":""},{"$f":"IF(UPIS!F20=\"N\",UPIS!F$1,\"\")","v":""},{"$f":"IF(UPIS!G20=\"N\",UPIS!G$1,\"\")","v":""},{"$f":"IF(UPIS!H20=\"N\",UPIS!H$1,\"\")","v":""},{"$f":"IF(UPIS!I20=\"N\",UPIS!I$1,\"\")","v":""},{"$f":"IF(UPIS!J20=\"N\",UPIS!J$1,\"\")","v":""},{"$f":"IF(UPIS!K20=\"N\",UPIS!K$1,\"\")","v":""},{"$f":"IF(UPIS!L20=\"N\",UPIS!L$1,\"\")","v":""},{"$f":"IF(UPIS!M20=\"N\",UPIS!M$1,\"\")","v":""},{"$f":"IF(UPIS!N20=\"N\",UPIS!N$1,\"\")","v":""},{"$f":"IF(UPIS!O20=\"N\",UPIS!O$1,\"\")","v":""},{"$f":"IF(UPIS!P20=\"N\",UPIS!P$1,\"\")","v":""},{"$f":"IF(UPIS!Q20=\"N\",UPIS!Q$1,\"\")","v":""},{"$f":"IF(UPIS!R20=\"N\",UPIS!R$1,\"\")","v":""},{"$f":"IF(UPIS!S20=\"N\",UPIS!S$1,\"\")","v":""},{"$f":"IF(UPIS!T20=\"N\",UPIS!T$1,\"\")","v":""},{"$f":"IF(UPIS!U20=\"N\",UPIS!U$1,\"\")","v":""},{"$f":"IF(UPIS!V20=\"N\",UPIS!V$1,\"\")","v":""},{"$f":"IF(UPIS!W20=\"N\",UPIS!W$1,\"\")","v":""}]
["30.",{"$f":"IF(UPIS!AB21>0,UPIS!B21,\"\")","v":""},{"$f":"IF(UPIS!AB21>0,UPIS!AB21,\"\")","v":""},{"$f":"IF(UPIS!C21=\"N\",UPIS!C$1,\"\")","v":""},{"$f":"IF(UPIS!D21=\"N\",UPIS!D$1,\"\")","v":""},{"$f":"IF(UPIS!E21=\"N\",UPIS!E$1,\"\")","v":""},{"$f":"IF(UPIS!F21=\"N\",UPIS!F$1,\"\")","v":""},{"$f":"IF(UPIS!G21=\"N\",UPIS!G$1,\"\")","v":""},{"$f":"IF(UPIS!H21=\"N\",UPIS!H$1,\"\")","v":""},{"$f":"IF(UPIS!I21=\"N\",UPIS!I$1,\"\")","v":""},{"$f":"IF(UPIS!J21=\"N\",UPIS!J$1,\"\")","v":""},{"$f":"IF(UPIS!K21=\"N\",UPIS!K$1,\"\")","v":""},{"$f":"IF(UPIS!L21=\"N\",UPIS!L$1,\"\")","v":""},{"$f":"IF(UPIS!M21=\"N\",UPIS!M$1,\"\")","v":""},{"$f":"IF(UPIS!N21=\"N\",UPIS!N$1,\"\")","v":""},{"$f":"IF(UPIS!O21=\"N\",UPIS!O$1,\"\")","v":""},{"$f":"IF(UPIS!P21=\"N\",UPIS!P$1,\"\")","v":""},{"$f":"IF(UPIS!Q21=\"N\",UPIS!Q$1,\"\")","v":""},{"$f":"IF(UPIS!R21=\"N\",UPIS!R$1,\"\")","v":""},{"$f":"IF(UPIS!S21=\"N\",UPIS!S$1,\"\")","v":""},{"$f":"IF(UPIS!T21=\"N\",UPIS!T$1,\"\")","v":""},{"$f":"IF(UPIS!U21=\"N\",UPIS!U$1,\"\")","v":""},{"$f":"IF(UPIS!V21=\"N\",UPIS!V$1,\"\")","v":""},{"$f":"IF(UPIS!W21=\"N\",UPIS!W$1,\"\")","v":""}]
["31.",{"$f":"IF(UPIS!AB22>0,UPIS!B22,\"\")","v":""},{"$f":"IF(UPIS!AB22>0,UPIS!AB22,\"\")","v":""},{"$f":"IF(UPIS!C22=\"N\",UPIS!C$1,\"\")","v":""},{"$f":"IF(UPIS!D22=\"N\",UPIS!D$1,\"\")","v":""},{"$f":"IF(UPIS!E22=\"N\",UPIS!E$1,\"\")","v":""},{"$f":"IF(UPIS!F22=\"N\",UPIS!F$1,\"\")","v":""},{"$f":"IF(UPIS!G22=\"N\",UPIS!G$1,\"\")","v":""},{"$f":"IF(UPIS!H22=\"N\",UPIS!H$1,\"\")","v":""},{"$f":"IF(UPIS!I22=\"N\",UPIS!I$1,\"\")","v":""},{"$f":"IF(UPIS!J22=\"N\",UPIS!J$1,\"\")","v":""},{"$f":"IF(UPIS!K22=\"N\",UPIS!K$1,\"\")","v":""},{"$f":"IF(UPIS!L22=\"N\",UPIS!L$1,\"\")","v":""},{"$f":"IF(UPIS!M22=\"N\",UPIS!M$1,\"\")","v":""},{"$f":"IF(UPIS!N22=\"N\",UPIS!N$1,\"\")","v":""},{"$f":"IF(UPIS!O22=\"N\",UPIS!O$1,\"\")","v":""},{"$f":"IF(UPIS!P22=\"N\",UPIS!P$1,\"\")","v":""},{"$f":"IF(UPIS!Q22=\"N\",UPIS!Q$1,\"\")","v":""},{"$f":"IF(UPIS!R22=\"N\",UPIS!R$1,\"\")","v":""},{"$f":"IF(UPIS!S22=\"N\",UPIS!S$1,\"\")","v":""},{"$f":"IF(UPIS!T22=\"N\",UPIS!T$1,\"\")","v":""},{"$f":"IF(UPIS!U22=\"N\",UPIS!U$1,\"\")","v":""},{"$f":"IF(UPIS!V22=\"N\",UPIS!V$1,\"\")","v":""},{"$f":"IF(UPIS!W22=\"N\",UPIS!W$1,\"\")","v":""}]
["32.",{"$f":"IF(UPIS!AB23>0,UPIS!B23,\"\")","v":""},{"$f":"IF(UPIS!AB23>0,UPIS!AB23,\"\")","v":""},{"$f":"IF(UPIS!C23=\"N\",UPIS!C$1,\"\")","v":""},{"$f":"IF(UPIS!D23=\"N\",UPIS!D$1,\"\")","v":""},{"$f":"IF(UPIS!E23=\"N\",UPIS!E$1,\"\")","v":""},{"$f":"IF(UPIS!F23=\"N\",UPIS!F$1,\"\")","v":""},{"$f":"IF(UPIS!G23=\"N\",UPIS!G$1,\"\")","v":""},{"$f":"IF(UPIS!H23=\"N\",UPIS!H$1,\"\")","v":""},{"$f":"IF(UPIS!I23=\"N\",UPIS!I$1,\"\")","v":""},{"$f":"IF(UPIS!J23=\"N\",UPIS!J$1,\"\")","v":""},{"$f":"IF(UPIS!K23=\"N\",UPIS!K$1,\"\")","v":""},{"$f":"IF(UPIS!L23=\"N\",UPIS!L$1,\"\")","v":""},{"$f":"IF(UPIS!M23=\"N\",UPIS!M$1,\"\")","v":""},{"$f":"IF(UPIS!N23=\"N\",UPIS!N$1,\"\")","v":""},{"$f":"IF(UPIS!O23=\"N\",UPIS!O$1,\"\")","v":""},{"$f":"IF(UPIS!P23=\"N\",UPIS!P$1,\"\")","v":""},{"$f":"IF(UPIS!Q23=\"N\",UPIS!Q$1,\"\")","v":""},{"$f":"IF(UPIS!R23=\"N\",UPIS!R$1,\"\")","v":""},{"$f":"IF(UPIS!S23=\"N\",UPIS!S$1,\"\")","v":""},{"$f":"IF(UPIS!T23=\"N\",UPIS!T$1,\"\")","v":""},{"$f":"IF(UPIS!U23=\"N\",UPIS!U$1,\"\")","v":""},{"$f":"IF(UPIS!V23=\"N\",UPIS!V$1,\"\")","v":""},{"$f":"IF(UPIS!W23=\"N\",UPIS!W$1,\"\")","v":""}]
["33.",{"$f":"IF(UPIS!AB24>0,UPIS!B24,\"\")","v":""},{"$f":"IF(UPIS!AB24>0,UPIS!AB24,\"\")","v":""},{"$f":"IF(UPIS!C24=\"N\",UPIS!C$1,\"\")","v":""},{"$f":"IF(UPIS!D24=\"N\",UPIS!D$1,\"\")","v":""},{"$f":"IF(UPIS!E24=\"N\",UPIS!E$1,\"\")","v":""},{"$f":"IF(UPIS!F24=\"N\",UPIS!F$1,\"\")","v":""},{"$f":"IF(UPIS!G24=\"N\",UPIS!G$1,\"\")","v":""},{"$f":"IF(UPIS!H24=\"N\",UPIS!H$1,\"\")","v":""},{"$f":"IF(UPIS!I24=\"N\",UPIS!I$1,\"\")","v":""},{"$f":"IF(UPIS!J24=\"N\",UPIS!J$1,\"\")","v":""},{"$f":"IF(UPIS!K24=\"N\",UPIS!K$1,\"\")","v":""},{"$f":"IF(UPIS!L24=\"N\",UPIS!L$1,\"\")","v":""},{"$f":"IF(UPIS!M24=\"N\",UPIS!M$1,\"\")","v":""},{"$f":"IF(UPIS!N24=\"N\",UPIS!N$1,\"\")","v":""},{"$f":"IF(UPIS!O24=\"N\",UPIS!O$1,\"\")","v":""},{"$f":"IF(UPIS!P24=\"N\",UPIS!P$1,\"\")","v":""},{"$f":"IF(UPIS!Q24=\"N\",UPIS!Q$1,\"\")","v":""},{"$f":"IF(UPIS!R24=\"N\",UPIS!R$1,\"\")","v":""},{"$f":"IF(UPIS!S24=\"N\",UPIS!S$1,\"\")","v":""},{"$f":"IF(UPIS!T24=\"N\",UPIS!T$1,\"\")","v":""},{"$f":"IF(UPIS!U24=\"N\",UPIS!U$1,\"\")","v":""},{"$f":"IF(UPIS!V24=\"N\",UPIS!V$1,\"\")","v":""},{"$f":"IF(UPIS!W24=\"N\",UPIS!W$1,\"\")","v":""}]
["34.",{"$f":"IF(UPIS!AB25>0,UPIS!B25,\"\")","v":""},{"$f":"IF(UPIS!AB25>0,UPIS!AB25,\"\")","v":""},{"$f":"IF(UPIS!C25=\"N\",UPIS!C$1,\"\")","v":""},{"$f":"IF(UPIS!D25=\"N\",UPIS!D$1,\"\")","v":""},{"$f":"IF(UPIS!E25=\"N\",UPIS!E$1,\"\")","v":""},{"$f":"IF(UPIS!F25=\"N\",UPIS!F$1,\"\")","v":""},{"$f":"IF(UPIS!G25=\"N\",UPIS!G$1,\"\")","v":""},{"$f":"IF(UPIS!H25=\"N\",UPIS!H$1,\"\")","v":""},{"$f":"IF(UPIS!I25=\"N\",UPIS!I$1,\"\")","v":""},{"$f":"IF(UPIS!J25=\"N\",UPIS!J$1,\"\")","v":""},{"$f":"IF(UPIS!K25=\"N\",UPIS!K$1,\"\")","v":""},{"$f":"IF(UPIS!L25=\"N\",UPIS!L$1,\"\")","v":""},{"$f":"IF(UPIS!M25=\"N\",UPIS!M$1,\"\")","v":""},{"$f":"IF(UPIS!N25=\"N\",UPIS!N$1,\"\")","v":""},{"$f":"IF(UPIS!O25=\"N\",UPIS!O$1,\"\")","v":""},{"$f":"IF(UPIS!P25=\"N\",UPIS!P$1,\"\")","v":""},{"$f":"IF(UPIS!Q25=\"N\",UPIS!Q$1,\"\")","v":""},{"$f":"IF(UPIS!R25=\"N\",UPIS!R$1,\"\")","v":""},{"$f":"IF(UPIS!S25=\"N\",UPIS!S$1,\"\")","v":""},{"$f":"IF(UPIS!T25=\"N\",UPIS!T$1,\"\")","v":""},{"$f":"IF(UPIS!U25=\"N\",UPIS!U$1,\"\")","v":""},{"$f":"IF(UPIS!V25=\"N\",UPIS!V$1,\"\")","v":""},{"$f":"IF(UPIS!W25=\"N\",UPIS!W$1,\"\")","v":""}]
["35.",{"$f":"IF(UPIS!AB26>0,UPIS!B26,\"\")","v":""},{"$f":"IF(UPIS!AB26>0,UPIS!AB26,\"\")","v":""},{"$f":"IF(UPIS!C26=\"N\",UPIS!C$1,\"\")","v":""},{"$f":"IF(UPIS!D26=\"N\",UPIS!D$1,\"\")","v":""},{"$f":"IF(UPIS!E26=\"N\",UPIS!E$1,\"\")","v":""},{"$f":"IF(UPIS!F26=\"N\",UPIS!F$1,\"\")","v":""},{"$f":"IF(UPIS!G26=\"N\",UPIS!G$1,\"\")","v":""},{"$f":"IF(UPIS!H26=\"N\",UPIS!H$1,\"\")","v":""},{"$f":"IF(UPIS!I26=\"N\",UPIS!I$1,\"\")","v":""},{"$f":"IF(UPIS!J26=\"N\",UPIS!J$1,\"\")","v":""},{"$f":"IF(UPIS!K26=\"N\",UPIS!K$1,\"\")","v":""},{"$f":"IF(UPIS!L26=\"N\",UPIS!L$1,\"\")","v":""},{"$f":"IF(UPIS!M26=\"N\",UPIS!M$1,\"\")","v":""},{"$f":"IF(UPIS!N26=\"N\",UPIS!N$1,\"\")","v":""},{"$f":"IF(UPIS!O26=\"N\",UPIS!O$1,\"\")","v":""},{"$f":"IF(UPIS!P26=\"N\",UPIS!P$1,\"\")","v":""},{"$f":"IF(UPIS!Q26=\"N\",UPIS!Q$1,\"\")","v":""},{"$f":"IF(UPIS!R26=\"N\",UPIS!R$1,\"\")","v":""},{"$f":"IF(UPIS!S26=\"N\",UPIS!S$1,\"\")","v":""},{"$f":"IF(UPIS!T26=\"N\",UPIS!T$1,\"\")","v":""},{"$f":"IF(UPIS!U26=\"N\",UPIS!U$1,\"\")","v":""},{"$f":"IF(UPIS!V26=\"N\",UPIS!V$1,\"\")","v":""},{"$f":"IF(UPIS!W26=\"N\",UPIS!W$1,\"\")","v":""}]
["36.",{"$f":"IF(UPIS!AB27>0,UPIS!B27,\"\")","v":""},{"$f":"IF(UPIS!AB27>0,UPIS!AB27,\"\")","v":""},{"$f":"IF(UPIS!C27=\"N\",UPIS!C$1,\"\")","v":""},{"$f":"IF(UPIS!D27=\"N\",UPIS!D$1,\"\")","v":""},{"$f":"IF(UPIS!E27=\"N\",UPIS!E$1,\"\")","v":""},{"$f":"IF(UPIS!F27=\"N\",UPIS!F$1,\"\")","v":""},{"$f":"IF(UPIS!G27=\"N\",UPIS!G$1,\"\")","v":""},{"$f":"IF(UPIS!H27=\"N\",UPIS!H$1,\"\")","v":""},{"$f":"IF(UPIS!I27=\"N\",UPIS!I$1,\"\")","v":""},{"$f":"IF(UPIS!J27=\"N\",UPIS!J$1,\"\")","v":""},{"$f":"IF(UPIS!K27=\"N\",UPIS!K$1,\"\")","v":""},{"$f":"IF(UPIS!L27=\"N\",UPIS!L$1,\"\")","v":""},{"$f":"IF(UPIS!M27=\"N\",UPIS!M$1,\"\")","v":""},{"$f":"IF(UPIS!N27=\"N\",UPIS!N$1,\"\")","v":""},{"$f":"IF(UPIS!O27=\"N\",UPIS!O$1,\"\")","v":""},{"$f":"IF(UPIS!P27=\"N\",UPIS!P$1,\"\")","v":""},{"$f":"IF(UPIS!Q27=\"N\",UPIS!Q$1,\"\")","v":""},{"$f":"IF(UPIS!R27=\"N\",UPIS!R$1,\"\")","v":""},{"$f":"IF(UPIS!S27=\"N\",UPIS!S$1,\"\")","v":""},{"$f":"IF(UPIS!T27=\"N\",UPIS!T$1,\"\")","v":""},{"$f":"IF(UPIS!U27=\"N\",UPIS!U$1,\"\")","v":""},{"$f":"IF(UPIS!V27=\"N\",UPIS!V$1,\"\")","v":""},{"$f":"IF(UPIS!W27=\"N\",UPIS!W$1,\"\")","v":""}]
["37.",{"$f":"IF(UPIS!AB28>0,UPIS!B28,\"\")","v":""},{"$f":"IF(UPIS!AB28>0,UPIS!AB28,\"\")","v":""},{"$f":"IF(UPIS!C28=\"N\",UPIS!C$1,\"\")","v":""},{"$f":"IF(UPIS!D28=\"N\",UPIS!D$1,\"\")","v":""},{"$f":"IF(UPIS!E28=\"N\",UPIS!E$1,\"\")","v":""},{"$f":"IF(UPIS!F28=\"N\",UPIS!F$1,\"\")","v":""},{"$f":"IF(UPIS!G28=\"N\",UPIS!G$1,\"\")","v":""},{"$f":"IF(UPIS!H28=\"N\",UPIS!H$1,\"\")","v":""},{"$f":"IF(UPIS!I28=\"N\",UPIS!I$1,\"\")","v":""},{"$f":"IF(UPIS!J28=\"N\",UPIS!J$1,\"\")","v":""},{"$f":"IF(UPIS!K28=\"N\",UPIS!K$1,\"\")","v":""},{"$f":"IF(UPIS!L28=\"N\",UPIS!L$1,\"\")","v":""},{"$f":"IF(UPIS!M28=\"N\",UPIS!M$1,\"\")","v":""},{"$f":"IF(UPIS!N28=\"N\",UPIS!N$1,\"\")","v":""},{"$f":"IF(UPIS!O28=\"N\",UPIS!O$1,\"\")","v":""},{"$f":"IF(UPIS!P28=\"N\",UPIS!P$1,\"\")","v":""},{"$f":"IF(UPIS!Q28=\"N\",UPIS!Q$1,\"\")","v":""},{"$f":"IF(UPIS!R28=\"N\",UPIS!R$1,\"\")","v":""},{"$f":"IF(UPIS!S28=\"N\",UPIS!S$1,\"\")","v":""},{"$f":"IF(UPIS!T28=\"N\",UPIS!T$1,\"\")","v":""},{"$f":"IF(UPIS!U28=\"N\",UPIS!U$1,\"\")","v":""},{"$f":"IF(UPIS!V28=\"N\",UPIS!V$1,\"\")","v":""},{"$f":"IF(UPIS!W28=\"N\",UPIS!W$1,\"\")","v":""}]
["38.",{"$f":"IF(UPIS!AB29>0,UPIS!B29,\"\")","v":""},{"$f":"IF(UPIS!AB29>0,UPIS!AB29,\"\")","v":""},{"$f":"IF(UPIS!C29=\"N\",UPIS!C$1,\"\")","v":""},{"$f":"IF(UPIS!D29=\"N\",UPIS!D$1,\"\")","v":""},{"$f":"IF(UPIS!E29=\"N\",UPIS!E$1,\"\")","v":""},{"$f":"IF(UPIS!F29=\"N\",UPIS!F$1,\"\")","v":""},{"$f":"IF(UPIS!G29=\"N\",UPIS!G$1,\"\")","v":""},{"$f":"IF(UPIS!H29=\"N\",UPIS!H$1,\"\")","v":""},{"$f":"IF(UPIS!I29=\"N\",UPIS!I$1,\"\")","v":""},{"$f":"IF(UPIS!J29=\"N\",UPIS!J$1,\"\")","v":""},{"$f":"IF(UPIS!K29=\"N\",UPIS!K$1,\"\")","v":""},{"$f":"IF(UPIS!L29=\"N\",UPIS!L$1,\"\")","v":""},{"$f":"IF(UPIS!M29=\"N\",UPIS!M$1,\"\")","v":""},{"$f":"IF(UPIS!N29=\"N\",UPIS!N$1,\"\")","v":""},{"$f":"IF(UPIS!O29=\"N\",UPIS!O$1,\"\")","v":""},{"$f":"IF(UPIS!P29=\"N\",UPIS!P$1,\"\")","v":""},{"$f":"IF(UPIS!Q29=\"N\",UPIS!Q$1,\"\")","v":""},{"$f":"IF(UPIS!R29=\"N\",UPIS!R$1,\"\")","v":""},{"$f":"IF(UPIS!S29=\"N\",UPIS!S$1,\"\")","v":""},{"$f":"IF(UPIS!T29=\"N\",UPIS!T$1,\"\")","v":""},{"$f":"IF(UPIS!U29=\"N\",UPIS!U$1,\"\")","v":""},{"$f":"IF(UPIS!V29=\"N\",UPIS!V$1,\"\")","v":""},{"$f":"IF(UPIS!W29=\"N\",UPIS!W$1,\"\")","v":""}]
["39.",{"$f":"IF(UPIS!AB30>0,UPIS!B30,\"\")","v":""},{"$f":"IF(UPIS!AB30>0,UPIS!AB30,\"\")","v":""},{"$f":"IF(UPIS!C30=\"N\",UPIS!C$1,\"\")","v":""},{"$f":"IF(UPIS!D30=\"N\",UPIS!D$1,\"\")","v":""},{"$f":"IF(UPIS!E30=\"N\",UPIS!E$1,\"\")","v":""},{"$f":"IF(UPIS!F30=\"N\",UPIS!F$1,\"\")","v":""},{"$f":"IF(UPIS!G30=\"N\",UPIS!G$1,\"\")","v":""},{"$f":"IF(UPIS!H30=\"N\",UPIS!H$1,\"\")","v":""},{"$f":"IF(UPIS!I30=\"N\",UPIS!I$1,\"\")","v":""},{"$f":"IF(UPIS!J30=\"N\",UPIS!J$1,\"\")","v":""},{"$f":"IF(UPIS!K30=\"N\",UPIS!K$1,\"\")","v":""},{"$f":"IF(UPIS!L30=\"N\",UPIS!L$1,\"\")","v":""},{"$f":"IF(UPIS!M30=\"N\",UPIS!M$1,\"\")","v":""},{"$f":"IF(UPIS!N30=\"N\",UPIS!N$1,\"\")","v":""},{"$f":"IF(UPIS!O30=\"N\",UPIS!O$1,\"\")","v":""},{"$f":"IF(UPIS!P30=\"N\",UPIS!P$1,\"\")","v":""},{"$f":"IF(UPIS!Q30=\"N\",UPIS!Q$1,\"\")","v":""},{"$f":"IF(UPIS!R30=\"N\",UPIS!R$1,\"\")","v":""},{"$f":"IF(UPIS!S30=\"N\",UPIS!S$1,\"\")","v":""},{"$f":"IF(UPIS!T30=\"N\",UPIS!T$1,\"\")","v":""},{"$f":"IF(UPIS!U30=\"N\",UPIS!U$1,\"\")","v":""},{"$f":"IF(UPIS!V30=\"N\",UPIS!V$1,\"\")","v":""},{"$f":"IF(UPIS!W30=\"N\",UPIS!W$1,\"\")","v":""}]
["40.",{"$f":"IF(UPIS!AB31>0,UPIS!B31,\"\")","v":""},{"$f":"IF(UPIS!AB31>0,UPIS!AB31,\"\")","v":""},{"$f":"IF(UPIS!C31=\"N\",UPIS!C$1,\"\")","v":""},{"$f":"IF(UPIS!D31=\"N\",UPIS!D$1,\"\")","v":""},{"$f":"IF(UPIS!E31=\"N\",UPIS!E$1,\"\")","v":""},{"$f":"IF(UPIS!F31=\"N\",UPIS!F$1,\"\")","v":""},{"$f":"IF(UPIS!G31=\"N\",UPIS!G$1,\"\")","v":""},{"$f":"IF(UPIS!H31=\"N\",UPIS!H$1,\"\")","v":""},{"$f":"IF(UPIS!I31=\"N\",UPIS!I$1,\"\")","v":""},{"$f":"IF(UPIS!J31=\"N\",UPIS!J$1,\"\")","v":""},{"$f":"IF(UPIS!K31=\"N\",UPIS!K$1,\"\")","v":""},{"$f":"IF(UPIS!L31=\"N\",UPIS!L$1,\"\")","v":""},{"$f":"IF(UPIS!M31=\"N\",UPIS!M$1,\"\")","v":""},{"$f":"IF(UPIS!N31=\"N\",UPIS!N$1,\"\")","v":""},{"$f":"IF(UPIS!O31=\"N\",UPIS!O$1,\"\")","v":""},{"$f":"IF(UPIS!P31=\"N\",UPIS!P$1,\"\")","v":""},{"$f":"IF(UPIS!Q31=\"N\",UPIS!Q$1,\"\")","v":""},{"$f":"IF(UPIS!R31=\"N\",UPIS!R$1,\"\")","v":""},{"$f":"IF(UPIS!S31=\"N\",UPIS!S$1,\"\")","v":""},{"$f":"IF(UPIS!T31=\"N\",UPIS!T$1,\"\")","v":""},{"$f":"IF(UPIS!U31=\"N\",UPIS!U$1,\"\")","v":""},{"$f":"IF(UPIS!V31=\"N\",UPIS!V$1,\"\")","v":""},{"$f":"IF(UPIS!W31=\"N\",UPIS!W$1,\"\")","v":""}]
[null,{"$f":"COUNTIF(C2:C41,\">0\")","v":0},{"$f":"SUM(C2:C41)","v":0},null,{"$f":"IF(UPIS!D41=\"N\",UPIS!D$1,\"\")","v":""},{"$f":"IF(UPIS!E41=\"N\",UPIS!E$1,\"\")","v":""},{"$f":"IF(UPIS!F41=\"N\",UPIS!F$1,\"\")","v":""},{"$f":"IF(UPIS!G41=\"N\",UPIS!G$1,\"\")","v":""},{"$f":"IF(UPIS!H41=\"N\",UPIS!H$1,\"\")","v":""},{"$f":"IF(UPIS!I41=\"N\",UPIS!I$1,\"\")","v":""},{"$f":"IF(UPIS!J41=\"N\",UPIS!J$1,\"\")","v":""},{"$f":"IF(UPIS!K41=\"N\",UPIS!K$1,\"\")","v":""},{"$f":"IF(UPIS!L41=\"N\",UPIS!L$1,\"\")","v":""},{"$f":"IF(UPIS!M41=\"N\",UPIS!M$1,\"\")","v":""},{"$f":"IF(UPIS!N41=\"N\",UPIS!N$1,\"\")","v":""},{"$f":"IF(UPIS!O41=\"N\",UPIS!O$1,\"\")","v":""},{"$f":"IF(UPIS!P41=\"N\",UPIS!P$1,\"\")","v":""},{"$f":"IF(UPIS!Q41=\"N\",UPIS!Q$1,\"\")","v":""},{"$f":"IF(UPIS!R41=\"N\",UPIS!R$1,\"\")","v":""},{"$f":"IF(UPIS!S41=\"N\",UPIS!S$1,\"\")","v":""},{"$f":"IF(UPIS!T41=\"N\",UPIS!T$1,\"\")","v":""},{"$f":"IF(UPIS!U41=\"N\",UPIS!U$1,\"\")","v":""},{"$f":"IF(UPIS!V41=\"N\",UPIS!V$1,\"\")","v":""},{"$f":"IF(UPIS!W41=\"N\",UPIS!W$1,\"\")","v":""}]
[]
["1.",{"$f":"IF(C2=\"\",\"\",TRIM(B2&\" \"&\"није оцењен из  \"&\" \"&C2&\" \"&\"предмета\"&\":\"&D2&\" \"&E2&\" \"&F2&\" \"&G2&\" \"&H2&\" \"&I2&\" \"&J2&\" \"&K2&\" \"&L2&\" \"&M2&\" \"&N2&\" \"&O2&\" \"&P2&\" \"&Q2&\" \"&R2&\" \"&S2&\" \"&T2&\" \"&U2&\" \"&V2&\" \"&W2&\" \"&X2))","v":""}]
["2.",{"$f":"IF(C3=\"\",\"\",TRIM(B3&\" \"&\"није оцењен из  \"&\" \"&C3&\" \"&\"предмета\"&\":\"&D3&\" \"&E3&\" \"&F3&\" \"&G3&\" \"&H3&\" \"&I3&\" \"&J3&\" \"&K3&\" \"&L3&\" \"&M3&\" \"&N3&\" \"&O3&\" \"&P3&\" \"&Q3&\" \"&R3&\" \"&S3&\" \"&T3&\" \"&U3&\" \"&V3&\" \"&W3&\" \"&X3))","v":""}]
["3.",""]
["4.",""]
["5.",""]
["6.",""]
["7.",""]
["8.",""]
["9.",""]
["10.",""]
["11.",""]
["12.",""]
["13.",""]
["14.",""]
["15.",""]
["16.",""]
["17.",""]
["18.",""]
["19.",""]
["20.",""]
["21.",""]
["22.",""]
["23.",""]
["24.",""]
["25.",""]
["26.",""]
["27.",""]
["28.",""]
["29.",""]
["30.",""]
["31.",""]
["32.",""]
["33.",""]
["34.",""]
["35.",""]
["36.",""]
["37.",""]
["38.",""]
["39.",""]
["40.",""]

{"sheet":"SVE PETICE","index":4,"n_rows":83,"n_cols":3,"rows_kept":83,"cut":false,"hidden":false,"merged":[[0,1,0,2]]}
[]
["1.",{"$f":"IF(UPIS!Z41=5,UPIS!B41,\"\")","v":""},{"$f":"IF(UPIS!Z41=5,UPIS!Z41,\"\")","v":""}]
["2.",{"$f":"IF(UPIS!Z37=5,UPIS!B37,\"\")","v":""},{"$f":"IF(UPIS!Z37=5,UPIS!Z37,\"\")","v":""}]
["3.",{"$f":"IF(UPIS!Z33=5,UPIS!B33,\"\")","v":""},{"$f":"IF(UPIS!Z33=5,UPIS!Z33,\"\")","v":""}]
["4.",{"$f":"IF(UPIS!Z29=5,UPIS!B29,\"\")","v":""},{"$f":"IF(UPIS!Z29=5,UPIS!Z29,\"\")","v":""}]
["5.",{"$f":"IF(UPIS!Z25=5,UPIS!B25,\"\")","v":""},{"$f":"IF(UPIS!Z25=5,UPIS!Z25,\"\")","v":""}]
["6.",{"$f":"IF(UPIS!Z21=5,UPIS!B21,\"\")","v":""},{"$f":"IF(UPIS!Z21=5,UPIS!Z21,\"\")","v":""}]
["7.",{"$f":"IF(UPIS!Z17=5,UPIS!B17,\"\")","v":""},{"$f":"IF(UPIS!Z17=5,UPIS!Z17,\"\")","v":""}]
["8.",{"$f":"IF(UPIS!Z13=5,UPIS!B13,\"\")","v":""},{"$f":"IF(UPIS!Z13=5,UPIS!Z13,\"\")","v":""}]
["9.",{"$f":"IF(UPIS!Z9=5,UPIS!B9,\"\")","v":""},{"$f":"IF(UPIS!Z9=5,UPIS!Z9,\"\")","v":""}]
["10.",{"$f":"IF(UPIS!Z5=5,UPIS!B5,\"\")","v":""},{"$f":"IF(UPIS!Z5=5,UPIS!Z5,\"\")","v":""}]
["11.",{"$f":"IF(UPIS!Z7=5,UPIS!B7,\"\")","v":""},{"$f":"IF(UPIS!Z7=5,UPIS!Z7,\"\")","v":""}]
["12.",{"$f":"IF(UPIS!Z6=5,UPIS!B6,\"\")","v":""},{"$f":"IF(UPIS!Z6=5,UPIS!Z6,\"\")","v":""}]
["13.",{"$f":"IF(UPIS!Z3=5,UPIS!B3,\"\")","v":""},{"$f":"IF(UPIS!Z3=5,UPIS!Z3,\"\")","v":""}]
["14.",{"$f":"IF(UPIS!Z2=5,UPIS!B2,\"\")","v":"Алексић Петар"},{"$f":"IF(UPIS!Z2=5,UPIS!Z2,\"\")","v":5}]
["15.",{"$f":"IF(UPIS!Z4=5,UPIS!B4,\"\")","v":""},{"$f":"IF(UPIS!Z4=5,UPIS!Z4,\"\")","v":""}]
["16.",{"$f":"IF(UPIS!Z8=5,UPIS!B8,\"\")","v":""},{"$f":"IF(UPIS!Z8=5,UPIS!Z8,\"\")","v":""}]
["17.",{"$f":"IF(UPIS!Z10=5,UPIS!B10,\"\")","v":""},{"$f":"IF(UPIS!Z10=5,UPIS!Z10,\"\")","v":""}]
["18.",{"$f":"IF(UPIS!Z11=5,UPIS!B11,\"\")","v":""},{"$f":"IF(UPIS!Z11=5,UPIS!Z11,\"\")","v":""}]
["19.",{"$f":"IF(UPIS!Z12=5,UPIS!B12,\"\")","v":""},{"$f":"IF(UPIS!Z12=5,UPIS!Z12,\"\")","v":""}]
["20.",{"$f":"IF(UPIS!Z14=5,UPIS!B14,\"\")","v":""},{"$f":"IF(UPIS!Z14=5,UPIS!Z14,\"\")","v":""}]
["21.",{"$f":"IF(UPIS!Z15=5,UPIS!B15,\"\")","v":""},{"$f":"IF(UPIS!Z15=5,UPIS!Z15,\"\")","v":""}]
["22.",{"$f":"IF(UPIS!Z16=5,UPIS!B16,\"\")","v":""},{"$f":"IF(UPIS!Z16=5,UPIS!Z16,\"\")","v":""}]
["23.",{"$f":"IF(UPIS!Z18=5,UPIS!B18,\"\")","v":""},{"$f":"IF(UPIS!Z18=5,UPIS!Z18,\"\")","v":""}]
["24.",{"$f":"IF(UPIS!Z19=5,UPIS!B19,\"\")","v":""},{"$f":"IF(UPIS!Z19=5,UPIS!Z19,\"\")","v":""}]
["25.",{"$f":"IF(UPIS!Z20=5,UPIS!B20,\"\")","v":""},{"$f":"IF(UPIS!Z20=5,UPIS!Z20,\"\")","v":""}]
["26.",{"$f":"IF(UPIS!Z22=5,UPIS!B22,\"\")","v":""},{"$f":"IF(UPIS!Z22=5,UPIS!Z22,\"\")","v":""}]
["27.",{"$f":"IF(UPIS!Z23=5,UPIS!B23,\"\")","v":""},{"$f":"IF(UPIS!Z23=5,UPIS!Z23,\"\")","v":""}]
["28.",{"$f":"IF(UPIS!Z24=5,UPIS!B24,\"\")","v":""},{"$f":"IF(UPIS!Z24=5,UPIS!Z24,\"\")","v":""}]
["29.",{"$f":"IF(UPIS!Z26=5,UPIS!B26,\"\")","v":""},{"$f":"IF(UPIS!Z26=5,UPIS!Z26,\"\")","v":""}]
["30.",{"$f":"IF(UPIS!Z27=5,UPIS!B27,\"\")","v":""},{"$f":"IF(UPIS!Z27=5,UPIS!Z27,\"\")","v":""}]
["31.",{"$f":"IF(UPIS!Z28=5,UPIS!B28,\"\")","v":""},{"$f":"IF(UPIS!Z28=5,UPIS!Z28,\"\")","v":""}]
["32.",{"$f":"IF(UPIS!Z30=5,UPIS!B30,\"\")","v":""},{"$f":"IF(UPIS!Z30=5,UPIS!Z30,\"\")","v":""}]
["33.",{"$f":"IF(UPIS!Z31=5,UPIS!B31,\"\")","v":""},{"$f":"IF(UPIS!Z31=5,UPIS!Z31,\"\")","v":""}]
["34.",{"$f":"IF(UPIS!Z32=5,UPIS!B32,\"\")","v":""},{"$f":"IF(UPIS!Z32=5,UPIS!Z32,\"\")","v":""}]
["35.",{"$f":"IF(UPIS!Z34=5,UPIS!B34,\"\")","v":""},{"$f":"IF(UPIS!Z34=5,UPIS!Z34,\"\")","v":""}]
["36.",{"$f":"IF(UPIS!Z35=5,UPIS!B35,\"\")","v":""},{"$f":"IF(UPIS!Z35=5,UPIS!Z35,\"\")","v":""}]
["37.",{"$f":"IF(UPIS!Z36=5,UPIS!B36,\"\")","v":""},{"$f":"IF(UPIS!Z36=5,UPIS!Z36,\"\")","v":""}]
["38.",{"$f":"IF(UPIS!Z38=5,UPIS!B38,\"\")","v":""},{"$f":"IF(UPIS!Z38=5,UPIS!Z38,\"\")","v":""}]
["39.",{"$f":"IF(UPIS!Z39=5,UPIS!B39,\"\")","v":""},{"$f":"IF(UPIS!Z39=5,UPIS!Z39,\"\")","v":""}]
["40.",{"$f":"IF(UPIS!Z40=5,UPIS!B40,\"\")","v":""},{"$f":"IF(UPIS!Z40=5,UPIS!Z40,\"\")","v":""}]
[null,{"$f":"COUNTIF(C2:C41,\"=5,00\")","v":1}]
[]
["1.",{"$f":"B2","v":""}]
["2.",""]
["3.",""]
["4.",""]
["5.",""]
["6.",""]
["7.",""]
["8.",""]
["9.",""]
["10.",""]
["11.",""]
["12.",""]
["13.",""]
["14.","Алексић Петар"]
["15.",""]
["16.",""]
["17.",""]
["18.",""]
["19.",""]
["20.",""]
["21.",""]
["22.",""]
["23.",""]
["24.",""]
["25.",""]
["26.",""]
["27.",""]
["28.",""]
["29.",""]
["30.",""]
["31.",""]
["32.",""]
["33.",""]
["34.",""]
["35.",""]
["36.",""]
["37.",""]
["38.",""]
["39.",""]
["40.",""]

{"sheet":"NEDOVOLJNI I NEOCENJENI","index":5,"n_rows":83,"n_cols":5,"rows_kept":83,"cut":false,"hidden":false,"merged":[]}
[null,{"$f":"IF(C42=\"\",\"\",TRIM(\"Број ученика који су оцењени јединицом и који су неоцењени из неких предмета је\"&\" \"&B42&\".\"))","v":""},null,"број недовољних оцена","број неоцењених предмета"]
["1.",{"$f":"IF(UPIS!AD2=\"недовољан и неоцењен\",UPIS!B2,\"\")","v":"Алексић Петар"},{"$f":"IF(UPIS!AD2=\"недовољан и неоцењен\",UPIS!AD2,\"\")","v":"недовољан и неоцењен"},{"$f":"IF(UPIS!AC31>0,UPIS!AC31,\"\")","v":""},{"$f":"IF(UPIS!AB31>0,UPIS!AB31,\"\")","v":""}]
["2.",{"$f":"IF(UPIS!AD3=\"недовољан и неоцењен\",UPIS!B3,\"\")","v":""},{"$f":"IF(UPIS!AD3=\"недовољан и неоцењен\",UPIS!AD3,\"\")","v":""},{"$f":"IF(UPIS!AC30>0,UPIS!AC30,\"\")","v":""},{"$f":"IF(UPIS!AB30>0,UPIS!AB30,\"\")","v":""}]
["3.",{"$f":"IF(UPIS!AD4=\"недовољан и неоцењен\",UPIS!B4,\"\")","v":""},{"$f":"IF(UPIS!AD4=\"недовољан и неоцењен\",UPIS!AD4,\"\")","v":""},{"$f":"IF(UPIS!AC29>0,UPIS!AC29,\"\")","v":""},{"$f":"IF(UPIS!AB29>0,UPIS!AB29,\"\")","v":""}]
["4.",{"$f":"IF(UPIS!AD5=\"недовољан и неоцењен\",UPIS!B5,\"\")","v":"Берић Миша"},{"$f":"IF(UPIS!AD5=\"недовољан и неоцењен\",UPIS!AD5,\"\")","v":"недовољан и неоцењен"},{"$f":"IF(UPIS!AC28>0,UPIS!AC28,\"\")","v":""},{"$f":"IF(UPIS!AB28>0,UPIS!AB28,\"\")","v":""}]
["5.",{"$f":"IF(UPIS!AD6=\"недовољан и неоцењен\",UPIS!B6,\"\")","v":""},{"$f":"IF(UPIS!AD6=\"недовољан и неоцењен\",UPIS!AD6,\"\")","v":""},{"$f":"IF(UPIS!AC27>0,UPIS!AC27,\"\")","v":""},{"$f":"IF(UPIS!AB27>0,UPIS!AB27,\"\")","v":""}]
["6.",{"$f":"IF(UPIS!AD7=\"недовољан и неоцењен\",UPIS!B7,\"\")","v":""},{"$f":"IF(UPIS!AD7=\"недовољан и неоцењен\",UPIS!AD7,\"\")","v":""},{"$f":"IF(UPIS!AC26>0,UPIS!AC26,\"\")","v":""},{"$f":"IF(UPIS!AB26>0,UPIS!AB26,\"\")","v":""}]
["7.",{"$f":"IF(UPIS!AD8=\"недовољан и неоцењен\",UPIS!B8,\"\")","v":"Денић Виолета"},{"$f":"IF(UPIS!AD8=\"недовољан и неоцењен\",UPIS!AD8,\"\")","v":"недовољан и неоцењен"},{"$f":"IF(UPIS!AC25>0,UPIS!AC25,\"\")","v":""},{"$f":"IF(UPIS!AB25>0,UPIS!AB25,\"\")","v":""}]
["8.",{"$f":"IF(UPIS!AD9=\"недовољан и неоцењен\",UPIS!B9,\"\")","v":""},{"$f":"IF(UPIS!AD9=\"недовољан и неоцењен\",UPIS!AD9,\"\")","v":""},{"$f":"IF(UPIS!AC24>0,UPIS!AC24,\"\")","v":""},{"$f":"IF(UPIS!AB24>0,UPIS!AB24,\"\")","v":""}]
["9.",{"$f":"IF(UPIS!AD10=\"недовољан и неоцењен\",UPIS!B10,\"\")","v":""},{"$f":"IF(UPIS!AD10=\"недовољан и неоцењен\",UPIS!AD10,\"\")","v":""},{"$f":"IF(UPIS!AC23>0,UPIS!AC23,\"\")","v":""},{"$f":"IF(UPIS!AB23>0,UPIS!AB23,\"\")","v":""}]
["10.",{"$f":"IF(UPIS!AD11=\"недовољан и неоцењен\",UPIS!B11,\"\")","v":""},{"$f":"IF(UPIS!AD11=\"недовољан и неоцењен\",UPIS!AD11,\"\")","v":""},{"$f":"IF(UPIS!AC22>0,UPIS!AC22,\"\")","v":""},{"$f":"IF(UPIS!AB22>0,UPIS!AB22,\"\")","v":""}]
["11.",{"$f":"IF(UPIS!AD12=\"недовољан и неоцењен\",UPIS!B12,\"\")","v":""},{"$f":"IF(UPIS!AD12=\"недовољан и неоцењен\",UPIS!AD12,\"\")","v":""},{"$f":"IF(UPIS!AC21>0,UPIS!AC21,\"\")","v":""},{"$f":"IF(UPIS!AB21>0,UPIS!AB21,\"\")","v":""}]
["12.",{"$f":"IF(UPIS!AD13=\"недовољан и неоцењен\",UPIS!B13,\"\")","v":""},{"$f":"IF(UPIS!AD13=\"недовољан и неоцењен\",UPIS!AD13,\"\")","v":""},{"$f":"IF(UPIS!AC20>0,UPIS!AC20,\"\")","v":""},{"$f":"IF(UPIS!AB20>0,UPIS!AB20,\"\")","v":""}]
["13.",{"$f":"IF(UPIS!AD14=\"недовољан и неоцењен\",UPIS!B14,\"\")","v":""},{"$f":"IF(UPIS!AD14=\"недовољан и неоцењен\",UPIS!AD14,\"\")","v":""},{"$f":"IF(UPIS!AC19>0,UPIS!AC19,\"\")","v":""},{"$f":"IF(UPIS!AB19>0,UPIS!AB19,\"\")","v":""}]
["14.",{"$f":"IF(UPIS!AD15=\"недовољан и неоцењен\",UPIS!B15,\"\")","v":""},{"$f":"IF(UPIS!AD15=\"недовољан и неоцењен\",UPIS!AD15,\"\")","v":""},{"$f":"IF(UPIS!AC18>0,UPIS!AC18,\"\")","v":""},{"$f":"IF(UPIS!AB18>0,UPIS!AB18,\"\")","v":""}]
["15.",{"$f":"IF(UPIS!AD16=\"недовољан и неоцењен\",UPIS!B16,\"\")","v":""},{"$f":"IF(UPIS!AD16=\"недовољан и неоцењен\",UPIS!AD16,\"\")","v":""},{"$f":"IF(UPIS!AC17>0,UPIS!AC17,\"\")","v":""},{"$f":"IF(UPIS!AB17>0,UPIS!AB17,\"\")","v":""}]
["16.",{"$f":"IF(UPIS!AD17=\"недовољан и неоцењен\",UPIS!B17,\"\")","v":"Игњатовић Радмила"},{"$f":"IF(UPIS!AD17=\"недовољан и неоцењен\",UPIS!AD17,\"\")","v":"недовољан и неоцењен"},{"$f":"IF(UPIS!AC16>0,UPIS!AC16,\"\")","v":""},{"$f":"IF(UPIS!AB16>0,UPIS!AB16,\"\")","v":""}]
["17.",{"$f":"IF(UPIS!AD18=\"недовољан и неоцењен\",UPIS!B18,\"\")","v":""},{"$f":"IF(UPIS!AD18=\"недовољан и неоцењен\",UPIS!AD18,\"\")","v":""},{"$f":"IF(UPIS!AC15>0,UPIS!AC15,\"\")","v":""},{"$f":"IF(UPIS!AB15>0,UPIS!AB15,\"\")","v":""}]
["18.",{"$f":"IF(UPIS!AD19=\"недовољан и неоцењен\",UPIS!B19,\"\")","v":""},{"$f":"IF(UPIS!AD19=\"недовољан и неоцењен\",UPIS!AD19,\"\")","v":""},{"$f":"IF(UPIS!AC14>0,UPIS!AC14,\"\")","v":""},{"$f":"IF(UPIS!AB14>0,UPIS!AB14,\"\")","v":""}]
["19.",{"$f":"IF(UPIS!AD20=\"недовољан и неоцењен\",UPIS!B20,\"\")","v":""},{"$f":"IF(UPIS!AD20=\"недовољан и неоцењен\",UPIS!AD20,\"\")","v":""},{"$f":"IF(UPIS!AC13>0,UPIS!AC13,\"\")","v":""},{"$f":"IF(UPIS!AB13>0,UPIS!AB13,\"\")","v":""}]
["20.",{"$f":"IF(UPIS!AD21=\"недовољан и неоцењен\",UPIS!B21,\"\")","v":""},{"$f":"IF(UPIS!AD21=\"недовољан и неоцењен\",UPIS!AD21,\"\")","v":""},{"$f":"IF(UPIS!AC12>0,UPIS!AC12,\"\")","v":""},{"$f":"IF(UPIS!AB12>0,UPIS!AB12,\"\")","v":""}]
["21.",{"$f":"IF(UPIS!AD22=\"недовољан и неоцењен\",UPIS!B22,\"\")","v":""},{"$f":"IF(UPIS!AD22=\"недовољан и неоцењен\",UPIS!AD22,\"\")","v":""},{"$f":"IF(UPIS!AC11>0,UPIS!AC11,\"\")","v":""},{"$f":"IF(UPIS!AB11>0,UPIS!AB11,\"\")","v":""}]
["22.",{"$f":"IF(UPIS!AD23=\"недовољан и неоцењен\",UPIS!B23,\"\")","v":""},{"$f":"IF(UPIS!AD23=\"недовољан и неоцењен\",UPIS!AD23,\"\")","v":""},{"$f":"IF(UPIS!AC10>0,UPIS!AC10,\"\")","v":""},{"$f":"IF(UPIS!AB10>0,UPIS!AB10,\"\")","v":""}]
["23.",{"$f":"IF(UPIS!AD24=\"недовољан и неоцењен\",UPIS!B24,\"\")","v":""},{"$f":"IF(UPIS!AD24=\"недовољан и неоцењен\",UPIS!AD24,\"\")","v":""},{"$f":"IF(UPIS!AC9>0,UPIS!AC9,\"\")","v":""},{"$f":"IF(UPIS!AB9>0,UPIS!AB9,\"\")","v":""}]
["24.",{"$f":"IF(UPIS!AD25=\"недовољан и неоцењен\",UPIS!B25,\"\")","v":""},{"$f":"IF(UPIS!AD25=\"недовољан и неоцењен\",UPIS!AD25,\"\")","v":""},{"$f":"IF(UPIS!AC8>0,UPIS!AC8,\"\")","v":""},{"$f":"IF(UPIS!AB8>0,UPIS!AB8,\"\")","v":""}]
["25.",{"$f":"IF(UPIS!AD26=\"недовољан и неоцењен\",UPIS!B26,\"\")","v":""},{"$f":"IF(UPIS!AD26=\"недовољан и неоцењен\",UPIS!AD26,\"\")","v":""},{"$f":"IF(UPIS!AC7>0,UPIS!AC7,\"\")","v":""},{"$f":"IF(UPIS!AB7>0,UPIS!AB7,\"\")","v":""}]
["26.",{"$f":"IF(UPIS!AD27=\"недовољан и неоцењен\",UPIS!B27,\"\")","v":""},{"$f":"IF(UPIS!AD27=\"недовољан и неоцењен\",UPIS!AD27,\"\")","v":""},{"$f":"IF(UPIS!AC6>0,UPIS!AC6,\"\")","v":""},{"$f":"IF(UPIS!AB6>0,UPIS!AB6,\"\")","v":""}]
["27.",{"$f":"IF(UPIS!AD28=\"недовољан и неоцењен\",UPIS!B28,\"\")","v":""},{"$f":"IF(UPIS!AD28=\"недовољан и неоцењен\",UPIS!AD28,\"\")","v":""},{"$f":"IF(UPIS!AC5>0,UPIS!AC5,\"\")","v":""},{"$f":"IF(UPIS!AB5>0,UPIS!AB5,\"\")","v":""}]
["28.",{"$f":"IF(UPIS!AD29=\"недовољан и неоцењен\",UPIS!B29,\"\")","v":""},{"$f":"IF(UPIS!AD29=\"недовољан и неоцењен\",UPIS!AD29,\"\")","v":""},{"$f":"IF(UPIS!AC4>0,UPIS!AC4,\"\")","v":""},{"$f":"IF(UPIS!AB4>0,UPIS!AB4,\"\")","v":""}]
["29.",{"$f":"IF(UPIS!AD30=\"недовољан и неоцењен\",UPIS!B30,\"\")","v":""},{"$f":"IF(UPIS!AD30=\"недовољан и неоцењен\",UPIS!AD30,\"\")","v":""},{"$f":"IF(UPIS!AC3>0,UPIS!AC3,\"\")","v":1},{"$f":"IF(UPIS!AB3>0,UPIS!AB3,\"\")","v":""}]
["30.",{"$f":"IF(UPIS!AD31=\"недовољан и неоцењен\",UPIS!B31,\"\")","v":""},{"$f":"IF(UPIS!AD31=\"недовољан и неоцењен\",UPIS!AD31,\"\")","v":""},{"$f":"IF(UPIS!AC2>0,UPIS!AC2,\"\")","v":""},{"$f":"IF(UPIS!AB2>0,UPIS!AB2,\"\")","v":""}]
["31.",{"$f":"IF(UPIS!AD32=\"недовољан и неоцењен\",UPIS!B32,\"\")","v":""},{"$f":"IF(UPIS!AD32=\"недовољан и неоцењен\",UPIS!AD32,\"\")","v":""},{"$f":"IF(UPIS!AC32>0,UPIS!AC32,\"\")","v":""},{"$f":"IF(UPIS!AB32>0,UPIS!AB32,\"\")","v":""}]
["32.",{"$f":"IF(UPIS!AD33=\"недовољан и неоцењен\",UPIS!B33,\"\")","v":""},{"$f":"IF(UPIS!AD33=\"недовољан и неоцењен\",UPIS!AD33,\"\")","v":""},{"$f":"IF(UPIS!AC33>0,UPIS!AC33,\"\")","v":""},{"$f":"IF(UPIS!AB33>0,UPIS!AB33,\"\")","v":""}]
["33.",{"$f":"IF(UPIS!AD34=\"недовољан и неоцењен\",UPIS!B34,\"\")","v":""},{"$f":"IF(UPIS!AD34=\"недовољан и неоцењен\",UPIS!AD34,\"\")","v":""},{"$f":"IF(UPIS!AC34>0,UPIS!AC34,\"\")","v":""},{"$f":"IF(UPIS!AB34>0,UPIS!AB34,\"\")","v":""}]
["34.",{"$f":"IF(UPIS!AD35=\"недовољан и неоцењен\",UPIS!B35,\"\")","v":""},{"$f":"IF(UPIS!AD35=\"недовољан и неоцењен\",UPIS!AD35,\"\")","v":""},{"$f":"IF(UPIS!AC35>0,UPIS!AC35,\"\")","v":""},{"$f":"IF(UPIS!AB35>0,UPIS!AB35,\"\")","v":""}]
["35.",{"$f":"IF(UPIS!AD36=\"недовољан и неоцењен\",UPIS!B36,\"\")","v":""},{"$f":"IF(UPIS!AD36=\"недовољан и неоцењен\",UPIS!AD36,\"\")","v":""},{"$f":"IF(UPIS!AC36>0,UPIS!AC36,\"\")","v":""},{"$f":"IF(UPIS!AB36>0,UPIS!AB36,\"\")","v":""}]
["36.",{"$f":"IF(UPIS!AD37=\"недовољан и неоцењен\",UPIS!B37,\"\")","v":""},{"$f":"IF(UPIS!AD37=\"недовољан и неоцењен\",UPIS!AD37,\"\")","v":""},{"$f":"IF(UPIS!AC37>0,UPIS!AC37,\"\")","v":""},{"$f":"IF(UPIS!AB37>0,UPIS!AB37,\"\")","v":""}]
["37.",{"$f":"IF(UPIS!AD38=\"недовољан и неоцењен\",UPIS!B38,\"\")","v":""},{"$f":"IF(UPIS!AD38=\"недовољан и неоцењен\",UPIS!AD38,\"\")","v":""},{"$f":"IF(UPIS!AC38>0,UPIS!AC38,\"\")","v":""},{"$f":"IF(UPIS!AB38>0,UPIS!AB38,\"\")","v":""}]
["38.",{"$f":"IF(UPIS!AD39=\"недовољан и неоцењен\",UPIS!B39,\"\")","v":""},{"$f":"IF(UPIS!AD39=\"недовољан и неоцењен\",UPIS!AD39,\"\")","v":""},{"$f":"IF(UPIS!AC39>0,UPIS!AC39,\"\")","v":""},{"$f":"IF(UPIS!AB39>0,UPIS!AB39,\"\")","v":""}]
["39.",{"$f":"IF(UPIS!AD40=\"недовољан и неоцењен\",UPIS!B40,\"\")","v":""},{"$f":"IF(UPIS!AD40=\"недовољан и неоцењен\",UPIS!AD40,\"\")","v":""},{"$f":"IF(UPIS!AC40>0,UPIS!AC40,\"\")","v":""},{"$f":"IF(UPIS!AB40>0,UPIS!AB40,\"\")","v":""}]
["40.",{"$f":"IF(UPIS!AD41=\"недовољан и неоцењен\",UPIS!B41,\"\")","v":""},{"$f":"IF(UPIS!AD41=\"недовољан и неоцењен\",UPIS!AD41,\"\")","v":""},{"$f":"IF(UPIS!AC41>0,UPIS!AC41,\"\")","v":""},{"$f":"IF(UPIS!AB41>0,UPIS!AB41,\"\")","v":""}]
[null,null,{"$f":"IF(UPIS!AD42=\"недовољан неоцењен\",UPIS!AD42,\"\")","v":""}]
[]
["1.",{"$f":"IF(C2=\"\",\"\",TRIM(B2&\" \"&\"има \"&\" \"&D2&\" \"&\"јединицу-е-a\"&\" \"&\"и\"&\" \"&E2&\" \"&\"неоцењен-а-их предмета. Јединице има из: \"&#REF!&\" \"&#REF!&\" \"&#REF!&\" \"&#REF!&\" \"&#REF!&\" \"&#REF!&\" \"&#REF!&\" \"&#REF!&\" \"&#REF!&\" \"&#REF!&\"\"&#REF!&\" \"&#REF!&\" \"&#REF!&\" \"&#REF!&\" \"&#REF!&\" \"&#REF!&\" \"&#REF!&\" \"&#REF!&\" \"&#REF!&\" \"&#REF!&\" \"&#REF!&\",\"&\"а\"&\" \"&\"неоцењен\"&\" \"&\"из :\"&#REF!&\" \"&#REF!&\" \"&#REF!&\" \"&#REF!&\" \"&#REF!&\" \"&#REF!&\" \"&#REF!&\" \"&#REF!&\" \"&#REF!&\" \"&#REF!&\" \"&#REF!&\" \"&#REF!&\" \"&#REF!&\" \"&#REF!&\" \"&#REF!&\" \"&#REF!&\" \"&#REF!&\" \"&#REF!&\" \"&#REF!&\" \"&#REF!&\" \"&#REF!))","v":{"$error":"#REF!"}}]
["2.",{"$f":"IF(C3=\"\",\"\",TRIM(B3&\" \"&\"има \"&\" \"&D3&\" \"&\"јединицу-е-a\"&\" \"&\"и\"&\" \"&E3&\" \"&\"неоцењен-а-их предмета. Јединице има из: \"&#REF!&\" \"&#REF!&\" \"&#REF!&\" \"&#REF!&\" \"&#REF!&\" \"&#REF!&\" \"&#REF!&\" \"&#REF!&\" \"&#REF!&\" \"&#REF!&\"\"&#REF!&\" \"&#REF!&\" \"&#REF!&\" \"&#REF!&\" \"&#REF!&\" \"&#REF!&\" \"&#REF!&\" \"&#REF!&\" \"&#REF!&\" \"&#REF!&\" \"&#REF!&\",\"&\"а\"&\" \"&\"неоцењен\"&\" \"&\"из :\"&#REF!&\" \"&#REF!&\" \"&#REF!&\" \"&#REF!&\" \"&#REF!&\" \"&#REF!&\" \"&#REF!&\" \"&#REF!&\" \"&#REF!&\" \"&#REF!&\" \"&#REF!&\" \"&#REF!&\" \"&#REF!&\" \"&#REF!&\" \"&#REF!&\" \"&#REF!&\" \"&#REF!&\" \"&#REF!&\" \"&#REF!&\" \"&#REF!&\" \"&#REF!))","v":""}]
["3.",{"$f":"IF(C4=\"\",\"\",TRIM(B4&\" \"&\"има \"&\" \"&D4&\" \"&\"јединицу-е-a\"&\" \"&\"и\"&\" \"&E4&\" \"&\"неоцењен-а-их предмета. Јединице има из: \"&#REF!&\" \"&#REF!&\" \"&#REF!&\" \"&#REF!&\" \"&#REF!&\" \"&#REF!&\" \"&#REF!&\" \"&#REF!&\" \"&#REF!&\" \"&#REF!&\"\"&#REF!&\" \"&#REF!&\" \"&#REF!&\" \"&#REF!&\" \"&#REF!&\" \"&#REF!&\" \"&#REF!&\" \"&#REF!&\" \"&#REF!&\" \"&#REF!&\" \"&#REF!&\",\"&\"а\"&\" \"&\"неоцењен\"&\" \"&\"из :\"&#REF!&\" \"&#REF!&\" \"&#REF!&\" \"&#REF!&\" \"&#REF!&\" \"&#REF!&\" \"&#REF!&\" \"&#REF!&\" \"&#REF!&\" \"&#REF!&\" \"&#REF!&\" \"&#REF!&\" \"&#REF!&\" \"&#REF!&\" \"&#REF!&\" \"&#REF!&\" \"&#REF!&\" \"&#REF!&\" \"&#REF!&\" \"&#REF!&\" \"&#REF!))","v":""}]
["4.",{"$f":"IF(C5=\"\",\"\",TRIM(B5&\" \"&\"има \"&\" \"&D5&\" \"&\"јединицу-е-a\"&\" \"&\"и\"&\" \"&E5&\" \"&\"неоцењен-а-их предмета. Јединице има из: \"&#REF!&\" \"&#REF!&\" \"&#REF!&\" \"&#REF!&\" \"&#REF!&\" \"&#REF!&\" \"&#REF!&\" \"&#REF!&\" \"&#REF!&\" \"&#REF!&\"\"&#REF!&\" \"&#REF!&\" \"&#REF!&\" \"&#REF!&\" \"&#REF!&\" \"&#REF!&\" \"&#REF!&\" \"&#REF!&\" \"&#REF!&\" \"&#REF!&\" \"&#REF!&\",\"&\"а\"&\" \"&\"неоцењен\"&\" \"&\"из :\"&#REF!&\" \"&#REF!&\" \"&#REF!&\" \"&#REF!&\" \"&#REF!&\" \"&#REF!&\" \"&#REF!&\" \"&#REF!&\" \"&#REF!&\" \"&#REF!&\" \"&#REF!&\" \"&#REF!&\" \"&#REF!&\" \"&#REF!&\" \"&#REF!&\" \"&#REF!&\" \"&#REF!&\" \"&#REF!&\" \"&#REF!&\" \"&#REF!&\" \"&#REF!))","v":{"$error":"#REF!"}}]
["5.",{"$f":"IF(C6=\"\",\"\",TRIM(B6&\" \"&\"има \"&\" \"&D6&\" \"&\"јединицу-е-a\"&\" \"&\"и\"&\" \"&E6&\" \"&\"неоцењен-а-их предмета. Јединице има из: \"&#REF!&\" \"&#REF!&\" \"&#REF!&\" \"&#REF!&\" \"&#REF!&\" \"&#REF!&\" \"&#REF!&\" \"&#REF!&\" \"&#REF!&\" \"&#REF!&\"\"&#REF!&\" \"&#REF!&\" \"&#REF!&\" \"&#REF!&\" \"&#REF!&\" \"&#REF!&\" \"&#REF!&\" \"&#REF!&\" \"&#REF!&\" \"&#REF!&\" \"&#REF!&\",\"&\"а\"&\" \"&\"неоцењен\"&\" \"&\"из :\"&#REF!&\" \"&#REF!&\" \"&#REF!&\" \"&#REF!&\" \"&#REF!&\" \"&#REF!&\" \"&#REF!&\" \"&#REF!&\" \"&#REF!&\" \"&#REF!&\" \"&#REF!&\" \"&#REF!&\" \"&#REF!&\" \"&#REF!&\" \"&#REF!&\" \"&#REF!&\" \"&#REF!&\" \"&#REF!&\" \"&#REF!&\" \"&#REF!&\" \"&#REF!))","v":""}]
["6.",{"$f":"IF(C7=\"\",\"\",TRIM(B7&\" \"&\"има \"&\" \"&D7&\" \"&\"јединицу-е-a\"&\" \"&\"и\"&\" \"&E7&\" \"&\"неоцењен-а-их предмета. Јединице има из: \"&#REF!&\" \"&#REF!&\" \"&#REF!&\" \"&#REF!&\" \"&#REF!&\" \"&#REF!&\" \"&#REF!&\" \"&#REF!&\" \"&#REF!&\" \"&#REF!&\"\"&#REF!&\" \"&#REF!&\" \"&#REF!&\" \"&#REF!&\" \"&#REF!&\" \"&#REF!&\" \"&#REF!&\" \"&#REF!&\" \"&#REF!&\" \"&#REF!&\" \"&#REF!&\",\"&\"а\"&\" \"&\"неоцењен\"&\" \"&\"из :\"&#REF!&\" \"&#REF!&\" \"&#REF!&\" \"&#REF!&\" \"&#REF!&\" \"&#REF!&\" \"&#REF!&\" \"&#REF!&\" \"&#REF!&\" \"&#REF!&\" \"&#REF!&\" \"&#REF!&\" \"&#REF!&\" \"&#REF!&\" \"&#REF!&\" \"&#REF!&\" \"&#REF!&\" \"&#REF!&\" \"&#REF!&\" \"&#REF!&\" \"&#REF!))","v":""}]
["7.",{"$f":"IF(C8=\"\",\"\",TRIM(B8&\" \"&\"има \"&\" \"&D8&\" \"&\"јединицу-е-a\"&\" \"&\"и\"&\" \"&E8&\" \"&\"неоцењен-а-их предмета. Јединице има из: \"&#REF!&\" \"&#REF!&\" \"&#REF!&\" \"&#REF!&\" \"&#REF!&\" \"&#REF!&\" \"&#REF!&\" \"&#REF!&\" \"&#REF!&\" \"&#REF!&\"\"&#REF!&\" \"&#REF!&\" \"&#REF!&\" \"&#REF!&\" \"&#REF!&\" \"&#REF!&\" \"&#REF!&\" \"&#REF!&\" \"&#REF!&\" \"&#REF!&\" \"&#REF!&\",\"&\"а\"&\" \"&\"неоцењен\"&\" \"&\"из :\"&#REF!&\" \"&#REF!&\" \"&#REF!&\" \"&#REF!&\" \"&#REF!&\" \"&#REF!&\" \"&#REF!&\" \"&#REF!&\" \"&#REF!&\" \"&#REF!&\" \"&#REF!&\" \"&#REF!&\" \"&#REF!&\" \"&#REF!&\" \"&#REF!&\" \"&#REF!&\" \"&#REF!&\" \"&#REF!&\" \"&#REF!&\" \"&#REF!&\" \"&#REF!))","v":{"$error":"#REF!"}}]
["8.",{"$f":"IF(C9=\"\",\"\",TRIM(B9&\" \"&\"има \"&\" \"&D9&\" \"&\"јединицу-е-a\"&\" \"&\"и\"&\" \"&E9&\" \"&\"неоцењен-а-их предмета. Јединице има из: \"&#REF!&\" \"&#REF!&\" \"&#REF!&\" \"&#REF!&\" \"&#REF!&\" \"&#REF!&\" \"&#REF!&\" \"&#REF!&\" \"&#REF!&\" \"&#REF!&\"\"&#REF!&\" \"&#REF!&\" \"&#REF!&\" \"&#REF!&\" \"&#REF!&\" \"&#REF!&\" \"&#REF!&\" \"&#REF!&\" \"&#REF!&\" \"&#REF!&\" \"&#REF!&\",\"&\"а\"&\" \"&\"неоцењен\"&\" \"&\"из :\"&#REF!&\" \"&#REF!&\" \"&#REF!&\" \"&#REF!&\" \"&#REF!&\" \"&#REF!&\" \"&#REF!&\" \"&#REF!&\" \"&#REF!&\" \"&#REF!&\" \"&#REF!&\" \"&#REF!&\" \"&#REF!&\" \"&#REF!&\" \"&#REF!&\" \"&#REF!&\" \"&#REF!&\" \"&#REF!&\" \"&#REF!&\" \"&#REF!&\" \"&#REF!))","v":""}]
["9.",{"$f":"IF(C10=\"\",\"\",TRIM(B10&\" \"&\"има \"&\" \"&D10&\" \"&\"јединицу-е-a\"&\" \"&\"и\"&\" \"&E10&\" \"&\"неоцењен-а-их предмета. Јединице има из: \"&#REF!&\" \"&#REF!&\" \"&#REF!&\" \"&#REF!&\" \"&#REF!&\" \"&#REF!&\" \"&#REF!&\" \"&#REF!&\" \"&#REF!&\" \"&#REF!&\"\"&#REF!&\" \"&#REF!&\" \"&#REF!&\" \"&#REF!&\" \"&#REF!&\" \"&#REF!&\" \"&#REF!&\" \"&#REF!&\" \"&#REF!&\" \"&#REF!&\" \"&#REF!&\",\"&\"а\"&\" \"&\"неоцењен\"&\" \"&\"из :\"&#REF!&\" \"&#REF!&\" \"&#REF!&\" \"&#REF!&\" \"&#REF!&\" \"&#REF!&\" \"&#REF!&\" \"&#REF!&\" \"&#REF!&\" \"&#REF!&\" \"&#REF!&\" \"&#REF!&\" \"&#REF!&\" \"&#REF!&\" \"&#REF!&\" \"&#REF!&\" \"&#REF!&\" \"&#REF!&\" \"&#REF!&\" \"&#REF!&\" \"&#REF!))","v":""}]
["10.",{"$f":"IF(C11=\"\",\"\",TRIM(B11&\" \"&\"има \"&\" \"&D11&\" \"&\"јединицу-е-a\"&\" \"&\"и\"&\" \"&E11&\" \"&\"неоцењен-а-их предмета. Јединице има из: \"&#REF!&\" \"&#REF!&\" \"&#REF!&\" \"&#REF!&\" \"&#REF!&\" \"&#REF!&\" \"&#REF!&\" \"&#REF!&\" \"&#REF!&\" \"&#REF!&\"\"&#REF!&\" \"&#REF!&\" \"&#REF!&\" \"&#REF!&\" \"&#REF!&\" \"&#REF!&\" \"&#REF!&\" \"&#REF!&\" \"&#REF!&\" \"&#REF!&\" \"&#REF!&\",\"&\"а\"&\" \"&\"неоцењен\"&\" \"&\"из :\"&#REF!&\" \"&#REF!&\" \"&#REF!&\" \"&#REF!&\" \"&#REF!&\" \"&#REF!&\" \"&#REF!&\" \"&#REF!&\" \"&#REF!&\" \"&#REF!&\" \"&#REF!&\" \"&#REF!&\" \"&#REF!&\" \"&#REF!&\" \"&#REF!&\" \"&#REF!&\" \"&#REF!&\" \"&#REF!&\" \"&#REF!&\" \"&#REF!&\" \"&#REF!))","v":""}]
["11.",{"$f":"IF(C12=\"\",\"\",TRIM(B12&\" \"&\"има \"&\" \"&D12&\" \"&\"јединицу-е-a\"&\" \"&\"и\"&\" \"&E12&\" \"&\"неоцењен-а-их предмета. Јединице има из: \"&#REF!&\" \"&#REF!&\" \"&#REF!&\" \"&#REF!&\" \"&#REF!&\" \"&#REF!&\" \"&#REF!&\" \"&#REF!&\" \"&#REF!&\" \"&#REF!&\"\"&#REF!&\" \"&#REF!&\" \"&#REF!&\" \"&#REF!&\" \"&#REF!&\" \"&#REF!&\" \"&#REF!&\" \"&#REF!&\" \"&#REF!&\" \"&#REF!&\" \"&#REF!&\",\"&\"а\"&\" \"&\"неоцењен\"&\" \"&\"из :\"&#REF!&\" \"&#REF!&\" \"&#REF!&\" \"&#REF!&\" \"&#REF!&\" \"&#REF!&\" \"&#REF!&\" \"&#REF!&\" \"&#REF!&\" \"&#REF!&\" \"&#REF!&\" \"&#REF!&\" \"&#REF!&\" \"&#REF!&\" \"&#REF!&\" \"&#REF!&\" \"&#REF!&\" \"&#REF!&\" \"&#REF!&\" \"&#REF!&\" \"&#REF!))","v":""}]
["12.",{"$f":"IF(C13=\"\",\"\",TRIM(B13&\" \"&\"има \"&\" \"&D13&\" \"&\"јединицу-е-a\"&\" \"&\"и\"&\" \"&E13&\" \"&\"неоцењен-а-их предмета. Јединице има из: \"&#REF!&\" \"&#REF!&\" \"&#REF!&\" \"&#REF!&\" \"&#REF!&\" \"&#REF!&\" \"&#REF!&\" \"&#REF!&\" \"&#REF!&\" \"&#REF!&\"\"&#REF!&\" \"&#REF!&\" \"&#REF!&\" \"&#REF!&\" \"&#REF!&\" \"&#REF!&\" \"&#REF!&\" \"&#REF!&\" \"&#REF!&\" \"&#REF!&\" \"&#REF!&\",\"&\"а\"&\" \"&\"неоцењен\"&\" \"&\"из :\"&#REF!&\" \"&#REF!&\" \"&#REF!&\" \"&#REF!&\" \"&#REF!&\" \"&#REF!&\" \"&#REF!&\" \"&#REF!&\" \"&#REF!&\" \"&#REF!&\" \"&#REF!&\" \"&#REF!&\" \"&#REF!&\" \"&#REF!&\" \"&#REF!&\" \"&#REF!&\" \"&#REF!&\" \"&#REF!&\" \"&#REF!&\" \"&#REF!&\" \"&#REF!))","v":""}]
["13.",{"$f":"IF(C14=\"\",\"\",TRIM(B14&\" \"&\"има \"&\" \"&D14&\" \"&\"јединицу-е-a\"&\" \"&\"и\"&\" \"&E14&\" \"&\"неоцењен-а-их предмета. Јединице има из: \"&#REF!&\" \"&#REF!&\" \"&#REF!&\" \"&#REF!&\" \"&#REF!&\" \"&#REF!&\" \"&#REF!&\" \"&#REF!&\" \"&#REF!&\" \"&#REF!&\"\"&#REF!&\" \"&#REF!&\" \"&#REF!&\" \"&#REF!&\" \"&#REF!&\" \"&#REF!&\" \"&#REF!&\" \"&#REF!&\" \"&#REF!&\" \"&#REF!&\" \"&#REF!&\",\"&\"а\"&\" \"&\"неоцењен\"&\" \"&\"из :\"&#REF!&\" \"&#REF!&\" \"&#REF!&\" \"&#REF!&\" \"&#REF!&\" \"&#REF!&\" \"&#REF!&\" \"&#REF!&\" \"&#REF!&\" \"&#REF!&\" \"&#REF!&\" \"&#REF!&\" \"&#REF!&\" \"&#REF!&\" \"&#REF!&\" \"&#REF!&\" \"&#REF!&\" \"&#REF!&\" \"&#REF!&\" \"&#REF!&\" \"&#REF!))","v":""}]
["14.",{"$f":"IF(C15=\"\",\"\",TRIM(B15&\" \"&\"има \"&\" \"&D15&\" \"&\"јединицу-е-a\"&\" \"&\"и\"&\" \"&E15&\" \"&\"неоцењен-а-их предмета. Јединице има из: \"&#REF!&\" \"&#REF!&\" \"&#REF!&\" \"&#REF!&\" \"&#REF!&\" \"&#REF!&\" \"&#REF!&\" \"&#REF!&\" \"&#REF!&\" \"&#REF!&\"\"&#REF!&\" \"&#REF!&\" \"&#REF!&\" \"&#REF!&\" \"&#REF!&\" \"&#REF!&\" \"&#REF!&\" \"&#REF!&\" \"&#REF!&\" \"&#REF!&\" \"&#REF!&\",\"&\"а\"&\" \"&\"неоцењен\"&\" \"&\"из :\"&#REF!&\" \"&#REF!&\" \"&#REF!&\" \"&#REF!&\" \"&#REF!&\" \"&#REF!&\" \"&#REF!&\" \"&#REF!&\" \"&#REF!&\" \"&#REF!&\" \"&#REF!&\" \"&#REF!&\" \"&#REF!&\" \"&#REF!&\" \"&#REF!&\" \"&#REF!&\" \"&#REF!&\" \"&#REF!&\" \"&#REF!&\" \"&#REF!&\" \"&#REF!))","v":""}]
["15.",{"$f":"IF(C16=\"\",\"\",TRIM(B16&\" \"&\"има \"&\" \"&D16&\" \"&\"јединицу-е-a\"&\" \"&\"и\"&\" \"&E16&\" \"&\"неоцењен-а-их предмета. Јединице има из: \"&#REF!&\" \"&#REF!&\" \"&#REF!&\" \"&#REF!&\" \"&#REF!&\" \"&#REF!&\" \"&#REF!&\" \"&#REF!&\" \"&#REF!&\" \"&#REF!&\"\"&#REF!&\" \"&#REF!&\" \"&#REF!&\" \"&#REF!&\" \"&#REF!&\" \"&#REF!&\" \"&#REF!&\" \"&#REF!&\" \"&#REF!&\" \"&#REF!&\" \"&#REF!&\",\"&\"а\"&\" \"&\"неоцењен\"&\" \"&\"из :\"&#REF!&\" \"&#REF!&\" \"&#REF!&\" \"&#REF!&\" \"&#REF!&\" \"&#REF!&\" \"&#REF!&\" \"&#REF!&\" \"&#REF!&\" \"&#REF!&\" \"&#REF!&\" \"&#REF!&\" \"&#REF!&\" \"&#REF!&\" \"&#REF!&\" \"&#REF!&\" \"&#REF!&\" \"&#REF!&\" \"&#REF!&\" \"&#REF!&\" \"&#REF!))","v":""}]
["16.",{"$f":"IF(C17=\"\",\"\",TRIM(B17&\" \"&\"има \"&\" \"&D17&\" \"&\"јединицу-е-a\"&\" \"&\"и\"&\" \"&E17&\" \"&\"неоцењен-а-их предмета. Јединице има из: \"&#REF!&\" \"&#REF!&\" \"&#REF!&\" \"&#REF!&\" \"&#REF!&\" \"&#REF!&\" \"&#REF!&\" \"&#REF!&\" \"&#REF!&\" \"&#REF!&\"\"&#REF!&\" \"&#REF!&\" \"&#REF!&\" \"&#REF!&\" \"&#REF!&\" \"&#REF!&\" \"&#REF!&\" \"&#REF!&\" \"&#REF!&\" \"&#REF!&\" \"&#REF!&\",\"&\"а\"&\" \"&\"неоцењен\"&\" \"&\"из :\"&#REF!&\" \"&#REF!&\" \"&#REF!&\" \"&#REF!&\" \"&#REF!&\" \"&#REF!&\" \"&#REF!&\" \"&#REF!&\" \"&#REF!&\" \"&#REF!&\" \"&#REF!&\" \"&#REF!&\" \"&#REF!&\" \"&#REF!&\" \"&#REF!&\" \"&#REF!&\" \"&#REF!&\" \"&#REF!&\" \"&#REF!&\" \"&#REF!&\" \"&#REF!))","v":{"$error":"#REF!"}}]
["17.",{"$f":"IF(C18=\"\",\"\",TRIM(B18&\" \"&\"има \"&\" \"&D18&\" \"&\"јединицу-е-a\"&\" \"&\"и\"&\" \"&E18&\" \"&\"неоцењен-а-их предмета. Јединице има из: \"&#REF!&\" \"&#REF!&\" \"&#REF!&\" \"&#REF!&\" \"&#REF!&\" \"&#REF!&\" \"&#REF!&\" \"&#REF!&\" \"&#REF!&\" \"&#REF!&\"\"&#REF!&\" \"&#REF!&\" \"&#REF!&\" \"&#REF!&\" \"&#REF!&\" \"&#REF!&\" \"&#REF!&\" \"&#REF!&\" \"&#REF!&\" \"&#REF!&\" \"&#REF!&\",\"&\"а\"&\" \"&\"неоцењен\"&\" \"&\"из :\"&#REF!&\" \"&#REF!&\" \"&#REF!&\" \"&#REF!&\" \"&#REF!&\" \"&#REF!&\" \"&#REF!&\" \"&#REF!&\" \"&#REF!&\" \"&#REF!&\" \"&#REF!&\" \"&#REF!&\" \"&#REF!&\" \"&#REF!&\" \"&#REF!&\" \"&#REF!&\" \"&#REF!&\" \"&#REF!&\" \"&#REF!&\" \"&#REF!&\" \"&#REF!))","v":""}]
["18.",{"$f":"IF(C19=\"\",\"\",TRIM(B19&\" \"&\"има \"&\" \"&D19&\" \"&\"јединицу-е-a\"&\" \"&\"и\"&\" \"&E19&\" \"&\"неоцењен-а-их предмета. Јединице има из: \"&#REF!&\" \"&#REF!&\" \"&#REF!&\" \"&#REF!&\" \"&#REF!&\" \"&#REF!&\" \"&#REF!&\" \"&#REF!&\" \"&#REF!&\" \"&#REF!&\"\"&#REF!&\" \"&#REF!&\" \"&#REF!&\" \"&#REF!&\" \"&#REF!&\" \"&#REF!&\" \"&#REF!&\" \"&#REF!&\" \"&#REF!&\" \"&#REF!&\" \"&#REF!&\",\"&\"а\"&\" \"&\"неоцењен\"&\" \"&\"из :\"&#REF!&\" \"&#REF!&\" \"&#REF!&\" \"&#REF!&\" \"&#REF!&\" \"&#REF!&\" \"&#REF!&\" \"&#REF!&\" \"&#REF!&\" \"&#REF!&\" \"&#REF!&\" \"&#REF!&\" \"&#REF!&\" \"&#REF!&\" \"&#REF!&\" \"&#REF!&\" \"&#REF!&\" \"&#REF!&\" \"&#REF!&\" \"&#REF!&\" \"&#REF!))","v":""}]
["19.",{"$f":"IF(C20=\"\",\"\",TRIM(B20&\" \"&\"има \"&\" \"&D20&\" \"&\"јединицу-е-a\"&\" \"&\"и\"&\" \"&E20&\" \"&\"неоцењен-а-их предмета. Јединице има из: \"&#REF!&\" \"&#REF!&\" \"&#REF!&\" \"&#REF!&\" \"&#REF!&\" \"&#REF!&\" \"&#REF!&\" \"&#REF!&\" \"&#REF!&\" \"&#REF!&\"\"&#REF!&\" \"&#REF!&\" \"&#REF!&\" \"&#REF!&\" \"&#REF!&\" \"&#REF!&\" \"&#REF!&\" \"&#REF!&\" \"&#REF!&\" \"&#REF!&\" \"&#REF!&\",\"&\"а\"&\" \"&\"неоцењен\"&\" \"&\"из :\"&#REF!&\" \"&#REF!&\" \"&#REF!&\" \"&#REF!&\" \"&#REF!&\" \"&#REF!&\" \"&#REF!&\" \"&#REF!&\" \"&#REF!&\" \"&#REF!&\" \"&#REF!&\" \"&#REF!&\" \"&#REF!&\" \"&#REF!&\" \"&#REF!&\" \"&#REF!&\" \"&#REF!&\" \"&#REF!&\" \"&#REF!&\" \"&#REF!&\" \"&#REF!))","v":""}]
["20.",{"$f":"IF(C21=\"\",\"\",TRIM(B21&\" \"&\"има \"&\" \"&D21&\" \"&\"јединицу-е-a\"&\" \"&\"и\"&\" \"&E21&\" \"&\"неоцењен-а-их предмета. Јединице има из: \"&#REF!&\" \"&#REF!&\" \"&#REF!&\" \"&#REF!&\" \"&#REF!&\" \"&#REF!&\" \"&#REF!&\" \"&#REF!&\" \"&#REF!&\" \"&#REF!&\"\"&#REF!&\" \"&#REF!&\" \"&#REF!&\" \"&#REF!&\" \"&#REF!&\" \"&#REF!&\" \"&#REF!&\" \"&#REF!&\" \"&#REF!&\" \"&#REF!&\" \"&#REF!&\",\"&\"а\"&\" \"&\"неоцењен\"&\" \"&\"из :\"&#REF!&\" \"&#REF!&\" \"&#REF!&\" \"&#REF!&\" \"&#REF!&\" \"&#REF!&\" \"&#REF!&\" \"&#REF!&\" \"&#REF!&\" \"&#REF!&\" \"&#REF!&\" \"&#REF!&\" \"&#REF!&\" \"&#REF!&\" \"&#REF!&\" \"&#REF!&\" \"&#REF!&\" \"&#REF!&\" \"&#REF!&\" \"&#REF!&\" \"&#REF!))","v":""}]
["21.",{"$f":"IF(C22=\"\",\"\",TRIM(B22&\" \"&\"има \"&\" \"&D22&\" \"&\"јединицу-е-a\"&\" \"&\"и\"&\" \"&E22&\" \"&\"неоцењен-а-их предмета. Јединице има из: \"&#REF!&\" \"&#REF!&\" \"&#REF!&\" \"&#REF!&\" \"&#REF!&\" \"&#REF!&\" \"&#REF!&\" \"&#REF!&\" \"&#REF!&\" \"&#REF!&\"\"&#REF!&\" \"&#REF!&\" \"&#REF!&\" \"&#REF!&\" \"&#REF!&\" \"&#REF!&\" \"&#REF!&\" \"&#REF!&\" \"&#REF!&\" \"&#REF!&\" \"&#REF!&\",\"&\"а\"&\" \"&\"неоцењен\"&\" \"&\"из :\"&#REF!&\" \"&#REF!&\" \"&#REF!&\" \"&#REF!&\" \"&#REF!&\" \"&#REF!&\" \"&#REF!&\" \"&#REF!&\" \"&#REF!&\" \"&#REF!&\" \"&#REF!&\" \"&#REF!&\" \"&#REF!&\" \"&#REF!&\" \"&#REF!&\" \"&#REF!&\" \"&#REF!&\" \"&#REF!&\" \"&#REF!&\" \"&#REF!&\" \"&#REF!))","v":""}]
["22.",{"$f":"IF(C23=\"\",\"\",TRIM(B23&\" \"&\"има \"&\" \"&D23&\" \"&\"јединицу-е-a\"&\" \"&\"и\"&\" \"&E23&\" \"&\"неоцењен-а-их предмета. Јединице има из: \"&#REF!&\" \"&#REF!&\" \"&#REF!&\" \"&#REF!&\" \"&#REF!&\" \"&#REF!&\" \"&#REF!&\" \"&#REF!&\" \"&#REF!&\" \"&#REF!&\"\"&#REF!&\" \"&#REF!&\" \"&#REF!&\" \"&#REF!&\" \"&#REF!&\" \"&#REF!&\" \"&#REF!&\" \"&#REF!&\" \"&#REF!&\" \"&#REF!&\" \"&#REF!&\",\"&\"а\"&\" \"&\"неоцењен\"&\" \"&\"из :\"&#REF!&\" \"&#REF!&\" \"&#REF!&\" \"&#REF!&\" \"&#REF!&\" \"&#REF!&\" \"&#REF!&\" \"&#REF!&\" \"&#REF!&\" \"&#REF!&\" \"&#REF!&\" \"&#REF!&\" \"&#REF!&\" \"&#REF!&\" \"&#REF!&\" \"&#REF!&\" \"&#REF!&\" \"&#REF!&\" \"&#REF!&\" \"&#REF!&\" \"&#REF!))","v":""}]
["23.",{"$f":"IF(C24=\"\",\"\",TRIM(B24&\" \"&\"има \"&\" \"&D24&\" \"&\"јединицу-е-a\"&\" \"&\"и\"&\" \"&E24&\" \"&\"неоцењен-а-их предмета. Јединице има из: \"&#REF!&\" \"&#REF!&\" \"&#REF!&\" \"&#REF!&\" \"&#REF!&\" \"&#REF!&\" \"&#REF!&\" \"&#REF!&\" \"&#REF!&\" \"&#REF!&\"\"&#REF!&\" \"&#REF!&\" \"&#REF!&\" \"&#REF!&\" \"&#REF!&\" \"&#REF!&\" \"&#REF!&\" \"&#REF!&\" \"&#REF!&\" \"&#REF!&\" \"&#REF!&\",\"&\"а\"&\" \"&\"неоцењен\"&\" \"&\"из :\"&#REF!&\" \"&#REF!&\" \"&#REF!&\" \"&#REF!&\" \"&#REF!&\" \"&#REF!&\" \"&#REF!&\" \"&#REF!&\" \"&#REF!&\" \"&#REF!&\" \"&#REF!&\" \"&#REF!&\" \"&#REF!&\" \"&#REF!&\" \"&#REF!&\" \"&#REF!&\" \"&#REF!&\" \"&#REF!&\" \"&#REF!&\" \"&#REF!&\" \"&#REF!))","v":""}]
["24.",{"$f":"IF(C25=\"\",\"\",TRIM(B25&\" \"&\"има \"&\" \"&D25&\" \"&\"јединицу-е-a\"&\" \"&\"и\"&\" \"&E25&\" \"&\"неоцењен-а-их предмета. Јединице има из: \"&#REF!&\" \"&#REF!&\" \"&#REF!&\" \"&#REF!&\" \"&#REF!&\" \"&#REF!&\" \"&#REF!&\" \"&#REF!&\" \"&#REF!&\" \"&#REF!&\"\"&#REF!&\" \"&#REF!&\" \"&#REF!&\" \"&#REF!&\" \"&#REF!&\" \"&#REF!&\" \"&#REF!&\" \"&#REF!&\" \"&#REF!&\" \"&#REF!&\" \"&#REF!&\",\"&\"а\"&\" \"&\"неоцењен\"&\" \"&\"из :\"&#REF!&\" \"&#REF!&\" \"&#REF!&\" \"&#REF!&\" \"&#REF!&\" \"&#REF!&\" \"&#REF!&\" \"&#REF!&\" \"&#REF!&\" \"&#REF!&\" \"&#REF!&\" \"&#REF!&\" \"&#REF!&\" \"&#REF!&\" \"&#REF!&\" \"&#REF!&\" \"&#REF!&\" \"&#REF!&\" \"&#REF!&\" \"&#REF!&\" \"&#REF!))","v":""}]
["25.",{"$f":"IF(C26=\"\",\"\",TRIM(B26&\" \"&\"има \"&\" \"&D26&\" \"&\"јединицу-е-a\"&\" \"&\"и\"&\" \"&E26&\" \"&\"неоцењен-а-их предмета. Јединице има из: \"&#REF!&\" \"&#REF!&\" \"&#REF!&\" \"&#REF!&\" \"&#REF!&\" \"&#REF!&\" \"&#REF!&\" \"&#REF!&\" \"&#REF!&\" \"&#REF!&\"\"&#REF!&\" \"&#REF!&\" \"&#REF!&\" \"&#REF!&\" \"&#REF!&\" \"&#REF!&\" \"&#REF!&\" \"&#REF!&\" \"&#REF!&\" \"&#REF!&\" \"&#REF!&\",\"&\"а\"&\" \"&\"неоцењен\"&\" \"&\"из :\"&#REF!&\" \"&#REF!&\" \"&#REF!&\" \"&#REF!&\" \"&#REF!&\" \"&#REF!&\" \"&#REF!&\" \"&#REF!&\" \"&#REF!&\" \"&#REF!&\" \"&#REF!&\" \"&#REF!&\" \"&#REF!&\" \"&#REF!&\" \"&#REF!&\" \"&#REF!&\" \"&#REF!&\" \"&#REF!&\" \"&#REF!&\" \"&#REF!&\" \"&#REF!))","v":""}]
["26.",{"$f":"IF(C27=\"\",\"\",TRIM(B27&\" \"&\"има \"&\" \"&D27&\" \"&\"јединицу-е-a\"&\" \"&\"и\"&\" \"&E27&\" \"&\"неоцењен-а-их предмета. Јединице има из: \"&#REF!&\" \"&#REF!&\" \"&#REF!&\" \"&#REF!&\" \"&#REF!&\" \"&#REF!&\" \"&#REF!&\" \"&#REF!&\" \"&#REF!&\" \"&#REF!&\"\"&#REF!&\" \"&#REF!&\" \"&#REF!&\" \"&#REF!&\" \"&#REF!&\" \"&#REF!&\" \"&#REF!&\" \"&#REF!&\" \"&#REF!&\" \"&#REF!&\" \"&#REF!&\",\"&\"а\"&\" \"&\"неоцењен\"&\" \"&\"из :\"&#REF!&\" \"&#REF!&\" \"&#REF!&\" \"&#REF!&\" \"&#REF!&\" \"&#REF!&\" \"&#REF!&\" \"&#REF!&\" \"&#REF!&\" \"&#REF!&\" \"&#REF!&\" \"&#REF!&\" \"&#REF!&\" \"&#REF!&\" \"&#REF!&\" \"&#REF!&\" \"&#REF!&\" \"&#REF!&\" \"&#REF!&\" \"&#REF!&\" \"&#REF!))","v":""}]
["27.",{"$f":"IF(C28=\"\",\"\",TRIM(B28&\" \"&\"има \"&\" \"&D28&\" \"&\"јединицу-е-a\"&\" \"&\"и\"&\" \"&E28&\" \"&\"неоцењен-а-их предмета. Јединице има из: \"&#REF!&\" \"&#REF!&\" \"&#REF!&\" \"&#REF!&\" \"&#REF!&\" \"&#REF!&\" \"&#REF!&\" \"&#REF!&\" \"&#REF!&\" \"&#REF!&\"\"&#REF!&\" \"&#REF!&\" \"&#REF!&\" \"&#REF!&\" \"&#REF!&\" \"&#REF!&\" \"&#REF!&\" \"&#REF!&\" \"&#REF!&\" \"&#REF!&\" \"&#REF!&\",\"&\"а\"&\" \"&\"неоцењен\"&\" \"&\"из :\"&#REF!&\" \"&#REF!&\" \"&#REF!&\" \"&#REF!&\" \"&#REF!&\" \"&#REF!&\" \"&#REF!&\" \"&#REF!&\" \"&#REF!&\" \"&#REF!&\" \"&#REF!&\" \"&#REF!&\" \"&#REF!&\" \"&#REF!&\" \"&#REF!&\" \"&#REF!&\" \"&#REF!&\" \"&#REF!&\" \"&#REF!&\" \"&#REF!&\" \"&#REF!))","v":""}]
["28.",{"$f":"IF(C29=\"\",\"\",TRIM(B29&\" \"&\"има \"&\" \"&D29&\" \"&\"јединицу-е-a\"&\" \"&\"и\"&\" \"&E29&\" \"&\"неоцењен-а-их предмета. Јединице има из: \"&#REF!&\" \"&#REF!&\" \"&#REF!&\" \"&#REF!&\" \"&#REF!&\" \"&#REF!&\" \"&#REF!&\" \"&#REF!&\" \"&#REF!&\" \"&#REF!&\"\"&#REF!&\" \"&#REF!&\" \"&#REF!&\" \"&#REF!&\" \"&#REF!&\" \"&#REF!&\" \"&#REF!&\" \"&#REF!&\" \"&#REF!&\" \"&#REF!&\" \"&#REF!&\",\"&\"а\"&\" \"&\"неоцењен\"&\" \"&\"из :\"&#REF!&\" \"&#REF!&\" \"&#REF!&\" \"&#REF!&\" \"&#REF!&\" \"&#REF!&\" \"&#REF!&\" \"&#REF!&\" \"&#REF!&\" \"&#REF!&\" \"&#REF!&\" \"&#REF!&\" \"&#REF!&\" \"&#REF!&\" \"&#REF!&\" \"&#REF!&\" \"&#REF!&\" \"&#REF!&\" \"&#REF!&\" \"&#REF!&\" \"&#REF!))","v":""}]
["29.",{"$f":"IF(C30=\"\",\"\",TRIM(B30&\" \"&\"има \"&\" \"&D30&\" \"&\"јединицу-е-a\"&\" \"&\"и\"&\" \"&E30&\" \"&\"неоцењен-а-их предмета. Јединице има из: \"&#REF!&\" \"&#REF!&\" \"&#REF!&\" \"&#REF!&\" \"&#REF!&\" \"&#REF!&\" \"&#REF!&\" \"&#REF!&\" \"&#REF!&\" \"&#REF!&\"\"&#REF!&\" \"&#REF!&\" \"&#REF!&\" \"&#REF!&\" \"&#REF!&\" \"&#REF!&\" \"&#REF!&\" \"&#REF!&\" \"&#REF!&\" \"&#REF!&\" \"&#REF!&\",\"&\"а\"&\" \"&\"неоцењен\"&\" \"&\"из :\"&#REF!&\" \"&#REF!&\" \"&#REF!&\" \"&#REF!&\" \"&#REF!&\" \"&#REF!&\" \"&#REF!&\" \"&#REF!&\" \"&#REF!&\" \"&#REF!&\" \"&#REF!&\" \"&#REF!&\" \"&#REF!&\" \"&#REF!&\" \"&#REF!&\" \"&#REF!&\" \"&#REF!&\" \"&#REF!&\" \"&#REF!&\" \"&#REF!&\" \"&#REF!))","v":""}]
["30.",{"$f":"IF(C31=\"\",\"\",TRIM(B31&\" \"&\"има \"&\" \"&D31&\" \"&\"јединицу-е-a\"&\" \"&\"и\"&\" \"&E31&\" \"&\"неоцењен-а-их предмета. Јединице има из: \"&#REF!&\" \"&#REF!&\" \"&#REF!&\" \"&#REF!&\" \"&#REF!&\" \"&#REF!&\" \"&#REF!&\" \"&#REF!&\" \"&#REF!&\" \"&#REF!&\"\"&#REF!&\" \"&#REF!&\" \"&#REF!&\" \"&#REF!&\" \"&#REF!&\" \"&#REF!&\" \"&#REF!&\" \"&#REF!&\" \"&#REF!&\" \"&#REF!&\" \"&#REF!&\",\"&\"а\"&\" \"&\"неоцењен\"&\" \"&\"из :\"&#REF!&\" \"&#REF!&\" \"&#REF!&\" \"&#REF!&\" \"&#REF!&\" \"&#REF!&\" \"&#REF!&\" \"&#REF!&\" \"&#REF!&\" \"&#REF!&\" \"&#REF!&\" \"&#REF!&\" \"&#REF!&\" \"&#REF!&\" \"&#REF!&\" \"&#REF!&\" \"&#REF!&\" \"&#REF!&\" \"&#REF!&\" \"&#REF!&\" \"&#REF!))","v":""}]
["31.",{"$f":"IF(C32=\"\",\"\",TRIM(B32&\" \"&\"има \"&\" \"&D32&\" \"&\"јединицу-е-a\"&\" \"&\"и\"&\" \"&E32&\" \"&\"неоцењен-а-их предмета. Јединице има из: \"&#REF!&\" \"&#REF!&\" \"&#REF!&\" \"&#REF!&\" \"&#REF!&\" \"&#REF!&\" \"&#REF!&\" \"&#REF!&\" \"&#REF!&\" \"&#REF!&\"\"&#REF!&\" \"&#REF!&\" \"&#REF!&\" \"&#REF!&\" \"&#REF!&\" \"&#REF!&\" \"&#REF!&\" \"&#REF!&\" \"&#REF!&\" \"&#REF!&\" \"&#REF!&\",\"&\"а\"&\" \"&\"неоцењен\"&\" \"&\"из :\"&#REF!&\" \"&#REF!&\" \"&#REF!&\" \"&#REF!&\" \"&#REF!&\" \"&#REF!&\" \"&#REF!&\" \"&#REF!&\" \"&#REF!&\" \"&#REF!&\" \"&#REF!&\" \"&#REF!&\" \"&#REF!&\" \"&#REF!&\" \"&#REF!&\" \"&#REF!&\" \"&#REF!&\" \"&#REF!&\" \"&#REF!&\" \"&#REF!&\" \"&#REF!))","v":""}]
["32.",{"$f":"IF(C33=\"\",\"\",TRIM(B33&\" \"&\"има \"&\" \"&D33&\" \"&\"јединицу-е-a\"&\" \"&\"и\"&\" \"&E33&\" \"&\"неоцењен-а-их предмета. Јединице има из: \"&#REF!&\" \"&#REF!&\" \"&#REF!&\" \"&#REF!&\" \"&#REF!&\" \"&#REF!&\" \"&#REF!&\" \"&#REF!&\" \"&#REF!&\" \"&#REF!&\"\"&#REF!&\" \"&#REF!&\" \"&#REF!&\" \"&#REF!&\" \"&#REF!&\" \"&#REF!&\" \"&#REF!&\" \"&#REF!&\" \"&#REF!&\" \"&#REF!&\" \"&#REF!&\",\"&\"а\"&\" \"&\"неоцењен\"&\" \"&\"из :\"&#REF!&\" \"&#REF!&\" \"&#REF!&\" \"&#REF!&\" \"&#REF!&\" \"&#REF!&\" \"&#REF!&\" \"&#REF!&\" \"&#REF!&\" \"&#REF!&\" \"&#REF!&\" \"&#REF!&\" \"&#REF!&\" \"&#REF!&\" \"&#REF!&\" \"&#REF!&\" \"&#REF!&\" \"&#REF!&\" \"&#REF!&\" \"&#REF!&\" \"&#REF!))","v":""}]
["33.",{"$f":"IF(C34=\"\",\"\",TRIM(B34&\" \"&\"има \"&\" \"&D34&\" \"&\"јединицу-е-a\"&\" \"&\"и\"&\" \"&E34&\" \"&\"неоцењен-а-их предмета. Јединице има из: \"&#REF!&\" \"&#REF!&\" \"&#REF!&\" \"&#REF!&\" \"&#REF!&\" \"&#REF!&\" \"&#REF!&\" \"&#REF!&\" \"&#REF!&\" \"&#REF!&\"\"&#REF!&\" \"&#REF!&\" \"&#REF!&\" \"&#REF!&\" \"&#REF!&\" \"&#REF!&\" \"&#REF!&\" \"&#REF!&\" \"&#REF!&\" \"&#REF!&\" \"&#REF!&\",\"&\"а\"&\" \"&\"неоцењен\"&\" \"&\"из :\"&#REF!&\" \"&#REF!&\" \"&#REF!&\" \"&#REF!&\" \"&#REF!&\" \"&#REF!&\" \"&#REF!&\" \"&#REF!&\" \"&#REF!&\" \"&#REF!&\" \"&#REF!&\" \"&#REF!&\" \"&#REF!&\" \"&#REF!&\" \"&#REF!&\" \"&#REF!&\" \"&#REF!&\" \"&#REF!&\" \"&#REF!&\" \"&#REF!&\" \"&#REF!))","v":""}]
["34.",{"$f":"IF(C35=\"\",\"\",TRIM(B35&\" \"&\"има \"&\" \"&D35&\" \"&\"јединицу-е-a\"&\" \"&\"и\"&\" \"&E35&\" \"&\"неоцењен-а-их предмета. Јединице има из: \"&#REF!&\" \"&#REF!&\" \"&#REF!&\" \"&#REF!&\" \"&#REF!&\" \"&#REF!&\" \"&#REF!&\" \"&#REF!&\" \"&#REF!&\" \"&#REF!&\"\"&#REF!&\" \"&#REF!&\" \"&#REF!&\" \"&#REF!&\" \"&#REF!&\" \"&#REF!&\" \"&#REF!&\" \"&#REF!&\" \"&#REF!&\" \"&#REF!&\" \"&#REF!&\",\"&\"а\"&\" \"&\"неоцењен\"&\" \"&\"из :\"&#REF!&\" \"&#REF!&\" \"&#REF!&\" \"&#REF!&\" \"&#REF!&\" \"&#REF!&\" \"&#REF!&\" \"&#REF!&\" \"&#REF!&\" \"&#REF!&\" \"&#REF!&\" \"&#REF!&\" \"&#REF!&\" \"&#REF!&\" \"&#REF!&\" \"&#REF!&\" \"&#REF!&\" \"&#REF!&\" \"&#REF!&\" \"&#REF!&\" \"&#REF!))","v":""}]
["35.",{"$f":"IF(C36=\"\",\"\",TRIM(B36&\" \"&\"има \"&\" \"&D36&\" \"&\"јединицу-е-a\"&\" \"&\"и\"&\" \"&E36&\" \"&\"неоцењен-а-их предмета. Јединице има из: \"&#REF!&\" \"&#REF!&\" \"&#REF!&\" \"&#REF!&\" \"&#REF!&\" \"&#REF!&\" \"&#REF!&\" \"&#REF!&\" \"&#REF!&\" \"&#REF!&\"\"&#REF!&\" \"&#REF!&\" \"&#REF!&\" \"&#REF!&\" \"&#REF!&\" \"&#REF!&\" \"&#REF!&\" \"&#REF!&\" \"&#REF!&\" \"&#REF!&\" \"&#REF!&\",\"&\"а\"&\" \"&\"неоцењен\"&\" \"&\"из :\"&#REF!&\" \"&#REF!&\" \"&#REF!&\" \"&#REF!&\" \"&#REF!&\" \"&#REF!&\" \"&#REF!&\" \"&#REF!&\" \"&#REF!&\" \"&#REF!&\" \"&#REF!&\" \"&#REF!&\" \"&#REF!&\" \"&#REF!&\" \"&#REF!&\" \"&#REF!&\" \"&#REF!&\" \"&#REF!&\" \"&#REF!&\" \"&#REF!&\" \"&#REF!))","v":""}]
["36.",{"$f":"IF(C37=\"\",\"\",TRIM(B37&\" \"&\"има \"&\" \"&D37&\" \"&\"јединицу-е-a\"&\" \"&\"и\"&\" \"&E37&\" \"&\"неоцењен-а-их предмета. Јединице има из: \"&#REF!&\" \"&#REF!&\" \"&#REF!&\" \"&#REF!&\" \"&#REF!&\" \"&#REF!&\" \"&#REF!&\" \"&#REF!&\" \"&#REF!&\" \"&#REF!&\"\"&#REF!&\" \"&#REF!&\" \"&#REF!&\" \"&#REF!&\" \"&#REF!&\" \"&#REF!&\" \"&#REF!&\" \"&#REF!&\" \"&#REF!&\" \"&#REF!&\" \"&#REF!&\",\"&\"а\"&\" \"&\"неоцењен\"&\" \"&\"из :\"&#REF!&\" \"&#REF!&\" \"&#REF!&\" \"&#REF!&\" \"&#REF!&\" \"&#REF!&\" \"&#REF!&\" \"&#REF!&\" \"&#REF!&\" \"&#REF!&\" \"&#REF!&\" \"&#REF!&\" \"&#REF!&\" \"&#REF!&\" \"&#REF!&\" \"&#REF!&\" \"&#REF!&\" \"&#REF!&\" \"&#REF!&\" \"&#REF!&\" \"&#REF!))","v":""}]
["37.",{"$f":"IF(C38=\"\",\"\",TRIM(B38&\" \"&\"има \"&\" \"&D38&\" \"&\"јединицу-е-a\"&\" \"&\"и\"&\" \"&E38&\" \"&\"неоцењен-а-их предмета. Јединице има из: \"&#REF!&\" \"&#REF!&\" \"&#REF!&\" \"&#REF!&\" \"&#REF!&\" \"&#REF!&\" \"&#REF!&\" \"&#REF!&\" \"&#REF!&\" \"&#REF!&\"\"&#REF!&\" \"&#REF!&\" \"&#REF!&\" \"&#REF!&\" \"&#REF!&\" \"&#REF!&\" \"&#REF!&\" \"&#REF!&\" \"&#REF!&\" \"&#REF!&\" \"&#REF!&\",\"&\"а\"&\" \"&\"неоцењен\"&\" \"&\"из :\"&#REF!&\" \"&#REF!&\" \"&#REF!&\" \"&#REF!&\" \"&#REF!&\" \"&#REF!&\" \"&#REF!&\" \"&#REF!&\" \"&#REF!&\" \"&#REF!&\" \"&#REF!&\" \"&#REF!&\" \"&#REF!&\" \"&#REF!&\" \"&#REF!&\" \"&#REF!&\" \"&#REF!&\" \"&#REF!&\" \"&#REF!&\" \"&#REF!&\" \"&#REF!))","v":""}]
["38.",{"$f":"IF(C39=\"\",\"\",TRIM(B39&\" \"&\"има \"&\" \"&D39&\" \"&\"јединицу-е-a\"&\" \"&\"и\"&\" \"&E39&\" \"&\"неоцењен-а-их предмета. Јединице има из: \"&#REF!&\" \"&#REF!&\" \"&#REF!&\" \"&#REF!&\" \"&#REF!&\" \"&#REF!&\" \"&#REF!&\" \"&#REF!&\" \"&#REF!&\" \"&#REF!&\"\"&#REF!&\" \"&#REF!&\" \"&#REF!&\" \"&#REF!&\" \"&#REF!&\" \"&#REF!&\" \"&#REF!&\" \"&#REF!&\" \"&#REF!&\" \"&#REF!&\" \"&#REF!&\",\"&\"а\"&\" \"&\"неоцењен\"&\" \"&\"из :\"&#REF!&\" \"&#REF!&\" \"&#REF!&\" \"&#REF!&\" \"&#REF!&\" \"&#REF!&\" \"&#REF!&\" \"&#REF!&\" \"&#REF!&\" \"&#REF!&\" \"&#REF!&\" \"&#REF!&\" \"&#REF!&\" \"&#REF!&\" \"&#REF!&\" \"&#REF!&\" \"&#REF!&\" \"&#REF!&\" \"&#REF!&\" \"&#REF!&\" \"&#REF!))","v":""}]
["39.",{"$f":"IF(C40=\"\",\"\",TRIM(B40&\" \"&\"има \"&\" \"&D40&\" \"&\"јединицу-е-a\"&\" \"&\"и\"&\" \"&E40&\" \"&\"неоцењен-а-их предмета. Јединице има из: \"&#REF!&\" \"&#REF!&\" \"&#REF!&\" \"&#REF!&\" \"&#REF!&\" \"&#REF!&\" \"&#REF!&\" \"&#REF!&\" \"&#REF!&\" \"&#REF!&\"\"&#REF!&\" \"&#REF!&\" \"&#REF!&\" \"&#REF!&\" \"&#REF!&\" \"&#REF!&\" \"&#REF!&\" \"&#REF!&\" \"&#REF!&\" \"&#REF!&\" \"&#REF!&\",\"&\"а\"&\" \"&\"неоцењен\"&\" \"&\"из :\"&#REF!&\" \"&#REF!&\" \"&#REF!&\" \"&#REF!&\" \"&#REF!&\" \"&#REF!&\" \"&#REF!&\" \"&#REF!&\" \"&#REF!&\" \"&#REF!&\" \"&#REF!&\" \"&#REF!&\" \"&#REF!&\" \"&#REF!&\" \"&#REF!&\" \"&#REF!&\" \"&#REF!&\" \"&#REF!&\" \"&#REF!&\" \"&#REF!&\" \"&#REF!))","v":""}]
["40.",{"$f":"IF(C41=\"\",\"\",TRIM(B41&\" \"&\"има \"&\" \"&D41&\" \"&\"јединицу-е-a\"&\" \"&\"и\"&\" \"&E41&\" \"&\"неоцењен-а-их предмета. Јединице има из: \"&#REF!&\" \"&#REF!&\" \"&#REF!&\" \"&#REF!&\" \"&#REF!&\" \"&#REF!&\" \"&#REF!&\" \"&#REF!&\" \"&#REF!&\" \"&#REF!&\"\"&#REF!&\" \"&#REF!&\" \"&#REF!&\" \"&#REF!&\" \"&#REF!&\" \"&#REF!&\" \"&#REF!&\" \"&#REF!&\" \"&#REF!&\" \"&#REF!&\" \"&#REF!&\",\"&\"а\"&\" \"&\"неоцењен\"&\" \"&\"из :\"&#REF!&\" \"&#REF!&\" \"&#REF!&\" \"&#REF!&\" \"&#REF!&\" \"&#REF!&\" \"&#REF!&\" \"&#REF!&\" \"&#REF!&\" \"&#REF!&\" \"&#REF!&\" \"&#REF!&\" \"&#REF!&\" \"&#REF!&\" \"&#REF!&\" \"&#REF!&\" \"&#REF!&\" \"&#REF!&\" \"&#REF!&\" \"&#REF!&\" \"&#REF!))","v":""}]

{"sheet":"VLADANJE","index":6,"n_rows":83,"n_cols":3,"rows_kept":83,"cut":false,"hidden":false,"merged":[]}
[null,null,"умањене оцене"]
["1.",{"$f":"IF(UPIS!W11=5,\"\",IF(UPIS!W11=0,\"\",UPIS!B11))","v":"Ђокић Биљана"},{"$f":"IF(UPIS!W11=5,\"\",IF(UPIS!W11=0,\"\",UPIS!W11))","v":2}]
["2.",{"$f":"IF(UPIS!W30=5,\"\",IF(UPIS!W30=0,\"\",UPIS!B30))","v":"Лалатовић Петар"},{"$f":"IF(UPIS!W30=5,\"\",IF(UPIS!W30=0,\"\",UPIS!W30))","v":2}]
["3.",{"$f":"IF(UPIS!W22=5,\"\",IF(UPIS!W22=0,\"\",UPIS!B22))","v":"Јелић Персида"},{"$f":"IF(UPIS!W22=5,\"\",IF(UPIS!W22=0,\"\",UPIS!W22))","v":2}]
["4.",{"$f":"IF(UPIS!W2=5,\"\",IF(UPIS!W2=0,\"\",UPIS!B2))","v":""},{"$f":"IF(UPIS!W2=5,\"\",IF(UPIS!W2=0,\"\",UPIS!W2))","v":""}]
["5.",{"$f":"IF(UPIS!W6=5,\"\",IF(UPIS!W6=0,\"\",UPIS!B6))","v":"Величковић Лука"},{"$f":"IF(UPIS!W6=5,\"\",IF(UPIS!W6=0,\"\",UPIS!W6))","v":2}]
["6.",{"$f":"IF(UPIS!W14=5,\"\",IF(UPIS!W14=0,\"\",UPIS!B14))","v":"Живаљевић Драгана"},{"$f":"IF(UPIS!W14=5,\"\",IF(UPIS!W14=0,\"\",UPIS!W14))","v":2}]
["7.",{"$f":"IF(UPIS!W18=5,\"\",IF(UPIS!W18=0,\"\",UPIS!B18))","v":"Исаковић Јефимија"},{"$f":"IF(UPIS!W18=5,\"\",IF(UPIS!W18=0,\"\",UPIS!W18))","v":2}]
["8.",{"$f":"IF(UPIS!W26=5,\"\",IF(UPIS!W26=0,\"\",UPIS!B26))","v":"Керковић Милан"},{"$f":"IF(UPIS!W26=5,\"\",IF(UPIS!W26=0,\"\",UPIS!W26))","v":2}]
["9.",{"$f":"IF(UPIS!W31=5,\"\",IF(UPIS!W31=0,\"\",UPIS!B31))","v":"Лалић Ратко"},{"$f":"IF(UPIS!W31=5,\"\",IF(UPIS!W31=0,\"\",UPIS!W31))","v":2}]
["10.",{"$f":"IF(UPIS!W3=5,\"\",IF(UPIS!W3=0,\"\",UPIS!B3))","v":"Антић Миодраг"},{"$f":"IF(UPIS!W3=5,\"\",IF(UPIS!W3=0,\"\",UPIS!W3))","v":3}]
["11.",{"$f":"IF(UPIS!W7=5,\"\",IF(UPIS!W7=0,\"\",UPIS!B7))","v":"Гроздановић Мила"},{"$f":"IF(UPIS!W7=5,\"\",IF(UPIS!W7=0,\"\",UPIS!W7))","v":2}]
["12.",{"$f":"IF(UPIS!W15=5,\"\",IF(UPIS!W15=0,\"\",UPIS!B15))","v":"Живковић Лука"},{"$f":"IF(UPIS!W15=5,\"\",IF(UPIS!W15=0,\"\",UPIS!W15))","v":2}]
["13.",{"$f":"IF(UPIS!W19=5,\"\",IF(UPIS!W19=0,\"\",UPIS!B19))","v":"Јаковљевић Милан"},{"$f":"IF(UPIS!W19=5,\"\",IF(UPIS!W19=0,\"\",UPIS!W19))","v":2}]
["14.",{"$f":"IF(UPIS!W23=5,\"\",IF(UPIS!W23=0,\"\",UPIS!B23))","v":"Јовановић Вишња"},{"$f":"IF(UPIS!W23=5,\"\",IF(UPIS!W23=0,\"\",UPIS!W23))","v":2}]
["15.",{"$f":"IF(UPIS!W27=5,\"\",IF(UPIS!W27=0,\"\",UPIS!B27))","v":"Костић Марина"},{"$f":"IF(UPIS!W27=5,\"\",IF(UPIS!W27=0,\"\",UPIS!W27))","v":2}]
["16.",{"$f":"IF(UPIS!W20=5,\"\",IF(UPIS!W20=0,\"\",UPIS!B20))","v":"Јанаћковић Драгана"},{"$f":"IF(UPIS!W20=5,\"\",IF(UPIS!W20=0,\"\",UPIS!W20))","v":2}]
["17.",{"$f":"IF(UPIS!W4=5,\"\",IF(UPIS!W4=0,\"\",UPIS!B4))","v":"Балашевић Весна"},{"$f":"IF(UPIS!W4=5,\"\",IF(UPIS!W4=0,\"\",UPIS!W4))","v":2}]
["18.",{"$f":"IF(UPIS!W8=5,\"\",IF(UPIS!W8=0,\"\",UPIS!B8))","v":"Денић Виолета"},{"$f":"IF(UPIS!W8=5,\"\",IF(UPIS!W8=0,\"\",UPIS!W8))","v":2}]
["19.",{"$f":"IF(UPIS!W12=5,\"\",IF(UPIS!W12=0,\"\",UPIS!B12))","v":"Ђорђевић Тијана"},{"$f":"IF(UPIS!W12=5,\"\",IF(UPIS!W12=0,\"\",UPIS!W12))","v":2}]
["20.",{"$f":"IF(UPIS!W16=5,\"\",IF(UPIS!W16=0,\"\",UPIS!B16))","v":"Жикић Саша"},{"$f":"IF(UPIS!W16=5,\"\",IF(UPIS!W16=0,\"\",UPIS!W16))","v":2}]
["21.",{"$f":"IF(UPIS!W24=5,\"\",IF(UPIS!W24=0,\"\",UPIS!B24))","v":"Јовић Сања"},{"$f":"IF(UPIS!W24=5,\"\",IF(UPIS!W24=0,\"\",UPIS!W24))","v":2}]
["22.",{"$f":"IF(UPIS!W28=5,\"\",IF(UPIS!W28=0,\"\",UPIS!B28))","v":"Коштуница Никола"},{"$f":"IF(UPIS!W28=5,\"\",IF(UPIS!W28=0,\"\",UPIS!W28))","v":2}]
["23.",{"$f":"IF(UPIS!W5=5,\"\",IF(UPIS!W5=0,\"\",UPIS!B5))","v":"Берић Миша"},{"$f":"IF(UPIS!W5=5,\"\",IF(UPIS!W5=0,\"\",UPIS!W5))","v":2}]
["24.",{"$f":"IF(UPIS!W9=5,\"\",IF(UPIS!W9=0,\"\",UPIS!B9))","v":"Денчић Перица"},{"$f":"IF(UPIS!W9=5,\"\",IF(UPIS!W9=0,\"\",UPIS!W9))","v":2}]
["25.",{"$f":"IF(UPIS!W13=5,\"\",IF(UPIS!W13=0,\"\",UPIS!B13))","v":"Жељановић Жељко"},{"$f":"IF(UPIS!W13=5,\"\",IF(UPIS!W13=0,\"\",UPIS!W13))","v":2}]
["26.",{"$f":"IF(UPIS!W17=5,\"\",IF(UPIS!W17=0,\"\",UPIS!B17))","v":"Игњатовић Радмила"},{"$f":"IF(UPIS!W17=5,\"\",IF(UPIS!W17=0,\"\",UPIS!W17))","v":2}]
["27.",{"$f":"IF(UPIS!W21=5,\"\",IF(UPIS!W21=0,\"\",UPIS!B21))","v":"Јанић Добрила"},{"$f":"IF(UPIS!W21=5,\"\",IF(UPIS!W21=0,\"\",UPIS!W21))","v":2}]
["28.",{"$f":"IF(UPIS!W25=5,\"\",IF(UPIS!W25=0,\"\",UPIS!B25))","v":"Караклајић Ненад"},{"$f":"IF(UPIS!W25=5,\"\",IF(UPIS!W25=0,\"\",UPIS!W25))","v":2}]
["29.",{"$f":"IF(UPIS!W29=5,\"\",IF(UPIS!W29=0,\"\",UPIS!B29))","v":"Кркобабић Милена"},{"$f":"IF(UPIS!W29=5,\"\",IF(UPIS!W29=0,\"\",UPIS!W29))","v":2}]
["30.",{"$f":"IF(UPIS!W10=5,\"\",IF(UPIS!W10=0,\"\",UPIS!B10))","v":"Динић Клаудија"},{"$f":"IF(UPIS!W10=5,\"\",IF(UPIS!W10=0,\"\",UPIS!W10))","v":2}]
["31.",{"$f":"IF(UPIS!W34=5,\"\",IF(UPIS!W34=0,\"\",UPIS!B34))","v":"Лалић Ратко"},{"$f":"IF(UPIS!W34=5,\"\",IF(UPIS!W34=0,\"\",UPIS!W34))","v":2}]
["32.",{"$f":"IF(UPIS!W38=5,\"\",IF(UPIS!W38=0,\"\",UPIS!B38))","v":"Лалић Ратко"},{"$f":"IF(UPIS!W38=5,\"\",IF(UPIS!W38=0,\"\",UPIS!W38))","v":2}]
["33.",{"$f":"IF(UPIS!W35=5,\"\",IF(UPIS!W35=0,\"\",UPIS!B35))","v":"Лалић Ратко"},{"$f":"IF(UPIS!W35=5,\"\",IF(UPIS!W35=0,\"\",UPIS!W35))","v":2}]
["34.",{"$f":"IF(UPIS!W39=5,\"\",IF(UPIS!W39=0,\"\",UPIS!B39))","v":"Лалић Ратко"},{"$f":"IF(UPIS!W39=5,\"\",IF(UPIS!W39=0,\"\",UPIS!W39))","v":2}]
["35.",{"$f":"IF(UPIS!W32=5,\"\",IF(UPIS!W32=0,\"\",UPIS!B32))","v":"Лалић Ратко"},{"$f":"IF(UPIS!W32=5,\"\",IF(UPIS!W32=0,\"\",UPIS!W32))","v":2}]
["36.",{"$f":"IF(UPIS!W36=5,\"\",IF(UPIS!W36=0,\"\",UPIS!B36))","v":"Лалић Ратко"},{"$f":"IF(UPIS!W36=5,\"\",IF(UPIS!W36=0,\"\",UPIS!W36))","v":2}]
["37.",{"$f":"IF(UPIS!W40=5,\"\",IF(UPIS!W40=0,\"\",UPIS!B40))","v":"Лалић Ратко"},{"$f":"IF(UPIS!W40=5,\"\",IF(UPIS!W40=0,\"\",UPIS!W40))","v":2}]
["38.",{"$f":"IF(UPIS!W33=5,\"\",IF(UPIS!W33=0,\"\",UPIS!B33))","v":"Лалић Ратко"},{"$f":"IF(UPIS!W33=5,\"\",IF(UPIS!W33=0,\"\",UPIS!W33))","v":2}]
["39.",{"$f":"IF(UPIS!W37=5,\"\",IF(UPIS!W37=0,\"\",UPIS!B37))","v":"Лалић Ратко"},{"$f":"IF(UPIS!W37=5,\"\",IF(UPIS!W37=0,\"\",UPIS!W37))","v":2}]
["40.",{"$f":"IF(UPIS!W41=5,\"\",IF(UPIS!W41=0,\"\",UPIS!B41))","v":"Лалић Ратко"},{"$f":"IF(UPIS!W41=5,\"\",IF(UPIS!W41=0,\"\",UPIS!W41))","v":2}]
[null,{"$f":"COUNTIF(C2:C41,\">0\")","v":39},{"$f":"COUNTIF(C2:C41,\"<5\")","v":39}]
[]
["1.",{"$f":"IF(C2=\"\",\"\",\"\"&B2&\" \"&\" \"&\"има\"&\" \"&C2&\" \"&\"из\"&\" \"&\"владања .\")","v":"Ђокић Биљана  има 2 из владања ."}]
["2.",{"$f":"IF(C3=\"\",\"\",\"\"&B3&\" \"&\" \"&\"има\"&\" \"&C3&\" \"&\"из\"&\" \"&\"владања .\")","v":"Лалатовић Петар  има 2 из владања ."}]
["3.","Јелић Персида  има 2 из владања ."]
["4.",""]
["5.",{"$f":"IF(C6=\"\",\"\",\"\"&B6&\" \"&\" \"&\"има\"&\" \"&C6&\" \"&\"из\"&\" \"&\"владања .\")","v":"Величковић Лука  има 2 из владања ."}]
["6.","Живаљевић Драгана  има 2 из владања ."]
["7.","Исаковић Јефимија  има 2 из владања ."]
["8.","Керковић Милан  има 2 из владања ."]
["9.","Лалић Ратко  има 2 из владања ."]
["10.","Антић Миодраг  има 3 из владања ."]
["11.","Гроздановић Мила  има 2 из владања ."]
["12.","Живковић Лука  има 2 из владања ."]
["13.","Јаковљевић Милан  има 2 из владања ."]
["14.","Јовановић Вишња  има 2 из владања ."]
["15.","Костић Марина  има 2 из владања ."]
["16.","Јанаћковић Драгана  има 2 из владања ."]
["17.","Балашевић Весна  има 2 из владања ."]
["18.","Денић Виолета  има 2 из владања ."]
["19.","Ђорђевић Тијана  има 2 из владања ."]
["20.","Жикић Саша  има 2 из владања ."]
["21.","Јовић Сања  има 2 из владања ."]
["22.","Коштуница Никола  има 2 из владања ."]
["23.","Берић Миша  има 2 из владања ."]
["24.","Денчић Перица  има 2 из владања ."]
["25.","Жељановић Жељко  има 2 из владања ."]
["26.","Игњатовић Радмила  има 2 из владања ."]
["27.","Јанић Добрила  има 2 из владања ."]
["28.","Караклајић Ненад  има 2 из владања ."]
["29.","Кркобабић Милена  има 2 из владања ."]
["30.","Динић Клаудија  има 2 из владања ."]
["31.","Лалић Ратко  има 2 из владања ."]
["32.","Лалић Ратко  има 2 из владања ."]
["33.","Лалић Ратко  има 2 из владања ."]
["34.","Лалић Ратко  има 2 из владања ."]
["35.","Лалић Ратко  има 2 из владања ."]
["36.","Лалић Ратко  има 2 из владања ."]
["37.","Лалић Ратко  има 2 из владања ."]
["38.","Лалић Ратко  има 2 из владања ."]
["39.","Лалић Ратко  има 2 из владања ."]
["40.","Лалић Ратко  има 2 из владања ."]