{"text_format":"1","workbook":"xlsx","n_sheets":2,"sheets":["GSI 5","1"],"not_rendered":{"charts":0,"images":0,"macros":1,"external_links":0,"defined_names":0,"comments":0,"pivot_tables":0},"unopened":[],"bounds":{"document_bytes":16777216,"sheet_cells":100000,"rows_first":2000,"rows_last":500,"rows_between":2000,"halvings":0,"cell_chars":16384,"cell_head_chars":4096},"cells_cut":0,"cells_raw":0,"read":"whole","date_system":"1900"}

{"sheet":"GSI 5","index":0,"n_rows":2435,"n_cols":21,"rows_kept":2435,"cut":false,"hidden":false,"merged":[[1,20,1,25],[2,20,3,25],[4,20,7,25],[0,0,0,16]]}
[null,null,null,null,null,null,null,null,null,null,null,null,null,null,null,null,null,"GSI",null,"TXT - CSV"]
["NALEPI IZ AUTOCAD-A",null,null,null,null,null,null,null,null,{"$f":"LEN(N12)","v":2},null,{"$f":"16-(LEN(N12))","v":14},null,"BR TACKE","Y","X",null,"KOPIRAJ U TEXT EDITOR",null,"KOPIRAJ U TEXT EDITOR","U koloni A iskopirati listing koordinata iz AutoCad-a"]
["          at point  X=49992.3551  Y=50005.9453  Z=   0.0000",{"$f":"IF(I3=\"\",\"\",ROWS($A$3:A3))","v":1},{"$f":"IF(LEN(A3)=59,ROUND(VALUE(MID(A3,23,9)),3),\"\")","v":49992.355000000003},{"$f":"IF(LEN(A3)=24,\"\",\"\")","v":""},{"$f":"IF(LEN(A3)=63,ROUND(VALUE(MID(A3,23,12)),3),\"\")","v":""},{"$f":"IF(LEN(A3)=59,ROUND(VALUE(MID(A3,37,9)),3),\"\")","v":50005.945},{"$f":"IF(LEN(A3)=24,\"\",\"\")","v":""},{"$f":"IF(LEN(A3)=63,ROUND(VALUE(MID(A3,39,12)),3),\"\")","v":""},{"$f":"IF(AND(C3=\"\",D3=\"\",E3=\"\"),\"\",ROUND(CONCATENATE(C3,D3,E3),3))","v":49992.355000000003},{"$f":"IF(AND(C3=\"\",D3=\"\",E3=\"\"),\"\",ROUND(CONCATENATE(F3,G3,H3),3))","v":50005.945},{"$f":"IFERROR(SMALL($B$3:$B$2002,ROWS($A$3:A3)),\"\")","v":1},{"$f":"IF(K3=\"\",\"\",ROUND(VALUE(VLOOKUP(K3,$B$3:$J$2002,8,TRUE)),3))","v":49992.355000000003},{"$f":"IF(K3=\"\",\"\",ROUND(VALUE(VLOOKUP(K3,$B$3:$J$2002,9,TRUE)),3))","v":50005.945},1,{"$f":"IF(L3=\"\",\"\",L3/0.001)","v":49992355},{"$f":"IF(M3=\"\",\"\",M3/0.001)","v":50005945},{"$f":"IF(O3=\"\",\"\",16-LEN(O3))","v":8},{"$f":"IF(O3=\"\",\"\",CONCATENATE(\"*11....+\",VLOOKUP(16-(LEN(N3)),'1'!$A$1:$B$16,2,TRUE),N3,\" 81..40+\",VLOOKUP(16-(LEN(O3)),'1'!$A$1:$B$16,2,TRUE),O3,\" 82..40+\",VLOOKUP(16-(LEN(O3)),'1'!$A$1:$B$16,2,TRUE),P3,\" 71....+0000000000000000 \"))","v":"*11....+0000000000000001 81..40+0000000049992355 82..40+0000000050005945 71....+0000000000000000 "},null,{"$f":"IF(O3=\"\",\"\",CONCATENATE(N3,\",\",L3,\",\",M3))","v":"1,49992.355,50005.945"},"U koloni I upisati brojeve tacaka koje zelimo"]
["          at point  X=49997.6706  Y=49993.3399  Z=   0.0000",{"$f":"IF(I4=\"\",\"\",ROWS($A$3:A4))","v":2},{"$f":"IF(LEN(A4)=59,ROUND(VALUE(MID(A4,23,9)),3),\"\")","v":49997.67},{"$f":"IF(LEN(A4)=24,\"\",\"\")","v":""},{"$f":"IF(LEN(A4)=63,ROUND(VALUE(MID(A4,23,12)),3),\"\")","v":""},{"$f":"IF(LEN(A4)=59,ROUND(VALUE(MID(A4,37,9)),3),\"\")","v":49993.339},{"$f":"IF(LEN(A4)=24,\"\",\"\")","v":""},{"$f":"IF(LEN(A4)=63,ROUND(VALUE(MID(A4,39,12)),3),\"\")","v":""},{"$f":"IF(AND(C4=\"\",D4=\"\",E4=\"\"),\"\",ROUND(CONCATENATE(C4,D4,E4),3))","v":49997.67},{"$f":"IF(AND(C4=\"\",D4=\"\",E4=\"\"),\"\",ROUND(CONCATENATE(F4,G4,H4),3))","v":49993.339},{"$f":"IFERROR(SMALL($B$3:$B$2002,ROWS($A$3:A4)),\"\")","v":2},{"$f":"IF(K4=\"\",\"\",ROUND(VALUE(VLOOKUP(K4,$B$3:$J$2002,8,TRUE)),3))","v":49997.67},{"$f":"IF(K4=\"\",\"\",ROUND(VALUE(VLOOKUP(K4,$B$3:$J$2002,9,TRUE)),3))","v":49993.339},2,{"$f":"IF(L4=\"\",\"\",L4/0.001)","v":49997670},49993339,{"$f":"IF(O4=\"\",\"\",16-LEN(O4))","v":8},{"$f":"IF(O4=\"\",\"\",CONCATENATE(\"*11....+\",VLOOKUP(16-(LEN(N4)),'1'!$A$1:$B$16,2,TRUE),N4,\" 81..40+\",VLOOKUP(16-(LEN(O4)),'1'!$A$1:$B$16,2,TRUE),O4,\" 82..40+\",VLOOKUP(16-(LEN(O4)),'1'!$A$1:$B$16,2,TRUE),P4,\" 71....+0000000000000000 \"))","v":"*11....+0000000000000002 81..40+0000000049997670 82..40+0000000049993339 71....+0000000000000000 "},null,{"$f":"IF(O4=\"\",\"\",CONCATENATE(N4,\",\",L4,\",\",M4))","v":"2,49997.67,49993.339"}]
["          at point  X=50008.5524  Y=49990.2052  Z=   0.0000",{"$f":"IF(I5=\"\",\"\",ROWS($A$3:A5))","v":3},50008.552000000003,"","",49990.205000000002,"","",50008.552000000003,49990.205000000002,{"$f":"IFERROR(SMALL($B$3:$B$2002,ROWS($A$3:A5)),\"\")","v":3},50008.552000000003,49990.205000000002,3,50008552,49990205,8,{"$f":"IF(O5=\"\",\"\",CONCATENATE(\"*11....+\",VLOOKUP(16-(LEN(N5)),'1'!$A$1:$B$16,2,TRUE),N5,\" 81..40+\",VLOOKUP(16-(LEN(O5)),'1'!$A$1:$B$16,2,TRUE),O5,\" 82..40+\",VLOOKUP(16-(LEN(O5)),'1'!$A$1:$B$16,2,TRUE),P5,\" 71....+0000000000000000 \"))","v":"*11....+0000000000000003 81..40+0000000050008552 82..40+0000000049990205 71....+0000000000000000 "},null,"3,50008.552,49990.205"]
["          at point  X=50020.5875  Y=50004.6781  Z=   0.0000",{"$f":"IF(I6=\"\",\"\",ROWS($A$3:A6))","v":4},50020.587,"","",50004.678,"","",50020.587,50004.678,{"$f":"IFERROR(SMALL($B$3:$B$2002,ROWS($A$3:A6)),\"\")","v":4},50020.587,50004.678,4,50020587,50004678,8,{"$f":"IF(O6=\"\",\"\",CONCATENATE(\"*11....+\",VLOOKUP(16-(LEN(N6)),'1'!$A$1:$B$16,2,TRUE),N6,\" 81..40+\",VLOOKUP(16-(LEN(O6)),'1'!$A$1:$B$16,2,TRUE),O6,\" 82..40+\",VLOOKUP(16-(LEN(O6)),'1'!$A$1:$B$16,2,TRUE),P6,\" 71....+0000000000000000 \"))","v":"*11....+0000000000000004 81..40+0000000050020587 82..40+0000000050004678 71....+0000000000000000 "},null,"4,50020.587,50004.678"]
["          at point  X=50002.6852  Y=50014.4379  Z=   0.0000",{"$f":"IF(I7=\"\",\"\",ROWS($A$3:A7))","v":5},50002.684999999998,"","",50014.436999999998,"","",50002.684999999998,50014.436999999998,{"$f":"IFERROR(SMALL($B$3:$B$2002,ROWS($A$3:A7)),\"\")","v":5},50002.684999999998,50014.436999999998,5,50002685,50014437,8,{"$f":"IF(O7=\"\",\"\",CONCATENATE(\"*11....+\",VLOOKUP(16-(LEN(N7)),'1'!$A$1:$B$16,2,TRUE),N7,\" 81..40+\",VLOOKUP(16-(LEN(O7)),'1'!$A$1:$B$16,2,TRUE),O7,\" 82..40+\",VLOOKUP(16-(LEN(O7)),'1'!$A$1:$B$16,2,TRUE),P7,\" 71....+0000000000000000 \"))","v":"*11....+0000000000000005 81..40+0000000050002685 82..40+0000000050014437 71....+0000000000000000 "},null,"5,50002.685,50014.437"]
["          at point  X=49997.8210  Y=49993.1398  Z=   0.0000",{"$f":"IF(I8=\"\",\"\",ROWS($A$3:A8))","v":6},49997.821000000004,"","",49993.139000000003,"","",49997.821000000004,49993.139000000003,{"$f":"IFERROR(SMALL($B$3:$B$2002,ROWS($A$3:A8)),\"\")","v":6},49997.821000000004,49993.139000000003,6,49997821,49993139,8,{"$f":"IF(O8=\"\",\"\",CONCATENATE(\"*11....+\",VLOOKUP(16-(LEN(N8)),'1'!$A$1:$B$16,2,TRUE),N8,\" 81..40+\",VLOOKUP(16-(LEN(O8)),'1'!$A$1:$B$16,2,TRUE),O8,\" 82..40+\",VLOOKUP(16-(LEN(O8)),'1'!$A$1:$B$16,2,TRUE),P8,\" 71....+0000000000000000 \"))","v":"*11....+0000000000000006 81..40+0000000049997821 82..40+0000000049993139 71....+0000000000000000 "},null,"6,49997.821,49993.139"]
["          at point  X=49982.7771  Y=49989.7606  Z=   0.0000",{"$f":"IF(I9=\"\",\"\",ROWS($A$3:A9))","v":7},49982.777000000002,"","",49989.760000000002,"","",49982.777000000002,49989.760000000002,{"$f":"IFERROR(SMALL($B$3:$B$2002,ROWS($A$3:A9)),\"\")","v":7},49982.777000000002,49989.760000000002,7,49982777,49989760,8,{"$f":"IF(O9=\"\",\"\",CONCATENATE(\"*11....+\",VLOOKUP(16-(LEN(N9)),'1'!$A$1:$B$16,2,TRUE),N9,\" 81..40+\",VLOOKUP(16-(LEN(O9)),'1'!$A$1:$B$16,2,TRUE),O9,\" 82..40+\",VLOOKUP(16-(LEN(O9)),'1'!$A$1:$B$16,2,TRUE),P9,\" 71....+0000000000000000 \"))","v":"*11....+0000000000000007 81..40+0000000049982777 82..40+0000000049989760 71....+0000000000000000 "},null,"7,49982.777,49989.76"]
["          at point  X=49992.4554  Y=49999.8316  Z=   0.0000",{"$f":"IF(I10=\"\",\"\",ROWS($A$3:A10))","v":8},49992.455000000002,"","",49999.830999999998,"","",49992.455000000002,49999.830999999998,{"$f":"IFERROR(SMALL($B$3:$B$2002,ROWS($A$3:A10)),\"\")","v":8},49992.455000000002,49999.830999999998,8,49992455,49999831,8,{"$f":"IF(O10=\"\",\"\",CONCATENATE(\"*11....+\",VLOOKUP(16-(LEN(N10)),'1'!$A$1:$B$16,2,TRUE),N10,\" 81..40+\",VLOOKUP(16-(LEN(O10)),'1'!$A$1:$B$16,2,TRUE),O10,\" 82..40+\",VLOOKUP(16-(LEN(O10)),'1'!$A$1:$B$16,2,TRUE),P10,\" 71....+0000000000000000 \"))","v":"*11....+0000000000000008 81..40+0000000049992455 82..40+0000000049999831 71....+0000000000000000 "},null,"8,49992.455,49999.831"]
["          at point  X=50015.8236  Y=49980.3343  Z=   0.0000",{"$f":"IF(I11=\"\",\"\",ROWS($A$3:A11))","v":9},50015.822999999997,"","",49980.334000000003,"","",50015.822999999997,49980.334000000003,{"$f":"IFERROR(SMALL($B$3:$B$2002,ROWS($A$3:A11)),\"\")","v":9},50015.822999999997,49980.334000000003,9,50015822.999999993,49980334,8,{"$f":"IF(O11=\"\",\"\",CONCATENATE(\"*11....+\",VLOOKUP(16-(LEN(N11)),'1'!$A$1:$B$16,2,TRUE),N11,\" 81..40+\",VLOOKUP(16-(LEN(O11)),'1'!$A$1:$B$16,2,TRUE),O11,\" 82..40+\",VLOOKUP(16-(LEN(O11)),'1'!$A$1:$B$16,2,TRUE),P11,\" 71....+0000000000000000 \"))","v":"*11....+0000000000000009 81..40+0000000050015823 82..40+0000000049980334 71....+0000000000000000 "},null,"9,50015.823,49980.334"]
["          at point  X=50027.8086  Y=49996.0744  Z=   0.0000",{"$f":"IF(I12=\"\",\"\",ROWS($A$3:A12))","v":10},50027.807999999997,"","",49996.074000000001,"","",50027.807999999997,49996.074000000001,{"$f":"IFERROR(SMALL($B$3:$B$2002,ROWS($A$3:A12)),\"\")","v":10},50027.807999999997,49996.074000000001,10,50027807.999999993,49996074,8,{"$f":"IF(O12=\"\",\"\",CONCATENATE(\"*11....+\",VLOOKUP(16-(LEN(N12)),'1'!$A$1:$B$16,2,TRUE),N12,\" 81..40+\",VLOOKUP(16-(LEN(O12)),'1'!$A$1:$B$16,2,TRUE),O12,\" 82..40+\",VLOOKUP(16-(LEN(O12)),'1'!$A$1:$B$16,2,TRUE),P12,\" 71....+0000000000000000 \"))","v":"*11....+0000000000000010 81..40+0000000050027808 82..40+0000000049996074 71....+0000000000000000 "},null,"10,50027.808,49996.074"]
["          at point  X=49989.3964  Y=49996.0744  Z=   0.0000",{"$f":"IF(I13=\"\",\"\",ROWS($A$3:A13))","v":11},49989.396000000001,"","",49996.074000000001,"","",49989.396000000001,49996.074000000001,{"$f":"IFERROR(SMALL($B$3:$B$2002,ROWS($A$3:A13)),\"\")","v":11},49989.396000000001,49996.074000000001,11,49989396,49996074,8,{"$f":"IF(O13=\"\",\"\",CONCATENATE(\"*11....+\",VLOOKUP(16-(LEN(N13)),'1'!$A$1:$B$16,2,TRUE),N13,\" 81..40+\",VLOOKUP(16-(LEN(O13)),'1'!$A$1:$B$16,2,TRUE),O13,\" 82..40+\",VLOOKUP(16-(LEN(O13)),'1'!$A$1:$B$16,2,TRUE),P13,\" 71....+0000000000000000 \"))","v":"*11....+0000000000000011 81..40+0000000049989396 82..40+0000000049996074 71....+0000000000000000 "},null,"11,49989.396,49996.074"]
["          at point  X=49977.0103  Y=50005.3895  Z=   0.0000",{"$f":"IF(I14=\"\",\"\",ROWS($A$3:A14))","v":12},49977.01,"","",50005.389000000003,"","",49977.01,50005.389000000003,{"$f":"IFERROR(SMALL($B$3:$B$2002,ROWS($A$3:A14)),\"\")","v":12},49977.01,50005.389000000003,12,49977010,50005389,8,{"$f":"IF(O14=\"\",\"\",CONCATENATE(\"*11....+\",VLOOKUP(16-(LEN(N14)),'1'!$A$1:$B$16,2,TRUE),N14,\" 81..40+\",VLOOKUP(16-(LEN(O14)),'1'!$A$1:$B$16,2,TRUE),O14,\" 82..40+\",VLOOKUP(16-(LEN(O14)),'1'!$A$1:$B$16,2,TRUE),P14,\" 71....+0000000000000000 \"))","v":"*11....+0000000000000012 81..40+0000000049977010 82..40+0000000050005389 71....+0000000000000000 "},null,"12,49977.01,50005.389"]
["Press ENTER to continue:",{"$f":"IF(I15=\"\",\"\",ROWS($A$3:A15))","v":""},"","","","","","","","",{"$f":"IFERROR(SMALL($B$3:$B$2002,ROWS($A$3:A15)),\"\")","v":14},49992.955999999998,50005.389000000003,13,49992956,50005389,8,{"$f":"IF(O15=\"\",\"\",CONCATENATE(\"*11....+\",VLOOKUP(16-(LEN(N15)),'1'!$A$1:$B$16,2,TRUE),N15,\" 81..40+\",VLOOKUP(16-(LEN(O15)),'1'!$A$1:$B$16,2,TRUE),O15,\" 82..40+\",VLOOKUP(16-(LEN(O15)),'1'!$A$1:$B$16,2,TRUE),P15,\" 71....+0000000000000000 \"))","v":"*11....+0000000000000013 81..40+0000000049992956 82..40+0000000050005389 71....+0000000000000000 "},null,"13,49992.956,50005.389"]
["          at point  X=49992.9568  Y=50005.3895  Z=   0.0000",{"$f":"IF(I16=\"\",\"\",ROWS($A$3:A16))","v":14},49992.955999999998,"","",50005.389000000003,"","",49992.955999999998,50005.389000000003,{"$f":"IFERROR(SMALL($B$3:$B$2002,ROWS($A$3:A16)),\"\")","v":15},50026.754999999997,50001.942999999999,14,50026755,50001943,8,{"$f":"IF(O16=\"\",\"\",CONCATENATE(\"*11....+\",VLOOKUP(16-(LEN(N16)),'1'!$A$1:$B$16,2,TRUE),N16,\" 81..40+\",VLOOKUP(16-(LEN(O16)),'1'!$A$1:$B$16,2,TRUE),O16,\" 82..40+\",VLOOKUP(16-(LEN(O16)),'1'!$A$1:$B$16,2,TRUE),P16,\" 71....+0000000000000000 \"))","v":"*11....+0000000000000014 81..40+0000000050026755 82..40+0000000050001943 71....+0000000000000000 "},null,"14,50026.755,50001.943"]
["          at point  X=50026.7555  Y=50001.9436  Z=   0.0000",{"$f":"IF(I17=\"\",\"\",ROWS($A$3:A17))","v":15},50026.754999999997,"","",50001.942999999999,"","",50026.754999999997,50001.942999999999,{"$f":"IFERROR(SMALL($B$3:$B$2002,ROWS($A$3:A17)),\"\")","v":16},50021.59,50006.411999999997,15,50021589.999999993,50006411.999999993,8,{"$f":"IF(O17=\"\",\"\",CONCATENATE(\"*11....+\",VLOOKUP(16-(LEN(N17)),'1'!$A$1:$B$16,2,TRUE),N17,\" 81..40+\",VLOOKUP(16-(LEN(O17)),'1'!$A$1:$B$16,2,TRUE),O17,\" 82..40+\",VLOOKUP(16-(LEN(O17)),'1'!$A$1:$B$16,2,TRUE),P17,\" 71....+0000000000000000 \"))","v":"*11....+0000000000000015 81..40+0000000050021590 82..40+0000000050006412 71....+0000000000000000 "},null,"15,50021.59,50006.412"]
["          at point  X=50021.5905  Y=50006.4122  Z=   0.0000",{"$f":"IF(I18=\"\",\"\",ROWS($A$3:A18))","v":16},50021.59,"","",50006.411999999997,"","",50021.59,50006.411999999997,{"$f":"IFERROR(SMALL($B$3:$B$2002,ROWS($A$3:A18)),\"\")","v":17},49991.803,50006.411999999997,16,49991803,50006411.999999993,8,{"$f":"IF(O18=\"\",\"\",CONCATENATE(\"*11....+\",VLOOKUP(16-(LEN(N18)),'1'!$A$1:$B$16,2,TRUE),N18,\" 81..40+\",VLOOKUP(16-(LEN(O18)),'1'!$A$1:$B$16,2,TRUE),O18,\" 82..40+\",VLOOKUP(16-(LEN(O18)),'1'!$A$1:$B$16,2,TRUE),P18,\" 71....+0000000000000000 \"))","v":"*11....+0000000000000016 81..40+0000000049991803 82..40+0000000050006412 71....+0000000000000000 "},null,"16,49991.803,50006.412"]
["          at point  X=49991.8035  Y=50006.4122  Z=   0.0000",{"$f":"IF(I19=\"\",\"\",ROWS($A$3:A19))","v":17},49991.803,"","",50006.411999999997,"","",49991.803,50006.411999999997,{"$f":"IFERROR(SMALL($B$3:$B$2002,ROWS($A$3:A19)),\"\")","v":18},49985.635000000002,49995.250999999997,17,49985635,49995250.999999993,8,{"$f":"IF(O19=\"\",\"\",CONCATENATE(\"*11....+\",VLOOKUP(16-(LEN(N19)),'1'!$A$1:$B$16,2,TRUE),N19,\" 81..40+\",VLOOKUP(16-(LEN(O19)),'1'!$A$1:$B$16,2,TRUE),O19,\" 82..40+\",VLOOKUP(16-(LEN(O19)),'1'!$A$1:$B$16,2,TRUE),P19,\" 71....+0000000000000000 \"))","v":"*11....+0000000000000017 81..40+0000000049985635 82..40+0000000049995251 71....+0000000000000000 "},null,"17,49985.635,49995.251"]
["          at point  X=49985.6355  Y=49995.2518  Z=   0.0000",{"$f":"IF(I20=\"\",\"\",ROWS($A$3:A20))","v":18},49985.635000000002,"","",49995.250999999997,"","",49985.635000000002,49995.250999999997,{"$f":"IFERROR(SMALL($B$3:$B$2002,ROWS($A$3:A20)),\"\")","v":19},50003.186000000002,49987.603999999999,18,50003186,49987604,8,{"$f":"IF(O20=\"\",\"\",CONCATENATE(\"*11....+\",VLOOKUP(16-(LEN(N20)),'1'!$A$1:$B$16,2,TRUE),N20,\" 81..40+\",VLOOKUP(16-(LEN(O20)),'1'!$A$1:$B$16,2,TRUE),O20,\" 82..40+\",VLOOKUP(16-(LEN(O20)),'1'!$A$1:$B$16,2,TRUE),P20,\" 71....+0000000000000000 \"))","v":"*11....+0000000000000018 81..40+0000000050003186 82..40+0000000049987604 71....+0000000000000000 "},null,"18,50003.186,49987.604"]
["          at point  X=50003.1867  Y=49987.6041  Z=   0.0000",{"$f":"IF(I21=\"\",\"\",ROWS($A$3:A21))","v":19},50003.186000000002,"","",49987.603999999999,"","",50003.186000000002,49987.603999999999,{"$f":"IFERROR(SMALL($B$3:$B$2002,ROWS($A$3:A21)),\"\")","v":20},50019.633999999998,49996.584999999999,19,50019634,49996585,8,{"$f":"IF(O21=\"\",\"\",CONCATENATE(\"*11....+\",VLOOKUP(16-(LEN(N21)),'1'!$A$1:$B$16,2,TRUE),N21,\" 81..40+\",VLOOKUP(16-(LEN(O21)),'1'!$A$1:$B$16,2,TRUE),O21,\" 82..40+\",VLOOKUP(16-(LEN(O21)),'1'!$A$1:$B$16,2,TRUE),P21,\" 71....+0000000000000000 \"))","v":"*11....+0000000000000019 81..40+0000000050019634 82..40+0000000049996585 71....+0000000000000000 "},null,"19,50019.634,49996.585"]
["          at point  X=50019.6347  Y=49996.5857  Z=   0.0000",{"$f":"IF(I22=\"\",\"\",ROWS($A$3:A22))","v":20},50019.633999999998,"","",49996.584999999999,"","",50019.633999999998,49996.584999999999,{"$f":"IFERROR(SMALL($B$3:$B$2002,ROWS($A$3:A22)),\"\")","v":21},50030.466,50001.743000000002,20,50030466,50001743,8,{"$f":"IF(O22=\"\",\"\",CONCATENATE(\"*11....+\",VLOOKUP(16-(LEN(N22)),'1'!$A$1:$B$16,2,TRUE),N22,\" 81..40+\",VLOOKUP(16-(LEN(O22)),'1'!$A$1:$B$16,2,TRUE),O22,\" 82..40+\",VLOOKUP(16-(LEN(O22)),'1'!$A$1:$B$16,2,TRUE),P22,\" 71....+0000000000000000 \"))","v":"*11....+0000000000000020 81..40+0000000050030466 82..40+0000000050001743 71....+0000000000000000 "},null,"20,50030.466,50001.743"]
["          at point  X=50030.4664  Y=50001.7435  Z=   0.0000",{"$f":"IF(I23=\"\",\"\",ROWS($A$3:A23))","v":21},50030.466,"","",50001.743000000002,"","",50030.466,50001.743000000002,{"$f":"IFERROR(SMALL($B$3:$B$2002,ROWS($A$3:A23)),\"\")","v":22},7456783.9610000001,4758822.2939999998,21,7456783961,4758822294,6,{"$f":"IF(O23=\"\",\"\",CONCATENATE(\"*11....+\",VLOOKUP(16-(LEN(N23)),'1'!$A$1:$B$16,2,TRUE),N23,\" 81..40+\",VLOOKUP(16-(LEN(O23)),'1'!$A$1:$B$16,2,TRUE),O23,\" 82..40+\",VLOOKUP(16-(LEN(O23)),'1'!$A$1:$B$16,2,TRUE),P23,\" 71....+0000000000000000 \"))","v":"*11....+0000000000000021 81..40+0000007456783961 82..40+0000004758822294 71....+0000000000000000 "},null,"21,7456783.961,4758822.294"]
["          at point  X=7456783.9608  Y=4758822.2935  Z=   0.0000",{"$f":"IF(I24=\"\",\"\",ROWS($A$3:A24))","v":22},"","",7456783.9610000001,"","",4758822.2939999998,7456783.9610000001,4758822.2939999998,{"$f":"IFERROR(SMALL($B$3:$B$2002,ROWS($A$3:A24)),\"\")","v":23},7456836.1629999997,4758771.16,22,7456836163,4758771160,6,{"$f":"IF(O24=\"\",\"\",CONCATENATE(\"*11....+\",VLOOKUP(16-(LEN(N24)),'1'!$A$1:$B$16,2,TRUE),N24,\" 81..40+\",VLOOKUP(16-(LEN(O24)),'1'!$A$1:$B$16,2,TRUE),O24,\" 82..40+\",VLOOKUP(16-(LEN(O24)),'1'!$A$1:$B$16,2,TRUE),P24,\" 71....+0000000000000000 \"))","v":"*11....+0000000000000022 81..40+0000007456836163 82..40+0000004758771160 71....+0000000000000000 "},null,"22,7456836.163,4758771.16"]
["          at point  X=7456836.1632  Y=4758771.1603  Z=   0.0000",{"$f":"IF(I25=\"\",\"\",ROWS($A$3:A25))","v":23},"","",7456836.1629999997,"","",4758771.16,7456836.1629999997,4758771.16,{"$f":"IFERROR(SMALL($B$3:$B$2002,ROWS($A$3:A25)),\"\")","v":24},7456888.1239999998,4758730.2390000001,23,7456888124,4758730239,6,{"$f":"IF(O25=\"\",\"\",CONCATENATE(\"*11....+\",VLOOKUP(16-(LEN(N25)),'1'!$A$1:$B$16,2,TRUE),N25,\" 81..40+\",VLOOKUP(16-(LEN(O25)),'1'!$A$1:$B$16,2,TRUE),O25,\" 82..40+\",VLOOKUP(16-(LEN(O25)),'1'!$A$1:$B$16,2,TRUE),P25,\" 71....+0000000000000000 \"))","v":"*11....+0000000000000023 81..40+0000007456888124 82..40+0000004758730239 71....+0000000000000000 "},null,"23,7456888.124,4758730.239"]
["          at point  X=7456888.1241  Y=4758730.2392  Z=   0.0000",{"$f":"IF(I26=\"\",\"\",ROWS($A$3:A26))","v":24},"","",7456888.1239999998,"","",4758730.2390000001,7456888.1239999998,4758730.2390000001,{"$f":"IFERROR(SMALL($B$3:$B$2002,ROWS($A$3:A26)),\"\")","v":25},7456931.9649999999,4758662.78,24,7456931965,4758662780,6,{"$f":"IF(O26=\"\",\"\",CONCATENATE(\"*11....+\",VLOOKUP(16-(LEN(N26)),'1'!$A$1:$B$16,2,TRUE),N26,\" 81..40+\",VLOOKUP(16-(LEN(O26)),'1'!$A$1:$B$16,2,TRUE),O26,\" 82..40+\",VLOOKUP(16-(LEN(O26)),'1'!$A$1:$B$16,2,TRUE),P26,\" 71....+0000000000000000 \"))","v":"*11....+0000000000000024 81..40+0000007456931965 82..40+0000004758662780 71....+0000000000000000 "},null,"24,7456931.965,4758662.78"]
["          at point  X=7456931.9645  Y=4758662.7803  Z=   0.0000",{"$f":"IF(I27=\"\",\"\",ROWS($A$3:A27))","v":25},"","",7456931.9649999999,"","",4758662.78,7456931.9649999999,4758662.78,{"$f":"IFERROR(SMALL($B$3:$B$2002,ROWS($A$3:A27)),\"\")","v":26},7456963.034,4758631.0779999997,25,7456963034,4758631078,6,{"$f":"IF(O27=\"\",\"\",CONCATENATE(\"*11....+\",VLOOKUP(16-(LEN(N27)),'1'!$A$1:$B$16,2,TRUE),N27,\" 81..40+\",VLOOKUP(16-(LEN(O27)),'1'!$A$1:$B$16,2,TRUE),O27,\" 82..40+\",VLOOKUP(16-(LEN(O27)),'1'!$A$1:$B$16,2,TRUE),P27,\" 71....+0000000000000000 \"))","v":"*11....+0000000000000025 81..40+0000007456963034 82..40+0000004758631078 71....+0000000000000000 "},null,"25,7456963.034,4758631.078"]
["          at point  X=7456963.0337  Y=4758631.0778  Z=   0.0000",{"$f":"IF(I28=\"\",\"\",ROWS($A$3:A28))","v":26},"","",7456963.034,"","",4758631.0779999997,7456963.034,4758631.0779999997,{"$f":"IFERROR(SMALL($B$3:$B$2002,ROWS($A$3:A28)),\"\")","v":27},7457072.5539999995,4758598.6919999998,26,7457072553.999999,4758598692,6,{"$f":"IF(O28=\"\",\"\",CONCATENATE(\"*11....+\",VLOOKUP(16-(LEN(N28)),'1'!$A$1:$B$16,2,TRUE),N28,\" 81..40+\",VLOOKUP(16-(LEN(O28)),'1'!$A$1:$B$16,2,TRUE),O28,\" 82..40+\",VLOOKUP(16-(LEN(O28)),'1'!$A$1:$B$16,2,TRUE),P28,\" 71....+0000000000000000 \"))","v":"*11....+0000000000000026 81..40+0000007457072554 82..40+0000004758598692 71....+0000000000000000 "},null,"26,7457072.554,4758598.692"]
["          at point  X=7457072.5535  Y=4758598.6922  Z=   0.0000",{"$f":"IF(I29=\"\",\"\",ROWS($A$3:A29))","v":27},"","",7457072.5539999995,"","",4758598.6919999998,7457072.5539999995,4758598.6919999998,{"$f":"IFERROR(SMALL($B$3:$B$2002,ROWS($A$3:A29)),\"\")","v":28},7457101.2319999998,4758625.9649999999,27,7457101232,4758625965,6,{"$f":"IF(O29=\"\",\"\",CONCATENATE(\"*11....+\",VLOOKUP(16-(LEN(N29)),'1'!$A$1:$B$16,2,TRUE),N29,\" 81..40+\",VLOOKUP(16-(LEN(O29)),'1'!$A$1:$B$16,2,TRUE),O29,\" 82..40+\",VLOOKUP(16-(LEN(O29)),'1'!$A$1:$B$16,2,TRUE),P29,\" 71....+0000000000000000 \"))","v":"*11....+0000000000000027 81..40+0000007457101232 82..40+0000004758625965 71....+0000000000000000 "},null,"27,7457101.232,4758625.965"]
["          at point  X=7457101.2322  Y=4758625.9645  Z=   0.0000",{"$f":"IF(I30=\"\",\"\",ROWS($A$3:A30))","v":28},"","",7457101.2319999998,"","",4758625.9649999999,7457101.2319999998,4758625.9649999999,{"$f":"IFERROR(SMALL($B$3:$B$2002,ROWS($A$3:A30)),\"\")","v":29},7457101.2319999998,4758669.9390000002,28,7457101232,4758669939,6,{"$f":"IF(O30=\"\",\"\",CONCATENATE(\"*11....+\",VLOOKUP(16-(LEN(N30)),'1'!$A$1:$B$16,2,TRUE),N30,\" 81..40+\",VLOOKUP(16-(LEN(O30)),'1'!$A$1:$B$16,2,TRUE),O30,\" 82..40+\",VLOOKUP(16-(LEN(O30)),'1'!$A$1:$B$16,2,TRUE),P30,\" 71....+0000000000000000 \"))","v":"*11....+0000000000000028 81..40+0000007457101232 82..40+0000004758669939 71....+0000000000000000 "},null,"28,7457101.232,4758669.939"]
["          at point  X=7457101.2322  Y=4758669.9390  Z=   0.0000",{"$f":"IF(I31=\"\",\"\",ROWS($A$3:A31))","v":29},"","",7457101.2319999998,"","",4758669.9390000002,7457101.2319999998,4758669.9390000002,{"$f":"IFERROR(SMALL($B$3:$B$2002,ROWS($A$3:A31)),\"\")","v":30},7457026.2319999998,4758711.8679999998,29,7457026232,4758711868,6,{"$f":"IF(O31=\"\",\"\",CONCATENATE(\"*11....+\",VLOOKUP(16-(LEN(N31)),'1'!$A$1:$B$16,2,TRUE),N31,\" 81..40+\",VLOOKUP(16-(LEN(O31)),'1'!$A$1:$B$16,2,TRUE),O31,\" 82..40+\",VLOOKUP(16-(LEN(O31)),'1'!$A$1:$B$16,2,TRUE),P31,\" 71....+0000000000000000 \"))","v":"*11....+0000000000000029 81..40+0000007457026232 82..40+0000004758711868 71....+0000000000000000 "},null,"29,7457026.232,4758711.868"]
["          at point  X=7457026.2322  Y=4758711.8681  Z=   0.0000",{"$f":"IF(I32=\"\",\"\",ROWS($A$3:A32))","v":30},"","",7457026.2319999998,"","",4758711.8679999998,7457026.2319999998,4758711.8679999998,{"$f":"IFERROR(SMALL($B$3:$B$2002,ROWS($A$3:A32)),\"\")","v":31},7456984.5470000003,4758735.3890000004,30,7456984547,4758735389,6,{"$f":"IF(O32=\"\",\"\",CONCATENATE(\"*11....+\",VLOOKUP(16-(LEN(N32)),'1'!$A$1:$B$16,2,TRUE),N32,\" 81..40+\",VLOOKUP(16-(LEN(O32)),'1'!$A$1:$B$16,2,TRUE),O32,\" 82..40+\",VLOOKUP(16-(LEN(O32)),'1'!$A$1:$B$16,2,TRUE),P32,\" 71....+0000000000000000 \"))","v":"*11....+0000000000000030 81..40+0000007456984547 82..40+0000004758735389 71....+0000000000000000 "},null,"30,7456984.547,4758735.389"]
["          at point  X=7456984.5465  Y=4758735.3894  Z=   0.0000",{"$f":"IF(I33=\"\",\"\",ROWS($A$3:A33))","v":31},"","",7456984.5470000003,"","",4758735.3890000004,7456984.5470000003,4758735.3890000004,{"$f":"IFERROR(SMALL($B$3:$B$2002,ROWS($A$3:A33)),\"\")","v":32},7456954.8600000003,4758705.7319999998,31,7456954860,4758705732,{"$f":"IF(O33=\"\",\"\",16-LEN(O33))","v":6},{"$f":"IF(O33=\"\",\"\",CONCATENATE(\"*11....+\",VLOOKUP(16-(LEN(N33)),'1'!$A$1:$B$16,2,TRUE),N33,\" 81..40+\",VLOOKUP(16-(LEN(O33)),'1'!$A$1:$B$16,2,TRUE),O33,\" 82..40+\",VLOOKUP(16-(LEN(O33)),'1'!$A$1:$B$16,2,TRUE),P33,\" 71....+0000000000000000 \"))","v":"*11....+0000000000000031 81..40+0000007456954860 82..40+0000004758705732 71....+0000000000000000 "},null,"31,7456954.86,4758705.732"]
["          at point  X=7456954.8598  Y=4758705.7322  Z=   0.0000",{"$f":"IF(I34=\"\",\"\",ROWS($A$3:A34))","v":32},"","",7456954.8600000003,"","",4758705.7319999998,7456954.8600000003,4758705.7319999998,{"$f":"IFERROR(SMALL($B$3:$B$2002,ROWS($A$3:A34)),\"\")","v":34},7456969.2019999996,4758673.0070000002,32,7456969201.999999,4758673007,6,{"$f":"IF(O34=\"\",\"\",CONCATENATE(\"*11....+\",VLOOKUP(16-(LEN(N34)),'1'!$A$1:$B$16,2,TRUE),N34,\" 81..40+\",VLOOKUP(16-(LEN(O34)),'1'!$A$1:$B$16,2,TRUE),O34,\" 82..40+\",VLOOKUP(16-(LEN(O34)),'1'!$A$1:$B$16,2,TRUE),P34,\" 71....+0000000000000000 \"))","v":"*11....+0000000000000032 81..40+0000007456969202 82..40+0000004758673007 71....+0000000000000000 "},null,"32,7456969.202,4758673.007"]
["Press ENTER to continue:",{"$f":"IF(I35=\"\",\"\",ROWS($A$3:A35))","v":""},"","","","","","","","",{"$f":"IFERROR(SMALL($B$3:$B$2002,ROWS($A$3:A35)),\"\")","v":35},7457080.727,4758650.5080000004,33,7457080727,4758650508,6,{"$f":"IF(O35=\"\",\"\",CONCATENATE(\"*11....+\",VLOOKUP(16-(LEN(N35)),'1'!$A$1:$B$16,2,TRUE),N35,\" 81..40+\",VLOOKUP(16-(LEN(O35)),'1'!$A$1:$B$16,2,TRUE),O35,\" 82..40+\",VLOOKUP(16-(LEN(O35)),'1'!$A$1:$B$16,2,TRUE),P35,\" 71....+0000000000000000 \"))","v":"*11....+0000000000000033 81..40+0000007457080727 82..40+0000004758650508 71....+0000000000000000 "},null,"33,7457080.727,4758650.508"]
["          at point  X=7456969.2017  Y=4758673.0070  Z=   0.0000",{"$f":"IF(I36=\"\",\"\",ROWS($A$3:A36))","v":34},"","",7456969.2019999996,"","",4758673.0070000002,7456969.2019999996,4758673.0070000002,{"$f":"IFERROR(SMALL($B$3:$B$2002,ROWS($A$3:A36)),\"\")","v":36},7457155.693,4758705.2259999998,34,7457155693,4758705226,6,{"$f":"IF(O36=\"\",\"\",CONCATENATE(\"*11....+\",VLOOKUP(16-(LEN(N36)),'1'!$A$1:$B$16,2,TRUE),N36,\" 81..40+\",VLOOKUP(16-(LEN(O36)),'1'!$A$1:$B$16,2,TRUE),O36,\" 82..40+\",VLOOKUP(16-(LEN(O36)),'1'!$A$1:$B$16,2,TRUE),P36,\" 71....+0000000000000000 \"))","v":"*11....+0000000000000034 81..40+0000007457155693 82..40+0000004758705226 71....+0000000000000000 "},null,"34,7457155.693,4758705.226"]
["          at point  X=7457080.7274  Y=4758650.5084  Z=   0.0000",{"$f":"IF(I37=\"\",\"\",ROWS($A$3:A37))","v":35},"","",7457080.727,"","",4758650.5080000004,7457080.727,4758650.5080000004,{"$f":"IFERROR(SMALL($B$3:$B$2002,ROWS($A$3:A37)),\"\")","v":37},7457202.8779999996,4758744.2149999999,35,7457202877.999999,4758744215,6,{"$f":"IF(O37=\"\",\"\",CONCATENATE(\"*11....+\",VLOOKUP(16-(LEN(N37)),'1'!$A$1:$B$16,2,TRUE),N37,\" 81..40+\",VLOOKUP(16-(LEN(O37)),'1'!$A$1:$B$16,2,TRUE),O37,\" 82..40+\",VLOOKUP(16-(LEN(O37)),'1'!$A$1:$B$16,2,TRUE),P37,\" 71....+0000000000000000 \"))","v":"*11....+0000000000000035 81..40+0000007457202878 82..40+0000004758744215 71....+0000000000000000 "},null,"35,7457202.878,4758744.215"]
["          at point  X=7457155.6930  Y=4758705.2263  Z=   0.0000",{"$f":"IF(I38=\"\",\"\",ROWS($A$3:A38))","v":36},"","",7457155.693,"","",4758705.2259999998,7457155.693,4758705.2259999998,{"$f":"IFERROR(SMALL($B$3:$B$2002,ROWS($A$3:A38)),\"\")","v":38},7457245.2120000003,4758665.4939999999,36,7457245212,4758665494,6,{"$f":"IF(O38=\"\",\"\",CONCATENATE(\"*11....+\",VLOOKUP(16-(LEN(N38)),'1'!$A$1:$B$16,2,TRUE),N38,\" 81..40+\",VLOOKUP(16-(LEN(O38)),'1'!$A$1:$B$16,2,TRUE),O38,\" 82..40+\",VLOOKUP(16-(LEN(O38)),'1'!$A$1:$B$16,2,TRUE),P38,\" 71....+0000000000000000 \"))","v":"*11....+0000000000000036 81..40+0000007457245212 82..40+0000004758665494 71....+0000000000000000 "},null,"36,7457245.212,4758665.494"]
["          at point  X=7457202.8778  Y=4758744.2154  Z=   0.0000",{"$f":"IF(I39=\"\",\"\",ROWS($A$3:A39))","v":37},"","",7457202.8779999996,"","",4758744.2149999999,7457202.8779999996,4758744.2149999999,{"$f":"IFERROR(SMALL($B$3:$B$2002,ROWS($A$3:A39)),\"\")","v":39},7457218.8090000004,4758626.0460000001,37,7457218809,4758626046,6,{"$f":"IF(O39=\"\",\"\",CONCATENATE(\"*11....+\",VLOOKUP(16-(LEN(N39)),'1'!$A$1:$B$16,2,TRUE),N39,\" 81..40+\",VLOOKUP(16-(LEN(O39)),'1'!$A$1:$B$16,2,TRUE),O39,\" 82..40+\",VLOOKUP(16-(LEN(O39)),'1'!$A$1:$B$16,2,TRUE),P39,\" 71....+0000000000000000 \"))","v":"*11....+0000000000000037 81..40+0000007457218809 82..40+0000004758626046 71....+0000000000000000 "},null,"37,7457218.809,4758626.046"]
["          at point  X=7457245.2120  Y=4758665.4940  Z=   0.0000",{"$f":"IF(I40=\"\",\"\",ROWS($A$3:A40))","v":38},"","",7457245.2120000003,"","",4758665.4939999999,7457245.2120000003,4758665.4939999999,{"$f":"IFERROR(SMALL($B$3:$B$2002,ROWS($A$3:A40)),\"\")","v":40},7457150.4179999996,4758708.6560000004,38,7457150417.999999,4758708656,6,{"$f":"IF(O40=\"\",\"\",CONCATENATE(\"*11....+\",VLOOKUP(16-(LEN(N40)),'1'!$A$1:$B$16,2,TRUE),N40,\" 81..40+\",VLOOKUP(16-(LEN(O40)),'1'!$A$1:$B$16,2,TRUE),O40,\" 82..40+\",VLOOKUP(16-(LEN(O40)),'1'!$A$1:$B$16,2,TRUE),P40,\" 71....+0000000000000000 \"))","v":"*11....+0000000000000038 81..40+0000007457150418 82..40+0000004758708656 71....+0000000000000000 "},null,"38,7457150.418,4758708.656"]
["          at point  X=7457218.8094  Y=4758626.0462  Z=   0.0000",{"$f":"IF(I41=\"\",\"\",ROWS($A$3:A41))","v":39},"","",7457218.8090000004,"","",4758626.0460000001,7457218.8090000004,4758626.0460000001,{"$f":"IFERROR(SMALL($B$3:$B$2002,ROWS($A$3:A41)),\"\")","v":41},7457102.7319999998,4758769.1150000002,39,7457102732,4758769115,6,{"$f":"IF(O41=\"\",\"\",CONCATENATE(\"*11....+\",VLOOKUP(16-(LEN(N41)),'1'!$A$1:$B$16,2,TRUE),N41,\" 81..40+\",VLOOKUP(16-(LEN(O41)),'1'!$A$1:$B$16,2,TRUE),O41,\" 82..40+\",VLOOKUP(16-(LEN(O41)),'1'!$A$1:$B$16,2,TRUE),P41,\" 71....+0000000000000000 \"))","v":"*11....+0000000000000039 81..40+0000007457102732 82..40+0000004758769115 71....+0000000000000000 "},null,"39,7457102.732,4758769.115"]
["          at point  X=7457150.4183  Y=4758708.6562  Z=   0.0000",{"$f":"IF(I42=\"\",\"\",ROWS($A$3:A42))","v":40},"","",7457150.4179999996,"","",4758708.6560000004,7457150.4179999996,4758708.6560000004,{"$f":"IFERROR(SMALL($B$3:$B$2002,ROWS($A$3:A42)),\"\")","v":42},7457035.6960000005,4758887.7220000001,40,7457035696,4758887722,6,{"$f":"IF(O42=\"\",\"\",CONCATENATE(\"*11....+\",VLOOKUP(16-(LEN(N42)),'1'!$A$1:$B$16,2,TRUE),N42,\" 81..40+\",VLOOKUP(16-(LEN(O42)),'1'!$A$1:$B$16,2,TRUE),O42,\" 82..40+\",VLOOKUP(16-(LEN(O42)),'1'!$A$1:$B$16,2,TRUE),P42,\" 71....+0000000000000000 \"))","v":"*11....+0000000000000040 81..40+0000007457035696 82..40+0000004758887722 71....+0000000000000000 "},null,"40,7457035.696,4758887.722"]
["          at point  X=7457102.7322  Y=4758769.1150  Z=   0.0000",{"$f":"IF(I43=\"\",\"\",ROWS($A$3:A43))","v":41},"","",7457102.7319999998,"","",4758769.1150000002,7457102.7319999998,4758769.1150000002,{"$f":"IFERROR(SMALL($B$3:$B$2002,ROWS($A$3:A43)),\"\")","v":43},7456948.7419999996,4758887.7220000001,41,7456948741.999999,4758887722,6,{"$f":"IF(O43=\"\",\"\",CONCATENATE(\"*11....+\",VLOOKUP(16-(LEN(N43)),'1'!$A$1:$B$16,2,TRUE),N43,\" 81..40+\",VLOOKUP(16-(LEN(O43)),'1'!$A$1:$B$16,2,TRUE),O43,\" 82..40+\",VLOOKUP(16-(LEN(O43)),'1'!$A$1:$B$16,2,TRUE),P43,\" 71....+0000000000000000 \"))","v":"*11....+0000000000000041 81..40+0000007456948742 82..40+0000004758887722 71....+0000000000000000 "},null,"41,7456948.742,4758887.722"]
["          at point  X=7457035.6959  Y=4758887.7216  Z=   0.0000",{"$f":"IF(I44=\"\",\"\",ROWS($A$3:A44))","v":42},"","",7457035.6960000005,"","",4758887.7220000001,7457035.6960000005,4758887.7220000001,{"$f":"IFERROR(SMALL($B$3:$B$2002,ROWS($A$3:A44)),\"\")","v":44},7456863.6540000001,4758754.0219999999,42,7456863654,4758754022,6,{"$f":"IF(O44=\"\",\"\",CONCATENATE(\"*11....+\",VLOOKUP(16-(LEN(N44)),'1'!$A$1:$B$16,2,TRUE),N44,\" 81..40+\",VLOOKUP(16-(LEN(O44)),'1'!$A$1:$B$16,2,TRUE),O44,\" 82..40+\",VLOOKUP(16-(LEN(O44)),'1'!$A$1:$B$16,2,TRUE),P44,\" 71....+0000000000000000 \"))","v":"*11....+0000000000000042 81..40+0000007456863654 82..40+0000004758754022 71....+0000000000000000 "},null,"42,7456863.654,4758754.022"]
["          at point  X=7456948.7420  Y=4758887.7216  Z=   0.0000",{"$f":"IF(I45=\"\",\"\",ROWS($A$3:A45))","v":43},"","",7456948.7419999996,"","",4758887.7220000001,7456948.7419999996,4758887.7220000001,{"$f":"IFERROR(SMALL($B$3:$B$2002,ROWS($A$3:A45)),\"\")","v":45},7456944.6299999999,4758678.12,43,7456944630,4758678120,6,{"$f":"IF(O45=\"\",\"\",CONCATENATE(\"*11....+\",VLOOKUP(16-(LEN(N45)),'1'!$A$1:$B$16,2,TRUE),N45,\" 81..40+\",VLOOKUP(16-(LEN(O45)),'1'!$A$1:$B$16,2,TRUE),O45,\" 82..40+\",VLOOKUP(16-(LEN(O45)),'1'!$A$1:$B$16,2,TRUE),P45,\" 71....+0000000000000000 \"))","v":"*11....+0000000000000043 81..40+0000007456944630 82..40+0000004758678120 71....+0000000000000000 "},null,"43,7456944.63,4758678.12"]
["          at point  X=7456863.6544  Y=4758754.0220  Z=   0.0000",{"$f":"IF(I46=\"\",\"\",ROWS($A$3:A46))","v":44},"","",7456863.6540000001,"","",4758754.0219999999,7456863.6540000001,4758754.0219999999,{"$f":"IFERROR(SMALL($B$3:$B$2002,ROWS($A$3:A46)),\"\")","v":46},7457169.7089999998,4758603.9380000001,44,7457169709,4758603938,6,{"$f":"IF(O46=\"\",\"\",CONCATENATE(\"*11....+\",VLOOKUP(16-(LEN(N46)),'1'!$A$1:$B$16,2,TRUE),N46,\" 81..40+\",VLOOKUP(16-(LEN(O46)),'1'!$A$1:$B$16,2,TRUE),O46,\" 82..40+\",VLOOKUP(16-(LEN(O46)),'1'!$A$1:$B$16,2,TRUE),P46,\" 71....+0000000000000000 \"))","v":"*11....+0000000000000044 81..40+0000007457169709 82..40+0000004758603938 71....+0000000000000000 "},null,"44,7457169.709,4758603.938"]
["          at point  X=7456944.6300  Y=4758678.1203  Z=   0.0000",{"$f":"IF(I47=\"\",\"\",ROWS($A$3:A47))","v":45},"","",7456944.6299999999,"","",4758678.12,7456944.6299999999,4758678.12,{"$f":"IFERROR(SMALL($B$3:$B$2002,ROWS($A$3:A47)),\"\")","v":47},7457356.2319999998,4758670.9620000003,45,7457356232,4758670962,6,{"$f":"IF(O47=\"\",\"\",CONCATENATE(\"*11....+\",VLOOKUP(16-(LEN(N47)),'1'!$A$1:$B$16,2,TRUE),N47,\" 81..40+\",VLOOKUP(16-(LEN(O47)),'1'!$A$1:$B$16,2,TRUE),O47,\" 82..40+\",VLOOKUP(16-(LEN(O47)),'1'!$A$1:$B$16,2,TRUE),P47,\" 71....+0000000000000000 \"))","v":"*11....+0000000000000045 81..40+0000007457356232 82..40+0000004758670962 71....+0000000000000000 "},null,"45,7457356.232,4758670.962"]
["          at point  X=7457169.7085  Y=4758603.9378  Z=   0.0000",{"$f":"IF(I48=\"\",\"\",ROWS($A$3:A48))","v":46},"","",7457169.7089999998,"","",4758603.9380000001,7457169.7089999998,4758603.9380000001,{"$f":"IFERROR(SMALL($B$3:$B$2002,ROWS($A$3:A48)),\"\")","v":48},7457356.2319999998,4758817.18,46,7457356232,4758817180,6,{"$f":"IF(O48=\"\",\"\",CONCATENATE(\"*11....+\",VLOOKUP(16-(LEN(N48)),'1'!$A$1:$B$16,2,TRUE),N48,\" 81..40+\",VLOOKUP(16-(LEN(O48)),'1'!$A$1:$B$16,2,TRUE),O48,\" 82..40+\",VLOOKUP(16-(LEN(O48)),'1'!$A$1:$B$16,2,TRUE),P48,\" 71....+0000000000000000 \"))","v":"*11....+0000000000000046 81..40+0000007457356232 82..40+0000004758817180 71....+0000000000000000 "},null,"46,7457356.232,4758817.18"]
["          at point  X=7457356.2322  Y=4758670.9616  Z=   0.0000",{"$f":"IF(I49=\"\",\"\",ROWS($A$3:A49))","v":47},"","",7457356.2319999998,"","",4758670.9620000003,7457356.2319999998,4758670.9620000003,{"$f":"IFERROR(SMALL($B$3:$B$2002,ROWS($A$3:A49)),\"\")","v":49},7457323.2359999996,4758870.6730000004,47,7457323235.999999,4758870673,6,{"$f":"IF(O49=\"\",\"\",CONCATENATE(\"*11....+\",VLOOKUP(16-(LEN(N49)),'1'!$A$1:$B$16,2,TRUE),N49,\" 81..40+\",VLOOKUP(16-(LEN(O49)),'1'!$A$1:$B$16,2,TRUE),O49,\" 82..40+\",VLOOKUP(16-(LEN(O49)),'1'!$A$1:$B$16,2,TRUE),P49,\" 71....+0000000000000000 \"))","v":"*11....+0000000000000047 81..40+0000007457323236 82..40+0000004758870673 71....+0000000000000000 "},null,"47,7457323.236,4758870.673"]
["          at point  X=7457356.2322  Y=4758817.1801  Z=   0.0000",{"$f":"IF(I50=\"\",\"\",ROWS($A$3:A50))","v":48},"","",7457356.2319999998,"","",4758817.18,7457356.2319999998,4758817.18,{"$f":"IFERROR(SMALL($B$3:$B$2002,ROWS($A$3:A50)),\"\")","v":50},7457107.3550000004,4758830.4749999996,48,7457107355,4758830475,6,{"$f":"IF(O50=\"\",\"\",CONCATENATE(\"*11....+\",VLOOKUP(16-(LEN(N50)),'1'!$A$1:$B$16,2,TRUE),N50,\" 81..40+\",VLOOKUP(16-(LEN(O50)),'1'!$A$1:$B$16,2,TRUE),O50,\" 82..40+\",VLOOKUP(16-(LEN(O50)),'1'!$A$1:$B$16,2,TRUE),P50,\" 71....+0000000000000000 \"))","v":"*11....+0000000000000048 81..40+0000007457107355 82..40+0000004758830475 71....+0000000000000000 "},null,"48,7457107.355,4758830.475"]
["          at point  X=7457323.2355  Y=4758870.6733  Z=   0.0000",{"$f":"IF(I51=\"\",\"\",ROWS($A$3:A51))","v":49},"","",7457323.2359999996,"","",4758870.6730000004,7457323.2359999996,4758870.6730000004,{"$f":"IFERROR(SMALL($B$3:$B$2002,ROWS($A$3:A51)),\"\")","v":51},7456932.3439999996,4758798.7769999998,49,7456932343.999999,4758798777,6,{"$f":"IF(O51=\"\",\"\",CONCATENATE(\"*11....+\",VLOOKUP(16-(LEN(N51)),'1'!$A$1:$B$16,2,TRUE),N51,\" 81..40+\",VLOOKUP(16-(LEN(O51)),'1'!$A$1:$B$16,2,TRUE),O51,\" 82..40+\",VLOOKUP(16-(LEN(O51)),'1'!$A$1:$B$16,2,TRUE),P51,\" 71....+0000000000000000 \"))","v":"*11....+0000000000000049 81..40+0000007456932344 82..40+0000004758798777 71....+0000000000000000 "},null,"49,7456932.344,4758798.777"]
["          at point  X=7457107.3551  Y=4758830.4748  Z=   0.0000",{"$f":"IF(I52=\"\",\"\",ROWS($A$3:A52))","v":50},"","",7457107.3550000004,"","",4758830.4749999996,7457107.3550000004,4758830.4749999996,{"$f":"IFERROR(SMALL($B$3:$B$2002,ROWS($A$3:A52)),\"\")","v":52},7456842.2810000004,4758881.5860000001,50,7456842281,4758881586,6,{"$f":"IF(O52=\"\",\"\",CONCATENATE(\"*11....+\",VLOOKUP(16-(LEN(N52)),'1'!$A$1:$B$16,2,TRUE),N52,\" 81..40+\",VLOOKUP(16-(LEN(O52)),'1'!$A$1:$B$16,2,TRUE),O52,\" 82..40+\",VLOOKUP(16-(LEN(O52)),'1'!$A$1:$B$16,2,TRUE),P52,\" 71....+0000000000000000 \"))","v":"*11....+0000000000000050 81..40+0000007456842281 82..40+0000004758881586 71....+0000000000000000 "},null,"50,7456842.281,4758881.586"]
["          at point  X=7456932.3441  Y=4758798.7774  Z=   0.0000",{"$f":"IF(I53=\"\",\"\",ROWS($A$3:A53))","v":51},"","",7456932.3439999996,"","",4758798.7769999998,7456932.3439999996,4758798.7769999998,{"$f":"IFERROR(SMALL($B$3:$B$2002,ROWS($A$3:A53)),\"\")","v":53},7456750.2120000003,4758894.88,51,7456750212,4758894880,6,{"$f":"IF(O53=\"\",\"\",CONCATENATE(\"*11....+\",VLOOKUP(16-(LEN(N53)),'1'!$A$1:$B$16,2,TRUE),N53,\" 81..40+\",VLOOKUP(16-(LEN(O53)),'1'!$A$1:$B$16,2,TRUE),O53,\" 82..40+\",VLOOKUP(16-(LEN(O53)),'1'!$A$1:$B$16,2,TRUE),P53,\" 71....+0000000000000000 \"))","v":"*11....+0000000000000051 81..40+0000007456750212 82..40+0000004758894880 71....+0000000000000000 "},null,"51,7456750.212,4758894.88"]
["          at point  X=7456842.2811  Y=4758881.5856  Z=   0.0000",{"$f":"IF(I54=\"\",\"\",ROWS($A$3:A54))","v":52},"","",7456842.2810000004,"","",4758881.5860000001,7456842.2810000004,4758881.5860000001,{"$f":"IFERROR(SMALL($B$3:$B$2002,ROWS($A$3:A54)),\"\")","v":54},7456724.6380000003,4758790.693,52,7456724638,4758790693,6,{"$f":"IF(O54=\"\",\"\",CONCATENATE(\"*11....+\",VLOOKUP(16-(LEN(N54)),'1'!$A$1:$B$16,2,TRUE),N54,\" 81..40+\",VLOOKUP(16-(LEN(O54)),'1'!$A$1:$B$16,2,TRUE),O54,\" 82..40+\",VLOOKUP(16-(LEN(O54)),'1'!$A$1:$B$16,2,TRUE),P54,\" 71....+0000000000000000 \"))","v":"*11....+0000000000000052 81..40+0000007456724638 82..40+0000004758790693 71....+0000000000000000 "},null,"52,7456724.638,4758790.693"]
["          at point  X=7456750.2123  Y=4758894.8803  Z=   0.0000",{"$f":"IF(I55=\"\",\"\",ROWS($A$3:A55))","v":53},"","",7456750.2120000003,"","",4758894.88,7456750.2120000003,4758894.88,{"$f":"IFERROR(SMALL($B$3:$B$2002,ROWS($A$3:A55)),\"\")","v":55},7456822.8739999998,4758750,53,7456822874,4758750000,6,{"$f":"IF(O55=\"\",\"\",CONCATENATE(\"*11....+\",VLOOKUP(16-(LEN(N55)),'1'!$A$1:$B$16,2,TRUE),N55,\" 81..40+\",VLOOKUP(16-(LEN(O55)),'1'!$A$1:$B$16,2,TRUE),O55,\" 82..40+\",VLOOKUP(16-(LEN(O55)),'1'!$A$1:$B$16,2,TRUE),P55,\" 71....+0000000000000000 \"))","v":"*11....+0000000000000053 81..40+0000007456822874 82..40+0000004758750000 71....+0000000000000000 "},null,"53,7456822.874,4758750"]
["          at point  X=7456724.6376  Y=4758790.6932  Z=   0.0000",{"$f":"IF(I56=\"\",\"\",ROWS($A$3:A56))","v":54},"","",7456724.6380000003,"","",4758790.693,7456724.6380000003,4758790.693,{"$f":"IFERROR(SMALL($B$3:$B$2002,ROWS($A$3:A56)),\"\")","v":""},"","",null,"","",{"$f":"IF(O56=\"\",\"\",16-LEN(N56))","v":""},{"$f":"IF(O56=\"\",\"\",CONCATENATE(\"*11....+\",VLOOKUP(16-(LEN(N56)),'1'!$A$1:$B$16,2,TRUE),N56,\" 81..40+\",VLOOKUP(16-(LEN(O56)),'1'!$A$1:$B$16,2,TRUE),O56,\" 82..40+\",VLOOKUP(16-(LEN(O56)),'1'!$A$1:$B$16,2,TRUE),P56,\" 71....+0000000000000000 \"))","v":""},null,""]
["          at point  X=7456822.8744  Y=4758750.0000  Z=   0.0000",{"$f":"IF(I57=\"\",\"\",ROWS($A$3:A57))","v":55},"","",7456822.8739999998,"","",4758750,7456822.8739999998,4758750,{"$f":"IFERROR(SMALL($B$3:$B$2002,ROWS($A$3:A57)),\"\")","v":""},"","",null,"","","",{"$f":"IF(O57=\"\",\"\",CONCATENATE(\"*11....+\",VLOOKUP(16-(LEN(N57)),'1'!$A$1:$B$16,2,TRUE),N57,\" 81..40+\",VLOOKUP(16-(LEN(O57)),'1'!$A$1:$B$16,2,TRUE),O57,\" 82..40+\",VLOOKUP(16-(LEN(O57)),'1'!$A$1:$B$16,2,TRUE),P57,\" 71....+0000000000000000 \"))","v":""},null,""]
["Press ENTER to continue:",{"$f":"IF(I58=\"\",\"\",ROWS($A$3:A58))","v":""},"","","","","","","","",{"$f":"IFERROR(SMALL($B$3:$B$2002,ROWS($A$3:A58)),\"\")","v":""},"","",null,"","","",{"$f":"IF(O58=\"\",\"\",CONCATENATE(\"*11....+\",VLOOKUP(16-(LEN(N58)),'1'!$A$1:$B$16,2,TRUE),N58,\" 81..40+\",VLOOKUP(16-(LEN(O58)),'1'!$A$1:$B$16,2,TRUE),O58,\" 82..40+\",VLOOKUP(16-(LEN(O58)),'1'!$A$1:$B$16,2,TRUE),P58,\" 71....+0000000000000000 \"))","v":""},null,""]
[null,{"$f":"IF(I59=\"\",\"\",ROWS($A$3:A59))","v":""},"","","","","","","","",{"$f":"IFERROR(SMALL($B$3:$B$2002,ROWS($A$3:A59)),\"\")","v":""},"","",null,"","","",{"$f":"IF(O59=\"\",\"\",CONCATENATE(\"*11....+\",VLOOKUP(16-(LEN(N59)),'1'!$A$1:$B$16,2,TRUE),N59,\" 81..40+\",VLOOKUP(16-(LEN(O59)),'1'!$A$1:$B$16,2,TRUE),O59,\" 82..40+\",VLOOKUP(16-(LEN(O59)),'1'!$A$1:$B$16,2,TRUE),P59,\" 71....+0000000000000000 \"))","v":""},null,""]
[null,{"$f":"IF(I60=\"\",\"\",ROWS($A$3:A60))","v":""},"","","","","","","","",{"$f":"IFERROR(SMALL($B$3:$B$2002,ROWS($A$3:A60)),\"\")","v":""},"","",null,"","","",{"$f":"IF(O60=\"\",\"\",CONCATENATE(\"*11....+\",VLOOKUP(16-(LEN(N60)),'1'!$A$1:$B$16,2,TRUE),N60,\" 81..40+\",VLOOKUP(16-(LEN(O60)),'1'!$A$1:$B$16,2,TRUE),O60,\" 82..40+\",VLOOKUP(16-(LEN(O60)),'1'!$A$1:$B$16,2,TRUE),P60,\" 71....+0000000000000000 \"))","v":""},null,""]
[null,{"$f":"IF(I61=\"\",\"\",ROWS($A$3:A61))","v":""},"","","","","","","","",{"$f":"IFERROR(SMALL($B$3:$B$2002,ROWS($A$3:A61)),\"\")","v":""},"","",null,"","","",{"$f":"IF(O61=\"\",\"\",CONCATENATE(\"*11....+\",VLOOKUP(16-(LEN(N61)),'1'!$A$1:$B$16,2,TRUE),N61,\" 81..40+\",VLOOKUP(16-(LEN(O61)),'1'!$A$1:$B$16,2,TRUE),O61,\" 82..40+\",VLOOKUP(16-(LEN(O61)),'1'!$A$1:$B$16,2,TRUE),P61,\" 71....+0000000000000000 \"))","v":""},null,""]
[null,{"$f":"IF(I62=\"\",\"\",ROWS($A$3:A62))","v":""},"","","","","","","","",{"$f":"IFERROR(SMALL($B$3:$B$2002,ROWS($A$3:A62)),\"\")","v":""},"","",null,"","","",{"$f":"IF(O62=\"\",\"\",CONCATENATE(\"*11....+\",VLOOKUP(16-(LEN(N62)),'1'!$A$1:$B$16,2,TRUE),N62,\" 81..40+\",VLOOKUP(16-(LEN(O62)),'1'!$A$1:$B$16,2,TRUE),O62,\" 82..40+\",VLOOKUP(16-(LEN(O62)),'1'!$A$1:$B$16,2,TRUE),P62,\" 71....+0000000000000000 \"))","v":""},null,""]
[null,{"$f":"IF(I63=\"\",\"\",ROWS($A$3:A63))","v":""},"","","","","","","","",{"$f":"IFERROR(SMALL($B$3:$B$2002,ROWS($A$3:A63)),\"\")","v":""},"","",null,"","","",{"$f":"IF(O63=\"\",\"\",CONCATENATE(\"*11....+\",VLOOKUP(16-(LEN(N63)),'1'!$A$1:$B$16,2,TRUE),N63,\" 81..40+\",VLOOKUP(16-(LEN(O63)),'1'!$A$1:$B$16,2,TRUE),O63,\" 82..40+\",VLOOKUP(16-(LEN(O63)),'1'!$A$1:$B$16,2,TRUE),P63,\" 71....+0000000000000000 \"))","v":""},null,""]
[null,{"$f":"IF(I64=\"\",\"\",ROWS($A$3:A64))","v":""},"","","","","","","","",{"$f":"IFERROR(SMALL($B$3:$B$2002,ROWS($A$3:A64)),\"\")","v":""},"","",null,"","","",{"$f":"IF(O64=\"\",\"\",CONCATENATE(\"*11....+\",VLOOKUP(16-(LEN(N64)),'1'!$A$1:$B$16,2,TRUE),N64,\" 81..40+\",VLOOKUP(16-(LEN(O64)),'1'!$A$1:$B$16,2,TRUE),O64,\" 82..40+\",VLOOKUP(16-(LEN(O64)),'1'!$A$1:$B$16,2,TRUE),P64,\" 71....+0000000000000000 \"))","v":""},null,""]
[null,{"$f":"IF(I65=\"\",\"\",ROWS($A$3:A65))","v":""},"","","","","","","","",{"$f":"IFERROR(SMALL($B$3:$B$2002,ROWS($A$3:A65)),\"\")","v":""},"","",null,"","","",{"$f":"IF(O65=\"\",\"\",CONCATENATE(\"*11....+\",VLOOKUP(16-(LEN(N65)),'1'!$A$1:$B$16,2,TRUE),N65,\" 81..40+\",VLOOKUP(16-(LEN(O65)),'1'!$A$1:$B$16,2,TRUE),O65,\" 82..40+\",VLOOKUP(16-(LEN(O65)),'1'!$A$1:$B$16,2,TRUE),P65,\" 71....+0000000000000000 \"))","v":""},null,""]
[null,{"$f":"IF(I66=\"\",\"\",ROWS($A$3:A66))","v":""},"","","","","","","","",{"$f":"IFERROR(SMALL($B$3:$B$2002,ROWS($A$3:A66)),\"\")","v":""},"","",null,"","","",{"$f":"IF(O66=\"\",\"\",CONCATENATE(\"*11....+\",VLOOKUP(16-(LEN(N66)),'1'!$A$1:$B$16,2,TRUE),N66,\" 81..40+\",VLOOKUP(16-(LEN(O66)),'1'!$A$1:$B$16,2,TRUE),O66,\" 82..40+\",VLOOKUP(16-(LEN(O66)),'1'!$A$1:$B$16,2,TRUE),P66,\" 71....+0000000000000000 \"))","v":""},null,""]
[null,{"$f":"IF(I67=\"\",\"\",ROWS($A$3:A67))","v":""},"","","","","","","","",{"$f":"IFERROR(SMALL($B$3:$B$2002,ROWS($A$3:A67)),\"\")","v":""},"","",null,"","","",{"$f":"IF(O67=\"\",\"\",CONCATENATE(\"*11....+\",VLOOKUP(16-(LEN(N67)),'1'!$A$1:$B$16,2,TRUE),N67,\" 81..40+\",VLOOKUP(16-(LEN(O67)),'1'!$A$1:$B$16,2,TRUE),O67,\" 82..40+\",VLOOKUP(16-(LEN(O67)),'1'!$A$1:$B$16,2,TRUE),P67,\" 71....+0000000000000000 \"))","v":""},null,""]
[null,{"$f":"IF(I68=\"\",\"\",ROWS($A$3:A68))","v":""},{"$f":"IF(LEN(A68)=59,ROUND(VALUE(MID(A68,23,9)),3),\"\")","v":""},{"$f":"IF(LEN(A68)=24,\"\",\"\")","v":""},{"$f":"IF(LEN(A68)=63,ROUND(VALUE(MID(A68,23,12)),3),\"\")","v":""},{"$f":"IF(LEN(A68)=59,ROUND(VALUE(MID(A68,37,9)),3),\"\")","v":""},{"$f":"IF(LEN(A68)=24,\"\",\"\")","v":""},{"$f":"IF(LEN(A68)=63,ROUND(VALUE(MID(A68,39,12)),3),\"\")","v":""},{"$f":"IF(AND(C68=\"\",D68=\"\",E68=\"\"),\"\",ROUND(CONCATENATE(C68,D68,E68),3))","v":""},{"$f":"IF(AND(C68=\"\",D68=\"\",E68=\"\"),\"\",ROUND(CONCATENATE(F68,G68,H68),3))","v":""},{"$f":"IFERROR(SMALL($B$3:$B$2002,ROWS($A$3:A68)),\"\")","v":""},{"$f":"IF(K68=\"\",\"\",ROUND(VALUE(VLOOKUP(K68,$B$3:$J$2002,8,TRUE)),3))","v":""},{"$f":"IF(K68=\"\",\"\",ROUND(VALUE(VLOOKUP(K68,$B$3:$J$2002,9,TRUE)),3))","v":""},null,{"$f":"IF(L68=\"\",\"\",L68/0.001)","v":""},"",{"$f":"IF(O68=\"\",\"\",16-LEN(N68))","v":""},{"$f":"IF(O68=\"\",\"\",CONCATENATE(\"*11....+\",VLOOKUP(16-(LEN(N68)),'1'!$A$1:$B$16,2,TRUE),N68,\" 81..40+\",VLOOKUP(16-(LEN(O68)),'1'!$A$1:$B$16,2,TRUE),O68,\" 82..40+\",VLOOKUP(16-(LEN(O68)),'1'!$A$1:$B$16,2,TRUE),P68,\" 71....+0000000000000000 \"))","v":""},null,{"$f":"IF(O68=\"\",\"\",CONCATENATE(N68,\",\",L68,\",\",M68))","v":""}]
[null,{"$f":"IF(I69=\"\",\"\",ROWS($A$3:A69))","v":""},"","","","","","","","",{"$f":"IFERROR(SMALL($B$3:$B$2002,ROWS($A$3:A69)),\"\")","v":""},"","",null,"","","",{"$f":"IF(O69=\"\",\"\",CONCATENATE(\"*11....+\",VLOOKUP(16-(LEN(N69)),'1'!$A$1:$B$16,2,TRUE),N69,\" 81..40+\",VLOOKUP(16-(LEN(O69)),'1'!$A$1:$B$16,2,TRUE),O69,\" 82..40+\",VLOOKUP(16-(LEN(O69)),'1'!$A$1:$B$16,2,TRUE),P69,\" 71....+0000000000000000 \"))","v":""},null,""]
[null,{"$f":"IF(I70=\"\",\"\",ROWS($A$3:A70))","v":""},"","","","","","","","",{"$f":"IFERROR(SMALL($B$3:$B$2002,ROWS($A$3:A70)),\"\")","v":""},"","",null,"","","",{"$f":"IF(O70=\"\",\"\",CONCATENATE(\"*11....+\",VLOOKUP(16-(LEN(N70)),'1'!$A$1:$B$16,2,TRUE),N70,\" 81..40+\",VLOOKUP(16-(LEN(O70)),'1'!$A$1:$B$16,2,TRUE),O70,\" 82..40+\",VLOOKUP(16-(LEN(O70)),'1'!$A$1:$B$16,2,TRUE),P70,\" 71....+0000000000000000 \"))","v":""},null,""]
[null,{"$f":"IF(I71=\"\",\"\",ROWS($A$3:A71))","v":""},"","","","","","","","",{"$f":"IFERROR(SMALL($B$3:$B$2002,ROWS($A$3:A71)),\"\")","v":""},"","",null,"","","",{"$f":"IF(O71=\"\",\"\",CONCATENATE(\"*11....+\",VLOOKUP(16-(LEN(N71)),'1'!$A$1:$B$16,2,TRUE),N71,\" 81..40+\",VLOOKUP(16-(LEN(O71)),'1'!$A$1:$B$16,2,TRUE),O71,\" 82..40+\",VLOOKUP(16-(LEN(O71)),'1'!$A$1:$B$16,2,TRUE),P71,\" 71....+0000000000000000 \"))","v":""},null,""]
[null,{"$f":"IF(I72=\"\",\"\",ROWS($A$3:A72))","v":""},"","","","","","","","",{"$f":"IFERROR(SMALL($B$3:$B$2002,ROWS($A$3:A72)),\"\")","v":""},"","",null,"","","",{"$f":"IF(O72=\"\",\"\",CONCATENATE(\"*11....+\",VLOOKUP(16-(LEN(N72)),'1'!$A$1:$B$16,2,TRUE),N72,\" 81..40+\",VLOOKUP(16-(LEN(O72)),'1'!$A$1:$B$16,2,TRUE),O72,\" 82..40+\",VLOOKUP(16-(LEN(O72)),'1'!$A$1:$B$16,2,TRUE),P72,\" 71....+0000000000000000 \"))","v":""},null,""]
[null,{"$f":"IF(I73=\"\",\"\",ROWS($A$3:A73))","v":""},"","","","","","","","",{"$f":"IFERROR(SMALL($B$3:$B$2002,ROWS($A$3:A73)),\"\")","v":""},"","",null,"","","",{"$f":"IF(O73=\"\",\"\",CONCATENATE(\"*11....+\",VLOOKUP(16-(LEN(N73)),'1'!$A$1:$B$16,2,TRUE),N73,\" 81..40+\",VLOOKUP(16-(LEN(O73)),'1'!$A$1:$B$16,2,TRUE),O73,\" 82..40+\",VLOOKUP(16-(LEN(O73)),'1'!$A$1:$B$16,2,TRUE),P73,\" 71....+0000000000000000 \"))","v":""},null,""]
[null,{"$f":"IF(I74=\"\",\"\",ROWS($A$3:A74))","v":""},"","","","","","","","",{"$f":"IFERROR(SMALL($B$3:$B$2002,ROWS($A$3:A74)),\"\")","v":""},"","",null,"","","",{"$f":"IF(O74=\"\",\"\",CONCATENATE(\"*11....+\",VLOOKUP(16-(LEN(N74)),'1'!$A$1:$B$16,2,TRUE),N74,\" 81..40+\",VLOOKUP(16-(LEN(O74)),'1'!$A$1:$B$16,2,TRUE),O74,\" 82..40+\",VLOOKUP(16-(LEN(O74)),'1'!$A$1:$B$16,2,TRUE),P74,\" 71....+0000000000000000 \"))","v":""},null,""]
[null,{"$f":"IF(I75=\"\",\"\",ROWS($A$3:A75))","v":""},"","","","","","","","",{"$f":"IFERROR(SMALL($B$3:$B$2002,ROWS($A$3:A75)),\"\")","v":""},"","",null,"","","",{"$f":"IF(O75=\"\",\"\",CONCATENATE(\"*11....+\",VLOOKUP(16-(LEN(N75)),'1'!$A$1:$B$16,2,TRUE),N75,\" 81..40+\",VLOOKUP(16-(LEN(O75)),'1'!$A$1:$B$16,2,TRUE),O75,\" 82..40+\",VLOOKUP(16-(LEN(O75)),'1'!$A$1:$B$16,2,TRUE),P75,\" 71....+0000000000000000 \"))","v":""},null,""]
[null,{"$f":"IF(I76=\"\",\"\",ROWS($A$3:A76))","v":""},"","","","","","","","",{"$f":"IFERROR(SMALL($B$3:$B$2002,ROWS($A$3:A76)),\"\")","v":""},"","",null,"","","",{"$f":"IF(O76=\"\",\"\",CONCATENATE(\"*11....+\",VLOOKUP(16-(LEN(N76)),'1'!$A$1:$B$16,2,TRUE),N76,\" 81..40+\",VLOOKUP(16-(LEN(O76)),'1'!$A$1:$B$16,2,TRUE),O76,\" 82..40+\",VLOOKUP(16-(LEN(O76)),'1'!$A$1:$B$16,2,TRUE),P76,\" 71....+0000000000000000 \"))","v":""},null,""]
[null,{"$f":"IF(I77=\"\",\"\",ROWS($A$3:A77))","v":""},"","","","","","","","",{"$f":"IFERROR(SMALL($B$3:$B$2002,ROWS($A$3:A77)),\"\")","v":""},"","",null,"","","",{"$f":"IF(O77=\"\",\"\",CONCATENATE(\"*11....+\",VLOOKUP(16-(LEN(N77)),'1'!$A$1:$B$16,2,TRUE),N77,\" 81..40+\",VLOOKUP(16-(LEN(O77)),'1'!$A$1:$B$16,2,TRUE),O77,\" 82..40+\",VLOOKUP(16-(LEN(O77)),'1'!$A$1:$B$16,2,TRUE),P77,\" 71....+0000000000000000 \"))","v":""},null,""]
[null,{"$f":"IF(I78=\"\",\"\",ROWS($A$3:A78))","v":""},"","","","","","","","",{"$f":"IFERROR(SMALL($B$3:$B$2002,ROWS($A$3:A78)),\"\")","v":""},"","",null,"","","",{"$f":"IF(O78=\"\",\"\",CONCATENATE(\"*11....+\",VLOOKUP(16-(LEN(N78)),'1'!$A$1:$B$16,2,TRUE),N78,\" 81..40+\",VLOOKUP(16-(LEN(O78)),'1'!$A$1:$B$16,2,TRUE),O78,\" 82..40+\",VLOOKUP(16-(LEN(O78)),'1'!$A$1:$B$16,2,TRUE),P78,\" 71....+0000000000000000 \"))","v":""},null,""]
[null,{"$f":"IF(I79=\"\",\"\",ROWS($A$3:A79))","v":""},"","","","","","","","",{"$f":"IFERROR(SMALL($B$3:$B$2002,ROWS($A$3:A79)),\"\")","v":""},"","",null,"","","",{"$f":"IF(O79=\"\",\"\",CONCATENATE(\"*11....+\",VLOOKUP(16-(LEN(N79)),'1'!$A$1:$B$16,2,TRUE),N79,\" 81..40+\",VLOOKUP(16-(LEN(O79)),'1'!$A$1:$B$16,2,TRUE),O79,\" 82..40+\",VLOOKUP(16-(LEN(O79)),'1'!$A$1:$B$16,2,TRUE),P79,\" 71....+0000000000000000 \"))","v":""},null,""]
[null,{"$f":"IF(I80=\"\",\"\",ROWS($A$3:A80))","v":""},"","","","","","","","",{"$f":"IFERROR(SMALL($B$3:$B$2002,ROWS($A$3:A80)),\"\")","v":""},"","",null,"","","",{"$f":"IF(O80=\"\",\"\",CONCATENATE(\"*11....+\",VLOOKUP(16-(LEN(N80)),'1'!$A$1:$B$16,2,TRUE),N80,\" 81..40+\",VLOOKUP(16-(LEN(O80)),'1'!$A$1:$B$16,2,TRUE),O80,\" 82..40+\",VLOOKUP(16-(LEN(O80)),'1'!$A$1:$B$16,2,TRUE),P80,\" 71....+0000000000000000 \"))","v":""},null,""]
[null,{"$f":"IF(I81=\"\",\"\",ROWS($A$3:A81))","v":""},"","","","","","","","",{"$f":"IFERROR(SMALL($B$3:$B$2002,ROWS($A$3:A81)),\"\")","v":""},"","",null,"","","",{"$f":"IF(O81=\"\",\"\",CONCATENATE(\"*11....+\",VLOOKUP(16-(LEN(N81)),'1'!$A$1:$B$16,2,TRUE),N81,\" 81..40+\",VLOOKUP(16-(LEN(O81)),'1'!$A$1:$B$16,2,TRUE),O81,\" 82..40+\",VLOOKUP(16-(LEN(O81)),'1'!$A$1:$B$16,2,TRUE),P81,\" 71....+0000000000000000 \"))","v":""},null,""]
[null,{"$f":"IF(I82=\"\",\"\",ROWS($A$3:A82))","v":""},"","","","","","","","",{"$f":"IFERROR(SMALL($B$3:$B$2002,ROWS($A$3:A82)),\"\")","v":""},"","",null,"","","",{"$f":"IF(O82=\"\",\"\",CONCATENATE(\"*11....+\",VLOOKUP(16-(LEN(N82)),'1'!$A$1:$B$16,2,TRUE),N82,\" 81..40+\",VLOOKUP(16-(LEN(O82)),'1'!$A$1:$B$16,2,TRUE),O82,\" 82..40+\",VLOOKUP(16-(LEN(O82)),'1'!$A$1:$B$16,2,TRUE),P82,\" 71....+0000000000000000 \"))","v":""},null,""]
[null,{"$f":"IF(I83=\"\",\"\",ROWS($A$3:A83))","v":""},"","","","","","","","",{"$f":"IFERROR(SMALL($B$3:$B$2002,ROWS($A$3:A83)),\"\")","v":""},"","",null,"","","",{"$f":"IF(O83=\"\",\"\",CONCATENATE(\"*11....+\",VLOOKUP(16-(LEN(N83)),'1'!$A$1:$B$16,2,TRUE),N83,\" 81..40+\",VLOOKUP(16-(LEN(O83)),'1'!$A$1:$B$16,2,TRUE),O83,\" 82..40+\",VLOOKUP(16-(LEN(O83)),'1'!$A$1:$B$16,2,TRUE),P83,\" 71....+0000000000000000 \"))","v":""},null,""]
[null,{"$f":"IF(I84=\"\",\"\",ROWS($A$3:A84))","v":""},"","","","","","","","",{"$f":"IFERROR(SMALL($B$3:$B$2002,ROWS($A$3:A84)),\"\")","v":""},"","",null,"","","",{"$f":"IF(O84=\"\",\"\",CONCATENATE(\"*11....+\",VLOOKUP(16-(LEN(N84)),'1'!$A$1:$B$16,2,TRUE),N84,\" 81..40+\",VLOOKUP(16-(LEN(O84)),'1'!$A$1:$B$16,2,TRUE),O84,\" 82..40+\",VLOOKUP(16-(LEN(O84)),'1'!$A$1:$B$16,2,TRUE),P84,\" 71....+0000000000000000 \"))","v":""},null,""]
[null,{"$f":"IF(I85=\"\",\"\",ROWS($A$3:A85))","v":""},"","","","","","","","",{"$f":"IFERROR(SMALL($B$3:$B$2002,ROWS($A$3:A85)),\"\")","v":""},"","",null,"","","",{"$f":"IF(O85=\"\",\"\",CONCATENATE(\"*11....+\",VLOOKUP(16-(LEN(N85)),'1'!$A$1:$B$16,2,TRUE),N85,\" 81..40+\",VLOOKUP(16-(LEN(O85)),'1'!$A$1:$B$16,2,TRUE),O85,\" 82..40+\",VLOOKUP(16-(LEN(O85)),'1'!$A$1:$B$16,2,TRUE),P85,\" 71....+0000000000000000 \"))","v":""},null,""]
[null,{"$f":"IF(I86=\"\",\"\",ROWS($A$3:A86))","v":""},"","","","","","","","",{"$f":"IFERROR(SMALL($B$3:$B$2002,ROWS($A$3:A86)),\"\")","v":""},"","",null,"","","",{"$f":"IF(O86=\"\",\"\",CONCATENATE(\"*11....+\",VLOOKUP(16-(LEN(N86)),'1'!$A$1:$B$16,2,TRUE),N86,\" 81..40+\",VLOOKUP(16-(LEN(O86)),'1'!$A$1:$B$16,2,TRUE),O86,\" 82..40+\",VLOOKUP(16-(LEN(O86)),'1'!$A$1:$B$16,2,TRUE),P86,\" 71....+0000000000000000 \"))","v":""},null,""]
[null,{"$f":"IF(I87=\"\",\"\",ROWS($A$3:A87))","v":""},"","","","","","","","",{"$f":"IFERROR(SMALL($B$3:$B$2002,ROWS($A$3:A87)),\"\")","v":""},"","",null,"","","",{"$f":"IF(O87=\"\",\"\",CONCATENATE(\"*11....+\",VLOOKUP(16-(LEN(N87)),'1'!$A$1:$B$16,2,TRUE),N87,\" 81..40+\",VLOOKUP(16-(LEN(O87)),'1'!$A$1:$B$16,2,TRUE),O87,\" 82..40+\",VLOOKUP(16-(LEN(O87)),'1'!$A$1:$B$16,2,TRUE),P87,\" 71....+0000000000000000 \"))","v":""},null,""]
[null,{"$f":"IF(I88=\"\",\"\",ROWS($A$3:A88))","v":""},"","","","","","","","",{"$f":"IFERROR(SMALL($B$3:$B$2002,ROWS($A$3:A88)),\"\")","v":""},"","",null,"","","",{"$f":"IF(O88=\"\",\"\",CONCATENATE(\"*11....+\",VLOOKUP(16-(LEN(N88)),'1'!$A$1:$B$16,2,TRUE),N88,\" 81..40+\",VLOOKUP(16-(LEN(O88)),'1'!$A$1:$B$16,2,TRUE),O88,\" 82..40+\",VLOOKUP(16-(LEN(O88)),'1'!$A$1:$B$16,2,TRUE),P88,\" 71....+0000000000000000 \"))","v":""},null,""]
[null,{"$f":"IF(I89=\"\",\"\",ROWS($A$3:A89))","v":""},"","","","","","","","",{"$f":"IFERROR(SMALL($B$3:$B$2002,ROWS($A$3:A89)),\"\")","v":""},"","",null,"","","",{"$f":"IF(O89=\"\",\"\",CONCATENATE(\"*11....+\",VLOOKUP(16-(LEN(N89)),'1'!$A$1:$B$16,2,TRUE),N89,\" 81..40+\",VLOOKUP(16-(LEN(O89)),'1'!$A$1:$B$16,2,TRUE),O89,\" 82..40+\",VLOOKUP(16-(LEN(O89)),'1'!$A$1:$B$16,2,TRUE),P89,\" 71....+0000000000000000 \"))","v":""},null,""]
[null,{"$f":"IF(I90=\"\",\"\",ROWS($A$3:A90))","v":""},"","","","","","","","",{"$f":"IFERROR(SMALL($B$3:$B$2002,ROWS($A$3:A90)),\"\")","v":""},"","",null,"","","",{"$f":"IF(O90=\"\",\"\",CONCATENATE(\"*11....+\",VLOOKUP(16-(LEN(N90)),'1'!$A$1:$B$16,2,TRUE),N90,\" 81..40+\",VLOOKUP(16-(LEN(O90)),'1'!$A$1:$B$16,2,TRUE),O90,\" 82..40+\",VLOOKUP(16-(LEN(O90)),'1'!$A$1:$B$16,2,TRUE),P90,\" 71....+0000000000000000 \"))","v":""},null,""]
[null,{"$f":"IF(I91=\"\",\"\",ROWS($A$3:A91))","v":""},"","","","","","","","",{"$f":"IFERROR(SMALL($B$3:$B$2002,ROWS($A$3:A91)),\"\")","v":""},"","",null,"","","",{"$f":"IF(O91=\"\",\"\",CONCATENATE(\"*11....+\",VLOOKUP(16-(LEN(N91)),'1'!$A$1:$B$16,2,TRUE),N91,\" 81..40+\",VLOOKUP(16-(LEN(O91)),'1'!$A$1:$B$16,2,TRUE),O91,\" 82..40+\",VLOOKUP(16-(LEN(O91)),'1'!$A$1:$B$16,2,TRUE),P91,\" 71....+0000000000000000 \"))","v":""},null,""]
[null,{"$f":"IF(I92=\"\",\"\",ROWS($A$3:A92))","v":""},"","","","","","","","",{"$f":"IFERROR(SMALL($B$3:$B$2002,ROWS($A$3:A92)),\"\")","v":""},"","",null,"","","",{"$f":"IF(O92=\"\",\"\",CONCATENATE(\"*11....+\",VLOOKUP(16-(LEN(N92)),'1'!$A$1:$B$16,2,TRUE),N92,\" 81..40+\",VLOOKUP(16-(LEN(O92)),'1'!$A$1:$B$16,2,TRUE),O92,\" 82..40+\",VLOOKUP(16-(LEN(O92)),'1'!$A$1:$B$16,2,TRUE),P92,\" 71....+0000000000000000 \"))","v":""},null,""]
[null,{"$f":"IF(I93=\"\",\"\",ROWS($A$3:A93))","v":""},"","","","","","","","",{"$f":"IFERROR(SMALL($B$3:$B$2002,ROWS($A$3:A93)),\"\")","v":""},"","",null,"","","",{"$f":"IF(O93=\"\",\"\",CONCATENATE(\"*11....+\",VLOOKUP(16-(LEN(N93)),'1'!$A$1:$B$16,2,TRUE),N93,\" 81..40+\",VLOOKUP(16-(LEN(O93)),'1'!$A$1:$B$16,2,TRUE),O93,\" 82..40+\",VLOOKUP(16-(LEN(O93)),'1'!$A$1:$B$16,2,TRUE),P93,\" 71....+0000000000000000 \"))","v":""},null,""]
[null,{"$f":"IF(I94=\"\",\"\",ROWS($A$3:A94))","v":""},"","","","","","","","",{"$f":"IFERROR(SMALL($B$3:$B$2002,ROWS($A$3:A94)),\"\")","v":""},"","",null,"","","",{"$f":"IF(O94=\"\",\"\",CONCATENATE(\"*11....+\",VLOOKUP(16-(LEN(N94)),'1'!$A$1:$B$16,2,TRUE),N94,\" 81..40+\",VLOOKUP(16-(LEN(O94)),'1'!$A$1:$B$16,2,TRUE),O94,\" 82..40+\",VLOOKUP(16-(LEN(O94)),'1'!$A$1:$B$16,2,TRUE),P94,\" 71....+0000000000000000 \"))","v":""},null,""]
[null,{"$f":"IF(I95=\"\",\"\",ROWS($A$3:A95))","v":""},"","","","","","","","",{"$f":"IFERROR(SMALL($B$3:$B$2002,ROWS($A$3:A95)),\"\")","v":""},"","",null,"","","",{"$f":"IF(O95=\"\",\"\",CONCATENATE(\"*11....+\",VLOOKUP(16-(LEN(N95)),'1'!$A$1:$B$16,2,TRUE),N95,\" 81..40+\",VLOOKUP(16-(LEN(O95)),'1'!$A$1:$B$16,2,TRUE),O95,\" 82..40+\",VLOOKUP(16-(LEN(O95)),'1'!$A$1:$B$16,2,TRUE),P95,\" 71....+0000000000000000 \"))","v":""},null,""]
[null,{"$f":"IF(I96=\"\",\"\",ROWS($A$3:A96))","v":""},"","","","","","","","",{"$f":"IFERROR(SMALL($B$3:$B$2002,ROWS($A$3:A96)),\"\")","v":""},"","",null,"","","",{"$f":"IF(O96=\"\",\"\",CONCATENATE(\"*11....+\",VLOOKUP(16-(LEN(N96)),'1'!$A$1:$B$16,2,TRUE),N96,\" 81..40+\",VLOOKUP(16-(LEN(O96)),'1'!$A$1:$B$16,2,TRUE),O96,\" 82..40+\",VLOOKUP(16-(LEN(O96)),'1'!$A$1:$B$16,2,TRUE),P96,\" 71....+0000000000000000 \"))","v":""},null,""]
[null,{"$f":"IF(I97=\"\",\"\",ROWS($A$3:A97))","v":""},"","","","","","","","",{"$f":"IFERROR(SMALL($B$3:$B$2002,ROWS($A$3:A97)),\"\")","v":""},"","",null,"","","",{"$f":"IF(O97=\"\",\"\",CONCATENATE(\"*11....+\",VLOOKUP(16-(LEN(N97)),'1'!$A$1:$B$16,2,TRUE),N97,\" 81..40+\",VLOOKUP(16-(LEN(O97)),'1'!$A$1:$B$16,2,TRUE),O97,\" 82..40+\",VLOOKUP(16-(LEN(O97)),'1'!$A$1:$B$16,2,TRUE),P97,\" 71....+0000000000000000 \"))","v":""},null,""]
[null,{"$f":"IF(I98=\"\",\"\",ROWS($A$3:A98))","v":""},"","","","","","","","",{"$f":"IFERROR(SMALL($B$3:$B$2002,ROWS($A$3:A98)),\"\")","v":""},"","",null,"","","",{"$f":"IF(O98=\"\",\"\",CONCATENATE(\"*11....+\",VLOOKUP(16-(LEN(N98)),'1'!$A$1:$B$16,2,TRUE),N98,\" 81..40+\",VLOOKUP(16-(LEN(O98)),'1'!$A$1:$B$16,2,TRUE),O98,\" 82..40+\",VLOOKUP(16-(LEN(O98)),'1'!$A$1:$B$16,2,TRUE),P98,\" 71....+0000000000000000 \"))","v":""},null,""]
[null,{"$f":"IF(I99=\"\",\"\",ROWS($A$3:A99))","v":""},"","","","","","","","",{"$f":"IFERROR(SMALL($B$3:$B$2002,ROWS($A$3:A99)),\"\")","v":""},"","",null,"","","",{"$f":"IF(O99=\"\",\"\",CONCATENATE(\"*11....+\",VLOOKUP(16-(LEN(N99)),'1'!$A$1:$B$16,2,TRUE),N99,\" 81..40+\",VLOOKUP(16-(LEN(O99)),'1'!$A$1:$B$16,2,TRUE),O99,\" 82..40+\",VLOOKUP(16-(LEN(O99)),'1'!$A$1:$B$16,2,TRUE),P99,\" 71....+0000000000000000 \"))","v":""},null,""]
[null,{"$f":"IF(I100=\"\",\"\",ROWS($A$3:A100))","v":""},"","","","","","","","",{"$f":"IFERROR(SMALL($B$3:$B$2002,ROWS($A$3:A100)),\"\")","v":""},"","",null,"","","",{"$f":"IF(O100=\"\",\"\",CONCATENATE(\"*11....+\",VLOOKUP(16-(LEN(N100)),'1'!$A$1:$B$16,2,TRUE),N100,\" 81..40+\",VLOOKUP(16-(LEN(O100)),'1'!$A$1:$B$16,2,TRUE),O100,\" 82..40+\",VLOOKUP(16-(LEN(O100)),'1'!$A$1:$B$16,2,TRUE),P100,\" 71....+0000000000000000 \"))","v":""},null,""]
[null,{"$f":"IF(I101=\"\",\"\",ROWS($A$3:A101))","v":""},"","","","","","","","",{"$f":"IFERROR(SMALL($B$3:$B$2002,ROWS($A$3:A101)),\"\")","v":""},"","",null,"","","",{"$f":"IF(O101=\"\",\"\",CONCATENATE(\"*11....+\",VLOOKUP(16-(LEN(N101)),'1'!$A$1:$B$16,2,TRUE),N101,\" 81..40+\",VLOOKUP(16-(LEN(O101)),'1'!$A$1:$B$16,2,TRUE),O101,\" 82..40+\",VLOOKUP(16-(LEN(O101)),'1'!$A$1:$B$16,2,TRUE),P101,\" 71....+0000000000000000 \"))","v":""},null,""]
[null,{"$f":"IF(I102=\"\",\"\",ROWS($A$3:A102))","v":""},"","","","","","","","",{"$f":"IFERROR(SMALL($B$3:$B$2002,ROWS($A$3:A102)),\"\")","v":""},"","",null,"","","",{"$f":"IF(O102=\"\",\"\",CONCATENATE(\"*11....+\",VLOOKUP(16-(LEN(N102)),'1'!$A$1:$B$16,2,TRUE),N102,\" 81..40+\",VLOOKUP(16-(LEN(O102)),'1'!$A$1:$B$16,2,TRUE),O102,\" 82..40+\",VLOOKUP(16-(LEN(O102)),'1'!$A$1:$B$16,2,TRUE),P102,\" 71....+0000000000000000 \"))","v":""},null,""]
[null,{"$f":"IF(I103=\"\",\"\",ROWS($A$3:A103))","v":""},"","","","","","","","",{"$f":"IFERROR(SMALL($B$3:$B$2002,ROWS($A$3:A103)),\"\")","v":""},"","",null,"","","",{"$f":"IF(O103=\"\",\"\",CONCATENATE(\"*11....+\",VLOOKUP(16-(LEN(N103)),'1'!$A$1:$B$16,2,TRUE),N103,\" 81..40+\",VLOOKUP(16-(LEN(O103)),'1'!$A$1:$B$16,2,TRUE),O103,\" 82..40+\",VLOOKUP(16-(LEN(O103)),'1'!$A$1:$B$16,2,TRUE),P103,\" 71....+0000000000000000 \"))","v":""},null,""]
[null,{"$f":"IF(I104=\"\",\"\",ROWS($A$3:A104))","v":""},"","","","","","","","",{"$f":"IFERROR(SMALL($B$3:$B$2002,ROWS($A$3:A104)),\"\")","v":""},"","",null,"","","",{"$f":"IF(O104=\"\",\"\",CONCATENATE(\"*11....+\",VLOOKUP(16-(LEN(N104)),'1'!$A$1:$B$16,2,TRUE),N104,\" 81..40+\",VLOOKUP(16-(LEN(O104)),'1'!$A$1:$B$16,2,TRUE),O104,\" 82..40+\",VLOOKUP(16-(LEN(O104)),'1'!$A$1:$B$16,2,TRUE),P104,\" 71....+0000000000000000 \"))","v":""},null,""]
[null,{"$f":"IF(I105=\"\",\"\",ROWS($A$3:A105))","v":""},"","","","","","","","",{"$f":"IFERROR(SMALL($B$3:$B$2002,ROWS($A$3:A105)),\"\")","v":""},"","",null,"","","",{"$f":"IF(O105=\"\",\"\",CONCATENATE(\"*11....+\",VLOOKUP(16-(LEN(N105)),'1'!$A$1:$B$16,2,TRUE),N105,\" 81..40+\",VLOOKUP(16-(LEN(O105)),'1'!$A$1:$B$16,2,TRUE),O105,\" 82..40+\",VLOOKUP(16-(LEN(O105)),'1'!$A$1:$B$16,2,TRUE),P105,\" 71....+0000000000000000 \"))","v":""},null,""]
[null,{"$f":"IF(I106=\"\",\"\",ROWS($A$3:A106))","v":""},"","","","","","","","",{"$f":"IFERROR(SMALL($B$3:$B$2002,ROWS($A$3:A106)),\"\")","v":""},"","",null,"","","",{"$f":"IF(O106=\"\",\"\",CONCATENATE(\"*11....+\",VLOOKUP(16-(LEN(N106)),'1'!$A$1:$B$16,2,TRUE),N106,\" 81..40+\",VLOOKUP(16-(LEN(O106)),'1'!$A$1:$B$16,2,TRUE),O106,\" 82..40+\",VLOOKUP(16-(LEN(O106)),'1'!$A$1:$B$16,2,TRUE),P106,\" 71....+0000000000000000 \"))","v":""},null,""]
[null,{"$f":"IF(I107=\"\",\"\",ROWS($A$3:A107))","v":""},"","","","","","","","",{"$f":"IFERROR(SMALL($B$3:$B$2002,ROWS($A$3:A107)),\"\")","v":""},"","",null,"","","",{"$f":"IF(O107=\"\",\"\",CONCATENATE(\"*11....+\",VLOOKUP(16-(LEN(N107)),'1'!$A$1:$B$16,2,TRUE),N107,\" 81..40+\",VLOOKUP(16-(LEN(O107)),'1'!$A$1:$B$16,2,TRUE),O107,\" 82..40+\",VLOOKUP(16-(LEN(O107)),'1'!$A$1:$B$16,2,TRUE),P107,\" 71....+0000000000000000 \"))","v":""},null,""]
[null,{"$f":"IF(I108=\"\",\"\",ROWS($A$3:A108))","v":""},"","","","","","","","",{"$f":"IFERROR(SMALL($B$3:$B$2002,ROWS($A$3:A108)),\"\")","v":""},"","",null,"","","",{"$f":"IF(O108=\"\",\"\",CONCATENATE(\"*11....+\",VLOOKUP(16-(LEN(N108)),'1'!$A$1:$B$16,2,TRUE),N108,\" 81..40+\",VLOOKUP(16-(LEN(O108)),'1'!$A$1:$B$16,2,TRUE),O108,\" 82..40+\",VLOOKUP(16-(LEN(O108)),'1'!$A$1:$B$16,2,TRUE),P108,\" 71....+0000000000000000 \"))","v":""},null,""]
[null,{"$f":"IF(I109=\"\",\"\",ROWS($A$3:A109))","v":""},"","","","","","","","",{"$f":"IFERROR(SMALL($B$3:$B$2002,ROWS($A$3:A109)),\"\")","v":""},"","",null,"","","",{"$f":"IF(O109=\"\",\"\",CONCATENATE(\"*11....+\",VLOOKUP(16-(LEN(N109)),'1'!$A$1:$B$16,2,TRUE),N109,\" 81..40+\",VLOOKUP(16-(LEN(O109)),'1'!$A$1:$B$16,2,TRUE),O109,\" 82..40+\",VLOOKUP(16-(LEN(O109)),'1'!$A$1:$B$16,2,TRUE),P109,\" 71....+0000000000000000 \"))","v":""},null,""]
[null,{"$f":"IF(I110=\"\",\"\",ROWS($A$3:A110))","v":""},"","","","","","","","",{"$f":"IFERROR(SMALL($B$3:$B$2002,ROWS($A$3:A110)),\"\")","v":""},"","",null,"","","",{"$f":"IF(O110=\"\",\"\",CONCATENATE(\"*11....+\",VLOOKUP(16-(LEN(N110)),'1'!$A$1:$B$16,2,TRUE),N110,\" 81..40+\",VLOOKUP(16-(LEN(O110)),'1'!$A$1:$B$16,2,TRUE),O110,\" 82..40+\",VLOOKUP(16-(LEN(O110)),'1'!$A$1:$B$16,2,TRUE),P110,\" 71....+0000000000000000 \"))","v":""},null,""]
[null,{"$f":"IF(I111=\"\",\"\",ROWS($A$3:A111))","v":""},"","","","","","","","",{"$f":"IFERROR(SMALL($B$3:$B$2002,ROWS($A$3:A111)),\"\")","v":""},"","",null,"","","",{"$f":"IF(O111=\"\",\"\",CONCATENATE(\"*11....+\",VLOOKUP(16-(LEN(N111)),'1'!$A$1:$B$16,2,TRUE),N111,\" 81..40+\",VLOOKUP(16-(LEN(O111)),'1'!$A$1:$B$16,2,TRUE),O111,\" 82..40+\",VLOOKUP(16-(LEN(O111)),'1'!$A$1:$B$16,2,TRUE),P111,\" 71....+0000000000000000 \"))","v":""},null,""]
[null,{"$f":"IF(I112=\"\",\"\",ROWS($A$3:A112))","v":""},"","","","","","","","",{"$f":"IFERROR(SMALL($B$3:$B$2002,ROWS($A$3:A112)),\"\")","v":""},"","",null,"","","",{"$f":"IF(O112=\"\",\"\",CONCATENATE(\"*11....+\",VLOOKUP(16-(LEN(N112)),'1'!$A$1:$B$16,2,TRUE),N112,\" 81..40+\",VLOOKUP(16-(LEN(O112)),'1'!$A$1:$B$16,2,TRUE),O112,\" 82..40+\",VLOOKUP(16-(LEN(O112)),'1'!$A$1:$B$16,2,TRUE),P112,\" 71....+0000000000000000 \"))","v":""},null,""]
[null,{"$f":"IF(I113=\"\",\"\",ROWS($A$3:A113))","v":""},"","","","","","","","",{"$f":"IFERROR(SMALL($B$3:$B$2002,ROWS($A$3:A113)),\"\")","v":""},"","",null,"","","",{"$f":"IF(O113=\"\",\"\",CONCATENATE(\"*11....+\",VLOOKUP(16-(LEN(N113)),'1'!$A$1:$B$16,2,TRUE),N113,\" 81..40+\",VLOOKUP(16-(LEN(O113)),'1'!$A$1:$B$16,2,TRUE),O113,\" 82..40+\",VLOOKUP(16-(LEN(O113)),'1'!$A$1:$B$16,2,TRUE),P113,\" 71....+0000000000000000 \"))","v":""},null,""]
[null,{"$f":"IF(I114=\"\",\"\",ROWS($A$3:A114))","v":""},"","","","","","","","",{"$f":"IFERROR(SMALL($B$3:$B$2002,ROWS($A$3:A114)),\"\")","v":""},"","",null,"","","",{"$f":"IF(O114=\"\",\"\",CONCATENATE(\"*11....+\",VLOOKUP(16-(LEN(N114)),'1'!$A$1:$B$16,2,TRUE),N114,\" 81..40+\",VLOOKUP(16-(LEN(O114)),'1'!$A$1:$B$16,2,TRUE),O114,\" 82..40+\",VLOOKUP(16-(LEN(O114)),'1'!$A$1:$B$16,2,TRUE),P114,\" 71....+0000000000000000 \"))","v":""},null,""]
[null,{"$f":"IF(I115=\"\",\"\",ROWS($A$3:A115))","v":""},"","","","","","","","",{"$f":"IFERROR(SMALL($B$3:$B$2002,ROWS($A$3:A115)),\"\")","v":""},"","",null,"","","",{"$f":"IF(O115=\"\",\"\",CONCATENATE(\"*11....+\",VLOOKUP(16-(LEN(N115)),'1'!$A$1:$B$16,2,TRUE),N115,\" 81..40+\",VLOOKUP(16-(LEN(O115)),'1'!$A$1:$B$16,2,TRUE),O115,\" 82..40+\",VLOOKUP(16-(LEN(O115)),'1'!$A$1:$B$16,2,TRUE),P115,\" 71....+0000000000000000 \"))","v":""},null,""]
[null,{"$f":"IF(I116=\"\",\"\",ROWS($A$3:A116))","v":""},"","","","","","","","",{"$f":"IFERROR(SMALL($B$3:$B$2002,ROWS($A$3:A116)),\"\")","v":""},"","",null,"","","",{"$f":"IF(O116=\"\",\"\",CONCATENATE(\"*11....+\",VLOOKUP(16-(LEN(N116)),'1'!$A$1:$B$16,2,TRUE),N116,\" 81..40+\",VLOOKUP(16-(LEN(O116)),'1'!$A$1:$B$16,2,TRUE),O116,\" 82..40+\",VLOOKUP(16-(LEN(O116)),'1'!$A$1:$B$16,2,TRUE),P116,\" 71....+0000000000000000 \"))","v":""},null,""]
[null,{"$f":"IF(I117=\"\",\"\",ROWS($A$3:A117))","v":""},"","","","","","","","",{"$f":"IFERROR(SMALL($B$3:$B$2002,ROWS($A$3:A117)),\"\")","v":""},"","",null,"","","",{"$f":"IF(O117=\"\",\"\",CONCATENATE(\"*11....+\",VLOOKUP(16-(LEN(N117)),'1'!$A$1:$B$16,2,TRUE),N117,\" 81..40+\",VLOOKUP(16-(LEN(O117)),'1'!$A$1:$B$16,2,TRUE),O117,\" 82..40+\",VLOOKUP(16-(LEN(O117)),'1'!$A$1:$B$16,2,TRUE),P117,\" 71....+0000000000000000 \"))","v":""},null,""]
[null,{"$f":"IF(I118=\"\",\"\",ROWS($A$3:A118))","v":""},"","","","","","","","",{"$f":"IFERROR(SMALL($B$3:$B$2002,ROWS($A$3:A118)),\"\")","v":""},"","",null,"","","",{"$f":"IF(O118=\"\",\"\",CONCATENATE(\"*11....+\",VLOOKUP(16-(LEN(N118)),'1'!$A$1:$B$16,2,TRUE),N118,\" 81..40+\",VLOOKUP(16-(LEN(O118)),'1'!$A$1:$B$16,2,TRUE),O118,\" 82..40+\",VLOOKUP(16-(LEN(O118)),'1'!$A$1:$B$16,2,TRUE),P118,\" 71....+0000000000000000 \"))","v":""},null,""]
[null,{"$f":"IF(I119=\"\",\"\",ROWS($A$3:A119))","v":""},"","","","","","","","",{"$f":"IFERROR(SMALL($B$3:$B$2002,ROWS($A$3:A119)),\"\")","v":""},"","",null,"","","",{"$f":"IF(O119=\"\",\"\",CONCATENATE(\"*11....+\",VLOOKUP(16-(LEN(N119)),'1'!$A$1:$B$16,2,TRUE),N119,\" 81..40+\",VLOOKUP(16-(LEN(O119)),'1'!$A$1:$B$16,2,TRUE),O119,\" 82..40+\",VLOOKUP(16-(LEN(O119)),'1'!$A$1:$B$16,2,TRUE),P119,\" 71....+0000000000000000 \"))","v":""},null,""]
[null,{"$f":"IF(I120=\"\",\"\",ROWS($A$3:A120))","v":""},"","","","","","","","",{"$f":"IFERROR(SMALL($B$3:$B$2002,ROWS($A$3:A120)),\"\")","v":""},"","",null,"","","",{"$f":"IF(O120=\"\",\"\",CONCATENATE(\"*11....+\",VLOOKUP(16-(LEN(N120)),'1'!$A$1:$B$16,2,TRUE),N120,\" 81..40+\",VLOOKUP(16-(LEN(O120)),'1'!$A$1:$B$16,2,TRUE),O120,\" 82..40+\",VLOOKUP(16-(LEN(O120)),'1'!$A$1:$B$16,2,TRUE),P120,\" 71....+0000000000000000 \"))","v":""},null,""]
[null,{"$f":"IF(I121=\"\",\"\",ROWS($A$3:A121))","v":""},"","","","","","","","",{"$f":"IFERROR(SMALL($B$3:$B$2002,ROWS($A$3:A121)),\"\")","v":""},"","",null,"","","",{"$f":"IF(O121=\"\",\"\",CONCATENATE(\"*11....+\",VLOOKUP(16-(LEN(N121)),'1'!$A$1:$B$16,2,TRUE),N121,\" 81..40+\",VLOOKUP(16-(LEN(O121)),'1'!$A$1:$B$16,2,TRUE),O121,\" 82..40+\",VLOOKUP(16-(LEN(O121)),'1'!$A$1:$B$16,2,TRUE),P121,\" 71....+0000000000000000 \"))","v":""},null,""]
[null,{"$f":"IF(I122=\"\",\"\",ROWS($A$3:A122))","v":""},"","","","","","","","",{"$f":"IFERROR(SMALL($B$3:$B$2002,ROWS($A$3:A122)),\"\")","v":""},"","",null,"","","",{"$f":"IF(O122=\"\",\"\",CONCATENATE(\"*11....+\",VLOOKUP(16-(LEN(N122)),'1'!$A$1:$B$16,2,TRUE),N122,\" 81..40+\",VLOOKUP(16-(LEN(O122)),'1'!$A$1:$B$16,2,TRUE),O122,\" 82..40+\",VLOOKUP(16-(LEN(O122)),'1'!$A$1:$B$16,2,TRUE),P122,\" 71....+0000000000000000 \"))","v":""},null,""]
[null,{"$f":"IF(I123=\"\",\"\",ROWS($A$3:A123))","v":""},"","","","","","","","",{"$f":"IFERROR(SMALL($B$3:$B$2002,ROWS($A$3:A123)),\"\")","v":""},"","",null,"","","",{"$f":"IF(O123=\"\",\"\",CONCATENATE(\"*11....+\",VLOOKUP(16-(LEN(N123)),'1'!$A$1:$B$16,2,TRUE),N123,\" 81..40+\",VLOOKUP(16-(LEN(O123)),'1'!$A$1:$B$16,2,TRUE),O123,\" 82..40+\",VLOOKUP(16-(LEN(O123)),'1'!$A$1:$B$16,2,TRUE),P123,\" 71....+0000000000000000 \"))","v":""},null,""]
[null,{"$f":"IF(I124=\"\",\"\",ROWS($A$3:A124))","v":""},"","","","","","","","",{"$f":"IFERROR(SMALL($B$3:$B$2002,ROWS($A$3:A124)),\"\")","v":""},"","",null,"","","",{"$f":"IF(O124=\"\",\"\",CONCATENATE(\"*11....+\",VLOOKUP(16-(LEN(N124)),'1'!$A$1:$B$16,2,TRUE),N124,\" 81..40+\",VLOOKUP(16-(LEN(O124)),'1'!$A$1:$B$16,2,TRUE),O124,\" 82..40+\",VLOOKUP(16-(LEN(O124)),'1'!$A$1:$B$16,2,TRUE),P124,\" 71....+0000000000000000 \"))","v":""},null,""]
[null,{"$f":"IF(I125=\"\",\"\",ROWS($A$3:A125))","v":""},"","","","","","","","",{"$f":"IFERROR(SMALL($B$3:$B$2002,ROWS($A$3:A125)),\"\")","v":""},"","",null,"","","",{"$f":"IF(O125=\"\",\"\",CONCATENATE(\"*11....+\",VLOOKUP(16-(LEN(N125)),'1'!$A$1:$B$16,2,TRUE),N125,\" 81..40+\",VLOOKUP(16-(LEN(O125)),'1'!$A$1:$B$16,2,TRUE),O125,\" 82..40+\",VLOOKUP(16-(LEN(O125)),'1'!$A$1:$B$16,2,TRUE),P125,\" 71....+0000000000000000 \"))","v":""},null,""]
[null,{"$f":"IF(I126=\"\",\"\",ROWS($A$3:A126))","v":""},"","","","","","","","",{"$f":"IFERROR(SMALL($B$3:$B$2002,ROWS($A$3:A126)),\"\")","v":""},"","",null,"","","",{"$f":"IF(O126=\"\",\"\",CONCATENATE(\"*11....+\",VLOOKUP(16-(LEN(N126)),'1'!$A$1:$B$16,2,TRUE),N126,\" 81..40+\",VLOOKUP(16-(LEN(O126)),'1'!$A$1:$B$16,2,TRUE),O126,\" 82..40+\",VLOOKUP(16-(LEN(O126)),'1'!$A$1:$B$16,2,TRUE),P126,\" 71....+0000000000000000 \"))","v":""},null,""]
[null,{"$f":"IF(I127=\"\",\"\",ROWS($A$3:A127))","v":""},"","","","","","","","",{"$f":"IFERROR(SMALL($B$3:$B$2002,ROWS($A$3:A127)),\"\")","v":""},"","",null,"","","",{"$f":"IF(O127=\"\",\"\",CONCATENATE(\"*11....+\",VLOOKUP(16-(LEN(N127)),'1'!$A$1:$B$16,2,TRUE),N127,\" 81..40+\",VLOOKUP(16-(LEN(O127)),'1'!$A$1:$B$16,2,TRUE),O127,\" 82..40+\",VLOOKUP(16-(LEN(O127)),'1'!$A$1:$B$16,2,TRUE),P127,\" 71....+0000000000000000 \"))","v":""},null,""]
[null,{"$f":"IF(I128=\"\",\"\",ROWS($A$3:A128))","v":""},"","","","","","","","",{"$f":"IFERROR(SMALL($B$3:$B$2002,ROWS($A$3:A128)),\"\")","v":""},"","",null,"","","",{"$f":"IF(O128=\"\",\"\",CONCATENATE(\"*11....+\",VLOOKUP(16-(LEN(N128)),'1'!$A$1:$B$16,2,TRUE),N128,\" 81..40+\",VLOOKUP(16-(LEN(O128)),'1'!$A$1:$B$16,2,TRUE),O128,\" 82..40+\",VLOOKUP(16-(LEN(O128)),'1'!$A$1:$B$16,2,TRUE),P128,\" 71....+0000000000000000 \"))","v":""},null,""]
[null,{"$f":"IF(I129=\"\",\"\",ROWS($A$3:A129))","v":""},"","","","","","","","",{"$f":"IFERROR(SMALL($B$3:$B$2002,ROWS($A$3:A129)),\"\")","v":""},"","",null,"","","",{"$f":"IF(O129=\"\",\"\",CONCATENATE(\"*11....+\",VLOOKUP(16-(LEN(N129)),'1'!$A$1:$B$16,2,TRUE),N129,\" 81..40+\",VLOOKUP(16-(LEN(O129)),'1'!$A$1:$B$16,2,TRUE),O129,\" 82..40+\",VLOOKUP(16-(LEN(O129)),'1'!$A$1:$B$16,2,TRUE),P129,\" 71....+0000000000000000 \"))","v":""},null,""]
[null,{"$f":"IF(I130=\"\",\"\",ROWS($A$3:A130))","v":""},"","","","","","","","",{"$f":"IFERROR(SMALL($B$3:$B$2002,ROWS($A$3:A130)),\"\")","v":""},"","",null,"","","",{"$f":"IF(O130=\"\",\"\",CONCATENATE(\"*11....+\",VLOOKUP(16-(LEN(N130)),'1'!$A$1:$B$16,2,TRUE),N130,\" 81..40+\",VLOOKUP(16-(LEN(O130)),'1'!$A$1:$B$16,2,TRUE),O130,\" 82..40+\",VLOOKUP(16-(LEN(O130)),'1'!$A$1:$B$16,2,TRUE),P130,\" 71....+0000000000000000 \"))","v":""},null,""]
[null,{"$f":"IF(I131=\"\",\"\",ROWS($A$3:A131))","v":""},"","","","","","","","",{"$f":"IFERROR(SMALL($B$3:$B$2002,ROWS($A$3:A131)),\"\")","v":""},"","",null,"","","",{"$f":"IF(O131=\"\",\"\",CONCATENATE(\"*11....+\",VLOOKUP(16-(LEN(N131)),'1'!$A$1:$B$16,2,TRUE),N131,\" 81..40+\",VLOOKUP(16-(LEN(O131)),'1'!$A$1:$B$16,2,TRUE),O131,\" 82..40+\",VLOOKUP(16-(LEN(O131)),'1'!$A$1:$B$16,2,TRUE),P131,\" 71....+0000000000000000 \"))","v":""},null,""]
[null,{"$f":"IF(I132=\"\",\"\",ROWS($A$3:A132))","v":""},{"$f":"IF(LEN(A132)=59,ROUND(VALUE(MID(A132,23,9)),3),\"\")","v":""},{"$f":"IF(LEN(A132)=24,\"\",\"\")","v":""},{"$f":"IF(LEN(A132)=63,ROUND(VALUE(MID(A132,23,12)),3),\"\")","v":""},{"$f":"IF(LEN(A132)=59,ROUND(VALUE(MID(A132,37,9)),3),\"\")","v":""},{"$f":"IF(LEN(A132)=24,\"\",\"\")","v":""},{"$f":"IF(LEN(A132)=63,ROUND(VALUE(MID(A132,39,12)),3),\"\")","v":""},{"$f":"IF(AND(C132=\"\",D132=\"\",E132=\"\"),\"\",ROUND(CONCATENATE(C132,D132,E132),3))","v":""},{"$f":"IF(AND(C132=\"\",D132=\"\",E132=\"\"),\"\",ROUND(CONCATENATE(F132,G132,H132),3))","v":""},{"$f":"IFERROR(SMALL($B$3:$B$2002,ROWS($A$3:A132)),\"\")","v":""},{"$f":"IF(K132=\"\",\"\",ROUND(VALUE(VLOOKUP(K132,$B$3:$J$2002,8,TRUE)),3))","v":""},{"$f":"IF(K132=\"\",\"\",ROUND(VALUE(VLOOKUP(K132,$B$3:$J$2002,9,TRUE)),3))","v":""},null,{"$f":"IF(L132=\"\",\"\",L132/0.001)","v":""},"",{"$f":"IF(O132=\"\",\"\",16-LEN(N132))","v":""},{"$f":"IF(O132=\"\",\"\",CONCATENATE(\"*11....+\",VLOOKUP(16-(LEN(N132)),'1'!$A$1:$B$16,2,TRUE),N132,\" 81..40+\",VLOOKUP(16-(LEN(O132)),'1'!$A$1:$B$16,2,TRUE),O132,\" 82..40+\",VLOOKUP(16-(LEN(O132)),'1'!$A$1:$B$16,2,TRUE),P132,\" 71....+0000000000000000 \"))","v":""},null,{"$f":"IF(O132=\"\",\"\",CONCATENATE(N132,\",\",L132,\",\",M132))","v":""}]
[null,{"$f":"IF(I133=\"\",\"\",ROWS($A$3:A133))","v":""},"","","","","","","","",{"$f":"IFERROR(SMALL($B$3:$B$2002,ROWS($A$3:A133)),\"\")","v":""},"","",null,"","","",{"$f":"IF(O133=\"\",\"\",CONCATENATE(\"*11....+\",VLOOKUP(16-(LEN(N133)),'1'!$A$1:$B$16,2,TRUE),N133,\" 81..40+\",VLOOKUP(16-(LEN(O133)),'1'!$A$1:$B$16,2,TRUE),O133,\" 82..40+\",VLOOKUP(16-(LEN(O133)),'1'!$A$1:$B$16,2,TRUE),P133,\" 71....+0000000000000000 \"))","v":""},null,""]
[null,{"$f":"IF(I134=\"\",\"\",ROWS($A$3:A134))","v":""},"","","","","","","","",{"$f":"IFERROR(SMALL($B$3:$B$2002,ROWS($A$3:A134)),\"\")","v":""},"","",null,"","","",{"$f":"IF(O134=\"\",\"\",CONCATENATE(\"*11....+\",VLOOKUP(16-(LEN(N134)),'1'!$A$1:$B$16,2,TRUE),N134,\" 81..40+\",VLOOKUP(16-(LEN(O134)),'1'!$A$1:$B$16,2,TRUE),O134,\" 82..40+\",VLOOKUP(16-(LEN(O134)),'1'!$A$1:$B$16,2,TRUE),P134,\" 71....+0000000000000000 \"))","v":""},null,""]
[null,{"$f":"IF(I135=\"\",\"\",ROWS($A$3:A135))","v":""},"","","","","","","","",{"$f":"IFERROR(SMALL($B$3:$B$2002,ROWS($A$3:A135)),\"\")","v":""},"","",null,"","","",{"$f":"IF(O135=\"\",\"\",CONCATENATE(\"*11....+\",VLOOKUP(16-(LEN(N135)),'1'!$A$1:$B$16,2,TRUE),N135,\" 81..40+\",VLOOKUP(16-(LEN(O135)),'1'!$A$1:$B$16,2,TRUE),O135,\" 82..40+\",VLOOKUP(16-(LEN(O135)),'1'!$A$1:$B$16,2,TRUE),P135,\" 71....+0000000000000000 \"))","v":""},null,""]
[null,{"$f":"IF(I136=\"\",\"\",ROWS($A$3:A136))","v":""},"","","","","","","","",{"$f":"IFERROR(SMALL($B$3:$B$2002,ROWS($A$3:A136)),\"\")","v":""},"","",null,"","","",{"$f":"IF(O136=\"\",\"\",CONCATENATE(\"*11....+\",VLOOKUP(16-(LEN(N136)),'1'!$A$1:$B$16,2,TRUE),N136,\" 81..40+\",VLOOKUP(16-(LEN(O136)),'1'!$A$1:$B$16,2,TRUE),O136,\" 82..40+\",VLOOKUP(16-(LEN(O136)),'1'!$A$1:$B$16,2,TRUE),P136,\" 71....+0000000000000000 \"))","v":""},null,""]
[null,{"$f":"IF(I137=\"\",\"\",ROWS($A$3:A137))","v":""},"","","","","","","","",{"$f":"IFERROR(SMALL($B$3:$B$2002,ROWS($A$3:A137)),\"\")","v":""},"","",null,"","","",{"$f":"IF(O137=\"\",\"\",CONCATENATE(\"*11....+\",VLOOKUP(16-(LEN(N137)),'1'!$A$1:$B$16,2,TRUE),N137,\" 81..40+\",VLOOKUP(16-(LEN(O137)),'1'!$A$1:$B$16,2,TRUE),O137,\" 82..40+\",VLOOKUP(16-(LEN(O137)),'1'!$A$1:$B$16,2,TRUE),P137,\" 71....+0000000000000000 \"))","v":""},null,""]
[null,{"$f":"IF(I138=\"\",\"\",ROWS($A$3:A138))","v":""},"","","","","","","","",{"$f":"IFERROR(SMALL($B$3:$B$2002,ROWS($A$3:A138)),\"\")","v":""},"","",null,"","","",{"$f":"IF(O138=\"\",\"\",CONCATENATE(\"*11....+\",VLOOKUP(16-(LEN(N138)),'1'!$A$1:$B$16,2,TRUE),N138,\" 81..40+\",VLOOKUP(16-(LEN(O138)),'1'!$A$1:$B$16,2,TRUE),O138,\" 82..40+\",VLOOKUP(16-(LEN(O138)),'1'!$A$1:$B$16,2,TRUE),P138,\" 71....+0000000000000000 \"))","v":""},null,""]
[null,{"$f":"IF(I139=\"\",\"\",ROWS($A$3:A139))","v":""},"","","","","","","","",{"$f":"IFERROR(SMALL($B$3:$B$2002,ROWS($A$3:A139)),\"\")","v":""},"","",null,"","","",{"$f":"IF(O139=\"\",\"\",CONCATENATE(\"*11....+\",VLOOKUP(16-(LEN(N139)),'1'!$A$1:$B$16,2,TRUE),N139,\" 81..40+\",VLOOKUP(16-(LEN(O139)),'1'!$A$1:$B$16,2,TRUE),O139,\" 82..40+\",VLOOKUP(16-(LEN(O139)),'1'!$A$1:$B$16,2,TRUE),P139,\" 71....+0000000000000000 \"))","v":""},null,""]
[null,{"$f":"IF(I140=\"\",\"\",ROWS($A$3:A140))","v":""},"","","","","","","","",{"$f":"IFERROR(SMALL($B$3:$B$2002,ROWS($A$3:A140)),\"\")","v":""},"","",null,"","","",{"$f":"IF(O140=\"\",\"\",CONCATENATE(\"*11....+\",VLOOKUP(16-(LEN(N140)),'1'!$A$1:$B$16,2,TRUE),N140,\" 81..40+\",VLOOKUP(16-(LEN(O140)),'1'!$A$1:$B$16,2,TRUE),O140,\" 82..40+\",VLOOKUP(16-(LEN(O140)),'1'!$A$1:$B$16,2,TRUE),P140,\" 71....+0000000000000000 \"))","v":""},null,""]
[null,{"$f":"IF(I141=\"\",\"\",ROWS($A$3:A141))","v":""},"","","","","","","","",{"$f":"IFERROR(SMALL($B$3:$B$2002,ROWS($A$3:A141)),\"\")","v":""},"","",null,"","","",{"$f":"IF(O141=\"\",\"\",CONCATENATE(\"*11....+\",VLOOKUP(16-(LEN(N141)),'1'!$A$1:$B$16,2,TRUE),N141,\" 81..40+\",VLOOKUP(16-(LEN(O141)),'1'!$A$1:$B$16,2,TRUE),O141,\" 82..40+\",VLOOKUP(16-(LEN(O141)),'1'!$A$1:$B$16,2,TRUE),P141,\" 71....+0000000000000000 \"))","v":""},null,""]
[null,{"$f":"IF(I142=\"\",\"\",ROWS($A$3:A142))","v":""},"","","","","","","","",{"$f":"IFERROR(SMALL($B$3:$B$2002,ROWS($A$3:A142)),\"\")","v":""},"","",null,"","","",{"$f":"IF(O142=\"\",\"\",CONCATENATE(\"*11....+\",VLOOKUP(16-(LEN(N142)),'1'!$A$1:$B$16,2,TRUE),N142,\" 81..40+\",VLOOKUP(16-(LEN(O142)),'1'!$A$1:$B$16,2,TRUE),O142,\" 82..40+\",VLOOKUP(16-(LEN(O142)),'1'!$A$1:$B$16,2,TRUE),P142,\" 71....+0000000000000000 \"))","v":""},null,""]
[null,{"$f":"IF(I143=\"\",\"\",ROWS($A$3:A143))","v":""},"","","","","","","","",{"$f":"IFERROR(SMALL($B$3:$B$2002,ROWS($A$3:A143)),\"\")","v":""},"","",null,"","","",{"$f":"IF(O143=\"\",\"\",CONCATENATE(\"*11....+\",VLOOKUP(16-(LEN(N143)),'1'!$A$1:$B$16,2,TRUE),N143,\" 81..40+\",VLOOKUP(16-(LEN(O143)),'1'!$A$1:$B$16,2,TRUE),O143,\" 82..40+\",VLOOKUP(16-(LEN(O143)),'1'!$A$1:$B$16,2,TRUE),P143,\" 71....+0000000000000000 \"))","v":""},null,""]
[null,{"$f":"IF(I144=\"\",\"\",ROWS($A$3:A144))","v":""},"","","","","","","","",{"$f":"IFERROR(SMALL($B$3:$B$2002,ROWS($A$3:A144)),\"\")","v":""},"","",null,"","","",{"$f":"IF(O144=\"\",\"\",CONCATENATE(\"*11....+\",VLOOKUP(16-(LEN(N144)),'1'!$A$1:$B$16,2,TRUE),N144,\" 81..40+\",VLOOKUP(16-(LEN(O144)),'1'!$A$1:$B$16,2,TRUE),O144,\" 82..40+\",VLOOKUP(16-(LEN(O144)),'1'!$A$1:$B$16,2,TRUE),P144,\" 71....+0000000000000000 \"))","v":""},null,""]
[null,{"$f":"IF(I145=\"\",\"\",ROWS($A$3:A145))","v":""},"","","","","","","","",{"$f":"IFERROR(SMALL($B$3:$B$2002,ROWS($A$3:A145)),\"\")","v":""},"","",null,"","","",{"$f":"IF(O145=\"\",\"\",CONCATENATE(\"*11....+\",VLOOKUP(16-(LEN(N145)),'1'!$A$1:$B$16,2,TRUE),N145,\" 81..40+\",VLOOKUP(16-(LEN(O145)),'1'!$A$1:$B$16,2,TRUE),O145,\" 82..40+\",VLOOKUP(16-(LEN(O145)),'1'!$A$1:$B$16,2,TRUE),P145,\" 71....+0000000000000000 \"))","v":""},null,""]
[null,{"$f":"IF(I146=\"\",\"\",ROWS($A$3:A146))","v":""},"","","","","","","","",{"$f":"IFERROR(SMALL($B$3:$B$2002,ROWS($A$3:A146)),\"\")","v":""},"","",null,"","","",{"$f":"IF(O146=\"\",\"\",CONCATENATE(\"*11....+\",VLOOKUP(16-(LEN(N146)),'1'!$A$1:$B$16,2,TRUE),N146,\" 81..40+\",VLOOKUP(16-(LEN(O146)),'1'!$A$1:$B$16,2,TRUE),O146,\" 82..40+\",VLOOKUP(16-(LEN(O146)),'1'!$A$1:$B$16,2,TRUE),P146,\" 71....+0000000000000000 \"))","v":""},null,""]
[null,{"$f":"IF(I147=\"\",\"\",ROWS($A$3:A147))","v":""},"","","","","","","","",{"$f":"IFERROR(SMALL($B$3:$B$2002,ROWS($A$3:A147)),\"\")","v":""},"","",null,"","","",{"$f":"IF(O147=\"\",\"\",CONCATENATE(\"*11....+\",VLOOKUP(16-(LEN(N147)),'1'!$A$1:$B$16,2,TRUE),N147,\" 81..40+\",VLOOKUP(16-(LEN(O147)),'1'!$A$1:$B$16,2,TRUE),O147,\" 82..40+\",VLOOKUP(16-(LEN(O147)),'1'!$A$1:$B$16,2,TRUE),P147,\" 71....+0000000000000000 \"))","v":""},null,""]
[null,{"$f":"IF(I148=\"\",\"\",ROWS($A$3:A148))","v":""},"","","","","","","","",{"$f":"IFERROR(SMALL($B$3:$B$2002,ROWS($A$3:A148)),\"\")","v":""},"","",null,"","","",{"$f":"IF(O148=\"\",\"\",CONCATENATE(\"*11....+\",VLOOKUP(16-(LEN(N148)),'1'!$A$1:$B$16,2,TRUE),N148,\" 81..40+\",VLOOKUP(16-(LEN(O148)),'1'!$A$1:$B$16,2,TRUE),O148,\" 82..40+\",VLOOKUP(16-(LEN(O148)),'1'!$A$1:$B$16,2,TRUE),P148,\" 71....+0000000000000000 \"))","v":""},null,""]
[null,{"$f":"IF(I149=\"\",\"\",ROWS($A$3:A149))","v":""},"","","","","","","","",{"$f":"IFERROR(SMALL($B$3:$B$2002,ROWS($A$3:A149)),\"\")","v":""},"","",null,"","","",{"$f":"IF(O149=\"\",\"\",CONCATENATE(\"*11....+\",VLOOKUP(16-(LEN(N149)),'1'!$A$1:$B$16,2,TRUE),N149,\" 81..40+\",VLOOKUP(16-(LEN(O149)),'1'!$A$1:$B$16,2,TRUE),O149,\" 82..40+\",VLOOKUP(16-(LEN(O149)),'1'!$A$1:$B$16,2,TRUE),P149,\" 71....+0000000000000000 \"))","v":""},null,""]
[null,{"$f":"IF(I150=\"\",\"\",ROWS($A$3:A150))","v":""},"","","","","","","","",{"$f":"IFERROR(SMALL($B$3:$B$2002,ROWS($A$3:A150)),\"\")","v":""},"","",null,"","","",{"$f":"IF(O150=\"\",\"\",CONCATENATE(\"*11....+\",VLOOKUP(16-(LEN(N150)),'1'!$A$1:$B$16,2,TRUE),N150,\" 81..40+\",VLOOKUP(16-(LEN(O150)),'1'!$A$1:$B$16,2,TRUE),O150,\" 82..40+\",VLOOKUP(16-(LEN(O150)),'1'!$A$1:$B$16,2,TRUE),P150,\" 71....+0000000000000000 \"))","v":""},null,""]
[null,{"$f":"IF(I151=\"\",\"\",ROWS($A$3:A151))","v":""},"","","","","","","","",{"$f":"IFERROR(SMALL($B$3:$B$2002,ROWS($A$3:A151)),\"\")","v":""},"","",null,"","","",{"$f":"IF(O151=\"\",\"\",CONCATENATE(\"*11....+\",VLOOKUP(16-(LEN(N151)),'1'!$A$1:$B$16,2,TRUE),N151,\" 81..40+\",VLOOKUP(16-(LEN(O151)),'1'!$A$1:$B$16,2,TRUE),O151,\" 82..40+\",VLOOKUP(16-(LEN(O151)),'1'!$A$1:$B$16,2,TRUE),P151,\" 71....+0000000000000000 \"))","v":""},null,""]
[null,{"$f":"IF(I152=\"\",\"\",ROWS($A$3:A152))","v":""},"","","","","","","","",{"$f":"IFERROR(SMALL($B$3:$B$2002,ROWS($A$3:A152)),\"\")","v":""},"","",null,"","","",{"$f":"IF(O152=\"\",\"\",CONCATENATE(\"*11....+\",VLOOKUP(16-(LEN(N152)),'1'!$A$1:$B$16,2,TRUE),N152,\" 81..40+\",VLOOKUP(16-(LEN(O152)),'1'!$A$1:$B$16,2,TRUE),O152,\" 82..40+\",VLOOKUP(16-(LEN(O152)),'1'!$A$1:$B$16,2,TRUE),P152,\" 71....+0000000000000000 \"))","v":""},null,""]
[null,{"$f":"IF(I153=\"\",\"\",ROWS($A$3:A153))","v":""},"","","","","","","","",{"$f":"IFERROR(SMALL($B$3:$B$2002,ROWS($A$3:A153)),\"\")","v":""},"","",null,"","","",{"$f":"IF(O153=\"\",\"\",CONCATENATE(\"*11....+\",VLOOKUP(16-(LEN(N153)),'1'!$A$1:$B$16,2,TRUE),N153,\" 81..40+\",VLOOKUP(16-(LEN(O153)),'1'!$A$1:$B$16,2,TRUE),O153,\" 82..40+\",VLOOKUP(16-(LEN(O153)),'1'!$A$1:$B$16,2,TRUE),P153,\" 71....+0000000000000000 \"))","v":""},null,""]
[null,{"$f":"IF(I154=\"\",\"\",ROWS($A$3:A154))","v":""},"","","","","","","","",{"$f":"IFERROR(SMALL($B$3:$B$2002,ROWS($A$3:A154)),\"\")","v":""},"","",null,"","","",{"$f":"IF(O154=\"\",\"\",CONCATENATE(\"*11....+\",VLOOKUP(16-(LEN(N154)),'1'!$A$1:$B$16,2,TRUE),N154,\" 81..40+\",VLOOKUP(16-(LEN(O154)),'1'!$A$1:$B$16,2,TRUE),O154,\" 82..40+\",VLOOKUP(16-(LEN(O154)),'1'!$A$1:$B$16,2,TRUE),P154,\" 71....+0000000000000000 \"))","v":""},null,""]
[null,{"$f":"IF(I155=\"\",\"\",ROWS($A$3:A155))","v":""},"","","","","","","","",{"$f":"IFERROR(SMALL($B$3:$B$2002,ROWS($A$3:A155)),\"\")","v":""},"","",null,"","","",{"$f":"IF(O155=\"\",\"\",CONCATENATE(\"*11....+\",VLOOKUP(16-(LEN(N155)),'1'!$A$1:$B$16,2,TRUE),N155,\" 81..40+\",VLOOKUP(16-(LEN(O155)),'1'!$A$1:$B$16,2,TRUE),O155,\" 82..40+\",VLOOKUP(16-(LEN(O155)),'1'!$A$1:$B$16,2,TRUE),P155,\" 71....+0000000000000000 \"))","v":""},null,""]
[null,{"$f":"IF(I156=\"\",\"\",ROWS($A$3:A156))","v":""},"","","","","","","","",{"$f":"IFERROR(SMALL($B$3:$B$2002,ROWS($A$3:A156)),\"\")","v":""},"","",null,"","","",{"$f":"IF(O156=\"\",\"\",CONCATENATE(\"*11....+\",VLOOKUP(16-(LEN(N156)),'1'!$A$1:$B$16,2,TRUE),N156,\" 81..40+\",VLOOKUP(16-(LEN(O156)),'1'!$A$1:$B$16,2,TRUE),O156,\" 82..40+\",VLOOKUP(16-(LEN(O156)),'1'!$A$1:$B$16,2,TRUE),P156,\" 71....+0000000000000000 \"))","v":""},null,""]
[null,{"$f":"IF(I157=\"\",\"\",ROWS($A$3:A157))","v":""},"","","","","","","","",{"$f":"IFERROR(SMALL($B$3:$B$2002,ROWS($A$3:A157)),\"\")","v":""},"","",null,"","","",{"$f":"IF(O157=\"\",\"\",CONCATENATE(\"*11....+\",VLOOKUP(16-(LEN(N157)),'1'!$A$1:$B$16,2,TRUE),N157,\" 81..40+\",VLOOKUP(16-(LEN(O157)),'1'!$A$1:$B$16,2,TRUE),O157,\" 82..40+\",VLOOKUP(16-(LEN(O157)),'1'!$A$1:$B$16,2,TRUE),P157,\" 71....+0000000000000000 \"))","v":""},null,""]
[null,{"$f":"IF(I158=\"\",\"\",ROWS($A$3:A158))","v":""},"","","","","","","","",{"$f":"IFERROR(SMALL($B$3:$B$2002,ROWS($A$3:A158)),\"\")","v":""},"","",null,"","","",{"$f":"IF(O158=\"\",\"\",CONCATENATE(\"*11....+\",VLOOKUP(16-(LEN(N158)),'1'!$A$1:$B$16,2,TRUE),N158,\" 81..40+\",VLOOKUP(16-(LEN(O158)),'1'!$A$1:$B$16,2,TRUE),O158,\" 82..40+\",VLOOKUP(16-(LEN(O158)),'1'!$A$1:$B$16,2,TRUE),P158,\" 71....+0000000000000000 \"))","v":""},null,""]
[null,{"$f":"IF(I159=\"\",\"\",ROWS($A$3:A159))","v":""},"","","","","","","","",{"$f":"IFERROR(SMALL($B$3:$B$2002,ROWS($A$3:A159)),\"\")","v":""},"","",null,"","","",{"$f":"IF(O159=\"\",\"\",CONCATENATE(\"*11....+\",VLOOKUP(16-(LEN(N159)),'1'!$A$1:$B$16,2,TRUE),N159,\" 81..40+\",VLOOKUP(16-(LEN(O159)),'1'!$A$1:$B$16,2,TRUE),O159,\" 82..40+\",VLOOKUP(16-(LEN(O159)),'1'!$A$1:$B$16,2,TRUE),P159,\" 71....+0000000000000000 \"))","v":""},null,""]
[null,{"$f":"IF(I160=\"\",\"\",ROWS($A$3:A160))","v":""},"","","","","","","","",{"$f":"IFERROR(SMALL($B$3:$B$2002,ROWS($A$3:A160)),\"\")","v":""},"","",null,"","","",{"$f":"IF(O160=\"\",\"\",CONCATENATE(\"*11....+\",VLOOKUP(16-(LEN(N160)),'1'!$A$1:$B$16,2,TRUE),N160,\" 81..40+\",VLOOKUP(16-(LEN(O160)),'1'!$A$1:$B$16,2,TRUE),O160,\" 82..40+\",VLOOKUP(16-(LEN(O160)),'1'!$A$1:$B$16,2,TRUE),P160,\" 71....+0000000000000000 \"))","v":""},null,""]
[null,{"$f":"IF(I161=\"\",\"\",ROWS($A$3:A161))","v":""},"","","","","","","","",{"$f":"IFERROR(SMALL($B$3:$B$2002,ROWS($A$3:A161)),\"\")","v":""},"","",null,"","","",{"$f":"IF(O161=\"\",\"\",CONCATENATE(\"*11....+\",VLOOKUP(16-(LEN(N161)),'1'!$A$1:$B$16,2,TRUE),N161,\" 81..40+\",VLOOKUP(16-(LEN(O161)),'1'!$A$1:$B$16,2,TRUE),O161,\" 82..40+\",VLOOKUP(16-(LEN(O161)),'1'!$A$1:$B$16,2,TRUE),P161,\" 71....+0000000000000000 \"))","v":""},null,""]
[null,{"$f":"IF(I162=\"\",\"\",ROWS($A$3:A162))","v":""},"","","","","","","","",{"$f":"IFERROR(SMALL($B$3:$B$2002,ROWS($A$3:A162)),\"\")","v":""},"","",null,"","","",{"$f":"IF(O162=\"\",\"\",CONCATENATE(\"*11....+\",VLOOKUP(16-(LEN(N162)),'1'!$A$1:$B$16,2,TRUE),N162,\" 81..40+\",VLOOKUP(16-(LEN(O162)),'1'!$A$1:$B$16,2,TRUE),O162,\" 82..40+\",VLOOKUP(16-(LEN(O162)),'1'!$A$1:$B$16,2,TRUE),P162,\" 71....+0000000000000000 \"))","v":""},null,""]
[null,{"$f":"IF(I163=\"\",\"\",ROWS($A$3:A163))","v":""},"","","","","","","","",{"$f":"IFERROR(SMALL($B$3:$B$2002,ROWS($A$3:A163)),\"\")","v":""},"","",null,"","","",{"$f":"IF(O163=\"\",\"\",CONCATENATE(\"*11....+\",VLOOKUP(16-(LEN(N163)),'1'!$A$1:$B$16,2,TRUE),N163,\" 81..40+\",VLOOKUP(16-(LEN(O163)),'1'!$A$1:$B$16,2,TRUE),O163,\" 82..40+\",VLOOKUP(16-(LEN(O163)),'1'!$A$1:$B$16,2,TRUE),P163,\" 71....+0000000000000000 \"))","v":""},null,""]
[null,{"$f":"IF(I164=\"\",\"\",ROWS($A$3:A164))","v":""},"","","","","","","","",{"$f":"IFERROR(SMALL($B$3:$B$2002,ROWS($A$3:A164)),\"\")","v":""},"","",null,"","","",{"$f":"IF(O164=\"\",\"\",CONCATENATE(\"*11....+\",VLOOKUP(16-(LEN(N164)),'1'!$A$1:$B$16,2,TRUE),N164,\" 81..40+\",VLOOKUP(16-(LEN(O164)),'1'!$A$1:$B$16,2,TRUE),O164,\" 82..40+\",VLOOKUP(16-(LEN(O164)),'1'!$A$1:$B$16,2,TRUE),P164,\" 71....+0000000000000000 \"))","v":""},null,""]
[null,{"$f":"IF(I165=\"\",\"\",ROWS($A$3:A165))","v":""},"","","","","","","","",{"$f":"IFERROR(SMALL($B$3:$B$2002,ROWS($A$3:A165)),\"\")","v":""},"","",null,"","","",{"$f":"IF(O165=\"\",\"\",CONCATENATE(\"*11....+\",VLOOKUP(16-(LEN(N165)),'1'!$A$1:$B$16,2,TRUE),N165,\" 81..40+\",VLOOKUP(16-(LEN(O165)),'1'!$A$1:$B$16,2,TRUE),O165,\" 82..40+\",VLOOKUP(16-(LEN(O165)),'1'!$A$1:$B$16,2,TRUE),P165,\" 71....+0000000000000000 \"))","v":""},null,""]
[null,{"$f":"IF(I166=\"\",\"\",ROWS($A$3:A166))","v":""},"","","","","","","","",{"$f":"IFERROR(SMALL($B$3:$B$2002,ROWS($A$3:A166)),\"\")","v":""},"","",null,"","","",{"$f":"IF(O166=\"\",\"\",CONCATENATE(\"*11....+\",VLOOKUP(16-(LEN(N166)),'1'!$A$1:$B$16,2,TRUE),N166,\" 81..40+\",VLOOKUP(16-(LEN(O166)),'1'!$A$1:$B$16,2,TRUE),O166,\" 82..40+\",VLOOKUP(16-(LEN(O166)),'1'!$A$1:$B$16,2,TRUE),P166,\" 71....+0000000000000000 \"))","v":""},null,""]
[null,{"$f":"IF(I167=\"\",\"\",ROWS($A$3:A167))","v":""},"","","","","","","","",{"$f":"IFERROR(SMALL($B$3:$B$2002,ROWS($A$3:A167)),\"\")","v":""},"","",null,"","","",{"$f":"IF(O167=\"\",\"\",CONCATENATE(\"*11....+\",VLOOKUP(16-(LEN(N167)),'1'!$A$1:$B$16,2,TRUE),N167,\" 81..40+\",VLOOKUP(16-(LEN(O167)),'1'!$A$1:$B$16,2,TRUE),O167,\" 82..40+\",VLOOKUP(16-(LEN(O167)),'1'!$A$1:$B$16,2,TRUE),P167,\" 71....+0000000000000000 \"))","v":""},null,""]
[null,{"$f":"IF(I168=\"\",\"\",ROWS($A$3:A168))","v":""},"","","","","","","","",{"$f":"IFERROR(SMALL($B$3:$B$2002,ROWS($A$3:A168)),\"\")","v":""},"","",null,"","","",{"$f":"IF(O168=\"\",\"\",CONCATENATE(\"*11....+\",VLOOKUP(16-(LEN(N168)),'1'!$A$1:$B$16,2,TRUE),N168,\" 81..40+\",VLOOKUP(16-(LEN(O168)),'1'!$A$1:$B$16,2,TRUE),O168,\" 82..40+\",VLOOKUP(16-(LEN(O168)),'1'!$A$1:$B$16,2,TRUE),P168,\" 71....+0000000000000000 \"))","v":""},null,""]
[null,{"$f":"IF(I169=\"\",\"\",ROWS($A$3:A169))","v":""},"","","","","","","","",{"$f":"IFERROR(SMALL($B$3:$B$2002,ROWS($A$3:A169)),\"\")","v":""},"","",null,"","","",{"$f":"IF(O169=\"\",\"\",CONCATENATE(\"*11....+\",VLOOKUP(16-(LEN(N169)),'1'!$A$1:$B$16,2,TRUE),N169,\" 81..40+\",VLOOKUP(16-(LEN(O169)),'1'!$A$1:$B$16,2,TRUE),O169,\" 82..40+\",VLOOKUP(16-(LEN(O169)),'1'!$A$1:$B$16,2,TRUE),P169,\" 71....+0000000000000000 \"))","v":""},null,""]
[null,{"$f":"IF(I170=\"\",\"\",ROWS($A$3:A170))","v":""},"","","","","","","","",{"$f":"IFERROR(SMALL($B$3:$B$2002,ROWS($A$3:A170)),\"\")","v":""},"","",null,"","","",{"$f":"IF(O170=\"\",\"\",CONCATENATE(\"*11....+\",VLOOKUP(16-(LEN(N170)),'1'!$A$1:$B$16,2,TRUE),N170,\" 81..40+\",VLOOKUP(16-(LEN(O170)),'1'!$A$1:$B$16,2,TRUE),O170,\" 82..40+\",VLOOKUP(16-(LEN(O170)),'1'!$A$1:$B$16,2,TRUE),P170,\" 71....+0000000000000000 \"))","v":""},null,""]
[null,{"$f":"IF(I171=\"\",\"\",ROWS($A$3:A171))","v":""},"","","","","","","","",{"$f":"IFERROR(SMALL($B$3:$B$2002,ROWS($A$3:A171)),\"\")","v":""},"","",null,"","","",{"$f":"IF(O171=\"\",\"\",CONCATENATE(\"*11....+\",VLOOKUP(16-(LEN(N171)),'1'!$A$1:$B$16,2,TRUE),N171,\" 81..40+\",VLOOKUP(16-(LEN(O171)),'1'!$A$1:$B$16,2,TRUE),O171,\" 82..40+\",VLOOKUP(16-(LEN(O171)),'1'!$A$1:$B$16,2,TRUE),P171,\" 71....+0000000000000000 \"))","v":""},null,""]
[null,{"$f":"IF(I172=\"\",\"\",ROWS($A$3:A172))","v":""},"","","","","","","","",{"$f":"IFERROR(SMALL($B$3:$B$2002,ROWS($A$3:A172)),\"\")","v":""},"","",null,"","","",{"$f":"IF(O172=\"\",\"\",CONCATENATE(\"*11....+\",VLOOKUP(16-(LEN(N172)),'1'!$A$1:$B$16,2,TRUE),N172,\" 81..40+\",VLOOKUP(16-(LEN(O172)),'1'!$A$1:$B$16,2,TRUE),O172,\" 82..40+\",VLOOKUP(16-(LEN(O172)),'1'!$A$1:$B$16,2,TRUE),P172,\" 71....+0000000000000000 \"))","v":""},null,""]
[null,{"$f":"IF(I173=\"\",\"\",ROWS($A$3:A173))","v":""},"","","","","","","","",{"$f":"IFERROR(SMALL($B$3:$B$2002,ROWS($A$3:A173)),\"\")","v":""},"","",null,"","","",{"$f":"IF(O173=\"\",\"\",CONCATENATE(\"*11....+\",VLOOKUP(16-(LEN(N173)),'1'!$A$1:$B$16,2,TRUE),N173,\" 81..40+\",VLOOKUP(16-(LEN(O173)),'1'!$A$1:$B$16,2,TRUE),O173,\" 82..40+\",VLOOKUP(16-(LEN(O173)),'1'!$A$1:$B$16,2,TRUE),P173,\" 71....+0000000000000000 \"))","v":""},null,""]
[null,{"$f":"IF(I174=\"\",\"\",ROWS($A$3:A174))","v":""},"","","","","","","","",{"$f":"IFERROR(SMALL($B$3:$B$2002,ROWS($A$3:A174)),\"\")","v":""},"","",null,"","","",{"$f":"IF(O174=\"\",\"\",CONCATENATE(\"*11....+\",VLOOKUP(16-(LEN(N174)),'1'!$A$1:$B$16,2,TRUE),N174,\" 81..40+\",VLOOKUP(16-(LEN(O174)),'1'!$A$1:$B$16,2,TRUE),O174,\" 82..40+\",VLOOKUP(16-(LEN(O174)),'1'!$A$1:$B$16,2,TRUE),P174,\" 71....+0000000000000000 \"))","v":""},null,""]
[null,{"$f":"IF(I175=\"\",\"\",ROWS($A$3:A175))","v":""},"","","","","","","","",{"$f":"IFERROR(SMALL($B$3:$B$2002,ROWS($A$3:A175)),\"\")","v":""},"","",null,"","","",{"$f":"IF(O175=\"\",\"\",CONCATENATE(\"*11....+\",VLOOKUP(16-(LEN(N175)),'1'!$A$1:$B$16,2,TRUE),N175,\" 81..40+\",VLOOKUP(16-(LEN(O175)),'1'!$A$1:$B$16,2,TRUE),O175,\" 82..40+\",VLOOKUP(16-(LEN(O175)),'1'!$A$1:$B$16,2,TRUE),P175,\" 71....+0000000000000000 \"))","v":""},null,""]
[null,{"$f":"IF(I176=\"\",\"\",ROWS($A$3:A176))","v":""},"","","","","","","","",{"$f":"IFERROR(SMALL($B$3:$B$2002,ROWS($A$3:A176)),\"\")","v":""},"","",null,"","","",{"$f":"IF(O176=\"\",\"\",CONCATENATE(\"*11....+\",VLOOKUP(16-(LEN(N176)),'1'!$A$1:$B$16,2,TRUE),N176,\" 81..40+\",VLOOKUP(16-(LEN(O176)),'1'!$A$1:$B$16,2,TRUE),O176,\" 82..40+\",VLOOKUP(16-(LEN(O176)),'1'!$A$1:$B$16,2,TRUE),P176,\" 71....+0000000000000000 \"))","v":""},null,""]
[null,{"$f":"IF(I177=\"\",\"\",ROWS($A$3:A177))","v":""},"","","","","","","","",{"$f":"IFERROR(SMALL($B$3:$B$2002,ROWS($A$3:A177)),\"\")","v":""},"","",null,"","","",{"$f":"IF(O177=\"\",\"\",CONCATENATE(\"*11....+\",VLOOKUP(16-(LEN(N177)),'1'!$A$1:$B$16,2,TRUE),N177,\" 81..40+\",VLOOKUP(16-(LEN(O177)),'1'!$A$1:$B$16,2,TRUE),O177,\" 82..40+\",VLOOKUP(16-(LEN(O177)),'1'!$A$1:$B$16,2,TRUE),P177,\" 71....+0000000000000000 \"))","v":""},null,""]
[null,{"$f":"IF(I178=\"\",\"\",ROWS($A$3:A178))","v":""},"","","","","","","","",{"$f":"IFERROR(SMALL($B$3:$B$2002,ROWS($A$3:A178)),\"\")","v":""},"","",null,"","","",{"$f":"IF(O178=\"\",\"\",CONCATENATE(\"*11....+\",VLOOKUP(16-(LEN(N178)),'1'!$A$1:$B$16,2,TRUE),N178,\" 81..40+\",VLOOKUP(16-(LEN(O178)),'1'!$A$1:$B$16,2,TRUE),O178,\" 82..40+\",VLOOKUP(16-(LEN(O178)),'1'!$A$1:$B$16,2,TRUE),P178,\" 71....+0000000000000000 \"))","v":""},null,""]
[null,{"$f":"IF(I179=\"\",\"\",ROWS($A$3:A179))","v":""},"","","","","","","","",{"$f":"IFERROR(SMALL($B$3:$B$2002,ROWS($A$3:A179)),\"\")","v":""},"","",null,"","","",{"$f":"IF(O179=\"\",\"\",CONCATENATE(\"*11....+\",VLOOKUP(16-(LEN(N179)),'1'!$A$1:$B$16,2,TRUE),N179,\" 81..40+\",VLOOKUP(16-(LEN(O179)),'1'!$A$1:$B$16,2,TRUE),O179,\" 82..40+\",VLOOKUP(16-(LEN(O179)),'1'!$A$1:$B$16,2,TRUE),P179,\" 71....+0000000000000000 \"))","v":""},null,""]
[null,{"$f":"IF(I180=\"\",\"\",ROWS($A$3:A180))","v":""},"","","","","","","","",{"$f":"IFERROR(SMALL($B$3:$B$2002,ROWS($A$3:A180)),\"\")","v":""},"","",null,"","","",{"$f":"IF(O180=\"\",\"\",CONCATENATE(\"*11....+\",VLOOKUP(16-(LEN(N180)),'1'!$A$1:$B$16,2,TRUE),N180,\" 81..40+\",VLOOKUP(16-(LEN(O180)),'1'!$A$1:$B$16,2,TRUE),O180,\" 82..40+\",VLOOKUP(16-(LEN(O180)),'1'!$A$1:$B$16,2,TRUE),P180,\" 71....+0000000000000000 \"))","v":""},null,""]
[null,{"$f":"IF(I181=\"\",\"\",ROWS($A$3:A181))","v":""},"","","","","","","","",{"$f":"IFERROR(SMALL($B$3:$B$2002,ROWS($A$3:A181)),\"\")","v":""},"","",null,"","","",{"$f":"IF(O181=\"\",\"\",CONCATENATE(\"*11....+\",VLOOKUP(16-(LEN(N181)),'1'!$A$1:$B$16,2,TRUE),N181,\" 81..40+\",VLOOKUP(16-(LEN(O181)),'1'!$A$1:$B$16,2,TRUE),O181,\" 82..40+\",VLOOKUP(16-(LEN(O181)),'1'!$A$1:$B$16,2,TRUE),P181,\" 71....+0000000000000000 \"))","v":""},null,""]
[null,{"$f":"IF(I182=\"\",\"\",ROWS($A$3:A182))","v":""},"","","","","","","","",{"$f":"IFERROR(SMALL($B$3:$B$2002,ROWS($A$3:A182)),\"\")","v":""},"","",null,"","","",{"$f":"IF(O182=\"\",\"\",CONCATENATE(\"*11....+\",VLOOKUP(16-(LEN(N182)),'1'!$A$1:$B$16,2,TRUE),N182,\" 81..40+\",VLOOKUP(16-(LEN(O182)),'1'!$A$1:$B$16,2,TRUE),O182,\" 82..40+\",VLOOKUP(16-(LEN(O182)),'1'!$A$1:$B$16,2,TRUE),P182,\" 71....+0000000000000000 \"))","v":""},null,""]
[null,{"$f":"IF(I183=\"\",\"\",ROWS($A$3:A183))","v":""},"","","","","","","","",{"$f":"IFERROR(SMALL($B$3:$B$2002,ROWS($A$3:A183)),\"\")","v":""},"","",null,"","","",{"$f":"IF(O183=\"\",\"\",CONCATENATE(\"*11....+\",VLOOKUP(16-(LEN(N183)),'1'!$A$1:$B$16,2,TRUE),N183,\" 81..40+\",VLOOKUP(16-(LEN(O183)),'1'!$A$1:$B$16,2,TRUE),O183,\" 82..40+\",VLOOKUP(16-(LEN(O183)),'1'!$A$1:$B$16,2,TRUE),P183,\" 71....+0000000000000000 \"))","v":""},null,""]
[null,{"$f":"IF(I184=\"\",\"\",ROWS($A$3:A184))","v":""},"","","","","","","","",{"$f":"IFERROR(SMALL($B$3:$B$2002,ROWS($A$3:A184)),\"\")","v":""},"","",null,"","","",{"$f":"IF(O184=\"\",\"\",CONCATENATE(\"*11....+\",VLOOKUP(16-(LEN(N184)),'1'!$A$1:$B$16,2,TRUE),N184,\" 81..40+\",VLOOKUP(16-(LEN(O184)),'1'!$A$1:$B$16,2,TRUE),O184,\" 82..40+\",VLOOKUP(16-(LEN(O184)),'1'!$A$1:$B$16,2,TRUE),P184,\" 71....+0000000000000000 \"))","v":""},null,""]
[null,{"$f":"IF(I185=\"\",\"\",ROWS($A$3:A185))","v":""},"","","","","","","","",{"$f":"IFERROR(SMALL($B$3:$B$2002,ROWS($A$3:A185)),\"\")","v":""},"","",null,"","","",{"$f":"IF(O185=\"\",\"\",CONCATENATE(\"*11....+\",VLOOKUP(16-(LEN(N185)),'1'!$A$1:$B$16,2,TRUE),N185,\" 81..40+\",VLOOKUP(16-(LEN(O185)),'1'!$A$1:$B$16,2,TRUE),O185,\" 82..40+\",VLOOKUP(16-(LEN(O185)),'1'!$A$1:$B$16,2,TRUE),P185,\" 71....+0000000000000000 \"))","v":""},null,""]
[null,{"$f":"IF(I186=\"\",\"\",ROWS($A$3:A186))","v":""},"","","","","","","","",{"$f":"IFERROR(SMALL($B$3:$B$2002,ROWS($A$3:A186)),\"\")","v":""},"","",null,"","","",{"$f":"IF(O186=\"\",\"\",CONCATENATE(\"*11....+\",VLOOKUP(16-(LEN(N186)),'1'!$A$1:$B$16,2,TRUE),N186,\" 81..40+\",VLOOKUP(16-(LEN(O186)),'1'!$A$1:$B$16,2,TRUE),O186,\" 82..40+\",VLOOKUP(16-(LEN(O186)),'1'!$A$1:$B$16,2,TRUE),P186,\" 71....+0000000000000000 \"))","v":""},null,""]
[null,{"$f":"IF(I187=\"\",\"\",ROWS($A$3:A187))","v":""},"","","","","","","","",{"$f":"IFERROR(SMALL($B$3:$B$2002,ROWS($A$3:A187)),\"\")","v":""},"","",null,"","","",{"$f":"IF(O187=\"\",\"\",CONCATENATE(\"*11....+\",VLOOKUP(16-(LEN(N187)),'1'!$A$1:$B$16,2,TRUE),N187,\" 81..40+\",VLOOKUP(16-(LEN(O187)),'1'!$A$1:$B$16,2,TRUE),O187,\" 82..40+\",VLOOKUP(16-(LEN(O187)),'1'!$A$1:$B$16,2,TRUE),P187,\" 71....+0000000000000000 \"))","v":""},null,""]
[null,{"$f":"IF(I188=\"\",\"\",ROWS($A$3:A188))","v":""},"","","","","","","","",{"$f":"IFERROR(SMALL($B$3:$B$2002,ROWS($A$3:A188)),\"\")","v":""},"","",null,"","","",{"$f":"IF(O188=\"\",\"\",CONCATENATE(\"*11....+\",VLOOKUP(16-(LEN(N188)),'1'!$A$1:$B$16,2,TRUE),N188,\" 81..40+\",VLOOKUP(16-(LEN(O188)),'1'!$A$1:$B$16,2,TRUE),O188,\" 82..40+\",VLOOKUP(16-(LEN(O188)),'1'!$A$1:$B$16,2,TRUE),P188,\" 71....+0000000000000000 \"))","v":""},null,""]
[null,{"$f":"IF(I189=\"\",\"\",ROWS($A$3:A189))","v":""},"","","","","","","","",{"$f":"IFERROR(SMALL($B$3:$B$2002,ROWS($A$3:A189)),\"\")","v":""},"","",null,"","","",{"$f":"IF(O189=\"\",\"\",CONCATENATE(\"*11....+\",VLOOKUP(16-(LEN(N189)),'1'!$A$1:$B$16,2,TRUE),N189,\" 81..40+\",VLOOKUP(16-(LEN(O189)),'1'!$A$1:$B$16,2,TRUE),O189,\" 82..40+\",VLOOKUP(16-(LEN(O189)),'1'!$A$1:$B$16,2,TRUE),P189,\" 71....+0000000000000000 \"))","v":""},null,""]
[null,{"$f":"IF(I190=\"\",\"\",ROWS($A$3:A190))","v":""},"","","","","","","","",{"$f":"IFERROR(SMALL($B$3:$B$2002,ROWS($A$3:A190)),\"\")","v":""},"","",null,"","","",{"$f":"IF(O190=\"\",\"\",CONCATENATE(\"*11....+\",VLOOKUP(16-(LEN(N190)),'1'!$A$1:$B$16,2,TRUE),N190,\" 81..40+\",VLOOKUP(16-(LEN(O190)),'1'!$A$1:$B$16,2,TRUE),O190,\" 82..40+\",VLOOKUP(16-(LEN(O190)),'1'!$A$1:$B$16,2,TRUE),P190,\" 71....+0000000000000000 \"))","v":""},null,""]
[null,{"$f":"IF(I191=\"\",\"\",ROWS($A$3:A191))","v":""},"","","","","","","","",{"$f":"IFERROR(SMALL($B$3:$B$2002,ROWS($A$3:A191)),\"\")","v":""},"","",null,"","","",{"$f":"IF(O191=\"\",\"\",CONCATENATE(\"*11....+\",VLOOKUP(16-(LEN(N191)),'1'!$A$1:$B$16,2,TRUE),N191,\" 81..40+\",VLOOKUP(16-(LEN(O191)),'1'!$A$1:$B$16,2,TRUE),O191,\" 82..40+\",VLOOKUP(16-(LEN(O191)),'1'!$A$1:$B$16,2,TRUE),P191,\" 71....+0000000000000000 \"))","v":""},null,""]
[null,{"$f":"IF(I192=\"\",\"\",ROWS($A$3:A192))","v":""},"","","","","","","","",{"$f":"IFERROR(SMALL($B$3:$B$2002,ROWS($A$3:A192)),\"\")","v":""},"","",null,"","","",{"$f":"IF(O192=\"\",\"\",CONCATENATE(\"*11....+\",VLOOKUP(16-(LEN(N192)),'1'!$A$1:$B$16,2,TRUE),N192,\" 81..40+\",VLOOKUP(16-(LEN(O192)),'1'!$A$1:$B$16,2,TRUE),O192,\" 82..40+\",VLOOKUP(16-(LEN(O192)),'1'!$A$1:$B$16,2,TRUE),P192,\" 71....+0000000000000000 \"))","v":""},null,""]
[null,{"$f":"IF(I193=\"\",\"\",ROWS($A$3:A193))","v":""},"","","","","","","","",{"$f":"IFERROR(SMALL($B$3:$B$2002,ROWS($A$3:A193)),\"\")","v":""},"","",null,"","","",{"$f":"IF(O193=\"\",\"\",CONCATENATE(\"*11....+\",VLOOKUP(16-(LEN(N193)),'1'!$A$1:$B$16,2,TRUE),N193,\" 81..40+\",VLOOKUP(16-(LEN(O193)),'1'!$A$1:$B$16,2,TRUE),O193,\" 82..40+\",VLOOKUP(16-(LEN(O193)),'1'!$A$1:$B$16,2,TRUE),P193,\" 71....+0000000000000000 \"))","v":""},null,""]
[null,{"$f":"IF(I194=\"\",\"\",ROWS($A$3:A194))","v":""},"","","","","","","","",{"$f":"IFERROR(SMALL($B$3:$B$2002,ROWS($A$3:A194)),\"\")","v":""},"","",null,"","","",{"$f":"IF(O194=\"\",\"\",CONCATENATE(\"*11....+\",VLOOKUP(16-(LEN(N194)),'1'!$A$1:$B$16,2,TRUE),N194,\" 81..40+\",VLOOKUP(16-(LEN(O194)),'1'!$A$1:$B$16,2,TRUE),O194,\" 82..40+\",VLOOKUP(16-(LEN(O194)),'1'!$A$1:$B$16,2,TRUE),P194,\" 71....+0000000000000000 \"))","v":""},null,""]
[null,{"$f":"IF(I195=\"\",\"\",ROWS($A$3:A195))","v":""},"","","","","","","","",{"$f":"IFERROR(SMALL($B$3:$B$2002,ROWS($A$3:A195)),\"\")","v":""},"","",null,"","","",{"$f":"IF(O195=\"\",\"\",CONCATENATE(\"*11....+\",VLOOKUP(16-(LEN(N195)),'1'!$A$1:$B$16,2,TRUE),N195,\" 81..40+\",VLOOKUP(16-(LEN(O195)),'1'!$A$1:$B$16,2,TRUE),O195,\" 82..40+\",VLOOKUP(16-(LEN(O195)),'1'!$A$1:$B$16,2,TRUE),P195,\" 71....+0000000000000000 \"))","v":""},null,""]
[null,{"$f":"IF(I196=\"\",\"\",ROWS($A$3:A196))","v":""},{"$f":"IF(LEN(A196)=59,ROUND(VALUE(MID(A196,23,9)),3),\"\")","v":""},{"$f":"IF(LEN(A196)=24,\"\",\"\")","v":""},{"$f":"IF(LEN(A196)=63,ROUND(VALUE(MID(A196,23,12)),3),\"\")","v":""},{"$f":"IF(LEN(A196)=59,ROUND(VALUE(MID(A196,37,9)),3),\"\")","v":""},{"$f":"IF(LEN(A196)=24,\"\",\"\")","v":""},{"$f":"IF(LEN(A196)=63,ROUND(VALUE(MID(A196,39,12)),3),\"\")","v":""},{"$f":"IF(AND(C196=\"\",D196=\"\",E196=\"\"),\"\",ROUND(CONCATENATE(C196,D196,E196),3))","v":""},{"$f":"IF(AND(C196=\"\",D196=\"\",E196=\"\"),\"\",ROUND(CONCATENATE(F196,G196,H196),3))","v":""},{"$f":"IFERROR(SMALL($B$3:$B$2002,ROWS($A$3:A196)),\"\")","v":""},{"$f":"IF(K196=\"\",\"\",ROUND(VALUE(VLOOKUP(K196,$B$3:$J$2002,8,TRUE)),3))","v":""},{"$f":"IF(K196=\"\",\"\",ROUND(VALUE(VLOOKUP(K196,$B$3:$J$2002,9,TRUE)),3))","v":""},null,{"$f":"IF(L196=\"\",\"\",L196/0.001)","v":""},"",{"$f":"IF(O196=\"\",\"\",16-LEN(N196))","v":""},{"$f":"IF(O196=\"\",\"\",CONCATENATE(\"*11....+\",VLOOKUP(16-(LEN(N196)),'1'!$A$1:$B$16,2,TRUE),N196,\" 81..40+\",VLOOKUP(16-(LEN(O196)),'1'!$A$1:$B$16,2,TRUE),O196,\" 82..40+\",VLOOKUP(16-(LEN(O196)),'1'!$A$1:$B$16,2,TRUE),P196,\" 71....+0000000000000000 \"))","v":""},null,{"$f":"IF(O196=\"\",\"\",CONCATENATE(N196,\",\",L196,\",\",M196))","v":""}]
[null,{"$f":"IF(I197=\"\",\"\",ROWS($A$3:A197))","v":""},"","","","","","","","",{"$f":"IFERROR(SMALL($B$3:$B$2002,ROWS($A$3:A197)),\"\")","v":""},"","",null,"","","",{"$f":"IF(O197=\"\",\"\",CONCATENATE(\"*11....+\",VLOOKUP(16-(LEN(N197)),'1'!$A$1:$B$16,2,TRUE),N197,\" 81..40+\",VLOOKUP(16-(LEN(O197)),'1'!$A$1:$B$16,2,TRUE),O197,\" 82..40+\",VLOOKUP(16-(LEN(O197)),'1'!$A$1:$B$16,2,TRUE),P197,\" 71....+0000000000000000 \"))","v":""},null,""]
[null,{"$f":"IF(I198=\"\",\"\",ROWS($A$3:A198))","v":""},"","","","","","","","",{"$f":"IFERROR(SMALL($B$3:$B$2002,ROWS($A$3:A198)),\"\")","v":""},"","",null,"","","",{"$f":"IF(O198=\"\",\"\",CONCATENATE(\"*11....+\",VLOOKUP(16-(LEN(N198)),'1'!$A$1:$B$16,2,TRUE),N198,\" 81..40+\",VLOOKUP(16-(LEN(O198)),'1'!$A$1:$B$16,2,TRUE),O198,\" 82..40+\",VLOOKUP(16-(LEN(O198)),'1'!$A$1:$B$16,2,TRUE),P198,\" 71....+0000000000000000 \"))","v":""},null,""]
[null,{"$f":"IF(I199=\"\",\"\",ROWS($A$3:A199))","v":""},"","","","","","","","",{"$f":"IFERROR(SMALL($B$3:$B$2002,ROWS($A$3:A199)),\"\")","v":""},"","",null,"","","",{"$f":"IF(O199=\"\",\"\",CONCATENATE(\"*11....+\",VLOOKUP(16-(LEN(N199)),'1'!$A$1:$B$16,2,TRUE),N199,\" 81..40+\",VLOOKUP(16-(LEN(O199)),'1'!$A$1:$B$16,2,TRUE),O199,\" 82..40+\",VLOOKUP(16-(LEN(O199)),'1'!$A$1:$B$16,2,TRUE),P199,\" 71....+0000000000000000 \"))","v":""},null,""]
[null,{"$f":"IF(I200=\"\",\"\",ROWS($A$3:A200))","v":""},"","","","","","","","",{"$f":"IFERROR(SMALL($B$3:$B$2002,ROWS($A$3:A200)),\"\")","v":""},"","",null,"","","",{"$f":"IF(O200=\"\",\"\",CONCATENATE(\"*11....+\",VLOOKUP(16-(LEN(N200)),'1'!$A$1:$B$16,2,TRUE),N200,\" 81..40+\",VLOOKUP(16-(LEN(O200)),'1'!$A$1:$B$16,2,TRUE),O200,\" 82..40+\",VLOOKUP(16-(LEN(O200)),'1'!$A$1:$B$16,2,TRUE),P200,\" 71....+0000000000000000 \"))","v":""},null,""]
[null,{"$f":"IF(I201=\"\",\"\",ROWS($A$3:A201))","v":""},"","","","","","","","",{"$f":"IFERROR(SMALL($B$3:$B$2002,ROWS($A$3:A201)),\"\")","v":""},"","",null,"","","",{"$f":"IF(O201=\"\",\"\",CONCATENATE(\"*11....+\",VLOOKUP(16-(LEN(N201)),'1'!$A$1:$B$16,2,TRUE),N201,\" 81..40+\",VLOOKUP(16-(LEN(O201)),'1'!$A$1:$B$16,2,TRUE),O201,\" 82..40+\",VLOOKUP(16-(LEN(O201)),'1'!$A$1:$B$16,2,TRUE),P201,\" 71....+0000000000000000 \"))","v":""},null,""]
[null,{"$f":"IF(I202=\"\",\"\",ROWS($A$3:A202))","v":""},"","","","","","","","",{"$f":"IFERROR(SMALL($B$3:$B$2002,ROWS($A$3:A202)),\"\")","v":""},"","",null,"","","",{"$f":"IF(O202=\"\",\"\",CONCATENATE(\"*11....+\",VLOOKUP(16-(LEN(N202)),'1'!$A$1:$B$16,2,TRUE),N202,\" 81..40+\",VLOOKUP(16-(LEN(O202)),'1'!$A$1:$B$16,2,TRUE),O202,\" 82..40+\",VLOOKUP(16-(LEN(O202)),'1'!$A$1:$B$16,2,TRUE),P202,\" 71....+0000000000000000 \"))","v":""},null,""]
[null,{"$f":"IF(I203=\"\",\"\",ROWS($A$3:A203))","v":""},"","","","","","","","",{"$f":"IFERROR(SMALL($B$3:$B$2002,ROWS($A$3:A203)),\"\")","v":""},"","",null,"","","",{"$f":"IF(O203=\"\",\"\",CONCATENATE(\"*11....+\",VLOOKUP(16-(LEN(N203)),'1'!$A$1:$B$16,2,TRUE),N203,\" 81..40+\",VLOOKUP(16-(LEN(O203)),'1'!$A$1:$B$16,2,TRUE),O203,\" 82..40+\",VLOOKUP(16-(LEN(O203)),'1'!$A$1:$B$16,2,TRUE),P203,\" 71....+0000000000000000 \"))","v":""},null,""]
[null,{"$f":"IF(I204=\"\",\"\",ROWS($A$3:A204))","v":""},"","","","","","","","",{"$f":"IFERROR(SMALL($B$3:$B$2002,ROWS($A$3:A204)),\"\")","v":""},"","",null,"","","",{"$f":"IF(O204=\"\",\"\",CONCATENATE(\"*11....+\",VLOOKUP(16-(LEN(N204)),'1'!$A$1:$B$16,2,TRUE),N204,\" 81..40+\",VLOOKUP(16-(LEN(O204)),'1'!$A$1:$B$16,2,TRUE),O204,\" 82..40+\",VLOOKUP(16-(LEN(O204)),'1'!$A$1:$B$16,2,TRUE),P204,\" 71....+0000000000000000 \"))","v":""},null,""]
[null,{"$f":"IF(I205=\"\",\"\",ROWS($A$3:A205))","v":""},"","","","","","","","",{"$f":"IFERROR(SMALL($B$3:$B$2002,ROWS($A$3:A205)),\"\")","v":""},"","",null,"","","",{"$f":"IF(O205=\"\",\"\",CONCATENATE(\"*11....+\",VLOOKUP(16-(LEN(N205)),'1'!$A$1:$B$16,2,TRUE),N205,\" 81..40+\",VLOOKUP(16-(LEN(O205)),'1'!$A$1:$B$16,2,TRUE),O205,\" 82..40+\",VLOOKUP(16-(LEN(O205)),'1'!$A$1:$B$16,2,TRUE),P205,\" 71....+0000000000000000 \"))","v":""},null,""]
[null,{"$f":"IF(I206=\"\",\"\",ROWS($A$3:A206))","v":""},"","","","","","","","",{"$f":"IFERROR(SMALL($B$3:$B$2002,ROWS($A$3:A206)),\"\")","v":""},"","",null,"","","",{"$f":"IF(O206=\"\",\"\",CONCATENATE(\"*11....+\",VLOOKUP(16-(LEN(N206)),'1'!$A$1:$B$16,2,TRUE),N206,\" 81..40+\",VLOOKUP(16-(LEN(O206)),'1'!$A$1:$B$16,2,TRUE),O206,\" 82..40+\",VLOOKUP(16-(LEN(O206)),'1'!$A$1:$B$16,2,TRUE),P206,\" 71....+0000000000000000 \"))","v":""},null,""]
[null,{"$f":"IF(I207=\"\",\"\",ROWS($A$3:A207))","v":""},"","","","","","","","",{"$f":"IFERROR(SMALL($B$3:$B$2002,ROWS($A$3:A207)),\"\")","v":""},"","",null,"","","",{"$f":"IF(O207=\"\",\"\",CONCATENATE(\"*11....+\",VLOOKUP(16-(LEN(N207)),'1'!$A$1:$B$16,2,TRUE),N207,\" 81..40+\",VLOOKUP(16-(LEN(O207)),'1'!$A$1:$B$16,2,TRUE),O207,\" 82..40+\",VLOOKUP(16-(LEN(O207)),'1'!$A$1:$B$16,2,TRUE),P207,\" 71....+0000000000000000 \"))","v":""},null,""]
[null,{"$f":"IF(I208=\"\",\"\",ROWS($A$3:A208))","v":""},"","","","","","","","",{"$f":"IFERROR(SMALL($B$3:$B$2002,ROWS($A$3:A208)),\"\")","v":""},"","",null,"","","",{"$f":"IF(O208=\"\",\"\",CONCATENATE(\"*11....+\",VLOOKUP(16-(LEN(N208)),'1'!$A$1:$B$16,2,TRUE),N208,\" 81..40+\",VLOOKUP(16-(LEN(O208)),'1'!$A$1:$B$16,2,TRUE),O208,\" 82..40+\",VLOOKUP(16-(LEN(O208)),'1'!$A$1:$B$16,2,TRUE),P208,\" 71....+0000000000000000 \"))","v":""},null,""]
[null,{"$f":"IF(I209=\"\",\"\",ROWS($A$3:A209))","v":""},"","","","","","","","",{"$f":"IFERROR(SMALL($B$3:$B$2002,ROWS($A$3:A209)),\"\")","v":""},"","",null,"","","",{"$f":"IF(O209=\"\",\"\",CONCATENATE(\"*11....+\",VLOOKUP(16-(LEN(N209)),'1'!$A$1:$B$16,2,TRUE),N209,\" 81..40+\",VLOOKUP(16-(LEN(O209)),'1'!$A$1:$B$16,2,TRUE),O209,\" 82..40+\",VLOOKUP(16-(LEN(O209)),'1'!$A$1:$B$16,2,TRUE),P209,\" 71....+0000000000000000 \"))","v":""},null,""]
[null,{"$f":"IF(I210=\"\",\"\",ROWS($A$3:A210))","v":""},"","","","","","","","",{"$f":"IFERROR(SMALL($B$3:$B$2002,ROWS($A$3:A210)),\"\")","v":""},"","",null,"","","",{"$f":"IF(O210=\"\",\"\",CONCATENATE(\"*11....+\",VLOOKUP(16-(LEN(N210)),'1'!$A$1:$B$16,2,TRUE),N210,\" 81..40+\",VLOOKUP(16-(LEN(O210)),'1'!$A$1:$B$16,2,TRUE),O210,\" 82..40+\",VLOOKUP(16-(LEN(O210)),'1'!$A$1:$B$16,2,TRUE),P210,\" 71....+0000000000000000 \"))","v":""},null,""]
[null,{"$f":"IF(I211=\"\",\"\",ROWS($A$3:A211))","v":""},"","","","","","","","",{"$f":"IFERROR(SMALL($B$3:$B$2002,ROWS($A$3:A211)),\"\")","v":""},"","",null,"","","",{"$f":"IF(O211=\"\",\"\",CONCATENATE(\"*11....+\",VLOOKUP(16-(LEN(N211)),'1'!$A$1:$B$16,2,TRUE),N211,\" 81..40+\",VLOOKUP(16-(LEN(O211)),'1'!$A$1:$B$16,2,TRUE),O211,\" 82..40+\",VLOOKUP(16-(LEN(O211)),'1'!$A$1:$B$16,2,TRUE),P211,\" 71....+0000000000000000 \"))","v":""},null,""]
[null,{"$f":"IF(I212=\"\",\"\",ROWS($A$3:A212))","v":""},"","","","","","","","",{"$f":"IFERROR(SMALL($B$3:$B$2002,ROWS($A$3:A212)),\"\")","v":""},"","",null,"","","",{"$f":"IF(O212=\"\",\"\",CONCATENATE(\"*11....+\",VLOOKUP(16-(LEN(N212)),'1'!$A$1:$B$16,2,TRUE),N212,\" 81..40+\",VLOOKUP(16-(LEN(O212)),'1'!$A$1:$B$16,2,TRUE),O212,\" 82..40+\",VLOOKUP(16-(LEN(O212)),'1'!$A$1:$B$16,2,TRUE),P212,\" 71....+0000000000000000 \"))","v":""},null,""]
[null,{"$f":"IF(I213=\"\",\"\",ROWS($A$3:A213))","v":""},"","","","","","","","",{"$f":"IFERROR(SMALL($B$3:$B$2002,ROWS($A$3:A213)),\"\")","v":""},"","",null,"","","",{"$f":"IF(O213=\"\",\"\",CONCATENATE(\"*11....+\",VLOOKUP(16-(LEN(N213)),'1'!$A$1:$B$16,2,TRUE),N213,\" 81..40+\",VLOOKUP(16-(LEN(O213)),'1'!$A$1:$B$16,2,TRUE),O213,\" 82..40+\",VLOOKUP(16-(LEN(O213)),'1'!$A$1:$B$16,2,TRUE),P213,\" 71....+0000000000000000 \"))","v":""},null,""]
[null,{"$f":"IF(I214=\"\",\"\",ROWS($A$3:A214))","v":""},"","","","","","","","",{"$f":"IFERROR(SMALL($B$3:$B$2002,ROWS($A$3:A214)),\"\")","v":""},"","",null,"","","",{"$f":"IF(O214=\"\",\"\",CONCATENATE(\"*11....+\",VLOOKUP(16-(LEN(N214)),'1'!$A$1:$B$16,2,TRUE),N214,\" 81..40+\",VLOOKUP(16-(LEN(O214)),'1'!$A$1:$B$16,2,TRUE),O214,\" 82..40+\",VLOOKUP(16-(LEN(O214)),'1'!$A$1:$B$16,2,TRUE),P214,\" 71....+0000000000000000 \"))","v":""},null,""]
[null,{"$f":"IF(I215=\"\",\"\",ROWS($A$3:A215))","v":""},"","","","","","","","",{"$f":"IFERROR(SMALL($B$3:$B$2002,ROWS($A$3:A215)),\"\")","v":""},"","",null,"","","",{"$f":"IF(O215=\"\",\"\",CONCATENATE(\"*11....+\",VLOOKUP(16-(LEN(N215)),'1'!$A$1:$B$16,2,TRUE),N215,\" 81..40+\",VLOOKUP(16-(LEN(O215)),'1'!$A$1:$B$16,2,TRUE),O215,\" 82..40+\",VLOOKUP(16-(LEN(O215)),'1'!$A$1:$B$16,2,TRUE),P215,\" 71....+0000000000000000 \"))","v":""},null,""]
[null,{"$f":"IF(I216=\"\",\"\",ROWS($A$3:A216))","v":""},"","","","","","","","",{"$f":"IFERROR(SMALL($B$3:$B$2002,ROWS($A$3:A216)),\"\")","v":""},"","",null,"","","",{"$f":"IF(O216=\"\",\"\",CONCATENATE(\"*11....+\",VLOOKUP(16-(LEN(N216)),'1'!$A$1:$B$16,2,TRUE),N216,\" 81..40+\",VLOOKUP(16-(LEN(O216)),'1'!$A$1:$B$16,2,TRUE),O216,\" 82..40+\",VLOOKUP(16-(LEN(O216)),'1'!$A$1:$B$16,2,TRUE),P216,\" 71....+0000000000000000 \"))","v":""},null,""]
[null,{"$f":"IF(I217=\"\",\"\",ROWS($A$3:A217))","v":""},"","","","","","","","",{"$f":"IFERROR(SMALL($B$3:$B$2002,ROWS($A$3:A217)),\"\")","v":""},"","",null,"","","",{"$f":"IF(O217=\"\",\"\",CONCATENATE(\"*11....+\",VLOOKUP(16-(LEN(N217)),'1'!$A$1:$B$16,2,TRUE),N217,\" 81..40+\",VLOOKUP(16-(LEN(O217)),'1'!$A$1:$B$16,2,TRUE),O217,\" 82..40+\",VLOOKUP(16-(LEN(O217)),'1'!$A$1:$B$16,2,TRUE),P217,\" 71....+0000000000000000 \"))","v":""},null,""]
[null,{"$f":"IF(I218=\"\",\"\",ROWS($A$3:A218))","v":""},"","","","","","","","",{"$f":"IFERROR(SMALL($B$3:$B$2002,ROWS($A$3:A218)),\"\")","v":""},"","",null,"","","",{"$f":"IF(O218=\"\",\"\",CONCATENATE(\"*11....+\",VLOOKUP(16-(LEN(N218)),'1'!$A$1:$B$16,2,TRUE),N218,\" 81..40+\",VLOOKUP(16-(LEN(O218)),'1'!$A$1:$B$16,2,TRUE),O218,\" 82..40+\",VLOOKUP(16-(LEN(O218)),'1'!$A$1:$B$16,2,TRUE),P218,\" 71....+0000000000000000 \"))","v":""},null,""]
[null,{"$f":"IF(I219=\"\",\"\",ROWS($A$3:A219))","v":""},"","","","","","","","",{"$f":"IFERROR(SMALL($B$3:$B$2002,ROWS($A$3:A219)),\"\")","v":""},"","",null,"","","",{"$f":"IF(O219=\"\",\"\",CONCATENATE(\"*11....+\",VLOOKUP(16-(LEN(N219)),'1'!$A$1:$B$16,2,TRUE),N219,\" 81..40+\",VLOOKUP(16-(LEN(O219)),'1'!$A$1:$B$16,2,TRUE),O219,\" 82..40+\",VLOOKUP(16-(LEN(O219)),'1'!$A$1:$B$16,2,TRUE),P219,\" 71....+0000000000000000 \"))","v":""},null,""]
[null,{"$f":"IF(I220=\"\",\"\",ROWS($A$3:A220))","v":""},"","","","","","","","",{"$f":"IFERROR(SMALL($B$3:$B$2002,ROWS($A$3:A220)),\"\")","v":""},"","",null,"","","",{"$f":"IF(O220=\"\",\"\",CONCATENATE(\"*11....+\",VLOOKUP(16-(LEN(N220)),'1'!$A$1:$B$16,2,TRUE),N220,\" 81..40+\",VLOOKUP(16-(LEN(O220)),'1'!$A$1:$B$16,2,TRUE),O220,\" 82..40+\",VLOOKUP(16-(LEN(O220)),'1'!$A$1:$B$16,2,TRUE),P220,\" 71....+0000000000000000 \"))","v":""},null,""]
[null,{"$f":"IF(I221=\"\",\"\",ROWS($A$3:A221))","v":""},"","","","","","","","",{"$f":"IFERROR(SMALL($B$3:$B$2002,ROWS($A$3:A221)),\"\")","v":""},"","",null,"","","",{"$f":"IF(O221=\"\",\"\",CONCATENATE(\"*11....+\",VLOOKUP(16-(LEN(N221)),'1'!$A$1:$B$16,2,TRUE),N221,\" 81..40+\",VLOOKUP(16-(LEN(O221)),'1'!$A$1:$B$16,2,TRUE),O221,\" 82..40+\",VLOOKUP(16-(LEN(O221)),'1'!$A$1:$B$16,2,TRUE),P221,\" 71....+0000000000000000 \"))","v":""},null,""]
[null,{"$f":"IF(I222=\"\",\"\",ROWS($A$3:A222))","v":""},"","","","","","","","",{"$f":"IFERROR(SMALL($B$3:$B$2002,ROWS($A$3:A222)),\"\")","v":""},"","",null,"","","",{"$f":"IF(O222=\"\",\"\",CONCATENATE(\"*11....+\",VLOOKUP(16-(LEN(N222)),'1'!$A$1:$B$16,2,TRUE),N222,\" 81..40+\",VLOOKUP(16-(LEN(O222)),'1'!$A$1:$B$16,2,TRUE),O222,\" 82..40+\",VLOOKUP(16-(LEN(O222)),'1'!$A$1:$B$16,2,TRUE),P222,\" 71....+0000000000000000 \"))","v":""},null,""]
[null,{"$f":"IF(I223=\"\",\"\",ROWS($A$3:A223))","v":""},"","","","","","","","",{"$f":"IFERROR(SMALL($B$3:$B$2002,ROWS($A$3:A223)),\"\")","v":""},"","",null,"","","",{"$f":"IF(O223=\"\",\"\",CONCATENATE(\"*11....+\",VLOOKUP(16-(LEN(N223)),'1'!$A$1:$B$16,2,TRUE),N223,\" 81..40+\",VLOOKUP(16-(LEN(O223)),'1'!$A$1:$B$16,2,TRUE),O223,\" 82..40+\",VLOOKUP(16-(LEN(O223)),'1'!$A$1:$B$16,2,TRUE),P223,\" 71....+0000000000000000 \"))","v":""},null,""]
[null,{"$f":"IF(I224=\"\",\"\",ROWS($A$3:A224))","v":""},"","","","","","","","",{"$f":"IFERROR(SMALL($B$3:$B$2002,ROWS($A$3:A224)),\"\")","v":""},"","",null,"","","",{"$f":"IF(O224=\"\",\"\",CONCATENATE(\"*11....+\",VLOOKUP(16-(LEN(N224)),'1'!$A$1:$B$16,2,TRUE),N224,\" 81..40+\",VLOOKUP(16-(LEN(O224)),'1'!$A$1:$B$16,2,TRUE),O224,\" 82..40+\",VLOOKUP(16-(LEN(O224)),'1'!$A$1:$B$16,2,TRUE),P224,\" 71....+0000000000000000 \"))","v":""},null,""]
[null,{"$f":"IF(I225=\"\",\"\",ROWS($A$3:A225))","v":""},"","","","","","","","",{"$f":"IFERROR(SMALL($B$3:$B$2002,ROWS($A$3:A225)),\"\")","v":""},"","",null,"","","",{"$f":"IF(O225=\"\",\"\",CONCATENATE(\"*11....+\",VLOOKUP(16-(LEN(N225)),'1'!$A$1:$B$16,2,TRUE),N225,\" 81..40+\",VLOOKUP(16-(LEN(O225)),'1'!$A$1:$B$16,2,TRUE),O225,\" 82..40+\",VLOOKUP(16-(LEN(O225)),'1'!$A$1:$B$16,2,TRUE),P225,\" 71....+0000000000000000 \"))","v":""},null,""]
[null,{"$f":"IF(I226=\"\",\"\",ROWS($A$3:A226))","v":""},"","","","","","","","",{"$f":"IFERROR(SMALL($B$3:$B$2002,ROWS($A$3:A226)),\"\")","v":""},"","",null,"","","",{"$f":"IF(O226=\"\",\"\",CONCATENATE(\"*11....+\",VLOOKUP(16-(LEN(N226)),'1'!$A$1:$B$16,2,TRUE),N226,\" 81..40+\",VLOOKUP(16-(LEN(O226)),'1'!$A$1:$B$16,2,TRUE),O226,\" 82..40+\",VLOOKUP(16-(LEN(O226)),'1'!$A$1:$B$16,2,TRUE),P226,\" 71....+0000000000000000 \"))","v":""},null,""]
[null,{"$f":"IF(I227=\"\",\"\",ROWS($A$3:A227))","v":""},"","","","","","","","",{"$f":"IFERROR(SMALL($B$3:$B$2002,ROWS($A$3:A227)),\"\")","v":""},"","",null,"","","",{"$f":"IF(O227=\"\",\"\",CONCATENATE(\"*11....+\",VLOOKUP(16-(LEN(N227)),'1'!$A$1:$B$16,2,TRUE),N227,\" 81..40+\",VLOOKUP(16-(LEN(O227)),'1'!$A$1:$B$16,2,TRUE),O227,\" 82..40+\",VLOOKUP(16-(LEN(O227)),'1'!$A$1:$B$16,2,TRUE),P227,\" 71....+0000000000000000 \"))","v":""},null,""]
[null,{"$f":"IF(I228=\"\",\"\",ROWS($A$3:A228))","v":""},"","","","","","","","",{"$f":"IFERROR(SMALL($B$3:$B$2002,ROWS($A$3:A228)),\"\")","v":""},"","",null,"","","",{"$f":"IF(O228=\"\",\"\",CONCATENATE(\"*11....+\",VLOOKUP(16-(LEN(N228)),'1'!$A$1:$B$16,2,TRUE),N228,\" 81..40+\",VLOOKUP(16-(LEN(O228)),'1'!$A$1:$B$16,2,TRUE),O228,\" 82..40+\",VLOOKUP(16-(LEN(O228)),'1'!$A$1:$B$16,2,TRUE),P228,\" 71....+0000000000000000 \"))","v":""},null,""]
[null,{"$f":"IF(I229=\"\",\"\",ROWS($A$3:A229))","v":""},"","","","","","","","",{"$f":"IFERROR(SMALL($B$3:$B$2002,ROWS($A$3:A229)),\"\")","v":""},"","",null,"","","",{"$f":"IF(O229=\"\",\"\",CONCATENATE(\"*11....+\",VLOOKUP(16-(LEN(N229)),'1'!$A$1:$B$16,2,TRUE),N229,\" 81..40+\",VLOOKUP(16-(LEN(O229)),'1'!$A$1:$B$16,2,TRUE),O229,\" 82..40+\",VLOOKUP(16-(LEN(O229)),'1'!$A$1:$B$16,2,TRUE),P229,\" 71....+0000000000000000 \"))","v":""},null,""]
[null,{"$f":"IF(I230=\"\",\"\",ROWS($A$3:A230))","v":""},"","","","","","","","",{"$f":"IFERROR(SMALL($B$3:$B$2002,ROWS($A$3:A230)),\"\")","v":""},"","",null,"","","",{"$f":"IF(O230=\"\",\"\",CONCATENATE(\"*11....+\",VLOOKUP(16-(LEN(N230)),'1'!$A$1:$B$16,2,TRUE),N230,\" 81..40+\",VLOOKUP(16-(LEN(O230)),'1'!$A$1:$B$16,2,TRUE),O230,\" 82..40+\",VLOOKUP(16-(LEN(O230)),'1'!$A$1:$B$16,2,TRUE),P230,\" 71....+0000000000000000 \"))","v":""},null,""]
[null,{"$f":"IF(I231=\"\",\"\",ROWS($A$3:A231))","v":""},"","","","","","","","",{"$f":"IFERROR(SMALL($B$3:$B$2002,ROWS($A$3:A231)),\"\")","v":""},"","",null,"","","",{"$f":"IF(O231=\"\",\"\",CONCATENATE(\"*11....+\",VLOOKUP(16-(LEN(N231)),'1'!$A$1:$B$16,2,TRUE),N231,\" 81..40+\",VLOOKUP(16-(LEN(O231)),'1'!$A$1:$B$16,2,TRUE),O231,\" 82..40+\",VLOOKUP(16-(LEN(O231)),'1'!$A$1:$B$16,2,TRUE),P231,\" 71....+0000000000000000 \"))","v":""},null,""]
[null,{"$f":"IF(I232=\"\",\"\",ROWS($A$3:A232))","v":""},"","","","","","","","",{"$f":"IFERROR(SMALL($B$3:$B$2002,ROWS($A$3:A232)),\"\")","v":""},"","",null,"","","",{"$f":"IF(O232=\"\",\"\",CONCATENATE(\"*11....+\",VLOOKUP(16-(LEN(N232)),'1'!$A$1:$B$16,2,TRUE),N232,\" 81..40+\",VLOOKUP(16-(LEN(O232)),'1'!$A$1:$B$16,2,TRUE),O232,\" 82..40+\",VLOOKUP(16-(LEN(O232)),'1'!$A$1:$B$16,2,TRUE),P232,\" 71....+0000000000000000 \"))","v":""},null,""]
[null,{"$f":"IF(I233=\"\",\"\",ROWS($A$3:A233))","v":""},"","","","","","","","",{"$f":"IFERROR(SMALL($B$3:$B$2002,ROWS($A$3:A233)),\"\")","v":""},"","",null,"","","",{"$f":"IF(O233=\"\",\"\",CONCATENATE(\"*11....+\",VLOOKUP(16-(LEN(N233)),'1'!$A$1:$B$16,2,TRUE),N233,\" 81..40+\",VLOOKUP(16-(LEN(O233)),'1'!$A$1:$B$16,2,TRUE),O233,\" 82..40+\",VLOOKUP(16-(LEN(O233)),'1'!$A$1:$B$16,2,TRUE),P233,\" 71....+0000000000000000 \"))","v":""},null,""]
[null,{"$f":"IF(I234=\"\",\"\",ROWS($A$3:A234))","v":""},"","","","","","","","",{"$f":"IFERROR(SMALL($B$3:$B$2002,ROWS($A$3:A234)),\"\")","v":""},"","",null,"","","",{"$f":"IF(O234=\"\",\"\",CONCATENATE(\"*11....+\",VLOOKUP(16-(LEN(N234)),'1'!$A$1:$B$16,2,TRUE),N234,\" 81..40+\",VLOOKUP(16-(LEN(O234)),'1'!$A$1:$B$16,2,TRUE),O234,\" 82..40+\",VLOOKUP(16-(LEN(O234)),'1'!$A$1:$B$16,2,TRUE),P234,\" 71....+0000000000000000 \"))","v":""},null,""]
[null,{"$f":"IF(I235=\"\",\"\",ROWS($A$3:A235))","v":""},"","","","","","","","",{"$f":"IFERROR(SMALL($B$3:$B$2002,ROWS($A$3:A235)),\"\")","v":""},"","",null,"","","",{"$f":"IF(O235=\"\",\"\",CONCATENATE(\"*11....+\",VLOOKUP(16-(LEN(N235)),'1'!$A$1:$B$16,2,TRUE),N235,\" 81..40+\",VLOOKUP(16-(LEN(O235)),'1'!$A$1:$B$16,2,TRUE),O235,\" 82..40+\",VLOOKUP(16-(LEN(O235)),'1'!$A$1:$B$16,2,TRUE),P235,\" 71....+0000000000000000 \"))","v":""},null,""]
[null,{"$f":"IF(I236=\"\",\"\",ROWS($A$3:A236))","v":""},"","","","","","","","",{"$f":"IFERROR(SMALL($B$3:$B$2002,ROWS($A$3:A236)),\"\")","v":""},"","",null,"","","",{"$f":"IF(O236=\"\",\"\",CONCATENATE(\"*11....+\",VLOOKUP(16-(LEN(N236)),'1'!$A$1:$B$16,2,TRUE),N236,\" 81..40+\",VLOOKUP(16-(LEN(O236)),'1'!$A$1:$B$16,2,TRUE),O236,\" 82..40+\",VLOOKUP(16-(LEN(O236)),'1'!$A$1:$B$16,2,TRUE),P236,\" 71....+0000000000000000 \"))","v":""},null,""]
[null,{"$f":"IF(I237=\"\",\"\",ROWS($A$3:A237))","v":""},"","","","","","","","",{"$f":"IFERROR(SMALL($B$3:$B$2002,ROWS($A$3:A237)),\"\")","v":""},"","",null,"","","",{"$f":"IF(O237=\"\",\"\",CONCATENATE(\"*11....+\",VLOOKUP(16-(LEN(N237)),'1'!$A$1:$B$16,2,TRUE),N237,\" 81..40+\",VLOOKUP(16-(LEN(O237)),'1'!$A$1:$B$16,2,TRUE),O237,\" 82..40+\",VLOOKUP(16-(LEN(O237)),'1'!$A$1:$B$16,2,TRUE),P237,\" 71....+0000000000000000 \"))","v":""},null,""]
[null,{"$f":"IF(I238=\"\",\"\",ROWS($A$3:A238))","v":""},"","","","","","","","",{"$f":"IFERROR(SMALL($B$3:$B$2002,ROWS($A$3:A238)),\"\")","v":""},"","",null,"","","",{"$f":"IF(O238=\"\",\"\",CONCATENATE(\"*11....+\",VLOOKUP(16-(LEN(N238)),'1'!$A$1:$B$16,2,TRUE),N238,\" 81..40+\",VLOOKUP(16-(LEN(O238)),'1'!$A$1:$B$16,2,TRUE),O238,\" 82..40+\",VLOOKUP(16-(LEN(O238)),'1'!$A$1:$B$16,2,TRUE),P238,\" 71....+0000000000000000 \"))","v":""},null,""]
[null,{"$f":"IF(I239=\"\",\"\",ROWS($A$3:A239))","v":""},"","","","","","","","",{"$f":"IFERROR(SMALL($B$3:$B$2002,ROWS($A$3:A239)),\"\")","v":""},"","",null,"","","",{"$f":"IF(O239=\"\",\"\",CONCATENATE(\"*11....+\",VLOOKUP(16-(LEN(N239)),'1'!$A$1:$B$16,2,TRUE),N239,\" 81..40+\",VLOOKUP(16-(LEN(O239)),'1'!$A$1:$B$16,2,TRUE),O239,\" 82..40+\",VLOOKUP(16-(LEN(O239)),'1'!$A$1:$B$16,2,TRUE),P239,\" 71....+0000000000000000 \"))","v":""},null,""]
[null,{"$f":"IF(I240=\"\",\"\",ROWS($A$3:A240))","v":""},"","","","","","","","",{"$f":"IFERROR(SMALL($B$3:$B$2002,ROWS($A$3:A240)),\"\")","v":""},"","",null,"","","",{"$f":"IF(O240=\"\",\"\",CONCATENATE(\"*11....+\",VLOOKUP(16-(LEN(N240)),'1'!$A$1:$B$16,2,TRUE),N240,\" 81..40+\",VLOOKUP(16-(LEN(O240)),'1'!$A$1:$B$16,2,TRUE),O240,\" 82..40+\",VLOOKUP(16-(LEN(O240)),'1'!$A$1:$B$16,2,TRUE),P240,\" 71....+0000000000000000 \"))","v":""},null,""]
[null,{"$f":"IF(I241=\"\",\"\",ROWS($A$3:A241))","v":""},"","","","","","","","",{"$f":"IFERROR(SMALL($B$3:$B$2002,ROWS($A$3:A241)),\"\")","v":""},"","",null,"","","",{"$f":"IF(O241=\"\",\"\",CONCATENATE(\"*11....+\",VLOOKUP(16-(LEN(N241)),'1'!$A$1:$B$16,2,TRUE),N241,\" 81..40+\",VLOOKUP(16-(LEN(O241)),'1'!$A$1:$B$16,2,TRUE),O241,\" 82..40+\",VLOOKUP(16-(LEN(O241)),'1'!$A$1:$B$16,2,TRUE),P241,\" 71....+0000000000000000 \"))","v":""},null,""]
[null,{"$f":"IF(I242=\"\",\"\",ROWS($A$3:A242))","v":""},"","","","","","","","",{"$f":"IFERROR(SMALL($B$3:$B$2002,ROWS($A$3:A242)),\"\")","v":""},"","",null,"","","",{"$f":"IF(O242=\"\",\"\",CONCATENATE(\"*11....+\",VLOOKUP(16-(LEN(N242)),'1'!$A$1:$B$16,2,TRUE),N242,\" 81..40+\",VLOOKUP(16-(LEN(O242)),'1'!$A$1:$B$16,2,TRUE),O242,\" 82..40+\",VLOOKUP(16-(LEN(O242)),'1'!$A$1:$B$16,2,TRUE),P242,\" 71....+0000000000000000 \"))","v":""},null,""]
[null,{"$f":"IF(I243=\"\",\"\",ROWS($A$3:A243))","v":""},"","","","","","","","",{"$f":"IFERROR(SMALL($B$3:$B$2002,ROWS($A$3:A243)),\"\")","v":""},"","",null,"","","",{"$f":"IF(O243=\"\",\"\",CONCATENATE(\"*11....+\",VLOOKUP(16-(LEN(N243)),'1'!$A$1:$B$16,2,TRUE),N243,\" 81..40+\",VLOOKUP(16-(LEN(O243)),'1'!$A$1:$B$16,2,TRUE),O243,\" 82..40+\",VLOOKUP(16-(LEN(O243)),'1'!$A$1:$B$16,2,TRUE),P243,\" 71....+0000000000000000 \"))","v":""},null,""]
[null,{"$f":"IF(I244=\"\",\"\",ROWS($A$3:A244))","v":""},"","","","","","","","",{"$f":"IFERROR(SMALL($B$3:$B$2002,ROWS($A$3:A244)),\"\")","v":""},"","",null,"","","",{"$f":"IF(O244=\"\",\"\",CONCATENATE(\"*11....+\",VLOOKUP(16-(LEN(N244)),'1'!$A$1:$B$16,2,TRUE),N244,\" 81..40+\",VLOOKUP(16-(LEN(O244)),'1'!$A$1:$B$16,2,TRUE),O244,\" 82..40+\",VLOOKUP(16-(LEN(O244)),'1'!$A$1:$B$16,2,TRUE),P244,\" 71....+0000000000000000 \"))","v":""},null,""]
[null,{"$f":"IF(I245=\"\",\"\",ROWS($A$3:A245))","v":""},"","","","","","","","",{"$f":"IFERROR(SMALL($B$3:$B$2002,ROWS($A$3:A245)),\"\")","v":""},"","",null,"","","",{"$f":"IF(O245=\"\",\"\",CONCATENATE(\"*11....+\",VLOOKUP(16-(LEN(N245)),'1'!$A$1:$B$16,2,TRUE),N245,\" 81..40+\",VLOOKUP(16-(LEN(O245)),'1'!$A$1:$B$16,2,TRUE),O245,\" 82..40+\",VLOOKUP(16-(LEN(O245)),'1'!$A$1:$B$16,2,TRUE),P245,\" 71....+0000000000000000 \"))","v":""},null,""]
[null,{"$f":"IF(I246=\"\",\"\",ROWS($A$3:A246))","v":""},"","","","","","","","",{"$f":"IFERROR(SMALL($B$3:$B$2002,ROWS($A$3:A246)),\"\")","v":""},"","",null,"","","",{"$f":"IF(O246=\"\",\"\",CONCATENATE(\"*11....+\",VLOOKUP(16-(LEN(N246)),'1'!$A$1:$B$16,2,TRUE),N246,\" 81..40+\",VLOOKUP(16-(LEN(O246)),'1'!$A$1:$B$16,2,TRUE),O246,\" 82..40+\",VLOOKUP(16-(LEN(O246)),'1'!$A$1:$B$16,2,TRUE),P246,\" 71....+0000000000000000 \"))","v":""},null,""]
[null,{"$f":"IF(I247=\"\",\"\",ROWS($A$3:A247))","v":""},"","","","","","","","",{"$f":"IFERROR(SMALL($B$3:$B$2002,ROWS($A$3:A247)),\"\")","v":""},"","",null,"","","",{"$f":"IF(O247=\"\",\"\",CONCATENATE(\"*11....+\",VLOOKUP(16-(LEN(N247)),'1'!$A$1:$B$16,2,TRUE),N247,\" 81..40+\",VLOOKUP(16-(LEN(O247)),'1'!$A$1:$B$16,2,TRUE),O247,\" 82..40+\",VLOOKUP(16-(LEN(O247)),'1'!$A$1:$B$16,2,TRUE),P247,\" 71....+0000000000000000 \"))","v":""},null,""]
[null,{"$f":"IF(I248=\"\",\"\",ROWS($A$3:A248))","v":""},"","","","","","","","",{"$f":"IFERROR(SMALL($B$3:$B$2002,ROWS($A$3:A248)),\"\")","v":""},"","",null,"","","",{"$f":"IF(O248=\"\",\"\",CONCATENATE(\"*11....+\",VLOOKUP(16-(LEN(N248)),'1'!$A$1:$B$16,2,TRUE),N248,\" 81..40+\",VLOOKUP(16-(LEN(O248)),'1'!$A$1:$B$16,2,TRUE),O248,\" 82..40+\",VLOOKUP(16-(LEN(O248)),'1'!$A$1:$B$16,2,TRUE),P248,\" 71....+0000000000000000 \"))","v":""},null,""]
[null,{"$f":"IF(I249=\"\",\"\",ROWS($A$3:A249))","v":""},"","","","","","","","",{"$f":"IFERROR(SMALL($B$3:$B$2002,ROWS($A$3:A249)),\"\")","v":""},"","",null,"","","",{"$f":"IF(O249=\"\",\"\",CONCATENATE(\"*11....+\",VLOOKUP(16-(LEN(N249)),'1'!$A$1:$B$16,2,TRUE),N249,\" 81..40+\",VLOOKUP(16-(LEN(O249)),'1'!$A$1:$B$16,2,TRUE),O249,\" 82..40+\",VLOOKUP(16-(LEN(O249)),'1'!$A$1:$B$16,2,TRUE),P249,\" 71....+0000000000000000 \"))","v":""},null,""]
[null,{"$f":"IF(I250=\"\",\"\",ROWS($A$3:A250))","v":""},"","","","","","","","",{"$f":"IFERROR(SMALL($B$3:$B$2002,ROWS($A$3:A250)),\"\")","v":""},"","",null,"","","",{"$f":"IF(O250=\"\",\"\",CONCATENATE(\"*11....+\",VLOOKUP(16-(LEN(N250)),'1'!$A$1:$B$16,2,TRUE),N250,\" 81..40+\",VLOOKUP(16-(LEN(O250)),'1'!$A$1:$B$16,2,TRUE),O250,\" 82..40+\",VLOOKUP(16-(LEN(O250)),'1'!$A$1:$B$16,2,TRUE),P250,\" 71....+0000000000000000 \"))","v":""},null,""]
[null,{"$f":"IF(I251=\"\",\"\",ROWS($A$3:A251))","v":""},"","","","","","","","",{"$f":"IFERROR(SMALL($B$3:$B$2002,ROWS($A$3:A251)),\"\")","v":""},"","",null,"","","",{"$f":"IF(O251=\"\",\"\",CONCATENATE(\"*11....+\",VLOOKUP(16-(LEN(N251)),'1'!$A$1:$B$16,2,TRUE),N251,\" 81..40+\",VLOOKUP(16-(LEN(O251)),'1'!$A$1:$B$16,2,TRUE),O251,\" 82..40+\",VLOOKUP(16-(LEN(O251)),'1'!$A$1:$B$16,2,TRUE),P251,\" 71....+0000000000000000 \"))","v":""},null,""]
[null,{"$f":"IF(I252=\"\",\"\",ROWS($A$3:A252))","v":""},"","","","","","","","",{"$f":"IFERROR(SMALL($B$3:$B$2002,ROWS($A$3:A252)),\"\")","v":""},"","",null,"","","",{"$f":"IF(O252=\"\",\"\",CONCATENATE(\"*11....+\",VLOOKUP(16-(LEN(N252)),'1'!$A$1:$B$16,2,TRUE),N252,\" 81..40+\",VLOOKUP(16-(LEN(O252)),'1'!$A$1:$B$16,2,TRUE),O252,\" 82..40+\",VLOOKUP(16-(LEN(O252)),'1'!$A$1:$B$16,2,TRUE),P252,\" 71....+0000000000000000 \"))","v":""},null,""]
[null,{"$f":"IF(I253=\"\",\"\",ROWS($A$3:A253))","v":""},"","","","","","","","",{"$f":"IFERROR(SMALL($B$3:$B$2002,ROWS($A$3:A253)),\"\")","v":""},"","",null,"","","",{"$f":"IF(O253=\"\",\"\",CONCATENATE(\"*11....+\",VLOOKUP(16-(LEN(N253)),'1'!$A$1:$B$16,2,TRUE),N253,\" 81..40+\",VLOOKUP(16-(LEN(O253)),'1'!$A$1:$B$16,2,TRUE),O253,\" 82..40+\",VLOOKUP(16-(LEN(O253)),'1'!$A$1:$B$16,2,TRUE),P253,\" 71....+0000000000000000 \"))","v":""},null,""]
[null,{"$f":"IF(I254=\"\",\"\",ROWS($A$3:A254))","v":""},"","","","","","","","",{"$f":"IFERROR(SMALL($B$3:$B$2002,ROWS($A$3:A254)),\"\")","v":""},"","",null,"","","",{"$f":"IF(O254=\"\",\"\",CONCATENATE(\"*11....+\",VLOOKUP(16-(LEN(N254)),'1'!$A$1:$B$16,2,TRUE),N254,\" 81..40+\",VLOOKUP(16-(LEN(O254)),'1'!$A$1:$B$16,2,TRUE),O254,\" 82..40+\",VLOOKUP(16-(LEN(O254)),'1'!$A$1:$B$16,2,TRUE),P254,\" 71....+0000000000000000 \"))","v":""},null,""]
[null,{"$f":"IF(I255=\"\",\"\",ROWS($A$3:A255))","v":""},"","","","","","","","",{"$f":"IFERROR(SMALL($B$3:$B$2002,ROWS($A$3:A255)),\"\")","v":""},"","",null,"","","",{"$f":"IF(O255=\"\",\"\",CONCATENATE(\"*11....+\",VLOOKUP(16-(LEN(N255)),'1'!$A$1:$B$16,2,TRUE),N255,\" 81..40+\",VLOOKUP(16-(LEN(O255)),'1'!$A$1:$B$16,2,TRUE),O255,\" 82..40+\",VLOOKUP(16-(LEN(O255)),'1'!$A$1:$B$16,2,TRUE),P255,\" 71....+0000000000000000 \"))","v":""},null,""]
[null,{"$f":"IF(I256=\"\",\"\",ROWS($A$3:A256))","v":""},"","","","","","","","",{"$f":"IFERROR(SMALL($B$3:$B$2002,ROWS($A$3:A256)),\"\")","v":""},"","",null,"","","",{"$f":"IF(O256=\"\",\"\",CONCATENATE(\"*11....+\",VLOOKUP(16-(LEN(N256)),'1'!$A$1:$B$16,2,TRUE),N256,\" 81..40+\",VLOOKUP(16-(LEN(O256)),'1'!$A$1:$B$16,2,TRUE),O256,\" 82..40+\",VLOOKUP(16-(LEN(O256)),'1'!$A$1:$B$16,2,TRUE),P256,\" 71....+0000000000000000 \"))","v":""},null,""]
[null,{"$f":"IF(I257=\"\",\"\",ROWS($A$3:A257))","v":""},"","","","","","","","",{"$f":"IFERROR(SMALL($B$3:$B$2002,ROWS($A$3:A257)),\"\")","v":""},"","",null,"","","",{"$f":"IF(O257=\"\",\"\",CONCATENATE(\"*11....+\",VLOOKUP(16-(LEN(N257)),'1'!$A$1:$B$16,2,TRUE),N257,\" 81..40+\",VLOOKUP(16-(LEN(O257)),'1'!$A$1:$B$16,2,TRUE),O257,\" 82..40+\",VLOOKUP(16-(LEN(O257)),'1'!$A$1:$B$16,2,TRUE),P257,\" 71....+0000000000000000 \"))","v":""},null,""]
[null,{"$f":"IF(I258=\"\",\"\",ROWS($A$3:A258))","v":""},"","","","","","","","",{"$f":"IFERROR(SMALL($B$3:$B$2002,ROWS($A$3:A258)),\"\")","v":""},"","",null,"","","",{"$f":"IF(O258=\"\",\"\",CONCATENATE(\"*11....+\",VLOOKUP(16-(LEN(N258)),'1'!$A$1:$B$16,2,TRUE),N258,\" 81..40+\",VLOOKUP(16-(LEN(O258)),'1'!$A$1:$B$16,2,TRUE),O258,\" 82..40+\",VLOOKUP(16-(LEN(O258)),'1'!$A$1:$B$16,2,TRUE),P258,\" 71....+0000000000000000 \"))","v":""},null,""]
[null,{"$f":"IF(I259=\"\",\"\",ROWS($A$3:A259))","v":""},"","","","","","","","",{"$f":"IFERROR(SMALL($B$3:$B$2002,ROWS($A$3:A259)),\"\")","v":""},"","",null,"","","",{"$f":"IF(O259=\"\",\"\",CONCATENATE(\"*11....+\",VLOOKUP(16-(LEN(N259)),'1'!$A$1:$B$16,2,TRUE),N259,\" 81..40+\",VLOOKUP(16-(LEN(O259)),'1'!$A$1:$B$16,2,TRUE),O259,\" 82..40+\",VLOOKUP(16-(LEN(O259)),'1'!$A$1:$B$16,2,TRUE),P259,\" 71....+0000000000000000 \"))","v":""},null,""]
[null,{"$f":"IF(I260=\"\",\"\",ROWS($A$3:A260))","v":""},{"$f":"IF(LEN(A260)=59,ROUND(VALUE(MID(A260,23,9)),3),\"\")","v":""},{"$f":"IF(LEN(A260)=24,\"\",\"\")","v":""},{"$f":"IF(LEN(A260)=63,ROUND(VALUE(MID(A260,23,12)),3),\"\")","v":""},{"$f":"IF(LEN(A260)=59,ROUND(VALUE(MID(A260,37,9)),3),\"\")","v":""},{"$f":"IF(LEN(A260)=24,\"\",\"\")","v":""},{"$f":"IF(LEN(A260)=63,ROUND(VALUE(MID(A260,39,12)),3),\"\")","v":""},{"$f":"IF(AND(C260=\"\",D260=\"\",E260=\"\"),\"\",ROUND(CONCATENATE(C260,D260,E260),3))","v":""},{"$f":"IF(AND(C260=\"\",D260=\"\",E260=\"\"),\"\",ROUND(CONCATENATE(F260,G260,H260),3))","v":""},{"$f":"IFERROR(SMALL($B$3:$B$2002,ROWS($A$3:A260)),\"\")","v":""},{"$f":"IF(K260=\"\",\"\",ROUND(VALUE(VLOOKUP(K260,$B$3:$J$2002,8,TRUE)),3))","v":""},{"$f":"IF(K260=\"\",\"\",ROUND(VALUE(VLOOKUP(K260,$B$3:$J$2002,9,TRUE)),3))","v":""},null,{"$f":"IF(L260=\"\",\"\",L260/0.001)","v":""},"",{"$f":"IF(O260=\"\",\"\",16-LEN(N260))","v":""},{"$f":"IF(O260=\"\",\"\",CONCATENATE(\"*11....+\",VLOOKUP(16-(LEN(N260)),'1'!$A$1:$B$16,2,TRUE),N260,\" 81..40+\",VLOOKUP(16-(LEN(O260)),'1'!$A$1:$B$16,2,TRUE),O260,\" 82..40+\",VLOOKUP(16-(LEN(O260)),'1'!$A$1:$B$16,2,TRUE),P260,\" 71....+0000000000000000 \"))","v":""},null,{"$f":"IF(O260=\"\",\"\",CONCATENATE(N260,\",\",L260,\",\",M260))","v":""}]
[null,{"$f":"IF(I261=\"\",\"\",ROWS($A$3:A261))","v":""},"","","","","","","","",{"$f":"IFERROR(SMALL($B$3:$B$2002,ROWS($A$3:A261)),\"\")","v":""},"","",null,"","","",{"$f":"IF(O261=\"\",\"\",CONCATENATE(\"*11....+\",VLOOKUP(16-(LEN(N261)),'1'!$A$1:$B$16,2,TRUE),N261,\" 81..40+\",VLOOKUP(16-(LEN(O261)),'1'!$A$1:$B$16,2,TRUE),O261,\" 82..40+\",VLOOKUP(16-(LEN(O261)),'1'!$A$1:$B$16,2,TRUE),P261,\" 71....+0000000000000000 \"))","v":""},null,""]
[null,{"$f":"IF(I262=\"\",\"\",ROWS($A$3:A262))","v":""},"","","","","","","","",{"$f":"IFERROR(SMALL($B$3:$B$2002,ROWS($A$3:A262)),\"\")","v":""},"","",null,"","","",{"$f":"IF(O262=\"\",\"\",CONCATENATE(\"*11....+\",VLOOKUP(16-(LEN(N262)),'1'!$A$1:$B$16,2,TRUE),N262,\" 81..40+\",VLOOKUP(16-(LEN(O262)),'1'!$A$1:$B$16,2,TRUE),O262,\" 82..40+\",VLOOKUP(16-(LEN(O262)),'1'!$A$1:$B$16,2,TRUE),P262,\" 71....+0000000000000000 \"))","v":""},null,""]
[null,{"$f":"IF(I263=\"\",\"\",ROWS($A$3:A263))","v":""},"","","","","","","","",{"$f":"IFERROR(SMALL($B$3:$B$2002,ROWS($A$3:A263)),\"\")","v":""},"","",null,"","","",{"$f":"IF(O263=\"\",\"\",CONCATENATE(\"*11....+\",VLOOKUP(16-(LEN(N263)),'1'!$A$1:$B$16,2,TRUE),N263,\" 81..40+\",VLOOKUP(16-(LEN(O263)),'1'!$A$1:$B$16,2,TRUE),O263,\" 82..40+\",VLOOKUP(16-(LEN(O263)),'1'!$A$1:$B$16,2,TRUE),P263,\" 71....+0000000000000000 \"))","v":""},null,""]
[null,{"$f":"IF(I264=\"\",\"\",ROWS($A$3:A264))","v":""},"","","","","","","","",{"$f":"IFERROR(SMALL($B$3:$B$2002,ROWS($A$3:A264)),\"\")","v":""},"","",null,"","","",{"$f":"IF(O264=\"\",\"\",CONCATENATE(\"*11....+\",VLOOKUP(16-(LEN(N264)),'1'!$A$1:$B$16,2,TRUE),N264,\" 81..40+\",VLOOKUP(16-(LEN(O264)),'1'!$A$1:$B$16,2,TRUE),O264,\" 82..40+\",VLOOKUP(16-(LEN(O264)),'1'!$A$1:$B$16,2,TRUE),P264,\" 71....+0000000000000000 \"))","v":""},null,""]
[null,{"$f":"IF(I265=\"\",\"\",ROWS($A$3:A265))","v":""},"","","","","","","","",{"$f":"IFERROR(SMALL($B$3:$B$2002,ROWS($A$3:A265)),\"\")","v":""},"","",null,"","","",{"$f":"IF(O265=\"\",\"\",CONCATENATE(\"*11....+\",VLOOKUP(16-(LEN(N265)),'1'!$A$1:$B$16,2,TRUE),N265,\" 81..40+\",VLOOKUP(16-(LEN(O265)),'1'!$A$1:$B$16,2,TRUE),O265,\" 82..40+\",VLOOKUP(16-(LEN(O265)),'1'!$A$1:$B$16,2,TRUE),P265,\" 71....+0000000000000000 \"))","v":""},null,""]
[null,{"$f":"IF(I266=\"\",\"\",ROWS($A$3:A266))","v":""},"","","","","","","","",{"$f":"IFERROR(SMALL($B$3:$B$2002,ROWS($A$3:A266)),\"\")","v":""},"","",null,"","","",{"$f":"IF(O266=\"\",\"\",CONCATENATE(\"*11....+\",VLOOKUP(16-(LEN(N266)),'1'!$A$1:$B$16,2,TRUE),N266,\" 81..40+\",VLOOKUP(16-(LEN(O266)),'1'!$A$1:$B$16,2,TRUE),O266,\" 82..40+\",VLOOKUP(16-(LEN(O266)),'1'!$A$1:$B$16,2,TRUE),P266,\" 71....+0000000000000000 \"))","v":""},null,""]
[null,{"$f":"IF(I267=\"\",\"\",ROWS($A$3:A267))","v":""},"","","","","","","","",{"$f":"IFERROR(SMALL($B$3:$B$2002,ROWS($A$3:A267)),\"\")","v":""},"","",null,"","","",{"$f":"IF(O267=\"\",\"\",CONCATENATE(\"*11....+\",VLOOKUP(16-(LEN(N267)),'1'!$A$1:$B$16,2,TRUE),N267,\" 81..40+\",VLOOKUP(16-(LEN(O267)),'1'!$A$1:$B$16,2,TRUE),O267,\" 82..40+\",VLOOKUP(16-(LEN(O267)),'1'!$A$1:$B$16,2,TRUE),P267,\" 71....+0000000000000000 \"))","v":""},null,""]
[null,{"$f":"IF(I268=\"\",\"\",ROWS($A$3:A268))","v":""},"","","","","","","","",{"$f":"IFERROR(SMALL($B$3:$B$2002,ROWS($A$3:A268)),\"\")","v":""},"","",null,"","","",{"$f":"IF(O268=\"\",\"\",CONCATENATE(\"*11....+\",VLOOKUP(16-(LEN(N268)),'1'!$A$1:$B$16,2,TRUE),N268,\" 81..40+\",VLOOKUP(16-(LEN(O268)),'1'!$A$1:$B$16,2,TRUE),O268,\" 82..40+\",VLOOKUP(16-(LEN(O268)),'1'!$A$1:$B$16,2,TRUE),P268,\" 71....+0000000000000000 \"))","v":""},null,""]
[null,{"$f":"IF(I269=\"\",\"\",ROWS($A$3:A269))","v":""},"","","","","","","","",{"$f":"IFERROR(SMALL($B$3:$B$2002,ROWS($A$3:A269)),\"\")","v":""},"","",null,"","","",{"$f":"IF(O269=\"\",\"\",CONCATENATE(\"*11....+\",VLOOKUP(16-(LEN(N269)),'1'!$A$1:$B$16,2,TRUE),N269,\" 81..40+\",VLOOKUP(16-(LEN(O269)),'1'!$A$1:$B$16,2,TRUE),O269,\" 82..40+\",VLOOKUP(16-(LEN(O269)),'1'!$A$1:$B$16,2,TRUE),P269,\" 71....+0000000000000000 \"))","v":""},null,""]
[null,{"$f":"IF(I270=\"\",\"\",ROWS($A$3:A270))","v":""},"","","","","","","","",{"$f":"IFERROR(SMALL($B$3:$B$2002,ROWS($A$3:A270)),\"\")","v":""},"","",null,"","","",{"$f":"IF(O270=\"\",\"\",CONCATENATE(\"*11....+\",VLOOKUP(16-(LEN(N270)),'1'!$A$1:$B$16,2,TRUE),N270,\" 81..40+\",VLOOKUP(16-(LEN(O270)),'1'!$A$1:$B$16,2,TRUE),O270,\" 82..40+\",VLOOKUP(16-(LEN(O270)),'1'!$A$1:$B$16,2,TRUE),P270,\" 71....+0000000000000000 \"))","v":""},null,""]
[null,{"$f":"IF(I271=\"\",\"\",ROWS($A$3:A271))","v":""},"","","","","","","","",{"$f":"IFERROR(SMALL($B$3:$B$2002,ROWS($A$3:A271)),\"\")","v":""},"","",null,"","","",{"$f":"IF(O271=\"\",\"\",CONCATENATE(\"*11....+\",VLOOKUP(16-(LEN(N271)),'1'!$A$1:$B$16,2,TRUE),N271,\" 81..40+\",VLOOKUP(16-(LEN(O271)),'1'!$A$1:$B$16,2,TRUE),O271,\" 82..40+\",VLOOKUP(16-(LEN(O271)),'1'!$A$1:$B$16,2,TRUE),P271,\" 71....+0000000000000000 \"))","v":""},null,""]
[null,{"$f":"IF(I272=\"\",\"\",ROWS($A$3:A272))","v":""},"","","","","","","","",{"$f":"IFERROR(SMALL($B$3:$B$2002,ROWS($A$3:A272)),\"\")","v":""},"","",null,"","","",{"$f":"IF(O272=\"\",\"\",CONCATENATE(\"*11....+\",VLOOKUP(16-(LEN(N272)),'1'!$A$1:$B$16,2,TRUE),N272,\" 81..40+\",VLOOKUP(16-(LEN(O272)),'1'!$A$1:$B$16,2,TRUE),O272,\" 82..40+\",VLOOKUP(16-(LEN(O272)),'1'!$A$1:$B$16,2,TRUE),P272,\" 71....+0000000000000000 \"))","v":""},null,""]
[null,{"$f":"IF(I273=\"\",\"\",ROWS($A$3:A273))","v":""},"","","","","","","","",{"$f":"IFERROR(SMALL($B$3:$B$2002,ROWS($A$3:A273)),\"\")","v":""},"","",null,"","","",{"$f":"IF(O273=\"\",\"\",CONCATENATE(\"*11....+\",VLOOKUP(16-(LEN(N273)),'1'!$A$1:$B$16,2,TRUE),N273,\" 81..40+\",VLOOKUP(16-(LEN(O273)),'1'!$A$1:$B$16,2,TRUE),O273,\" 82..40+\",VLOOKUP(16-(LEN(O273)),'1'!$A$1:$B$16,2,TRUE),P273,\" 71....+0000000000000000 \"))","v":""},null,""]
[null,{"$f":"IF(I274=\"\",\"\",ROWS($A$3:A274))","v":""},"","","","","","","","",{"$f":"IFERROR(SMALL($B$3:$B$2002,ROWS($A$3:A274)),\"\")","v":""},"","",null,"","","",{"$f":"IF(O274=\"\",\"\",CONCATENATE(\"*11....+\",VLOOKUP(16-(LEN(N274)),'1'!$A$1:$B$16,2,TRUE),N274,\" 81..40+\",VLOOKUP(16-(LEN(O274)),'1'!$A$1:$B$16,2,TRUE),O274,\" 82..40+\",VLOOKUP(16-(LEN(O274)),'1'!$A$1:$B$16,2,TRUE),P274,\" 71....+0000000000000000 \"))","v":""},null,""]
[null,{"$f":"IF(I275=\"\",\"\",ROWS($A$3:A275))","v":""},"","","","","","","","",{"$f":"IFERROR(SMALL($B$3:$B$2002,ROWS($A$3:A275)),\"\")","v":""},"","",null,"","","",{"$f":"IF(O275=\"\",\"\",CONCATENATE(\"*11....+\",VLOOKUP(16-(LEN(N275)),'1'!$A$1:$B$16,2,TRUE),N275,\" 81..40+\",VLOOKUP(16-(LEN(O275)),'1'!$A$1:$B$16,2,TRUE),O275,\" 82..40+\",VLOOKUP(16-(LEN(O275)),'1'!$A$1:$B$16,2,TRUE),P275,\" 71....+0000000000000000 \"))","v":""},null,""]
[null,{"$f":"IF(I276=\"\",\"\",ROWS($A$3:A276))","v":""},"","","","","","","","",{"$f":"IFERROR(SMALL($B$3:$B$2002,ROWS($A$3:A276)),\"\")","v":""},"","",null,"","","",{"$f":"IF(O276=\"\",\"\",CONCATENATE(\"*11....+\",VLOOKUP(16-(LEN(N276)),'1'!$A$1:$B$16,2,TRUE),N276,\" 81..40+\",VLOOKUP(16-(LEN(O276)),'1'!$A$1:$B$16,2,TRUE),O276,\" 82..40+\",VLOOKUP(16-(LEN(O276)),'1'!$A$1:$B$16,2,TRUE),P276,\" 71....+0000000000000000 \"))","v":""},null,""]
[null,{"$f":"IF(I277=\"\",\"\",ROWS($A$3:A277))","v":""},"","","","","","","","",{"$f":"IFERROR(SMALL($B$3:$B$2002,ROWS($A$3:A277)),\"\")","v":""},"","",null,"","","",{"$f":"IF(O277=\"\",\"\",CONCATENATE(\"*11....+\",VLOOKUP(16-(LEN(N277)),'1'!$A$1:$B$16,2,TRUE),N277,\" 81..40+\",VLOOKUP(16-(LEN(O277)),'1'!$A$1:$B$16,2,TRUE),O277,\" 82..40+\",VLOOKUP(16-(LEN(O277)),'1'!$A$1:$B$16,2,TRUE),P277,\" 71....+0000000000000000 \"))","v":""},null,""]
[null,{"$f":"IF(I278=\"\",\"\",ROWS($A$3:A278))","v":""},"","","","","","","","",{"$f":"IFERROR(SMALL($B$3:$B$2002,ROWS($A$3:A278)),\"\")","v":""},"","",null,"","","",{"$f":"IF(O278=\"\",\"\",CONCATENATE(\"*11....+\",VLOOKUP(16-(LEN(N278)),'1'!$A$1:$B$16,2,TRUE),N278,\" 81..40+\",VLOOKUP(16-(LEN(O278)),'1'!$A$1:$B$16,2,TRUE),O278,\" 82..40+\",VLOOKUP(16-(LEN(O278)),'1'!$A$1:$B$16,2,TRUE),P278,\" 71....+0000000000000000 \"))","v":""},null,""]
[null,{"$f":"IF(I279=\"\",\"\",ROWS($A$3:A279))","v":""},"","","","","","","","",{"$f":"IFERROR(SMALL($B$3:$B$2002,ROWS($A$3:A279)),\"\")","v":""},"","",null,"","","",{"$f":"IF(O279=\"\",\"\",CONCATENATE(\"*11....+\",VLOOKUP(16-(LEN(N279)),'1'!$A$1:$B$16,2,TRUE),N279,\" 81..40+\",VLOOKUP(16-(LEN(O279)),'1'!$A$1:$B$16,2,TRUE),O279,\" 82..40+\",VLOOKUP(16-(LEN(O279)),'1'!$A$1:$B$16,2,TRUE),P279,\" 71....+0000000000000000 \"))","v":""},null,""]
[null,{"$f":"IF(I280=\"\",\"\",ROWS($A$3:A280))","v":""},"","","","","","","","",{"$f":"IFERROR(SMALL($B$3:$B$2002,ROWS($A$3:A280)),\"\")","v":""},"","",null,"","","",{"$f":"IF(O280=\"\",\"\",CONCATENATE(\"*11....+\",VLOOKUP(16-(LEN(N280)),'1'!$A$1:$B$16,2,TRUE),N280,\" 81..40+\",VLOOKUP(16-(LEN(O280)),'1'!$A$1:$B$16,2,TRUE),O280,\" 82..40+\",VLOOKUP(16-(LEN(O280)),'1'!$A$1:$B$16,2,TRUE),P280,\" 71....+0000000000000000 \"))","v":""},null,""]
[null,{"$f":"IF(I281=\"\",\"\",ROWS($A$3:A281))","v":""},"","","","","","","","",{"$f":"IFERROR(SMALL($B$3:$B$2002,ROWS($A$3:A281)),\"\")","v":""},"","",null,"","","",{"$f":"IF(O281=\"\",\"\",CONCATENATE(\"*11....+\",VLOOKUP(16-(LEN(N281)),'1'!$A$1:$B$16,2,TRUE),N281,\" 81..40+\",VLOOKUP(16-(LEN(O281)),'1'!$A$1:$B$16,2,TRUE),O281,\" 82..40+\",VLOOKUP(16-(LEN(O281)),'1'!$A$1:$B$16,2,TRUE),P281,\" 71....+0000000000000000 \"))","v":""},null,""]
[null,{"$f":"IF(I282=\"\",\"\",ROWS($A$3:A282))","v":""},"","","","","","","","",{"$f":"IFERROR(SMALL($B$3:$B$2002,ROWS($A$3:A282)),\"\")","v":""},"","",null,"","","",{"$f":"IF(O282=\"\",\"\",CONCATENATE(\"*11....+\",VLOOKUP(16-(LEN(N282)),'1'!$A$1:$B$16,2,TRUE),N282,\" 81..40+\",VLOOKUP(16-(LEN(O282)),'1'!$A$1:$B$16,2,TRUE),O282,\" 82..40+\",VLOOKUP(16-(LEN(O282)),'1'!$A$1:$B$16,2,TRUE),P282,\" 71....+0000000000000000 \"))","v":""},null,""]
[null,{"$f":"IF(I283=\"\",\"\",ROWS($A$3:A283))","v":""},"","","","","","","","",{"$f":"IFERROR(SMALL($B$3:$B$2002,ROWS($A$3:A283)),\"\")","v":""},"","",null,"","","",{"$f":"IF(O283=\"\",\"\",CONCATENATE(\"*11....+\",VLOOKUP(16-(LEN(N283)),'1'!$A$1:$B$16,2,TRUE),N283,\" 81..40+\",VLOOKUP(16-(LEN(O283)),'1'!$A$1:$B$16,2,TRUE),O283,\" 82..40+\",VLOOKUP(16-(LEN(O283)),'1'!$A$1:$B$16,2,TRUE),P283,\" 71....+0000000000000000 \"))","v":""},null,""]
[null,{"$f":"IF(I284=\"\",\"\",ROWS($A$3:A284))","v":""},"","","","","","","","",{"$f":"IFERROR(SMALL($B$3:$B$2002,ROWS($A$3:A284)),\"\")","v":""},"","",null,"","","",{"$f":"IF(O284=\"\",\"\",CONCATENATE(\"*11....+\",VLOOKUP(16-(LEN(N284)),'1'!$A$1:$B$16,2,TRUE),N284,\" 81..40+\",VLOOKUP(16-(LEN(O284)),'1'!$A$1:$B$16,2,TRUE),O284,\" 82..40+\",VLOOKUP(16-(LEN(O284)),'1'!$A$1:$B$16,2,TRUE),P284,\" 71....+0000000000000000 \"))","v":""},null,""]
[null,{"$f":"IF(I285=\"\",\"\",ROWS($A$3:A285))","v":""},"","","","","","","","",{"$f":"IFERROR(SMALL($B$3:$B$2002,ROWS($A$3:A285)),\"\")","v":""},"","",null,"","","",{"$f":"IF(O285=\"\",\"\",CONCATENATE(\"*11....+\",VLOOKUP(16-(LEN(N285)),'1'!$A$1:$B$16,2,TRUE),N285,\" 81..40+\",VLOOKUP(16-(LEN(O285)),'1'!$A$1:$B$16,2,TRUE),O285,\" 82..40+\",VLOOKUP(16-(LEN(O285)),'1'!$A$1:$B$16,2,TRUE),P285,\" 71....+0000000000000000 \"))","v":""},null,""]
[null,{"$f":"IF(I286=\"\",\"\",ROWS($A$3:A286))","v":""},"","","","","","","","",{"$f":"IFERROR(SMALL($B$3:$B$2002,ROWS($A$3:A286)),\"\")","v":""},"","",null,"","","",{"$f":"IF(O286=\"\",\"\",CONCATENATE(\"*11....+\",VLOOKUP(16-(LEN(N286)),'1'!$A$1:$B$16,2,TRUE),N286,\" 81..40+\",VLOOKUP(16-(LEN(O286)),'1'!$A$1:$B$16,2,TRUE),O286,\" 82..40+\",VLOOKUP(16-(LEN(O286)),'1'!$A$1:$B$16,2,TRUE),P286,\" 71....+0000000000000000 \"))","v":""},null,""]
[null,{"$f":"IF(I287=\"\",\"\",ROWS($A$3:A287))","v":""},"","","","","","","","",{"$f":"IFERROR(SMALL($B$3:$B$2002,ROWS($A$3:A287)),\"\")","v":""},"","",null,"","","",{"$f":"IF(O287=\"\",\"\",CONCATENATE(\"*11....+\",VLOOKUP(16-(LEN(N287)),'1'!$A$1:$B$16,2,TRUE),N287,\" 81..40+\",VLOOKUP(16-(LEN(O287)),'1'!$A$1:$B$16,2,TRUE),O287,\" 82..40+\",VLOOKUP(16-(LEN(O287)),'1'!$A$1:$B$16,2,TRUE),P287,\" 71....+0000000000000000 \"))","v":""},null,""]
[null,{"$f":"IF(I288=\"\",\"\",ROWS($A$3:A288))","v":""},"","","","","","","","",{"$f":"IFERROR(SMALL($B$3:$B$2002,ROWS($A$3:A288)),\"\")","v":""},"","",null,"","","",{"$f":"IF(O288=\"\",\"\",CONCATENATE(\"*11....+\",VLOOKUP(16-(LEN(N288)),'1'!$A$1:$B$16,2,TRUE),N288,\" 81..40+\",VLOOKUP(16-(LEN(O288)),'1'!$A$1:$B$16,2,TRUE),O288,\" 82..40+\",VLOOKUP(16-(LEN(O288)),'1'!$A$1:$B$16,2,TRUE),P288,\" 71....+0000000000000000 \"))","v":""},null,""]
[null,{"$f":"IF(I289=\"\",\"\",ROWS($A$3:A289))","v":""},"","","","","","","","",{"$f":"IFERROR(SMALL($B$3:$B$2002,ROWS($A$3:A289)),\"\")","v":""},"","",null,"","","",{"$f":"IF(O289=\"\",\"\",CONCATENATE(\"*11....+\",VLOOKUP(16-(LEN(N289)),'1'!$A$1:$B$16,2,TRUE),N289,\" 81..40+\",VLOOKUP(16-(LEN(O289)),'1'!$A$1:$B$16,2,TRUE),O289,\" 82..40+\",VLOOKUP(16-(LEN(O289)),'1'!$A$1:$B$16,2,TRUE),P289,\" 71....+0000000000000000 \"))","v":""},null,""]
[null,{"$f":"IF(I290=\"\",\"\",ROWS($A$3:A290))","v":""},"","","","","","","","",{"$f":"IFERROR(SMALL($B$3:$B$2002,ROWS($A$3:A290)),\"\")","v":""},"","",null,"","","",{"$f":"IF(O290=\"\",\"\",CONCATENATE(\"*11....+\",VLOOKUP(16-(LEN(N290)),'1'!$A$1:$B$16,2,TRUE),N290,\" 81..40+\",VLOOKUP(16-(LEN(O290)),'1'!$A$1:$B$16,2,TRUE),O290,\" 82..40+\",VLOOKUP(16-(LEN(O290)),'1'!$A$1:$B$16,2,TRUE),P290,\" 71....+0000000000000000 \"))","v":""},null,""]
[null,{"$f":"IF(I291=\"\",\"\",ROWS($A$3:A291))","v":""},"","","","","","","","",{"$f":"IFERROR(SMALL($B$3:$B$2002,ROWS($A$3:A291)),\"\")","v":""},"","",null,"","","",{"$f":"IF(O291=\"\",\"\",CONCATENATE(\"*11....+\",VLOOKUP(16-(LEN(N291)),'1'!$A$1:$B$16,2,TRUE),N291,\" 81..40+\",VLOOKUP(16-(LEN(O291)),'1'!$A$1:$B$16,2,TRUE),O291,\" 82..40+\",VLOOKUP(16-(LEN(O291)),'1'!$A$1:$B$16,2,TRUE),P291,\" 71....+0000000000000000 \"))","v":""},null,""]
[null,{"$f":"IF(I292=\"\",\"\",ROWS($A$3:A292))","v":""},"","","","","","","","",{"$f":"IFERROR(SMALL($B$3:$B$2002,ROWS($A$3:A292)),\"\")","v":""},"","",null,"","","",{"$f":"IF(O292=\"\",\"\",CONCATENATE(\"*11....+\",VLOOKUP(16-(LEN(N292)),'1'!$A$1:$B$16,2,TRUE),N292,\" 81..40+\",VLOOKUP(16-(LEN(O292)),'1'!$A$1:$B$16,2,TRUE),O292,\" 82..40+\",VLOOKUP(16-(LEN(O292)),'1'!$A$1:$B$16,2,TRUE),P292,\" 71....+0000000000000000 \"))","v":""},null,""]
[null,{"$f":"IF(I293=\"\",\"\",ROWS($A$3:A293))","v":""},"","","","","","","","",{"$f":"IFERROR(SMALL($B$3:$B$2002,ROWS($A$3:A293)),\"\")","v":""},"","",null,"","","",{"$f":"IF(O293=\"\",\"\",CONCATENATE(\"*11....+\",VLOOKUP(16-(LEN(N293)),'1'!$A$1:$B$16,2,TRUE),N293,\" 81..40+\",VLOOKUP(16-(LEN(O293)),'1'!$A$1:$B$16,2,TRUE),O293,\" 82..40+\",VLOOKUP(16-(LEN(O293)),'1'!$A$1:$B$16,2,TRUE),P293,\" 71....+0000000000000000 \"))","v":""},null,""]
[null,{"$f":"IF(I294=\"\",\"\",ROWS($A$3:A294))","v":""},"","","","","","","","",{"$f":"IFERROR(SMALL($B$3:$B$2002,ROWS($A$3:A294)),\"\")","v":""},"","",null,"","","",{"$f":"IF(O294=\"\",\"\",CONCATENATE(\"*11....+\",VLOOKUP(16-(LEN(N294)),'1'!$A$1:$B$16,2,TRUE),N294,\" 81..40+\",VLOOKUP(16-(LEN(O294)),'1'!$A$1:$B$16,2,TRUE),O294,\" 82..40+\",VLOOKUP(16-(LEN(O294)),'1'!$A$1:$B$16,2,TRUE),P294,\" 71....+0000000000000000 \"))","v":""},null,""]
[null,{"$f":"IF(I295=\"\",\"\",ROWS($A$3:A295))","v":""},"","","","","","","","",{"$f":"IFERROR(SMALL($B$3:$B$2002,ROWS($A$3:A295)),\"\")","v":""},"","",null,"","","",{"$f":"IF(O295=\"\",\"\",CONCATENATE(\"*11....+\",VLOOKUP(16-(LEN(N295)),'1'!$A$1:$B$16,2,TRUE),N295,\" 81..40+\",VLOOKUP(16-(LEN(O295)),'1'!$A$1:$B$16,2,TRUE),O295,\" 82..40+\",VLOOKUP(16-(LEN(O295)),'1'!$A$1:$B$16,2,TRUE),P295,\" 71....+0000000000000000 \"))","v":""},null,""]
[null,{"$f":"IF(I296=\"\",\"\",ROWS($A$3:A296))","v":""},"","","","","","","","",{"$f":"IFERROR(SMALL($B$3:$B$2002,ROWS($A$3:A296)),\"\")","v":""},"","",null,"","","",{"$f":"IF(O296=\"\",\"\",CONCATENATE(\"*11....+\",VLOOKUP(16-(LEN(N296)),'1'!$A$1:$B$16,2,TRUE),N296,\" 81..40+\",VLOOKUP(16-(LEN(O296)),'1'!$A$1:$B$16,2,TRUE),O296,\" 82..40+\",VLOOKUP(16-(LEN(O296)),'1'!$A$1:$B$16,2,TRUE),P296,\" 71....+0000000000000000 \"))","v":""},null,""]
[null,{"$f":"IF(I297=\"\",\"\",ROWS($A$3:A297))","v":""},"","","","","","","","",{"$f":"IFERROR(SMALL($B$3:$B$2002,ROWS($A$3:A297)),\"\")","v":""},"","",null,"","","",{"$f":"IF(O297=\"\",\"\",CONCATENATE(\"*11....+\",VLOOKUP(16-(LEN(N297)),'1'!$A$1:$B$16,2,TRUE),N297,\" 81..40+\",VLOOKUP(16-(LEN(O297)),'1'!$A$1:$B$16,2,TRUE),O297,\" 82..40+\",VLOOKUP(16-(LEN(O297)),'1'!$A$1:$B$16,2,TRUE),P297,\" 71....+0000000000000000 \"))","v":""},null,""]
[null,{"$f":"IF(I298=\"\",\"\",ROWS($A$3:A298))","v":""},"","","","","","","","",{"$f":"IFERROR(SMALL($B$3:$B$2002,ROWS($A$3:A298)),\"\")","v":""},"","",null,"","","",{"$f":"IF(O298=\"\",\"\",CONCATENATE(\"*11....+\",VLOOKUP(16-(LEN(N298)),'1'!$A$1:$B$16,2,TRUE),N298,\" 81..40+\",VLOOKUP(16-(LEN(O298)),'1'!$A$1:$B$16,2,TRUE),O298,\" 82..40+\",VLOOKUP(16-(LEN(O298)),'1'!$A$1:$B$16,2,TRUE),P298,\" 71....+0000000000000000 \"))","v":""},null,""]
[null,{"$f":"IF(I299=\"\",\"\",ROWS($A$3:A299))","v":""},"","","","","","","","",{"$f":"IFERROR(SMALL($B$3:$B$2002,ROWS($A$3:A299)),\"\")","v":""},"","",null,"","","",{"$f":"IF(O299=\"\",\"\",CONCATENATE(\"*11....+\",VLOOKUP(16-(LEN(N299)),'1'!$A$1:$B$16,2,TRUE),N299,\" 81..40+\",VLOOKUP(16-(LEN(O299)),'1'!$A$1:$B$16,2,TRUE),O299,\" 82..40+\",VLOOKUP(16-(LEN(O299)),'1'!$A$1:$B$16,2,TRUE),P299,\" 71....+0000000000000000 \"))","v":""},null,""]
[null,{"$f":"IF(I300=\"\",\"\",ROWS($A$3:A300))","v":""},"","","","","","","","",{"$f":"IFERROR(SMALL($B$3:$B$2002,ROWS($A$3:A300)),\"\")","v":""},"","",null,"","","",{"$f":"IF(O300=\"\",\"\",CONCATENATE(\"*11....+\",VLOOKUP(16-(LEN(N300)),'1'!$A$1:$B$16,2,TRUE),N300,\" 81..40+\",VLOOKUP(16-(LEN(O300)),'1'!$A$1:$B$16,2,TRUE),O300,\" 82..40+\",VLOOKUP(16-(LEN(O300)),'1'!$A$1:$B$16,2,TRUE),P300,\" 71....+0000000000000000 \"))","v":""},null,""]
[null,{"$f":"IF(I301=\"\",\"\",ROWS($A$3:A301))","v":""},"","","","","","","","",{"$f":"IFERROR(SMALL($B$3:$B$2002,ROWS($A$3:A301)),\"\")","v":""},"","",null,"","","",{"$f":"IF(O301=\"\",\"\",CONCATENATE(\"*11....+\",VLOOKUP(16-(LEN(N301)),'1'!$A$1:$B$16,2,TRUE),N301,\" 81..40+\",VLOOKUP(16-(LEN(O301)),'1'!$A$1:$B$16,2,TRUE),O301,\" 82..40+\",VLOOKUP(16-(LEN(O301)),'1'!$A$1:$B$16,2,TRUE),P301,\" 71....+0000000000000000 \"))","v":""},null,""]
[null,{"$f":"IF(I302=\"\",\"\",ROWS($A$3:A302))","v":""},"","","","","","","","",{"$f":"IFERROR(SMALL($B$3:$B$2002,ROWS($A$3:A302)),\"\")","v":""},"","",null,"","","",{"$f":"IF(O302=\"\",\"\",CONCATENATE(\"*11....+\",VLOOKUP(16-(LEN(N302)),'1'!$A$1:$B$16,2,TRUE),N302,\" 81..40+\",VLOOKUP(16-(LEN(O302)),'1'!$A$1:$B$16,2,TRUE),O302,\" 82..40+\",VLOOKUP(16-(LEN(O302)),'1'!$A$1:$B$16,2,TRUE),P302,\" 71....+0000000000000000 \"))","v":""},null,""]
[null,{"$f":"IF(I303=\"\",\"\",ROWS($A$3:A303))","v":""},"","","","","","","","",{"$f":"IFERROR(SMALL($B$3:$B$2002,ROWS($A$3:A303)),\"\")","v":""},"","",null,"","","",{"$f":"IF(O303=\"\",\"\",CONCATENATE(\"*11....+\",VLOOKUP(16-(LEN(N303)),'1'!$A$1:$B$16,2,TRUE),N303,\" 81..40+\",VLOOKUP(16-(LEN(O303)),'1'!$A$1:$B$16,2,TRUE),O303,\" 82..40+\",VLOOKUP(16-(LEN(O303)),'1'!$A$1:$B$16,2,TRUE),P303,\" 71....+0000000000000000 \"))","v":""},null,""]
[null,{"$f":"IF(I304=\"\",\"\",ROWS($A$3:A304))","v":""},"","","","","","","","",{"$f":"IFERROR(SMALL($B$3:$B$2002,ROWS($A$3:A304)),\"\")","v":""},"","",null,"","","",{"$f":"IF(O304=\"\",\"\",CONCATENATE(\"*11....+\",VLOOKUP(16-(LEN(N304)),'1'!$A$1:$B$16,2,TRUE),N304,\" 81..40+\",VLOOKUP(16-(LEN(O304)),'1'!$A$1:$B$16,2,TRUE),O304,\" 82..40+\",VLOOKUP(16-(LEN(O304)),'1'!$A$1:$B$16,2,TRUE),P304,\" 71....+0000000000000000 \"))","v":""},null,""]
[null,{"$f":"IF(I305=\"\",\"\",ROWS($A$3:A305))","v":""},"","","","","","","","",{"$f":"IFERROR(SMALL($B$3:$B$2002,ROWS($A$3:A305)),\"\")","v":""},"","",null,"","","",{"$f":"IF(O305=\"\",\"\",CONCATENATE(\"*11....+\",VLOOKUP(16-(LEN(N305)),'1'!$A$1:$B$16,2,TRUE),N305,\" 81..40+\",VLOOKUP(16-(LEN(O305)),'1'!$A$1:$B$16,2,TRUE),O305,\" 82..40+\",VLOOKUP(16-(LEN(O305)),'1'!$A$1:$B$16,2,TRUE),P305,\" 71....+0000000000000000 \"))","v":""},null,""]
[null,{"$f":"IF(I306=\"\",\"\",ROWS($A$3:A306))","v":""},"","","","","","","","",{"$f":"IFERROR(SMALL($B$3:$B$2002,ROWS($A$3:A306)),\"\")","v":""},"","",null,"","","",{"$f":"IF(O306=\"\",\"\",CONCATENATE(\"*11....+\",VLOOKUP(16-(LEN(N306)),'1'!$A$1:$B$16,2,TRUE),N306,\" 81..40+\",VLOOKUP(16-(LEN(O306)),'1'!$A$1:$B$16,2,TRUE),O306,\" 82..40+\",VLOOKUP(16-(LEN(O306)),'1'!$A$1:$B$16,2,TRUE),P306,\" 71....+0000000000000000 \"))","v":""},null,""]
[null,{"$f":"IF(I307=\"\",\"\",ROWS($A$3:A307))","v":""},"","","","","","","","",{"$f":"IFERROR(SMALL($B$3:$B$2002,ROWS($A$3:A307)),\"\")","v":""},"","",null,"","","",{"$f":"IF(O307=\"\",\"\",CONCATENATE(\"*11....+\",VLOOKUP(16-(LEN(N307)),'1'!$A$1:$B$16,2,TRUE),N307,\" 81..40+\",VLOOKUP(16-(LEN(O307)),'1'!$A$1:$B$16,2,TRUE),O307,\" 82..40+\",VLOOKUP(16-(LEN(O307)),'1'!$A$1:$B$16,2,TRUE),P307,\" 71....+0000000000000000 \"))","v":""},null,""]
[null,{"$f":"IF(I308=\"\",\"\",ROWS($A$3:A308))","v":""},"","","","","","","","",{"$f":"IFERROR(SMALL($B$3:$B$2002,ROWS($A$3:A308)),\"\")","v":""},"","",null,"","","",{"$f":"IF(O308=\"\",\"\",CONCATENATE(\"*11....+\",VLOOKUP(16-(LEN(N308)),'1'!$A$1:$B$16,2,TRUE),N308,\" 81..40+\",VLOOKUP(16-(LEN(O308)),'1'!$A$1:$B$16,2,TRUE),O308,\" 82..40+\",VLOOKUP(16-(LEN(O308)),'1'!$A$1:$B$16,2,TRUE),P308,\" 71....+0000000000000000 \"))","v":""},null,""]
[null,{"$f":"IF(I309=\"\",\"\",ROWS($A$3:A309))","v":""},"","","","","","","","",{"$f":"IFERROR(SMALL($B$3:$B$2002,ROWS($A$3:A309)),\"\")","v":""},"","",null,"","","",{"$f":"IF(O309=\"\",\"\",CONCATENATE(\"*11....+\",VLOOKUP(16-(LEN(N309)),'1'!$A$1:$B$16,2,TRUE),N309,\" 81..40+\",VLOOKUP(16-(LEN(O309)),'1'!$A$1:$B$16,2,TRUE),O309,\" 82..40+\",VLOOKUP(16-(LEN(O309)),'1'!$A$1:$B$16,2,TRUE),P309,\" 71....+0000000000000000 \"))","v":""},null,""]
[null,{"$f":"IF(I310=\"\",\"\",ROWS($A$3:A310))","v":""},"","","","","","","","",{"$f":"IFERROR(SMALL($B$3:$B$2002,ROWS($A$3:A310)),\"\")","v":""},"","",null,"","","",{"$f":"IF(O310=\"\",\"\",CONCATENATE(\"*11....+\",VLOOKUP(16-(LEN(N310)),'1'!$A$1:$B$16,2,TRUE),N310,\" 81..40+\",VLOOKUP(16-(LEN(O310)),'1'!$A$1:$B$16,2,TRUE),O310,\" 82..40+\",VLOOKUP(16-(LEN(O310)),'1'!$A$1:$B$16,2,TRUE),P310,\" 71....+0000000000000000 \"))","v":""},null,""]
[null,{"$f":"IF(I311=\"\",\"\",ROWS($A$3:A311))","v":""},"","","","","","","","",{"$f":"IFERROR(SMALL($B$3:$B$2002,ROWS($A$3:A311)),\"\")","v":""},"","",null,"","","",{"$f":"IF(O311=\"\",\"\",CONCATENATE(\"*11....+\",VLOOKUP(16-(LEN(N311)),'1'!$A$1:$B$16,2,TRUE),N311,\" 81..40+\",VLOOKUP(16-(LEN(O311)),'1'!$A$1:$B$16,2,TRUE),O311,\" 82..40+\",VLOOKUP(16-(LEN(O311)),'1'!$A$1:$B$16,2,TRUE),P311,\" 71....+0000000000000000 \"))","v":""},null,""]
[null,{"$f":"IF(I312=\"\",\"\",ROWS($A$3:A312))","v":""},"","","","","","","","",{"$f":"IFERROR(SMALL($B$3:$B$2002,ROWS($A$3:A312)),\"\")","v":""},"","",null,"","","",{"$f":"IF(O312=\"\",\"\",CONCATENATE(\"*11....+\",VLOOKUP(16-(LEN(N312)),'1'!$A$1:$B$16,2,TRUE),N312,\" 81..40+\",VLOOKUP(16-(LEN(O312)),'1'!$A$1:$B$16,2,TRUE),O312,\" 82..40+\",VLOOKUP(16-(LEN(O312)),'1'!$A$1:$B$16,2,TRUE),P312,\" 71....+0000000000000000 \"))","v":""},null,""]
[null,{"$f":"IF(I313=\"\",\"\",ROWS($A$3:A313))","v":""},"","","","","","","","",{"$f":"IFERROR(SMALL($B$3:$B$2002,ROWS($A$3:A313)),\"\")","v":""},"","",null,"","","",{"$f":"IF(O313=\"\",\"\",CONCATENATE(\"*11....+\",VLOOKUP(16-(LEN(N313)),'1'!$A$1:$B$16,2,TRUE),N313,\" 81..40+\",VLOOKUP(16-(LEN(O313)),'1'!$A$1:$B$16,2,TRUE),O313,\" 82..40+\",VLOOKUP(16-(LEN(O313)),'1'!$A$1:$B$16,2,TRUE),P313,\" 71....+0000000000000000 \"))","v":""},null,""]
[null,{"$f":"IF(I314=\"\",\"\",ROWS($A$3:A314))","v":""},"","","","","","","","",{"$f":"IFERROR(SMALL($B$3:$B$2002,ROWS($A$3:A314)),\"\")","v":""},"","",null,"","","",{"$f":"IF(O314=\"\",\"\",CONCATENATE(\"*11....+\",VLOOKUP(16-(LEN(N314)),'1'!$A$1:$B$16,2,TRUE),N314,\" 81..40+\",VLOOKUP(16-(LEN(O314)),'1'!$A$1:$B$16,2,TRUE),O314,\" 82..40+\",VLOOKUP(16-(LEN(O314)),'1'!$A$1:$B$16,2,TRUE),P314,\" 71....+0000000000000000 \"))","v":""},null,""]
[null,{"$f":"IF(I315=\"\",\"\",ROWS($A$3:A315))","v":""},"","","","","","","","",{"$f":"IFERROR(SMALL($B$3:$B$2002,ROWS($A$3:A315)),\"\")","v":""},"","",null,"","","",{"$f":"IF(O315=\"\",\"\",CONCATENATE(\"*11....+\",VLOOKUP(16-(LEN(N315)),'1'!$A$1:$B$16,2,TRUE),N315,\" 81..40+\",VLOOKUP(16-(LEN(O315)),'1'!$A$1:$B$16,2,TRUE),O315,\" 82..40+\",VLOOKUP(16-(LEN(O315)),'1'!$A$1:$B$16,2,TRUE),P315,\" 71....+0000000000000000 \"))","v":""},null,""]
[null,{"$f":"IF(I316=\"\",\"\",ROWS($A$3:A316))","v":""},"","","","","","","","",{"$f":"IFERROR(SMALL($B$3:$B$2002,ROWS($A$3:A316)),\"\")","v":""},"","",null,"","","",{"$f":"IF(O316=\"\",\"\",CONCATENATE(\"*11....+\",VLOOKUP(16-(LEN(N316)),'1'!$A$1:$B$16,2,TRUE),N316,\" 81..40+\",VLOOKUP(16-(LEN(O316)),'1'!$A$1:$B$16,2,TRUE),O316,\" 82..40+\",VLOOKUP(16-(LEN(O316)),'1'!$A$1:$B$16,2,TRUE),P316,\" 71....+0000000000000000 \"))","v":""},null,""]
[null,{"$f":"IF(I317=\"\",\"\",ROWS($A$3:A317))","v":""},"","","","","","","","",{"$f":"IFERROR(SMALL($B$3:$B$2002,ROWS($A$3:A317)),\"\")","v":""},"","",null,"","","",{"$f":"IF(O317=\"\",\"\",CONCATENATE(\"*11....+\",VLOOKUP(16-(LEN(N317)),'1'!$A$1:$B$16,2,TRUE),N317,\" 81..40+\",VLOOKUP(16-(LEN(O317)),'1'!$A$1:$B$16,2,TRUE),O317,\" 82..40+\",VLOOKUP(16-(LEN(O317)),'1'!$A$1:$B$16,2,TRUE),P317,\" 71....+0000000000000000 \"))","v":""},null,""]
[null,{"$f":"IF(I318=\"\",\"\",ROWS($A$3:A318))","v":""},"","","","","","","","",{"$f":"IFERROR(SMALL($B$3:$B$2002,ROWS($A$3:A318)),\"\")","v":""},"","",null,"","","",{"$f":"IF(O318=\"\",\"\",CONCATENATE(\"*11....+\",VLOOKUP(16-(LEN(N318)),'1'!$A$1:$B$16,2,TRUE),N318,\" 81..40+\",VLOOKUP(16-(LEN(O318)),'1'!$A$1:$B$16,2,TRUE),O318,\" 82..40+\",VLOOKUP(16-(LEN(O318)),'1'!$A$1:$B$16,2,TRUE),P318,\" 71....+0000000000000000 \"))","v":""},null,""]
[null,{"$f":"IF(I319=\"\",\"\",ROWS($A$3:A319))","v":""},"","","","","","","","",{"$f":"IFERROR(SMALL($B$3:$B$2002,ROWS($A$3:A319)),\"\")","v":""},"","",null,"","","",{"$f":"IF(O319=\"\",\"\",CONCATENATE(\"*11....+\",VLOOKUP(16-(LEN(N319)),'1'!$A$1:$B$16,2,TRUE),N319,\" 81..40+\",VLOOKUP(16-(LEN(O319)),'1'!$A$1:$B$16,2,TRUE),O319,\" 82..40+\",VLOOKUP(16-(LEN(O319)),'1'!$A$1:$B$16,2,TRUE),P319,\" 71....+0000000000000000 \"))","v":""},null,""]
[null,{"$f":"IF(I320=\"\",\"\",ROWS($A$3:A320))","v":""},"","","","","","","","",{"$f":"IFERROR(SMALL($B$3:$B$2002,ROWS($A$3:A320)),\"\")","v":""},"","",null,"","","",{"$f":"IF(O320=\"\",\"\",CONCATENATE(\"*11....+\",VLOOKUP(16-(LEN(N320)),'1'!$A$1:$B$16,2,TRUE),N320,\" 81..40+\",VLOOKUP(16-(LEN(O320)),'1'!$A$1:$B$16,2,TRUE),O320,\" 82..40+\",VLOOKUP(16-(LEN(O320)),'1'!$A$1:$B$16,2,TRUE),P320,\" 71....+0000000000000000 \"))","v":""},null,""]
[null,{"$f":"IF(I321=\"\",\"\",ROWS($A$3:A321))","v":""},"","","","","","","","",{"$f":"IFERROR(SMALL($B$3:$B$2002,ROWS($A$3:A321)),\"\")","v":""},"","",null,"","","",{"$f":"IF(O321=\"\",\"\",CONCATENATE(\"*11....+\",VLOOKUP(16-(LEN(N321)),'1'!$A$1:$B$16,2,TRUE),N321,\" 81..40+\",VLOOKUP(16-(LEN(O321)),'1'!$A$1:$B$16,2,TRUE),O321,\" 82..40+\",VLOOKUP(16-(LEN(O321)),'1'!$A$1:$B$16,2,TRUE),P321,\" 71....+0000000000000000 \"))","v":""},null,""]
[null,{"$f":"IF(I322=\"\",\"\",ROWS($A$3:A322))","v":""},"","","","","","","","",{"$f":"IFERROR(SMALL($B$3:$B$2002,ROWS($A$3:A322)),\"\")","v":""},"","",null,"","","",{"$f":"IF(O322=\"\",\"\",CONCATENATE(\"*11....+\",VLOOKUP(16-(LEN(N322)),'1'!$A$1:$B$16,2,TRUE),N322,\" 81..40+\",VLOOKUP(16-(LEN(O322)),'1'!$A$1:$B$16,2,TRUE),O322,\" 82..40+\",VLOOKUP(16-(LEN(O322)),'1'!$A$1:$B$16,2,TRUE),P322,\" 71....+0000000000000000 \"))","v":""},null,""]
[null,{"$f":"IF(I323=\"\",\"\",ROWS($A$3:A323))","v":""},"","","","","","","","",{"$f":"IFERROR(SMALL($B$3:$B$2002,ROWS($A$3:A323)),\"\")","v":""},"","",null,"","","",{"$f":"IF(O323=\"\",\"\",CONCATENATE(\"*11....+\",VLOOKUP(16-(LEN(N323)),'1'!$A$1:$B$16,2,TRUE),N323,\" 81..40+\",VLOOKUP(16-(LEN(O323)),'1'!$A$1:$B$16,2,TRUE),O323,\" 82..40+\",VLOOKUP(16-(LEN(O323)),'1'!$A$1:$B$16,2,TRUE),P323,\" 71....+0000000000000000 \"))","v":""},null,""]
[null,{"$f":"IF(I324=\"\",\"\",ROWS($A$3:A324))","v":""},{"$f":"IF(LEN(A324)=59,ROUND(VALUE(MID(A324,23,9)),3),\"\")","v":""},{"$f":"IF(LEN(A324)=24,\"\",\"\")","v":""},{"$f":"IF(LEN(A324)=63,ROUND(VALUE(MID(A324,23,12)),3),\"\")","v":""},{"$f":"IF(LEN(A324)=59,ROUND(VALUE(MID(A324,37,9)),3),\"\")","v":""},{"$f":"IF(LEN(A324)=24,\"\",\"\")","v":""},{"$f":"IF(LEN(A324)=63,ROUND(VALUE(MID(A324,39,12)),3),\"\")","v":""},{"$f":"IF(AND(C324=\"\",D324=\"\",E324=\"\"),\"\",ROUND(CONCATENATE(C324,D324,E324),3))","v":""},{"$f":"IF(AND(C324=\"\",D324=\"\",E324=\"\"),\"\",ROUND(CONCATENATE(F324,G324,H324),3))","v":""},{"$f":"IFERROR(SMALL($B$3:$B$2002,ROWS($A$3:A324)),\"\")","v":""},{"$f":"IF(K324=\"\",\"\",ROUND(VALUE(VLOOKUP(K324,$B$3:$J$2002,8,TRUE)),3))","v":""},{"$f":"IF(K324=\"\",\"\",ROUND(VALUE(VLOOKUP(K324,$B$3:$J$2002,9,TRUE)),3))","v":""},null,{"$f":"IF(L324=\"\",\"\",L324/0.001)","v":""},"",{"$f":"IF(O324=\"\",\"\",16-LEN(N324))","v":""},{"$f":"IF(O324=\"\",\"\",CONCATENATE(\"*11....+\",VLOOKUP(16-(LEN(N324)),'1'!$A$1:$B$16,2,TRUE),N324,\" 81..40+\",VLOOKUP(16-(LEN(O324)),'1'!$A$1:$B$16,2,TRUE),O324,\" 82..40+\",VLOOKUP(16-(LEN(O324)),'1'!$A$1:$B$16,2,TRUE),P324,\" 71....+0000000000000000 \"))","v":""},null,{"$f":"IF(O324=\"\",\"\",CONCATENATE(N324,\",\",L324,\",\",M324))","v":""}]
[null,{"$f":"IF(I325=\"\",\"\",ROWS($A$3:A325))","v":""},"","","","","","","","",{"$f":"IFERROR(SMALL($B$3:$B$2002,ROWS($A$3:A325)),\"\")","v":""},"","",null,"","","",{"$f":"IF(O325=\"\",\"\",CONCATENATE(\"*11....+\",VLOOKUP(16-(LEN(N325)),'1'!$A$1:$B$16,2,TRUE),N325,\" 81..40+\",VLOOKUP(16-(LEN(O325)),'1'!$A$1:$B$16,2,TRUE),O325,\" 82..40+\",VLOOKUP(16-(LEN(O325)),'1'!$A$1:$B$16,2,TRUE),P325,\" 71....+0000000000000000 \"))","v":""},null,""]
[null,{"$f":"IF(I326=\"\",\"\",ROWS($A$3:A326))","v":""},"","","","","","","","",{"$f":"IFERROR(SMALL($B$3:$B$2002,ROWS($A$3:A326)),\"\")","v":""},"","",null,"","","",{"$f":"IF(O326=\"\",\"\",CONCATENATE(\"*11....+\",VLOOKUP(16-(LEN(N326)),'1'!$A$1:$B$16,2,TRUE),N326,\" 81..40+\",VLOOKUP(16-(LEN(O326)),'1'!$A$1:$B$16,2,TRUE),O326,\" 82..40+\",VLOOKUP(16-(LEN(O326)),'1'!$A$1:$B$16,2,TRUE),P326,\" 71....+0000000000000000 \"))","v":""},null,""]
[null,{"$f":"IF(I327=\"\",\"\",ROWS($A$3:A327))","v":""},"","","","","","","","",{"$f":"IFERROR(SMALL($B$3:$B$2002,ROWS($A$3:A327)),\"\")","v":""},"","",null,"","","",{"$f":"IF(O327=\"\",\"\",CONCATENATE(\"*11....+\",VLOOKUP(16-(LEN(N327)),'1'!$A$1:$B$16,2,TRUE),N327,\" 81..40+\",VLOOKUP(16-(LEN(O327)),'1'!$A$1:$B$16,2,TRUE),O327,\" 82..40+\",VLOOKUP(16-(LEN(O327)),'1'!$A$1:$B$16,2,TRUE),P327,\" 71....+0000000000000000 \"))","v":""},null,""]
[null,{"$f":"IF(I328=\"\",\"\",ROWS($A$3:A328))","v":""},"","","","","","","","",{"$f":"IFERROR(SMALL($B$3:$B$2002,ROWS($A$3:A328)),\"\")","v":""},"","",null,"","","",{"$f":"IF(O328=\"\",\"\",CONCATENATE(\"*11....+\",VLOOKUP(16-(LEN(N328)),'1'!$A$1:$B$16,2,TRUE),N328,\" 81..40+\",VLOOKUP(16-(LEN(O328)),'1'!$A$1:$B$16,2,TRUE),O328,\" 82..40+\",VLOOKUP(16-(LEN(O328)),'1'!$A$1:$B$16,2,TRUE),P328,\" 71....+0000000000000000 \"))","v":""},null,""]
[null,{"$f":"IF(I329=\"\",\"\",ROWS($A$3:A329))","v":""},"","","","","","","","",{"$f":"IFERROR(SMALL($B$3:$B$2002,ROWS($A$3:A329)),\"\")","v":""},"","",null,"","","",{"$f":"IF(O329=\"\",\"\",CONCATENATE(\"*11....+\",VLOOKUP(16-(LEN(N329)),'1'!$A$1:$B$16,2,TRUE),N329,\" 81..40+\",VLOOKUP(16-(LEN(O329)),'1'!$A$1:$B$16,2,TRUE),O329,\" 82..40+\",VLOOKUP(16-(LEN(O329)),'1'!$A$1:$B$16,2,TRUE),P329,\" 71....+0000000000000000 \"))","v":""},null,""]
[null,{"$f":"IF(I330=\"\",\"\",ROWS($A$3:A330))","v":""},"","","","","","","","",{"$f":"IFERROR(SMALL($B$3:$B$2002,ROWS($A$3:A330)),\"\")","v":""},"","",null,"","","",{"$f":"IF(O330=\"\",\"\",CONCATENATE(\"*11....+\",VLOOKUP(16-(LEN(N330)),'1'!$A$1:$B$16,2,TRUE),N330,\" 81..40+\",VLOOKUP(16-(LEN(O330)),'1'!$A$1:$B$16,2,TRUE),O330,\" 82..40+\",VLOOKUP(16-(LEN(O330)),'1'!$A$1:$B$16,2,TRUE),P330,\" 71....+0000000000000000 \"))","v":""},null,""]
[null,{"$f":"IF(I331=\"\",\"\",ROWS($A$3:A331))","v":""},"","","","","","","","",{"$f":"IFERROR(SMALL($B$3:$B$2002,ROWS($A$3:A331)),\"\")","v":""},"","",null,"","","",{"$f":"IF(O331=\"\",\"\",CONCATENATE(\"*11....+\",VLOOKUP(16-(LEN(N331)),'1'!$A$1:$B$16,2,TRUE),N331,\" 81..40+\",VLOOKUP(16-(LEN(O331)),'1'!$A$1:$B$16,2,TRUE),O331,\" 82..40+\",VLOOKUP(16-(LEN(O331)),'1'!$A$1:$B$16,2,TRUE),P331,\" 71....+0000000000000000 \"))","v":""},null,""]
[null,{"$f":"IF(I332=\"\",\"\",ROWS($A$3:A332))","v":""},"","","","","","","","",{"$f":"IFERROR(SMALL($B$3:$B$2002,ROWS($A$3:A332)),\"\")","v":""},"","",null,"","","",{"$f":"IF(O332=\"\",\"\",CONCATENATE(\"*11....+\",VLOOKUP(16-(LEN(N332)),'1'!$A$1:$B$16,2,TRUE),N332,\" 81..40+\",VLOOKUP(16-(LEN(O332)),'1'!$A$1:$B$16,2,TRUE),O332,\" 82..40+\",VLOOKUP(16-(LEN(O332)),'1'!$A$1:$B$16,2,TRUE),P332,\" 71....+0000000000000000 \"))","v":""},null,""]
[null,{"$f":"IF(I333=\"\",\"\",ROWS($A$3:A333))","v":""},"","","","","","","","",{"$f":"IFERROR(SMALL($B$3:$B$2002,ROWS($A$3:A333)),\"\")","v":""},"","",null,"","","",{"$f":"IF(O333=\"\",\"\",CONCATENATE(\"*11....+\",VLOOKUP(16-(LEN(N333)),'1'!$A$1:$B$16,2,TRUE),N333,\" 81..40+\",VLOOKUP(16-(LEN(O333)),'1'!$A$1:$B$16,2,TRUE),O333,\" 82..40+\",VLOOKUP(16-(LEN(O333)),'1'!$A$1:$B$16,2,TRUE),P333,\" 71....+0000000000000000 \"))","v":""},null,""]
[null,{"$f":"IF(I334=\"\",\"\",ROWS($A$3:A334))","v":""},"","","","","","","","",{"$f":"IFERROR(SMALL($B$3:$B$2002,ROWS($A$3:A334)),\"\")","v":""},"","",null,"","","",{"$f":"IF(O334=\"\",\"\",CONCATENATE(\"*11....+\",VLOOKUP(16-(LEN(N334)),'1'!$A$1:$B$16,2,TRUE),N334,\" 81..40+\",VLOOKUP(16-(LEN(O334)),'1'!$A$1:$B$16,2,TRUE),O334,\" 82..40+\",VLOOKUP(16-(LEN(O334)),'1'!$A$1:$B$16,2,TRUE),P334,\" 71....+0000000000000000 \"))","v":""},null,""]
[null,{"$f":"IF(I335=\"\",\"\",ROWS($A$3:A335))","v":""},"","","","","","","","",{"$f":"IFERROR(SMALL($B$3:$B$2002,ROWS($A$3:A335)),\"\")","v":""},"","",null,"","","",{"$f":"IF(O335=\"\",\"\",CONCATENATE(\"*11....+\",VLOOKUP(16-(LEN(N335)),'1'!$A$1:$B$16,2,TRUE),N335,\" 81..40+\",VLOOKUP(16-(LEN(O335)),'1'!$A$1:$B$16,2,TRUE),O335,\" 82..40+\",VLOOKUP(16-(LEN(O335)),'1'!$A$1:$B$16,2,TRUE),P335,\" 71....+0000000000000000 \"))","v":""},null,""]
[null,{"$f":"IF(I336=\"\",\"\",ROWS($A$3:A336))","v":""},"","","","","","","","",{"$f":"IFERROR(SMALL($B$3:$B$2002,ROWS($A$3:A336)),\"\")","v":""},"","",null,"","","",{"$f":"IF(O336=\"\",\"\",CONCATENATE(\"*11....+\",VLOOKUP(16-(LEN(N336)),'1'!$A$1:$B$16,2,TRUE),N336,\" 81..40+\",VLOOKUP(16-(LEN(O336)),'1'!$A$1:$B$16,2,TRUE),O336,\" 82..40+\",VLOOKUP(16-(LEN(O336)),'1'!$A$1:$B$16,2,TRUE),P336,\" 71....+0000000000000000 \"))","v":""},null,""]
[null,{"$f":"IF(I337=\"\",\"\",ROWS($A$3:A337))","v":""},"","","","","","","","",{"$f":"IFERROR(SMALL($B$3:$B$2002,ROWS($A$3:A337)),\"\")","v":""},"","",null,"","","",{"$f":"IF(O337=\"\",\"\",CONCATENATE(\"*11....+\",VLOOKUP(16-(LEN(N337)),'1'!$A$1:$B$16,2,TRUE),N337,\" 81..40+\",VLOOKUP(16-(LEN(O337)),'1'!$A$1:$B$16,2,TRUE),O337,\" 82..40+\",VLOOKUP(16-(LEN(O337)),'1'!$A$1:$B$16,2,TRUE),P337,\" 71....+0000000000000000 \"))","v":""},null,""]
[null,{"$f":"IF(I338=\"\",\"\",ROWS($A$3:A338))","v":""},"","","","","","","","",{"$f":"IFERROR(SMALL($B$3:$B$2002,ROWS($A$3:A338)),\"\")","v":""},"","",null,"","","",{"$f":"IF(O338=\"\",\"\",CONCATENATE(\"*11....+\",VLOOKUP(16-(LEN(N338)),'1'!$A$1:$B$16,2,TRUE),N338,\" 81..40+\",VLOOKUP(16-(LEN(O338)),'1'!$A$1:$B$16,2,TRUE),O338,\" 82..40+\",VLOOKUP(16-(LEN(O338)),'1'!$A$1:$B$16,2,TRUE),P338,\" 71....+0000000000000000 \"))","v":""},null,""]
[null,{"$f":"IF(I339=\"\",\"\",ROWS($A$3:A339))","v":""},"","","","","","","","",{"$f":"IFERROR(SMALL($B$3:$B$2002,ROWS($A$3:A339)),\"\")","v":""},"","",null,"","","",{"$f":"IF(O339=\"\",\"\",CONCATENATE(\"*11....+\",VLOOKUP(16-(LEN(N339)),'1'!$A$1:$B$16,2,TRUE),N339,\" 81..40+\",VLOOKUP(16-(LEN(O339)),'1'!$A$1:$B$16,2,TRUE),O339,\" 82..40+\",VLOOKUP(16-(LEN(O339)),'1'!$A$1:$B$16,2,TRUE),P339,\" 71....+0000000000000000 \"))","v":""},null,""]
[null,{"$f":"IF(I340=\"\",\"\",ROWS($A$3:A340))","v":""},"","","","","","","","",{"$f":"IFERROR(SMALL($B$3:$B$2002,ROWS($A$3:A340)),\"\")","v":""},"","",null,"","","",{"$f":"IF(O340=\"\",\"\",CONCATENATE(\"*11....+\",VLOOKUP(16-(LEN(N340)),'1'!$A$1:$B$16,2,TRUE),N340,\" 81..40+\",VLOOKUP(16-(LEN(O340)),'1'!$A$1:$B$16,2,TRUE),O340,\" 82..40+\",VLOOKUP(16-(LEN(O340)),'1'!$A$1:$B$16,2,TRUE),P340,\" 71....+0000000000000000 \"))","v":""},null,""]
[null,{"$f":"IF(I341=\"\",\"\",ROWS($A$3:A341))","v":""},"","","","","","","","",{"$f":"IFERROR(SMALL($B$3:$B$2002,ROWS($A$3:A341)),\"\")","v":""},"","",null,"","","",{"$f":"IF(O341=\"\",\"\",CONCATENATE(\"*11....+\",VLOOKUP(16-(LEN(N341)),'1'!$A$1:$B$16,2,TRUE),N341,\" 81..40+\",VLOOKUP(16-(LEN(O341)),'1'!$A$1:$B$16,2,TRUE),O341,\" 82..40+\",VLOOKUP(16-(LEN(O341)),'1'!$A$1:$B$16,2,TRUE),P341,\" 71....+0000000000000000 \"))","v":""},null,""]
[null,{"$f":"IF(I342=\"\",\"\",ROWS($A$3:A342))","v":""},"","","","","","","","",{"$f":"IFERROR(SMALL($B$3:$B$2002,ROWS($A$3:A342)),\"\")","v":""},"","",null,"","","",{"$f":"IF(O342=\"\",\"\",CONCATENATE(\"*11....+\",VLOOKUP(16-(LEN(N342)),'1'!$A$1:$B$16,2,TRUE),N342,\" 81..40+\",VLOOKUP(16-(LEN(O342)),'1'!$A$1:$B$16,2,TRUE),O342,\" 82..40+\",VLOOKUP(16-(LEN(O342)),'1'!$A$1:$B$16,2,TRUE),P342,\" 71....+0000000000000000 \"))","v":""},null,""]
[null,{"$f":"IF(I343=\"\",\"\",ROWS($A$3:A343))","v":""},"","","","","","","","",{"$f":"IFERROR(SMALL($B$3:$B$2002,ROWS($A$3:A343)),\"\")","v":""},"","",null,"","","",{"$f":"IF(O343=\"\",\"\",CONCATENATE(\"*11....+\",VLOOKUP(16-(LEN(N343)),'1'!$A$1:$B$16,2,TRUE),N343,\" 81..40+\",VLOOKUP(16-(LEN(O343)),'1'!$A$1:$B$16,2,TRUE),O343,\" 82..40+\",VLOOKUP(16-(LEN(O343)),'1'!$A$1:$B$16,2,TRUE),P343,\" 71....+0000000000000000 \"))","v":""},null,""]
[null,{"$f":"IF(I344=\"\",\"\",ROWS($A$3:A344))","v":""},"","","","","","","","",{"$f":"IFERROR(SMALL($B$3:$B$2002,ROWS($A$3:A344)),\"\")","v":""},"","",null,"","","",{"$f":"IF(O344=\"\",\"\",CONCATENATE(\"*11....+\",VLOOKUP(16-(LEN(N344)),'1'!$A$1:$B$16,2,TRUE),N344,\" 81..40+\",VLOOKUP(16-(LEN(O344)),'1'!$A$1:$B$16,2,TRUE),O344,\" 82..40+\",VLOOKUP(16-(LEN(O344)),'1'!$A$1:$B$16,2,TRUE),P344,\" 71....+0000000000000000 \"))","v":""},null,""]
[null,{"$f":"IF(I345=\"\",\"\",ROWS($A$3:A345))","v":""},"","","","","","","","",{"$f":"IFERROR(SMALL($B$3:$B$2002,ROWS($A$3:A345)),\"\")","v":""},"","",null,"","","",{"$f":"IF(O345=\"\",\"\",CONCATENATE(\"*11....+\",VLOOKUP(16-(LEN(N345)),'1'!$A$1:$B$16,2,TRUE),N345,\" 81..40+\",VLOOKUP(16-(LEN(O345)),'1'!$A$1:$B$16,2,TRUE),O345,\" 82..40+\",VLOOKUP(16-(LEN(O345)),'1'!$A$1:$B$16,2,TRUE),P345,\" 71....+0000000000000000 \"))","v":""},null,""]
[null,{"$f":"IF(I346=\"\",\"\",ROWS($A$3:A346))","v":""},"","","","","","","","",{"$f":"IFERROR(SMALL($B$3:$B$2002,ROWS($A$3:A346)),\"\")","v":""},"","",null,"","","",{"$f":"IF(O346=\"\",\"\",CONCATENATE(\"*11....+\",VLOOKUP(16-(LEN(N346)),'1'!$A$1:$B$16,2,TRUE),N346,\" 81..40+\",VLOOKUP(16-(LEN(O346)),'1'!$A$1:$B$16,2,TRUE),O346,\" 82..40+\",VLOOKUP(16-(LEN(O346)),'1'!$A$1:$B$16,2,TRUE),P346,\" 71....+0000000000000000 \"))","v":""},null,""]
[null,{"$f":"IF(I347=\"\",\"\",ROWS($A$3:A347))","v":""},"","","","","","","","",{"$f":"IFERROR(SMALL($B$3:$B$2002,ROWS($A$3:A347)),\"\")","v":""},"","",null,"","","",{"$f":"IF(O347=\"\",\"\",CONCATENATE(\"*11....+\",VLOOKUP(16-(LEN(N347)),'1'!$A$1:$B$16,2,TRUE),N347,\" 81..40+\",VLOOKUP(16-(LEN(O347)),'1'!$A$1:$B$16,2,TRUE),O347,\" 82..40+\",VLOOKUP(16-(LEN(O347)),'1'!$A$1:$B$16,2,TRUE),P347,\" 71....+0000000000000000 \"))","v":""},null,""]
[null,{"$f":"IF(I348=\"\",\"\",ROWS($A$3:A348))","v":""},"","","","","","","","",{"$f":"IFERROR(SMALL($B$3:$B$2002,ROWS($A$3:A348)),\"\")","v":""},"","",null,"","","",{"$f":"IF(O348=\"\",\"\",CONCATENATE(\"*11....+\",VLOOKUP(16-(LEN(N348)),'1'!$A$1:$B$16,2,TRUE),N348,\" 81..40+\",VLOOKUP(16-(LEN(O348)),'1'!$A$1:$B$16,2,TRUE),O348,\" 82..40+\",VLOOKUP(16-(LEN(O348)),'1'!$A$1:$B$16,2,TRUE),P348,\" 71....+0000000000000000 \"))","v":""},null,""]
[null,{"$f":"IF(I349=\"\",\"\",ROWS($A$3:A349))","v":""},"","","","","","","","",{"$f":"IFERROR(SMALL($B$3:$B$2002,ROWS($A$3:A349)),\"\")","v":""},"","",null,"","","",{"$f":"IF(O349=\"\",\"\",CONCATENATE(\"*11....+\",VLOOKUP(16-(LEN(N349)),'1'!$A$1:$B$16,2,TRUE),N349,\" 81..40+\",VLOOKUP(16-(LEN(O349)),'1'!$A$1:$B$16,2,TRUE),O349,\" 82..40+\",VLOOKUP(16-(LEN(O349)),'1'!$A$1:$B$16,2,TRUE),P349,\" 71....+0000000000000000 \"))","v":""},null,""]
[null,{"$f":"IF(I350=\"\",\"\",ROWS($A$3:A350))","v":""},"","","","","","","","",{"$f":"IFERROR(SMALL($B$3:$B$2002,ROWS($A$3:A350)),\"\")","v":""},"","",null,"","","",{"$f":"IF(O350=\"\",\"\",CONCATENATE(\"*11....+\",VLOOKUP(16-(LEN(N350)),'1'!$A$1:$B$16,2,TRUE),N350,\" 81..40+\",VLOOKUP(16-(LEN(O350)),'1'!$A$1:$B$16,2,TRUE),O350,\" 82..40+\",VLOOKUP(16-(LEN(O350)),'1'!$A$1:$B$16,2,TRUE),P350,\" 71....+0000000000000000 \"))","v":""},null,""]
[null,{"$f":"IF(I351=\"\",\"\",ROWS($A$3:A351))","v":""},"","","","","","","","",{"$f":"IFERROR(SMALL($B$3:$B$2002,ROWS($A$3:A351)),\"\")","v":""},"","",null,"","","",{"$f":"IF(O351=\"\",\"\",CONCATENATE(\"*11....+\",VLOOKUP(16-(LEN(N351)),'1'!$A$1:$B$16,2,TRUE),N351,\" 81..40+\",VLOOKUP(16-(LEN(O351)),'1'!$A$1:$B$16,2,TRUE),O351,\" 82..40+\",VLOOKUP(16-(LEN(O351)),'1'!$A$1:$B$16,2,TRUE),P351,\" 71....+0000000000000000 \"))","v":""},null,""]
[null,{"$f":"IF(I352=\"\",\"\",ROWS($A$3:A352))","v":""},"","","","","","","","",{"$f":"IFERROR(SMALL($B$3:$B$2002,ROWS($A$3:A352)),\"\")","v":""},"","",null,"","","",{"$f":"IF(O352=\"\",\"\",CONCATENATE(\"*11....+\",VLOOKUP(16-(LEN(N352)),'1'!$A$1:$B$16,2,TRUE),N352,\" 81..40+\",VLOOKUP(16-(LEN(O352)),'1'!$A$1:$B$16,2,TRUE),O352,\" 82..40+\",VLOOKUP(16-(LEN(O352)),'1'!$A$1:$B$16,2,TRUE),P352,\" 71....+0000000000000000 \"))","v":""},null,""]
[null,{"$f":"IF(I353=\"\",\"\",ROWS($A$3:A353))","v":""},"","","","","","","","",{"$f":"IFERROR(SMALL($B$3:$B$2002,ROWS($A$3:A353)),\"\")","v":""},"","",null,"","","",{"$f":"IF(O353=\"\",\"\",CONCATENATE(\"*11....+\",VLOOKUP(16-(LEN(N353)),'1'!$A$1:$B$16,2,TRUE),N353,\" 81..40+\",VLOOKUP(16-(LEN(O353)),'1'!$A$1:$B$16,2,TRUE),O353,\" 82..40+\",VLOOKUP(16-(LEN(O353)),'1'!$A$1:$B$16,2,TRUE),P353,\" 71....+0000000000000000 \"))","v":""},null,""]
[null,{"$f":"IF(I354=\"\",\"\",ROWS($A$3:A354))","v":""},"","","","","","","","",{"$f":"IFERROR(SMALL($B$3:$B$2002,ROWS($A$3:A354)),\"\")","v":""},"","",null,"","","",{"$f":"IF(O354=\"\",\"\",CONCATENATE(\"*11....+\",VLOOKUP(16-(LEN(N354)),'1'!$A$1:$B$16,2,TRUE),N354,\" 81..40+\",VLOOKUP(16-(LEN(O354)),'1'!$A$1:$B$16,2,TRUE),O354,\" 82..40+\",VLOOKUP(16-(LEN(O354)),'1'!$A$1:$B$16,2,TRUE),P354,\" 71....+0000000000000000 \"))","v":""},null,""]
[null,{"$f":"IF(I355=\"\",\"\",ROWS($A$3:A355))","v":""},"","","","","","","","",{"$f":"IFERROR(SMALL($B$3:$B$2002,ROWS($A$3:A355)),\"\")","v":""},"","",null,"","","",{"$f":"IF(O355=\"\",\"\",CONCATENATE(\"*11....+\",VLOOKUP(16-(LEN(N355)),'1'!$A$1:$B$16,2,TRUE),N355,\" 81..40+\",VLOOKUP(16-(LEN(O355)),'1'!$A$1:$B$16,2,TRUE),O355,\" 82..40+\",VLOOKUP(16-(LEN(O355)),'1'!$A$1:$B$16,2,TRUE),P355,\" 71....+0000000000000000 \"))","v":""},null,""]
[null,{"$f":"IF(I356=\"\",\"\",ROWS($A$3:A356))","v":""},"","","","","","","","",{"$f":"IFERROR(SMALL($B$3:$B$2002,ROWS($A$3:A356)),\"\")","v":""},"","",null,"","","",{"$f":"IF(O356=\"\",\"\",CONCATENATE(\"*11....+\",VLOOKUP(16-(LEN(N356)),'1'!$A$1:$B$16,2,TRUE),N356,\" 81..40+\",VLOOKUP(16-(LEN(O356)),'1'!$A$1:$B$16,2,TRUE),O356,\" 82..40+\",VLOOKUP(16-(LEN(O356)),'1'!$A$1:$B$16,2,TRUE),P356,\" 71....+0000000000000000 \"))","v":""},null,""]
[null,{"$f":"IF(I357=\"\",\"\",ROWS($A$3:A357))","v":""},"","","","","","","","",{"$f":"IFERROR(SMALL($B$3:$B$2002,ROWS($A$3:A357)),\"\")","v":""},"","",null,"","","",{"$f":"IF(O357=\"\",\"\",CONCATENATE(\"*11....+\",VLOOKUP(16-(LEN(N357)),'1'!$A$1:$B$16,2,TRUE),N357,\" 81..40+\",VLOOKUP(16-(LEN(O357)),'1'!$A$1:$B$16,2,TRUE),O357,\" 82..40+\",VLOOKUP(16-(LEN(O357)),'1'!$A$1:$B$16,2,TRUE),P357,\" 71....+0000000000000000 \"))","v":""},null,""]
[null,{"$f":"IF(I358=\"\",\"\",ROWS($A$3:A358))","v":""},"","","","","","","","",{"$f":"IFERROR(SMALL($B$3:$B$2002,ROWS($A$3:A358)),\"\")","v":""},"","",null,"","","",{"$f":"IF(O358=\"\",\"\",CONCATENATE(\"*11....+\",VLOOKUP(16-(LEN(N358)),'1'!$A$1:$B$16,2,TRUE),N358,\" 81..40+\",VLOOKUP(16-(LEN(O358)),'1'!$A$1:$B$16,2,TRUE),O358,\" 82..40+\",VLOOKUP(16-(LEN(O358)),'1'!$A$1:$B$16,2,TRUE),P358,\" 71....+0000000000000000 \"))","v":""},null,""]
[null,{"$f":"IF(I359=\"\",\"\",ROWS($A$3:A359))","v":""},"","","","","","","","",{"$f":"IFERROR(SMALL($B$3:$B$2002,ROWS($A$3:A359)),\"\")","v":""},"","",null,"","","",{"$f":"IF(O359=\"\",\"\",CONCATENATE(\"*11....+\",VLOOKUP(16-(LEN(N359)),'1'!$A$1:$B$16,2,TRUE),N359,\" 81..40+\",VLOOKUP(16-(LEN(O359)),'1'!$A$1:$B$16,2,TRUE),O359,\" 82..40+\",VLOOKUP(16-(LEN(O359)),'1'!$A$1:$B$16,2,TRUE),P359,\" 71....+0000000000000000 \"))","v":""},null,""]
[null,{"$f":"IF(I360=\"\",\"\",ROWS($A$3:A360))","v":""},"","","","","","","","",{"$f":"IFERROR(SMALL($B$3:$B$2002,ROWS($A$3:A360)),\"\")","v":""},"","",null,"","","",{"$f":"IF(O360=\"\",\"\",CONCATENATE(\"*11....+\",VLOOKUP(16-(LEN(N360)),'1'!$A$1:$B$16,2,TRUE),N360,\" 81..40+\",VLOOKUP(16-(LEN(O360)),'1'!$A$1:$B$16,2,TRUE),O360,\" 82..40+\",VLOOKUP(16-(LEN(O360)),'1'!$A$1:$B$16,2,TRUE),P360,\" 71....+0000000000000000 \"))","v":""},null,""]
[null,{"$f":"IF(I361=\"\",\"\",ROWS($A$3:A361))","v":""},"","","","","","","","",{"$f":"IFERROR(SMALL($B$3:$B$2002,ROWS($A$3:A361)),\"\")","v":""},"","",null,"","","",{"$f":"IF(O361=\"\",\"\",CONCATENATE(\"*11....+\",VLOOKUP(16-(LEN(N361)),'1'!$A$1:$B$16,2,TRUE),N361,\" 81..40+\",VLOOKUP(16-(LEN(O361)),'1'!$A$1:$B$16,2,TRUE),O361,\" 82..40+\",VLOOKUP(16-(LEN(O361)),'1'!$A$1:$B$16,2,TRUE),P361,\" 71....+0000000000000000 \"))","v":""},null,""]
[null,{"$f":"IF(I362=\"\",\"\",ROWS($A$3:A362))","v":""},"","","","","","","","",{"$f":"IFERROR(SMALL($B$3:$B$2002,ROWS($A$3:A362)),\"\")","v":""},"","",null,"","","",{"$f":"IF(O362=\"\",\"\",CONCATENATE(\"*11....+\",VLOOKUP(16-(LEN(N362)),'1'!$A$1:$B$16,2,TRUE),N362,\" 81..40+\",VLOOKUP(16-(LEN(O362)),'1'!$A$1:$B$16,2,TRUE),O362,\" 82..40+\",VLOOKUP(16-(LEN(O362)),'1'!$A$1:$B$16,2,TRUE),P362,\" 71....+0000000000000000 \"))","v":""},null,""]
[null,{"$f":"IF(I363=\"\",\"\",ROWS($A$3:A363))","v":""},"","","","","","","","",{"$f":"IFERROR(SMALL($B$3:$B$2002,ROWS($A$3:A363)),\"\")","v":""},"","",null,"","","",{"$f":"IF(O363=\"\",\"\",CONCATENATE(\"*11....+\",VLOOKUP(16-(LEN(N363)),'1'!$A$1:$B$16,2,TRUE),N363,\" 81..40+\",VLOOKUP(16-(LEN(O363)),'1'!$A$1:$B$16,2,TRUE),O363,\" 82..40+\",VLOOKUP(16-(LEN(O363)),'1'!$A$1:$B$16,2,TRUE),P363,\" 71....+0000000000000000 \"))","v":""},null,""]
[null,{"$f":"IF(I364=\"\",\"\",ROWS($A$3:A364))","v":""},"","","","","","","","",{"$f":"IFERROR(SMALL($B$3:$B$2002,ROWS($A$3:A364)),\"\")","v":""},"","",null,"","","",{"$f":"IF(O364=\"\",\"\",CONCATENATE(\"*11....+\",VLOOKUP(16-(LEN(N364)),'1'!$A$1:$B$16,2,TRUE),N364,\" 81..40+\",VLOOKUP(16-(LEN(O364)),'1'!$A$1:$B$16,2,TRUE),O364,\" 82..40+\",VLOOKUP(16-(LEN(O364)),'1'!$A$1:$B$16,2,TRUE),P364,\" 71....+0000000000000000 \"))","v":""},null,""]
[null,{"$f":"IF(I365=\"\",\"\",ROWS($A$3:A365))","v":""},"","","","","","","","",{"$f":"IFERROR(SMALL($B$3:$B$2002,ROWS($A$3:A365)),\"\")","v":""},"","",null,"","","",{"$f":"IF(O365=\"\",\"\",CONCATENATE(\"*11....+\",VLOOKUP(16-(LEN(N365)),'1'!$A$1:$B$16,2,TRUE),N365,\" 81..40+\",VLOOKUP(16-(LEN(O365)),'1'!$A$1:$B$16,2,TRUE),O365,\" 82..40+\",VLOOKUP(16-(LEN(O365)),'1'!$A$1:$B$16,2,TRUE),P365,\" 71....+0000000000000000 \"))","v":""},null,""]
[null,{"$f":"IF(I366=\"\",\"\",ROWS($A$3:A366))","v":""},"","","","","","","","",{"$f":"IFERROR(SMALL($B$3:$B$2002,ROWS($A$3:A366)),\"\")","v":""},"","",null,"","","",{"$f":"IF(O366=\"\",\"\",CONCATENATE(\"*11....+\",VLOOKUP(16-(LEN(N366)),'1'!$A$1:$B$16,2,TRUE),N366,\" 81..40+\",VLOOKUP(16-(LEN(O366)),'1'!$A$1:$B$16,2,TRUE),O366,\" 82..40+\",VLOOKUP(16-(LEN(O366)),'1'!$A$1:$B$16,2,TRUE),P366,\" 71....+0000000000000000 \"))","v":""},null,""]
[null,{"$f":"IF(I367=\"\",\"\",ROWS($A$3:A367))","v":""},"","","","","","","","",{"$f":"IFERROR(SMALL($B$3:$B$2002,ROWS($A$3:A367)),\"\")","v":""},"","",null,"","","",{"$f":"IF(O367=\"\",\"\",CONCATENATE(\"*11....+\",VLOOKUP(16-(LEN(N367)),'1'!$A$1:$B$16,2,TRUE),N367,\" 81..40+\",VLOOKUP(16-(LEN(O367)),'1'!$A$1:$B$16,2,TRUE),O367,\" 82..40+\",VLOOKUP(16-(LEN(O367)),'1'!$A$1:$B$16,2,TRUE),P367,\" 71....+0000000000000000 \"))","v":""},null,""]
[null,{"$f":"IF(I368=\"\",\"\",ROWS($A$3:A368))","v":""},"","","","","","","","",{"$f":"IFERROR(SMALL($B$3:$B$2002,ROWS($A$3:A368)),\"\")","v":""},"","",null,"","","",{"$f":"IF(O368=\"\",\"\",CONCATENATE(\"*11....+\",VLOOKUP(16-(LEN(N368)),'1'!$A$1:$B$16,2,TRUE),N368,\" 81..40+\",VLOOKUP(16-(LEN(O368)),'1'!$A$1:$B$16,2,TRUE),O368,\" 82..40+\",VLOOKUP(16-(LEN(O368)),'1'!$A$1:$B$16,2,TRUE),P368,\" 71....+0000000000000000 \"))","v":""},null,""]
[null,{"$f":"IF(I369=\"\",\"\",ROWS($A$3:A369))","v":""},"","","","","","","","",{"$f":"IFERROR(SMALL($B$3:$B$2002,ROWS($A$3:A369)),\"\")","v":""},"","",null,"","","",{"$f":"IF(O369=\"\",\"\",CONCATENATE(\"*11....+\",VLOOKUP(16-(LEN(N369)),'1'!$A$1:$B$16,2,TRUE),N369,\" 81..40+\",VLOOKUP(16-(LEN(O369)),'1'!$A$1:$B$16,2,TRUE),O369,\" 82..40+\",VLOOKUP(16-(LEN(O369)),'1'!$A$1:$B$16,2,TRUE),P369,\" 71....+0000000000000000 \"))","v":""},null,""]
[null,{"$f":"IF(I370=\"\",\"\",ROWS($A$3:A370))","v":""},"","","","","","","","",{"$f":"IFERROR(SMALL($B$3:$B$2002,ROWS($A$3:A370)),\"\")","v":""},"","",null,"","","",{"$f":"IF(O370=\"\",\"\",CONCATENATE(\"*11....+\",VLOOKUP(16-(LEN(N370)),'1'!$A$1:$B$16,2,TRUE),N370,\" 81..40+\",VLOOKUP(16-(LEN(O370)),'1'!$A$1:$B$16,2,TRUE),O370,\" 82..40+\",VLOOKUP(16-(LEN(O370)),'1'!$A$1:$B$16,2,TRUE),P370,\" 71....+0000000000000000 \"))","v":""},null,""]
[null,{"$f":"IF(I371=\"\",\"\",ROWS($A$3:A371))","v":""},"","","","","","","","",{"$f":"IFERROR(SMALL($B$3:$B$2002,ROWS($A$3:A371)),\"\")","v":""},"","",null,"","","",{"$f":"IF(O371=\"\",\"\",CONCATENATE(\"*11....+\",VLOOKUP(16-(LEN(N371)),'1'!$A$1:$B$16,2,TRUE),N371,\" 81..40+\",VLOOKUP(16-(LEN(O371)),'1'!$A$1:$B$16,2,TRUE),O371,\" 82..40+\",VLOOKUP(16-(LEN(O371)),'1'!$A$1:$B$16,2,TRUE),P371,\" 71....+0000000000000000 \"))","v":""},null,""]
[null,{"$f":"IF(I372=\"\",\"\",ROWS($A$3:A372))","v":""},"","","","","","","","",{"$f":"IFERROR(SMALL($B$3:$B$2002,ROWS($A$3:A372)),\"\")","v":""},"","",null,"","","",{"$f":"IF(O372=\"\",\"\",CONCATENATE(\"*11....+\",VLOOKUP(16-(LEN(N372)),'1'!$A$1:$B$16,2,TRUE),N372,\" 81..40+\",VLOOKUP(16-(LEN(O372)),'1'!$A$1:$B$16,2,TRUE),O372,\" 82..40+\",VLOOKUP(16-(LEN(O372)),'1'!$A$1:$B$16,2,TRUE),P372,\" 71....+0000000000000000 \"))","v":""},null,""]
[null,{"$f":"IF(I373=\"\",\"\",ROWS($A$3:A373))","v":""},"","","","","","","","",{"$f":"IFERROR(SMALL($B$3:$B$2002,ROWS($A$3:A373)),\"\")","v":""},"","",null,"","","",{"$f":"IF(O373=\"\",\"\",CONCATENATE(\"*11....+\",VLOOKUP(16-(LEN(N373)),'1'!$A$1:$B$16,2,TRUE),N373,\" 81..40+\",VLOOKUP(16-(LEN(O373)),'1'!$A$1:$B$16,2,TRUE),O373,\" 82..40+\",VLOOKUP(16-(LEN(O373)),'1'!$A$1:$B$16,2,TRUE),P373,\" 71....+0000000000000000 \"))","v":""},null,""]
[null,{"$f":"IF(I374=\"\",\"\",ROWS($A$3:A374))","v":""},"","","","","","","","",{"$f":"IFERROR(SMALL($B$3:$B$2002,ROWS($A$3:A374)),\"\")","v":""},"","",null,"","","",{"$f":"IF(O374=\"\",\"\",CONCATENATE(\"*11....+\",VLOOKUP(16-(LEN(N374)),'1'!$A$1:$B$16,2,TRUE),N374,\" 81..40+\",VLOOKUP(16-(LEN(O374)),'1'!$A$1:$B$16,2,TRUE),O374,\" 82..40+\",VLOOKUP(16-(LEN(O374)),'1'!$A$1:$B$16,2,TRUE),P374,\" 71....+0000000000000000 \"))","v":""},null,""]
[null,{"$f":"IF(I375=\"\",\"\",ROWS($A$3:A375))","v":""},"","","","","","","","",{"$f":"IFERROR(SMALL($B$3:$B$2002,ROWS($A$3:A375)),\"\")","v":""},"","",null,"","","",{"$f":"IF(O375=\"\",\"\",CONCATENATE(\"*11....+\",VLOOKUP(16-(LEN(N375)),'1'!$A$1:$B$16,2,TRUE),N375,\" 81..40+\",VLOOKUP(16-(LEN(O375)),'1'!$A$1:$B$16,2,TRUE),O375,\" 82..40+\",VLOOKUP(16-(LEN(O375)),'1'!$A$1:$B$16,2,TRUE),P375,\" 71....+0000000000000000 \"))","v":""},null,""]
[null,{"$f":"IF(I376=\"\",\"\",ROWS($A$3:A376))","v":""},"","","","","","","","",{"$f":"IFERROR(SMALL($B$3:$B$2002,ROWS($A$3:A376)),\"\")","v":""},"","",null,"","","",{"$f":"IF(O376=\"\",\"\",CONCATENATE(\"*11....+\",VLOOKUP(16-(LEN(N376)),'1'!$A$1:$B$16,2,TRUE),N376,\" 81..40+\",VLOOKUP(16-(LEN(O376)),'1'!$A$1:$B$16,2,TRUE),O376,\" 82..40+\",VLOOKUP(16-(LEN(O376)),'1'!$A$1:$B$16,2,TRUE),P376,\" 71....+0000000000000000 \"))","v":""},null,""]
[null,{"$f":"IF(I377=\"\",\"\",ROWS($A$3:A377))","v":""},"","","","","","","","",{"$f":"IFERROR(SMALL($B$3:$B$2002,ROWS($A$3:A377)),\"\")","v":""},"","",null,"","","",{"$f":"IF(O377=\"\",\"\",CONCATENATE(\"*11....+\",VLOOKUP(16-(LEN(N377)),'1'!$A$1:$B$16,2,TRUE),N377,\" 81..40+\",VLOOKUP(16-(LEN(O377)),'1'!$A$1:$B$16,2,TRUE),O377,\" 82..40+\",VLOOKUP(16-(LEN(O377)),'1'!$A$1:$B$16,2,TRUE),P377,\" 71....+0000000000000000 \"))","v":""},null,""]
[null,{"$f":"IF(I378=\"\",\"\",ROWS($A$3:A378))","v":""},"","","","","","","","",{"$f":"IFERROR(SMALL($B$3:$B$2002,ROWS($A$3:A378)),\"\")","v":""},"","",null,"","","",{"$f":"IF(O378=\"\",\"\",CONCATENATE(\"*11....+\",VLOOKUP(16-(LEN(N378)),'1'!$A$1:$B$16,2,TRUE),N378,\" 81..40+\",VLOOKUP(16-(LEN(O378)),'1'!$A$1:$B$16,2,TRUE),O378,\" 82..40+\",VLOOKUP(16-(LEN(O378)),'1'!$A$1:$B$16,2,TRUE),P378,\" 71....+0000000000000000 \"))","v":""},null,""]
[null,{"$f":"IF(I379=\"\",\"\",ROWS($A$3:A379))","v":""},"","","","","","","","",{"$f":"IFERROR(SMALL($B$3:$B$2002,ROWS($A$3:A379)),\"\")","v":""},"","",null,"","","",{"$f":"IF(O379=\"\",\"\",CONCATENATE(\"*11....+\",VLOOKUP(16-(LEN(N379)),'1'!$A$1:$B$16,2,TRUE),N379,\" 81..40+\",VLOOKUP(16-(LEN(O379)),'1'!$A$1:$B$16,2,TRUE),O379,\" 82..40+\",VLOOKUP(16-(LEN(O379)),'1'!$A$1:$B$16,2,TRUE),P379,\" 71....+0000000000000000 \"))","v":""},null,""]
[null,{"$f":"IF(I380=\"\",\"\",ROWS($A$3:A380))","v":""},"","","","","","","","",{"$f":"IFERROR(SMALL($B$3:$B$2002,ROWS($A$3:A380)),\"\")","v":""},"","",null,"","","",{"$f":"IF(O380=\"\",\"\",CONCATENATE(\"*11....+\",VLOOKUP(16-(LEN(N380)),'1'!$A$1:$B$16,2,TRUE),N380,\" 81..40+\",VLOOKUP(16-(LEN(O380)),'1'!$A$1:$B$16,2,TRUE),O380,\" 82..40+\",VLOOKUP(16-(LEN(O380)),'1'!$A$1:$B$16,2,TRUE),P380,\" 71....+0000000000000000 \"))","v":""},null,""]
[null,{"$f":"IF(I381=\"\",\"\",ROWS($A$3:A381))","v":""},"","","","","","","","",{"$f":"IFERROR(SMALL($B$3:$B$2002,ROWS($A$3:A381)),\"\")","v":""},"","",null,"","","",{"$f":"IF(O381=\"\",\"\",CONCATENATE(\"*11....+\",VLOOKUP(16-(LEN(N381)),'1'!$A$1:$B$16,2,TRUE),N381,\" 81..40+\",VLOOKUP(16-(LEN(O381)),'1'!$A$1:$B$16,2,TRUE),O381,\" 82..40+\",VLOOKUP(16-(LEN(O381)),'1'!$A$1:$B$16,2,TRUE),P381,\" 71....+0000000000000000 \"))","v":""},null,""]
[null,{"$f":"IF(I382=\"\",\"\",ROWS($A$3:A382))","v":""},"","","","","","","","",{"$f":"IFERROR(SMALL($B$3:$B$2002,ROWS($A$3:A382)),\"\")","v":""},"","",null,"","","",{"$f":"IF(O382=\"\",\"\",CONCATENATE(\"*11....+\",VLOOKUP(16-(LEN(N382)),'1'!$A$1:$B$16,2,TRUE),N382,\" 81..40+\",VLOOKUP(16-(LEN(O382)),'1'!$A$1:$B$16,2,TRUE),O382,\" 82..40+\",VLOOKUP(16-(LEN(O382)),'1'!$A$1:$B$16,2,TRUE),P382,\" 71....+0000000000000000 \"))","v":""},null,""]
[null,{"$f":"IF(I383=\"\",\"\",ROWS($A$3:A383))","v":""},"","","","","","","","",{"$f":"IFERROR(SMALL($B$3:$B$2002,ROWS($A$3:A383)),\"\")","v":""},"","",null,"","","",{"$f":"IF(O383=\"\",\"\",CONCATENATE(\"*11....+\",VLOOKUP(16-(LEN(N383)),'1'!$A$1:$B$16,2,TRUE),N383,\" 81..40+\",VLOOKUP(16-(LEN(O383)),'1'!$A$1:$B$16,2,TRUE),O383,\" 82..40+\",VLOOKUP(16-(LEN(O383)),'1'!$A$1:$B$16,2,TRUE),P383,\" 71....+0000000000000000 \"))","v":""},null,""]
[null,{"$f":"IF(I384=\"\",\"\",ROWS($A$3:A384))","v":""},"","","","","","","","",{"$f":"IFERROR(SMALL($B$3:$B$2002,ROWS($A$3:A384)),\"\")","v":""},"","",null,"","","",{"$f":"IF(O384=\"\",\"\",CONCATENATE(\"*11....+\",VLOOKUP(16-(LEN(N384)),'1'!$A$1:$B$16,2,TRUE),N384,\" 81..40+\",VLOOKUP(16-(LEN(O384)),'1'!$A$1:$B$16,2,TRUE),O384,\" 82..40+\",VLOOKUP(16-(LEN(O384)),'1'!$A$1:$B$16,2,TRUE),P384,\" 71....+0000000000000000 \"))","v":""},null,""]
[null,{"$f":"IF(I385=\"\",\"\",ROWS($A$3:A385))","v":""},"","","","","","","","",{"$f":"IFERROR(SMALL($B$3:$B$2002,ROWS($A$3:A385)),\"\")","v":""},"","",null,"","","",{"$f":"IF(O385=\"\",\"\",CONCATENATE(\"*11....+\",VLOOKUP(16-(LEN(N385)),'1'!$A$1:$B$16,2,TRUE),N385,\" 81..40+\",VLOOKUP(16-(LEN(O385)),'1'!$A$1:$B$16,2,TRUE),O385,\" 82..40+\",VLOOKUP(16-(LEN(O385)),'1'!$A$1:$B$16,2,TRUE),P385,\" 71....+0000000000000000 \"))","v":""},null,""]
[null,{"$f":"IF(I386=\"\",\"\",ROWS($A$3:A386))","v":""},"","","","","","","","",{"$f":"IFERROR(SMALL($B$3:$B$2002,ROWS($A$3:A386)),\"\")","v":""},"","",null,"","","",{"$f":"IF(O386=\"\",\"\",CONCATENATE(\"*11....+\",VLOOKUP(16-(LEN(N386)),'1'!$A$1:$B$16,2,TRUE),N386,\" 81..40+\",VLOOKUP(16-(LEN(O386)),'1'!$A$1:$B$16,2,TRUE),O386,\" 82..40+\",VLOOKUP(16-(LEN(O386)),'1'!$A$1:$B$16,2,TRUE),P386,\" 71....+0000000000000000 \"))","v":""},null,""]
[null,{"$f":"IF(I387=\"\",\"\",ROWS($A$3:A387))","v":""},"","","","","","","","",{"$f":"IFERROR(SMALL($B$3:$B$2002,ROWS($A$3:A387)),\"\")","v":""},"","",null,"","","",{"$f":"IF(O387=\"\",\"\",CONCATENATE(\"*11....+\",VLOOKUP(16-(LEN(N387)),'1'!$A$1:$B$16,2,TRUE),N387,\" 81..40+\",VLOOKUP(16-(LEN(O387)),'1'!$A$1:$B$16,2,TRUE),O387,\" 82..40+\",VLOOKUP(16-(LEN(O387)),'1'!$A$1:$B$16,2,TRUE),P387,\" 71....+0000000000000000 \"))","v":""},null,""]
[null,{"$f":"IF(I388=\"\",\"\",ROWS($A$3:A388))","v":""},{"$f":"IF(LEN(A388)=59,ROUND(VALUE(MID(A388,23,9)),3),\"\")","v":""},{"$f":"IF(LEN(A388)=24,\"\",\"\")","v":""},{"$f":"IF(LEN(A388)=63,ROUND(VALUE(MID(A388,23,12)),3),\"\")","v":""},{"$f":"IF(LEN(A388)=59,ROUND(VALUE(MID(A388,37,9)),3),\"\")","v":""},{"$f":"IF(LEN(A388)=24,\"\",\"\")","v":""},{"$f":"IF(LEN(A388)=63,ROUND(VALUE(MID(A388,39,12)),3),\"\")","v":""},{"$f":"IF(AND(C388=\"\",D388=\"\",E388=\"\"),\"\",ROUND(CONCATENATE(C388,D388,E388),3))","v":""},{"$f":"IF(AND(C388=\"\",D388=\"\",E388=\"\"),\"\",ROUND(CONCATENATE(F388,G388,H388),3))","v":""},{"$f":"IFERROR(SMALL($B$3:$B$2002,ROWS($A$3:A388)),\"\")","v":""},{"$f":"IF(K388=\"\",\"\",ROUND(VALUE(VLOOKUP(K388,$B$3:$J$2002,8,TRUE)),3))","v":""},{"$f":"IF(K388=\"\",\"\",ROUND(VALUE(VLOOKUP(K388,$B$3:$J$2002,9,TRUE)),3))","v":""},null,{"$f":"IF(L388=\"\",\"\",L388/0.001)","v":""},"",{"$f":"IF(O388=\"\",\"\",16-LEN(N388))","v":""},{"$f":"IF(O388=\"\",\"\",CONCATENATE(\"*11....+\",VLOOKUP(16-(LEN(N388)),'1'!$A$1:$B$16,2,TRUE),N388,\" 81..40+\",VLOOKUP(16-(LEN(O388)),'1'!$A$1:$B$16,2,TRUE),O388,\" 82..40+\",VLOOKUP(16-(LEN(O388)),'1'!$A$1:$B$16,2,TRUE),P388,\" 71....+0000000000000000 \"))","v":""},null,{"$f":"IF(O388=\"\",\"\",CONCATENATE(N388,\",\",L388,\",\",M388))","v":""}]
[null,{"$f":"IF(I389=\"\",\"\",ROWS($A$3:A389))","v":""},"","","","","","","","",{"$f":"IFERROR(SMALL($B$3:$B$2002,ROWS($A$3:A389)),\"\")","v":""},"","",null,"","","",{"$f":"IF(O389=\"\",\"\",CONCATENATE(\"*11....+\",VLOOKUP(16-(LEN(N389)),'1'!$A$1:$B$16,2,TRUE),N389,\" 81..40+\",VLOOKUP(16-(LEN(O389)),'1'!$A$1:$B$16,2,TRUE),O389,\" 82..40+\",VLOOKUP(16-(LEN(O389)),'1'!$A$1:$B$16,2,TRUE),P389,\" 71....+0000000000000000 \"))","v":""},null,""]
[null,{"$f":"IF(I390=\"\",\"\",ROWS($A$3:A390))","v":""},"","","","","","","","",{"$f":"IFERROR(SMALL($B$3:$B$2002,ROWS($A$3:A390)),\"\")","v":""},"","",null,"","","",{"$f":"IF(O390=\"\",\"\",CONCATENATE(\"*11....+\",VLOOKUP(16-(LEN(N390)),'1'!$A$1:$B$16,2,TRUE),N390,\" 81..40+\",VLOOKUP(16-(LEN(O390)),'1'!$A$1:$B$16,2,TRUE),O390,\" 82..40+\",VLOOKUP(16-(LEN(O390)),'1'!$A$1:$B$16,2,TRUE),P390,\" 71....+0000000000000000 \"))","v":""},null,""]
[null,{"$f":"IF(I391=\"\",\"\",ROWS($A$3:A391))","v":""},"","","","","","","","",{"$f":"IFERROR(SMALL($B$3:$B$2002,ROWS($A$3:A391)),\"\")","v":""},"","",null,"","","",{"$f":"IF(O391=\"\",\"\",CONCATENATE(\"*11....+\",VLOOKUP(16-(LEN(N391)),'1'!$A$1:$B$16,2,TRUE),N391,\" 81..40+\",VLOOKUP(16-(LEN(O391)),'1'!$A$1:$B$16,2,TRUE),O391,\" 82..40+\",VLOOKUP(16-(LEN(O391)),'1'!$A$1:$B$16,2,TRUE),P391,\" 71....+0000000000000000 \"))","v":""},null,""]
[null,{"$f":"IF(I392=\"\",\"\",ROWS($A$3:A392))","v":""},"","","","","","","","",{"$f":"IFERROR(SMALL($B$3:$B$2002,ROWS($A$3:A392)),\"\")","v":""},"","",null,"","","",{"$f":"IF(O392=\"\",\"\",CONCATENATE(\"*11....+\",VLOOKUP(16-(LEN(N392)),'1'!$A$1:$B$16,2,TRUE),N392,\" 81..40+\",VLOOKUP(16-(LEN(O392)),'1'!$A$1:$B$16,2,TRUE),O392,\" 82..40+\",VLOOKUP(16-(LEN(O392)),'1'!$A$1:$B$16,2,TRUE),P392,\" 71....+0000000000000000 \"))","v":""},null,""]
[null,{"$f":"IF(I393=\"\",\"\",ROWS($A$3:A393))","v":""},"","","","","","","","",{"$f":"IFERROR(SMALL($B$3:$B$2002,ROWS($A$3:A393)),\"\")","v":""},"","",null,"","","",{"$f":"IF(O393=\"\",\"\",CONCATENATE(\"*11....+\",VLOOKUP(16-(LEN(N393)),'1'!$A$1:$B$16,2,TRUE),N393,\" 81..40+\",VLOOKUP(16-(LEN(O393)),'1'!$A$1:$B$16,2,TRUE),O393,\" 82..40+\",VLOOKUP(16-(LEN(O393)),'1'!$A$1:$B$16,2,TRUE),P393,\" 71....+0000000000000000 \"))","v":""},null,""]
[null,{"$f":"IF(I394=\"\",\"\",ROWS($A$3:A394))","v":""},"","","","","","","","",{"$f":"IFERROR(SMALL($B$3:$B$2002,ROWS($A$3:A394)),\"\")","v":""},"","",null,"","","",{"$f":"IF(O394=\"\",\"\",CONCATENATE(\"*11....+\",VLOOKUP(16-(LEN(N394)),'1'!$A$1:$B$16,2,TRUE),N394,\" 81..40+\",VLOOKUP(16-(LEN(O394)),'1'!$A$1:$B$16,2,TRUE),O394,\" 82..40+\",VLOOKUP(16-(LEN(O394)),'1'!$A$1:$B$16,2,TRUE),P394,\" 71....+0000000000000000 \"))","v":""},null,""]
[null,{"$f":"IF(I395=\"\",\"\",ROWS($A$3:A395))","v":""},"","","","","","","","",{"$f":"IFERROR(SMALL($B$3:$B$2002,ROWS($A$3:A395)),\"\")","v":""},"","",null,"","","",{"$f":"IF(O395=\"\",\"\",CONCATENATE(\"*11....+\",VLOOKUP(16-(LEN(N395)),'1'!$A$1:$B$16,2,TRUE),N395,\" 81..40+\",VLOOKUP(16-(LEN(O395)),'1'!$A$1:$B$16,2,TRUE),O395,\" 82..40+\",VLOOKUP(16-(LEN(O395)),'1'!$A$1:$B$16,2,TRUE),P395,\" 71....+0000000000000000 \"))","v":""},null,""]
[null,{"$f":"IF(I396=\"\",\"\",ROWS($A$3:A396))","v":""},"","","","","","","","",{"$f":"IFERROR(SMALL($B$3:$B$2002,ROWS($A$3:A396)),\"\")","v":""},"","",null,"","","",{"$f":"IF(O396=\"\",\"\",CONCATENATE(\"*11....+\",VLOOKUP(16-(LEN(N396)),'1'!$A$1:$B$16,2,TRUE),N396,\" 81..40+\",VLOOKUP(16-(LEN(O396)),'1'!$A$1:$B$16,2,TRUE),O396,\" 82..40+\",VLOOKUP(16-(LEN(O396)),'1'!$A$1:$B$16,2,TRUE),P396,\" 71....+0000000000000000 \"))","v":""},null,""]
[null,{"$f":"IF(I397=\"\",\"\",ROWS($A$3:A397))","v":""},"","","","","","","","",{"$f":"IFERROR(SMALL($B$3:$B$2002,ROWS($A$3:A397)),\"\")","v":""},"","",null,"","","",{"$f":"IF(O397=\"\",\"\",CONCATENATE(\"*11....+\",VLOOKUP(16-(LEN(N397)),'1'!$A$1:$B$16,2,TRUE),N397,\" 81..40+\",VLOOKUP(16-(LEN(O397)),'1'!$A$1:$B$16,2,TRUE),O397,\" 82..40+\",VLOOKUP(16-(LEN(O397)),'1'!$A$1:$B$16,2,TRUE),P397,\" 71....+0000000000000000 \"))","v":""},null,""]
[null,{"$f":"IF(I398=\"\",\"\",ROWS($A$3:A398))","v":""},"","","","","","","","",{"$f":"IFERROR(SMALL($B$3:$B$2002,ROWS($A$3:A398)),\"\")","v":""},"","",null,"","","",{"$f":"IF(O398=\"\",\"\",CONCATENATE(\"*11....+\",VLOOKUP(16-(LEN(N398)),'1'!$A$1:$B$16,2,TRUE),N398,\" 81..40+\",VLOOKUP(16-(LEN(O398)),'1'!$A$1:$B$16,2,TRUE),O398,\" 82..40+\",VLOOKUP(16-(LEN(O398)),'1'!$A$1:$B$16,2,TRUE),P398,\" 71....+0000000000000000 \"))","v":""},null,""]
[null,{"$f":"IF(I399=\"\",\"\",ROWS($A$3:A399))","v":""},"","","","","","","","",{"$f":"IFERROR(SMALL($B$3:$B$2002,ROWS($A$3:A399)),\"\")","v":""},"","",null,"","","",{"$f":"IF(O399=\"\",\"\",CONCATENATE(\"*11....+\",VLOOKUP(16-(LEN(N399)),'1'!$A$1:$B$16,2,TRUE),N399,\" 81..40+\",VLOOKUP(16-(LEN(O399)),'1'!$A$1:$B$16,2,TRUE),O399,\" 82..40+\",VLOOKUP(16-(LEN(O399)),'1'!$A$1:$B$16,2,TRUE),P399,\" 71....+0000000000000000 \"))","v":""},null,""]
[null,{"$f":"IF(I400=\"\",\"\",ROWS($A$3:A400))","v":""},"","","","","","","","",{"$f":"IFERROR(SMALL($B$3:$B$2002,ROWS($A$3:A400)),\"\")","v":""},"","",null,"","","",{"$f":"IF(O400=\"\",\"\",CONCATENATE(\"*11....+\",VLOOKUP(16-(LEN(N400)),'1'!$A$1:$B$16,2,TRUE),N400,\" 81..40+\",VLOOKUP(16-(LEN(O400)),'1'!$A$1:$B$16,2,TRUE),O400,\" 82..40+\",VLOOKUP(16-(LEN(O400)),'1'!$A$1:$B$16,2,TRUE),P400,\" 71....+0000000000000000 \"))","v":""},null,""]
[null,{"$f":"IF(I401=\"\",\"\",ROWS($A$3:A401))","v":""},"","","","","","","","",{"$f":"IFERROR(SMALL($B$3:$B$2002,ROWS($A$3:A401)),\"\")","v":""},"","",null,"","","",{"$f":"IF(O401=\"\",\"\",CONCATENATE(\"*11....+\",VLOOKUP(16-(LEN(N401)),'1'!$A$1:$B$16,2,TRUE),N401,\" 81..40+\",VLOOKUP(16-(LEN(O401)),'1'!$A$1:$B$16,2,TRUE),O401,\" 82..40+\",VLOOKUP(16-(LEN(O401)),'1'!$A$1:$B$16,2,TRUE),P401,\" 71....+0000000000000000 \"))","v":""},null,""]
[null,{"$f":"IF(I402=\"\",\"\",ROWS($A$3:A402))","v":""},"","","","","","","","",{"$f":"IFERROR(SMALL($B$3:$B$2002,ROWS($A$3:A402)),\"\")","v":""},"","",null,"","","",{"$f":"IF(O402=\"\",\"\",CONCATENATE(\"*11....+\",VLOOKUP(16-(LEN(N402)),'1'!$A$1:$B$16,2,TRUE),N402,\" 81..40+\",VLOOKUP(16-(LEN(O402)),'1'!$A$1:$B$16,2,TRUE),O402,\" 82..40+\",VLOOKUP(16-(LEN(O402)),'1'!$A$1:$B$16,2,TRUE),P402,\" 71....+0000000000000000 \"))","v":""},null,""]
[null,{"$f":"IF(I403=\"\",\"\",ROWS($A$3:A403))","v":""},"","","","","","","","",{"$f":"IFERROR(SMALL($B$3:$B$2002,ROWS($A$3:A403)),\"\")","v":""},"","",null,"","","",{"$f":"IF(O403=\"\",\"\",CONCATENATE(\"*11....+\",VLOOKUP(16-(LEN(N403)),'1'!$A$1:$B$16,2,TRUE),N403,\" 81..40+\",VLOOKUP(16-(LEN(O403)),'1'!$A$1:$B$16,2,TRUE),O403,\" 82..40+\",VLOOKUP(16-(LEN(O403)),'1'!$A$1:$B$16,2,TRUE),P403,\" 71....+0000000000000000 \"))","v":""},null,""]
[null,{"$f":"IF(I404=\"\",\"\",ROWS($A$3:A404))","v":""},"","","","","","","","",{"$f":"IFERROR(SMALL($B$3:$B$2002,ROWS($A$3:A404)),\"\")","v":""},"","",null,"","","",{"$f":"IF(O404=\"\",\"\",CONCATENATE(\"*11....+\",VLOOKUP(16-(LEN(N404)),'1'!$A$1:$B$16,2,TRUE),N404,\" 81..40+\",VLOOKUP(16-(LEN(O404)),'1'!$A$1:$B$16,2,TRUE),O404,\" 82..40+\",VLOOKUP(16-(LEN(O404)),'1'!$A$1:$B$16,2,TRUE),P404,\" 71....+0000000000000000 \"))","v":""},null,""]
[null,{"$f":"IF(I405=\"\",\"\",ROWS($A$3:A405))","v":""},"","","","","","","","",{"$f":"IFERROR(SMALL($B$3:$B$2002,ROWS($A$3:A405)),\"\")","v":""},"","",null,"","","",{"$f":"IF(O405=\"\",\"\",CONCATENATE(\"*11....+\",VLOOKUP(16-(LEN(N405)),'1'!$A$1:$B$16,2,TRUE),N405,\" 81..40+\",VLOOKUP(16-(LEN(O405)),'1'!$A$1:$B$16,2,TRUE),O405,\" 82..40+\",VLOOKUP(16-(LEN(O405)),'1'!$A$1:$B$16,2,TRUE),P405,\" 71....+0000000000000000 \"))","v":""},null,""]
[null,{"$f":"IF(I406=\"\",\"\",ROWS($A$3:A406))","v":""},"","","","","","","","",{"$f":"IFERROR(SMALL($B$3:$B$2002,ROWS($A$3:A406)),\"\")","v":""},"","",null,"","","",{"$f":"IF(O406=\"\",\"\",CONCATENATE(\"*11....+\",VLOOKUP(16-(LEN(N406)),'1'!$A$1:$B$16,2,TRUE),N406,\" 81..40+\",VLOOKUP(16-(LEN(O406)),'1'!$A$1:$B$16,2,TRUE),O406,\" 82..40+\",VLOOKUP(16-(LEN(O406)),'1'!$A$1:$B$16,2,TRUE),P406,\" 71....+0000000000000000 \"))","v":""},null,""]
[null,{"$f":"IF(I407=\"\",\"\",ROWS($A$3:A407))","v":""},"","","","","","","","",{"$f":"IFERROR(SMALL($B$3:$B$2002,ROWS($A$3:A407)),\"\")","v":""},"","",null,"","","",{"$f":"IF(O407=\"\",\"\",CONCATENATE(\"*11....+\",VLOOKUP(16-(LEN(N407)),'1'!$A$1:$B$16,2,TRUE),N407,\" 81..40+\",VLOOKUP(16-(LEN(O407)),'1'!$A$1:$B$16,2,TRUE),O407,\" 82..40+\",VLOOKUP(16-(LEN(O407)),'1'!$A$1:$B$16,2,TRUE),P407,\" 71....+0000000000000000 \"))","v":""},null,""]
[null,{"$f":"IF(I408=\"\",\"\",ROWS($A$3:A408))","v":""},"","","","","","","","",{"$f":"IFERROR(SMALL($B$3:$B$2002,ROWS($A$3:A408)),\"\")","v":""},"","",null,"","","",{"$f":"IF(O408=\"\",\"\",CONCATENATE(\"*11....+\",VLOOKUP(16-(LEN(N408)),'1'!$A$1:$B$16,2,TRUE),N408,\" 81..40+\",VLOOKUP(16-(LEN(O408)),'1'!$A$1:$B$16,2,TRUE),O408,\" 82..40+\",VLOOKUP(16-(LEN(O408)),'1'!$A$1:$B$16,2,TRUE),P408,\" 71....+0000000000000000 \"))","v":""},null,""]
[null,{"$f":"IF(I409=\"\",\"\",ROWS($A$3:A409))","v":""},"","","","","","","","",{"$f":"IFERROR(SMALL($B$3:$B$2002,ROWS($A$3:A409)),\"\")","v":""},"","",null,"","","",{"$f":"IF(O409=\"\",\"\",CONCATENATE(\"*11....+\",VLOOKUP(16-(LEN(N409)),'1'!$A$1:$B$16,2,TRUE),N409,\" 81..40+\",VLOOKUP(16-(LEN(O409)),'1'!$A$1:$B$16,2,TRUE),O409,\" 82..40+\",VLOOKUP(16-(LEN(O409)),'1'!$A$1:$B$16,2,TRUE),P409,\" 71....+0000000000000000 \"))","v":""},null,""]
[null,{"$f":"IF(I410=\"\",\"\",ROWS($A$3:A410))","v":""},"","","","","","","","",{"$f":"IFERROR(SMALL($B$3:$B$2002,ROWS($A$3:A410)),\"\")","v":""},"","",null,"","","",{"$f":"IF(O410=\"\",\"\",CONCATENATE(\"*11....+\",VLOOKUP(16-(LEN(N410)),'1'!$A$1:$B$16,2,TRUE),N410,\" 81..40+\",VLOOKUP(16-(LEN(O410)),'1'!$A$1:$B$16,2,TRUE),O410,\" 82..40+\",VLOOKUP(16-(LEN(O410)),'1'!$A$1:$B$16,2,TRUE),P410,\" 71....+0000000000000000 \"))","v":""},null,""]
[null,{"$f":"IF(I411=\"\",\"\",ROWS($A$3:A411))","v":""},"","","","","","","","",{"$f":"IFERROR(SMALL($B$3:$B$2002,ROWS($A$3:A411)),\"\")","v":""},"","",null,"","","",{"$f":"IF(O411=\"\",\"\",CONCATENATE(\"*11....+\",VLOOKUP(16-(LEN(N411)),'1'!$A$1:$B$16,2,TRUE),N411,\" 81..40+\",VLOOKUP(16-(LEN(O411)),'1'!$A$1:$B$16,2,TRUE),O411,\" 82..40+\",VLOOKUP(16-(LEN(O411)),'1'!$A$1:$B$16,2,TRUE),P411,\" 71....+0000000000000000 \"))","v":""},null,""]
[null,{"$f":"IF(I412=\"\",\"\",ROWS($A$3:A412))","v":""},"","","","","","","","",{"$f":"IFERROR(SMALL($B$3:$B$2002,ROWS($A$3:A412)),\"\")","v":""},"","",null,"","","",{"$f":"IF(O412=\"\",\"\",CONCATENATE(\"*11....+\",VLOOKUP(16-(LEN(N412)),'1'!$A$1:$B$16,2,TRUE),N412,\" 81..40+\",VLOOKUP(16-(LEN(O412)),'1'!$A$1:$B$16,2,TRUE),O412,\" 82..40+\",VLOOKUP(16-(LEN(O412)),'1'!$A$1:$B$16,2,TRUE),P412,\" 71....+0000000000000000 \"))","v":""},null,""]
[null,{"$f":"IF(I413=\"\",\"\",ROWS($A$3:A413))","v":""},"","","","","","","","",{"$f":"IFERROR(SMALL($B$3:$B$2002,ROWS($A$3:A413)),\"\")","v":""},"","",null,"","","",{"$f":"IF(O413=\"\",\"\",CONCATENATE(\"*11....+\",VLOOKUP(16-(LEN(N413)),'1'!$A$1:$B$16,2,TRUE),N413,\" 81..40+\",VLOOKUP(16-(LEN(O413)),'1'!$A$1:$B$16,2,TRUE),O413,\" 82..40+\",VLOOKUP(16-(LEN(O413)),'1'!$A$1:$B$16,2,TRUE),P413,\" 71....+0000000000000000 \"))","v":""},null,""]
[null,{"$f":"IF(I414=\"\",\"\",ROWS($A$3:A414))","v":""},"","","","","","","","",{"$f":"IFERROR(SMALL($B$3:$B$2002,ROWS($A$3:A414)),\"\")","v":""},"","",null,"","","",{"$f":"IF(O414=\"\",\"\",CONCATENATE(\"*11....+\",VLOOKUP(16-(LEN(N414)),'1'!$A$1:$B$16,2,TRUE),N414,\" 81..40+\",VLOOKUP(16-(LEN(O414)),'1'!$A$1:$B$16,2,TRUE),O414,\" 82..40+\",VLOOKUP(16-(LEN(O414)),'1'!$A$1:$B$16,2,TRUE),P414,\" 71....+0000000000000000 \"))","v":""},null,""]
[null,{"$f":"IF(I415=\"\",\"\",ROWS($A$3:A415))","v":""},"","","","","","","","",{"$f":"IFERROR(SMALL($B$3:$B$2002,ROWS($A$3:A415)),\"\")","v":""},"","",null,"","","",{"$f":"IF(O415=\"\",\"\",CONCATENATE(\"*11....+\",VLOOKUP(16-(LEN(N415)),'1'!$A$1:$B$16,2,TRUE),N415,\" 81..40+\",VLOOKUP(16-(LEN(O415)),'1'!$A$1:$B$16,2,TRUE),O415,\" 82..40+\",VLOOKUP(16-(LEN(O415)),'1'!$A$1:$B$16,2,TRUE),P415,\" 71....+0000000000000000 \"))","v":""},null,""]
[null,{"$f":"IF(I416=\"\",\"\",ROWS($A$3:A416))","v":""},"","","","","","","","",{"$f":"IFERROR(SMALL($B$3:$B$2002,ROWS($A$3:A416)),\"\")","v":""},"","",null,"","","",{"$f":"IF(O416=\"\",\"\",CONCATENATE(\"*11....+\",VLOOKUP(16-(LEN(N416)),'1'!$A$1:$B$16,2,TRUE),N416,\" 81..40+\",VLOOKUP(16-(LEN(O416)),'1'!$A$1:$B$16,2,TRUE),O416,\" 82..40+\",VLOOKUP(16-(LEN(O416)),'1'!$A$1:$B$16,2,TRUE),P416,\" 71....+0000000000000000 \"))","v":""},null,""]
[null,{"$f":"IF(I417=\"\",\"\",ROWS($A$3:A417))","v":""},"","","","","","","","",{"$f":"IFERROR(SMALL($B$3:$B$2002,ROWS($A$3:A417)),\"\")","v":""},"","",null,"","","",{"$f":"IF(O417=\"\",\"\",CONCATENATE(\"*11....+\",VLOOKUP(16-(LEN(N417)),'1'!$A$1:$B$16,2,TRUE),N417,\" 81..40+\",VLOOKUP(16-(LEN(O417)),'1'!$A$1:$B$16,2,TRUE),O417,\" 82..40+\",VLOOKUP(16-(LEN(O417)),'1'!$A$1:$B$16,2,TRUE),P417,\" 71....+0000000000000000 \"))","v":""},null,""]
[null,{"$f":"IF(I418=\"\",\"\",ROWS($A$3:A418))","v":""},"","","","","","","","",{"$f":"IFERROR(SMALL($B$3:$B$2002,ROWS($A$3:A418)),\"\")","v":""},"","",null,"","","",{"$f":"IF(O418=\"\",\"\",CONCATENATE(\"*11....+\",VLOOKUP(16-(LEN(N418)),'1'!$A$1:$B$16,2,TRUE),N418,\" 81..40+\",VLOOKUP(16-(LEN(O418)),'1'!$A$1:$B$16,2,TRUE),O418,\" 82..40+\",VLOOKUP(16-(LEN(O418)),'1'!$A$1:$B$16,2,TRUE),P418,\" 71....+0000000000000000 \"))","v":""},null,""]
[null,{"$f":"IF(I419=\"\",\"\",ROWS($A$3:A419))","v":""},"","","","","","","","",{"$f":"IFERROR(SMALL($B$3:$B$2002,ROWS($A$3:A419)),\"\")","v":""},"","",null,"","","",{"$f":"IF(O419=\"\",\"\",CONCATENATE(\"*11....+\",VLOOKUP(16-(LEN(N419)),'1'!$A$1:$B$16,2,TRUE),N419,\" 81..40+\",VLOOKUP(16-(LEN(O419)),'1'!$A$1:$B$16,2,TRUE),O419,\" 82..40+\",VLOOKUP(16-(LEN(O419)),'1'!$A$1:$B$16,2,TRUE),P419,\" 71....+0000000000000000 \"))","v":""},null,""]
[null,{"$f":"IF(I420=\"\",\"\",ROWS($A$3:A420))","v":""},"","","","","","","","",{"$f":"IFERROR(SMALL($B$3:$B$2002,ROWS($A$3:A420)),\"\")","v":""},"","",null,"","","",{"$f":"IF(O420=\"\",\"\",CONCATENATE(\"*11....+\",VLOOKUP(16-(LEN(N420)),'1'!$A$1:$B$16,2,TRUE),N420,\" 81..40+\",VLOOKUP(16-(LEN(O420)),'1'!$A$1:$B$16,2,TRUE),O420,\" 82..40+\",VLOOKUP(16-(LEN(O420)),'1'!$A$1:$B$16,2,TRUE),P420,\" 71....+0000000000000000 \"))","v":""},null,""]
[null,{"$f":"IF(I421=\"\",\"\",ROWS($A$3:A421))","v":""},"","","","","","","","",{"$f":"IFERROR(SMALL($B$3:$B$2002,ROWS($A$3:A421)),\"\")","v":""},"","",null,"","","",{"$f":"IF(O421=\"\",\"\",CONCATENATE(\"*11....+\",VLOOKUP(16-(LEN(N421)),'1'!$A$1:$B$16,2,TRUE),N421,\" 81..40+\",VLOOKUP(16-(LEN(O421)),'1'!$A$1:$B$16,2,TRUE),O421,\" 82..40+\",VLOOKUP(16-(LEN(O421)),'1'!$A$1:$B$16,2,TRUE),P421,\" 71....+0000000000000000 \"))","v":""},null,""]
[null,{"$f":"IF(I422=\"\",\"\",ROWS($A$3:A422))","v":""},"","","","","","","","",{"$f":"IFERROR(SMALL($B$3:$B$2002,ROWS($A$3:A422)),\"\")","v":""},"","",null,"","","",{"$f":"IF(O422=\"\",\"\",CONCATENATE(\"*11....+\",VLOOKUP(16-(LEN(N422)),'1'!$A$1:$B$16,2,TRUE),N422,\" 81..40+\",VLOOKUP(16-(LEN(O422)),'1'!$A$1:$B$16,2,TRUE),O422,\" 82..40+\",VLOOKUP(16-(LEN(O422)),'1'!$A$1:$B$16,2,TRUE),P422,\" 71....+0000000000000000 \"))","v":""},null,""]
[null,{"$f":"IF(I423=\"\",\"\",ROWS($A$3:A423))","v":""},"","","","","","","","",{"$f":"IFERROR(SMALL($B$3:$B$2002,ROWS($A$3:A423)),\"\")","v":""},"","",null,"","","",{"$f":"IF(O423=\"\",\"\",CONCATENATE(\"*11....+\",VLOOKUP(16-(LEN(N423)),'1'!$A$1:$B$16,2,TRUE),N423,\" 81..40+\",VLOOKUP(16-(LEN(O423)),'1'!$A$1:$B$16,2,TRUE),O423,\" 82..40+\",VLOOKUP(16-(LEN(O423)),'1'!$A$1:$B$16,2,TRUE),P423,\" 71....+0000000000000000 \"))","v":""},null,""]
[null,{"$f":"IF(I424=\"\",\"\",ROWS($A$3:A424))","v":""},"","","","","","","","",{"$f":"IFERROR(SMALL($B$3:$B$2002,ROWS($A$3:A424)),\"\")","v":""},"","",null,"","","",{"$f":"IF(O424=\"\",\"\",CONCATENATE(\"*11....+\",VLOOKUP(16-(LEN(N424)),'1'!$A$1:$B$16,2,TRUE),N424,\" 81..40+\",VLOOKUP(16-(LEN(O424)),'1'!$A$1:$B$16,2,TRUE),O424,\" 82..40+\",VLOOKUP(16-(LEN(O424)),'1'!$A$1:$B$16,2,TRUE),P424,\" 71....+0000000000000000 \"))","v":""},null,""]
[null,{"$f":"IF(I425=\"\",\"\",ROWS($A$3:A425))","v":""},"","","","","","","","",{"$f":"IFERROR(SMALL($B$3:$B$2002,ROWS($A$3:A425)),\"\")","v":""},"","",null,"","","",{"$f":"IF(O425=\"\",\"\",CONCATENATE(\"*11....+\",VLOOKUP(16-(LEN(N425)),'1'!$A$1:$B$16,2,TRUE),N425,\" 81..40+\",VLOOKUP(16-(LEN(O425)),'1'!$A$1:$B$16,2,TRUE),O425,\" 82..40+\",VLOOKUP(16-(LEN(O425)),'1'!$A$1:$B$16,2,TRUE),P425,\" 71....+0000000000000000 \"))","v":""},null,""]
[null,{"$f":"IF(I426=\"\",\"\",ROWS($A$3:A426))","v":""},"","","","","","","","",{"$f":"IFERROR(SMALL($B$3:$B$2002,ROWS($A$3:A426)),\"\")","v":""},"","",null,"","","",{"$f":"IF(O426=\"\",\"\",CONCATENATE(\"*11....+\",VLOOKUP(16-(LEN(N426)),'1'!$A$1:$B$16,2,TRUE),N426,\" 81..40+\",VLOOKUP(16-(LEN(O426)),'1'!$A$1:$B$16,2,TRUE),O426,\" 82..40+\",VLOOKUP(16-(LEN(O426)),'1'!$A$1:$B$16,2,TRUE),P426,\" 71....+0000000000000000 \"))","v":""},null,""]
[null,{"$f":"IF(I427=\"\",\"\",ROWS($A$3:A427))","v":""},"","","","","","","","",{"$f":"IFERROR(SMALL($B$3:$B$2002,ROWS($A$3:A427)),\"\")","v":""},"","",null,"","","",{"$f":"IF(O427=\"\",\"\",CONCATENATE(\"*11....+\",VLOOKUP(16-(LEN(N427)),'1'!$A$1:$B$16,2,TRUE),N427,\" 81..40+\",VLOOKUP(16-(LEN(O427)),'1'!$A$1:$B$16,2,TRUE),O427,\" 82..40+\",VLOOKUP(16-(LEN(O427)),'1'!$A$1:$B$16,2,TRUE),P427,\" 71....+0000000000000000 \"))","v":""},null,""]
[null,{"$f":"IF(I428=\"\",\"\",ROWS($A$3:A428))","v":""},"","","","","","","","",{"$f":"IFERROR(SMALL($B$3:$B$2002,ROWS($A$3:A428)),\"\")","v":""},"","",null,"","","",{"$f":"IF(O428=\"\",\"\",CONCATENATE(\"*11....+\",VLOOKUP(16-(LEN(N428)),'1'!$A$1:$B$16,2,TRUE),N428,\" 81..40+\",VLOOKUP(16-(LEN(O428)),'1'!$A$1:$B$16,2,TRUE),O428,\" 82..40+\",VLOOKUP(16-(LEN(O428)),'1'!$A$1:$B$16,2,TRUE),P428,\" 71....+0000000000000000 \"))","v":""},null,""]
[null,{"$f":"IF(I429=\"\",\"\",ROWS($A$3:A429))","v":""},"","","","","","","","",{"$f":"IFERROR(SMALL($B$3:$B$2002,ROWS($A$3:A429)),\"\")","v":""},"","",null,"","","",{"$f":"IF(O429=\"\",\"\",CONCATENATE(\"*11....+\",VLOOKUP(16-(LEN(N429)),'1'!$A$1:$B$16,2,TRUE),N429,\" 81..40+\",VLOOKUP(16-(LEN(O429)),'1'!$A$1:$B$16,2,TRUE),O429,\" 82..40+\",VLOOKUP(16-(LEN(O429)),'1'!$A$1:$B$16,2,TRUE),P429,\" 71....+0000000000000000 \"))","v":""},null,""]
[null,{"$f":"IF(I430=\"\",\"\",ROWS($A$3:A430))","v":""},"","","","","","","","",{"$f":"IFERROR(SMALL($B$3:$B$2002,ROWS($A$3:A430)),\"\")","v":""},"","",null,"","","",{"$f":"IF(O430=\"\",\"\",CONCATENATE(\"*11....+\",VLOOKUP(16-(LEN(N430)),'1'!$A$1:$B$16,2,TRUE),N430,\" 81..40+\",VLOOKUP(16-(LEN(O430)),'1'!$A$1:$B$16,2,TRUE),O430,\" 82..40+\",VLOOKUP(16-(LEN(O430)),'1'!$A$1:$B$16,2,TRUE),P430,\" 71....+0000000000000000 \"))","v":""},null,""]
[null,{"$f":"IF(I431=\"\",\"\",ROWS($A$3:A431))","v":""},"","","","","","","","",{"$f":"IFERROR(SMALL($B$3:$B$2002,ROWS($A$3:A431)),\"\")","v":""},"","",null,"","","",{"$f":"IF(O431=\"\",\"\",CONCATENATE(\"*11....+\",VLOOKUP(16-(LEN(N431)),'1'!$A$1:$B$16,2,TRUE),N431,\" 81..40+\",VLOOKUP(16-(LEN(O431)),'1'!$A$1:$B$16,2,TRUE),O431,\" 82..40+\",VLOOKUP(16-(LEN(O431)),'1'!$A$1:$B$16,2,TRUE),P431,\" 71....+0000000000000000 \"))","v":""},null,""]
[null,{"$f":"IF(I432=\"\",\"\",ROWS($A$3:A432))","v":""},"","","","","","","","",{"$f":"IFERROR(SMALL($B$3:$B$2002,ROWS($A$3:A432)),\"\")","v":""},"","",null,"","","",{"$f":"IF(O432=\"\",\"\",CONCATENATE(\"*11....+\",VLOOKUP(16-(LEN(N432)),'1'!$A$1:$B$16,2,TRUE),N432,\" 81..40+\",VLOOKUP(16-(LEN(O432)),'1'!$A$1:$B$16,2,TRUE),O432,\" 82..40+\",VLOOKUP(16-(LEN(O432)),'1'!$A$1:$B$16,2,TRUE),P432,\" 71....+0000000000000000 \"))","v":""},null,""]
[null,{"$f":"IF(I433=\"\",\"\",ROWS($A$3:A433))","v":""},"","","","","","","","",{"$f":"IFERROR(SMALL($B$3:$B$2002,ROWS($A$3:A433)),\"\")","v":""},"","",null,"","","",{"$f":"IF(O433=\"\",\"\",CONCATENATE(\"*11....+\",VLOOKUP(16-(LEN(N433)),'1'!$A$1:$B$16,2,TRUE),N433,\" 81..40+\",VLOOKUP(16-(LEN(O433)),'1'!$A$1:$B$16,2,TRUE),O433,\" 82..40+\",VLOOKUP(16-(LEN(O433)),'1'!$A$1:$B$16,2,TRUE),P433,\" 71....+0000000000000000 \"))","v":""},null,""]
[null,{"$f":"IF(I434=\"\",\"\",ROWS($A$3:A434))","v":""},"","","","","","","","",{"$f":"IFERROR(SMALL($B$3:$B$2002,ROWS($A$3:A434)),\"\")","v":""},"","",null,"","","",{"$f":"IF(O434=\"\",\"\",CONCATENATE(\"*11....+\",VLOOKUP(16-(LEN(N434)),'1'!$A$1:$B$16,2,TRUE),N434,\" 81..40+\",VLOOKUP(16-(LEN(O434)),'1'!$A$1:$B$16,2,TRUE),O434,\" 82..40+\",VLOOKUP(16-(LEN(O434)),'1'!$A$1:$B$16,2,TRUE),P434,\" 71....+0000000000000000 \"))","v":""},null,""]
[null,{"$f":"IF(I435=\"\",\"\",ROWS($A$3:A435))","v":""},"","","","","","","","",{"$f":"IFERROR(SMALL($B$3:$B$2002,ROWS($A$3:A435)),\"\")","v":""},"","",null,"","","",{"$f":"IF(O435=\"\",\"\",CONCATENATE(\"*11....+\",VLOOKUP(16-(LEN(N435)),'1'!$A$1:$B$16,2,TRUE),N435,\" 81..40+\",VLOOKUP(16-(LEN(O435)),'1'!$A$1:$B$16,2,TRUE),O435,\" 82..40+\",VLOOKUP(16-(LEN(O435)),'1'!$A$1:$B$16,2,TRUE),P435,\" 71....+0000000000000000 \"))","v":""},null,""]
[null,{"$f":"IF(I436=\"\",\"\",ROWS($A$3:A436))","v":""},"","","","","","","","",{"$f":"IFERROR(SMALL($B$3:$B$2002,ROWS($A$3:A436)),\"\")","v":""},"","",null,"","","",{"$f":"IF(O436=\"\",\"\",CONCATENATE(\"*11....+\",VLOOKUP(16-(LEN(N436)),'1'!$A$1:$B$16,2,TRUE),N436,\" 81..40+\",VLOOKUP(16-(LEN(O436)),'1'!$A$1:$B$16,2,TRUE),O436,\" 82..40+\",VLOOKUP(16-(LEN(O436)),'1'!$A$1:$B$16,2,TRUE),P436,\" 71....+0000000000000000 \"))","v":""},null,""]
[null,{"$f":"IF(I437=\"\",\"\",ROWS($A$3:A437))","v":""},"","","","","","","","",{"$f":"IFERROR(SMALL($B$3:$B$2002,ROWS($A$3:A437)),\"\")","v":""},"","",null,"","","",{"$f":"IF(O437=\"\",\"\",CONCATENATE(\"*11....+\",VLOOKUP(16-(LEN(N437)),'1'!$A$1:$B$16,2,TRUE),N437,\" 81..40+\",VLOOKUP(16-(LEN(O437)),'1'!$A$1:$B$16,2,TRUE),O437,\" 82..40+\",VLOOKUP(16-(LEN(O437)),'1'!$A$1:$B$16,2,TRUE),P437,\" 71....+0000000000000000 \"))","v":""},null,""]
[null,{"$f":"IF(I438=\"\",\"\",ROWS($A$3:A438))","v":""},"","","","","","","","",{"$f":"IFERROR(SMALL($B$3:$B$2002,ROWS($A$3:A438)),\"\")","v":""},"","",null,"","","",{"$f":"IF(O438=\"\",\"\",CONCATENATE(\"*11....+\",VLOOKUP(16-(LEN(N438)),'1'!$A$1:$B$16,2,TRUE),N438,\" 81..40+\",VLOOKUP(16-(LEN(O438)),'1'!$A$1:$B$16,2,TRUE),O438,\" 82..40+\",VLOOKUP(16-(LEN(O438)),'1'!$A$1:$B$16,2,TRUE),P438,\" 71....+0000000000000000 \"))","v":""},null,""]
[null,{"$f":"IF(I439=\"\",\"\",ROWS($A$3:A439))","v":""},"","","","","","","","",{"$f":"IFERROR(SMALL($B$3:$B$2002,ROWS($A$3:A439)),\"\")","v":""},"","",null,"","","",{"$f":"IF(O439=\"\",\"\",CONCATENATE(\"*11....+\",VLOOKUP(16-(LEN(N439)),'1'!$A$1:$B$16,2,TRUE),N439,\" 81..40+\",VLOOKUP(16-(LEN(O439)),'1'!$A$1:$B$16,2,TRUE),O439,\" 82..40+\",VLOOKUP(16-(LEN(O439)),'1'!$A$1:$B$16,2,TRUE),P439,\" 71....+0000000000000000 \"))","v":""},null,""]
[null,{"$f":"IF(I440=\"\",\"\",ROWS($A$3:A440))","v":""},"","","","","","","","",{"$f":"IFERROR(SMALL($B$3:$B$2002,ROWS($A$3:A440)),\"\")","v":""},"","",null,"","","",{"$f":"IF(O440=\"\",\"\",CONCATENATE(\"*11....+\",VLOOKUP(16-(LEN(N440)),'1'!$A$1:$B$16,2,TRUE),N440,\" 81..40+\",VLOOKUP(16-(LEN(O440)),'1'!$A$1:$B$16,2,TRUE),O440,\" 82..40+\",VLOOKUP(16-(LEN(O440)),'1'!$A$1:$B$16,2,TRUE),P440,\" 71....+0000000000000000 \"))","v":""},null,""]
[null,{"$f":"IF(I441=\"\",\"\",ROWS($A$3:A441))","v":""},"","","","","","","","",{"$f":"IFERROR(SMALL($B$3:$B$2002,ROWS($A$3:A441)),\"\")","v":""},"","",null,"","","",{"$f":"IF(O441=\"\",\"\",CONCATENATE(\"*11....+\",VLOOKUP(16-(LEN(N441)),'1'!$A$1:$B$16,2,TRUE),N441,\" 81..40+\",VLOOKUP(16-(LEN(O441)),'1'!$A$1:$B$16,2,TRUE),O441,\" 82..40+\",VLOOKUP(16-(LEN(O441)),'1'!$A$1:$B$16,2,TRUE),P441,\" 71....+0000000000000000 \"))","v":""},null,""]
[null,{"$f":"IF(I442=\"\",\"\",ROWS($A$3:A442))","v":""},"","","","","","","","",{"$f":"IFERROR(SMALL($B$3:$B$2002,ROWS($A$3:A442)),\"\")","v":""},"","",null,"","","",{"$f":"IF(O442=\"\",\"\",CONCATENATE(\"*11....+\",VLOOKUP(16-(LEN(N442)),'1'!$A$1:$B$16,2,TRUE),N442,\" 81..40+\",VLOOKUP(16-(LEN(O442)),'1'!$A$1:$B$16,2,TRUE),O442,\" 82..40+\",VLOOKUP(16-(LEN(O442)),'1'!$A$1:$B$16,2,TRUE),P442,\" 71....+0000000000000000 \"))","v":""},null,""]
[null,{"$f":"IF(I443=\"\",\"\",ROWS($A$3:A443))","v":""},"","","","","","","","",{"$f":"IFERROR(SMALL($B$3:$B$2002,ROWS($A$3:A443)),\"\")","v":""},"","",null,"","","",{"$f":"IF(O443=\"\",\"\",CONCATENATE(\"*11....+\",VLOOKUP(16-(LEN(N443)),'1'!$A$1:$B$16,2,TRUE),N443,\" 81..40+\",VLOOKUP(16-(LEN(O443)),'1'!$A$1:$B$16,2,TRUE),O443,\" 82..40+\",VLOOKUP(16-(LEN(O443)),'1'!$A$1:$B$16,2,TRUE),P443,\" 71....+0000000000000000 \"))","v":""},null,""]
[null,{"$f":"IF(I444=\"\",\"\",ROWS($A$3:A444))","v":""},"","","","","","","","",{"$f":"IFERROR(SMALL($B$3:$B$2002,ROWS($A$3:A444)),\"\")","v":""},"","",null,"","","",{"$f":"IF(O444=\"\",\"\",CONCATENATE(\"*11....+\",VLOOKUP(16-(LEN(N444)),'1'!$A$1:$B$16,2,TRUE),N444,\" 81..40+\",VLOOKUP(16-(LEN(O444)),'1'!$A$1:$B$16,2,TRUE),O444,\" 82..40+\",VLOOKUP(16-(LEN(O444)),'1'!$A$1:$B$16,2,TRUE),P444,\" 71....+0000000000000000 \"))","v":""},null,""]
[null,{"$f":"IF(I445=\"\",\"\",ROWS($A$3:A445))","v":""},"","","","","","","","",{"$f":"IFERROR(SMALL($B$3:$B$2002,ROWS($A$3:A445)),\"\")","v":""},"","",null,"","","",{"$f":"IF(O445=\"\",\"\",CONCATENATE(\"*11....+\",VLOOKUP(16-(LEN(N445)),'1'!$A$1:$B$16,2,TRUE),N445,\" 81..40+\",VLOOKUP(16-(LEN(O445)),'1'!$A$1:$B$16,2,TRUE),O445,\" 82..40+\",VLOOKUP(16-(LEN(O445)),'1'!$A$1:$B$16,2,TRUE),P445,\" 71....+0000000000000000 \"))","v":""},null,""]
[null,{"$f":"IF(I446=\"\",\"\",ROWS($A$3:A446))","v":""},"","","","","","","","",{"$f":"IFERROR(SMALL($B$3:$B$2002,ROWS($A$3:A446)),\"\")","v":""},"","",null,"","","",{"$f":"IF(O446=\"\",\"\",CONCATENATE(\"*11....+\",VLOOKUP(16-(LEN(N446)),'1'!$A$1:$B$16,2,TRUE),N446,\" 81..40+\",VLOOKUP(16-(LEN(O446)),'1'!$A$1:$B$16,2,TRUE),O446,\" 82..40+\",VLOOKUP(16-(LEN(O446)),'1'!$A$1:$B$16,2,TRUE),P446,\" 71....+0000000000000000 \"))","v":""},null,""]
[null,{"$f":"IF(I447=\"\",\"\",ROWS($A$3:A447))","v":""},"","","","","","","","",{"$f":"IFERROR(SMALL($B$3:$B$2002,ROWS($A$3:A447)),\"\")","v":""},"","",null,"","","",{"$f":"IF(O447=\"\",\"\",CONCATENATE(\"*11....+\",VLOOKUP(16-(LEN(N447)),'1'!$A$1:$B$16,2,TRUE),N447,\" 81..40+\",VLOOKUP(16-(LEN(O447)),'1'!$A$1:$B$16,2,TRUE),O447,\" 82..40+\",VLOOKUP(16-(LEN(O447)),'1'!$A$1:$B$16,2,TRUE),P447,\" 71....+0000000000000000 \"))","v":""},null,""]
[null,{"$f":"IF(I448=\"\",\"\",ROWS($A$3:A448))","v":""},"","","","","","","","",{"$f":"IFERROR(SMALL($B$3:$B$2002,ROWS($A$3:A448)),\"\")","v":""},"","",null,"","","",{"$f":"IF(O448=\"\",\"\",CONCATENATE(\"*11....+\",VLOOKUP(16-(LEN(N448)),'1'!$A$1:$B$16,2,TRUE),N448,\" 81..40+\",VLOOKUP(16-(LEN(O448)),'1'!$A$1:$B$16,2,TRUE),O448,\" 82..40+\",VLOOKUP(16-(LEN(O448)),'1'!$A$1:$B$16,2,TRUE),P448,\" 71....+0000000000000000 \"))","v":""},null,""]
[null,{"$f":"IF(I449=\"\",\"\",ROWS($A$3:A449))","v":""},"","","","","","","","",{"$f":"IFERROR(SMALL($B$3:$B$2002,ROWS($A$3:A449)),\"\")","v":""},"","",null,"","","",{"$f":"IF(O449=\"\",\"\",CONCATENATE(\"*11....+\",VLOOKUP(16-(LEN(N449)),'1'!$A$1:$B$16,2,TRUE),N449,\" 81..40+\",VLOOKUP(16-(LEN(O449)),'1'!$A$1:$B$16,2,TRUE),O449,\" 82..40+\",VLOOKUP(16-(LEN(O449)),'1'!$A$1:$B$16,2,TRUE),P449,\" 71....+0000000000000000 \"))","v":""},null,""]
[null,{"$f":"IF(I450=\"\",\"\",ROWS($A$3:A450))","v":""},"","","","","","","","",{"$f":"IFERROR(SMALL($B$3:$B$2002,ROWS($A$3:A450)),\"\")","v":""},"","",null,"","","",{"$f":"IF(O450=\"\",\"\",CONCATENATE(\"*11....+\",VLOOKUP(16-(LEN(N450)),'1'!$A$1:$B$16,2,TRUE),N450,\" 81..40+\",VLOOKUP(16-(LEN(O450)),'1'!$A$1:$B$16,2,TRUE),O450,\" 82..40+\",VLOOKUP(16-(LEN(O450)),'1'!$A$1:$B$16,2,TRUE),P450,\" 71....+0000000000000000 \"))","v":""},null,""]
[null,{"$f":"IF(I451=\"\",\"\",ROWS($A$3:A451))","v":""},"","","","","","","","",{"$f":"IFERROR(SMALL($B$3:$B$2002,ROWS($A$3:A451)),\"\")","v":""},"","",null,"","","",{"$f":"IF(O451=\"\",\"\",CONCATENATE(\"*11....+\",VLOOKUP(16-(LEN(N451)),'1'!$A$1:$B$16,2,TRUE),N451,\" 81..40+\",VLOOKUP(16-(LEN(O451)),'1'!$A$1:$B$16,2,TRUE),O451,\" 82..40+\",VLOOKUP(16-(LEN(O451)),'1'!$A$1:$B$16,2,TRUE),P451,\" 71....+0000000000000000 \"))","v":""},null,""]
[null,{"$f":"IF(I452=\"\",\"\",ROWS($A$3:A452))","v":""},{"$f":"IF(LEN(A452)=59,ROUND(VALUE(MID(A452,23,9)),3),\"\")","v":""},{"$f":"IF(LEN(A452)=24,\"\",\"\")","v":""},{"$f":"IF(LEN(A452)=63,ROUND(VALUE(MID(A452,23,12)),3),\"\")","v":""},{"$f":"IF(LEN(A452)=59,ROUND(VALUE(MID(A452,37,9)),3),\"\")","v":""},{"$f":"IF(LEN(A452)=24,\"\",\"\")","v":""},{"$f":"IF(LEN(A452)=63,ROUND(VALUE(MID(A452,39,12)),3),\"\")","v":""},{"$f":"IF(AND(C452=\"\",D452=\"\",E452=\"\"),\"\",ROUND(CONCATENATE(C452,D452,E452),3))","v":""},{"$f":"IF(AND(C452=\"\",D452=\"\",E452=\"\"),\"\",ROUND(CONCATENATE(F452,G452,H452),3))","v":""},{"$f":"IFERROR(SMALL($B$3:$B$2002,ROWS($A$3:A452)),\"\")","v":""},{"$f":"IF(K452=\"\",\"\",ROUND(VALUE(VLOOKUP(K452,$B$3:$J$2002,8,TRUE)),3))","v":""},{"$f":"IF(K452=\"\",\"\",ROUND(VALUE(VLOOKUP(K452,$B$3:$J$2002,9,TRUE)),3))","v":""},null,{"$f":"IF(L452=\"\",\"\",L452/0.001)","v":""},"",{"$f":"IF(O452=\"\",\"\",16-LEN(N452))","v":""},{"$f":"IF(O452=\"\",\"\",CONCATENATE(\"*11....+\",VLOOKUP(16-(LEN(N452)),'1'!$A$1:$B$16,2,TRUE),N452,\" 81..40+\",VLOOKUP(16-(LEN(O452)),'1'!$A$1:$B$16,2,TRUE),O452,\" 82..40+\",VLOOKUP(16-(LEN(O452)),'1'!$A$1:$B$16,2,TRUE),P452,\" 71....+0000000000000000 \"))","v":""},null,{"$f":"IF(O452=\"\",\"\",CONCATENATE(N452,\",\",L452,\",\",M452))","v":""}]
[null,{"$f":"IF(I453=\"\",\"\",ROWS($A$3:A453))","v":""},"","","","","","","","",{"$f":"IFERROR(SMALL($B$3:$B$2002,ROWS($A$3:A453)),\"\")","v":""},"","",null,"","","",{"$f":"IF(O453=\"\",\"\",CONCATENATE(\"*11....+\",VLOOKUP(16-(LEN(N453)),'1'!$A$1:$B$16,2,TRUE),N453,\" 81..40+\",VLOOKUP(16-(LEN(O453)),'1'!$A$1:$B$16,2,TRUE),O453,\" 82..40+\",VLOOKUP(16-(LEN(O453)),'1'!$A$1:$B$16,2,TRUE),P453,\" 71....+0000000000000000 \"))","v":""},null,""]
[null,{"$f":"IF(I454=\"\",\"\",ROWS($A$3:A454))","v":""},"","","","","","","","",{"$f":"IFERROR(SMALL($B$3:$B$2002,ROWS($A$3:A454)),\"\")","v":""},"","",null,"","","",{"$f":"IF(O454=\"\",\"\",CONCATENATE(\"*11....+\",VLOOKUP(16-(LEN(N454)),'1'!$A$1:$B$16,2,TRUE),N454,\" 81..40+\",VLOOKUP(16-(LEN(O454)),'1'!$A$1:$B$16,2,TRUE),O454,\" 82..40+\",VLOOKUP(16-(LEN(O454)),'1'!$A$1:$B$16,2,TRUE),P454,\" 71....+0000000000000000 \"))","v":""},null,""]
[null,{"$f":"IF(I455=\"\",\"\",ROWS($A$3:A455))","v":""},"","","","","","","","",{"$f":"IFERROR(SMALL($B$3:$B$2002,ROWS($A$3:A455)),\"\")","v":""},"","",null,"","","",{"$f":"IF(O455=\"\",\"\",CONCATENATE(\"*11....+\",VLOOKUP(16-(LEN(N455)),'1'!$A$1:$B$16,2,TRUE),N455,\" 81..40+\",VLOOKUP(16-(LEN(O455)),'1'!$A$1:$B$16,2,TRUE),O455,\" 82..40+\",VLOOKUP(16-(LEN(O455)),'1'!$A$1:$B$16,2,TRUE),P455,\" 71....+0000000000000000 \"))","v":""},null,""]
[null,{"$f":"IF(I456=\"\",\"\",ROWS($A$3:A456))","v":""},"","","","","","","","",{"$f":"IFERROR(SMALL($B$3:$B$2002,ROWS($A$3:A456)),\"\")","v":""},"","",null,"","","",{"$f":"IF(O456=\"\",\"\",CONCATENATE(\"*11....+\",VLOOKUP(16-(LEN(N456)),'1'!$A$1:$B$16,2,TRUE),N456,\" 81..40+\",VLOOKUP(16-(LEN(O456)),'1'!$A$1:$B$16,2,TRUE),O456,\" 82..40+\",VLOOKUP(16-(LEN(O456)),'1'!$A$1:$B$16,2,TRUE),P456,\" 71....+0000000000000000 \"))","v":""},null,""]
[null,{"$f":"IF(I457=\"\",\"\",ROWS($A$3:A457))","v":""},"","","","","","","","",{"$f":"IFERROR(SMALL($B$3:$B$2002,ROWS($A$3:A457)),\"\")","v":""},"","",null,"","","",{"$f":"IF(O457=\"\",\"\",CONCATENATE(\"*11....+\",VLOOKUP(16-(LEN(N457)),'1'!$A$1:$B$16,2,TRUE),N457,\" 81..40+\",VLOOKUP(16-(LEN(O457)),'1'!$A$1:$B$16,2,TRUE),O457,\" 82..40+\",VLOOKUP(16-(LEN(O457)),'1'!$A$1:$B$16,2,TRUE),P457,\" 71....+0000000000000000 \"))","v":""},null,""]
[null,{"$f":"IF(I458=\"\",\"\",ROWS($A$3:A458))","v":""},"","","","","","","","",{"$f":"IFERROR(SMALL($B$3:$B$2002,ROWS($A$3:A458)),\"\")","v":""},"","",null,"","","",{"$f":"IF(O458=\"\",\"\",CONCATENATE(\"*11....+\",VLOOKUP(16-(LEN(N458)),'1'!$A$1:$B$16,2,TRUE),N458,\" 81..40+\",VLOOKUP(16-(LEN(O458)),'1'!$A$1:$B$16,2,TRUE),O458,\" 82..40+\",VLOOKUP(16-(LEN(O458)),'1'!$A$1:$B$16,2,TRUE),P458,\" 71....+0000000000000000 \"))","v":""},null,""]
[null,{"$f":"IF(I459=\"\",\"\",ROWS($A$3:A459))","v":""},"","","","","","","","",{"$f":"IFERROR(SMALL($B$3:$B$2002,ROWS($A$3:A459)),\"\")","v":""},"","",null,"","","",{"$f":"IF(O459=\"\",\"\",CONCATENATE(\"*11....+\",VLOOKUP(16-(LEN(N459)),'1'!$A$1:$B$16,2,TRUE),N459,\" 81..40+\",VLOOKUP(16-(LEN(O459)),'1'!$A$1:$B$16,2,TRUE),O459,\" 82..40+\",VLOOKUP(16-(LEN(O459)),'1'!$A$1:$B$16,2,TRUE),P459,\" 71....+0000000000000000 \"))","v":""},null,""]
[null,{"$f":"IF(I460=\"\",\"\",ROWS($A$3:A460))","v":""},"","","","","","","","",{"$f":"IFERROR(SMALL($B$3:$B$2002,ROWS($A$3:A460)),\"\")","v":""},"","",null,"","","",{"$f":"IF(O460=\"\",\"\",CONCATENATE(\"*11....+\",VLOOKUP(16-(LEN(N460)),'1'!$A$1:$B$16,2,TRUE),N460,\" 81..40+\",VLOOKUP(16-(LEN(O460)),'1'!$A$1:$B$16,2,TRUE),O460,\" 82..40+\",VLOOKUP(16-(LEN(O460)),'1'!$A$1:$B$16,2,TRUE),P460,\" 71....+0000000000000000 \"))","v":""},null,""]
[null,{"$f":"IF(I461=\"\",\"\",ROWS($A$3:A461))","v":""},"","","","","","","","",{"$f":"IFERROR(SMALL($B$3:$B$2002,ROWS($A$3:A461)),\"\")","v":""},"","",null,"","","",{"$f":"IF(O461=\"\",\"\",CONCATENATE(\"*11....+\",VLOOKUP(16-(LEN(N461)),'1'!$A$1:$B$16,2,TRUE),N461,\" 81..40+\",VLOOKUP(16-(LEN(O461)),'1'!$A$1:$B$16,2,TRUE),O461,\" 82..40+\",VLOOKUP(16-(LEN(O461)),'1'!$A$1:$B$16,2,TRUE),P461,\" 71....+0000000000000000 \"))","v":""},null,""]
[null,{"$f":"IF(I462=\"\",\"\",ROWS($A$3:A462))","v":""},"","","","","","","","",{"$f":"IFERROR(SMALL($B$3:$B$2002,ROWS($A$3:A462)),\"\")","v":""},"","",null,"","","",{"$f":"IF(O462=\"\",\"\",CONCATENATE(\"*11....+\",VLOOKUP(16-(LEN(N462)),'1'!$A$1:$B$16,2,TRUE),N462,\" 81..40+\",VLOOKUP(16-(LEN(O462)),'1'!$A$1:$B$16,2,TRUE),O462,\" 82..40+\",VLOOKUP(16-(LEN(O462)),'1'!$A$1:$B$16,2,TRUE),P462,\" 71....+0000000000000000 \"))","v":""},null,""]
[null,{"$f":"IF(I463=\"\",\"\",ROWS($A$3:A463))","v":""},"","","","","","","","",{"$f":"IFERROR(SMALL($B$3:$B$2002,ROWS($A$3:A463)),\"\")","v":""},"","",null,"","","",{"$f":"IF(O463=\"\",\"\",CONCATENATE(\"*11....+\",VLOOKUP(16-(LEN(N463)),'1'!$A$1:$B$16,2,TRUE),N463,\" 81..40+\",VLOOKUP(16-(LEN(O463)),'1'!$A$1:$B$16,2,TRUE),O463,\" 82..40+\",VLOOKUP(16-(LEN(O463)),'1'!$A$1:$B$16,2,TRUE),P463,\" 71....+0000000000000000 \"))","v":""},null,""]
[null,{"$f":"IF(I464=\"\",\"\",ROWS($A$3:A464))","v":""},"","","","","","","","",{"$f":"IFERROR(SMALL($B$3:$B$2002,ROWS($A$3:A464)),\"\")","v":""},"","",null,"","","",{"$f":"IF(O464=\"\",\"\",CONCATENATE(\"*11....+\",VLOOKUP(16-(LEN(N464)),'1'!$A$1:$B$16,2,TRUE),N464,\" 81..40+\",VLOOKUP(16-(LEN(O464)),'1'!$A$1:$B$16,2,TRUE),O464,\" 82..40+\",VLOOKUP(16-(LEN(O464)),'1'!$A$1:$B$16,2,TRUE),P464,\" 71....+0000000000000000 \"))","v":""},null,""]
[null,{"$f":"IF(I465=\"\",\"\",ROWS($A$3:A465))","v":""},"","","","","","","","",{"$f":"IFERROR(SMALL($B$3:$B$2002,ROWS($A$3:A465)),\"\")","v":""},"","",null,"","","",{"$f":"IF(O465=\"\",\"\",CONCATENATE(\"*11....+\",VLOOKUP(16-(LEN(N465)),'1'!$A$1:$B$16,2,TRUE),N465,\" 81..40+\",VLOOKUP(16-(LEN(O465)),'1'!$A$1:$B$16,2,TRUE),O465,\" 82..40+\",VLOOKUP(16-(LEN(O465)),'1'!$A$1:$B$16,2,TRUE),P465,\" 71....+0000000000000000 \"))","v":""},null,""]
[null,{"$f":"IF(I466=\"\",\"\",ROWS($A$3:A466))","v":""},"","","","","","","","",{"$f":"IFERROR(SMALL($B$3:$B$2002,ROWS($A$3:A466)),\"\")","v":""},"","",null,"","","",{"$f":"IF(O466=\"\",\"\",CONCATENATE(\"*11....+\",VLOOKUP(16-(LEN(N466)),'1'!$A$1:$B$16,2,TRUE),N466,\" 81..40+\",VLOOKUP(16-(LEN(O466)),'1'!$A$1:$B$16,2,TRUE),O466,\" 82..40+\",VLOOKUP(16-(LEN(O466)),'1'!$A$1:$B$16,2,TRUE),P466,\" 71....+0000000000000000 \"))","v":""},null,""]
[null,{"$f":"IF(I467=\"\",\"\",ROWS($A$3:A467))","v":""},"","","","","","","","",{"$f":"IFERROR(SMALL($B$3:$B$2002,ROWS($A$3:A467)),\"\")","v":""},"","",null,"","","",{"$f":"IF(O467=\"\",\"\",CONCATENATE(\"*11....+\",VLOOKUP(16-(LEN(N467)),'1'!$A$1:$B$16,2,TRUE),N467,\" 81..40+\",VLOOKUP(16-(LEN(O467)),'1'!$A$1:$B$16,2,TRUE),O467,\" 82..40+\",VLOOKUP(16-(LEN(O467)),'1'!$A$1:$B$16,2,TRUE),P467,\" 71....+0000000000000000 \"))","v":""},null,""]
[null,{"$f":"IF(I468=\"\",\"\",ROWS($A$3:A468))","v":""},"","","","","","","","",{"$f":"IFERROR(SMALL($B$3:$B$2002,ROWS($A$3:A468)),\"\")","v":""},"","",null,"","","",{"$f":"IF(O468=\"\",\"\",CONCATENATE(\"*11....+\",VLOOKUP(16-(LEN(N468)),'1'!$A$1:$B$16,2,TRUE),N468,\" 81..40+\",VLOOKUP(16-(LEN(O468)),'1'!$A$1:$B$16,2,TRUE),O468,\" 82..40+\",VLOOKUP(16-(LEN(O468)),'1'!$A$1:$B$16,2,TRUE),P468,\" 71....+0000000000000000 \"))","v":""},null,""]
[null,{"$f":"IF(I469=\"\",\"\",ROWS($A$3:A469))","v":""},"","","","","","","","",{"$f":"IFERROR(SMALL($B$3:$B$2002,ROWS($A$3:A469)),\"\")","v":""},"","",null,"","","",{"$f":"IF(O469=\"\",\"\",CONCATENATE(\"*11....+\",VLOOKUP(16-(LEN(N469)),'1'!$A$1:$B$16,2,TRUE),N469,\" 81..40+\",VLOOKUP(16-(LEN(O469)),'1'!$A$1:$B$16,2,TRUE),O469,\" 82..40+\",VLOOKUP(16-(LEN(O469)),'1'!$A$1:$B$16,2,TRUE),P469,\" 71....+0000000000000000 \"))","v":""},null,""]
[null,{"$f":"IF(I470=\"\",\"\",ROWS($A$3:A470))","v":""},"","","","","","","","",{"$f":"IFERROR(SMALL($B$3:$B$2002,ROWS($A$3:A470)),\"\")","v":""},"","",null,"","","",{"$f":"IF(O470=\"\",\"\",CONCATENATE(\"*11....+\",VLOOKUP(16-(LEN(N470)),'1'!$A$1:$B$16,2,TRUE),N470,\" 81..40+\",VLOOKUP(16-(LEN(O470)),'1'!$A$1:$B$16,2,TRUE),O470,\" 82..40+\",VLOOKUP(16-(LEN(O470)),'1'!$A$1:$B$16,2,TRUE),P470,\" 71....+0000000000000000 \"))","v":""},null,""]
[null,{"$f":"IF(I471=\"\",\"\",ROWS($A$3:A471))","v":""},"","","","","","","","",{"$f":"IFERROR(SMALL($B$3:$B$2002,ROWS($A$3:A471)),\"\")","v":""},"","",null,"","","",{"$f":"IF(O471=\"\",\"\",CONCATENATE(\"*11....+\",VLOOKUP(16-(LEN(N471)),'1'!$A$1:$B$16,2,TRUE),N471,\" 81..40+\",VLOOKUP(16-(LEN(O471)),'1'!$A$1:$B$16,2,TRUE),O471,\" 82..40+\",VLOOKUP(16-(LEN(O471)),'1'!$A$1:$B$16,2,TRUE),P471,\" 71....+0000000000000000 \"))","v":""},null,""]
[null,{"$f":"IF(I472=\"\",\"\",ROWS($A$3:A472))","v":""},"","","","","","","","",{"$f":"IFERROR(SMALL($B$3:$B$2002,ROWS($A$3:A472)),\"\")","v":""},"","",null,"","","",{"$f":"IF(O472=\"\",\"\",CONCATENATE(\"*11....+\",VLOOKUP(16-(LEN(N472)),'1'!$A$1:$B$16,2,TRUE),N472,\" 81..40+\",VLOOKUP(16-(LEN(O472)),'1'!$A$1:$B$16,2,TRUE),O472,\" 82..40+\",VLOOKUP(16-(LEN(O472)),'1'!$A$1:$B$16,2,TRUE),P472,\" 71....+0000000000000000 \"))","v":""},null,""]
[null,{"$f":"IF(I473=\"\",\"\",ROWS($A$3:A473))","v":""},"","","","","","","","",{"$f":"IFERROR(SMALL($B$3:$B$2002,ROWS($A$3:A473)),\"\")","v":""},"","",null,"","","",{"$f":"IF(O473=\"\",\"\",CONCATENATE(\"*11....+\",VLOOKUP(16-(LEN(N473)),'1'!$A$1:$B$16,2,TRUE),N473,\" 81..40+\",VLOOKUP(16-(LEN(O473)),'1'!$A$1:$B$16,2,TRUE),O473,\" 82..40+\",VLOOKUP(16-(LEN(O473)),'1'!$A$1:$B$16,2,TRUE),P473,\" 71....+0000000000000000 \"))","v":""},null,""]
[null,{"$f":"IF(I474=\"\",\"\",ROWS($A$3:A474))","v":""},"","","","","","","","",{"$f":"IFERROR(SMALL($B$3:$B$2002,ROWS($A$3:A474)),\"\")","v":""},"","",null,"","","",{"$f":"IF(O474=\"\",\"\",CONCATENATE(\"*11....+\",VLOOKUP(16-(LEN(N474)),'1'!$A$1:$B$16,2,TRUE),N474,\" 81..40+\",VLOOKUP(16-(LEN(O474)),'1'!$A$1:$B$16,2,TRUE),O474,\" 82..40+\",VLOOKUP(16-(LEN(O474)),'1'!$A$1:$B$16,2,TRUE),P474,\" 71....+0000000000000000 \"))","v":""},null,""]
[null,{"$f":"IF(I475=\"\",\"\",ROWS($A$3:A475))","v":""},"","","","","","","","",{"$f":"IFERROR(SMALL($B$3:$B$2002,ROWS($A$3:A475)),\"\")","v":""},"","",null,"","","",{"$f":"IF(O475=\"\",\"\",CONCATENATE(\"*11....+\",VLOOKUP(16-(LEN(N475)),'1'!$A$1:$B$16,2,TRUE),N475,\" 81..40+\",VLOOKUP(16-(LEN(O475)),'1'!$A$1:$B$16,2,TRUE),O475,\" 82..40+\",VLOOKUP(16-(LEN(O475)),'1'!$A$1:$B$16,2,TRUE),P475,\" 71....+0000000000000000 \"))","v":""},null,""]
[null,{"$f":"IF(I476=\"\",\"\",ROWS($A$3:A476))","v":""},"","","","","","","","",{"$f":"IFERROR(SMALL($B$3:$B$2002,ROWS($A$3:A476)),\"\")","v":""},"","",null,"","","",{"$f":"IF(O476=\"\",\"\",CONCATENATE(\"*11....+\",VLOOKUP(16-(LEN(N476)),'1'!$A$1:$B$16,2,TRUE),N476,\" 81..40+\",VLOOKUP(16-(LEN(O476)),'1'!$A$1:$B$16,2,TRUE),O476,\" 82..40+\",VLOOKUP(16-(LEN(O476)),'1'!$A$1:$B$16,2,TRUE),P476,\" 71....+0000000000000000 \"))","v":""},null,""]
[null,{"$f":"IF(I477=\"\",\"\",ROWS($A$3:A477))","v":""},"","","","","","","","",{"$f":"IFERROR(SMALL($B$3:$B$2002,ROWS($A$3:A477)),\"\")","v":""},"","",null,"","","",{"$f":"IF(O477=\"\",\"\",CONCATENATE(\"*11....+\",VLOOKUP(16-(LEN(N477)),'1'!$A$1:$B$16,2,TRUE),N477,\" 81..40+\",VLOOKUP(16-(LEN(O477)),'1'!$A$1:$B$16,2,TRUE),O477,\" 82..40+\",VLOOKUP(16-(LEN(O477)),'1'!$A$1:$B$16,2,TRUE),P477,\" 71....+0000000000000000 \"))","v":""},null,""]
[null,{"$f":"IF(I478=\"\",\"\",ROWS($A$3:A478))","v":""},"","","","","","","","",{"$f":"IFERROR(SMALL($B$3:$B$2002,ROWS($A$3:A478)),\"\")","v":""},"","",null,"","","",{"$f":"IF(O478=\"\",\"\",CONCATENATE(\"*11....+\",VLOOKUP(16-(LEN(N478)),'1'!$A$1:$B$16,2,TRUE),N478,\" 81..40+\",VLOOKUP(16-(LEN(O478)),'1'!$A$1:$B$16,2,TRUE),O478,\" 82..40+\",VLOOKUP(16-(LEN(O478)),'1'!$A$1:$B$16,2,TRUE),P478,\" 71....+0000000000000000 \"))","v":""},null,""]
[null,{"$f":"IF(I479=\"\",\"\",ROWS($A$3:A479))","v":""},"","","","","","","","",{"$f":"IFERROR(SMALL($B$3:$B$2002,ROWS($A$3:A479)),\"\")","v":""},"","",null,"","","",{"$f":"IF(O479=\"\",\"\",CONCATENATE(\"*11....+\",VLOOKUP(16-(LEN(N479)),'1'!$A$1:$B$16,2,TRUE),N479,\" 81..40+\",VLOOKUP(16-(LEN(O479)),'1'!$A$1:$B$16,2,TRUE),O479,\" 82..40+\",VLOOKUP(16-(LEN(O479)),'1'!$A$1:$B$16,2,TRUE),P479,\" 71....+0000000000000000 \"))","v":""},null,""]
[null,{"$f":"IF(I480=\"\",\"\",ROWS($A$3:A480))","v":""},"","","","","","","","",{"$f":"IFERROR(SMALL($B$3:$B$2002,ROWS($A$3:A480)),\"\")","v":""},"","",null,"","","",{"$f":"IF(O480=\"\",\"\",CONCATENATE(\"*11....+\",VLOOKUP(16-(LEN(N480)),'1'!$A$1:$B$16,2,TRUE),N480,\" 81..40+\",VLOOKUP(16-(LEN(O480)),'1'!$A$1:$B$16,2,TRUE),O480,\" 82..40+\",VLOOKUP(16-(LEN(O480)),'1'!$A$1:$B$16,2,TRUE),P480,\" 71....+0000000000000000 \"))","v":""},null,""]
[null,{"$f":"IF(I481=\"\",\"\",ROWS($A$3:A481))","v":""},"","","","","","","","",{"$f":"IFERROR(SMALL($B$3:$B$2002,ROWS($A$3:A481)),\"\")","v":""},"","",null,"","","",{"$f":"IF(O481=\"\",\"\",CONCATENATE(\"*11....+\",VLOOKUP(16-(LEN(N481)),'1'!$A$1:$B$16,2,TRUE),N481,\" 81..40+\",VLOOKUP(16-(LEN(O481)),'1'!$A$1:$B$16,2,TRUE),O481,\" 82..40+\",VLOOKUP(16-(LEN(O481)),'1'!$A$1:$B$16,2,TRUE),P481,\" 71....+0000000000000000 \"))","v":""},null,""]
[null,{"$f":"IF(I482=\"\",\"\",ROWS($A$3:A482))","v":""},"","","","","","","","",{"$f":"IFERROR(SMALL($B$3:$B$2002,ROWS($A$3:A482)),\"\")","v":""},"","",null,"","","",{"$f":"IF(O482=\"\",\"\",CONCATENATE(\"*11....+\",VLOOKUP(16-(LEN(N482)),'1'!$A$1:$B$16,2,TRUE),N482,\" 81..40+\",VLOOKUP(16-(LEN(O482)),'1'!$A$1:$B$16,2,TRUE),O482,\" 82..40+\",VLOOKUP(16-(LEN(O482)),'1'!$A$1:$B$16,2,TRUE),P482,\" 71....+0000000000000000 \"))","v":""},null,""]
[null,{"$f":"IF(I483=\"\",\"\",ROWS($A$3:A483))","v":""},"","","","","","","","",{"$f":"IFERROR(SMALL($B$3:$B$2002,ROWS($A$3:A483)),\"\")","v":""},"","",null,"","","",{"$f":"IF(O483=\"\",\"\",CONCATENATE(\"*11....+\",VLOOKUP(16-(LEN(N483)),'1'!$A$1:$B$16,2,TRUE),N483,\" 81..40+\",VLOOKUP(16-(LEN(O483)),'1'!$A$1:$B$16,2,TRUE),O483,\" 82..40+\",VLOOKUP(16-(LEN(O483)),'1'!$A$1:$B$16,2,TRUE),P483,\" 71....+0000000000000000 \"))","v":""},null,""]
[null,{"$f":"IF(I484=\"\",\"\",ROWS($A$3:A484))","v":""},"","","","","","","","",{"$f":"IFERROR(SMALL($B$3:$B$2002,ROWS($A$3:A484)),\"\")","v":""},"","",null,"","","",{"$f":"IF(O484=\"\",\"\",CONCATENATE(\"*11....+\",VLOOKUP(16-(LEN(N484)),'1'!$A$1:$B$16,2,TRUE),N484,\" 81..40+\",VLOOKUP(16-(LEN(O484)),'1'!$A$1:$B$16,2,TRUE),O484,\" 82..40+\",VLOOKUP(16-(LEN(O484)),'1'!$A$1:$B$16,2,TRUE),P484,\" 71....+0000000000000000 \"))","v":""},null,""]
[null,{"$f":"IF(I485=\"\",\"\",ROWS($A$3:A485))","v":""},"","","","","","","","",{"$f":"IFERROR(SMALL($B$3:$B$2002,ROWS($A$3:A485)),\"\")","v":""},"","",null,"","","",{"$f":"IF(O485=\"\",\"\",CONCATENATE(\"*11....+\",VLOOKUP(16-(LEN(N485)),'1'!$A$1:$B$16,2,TRUE),N485,\" 81..40+\",VLOOKUP(16-(LEN(O485)),'1'!$A$1:$B$16,2,TRUE),O485,\" 82..40+\",VLOOKUP(16-(LEN(O485)),'1'!$A$1:$B$16,2,TRUE),P485,\" 71....+0000000000000000 \"))","v":""},null,""]
[null,{"$f":"IF(I486=\"\",\"\",ROWS($A$3:A486))","v":""},"","","","","","","","",{"$f":"IFERROR(SMALL($B$3:$B$2002,ROWS($A$3:A486)),\"\")","v":""},"","",null,"","","",{"$f":"IF(O486=\"\",\"\",CONCATENATE(\"*11....+\",VLOOKUP(16-(LEN(N486)),'1'!$A$1:$B$16,2,TRUE),N486,\" 81..40+\",VLOOKUP(16-(LEN(O486)),'1'!$A$1:$B$16,2,TRUE),O486,\" 82..40+\",VLOOKUP(16-(LEN(O486)),'1'!$A$1:$B$16,2,TRUE),P486,\" 71....+0000000000000000 \"))","v":""},null,""]
[null,{"$f":"IF(I487=\"\",\"\",ROWS($A$3:A487))","v":""},"","","","","","","","",{"$f":"IFERROR(SMALL($B$3:$B$2002,ROWS($A$3:A487)),\"\")","v":""},"","",null,"","","",{"$f":"IF(O487=\"\",\"\",CONCATENATE(\"*11....+\",VLOOKUP(16-(LEN(N487)),'1'!$A$1:$B$16,2,TRUE),N487,\" 81..40+\",VLOOKUP(16-(LEN(O487)),'1'!$A$1:$B$16,2,TRUE),O487,\" 82..40+\",VLOOKUP(16-(LEN(O487)),'1'!$A$1:$B$16,2,TRUE),P487,\" 71....+0000000000000000 \"))","v":""},null,""]
[null,{"$f":"IF(I488=\"\",\"\",ROWS($A$3:A488))","v":""},"","","","","","","","",{"$f":"IFERROR(SMALL($B$3:$B$2002,ROWS($A$3:A488)),\"\")","v":""},"","",null,"","","",{"$f":"IF(O488=\"\",\"\",CONCATENATE(\"*11....+\",VLOOKUP(16-(LEN(N488)),'1'!$A$1:$B$16,2,TRUE),N488,\" 81..40+\",VLOOKUP(16-(LEN(O488)),'1'!$A$1:$B$16,2,TRUE),O488,\" 82..40+\",VLOOKUP(16-(LEN(O488)),'1'!$A$1:$B$16,2,TRUE),P488,\" 71....+0000000000000000 \"))","v":""},null,""]
[null,{"$f":"IF(I489=\"\",\"\",ROWS($A$3:A489))","v":""},"","","","","","","","",{"$f":"IFERROR(SMALL($B$3:$B$2002,ROWS($A$3:A489)),\"\")","v":""},"","",null,"","","",{"$f":"IF(O489=\"\",\"\",CONCATENATE(\"*11....+\",VLOOKUP(16-(LEN(N489)),'1'!$A$1:$B$16,2,TRUE),N489,\" 81..40+\",VLOOKUP(16-(LEN(O489)),'1'!$A$1:$B$16,2,TRUE),O489,\" 82..40+\",VLOOKUP(16-(LEN(O489)),'1'!$A$1:$B$16,2,TRUE),P489,\" 71....+0000000000000000 \"))","v":""},null,""]
[null,{"$f":"IF(I490=\"\",\"\",ROWS($A$3:A490))","v":""},"","","","","","","","",{"$f":"IFERROR(SMALL($B$3:$B$2002,ROWS($A$3:A490)),\"\")","v":""},"","",null,"","","",{"$f":"IF(O490=\"\",\"\",CONCATENATE(\"*11....+\",VLOOKUP(16-(LEN(N490)),'1'!$A$1:$B$16,2,TRUE),N490,\" 81..40+\",VLOOKUP(16-(LEN(O490)),'1'!$A$1:$B$16,2,TRUE),O490,\" 82..40+\",VLOOKUP(16-(LEN(O490)),'1'!$A$1:$B$16,2,TRUE),P490,\" 71....+0000000000000000 \"))","v":""},null,""]
[null,{"$f":"IF(I491=\"\",\"\",ROWS($A$3:A491))","v":""},"","","","","","","","",{"$f":"IFERROR(SMALL($B$3:$B$2002,ROWS($A$3:A491)),\"\")","v":""},"","",null,"","","",{"$f":"IF(O491=\"\",\"\",CONCATENATE(\"*11....+\",VLOOKUP(16-(LEN(N491)),'1'!$A$1:$B$16,2,TRUE),N491,\" 81..40+\",VLOOKUP(16-(LEN(O491)),'1'!$A$1:$B$16,2,TRUE),O491,\" 82..40+\",VLOOKUP(16-(LEN(O491)),'1'!$A$1:$B$16,2,TRUE),P491,\" 71....+0000000000000000 \"))","v":""},null,""]
[null,{"$f":"IF(I492=\"\",\"\",ROWS($A$3:A492))","v":""},"","","","","","","","",{"$f":"IFERROR(SMALL($B$3:$B$2002,ROWS($A$3:A492)),\"\")","v":""},"","",null,"","","",{"$f":"IF(O492=\"\",\"\",CONCATENATE(\"*11....+\",VLOOKUP(16-(LEN(N492)),'1'!$A$1:$B$16,2,TRUE),N492,\" 81..40+\",VLOOKUP(16-(LEN(O492)),'1'!$A$1:$B$16,2,TRUE),O492,\" 82..40+\",VLOOKUP(16-(LEN(O492)),'1'!$A$1:$B$16,2,TRUE),P492,\" 71....+0000000000000000 \"))","v":""},null,""]
[null,{"$f":"IF(I493=\"\",\"\",ROWS($A$3:A493))","v":""},"","","","","","","","",{"$f":"IFERROR(SMALL($B$3:$B$2002,ROWS($A$3:A493)),\"\")","v":""},"","",null,"","","",{"$f":"IF(O493=\"\",\"\",CONCATENATE(\"*11....+\",VLOOKUP(16-(LEN(N493)),'1'!$A$1:$B$16,2,TRUE),N493,\" 81..40+\",VLOOKUP(16-(LEN(O493)),'1'!$A$1:$B$16,2,TRUE),O493,\" 82..40+\",VLOOKUP(16-(LEN(O493)),'1'!$A$1:$B$16,2,TRUE),P493,\" 71....+0000000000000000 \"))","v":""},null,""]
[null,{"$f":"IF(I494=\"\",\"\",ROWS($A$3:A494))","v":""},"","","","","","","","",{"$f":"IFERROR(SMALL($B$3:$B$2002,ROWS($A$3:A494)),\"\")","v":""},"","",null,"","","",{"$f":"IF(O494=\"\",\"\",CONCATENATE(\"*11....+\",VLOOKUP(16-(LEN(N494)),'1'!$A$1:$B$16,2,TRUE),N494,\" 81..40+\",VLOOKUP(16-(LEN(O494)),'1'!$A$1:$B$16,2,TRUE),O494,\" 82..40+\",VLOOKUP(16-(LEN(O494)),'1'!$A$1:$B$16,2,TRUE),P494,\" 71....+0000000000000000 \"))","v":""},null,""]
[null,{"$f":"IF(I495=\"\",\"\",ROWS($A$3:A495))","v":""},"","","","","","","","",{"$f":"IFERROR(SMALL($B$3:$B$2002,ROWS($A$3:A495)),\"\")","v":""},"","",null,"","","",{"$f":"IF(O495=\"\",\"\",CONCATENATE(\"*11....+\",VLOOKUP(16-(LEN(N495)),'1'!$A$1:$B$16,2,TRUE),N495,\" 81..40+\",VLOOKUP(16-(LEN(O495)),'1'!$A$1:$B$16,2,TRUE),O495,\" 82..40+\",VLOOKUP(16-(LEN(O495)),'1'!$A$1:$B$16,2,TRUE),P495,\" 71....+0000000000000000 \"))","v":""},null,""]
[null,{"$f":"IF(I496=\"\",\"\",ROWS($A$3:A496))","v":""},"","","","","","","","",{"$f":"IFERROR(SMALL($B$3:$B$2002,ROWS($A$3:A496)),\"\")","v":""},"","",null,"","","",{"$f":"IF(O496=\"\",\"\",CONCATENATE(\"*11....+\",VLOOKUP(16-(LEN(N496)),'1'!$A$1:$B$16,2,TRUE),N496,\" 81..40+\",VLOOKUP(16-(LEN(O496)),'1'!$A$1:$B$16,2,TRUE),O496,\" 82..40+\",VLOOKUP(16-(LEN(O496)),'1'!$A$1:$B$16,2,TRUE),P496,\" 71....+0000000000000000 \"))","v":""},null,""]
[null,{"$f":"IF(I497=\"\",\"\",ROWS($A$3:A497))","v":""},"","","","","","","","",{"$f":"IFERROR(SMALL($B$3:$B$2002,ROWS($A$3:A497)),\"\")","v":""},"","",null,"","","",{"$f":"IF(O497=\"\",\"\",CONCATENATE(\"*11....+\",VLOOKUP(16-(LEN(N497)),'1'!$A$1:$B$16,2,TRUE),N497,\" 81..40+\",VLOOKUP(16-(LEN(O497)),'1'!$A$1:$B$16,2,TRUE),O497,\" 82..40+\",VLOOKUP(16-(LEN(O497)),'1'!$A$1:$B$16,2,TRUE),P497,\" 71....+0000000000000000 \"))","v":""},null,""]
[null,{"$f":"IF(I498=\"\",\"\",ROWS($A$3:A498))","v":""},"","","","","","","","",{"$f":"IFERROR(SMALL($B$3:$B$2002,ROWS($A$3:A498)),\"\")","v":""},"","",null,"","","",{"$f":"IF(O498=\"\",\"\",CONCATENATE(\"*11....+\",VLOOKUP(16-(LEN(N498)),'1'!$A$1:$B$16,2,TRUE),N498,\" 81..40+\",VLOOKUP(16-(LEN(O498)),'1'!$A$1:$B$16,2,TRUE),O498,\" 82..40+\",VLOOKUP(16-(LEN(O498)),'1'!$A$1:$B$16,2,TRUE),P498,\" 71....+0000000000000000 \"))","v":""},null,""]
[null,{"$f":"IF(I499=\"\",\"\",ROWS($A$3:A499))","v":""},"","","","","","","","",{"$f":"IFERROR(SMALL($B$3:$B$2002,ROWS($A$3:A499)),\"\")","v":""},"","",null,"","","",{"$f":"IF(O499=\"\",\"\",CONCATENATE(\"*11....+\",VLOOKUP(16-(LEN(N499)),'1'!$A$1:$B$16,2,TRUE),N499,\" 81..40+\",VLOOKUP(16-(LEN(O499)),'1'!$A$1:$B$16,2,TRUE),O499,\" 82..40+\",VLOOKUP(16-(LEN(O499)),'1'!$A$1:$B$16,2,TRUE),P499,\" 71....+0000000000000000 \"))","v":""},null,""]
[null,{"$f":"IF(I500=\"\",\"\",ROWS($A$3:A500))","v":""},"","","","","","","","",{"$f":"IFERROR(SMALL($B$3:$B$2002,ROWS($A$3:A500)),\"\")","v":""},"","",null,"","","",{"$f":"IF(O500=\"\",\"\",CONCATENATE(\"*11....+\",VLOOKUP(16-(LEN(N500)),'1'!$A$1:$B$16,2,TRUE),N500,\" 81..40+\",VLOOKUP(16-(LEN(O500)),'1'!$A$1:$B$16,2,TRUE),O500,\" 82..40+\",VLOOKUP(16-(LEN(O500)),'1'!$A$1:$B$16,2,TRUE),P500,\" 71....+0000000000000000 \"))","v":""},null,""]
[null,{"$f":"IF(I501=\"\",\"\",ROWS($A$3:A501))","v":""},"","","","","","","","",{"$f":"IFERROR(SMALL($B$3:$B$2002,ROWS($A$3:A501)),\"\")","v":""},"","",null,"","","",{"$f":"IF(O501=\"\",\"\",CONCATENATE(\"*11....+\",VLOOKUP(16-(LEN(N501)),'1'!$A$1:$B$16,2,TRUE),N501,\" 81..40+\",VLOOKUP(16-(LEN(O501)),'1'!$A$1:$B$16,2,TRUE),O501,\" 82..40+\",VLOOKUP(16-(LEN(O501)),'1'!$A$1:$B$16,2,TRUE),P501,\" 71....+0000000000000000 \"))","v":""},null,""]
[null,{"$f":"IF(I502=\"\",\"\",ROWS($A$3:A502))","v":""},"","","","","","","","",{"$f":"IFERROR(SMALL($B$3:$B$2002,ROWS($A$3:A502)),\"\")","v":""},"","",null,"","","",{"$f":"IF(O502=\"\",\"\",CONCATENATE(\"*11....+\",VLOOKUP(16-(LEN(N502)),'1'!$A$1:$B$16,2,TRUE),N502,\" 81..40+\",VLOOKUP(16-(LEN(O502)),'1'!$A$1:$B$16,2,TRUE),O502,\" 82..40+\",VLOOKUP(16-(LEN(O502)),'1'!$A$1:$B$16,2,TRUE),P502,\" 71....+0000000000000000 \"))","v":""},null,""]
[null,{"$f":"IF(I503=\"\",\"\",ROWS($A$3:A503))","v":""},"","","","","","","","",{"$f":"IFERROR(SMALL($B$3:$B$2002,ROWS($A$3:A503)),\"\")","v":""},"","",null,"","","",{"$f":"IF(O503=\"\",\"\",CONCATENATE(\"*11....+\",VLOOKUP(16-(LEN(N503)),'1'!$A$1:$B$16,2,TRUE),N503,\" 81..40+\",VLOOKUP(16-(LEN(O503)),'1'!$A$1:$B$16,2,TRUE),O503,\" 82..40+\",VLOOKUP(16-(LEN(O503)),'1'!$A$1:$B$16,2,TRUE),P503,\" 71....+0000000000000000 \"))","v":""},null,""]
[null,{"$f":"IF(I504=\"\",\"\",ROWS($A$3:A504))","v":""},"","","","","","","","",{"$f":"IFERROR(SMALL($B$3:$B$2002,ROWS($A$3:A504)),\"\")","v":""},"","",null,"","","",{"$f":"IF(O504=\"\",\"\",CONCATENATE(\"*11....+\",VLOOKUP(16-(LEN(N504)),'1'!$A$1:$B$16,2,TRUE),N504,\" 81..40+\",VLOOKUP(16-(LEN(O504)),'1'!$A$1:$B$16,2,TRUE),O504,\" 82..40+\",VLOOKUP(16-(LEN(O504)),'1'!$A$1:$B$16,2,TRUE),P504,\" 71....+0000000000000000 \"))","v":""},null,""]
[null,{"$f":"IF(I505=\"\",\"\",ROWS($A$3:A505))","v":""},"","","","","","","","",{"$f":"IFERROR(SMALL($B$3:$B$2002,ROWS($A$3:A505)),\"\")","v":""},"","",null,"","","",{"$f":"IF(O505=\"\",\"\",CONCATENATE(\"*11....+\",VLOOKUP(16-(LEN(N505)),'1'!$A$1:$B$16,2,TRUE),N505,\" 81..40+\",VLOOKUP(16-(LEN(O505)),'1'!$A$1:$B$16,2,TRUE),O505,\" 82..40+\",VLOOKUP(16-(LEN(O505)),'1'!$A$1:$B$16,2,TRUE),P505,\" 71....+0000000000000000 \"))","v":""},null,""]
[null,{"$f":"IF(I506=\"\",\"\",ROWS($A$3:A506))","v":""},"","","","","","","","",{"$f":"IFERROR(SMALL($B$3:$B$2002,ROWS($A$3:A506)),\"\")","v":""},"","",null,"","","",{"$f":"IF(O506=\"\",\"\",CONCATENATE(\"*11....+\",VLOOKUP(16-(LEN(N506)),'1'!$A$1:$B$16,2,TRUE),N506,\" 81..40+\",VLOOKUP(16-(LEN(O506)),'1'!$A$1:$B$16,2,TRUE),O506,\" 82..40+\",VLOOKUP(16-(LEN(O506)),'1'!$A$1:$B$16,2,TRUE),P506,\" 71....+0000000000000000 \"))","v":""},null,""]
[null,{"$f":"IF(I507=\"\",\"\",ROWS($A$3:A507))","v":""},"","","","","","","","",{"$f":"IFERROR(SMALL($B$3:$B$2002,ROWS($A$3:A507)),\"\")","v":""},"","",null,"","","",{"$f":"IF(O507=\"\",\"\",CONCATENATE(\"*11....+\",VLOOKUP(16-(LEN(N507)),'1'!$A$1:$B$16,2,TRUE),N507,\" 81..40+\",VLOOKUP(16-(LEN(O507)),'1'!$A$1:$B$16,2,TRUE),O507,\" 82..40+\",VLOOKUP(16-(LEN(O507)),'1'!$A$1:$B$16,2,TRUE),P507,\" 71....+0000000000000000 \"))","v":""},null,""]
[null,{"$f":"IF(I508=\"\",\"\",ROWS($A$3:A508))","v":""},"","","","","","","","",{"$f":"IFERROR(SMALL($B$3:$B$2002,ROWS($A$3:A508)),\"\")","v":""},"","",null,"","","",{"$f":"IF(O508=\"\",\"\",CONCATENATE(\"*11....+\",VLOOKUP(16-(LEN(N508)),'1'!$A$1:$B$16,2,TRUE),N508,\" 81..40+\",VLOOKUP(16-(LEN(O508)),'1'!$A$1:$B$16,2,TRUE),O508,\" 82..40+\",VLOOKUP(16-(LEN(O508)),'1'!$A$1:$B$16,2,TRUE),P508,\" 71....+0000000000000000 \"))","v":""},null,""]
[null,{"$f":"IF(I509=\"\",\"\",ROWS($A$3:A509))","v":""},"","","","","","","","",{"$f":"IFERROR(SMALL($B$3:$B$2002,ROWS($A$3:A509)),\"\")","v":""},"","",null,"","","",{"$f":"IF(O509=\"\",\"\",CONCATENATE(\"*11....+\",VLOOKUP(16-(LEN(N509)),'1'!$A$1:$B$16,2,TRUE),N509,\" 81..40+\",VLOOKUP(16-(LEN(O509)),'1'!$A$1:$B$16,2,TRUE),O509,\" 82..40+\",VLOOKUP(16-(LEN(O509)),'1'!$A$1:$B$16,2,TRUE),P509,\" 71....+0000000000000000 \"))","v":""},null,""]
[null,{"$f":"IF(I510=\"\",\"\",ROWS($A$3:A510))","v":""},"","","","","","","","",{"$f":"IFERROR(SMALL($B$3:$B$2002,ROWS($A$3:A510)),\"\")","v":""},"","",null,"","","",{"$f":"IF(O510=\"\",\"\",CONCATENATE(\"*11....+\",VLOOKUP(16-(LEN(N510)),'1'!$A$1:$B$16,2,TRUE),N510,\" 81..40+\",VLOOKUP(16-(LEN(O510)),'1'!$A$1:$B$16,2,TRUE),O510,\" 82..40+\",VLOOKUP(16-(LEN(O510)),'1'!$A$1:$B$16,2,TRUE),P510,\" 71....+0000000000000000 \"))","v":""},null,""]
[null,{"$f":"IF(I511=\"\",\"\",ROWS($A$3:A511))","v":""},"","","","","","","","",{"$f":"IFERROR(SMALL($B$3:$B$2002,ROWS($A$3:A511)),\"\")","v":""},"","",null,"","","",{"$f":"IF(O511=\"\",\"\",CONCATENATE(\"*11....+\",VLOOKUP(16-(LEN(N511)),'1'!$A$1:$B$16,2,TRUE),N511,\" 81..40+\",VLOOKUP(16-(LEN(O511)),'1'!$A$1:$B$16,2,TRUE),O511,\" 82..40+\",VLOOKUP(16-(LEN(O511)),'1'!$A$1:$B$16,2,TRUE),P511,\" 71....+0000000000000000 \"))","v":""},null,""]
[null,{"$f":"IF(I512=\"\",\"\",ROWS($A$3:A512))","v":""},"","","","","","","","",{"$f":"IFERROR(SMALL($B$3:$B$2002,ROWS($A$3:A512)),\"\")","v":""},"","",null,"","","",{"$f":"IF(O512=\"\",\"\",CONCATENATE(\"*11....+\",VLOOKUP(16-(LEN(N512)),'1'!$A$1:$B$16,2,TRUE),N512,\" 81..40+\",VLOOKUP(16-(LEN(O512)),'1'!$A$1:$B$16,2,TRUE),O512,\" 82..40+\",VLOOKUP(16-(LEN(O512)),'1'!$A$1:$B$16,2,TRUE),P512,\" 71....+0000000000000000 \"))","v":""},null,""]
[null,{"$f":"IF(I513=\"\",\"\",ROWS($A$3:A513))","v":""},"","","","","","","","",{"$f":"IFERROR(SMALL($B$3:$B$2002,ROWS($A$3:A513)),\"\")","v":""},"","",null,"","","",{"$f":"IF(O513=\"\",\"\",CONCATENATE(\"*11....+\",VLOOKUP(16-(LEN(N513)),'1'!$A$1:$B$16,2,TRUE),N513,\" 81..40+\",VLOOKUP(16-(LEN(O513)),'1'!$A$1:$B$16,2,TRUE),O513,\" 82..40+\",VLOOKUP(16-(LEN(O513)),'1'!$A$1:$B$16,2,TRUE),P513,\" 71....+0000000000000000 \"))","v":""},null,""]
[null,{"$f":"IF(I514=\"\",\"\",ROWS($A$3:A514))","v":""},"","","","","","","","",{"$f":"IFERROR(SMALL($B$3:$B$2002,ROWS($A$3:A514)),\"\")","v":""},"","",null,"","","",{"$f":"IF(O514=\"\",\"\",CONCATENATE(\"*11....+\",VLOOKUP(16-(LEN(N514)),'1'!$A$1:$B$16,2,TRUE),N514,\" 81..40+\",VLOOKUP(16-(LEN(O514)),'1'!$A$1:$B$16,2,TRUE),O514,\" 82..40+\",VLOOKUP(16-(LEN(O514)),'1'!$A$1:$B$16,2,TRUE),P514,\" 71....+0000000000000000 \"))","v":""},null,""]
[null,{"$f":"IF(I515=\"\",\"\",ROWS($A$3:A515))","v":""},"","","","","","","","",{"$f":"IFERROR(SMALL($B$3:$B$2002,ROWS($A$3:A515)),\"\")","v":""},"","",null,"","","",{"$f":"IF(O515=\"\",\"\",CONCATENATE(\"*11....+\",VLOOKUP(16-(LEN(N515)),'1'!$A$1:$B$16,2,TRUE),N515,\" 81..40+\",VLOOKUP(16-(LEN(O515)),'1'!$A$1:$B$16,2,TRUE),O515,\" 82..40+\",VLOOKUP(16-(LEN(O515)),'1'!$A$1:$B$16,2,TRUE),P515,\" 71....+0000000000000000 \"))","v":""},null,""]
[null,{"$f":"IF(I516=\"\",\"\",ROWS($A$3:A516))","v":""},{"$f":"IF(LEN(A516)=59,ROUND(VALUE(MID(A516,23,9)),3),\"\")","v":""},{"$f":"IF(LEN(A516)=24,\"\",\"\")","v":""},{"$f":"IF(LEN(A516)=63,ROUND(VALUE(MID(A516,23,12)),3),\"\")","v":""},{"$f":"IF(LEN(A516)=59,ROUND(VALUE(MID(A516,37,9)),3),\"\")","v":""},{"$f":"IF(LEN(A516)=24,\"\",\"\")","v":""},{"$f":"IF(LEN(A516)=63,ROUND(VALUE(MID(A516,39,12)),3),\"\")","v":""},{"$f":"IF(AND(C516=\"\",D516=\"\",E516=\"\"),\"\",ROUND(CONCATENATE(C516,D516,E516),3))","v":""},{"$f":"IF(AND(C516=\"\",D516=\"\",E516=\"\"),\"\",ROUND(CONCATENATE(F516,G516,H516),3))","v":""},{"$f":"IFERROR(SMALL($B$3:$B$2002,ROWS($A$3:A516)),\"\")","v":""},{"$f":"IF(K516=\"\",\"\",ROUND(VALUE(VLOOKUP(K516,$B$3:$J$2002,8,TRUE)),3))","v":""},{"$f":"IF(K516=\"\",\"\",ROUND(VALUE(VLOOKUP(K516,$B$3:$J$2002,9,TRUE)),3))","v":""},null,{"$f":"IF(L516=\"\",\"\",L516/0.001)","v":""},"",{"$f":"IF(O516=\"\",\"\",16-LEN(N516))","v":""},{"$f":"IF(O516=\"\",\"\",CONCATENATE(\"*11....+\",VLOOKUP(16-(LEN(N516)),'1'!$A$1:$B$16,2,TRUE),N516,\" 81..40+\",VLOOKUP(16-(LEN(O516)),'1'!$A$1:$B$16,2,TRUE),O516,\" 82..40+\",VLOOKUP(16-(LEN(O516)),'1'!$A$1:$B$16,2,TRUE),P516,\" 71....+0000000000000000 \"))","v":""},null,{"$f":"IF(O516=\"\",\"\",CONCATENATE(N516,\",\",L516,\",\",M516))","v":""}]
[null,{"$f":"IF(I517=\"\",\"\",ROWS($A$3:A517))","v":""},"","","","","","","","",{"$f":"IFERROR(SMALL($B$3:$B$2002,ROWS($A$3:A517)),\"\")","v":""},"","",null,"","","",{"$f":"IF(O517=\"\",\"\",CONCATENATE(\"*11....+\",VLOOKUP(16-(LEN(N517)),'1'!$A$1:$B$16,2,TRUE),N517,\" 81..40+\",VLOOKUP(16-(LEN(O517)),'1'!$A$1:$B$16,2,TRUE),O517,\" 82..40+\",VLOOKUP(16-(LEN(O517)),'1'!$A$1:$B$16,2,TRUE),P517,\" 71....+0000000000000000 \"))","v":""},null,""]
[null,{"$f":"IF(I518=\"\",\"\",ROWS($A$3:A518))","v":""},"","","","","","","","",{"$f":"IFERROR(SMALL($B$3:$B$2002,ROWS($A$3:A518)),\"\")","v":""},"","",null,"","","",{"$f":"IF(O518=\"\",\"\",CONCATENATE(\"*11....+\",VLOOKUP(16-(LEN(N518)),'1'!$A$1:$B$16,2,TRUE),N518,\" 81..40+\",VLOOKUP(16-(LEN(O518)),'1'!$A$1:$B$16,2,TRUE),O518,\" 82..40+\",VLOOKUP(16-(LEN(O518)),'1'!$A$1:$B$16,2,TRUE),P518,\" 71....+0000000000000000 \"))","v":""},null,""]
[null,{"$f":"IF(I519=\"\",\"\",ROWS($A$3:A519))","v":""},"","","","","","","","",{"$f":"IFERROR(SMALL($B$3:$B$2002,ROWS($A$3:A519)),\"\")","v":""},"","",null,"","","",{"$f":"IF(O519=\"\",\"\",CONCATENATE(\"*11....+\",VLOOKUP(16-(LEN(N519)),'1'!$A$1:$B$16,2,TRUE),N519,\" 81..40+\",VLOOKUP(16-(LEN(O519)),'1'!$A$1:$B$16,2,TRUE),O519,\" 82..40+\",VLOOKUP(16-(LEN(O519)),'1'!$A$1:$B$16,2,TRUE),P519,\" 71....+0000000000000000 \"))","v":""},null,""]
[null,{"$f":"IF(I520=\"\",\"\",ROWS($A$3:A520))","v":""},"","","","","","","","",{"$f":"IFERROR(SMALL($B$3:$B$2002,ROWS($A$3:A520)),\"\")","v":""},"","",null,"","","",{"$f":"IF(O520=\"\",\"\",CONCATENATE(\"*11....+\",VLOOKUP(16-(LEN(N520)),'1'!$A$1:$B$16,2,TRUE),N520,\" 81..40+\",VLOOKUP(16-(LEN(O520)),'1'!$A$1:$B$16,2,TRUE),O520,\" 82..40+\",VLOOKUP(16-(LEN(O520)),'1'!$A$1:$B$16,2,TRUE),P520,\" 71....+0000000000000000 \"))","v":""},null,""]
[null,{"$f":"IF(I521=\"\",\"\",ROWS($A$3:A521))","v":""},"","","","","","","","",{"$f":"IFERROR(SMALL($B$3:$B$2002,ROWS($A$3:A521)),\"\")","v":""},"","",null,"","","",{"$f":"IF(O521=\"\",\"\",CONCATENATE(\"*11....+\",VLOOKUP(16-(LEN(N521)),'1'!$A$1:$B$16,2,TRUE),N521,\" 81..40+\",VLOOKUP(16-(LEN(O521)),'1'!$A$1:$B$16,2,TRUE),O521,\" 82..40+\",VLOOKUP(16-(LEN(O521)),'1'!$A$1:$B$16,2,TRUE),P521,\" 71....+0000000000000000 \"))","v":""},null,""]
[null,{"$f":"IF(I522=\"\",\"\",ROWS($A$3:A522))","v":""},"","","","","","","","",{"$f":"IFERROR(SMALL($B$3:$B$2002,ROWS($A$3:A522)),\"\")","v":""},"","",null,"","","",{"$f":"IF(O522=\"\",\"\",CONCATENATE(\"*11....+\",VLOOKUP(16-(LEN(N522)),'1'!$A$1:$B$16,2,TRUE),N522,\" 81..40+\",VLOOKUP(16-(LEN(O522)),'1'!$A$1:$B$16,2,TRUE),O522,\" 82..40+\",VLOOKUP(16-(LEN(O522)),'1'!$A$1:$B$16,2,TRUE),P522,\" 71....+0000000000000000 \"))","v":""},null,""]
[null,{"$f":"IF(I523=\"\",\"\",ROWS($A$3:A523))","v":""},"","","","","","","","",{"$f":"IFERROR(SMALL($B$3:$B$2002,ROWS($A$3:A523)),\"\")","v":""},"","",null,"","","",{"$f":"IF(O523=\"\",\"\",CONCATENATE(\"*11....+\",VLOOKUP(16-(LEN(N523)),'1'!$A$1:$B$16,2,TRUE),N523,\" 81..40+\",VLOOKUP(16-(LEN(O523)),'1'!$A$1:$B$16,2,TRUE),O523,\" 82..40+\",VLOOKUP(16-(LEN(O523)),'1'!$A$1:$B$16,2,TRUE),P523,\" 71....+0000000000000000 \"))","v":""},null,""]
[null,{"$f":"IF(I524=\"\",\"\",ROWS($A$3:A524))","v":""},"","","","","","","","",{"$f":"IFERROR(SMALL($B$3:$B$2002,ROWS($A$3:A524)),\"\")","v":""},"","",null,"","","",{"$f":"IF(O524=\"\",\"\",CONCATENATE(\"*11....+\",VLOOKUP(16-(LEN(N524)),'1'!$A$1:$B$16,2,TRUE),N524,\" 81..40+\",VLOOKUP(16-(LEN(O524)),'1'!$A$1:$B$16,2,TRUE),O524,\" 82..40+\",VLOOKUP(16-(LEN(O524)),'1'!$A$1:$B$16,2,TRUE),P524,\" 71....+0000000000000000 \"))","v":""},null,""]
[null,{"$f":"IF(I525=\"\",\"\",ROWS($A$3:A525))","v":""},"","","","","","","","",{"$f":"IFERROR(SMALL($B$3:$B$2002,ROWS($A$3:A525)),\"\")","v":""},"","",null,"","","",{"$f":"IF(O525=\"\",\"\",CONCATENATE(\"*11....+\",VLOOKUP(16-(LEN(N525)),'1'!$A$1:$B$16,2,TRUE),N525,\" 81..40+\",VLOOKUP(16-(LEN(O525)),'1'!$A$1:$B$16,2,TRUE),O525,\" 82..40+\",VLOOKUP(16-(LEN(O525)),'1'!$A$1:$B$16,2,TRUE),P525,\" 71....+0000000000000000 \"))","v":""},null,""]
[null,{"$f":"IF(I526=\"\",\"\",ROWS($A$3:A526))","v":""},"","","","","","","","",{"$f":"IFERROR(SMALL($B$3:$B$2002,ROWS($A$3:A526)),\"\")","v":""},"","",null,"","","",{"$f":"IF(O526=\"\",\"\",CONCATENATE(\"*11....+\",VLOOKUP(16-(LEN(N526)),'1'!$A$1:$B$16,2,TRUE),N526,\" 81..40+\",VLOOKUP(16-(LEN(O526)),'1'!$A$1:$B$16,2,TRUE),O526,\" 82..40+\",VLOOKUP(16-(LEN(O526)),'1'!$A$1:$B$16,2,TRUE),P526,\" 71....+0000000000000000 \"))","v":""},null,""]
[null,{"$f":"IF(I527=\"\",\"\",ROWS($A$3:A527))","v":""},"","","","","","","","",{"$f":"IFERROR(SMALL($B$3:$B$2002,ROWS($A$3:A527)),\"\")","v":""},"","",null,"","","",{"$f":"IF(O527=\"\",\"\",CONCATENATE(\"*11....+\",VLOOKUP(16-(LEN(N527)),'1'!$A$1:$B$16,2,TRUE),N527,\" 81..40+\",VLOOKUP(16-(LEN(O527)),'1'!$A$1:$B$16,2,TRUE),O527,\" 82..40+\",VLOOKUP(16-(LEN(O527)),'1'!$A$1:$B$16,2,TRUE),P527,\" 71....+0000000000000000 \"))","v":""},null,""]
[null,{"$f":"IF(I528=\"\",\"\",ROWS($A$3:A528))","v":""},"","","","","","","","",{"$f":"IFERROR(SMALL($B$3:$B$2002,ROWS($A$3:A528)),\"\")","v":""},"","",null,"","","",{"$f":"IF(O528=\"\",\"\",CONCATENATE(\"*11....+\",VLOOKUP(16-(LEN(N528)),'1'!$A$1:$B$16,2,TRUE),N528,\" 81..40+\",VLOOKUP(16-(LEN(O528)),'1'!$A$1:$B$16,2,TRUE),O528,\" 82..40+\",VLOOKUP(16-(LEN(O528)),'1'!$A$1:$B$16,2,TRUE),P528,\" 71....+0000000000000000 \"))","v":""},null,""]
[null,{"$f":"IF(I529=\"\",\"\",ROWS($A$3:A529))","v":""},"","","","","","","","",{"$f":"IFERROR(SMALL($B$3:$B$2002,ROWS($A$3:A529)),\"\")","v":""},"","",null,"","","",{"$f":"IF(O529=\"\",\"\",CONCATENATE(\"*11....+\",VLOOKUP(16-(LEN(N529)),'1'!$A$1:$B$16,2,TRUE),N529,\" 81..40+\",VLOOKUP(16-(LEN(O529)),'1'!$A$1:$B$16,2,TRUE),O529,\" 82..40+\",VLOOKUP(16-(LEN(O529)),'1'!$A$1:$B$16,2,TRUE),P529,\" 71....+0000000000000000 \"))","v":""},null,""]
[null,{"$f":"IF(I530=\"\",\"\",ROWS($A$3:A530))","v":""},"","","","","","","","",{"$f":"IFERROR(SMALL($B$3:$B$2002,ROWS($A$3:A530)),\"\")","v":""},"","",null,"","","",{"$f":"IF(O530=\"\",\"\",CONCATENATE(\"*11....+\",VLOOKUP(16-(LEN(N530)),'1'!$A$1:$B$16,2,TRUE),N530,\" 81..40+\",VLOOKUP(16-(LEN(O530)),'1'!$A$1:$B$16,2,TRUE),O530,\" 82..40+\",VLOOKUP(16-(LEN(O530)),'1'!$A$1:$B$16,2,TRUE),P530,\" 71....+0000000000000000 \"))","v":""},null,""]
[null,{"$f":"IF(I531=\"\",\"\",ROWS($A$3:A531))","v":""},"","","","","","","","",{"$f":"IFERROR(SMALL($B$3:$B$2002,ROWS($A$3:A531)),\"\")","v":""},"","",null,"","","",{"$f":"IF(O531=\"\",\"\",CONCATENATE(\"*11....+\",VLOOKUP(16-(LEN(N531)),'1'!$A$1:$B$16,2,TRUE),N531,\" 81..40+\",VLOOKUP(16-(LEN(O531)),'1'!$A$1:$B$16,2,TRUE),O531,\" 82..40+\",VLOOKUP(16-(LEN(O531)),'1'!$A$1:$B$16,2,TRUE),P531,\" 71....+0000000000000000 \"))","v":""},null,""]
[null,{"$f":"IF(I532=\"\",\"\",ROWS($A$3:A532))","v":""},"","","","","","","","",{"$f":"IFERROR(SMALL($B$3:$B$2002,ROWS($A$3:A532)),\"\")","v":""},"","",null,"","","",{"$f":"IF(O532=\"\",\"\",CONCATENATE(\"*11....+\",VLOOKUP(16-(LEN(N532)),'1'!$A$1:$B$16,2,TRUE),N532,\" 81..40+\",VLOOKUP(16-(LEN(O532)),'1'!$A$1:$B$16,2,TRUE),O532,\" 82..40+\",VLOOKUP(16-(LEN(O532)),'1'!$A$1:$B$16,2,TRUE),P532,\" 71....+0000000000000000 \"))","v":""},null,""]
[null,{"$f":"IF(I533=\"\",\"\",ROWS($A$3:A533))","v":""},"","","","","","","","",{"$f":"IFERROR(SMALL($B$3:$B$2002,ROWS($A$3:A533)),\"\")","v":""},"","",null,"","","",{"$f":"IF(O533=\"\",\"\",CONCATENATE(\"*11....+\",VLOOKUP(16-(LEN(N533)),'1'!$A$1:$B$16,2,TRUE),N533,\" 81..40+\",VLOOKUP(16-(LEN(O533)),'1'!$A$1:$B$16,2,TRUE),O533,\" 82..40+\",VLOOKUP(16-(LEN(O533)),'1'!$A$1:$B$16,2,TRUE),P533,\" 71....+0000000000000000 \"))","v":""},null,""]
[null,{"$f":"IF(I534=\"\",\"\",ROWS($A$3:A534))","v":""},"","","","","","","","",{"$f":"IFERROR(SMALL($B$3:$B$2002,ROWS($A$3:A534)),\"\")","v":""},"","",null,"","","",{"$f":"IF(O534=\"\",\"\",CONCATENATE(\"*11....+\",VLOOKUP(16-(LEN(N534)),'1'!$A$1:$B$16,2,TRUE),N534,\" 81..40+\",VLOOKUP(16-(LEN(O534)),'1'!$A$1:$B$16,2,TRUE),O534,\" 82..40+\",VLOOKUP(16-(LEN(O534)),'1'!$A$1:$B$16,2,TRUE),P534,\" 71....+0000000000000000 \"))","v":""},null,""]
[null,{"$f":"IF(I535=\"\",\"\",ROWS($A$3:A535))","v":""},"","","","","","","","",{"$f":"IFERROR(SMALL($B$3:$B$2002,ROWS($A$3:A535)),\"\")","v":""},"","",null,"","","",{"$f":"IF(O535=\"\",\"\",CONCATENATE(\"*11....+\",VLOOKUP(16-(LEN(N535)),'1'!$A$1:$B$16,2,TRUE),N535,\" 81..40+\",VLOOKUP(16-(LEN(O535)),'1'!$A$1:$B$16,2,TRUE),O535,\" 82..40+\",VLOOKUP(16-(LEN(O535)),'1'!$A$1:$B$16,2,TRUE),P535,\" 71....+0000000000000000 \"))","v":""},null,""]
[null,{"$f":"IF(I536=\"\",\"\",ROWS($A$3:A536))","v":""},"","","","","","","","",{"$f":"IFERROR(SMALL($B$3:$B$2002,ROWS($A$3:A536)),\"\")","v":""},"","",null,"","","",{"$f":"IF(O536=\"\",\"\",CONCATENATE(\"*11....+\",VLOOKUP(16-(LEN(N536)),'1'!$A$1:$B$16,2,TRUE),N536,\" 81..40+\",VLOOKUP(16-(LEN(O536)),'1'!$A$1:$B$16,2,TRUE),O536,\" 82..40+\",VLOOKUP(16-(LEN(O536)),'1'!$A$1:$B$16,2,TRUE),P536,\" 71....+0000000000000000 \"))","v":""},null,""]
[null,{"$f":"IF(I537=\"\",\"\",ROWS($A$3:A537))","v":""},"","","","","","","","",{"$f":"IFERROR(SMALL($B$3:$B$2002,ROWS($A$3:A537)),\"\")","v":""},"","",null,"","","",{"$f":"IF(O537=\"\",\"\",CONCATENATE(\"*11....+\",VLOOKUP(16-(LEN(N537)),'1'!$A$1:$B$16,2,TRUE),N537,\" 81..40+\",VLOOKUP(16-(LEN(O537)),'1'!$A$1:$B$16,2,TRUE),O537,\" 82..40+\",VLOOKUP(16-(LEN(O537)),'1'!$A$1:$B$16,2,TRUE),P537,\" 71....+0000000000000000 \"))","v":""},null,""]
[null,{"$f":"IF(I538=\"\",\"\",ROWS($A$3:A538))","v":""},"","","","","","","","",{"$f":"IFERROR(SMALL($B$3:$B$2002,ROWS($A$3:A538)),\"\")","v":""},"","",null,"","","",{"$f":"IF(O538=\"\",\"\",CONCATENATE(\"*11....+\",VLOOKUP(16-(LEN(N538)),'1'!$A$1:$B$16,2,TRUE),N538,\" 81..40+\",VLOOKUP(16-(LEN(O538)),'1'!$A$1:$B$16,2,TRUE),O538,\" 82..40+\",VLOOKUP(16-(LEN(O538)),'1'!$A$1:$B$16,2,TRUE),P538,\" 71....+0000000000000000 \"))","v":""},null,""]
[null,{"$f":"IF(I539=\"\",\"\",ROWS($A$3:A539))","v":""},"","","","","","","","",{"$f":"IFERROR(SMALL($B$3:$B$2002,ROWS($A$3:A539)),\"\")","v":""},"","",null,"","","",{"$f":"IF(O539=\"\",\"\",CONCATENATE(\"*11....+\",VLOOKUP(16-(LEN(N539)),'1'!$A$1:$B$16,2,TRUE),N539,\" 81..40+\",VLOOKUP(16-(LEN(O539)),'1'!$A$1:$B$16,2,TRUE),O539,\" 82..40+\",VLOOKUP(16-(LEN(O539)),'1'!$A$1:$B$16,2,TRUE),P539,\" 71....+0000000000000000 \"))","v":""},null,""]
[null,{"$f":"IF(I540=\"\",\"\",ROWS($A$3:A540))","v":""},"","","","","","","","",{"$f":"IFERROR(SMALL($B$3:$B$2002,ROWS($A$3:A540)),\"\")","v":""},"","",null,"","","",{"$f":"IF(O540=\"\",\"\",CONCATENATE(\"*11....+\",VLOOKUP(16-(LEN(N540)),'1'!$A$1:$B$16,2,TRUE),N540,\" 81..40+\",VLOOKUP(16-(LEN(O540)),'1'!$A$1:$B$16,2,TRUE),O540,\" 82..40+\",VLOOKUP(16-(LEN(O540)),'1'!$A$1:$B$16,2,TRUE),P540,\" 71....+0000000000000000 \"))","v":""},null,""]
[null,{"$f":"IF(I541=\"\",\"\",ROWS($A$3:A541))","v":""},"","","","","","","","",{"$f":"IFERROR(SMALL($B$3:$B$2002,ROWS($A$3:A541)),\"\")","v":""},"","",null,"","","",{"$f":"IF(O541=\"\",\"\",CONCATENATE(\"*11....+\",VLOOKUP(16-(LEN(N541)),'1'!$A$1:$B$16,2,TRUE),N541,\" 81..40+\",VLOOKUP(16-(LEN(O541)),'1'!$A$1:$B$16,2,TRUE),O541,\" 82..40+\",VLOOKUP(16-(LEN(O541)),'1'!$A$1:$B$16,2,TRUE),P541,\" 71....+0000000000000000 \"))","v":""},null,""]
[null,{"$f":"IF(I542=\"\",\"\",ROWS($A$3:A542))","v":""},"","","","","","","","",{"$f":"IFERROR(SMALL($B$3:$B$2002,ROWS($A$3:A542)),\"\")","v":""},"","",null,"","","",{"$f":"IF(O542=\"\",\"\",CONCATENATE(\"*11....+\",VLOOKUP(16-(LEN(N542)),'1'!$A$1:$B$16,2,TRUE),N542,\" 81..40+\",VLOOKUP(16-(LEN(O542)),'1'!$A$1:$B$16,2,TRUE),O542,\" 82..40+\",VLOOKUP(16-(LEN(O542)),'1'!$A$1:$B$16,2,TRUE),P542,\" 71....+0000000000000000 \"))","v":""},null,""]
[null,{"$f":"IF(I543=\"\",\"\",ROWS($A$3:A543))","v":""},"","","","","","","","",{"$f":"IFERROR(SMALL($B$3:$B$2002,ROWS($A$3:A543)),\"\")","v":""},"","",null,"","","",{"$f":"IF(O543=\"\",\"\",CONCATENATE(\"*11....+\",VLOOKUP(16-(LEN(N543)),'1'!$A$1:$B$16,2,TRUE),N543,\" 81..40+\",VLOOKUP(16-(LEN(O543)),'1'!$A$1:$B$16,2,TRUE),O543,\" 82..40+\",VLOOKUP(16-(LEN(O543)),'1'!$A$1:$B$16,2,TRUE),P543,\" 71....+0000000000000000 \"))","v":""},null,""]
[null,{"$f":"IF(I544=\"\",\"\",ROWS($A$3:A544))","v":""},"","","","","","","","",{"$f":"IFERROR(SMALL($B$3:$B$2002,ROWS($A$3:A544)),\"\")","v":""},"","",null,"","","",{"$f":"IF(O544=\"\",\"\",CONCATENATE(\"*11....+\",VLOOKUP(16-(LEN(N544)),'1'!$A$1:$B$16,2,TRUE),N544,\" 81..40+\",VLOOKUP(16-(LEN(O544)),'1'!$A$1:$B$16,2,TRUE),O544,\" 82..40+\",VLOOKUP(16-(LEN(O544)),'1'!$A$1:$B$16,2,TRUE),P544,\" 71....+0000000000000000 \"))","v":""},null,""]
[null,{"$f":"IF(I545=\"\",\"\",ROWS($A$3:A545))","v":""},"","","","","","","","",{"$f":"IFERROR(SMALL($B$3:$B$2002,ROWS($A$3:A545)),\"\")","v":""},"","",null,"","","",{"$f":"IF(O545=\"\",\"\",CONCATENATE(\"*11....+\",VLOOKUP(16-(LEN(N545)),'1'!$A$1:$B$16,2,TRUE),N545,\" 81..40+\",VLOOKUP(16-(LEN(O545)),'1'!$A$1:$B$16,2,TRUE),O545,\" 82..40+\",VLOOKUP(16-(LEN(O545)),'1'!$A$1:$B$16,2,TRUE),P545,\" 71....+0000000000000000 \"))","v":""},null,""]
[null,{"$f":"IF(I546=\"\",\"\",ROWS($A$3:A546))","v":""},"","","","","","","","",{"$f":"IFERROR(SMALL($B$3:$B$2002,ROWS($A$3:A546)),\"\")","v":""},"","",null,"","","",{"$f":"IF(O546=\"\",\"\",CONCATENATE(\"*11....+\",VLOOKUP(16-(LEN(N546)),'1'!$A$1:$B$16,2,TRUE),N546,\" 81..40+\",VLOOKUP(16-(LEN(O546)),'1'!$A$1:$B$16,2,TRUE),O546,\" 82..40+\",VLOOKUP(16-(LEN(O546)),'1'!$A$1:$B$16,2,TRUE),P546,\" 71....+0000000000000000 \"))","v":""},null,""]
[null,{"$f":"IF(I547=\"\",\"\",ROWS($A$3:A547))","v":""},"","","","","","","","",{"$f":"IFERROR(SMALL($B$3:$B$2002,ROWS($A$3:A547)),\"\")","v":""},"","",null,"","","",{"$f":"IF(O547=\"\",\"\",CONCATENATE(\"*11....+\",VLOOKUP(16-(LEN(N547)),'1'!$A$1:$B$16,2,TRUE),N547,\" 81..40+\",VLOOKUP(16-(LEN(O547)),'1'!$A$1:$B$16,2,TRUE),O547,\" 82..40+\",VLOOKUP(16-(LEN(O547)),'1'!$A$1:$B$16,2,TRUE),P547,\" 71....+0000000000000000 \"))","v":""},null,""]
[null,{"$f":"IF(I548=\"\",\"\",ROWS($A$3:A548))","v":""},"","","","","","","","",{"$f":"IFERROR(SMALL($B$3:$B$2002,ROWS($A$3:A548)),\"\")","v":""},"","",null,"","","",{"$f":"IF(O548=\"\",\"\",CONCATENATE(\"*11....+\",VLOOKUP(16-(LEN(N548)),'1'!$A$1:$B$16,2,TRUE),N548,\" 81..40+\",VLOOKUP(16-(LEN(O548)),'1'!$A$1:$B$16,2,TRUE),O548,\" 82..40+\",VLOOKUP(16-(LEN(O548)),'1'!$A$1:$B$16,2,TRUE),P548,\" 71....+0000000000000000 \"))","v":""},null,""]
[null,{"$f":"IF(I549=\"\",\"\",ROWS($A$3:A549))","v":""},"","","","","","","","",{"$f":"IFERROR(SMALL($B$3:$B$2002,ROWS($A$3:A549)),\"\")","v":""},"","",null,"","","",{"$f":"IF(O549=\"\",\"\",CONCATENATE(\"*11....+\",VLOOKUP(16-(LEN(N549)),'1'!$A$1:$B$16,2,TRUE),N549,\" 81..40+\",VLOOKUP(16-(LEN(O549)),'1'!$A$1:$B$16,2,TRUE),O549,\" 82..40+\",VLOOKUP(16-(LEN(O549)),'1'!$A$1:$B$16,2,TRUE),P549,\" 71....+0000000000000000 \"))","v":""},null,""]
[null,{"$f":"IF(I550=\"\",\"\",ROWS($A$3:A550))","v":""},"","","","","","","","",{"$f":"IFERROR(SMALL($B$3:$B$2002,ROWS($A$3:A550)),\"\")","v":""},"","",null,"","","",{"$f":"IF(O550=\"\",\"\",CONCATENATE(\"*11....+\",VLOOKUP(16-(LEN(N550)),'1'!$A$1:$B$16,2,TRUE),N550,\" 81..40+\",VLOOKUP(16-(LEN(O550)),'1'!$A$1:$B$16,2,TRUE),O550,\" 82..40+\",VLOOKUP(16-(LEN(O550)),'1'!$A$1:$B$16,2,TRUE),P550,\" 71....+0000000000000000 \"))","v":""},null,""]
[null,{"$f":"IF(I551=\"\",\"\",ROWS($A$3:A551))","v":""},"","","","","","","","",{"$f":"IFERROR(SMALL($B$3:$B$2002,ROWS($A$3:A551)),\"\")","v":""},"","",null,"","","",{"$f":"IF(O551=\"\",\"\",CONCATENATE(\"*11....+\",VLOOKUP(16-(LEN(N551)),'1'!$A$1:$B$16,2,TRUE),N551,\" 81..40+\",VLOOKUP(16-(LEN(O551)),'1'!$A$1:$B$16,2,TRUE),O551,\" 82..40+\",VLOOKUP(16-(LEN(O551)),'1'!$A$1:$B$16,2,TRUE),P551,\" 71....+0000000000000000 \"))","v":""},null,""]
[null,{"$f":"IF(I552=\"\",\"\",ROWS($A$3:A552))","v":""},"","","","","","","","",{"$f":"IFERROR(SMALL($B$3:$B$2002,ROWS($A$3:A552)),\"\")","v":""},"","",null,"","","",{"$f":"IF(O552=\"\",\"\",CONCATENATE(\"*11....+\",VLOOKUP(16-(LEN(N552)),'1'!$A$1:$B$16,2,TRUE),N552,\" 81..40+\",VLOOKUP(16-(LEN(O552)),'1'!$A$1:$B$16,2,TRUE),O552,\" 82..40+\",VLOOKUP(16-(LEN(O552)),'1'!$A$1:$B$16,2,TRUE),P552,\" 71....+0000000000000000 \"))","v":""},null,""]
[null,{"$f":"IF(I553=\"\",\"\",ROWS($A$3:A553))","v":""},"","","","","","","","",{"$f":"IFERROR(SMALL($B$3:$B$2002,ROWS($A$3:A553)),\"\")","v":""},"","",null,"","","",{"$f":"IF(O553=\"\",\"\",CONCATENATE(\"*11....+\",VLOOKUP(16-(LEN(N553)),'1'!$A$1:$B$16,2,TRUE),N553,\" 81..40+\",VLOOKUP(16-(LEN(O553)),'1'!$A$1:$B$16,2,TRUE),O553,\" 82..40+\",VLOOKUP(16-(LEN(O553)),'1'!$A$1:$B$16,2,TRUE),P553,\" 71....+0000000000000000 \"))","v":""},null,""]
[null,{"$f":"IF(I554=\"\",\"\",ROWS($A$3:A554))","v":""},"","","","","","","","",{"$f":"IFERROR(SMALL($B$3:$B$2002,ROWS($A$3:A554)),\"\")","v":""},"","",null,"","","",{"$f":"IF(O554=\"\",\"\",CONCATENATE(\"*11....+\",VLOOKUP(16-(LEN(N554)),'1'!$A$1:$B$16,2,TRUE),N554,\" 81..40+\",VLOOKUP(16-(LEN(O554)),'1'!$A$1:$B$16,2,TRUE),O554,\" 82..40+\",VLOOKUP(16-(LEN(O554)),'1'!$A$1:$B$16,2,TRUE),P554,\" 71....+0000000000000000 \"))","v":""},null,""]
[null,{"$f":"IF(I555=\"\",\"\",ROWS($A$3:A555))","v":""},"","","","","","","","",{"$f":"IFERROR(SMALL($B$3:$B$2002,ROWS($A$3:A555)),\"\")","v":""},"","",null,"","","",{"$f":"IF(O555=\"\",\"\",CONCATENATE(\"*11....+\",VLOOKUP(16-(LEN(N555)),'1'!$A$1:$B$16,2,TRUE),N555,\" 81..40+\",VLOOKUP(16-(LEN(O555)),'1'!$A$1:$B$16,2,TRUE),O555,\" 82..40+\",VLOOKUP(16-(LEN(O555)),'1'!$A$1:$B$16,2,TRUE),P555,\" 71....+0000000000000000 \"))","v":""},null,""]
[null,{"$f":"IF(I556=\"\",\"\",ROWS($A$3:A556))","v":""},"","","","","","","","",{"$f":"IFERROR(SMALL($B$3:$B$2002,ROWS($A$3:A556)),\"\")","v":""},"","",null,"","","",{"$f":"IF(O556=\"\",\"\",CONCATENATE(\"*11....+\",VLOOKUP(16-(LEN(N556)),'1'!$A$1:$B$16,2,TRUE),N556,\" 81..40+\",VLOOKUP(16-(LEN(O556)),'1'!$A$1:$B$16,2,TRUE),O556,\" 82..40+\",VLOOKUP(16-(LEN(O556)),'1'!$A$1:$B$16,2,TRUE),P556,\" 71....+0000000000000000 \"))","v":""},null,""]
[null,{"$f":"IF(I557=\"\",\"\",ROWS($A$3:A557))","v":""},"","","","","","","","",{"$f":"IFERROR(SMALL($B$3:$B$2002,ROWS($A$3:A557)),\"\")","v":""},"","",null,"","","",{"$f":"IF(O557=\"\",\"\",CONCATENATE(\"*11....+\",VLOOKUP(16-(LEN(N557)),'1'!$A$1:$B$16,2,TRUE),N557,\" 81..40+\",VLOOKUP(16-(LEN(O557)),'1'!$A$1:$B$16,2,TRUE),O557,\" 82..40+\",VLOOKUP(16-(LEN(O557)),'1'!$A$1:$B$16,2,TRUE),P557,\" 71....+0000000000000000 \"))","v":""},null,""]
[null,{"$f":"IF(I558=\"\",\"\",ROWS($A$3:A558))","v":""},"","","","","","","","",{"$f":"IFERROR(SMALL($B$3:$B$2002,ROWS($A$3:A558)),\"\")","v":""},"","",null,"","","",{"$f":"IF(O558=\"\",\"\",CONCATENATE(\"*11....+\",VLOOKUP(16-(LEN(N558)),'1'!$A$1:$B$16,2,TRUE),N558,\" 81..40+\",VLOOKUP(16-(LEN(O558)),'1'!$A$1:$B$16,2,TRUE),O558,\" 82..40+\",VLOOKUP(16-(LEN(O558)),'1'!$A$1:$B$16,2,TRUE),P558,\" 71....+0000000000000000 \"))","v":""},null,""]
[null,{"$f":"IF(I559=\"\",\"\",ROWS($A$3:A559))","v":""},"","","","","","","","",{"$f":"IFERROR(SMALL($B$3:$B$2002,ROWS($A$3:A559)),\"\")","v":""},"","",null,"","","",{"$f":"IF(O559=\"\",\"\",CONCATENATE(\"*11....+\",VLOOKUP(16-(LEN(N559)),'1'!$A$1:$B$16,2,TRUE),N559,\" 81..40+\",VLOOKUP(16-(LEN(O559)),'1'!$A$1:$B$16,2,TRUE),O559,\" 82..40+\",VLOOKUP(16-(LEN(O559)),'1'!$A$1:$B$16,2,TRUE),P559,\" 71....+0000000000000000 \"))","v":""},null,""]
[null,{"$f":"IF(I560=\"\",\"\",ROWS($A$3:A560))","v":""},"","","","","","","","",{"$f":"IFERROR(SMALL($B$3:$B$2002,ROWS($A$3:A560)),\"\")","v":""},"","",null,"","","",{"$f":"IF(O560=\"\",\"\",CONCATENATE(\"*11....+\",VLOOKUP(16-(LEN(N560)),'1'!$A$1:$B$16,2,TRUE),N560,\" 81..40+\",VLOOKUP(16-(LEN(O560)),'1'!$A$1:$B$16,2,TRUE),O560,\" 82..40+\",VLOOKUP(16-(LEN(O560)),'1'!$A$1:$B$16,2,TRUE),P560,\" 71....+0000000000000000 \"))","v":""},null,""]
[null,{"$f":"IF(I561=\"\",\"\",ROWS($A$3:A561))","v":""},"","","","","","","","",{"$f":"IFERROR(SMALL($B$3:$B$2002,ROWS($A$3:A561)),\"\")","v":""},"","",null,"","","",{"$f":"IF(O561=\"\",\"\",CONCATENATE(\"*11....+\",VLOOKUP(16-(LEN(N561)),'1'!$A$1:$B$16,2,TRUE),N561,\" 81..40+\",VLOOKUP(16-(LEN(O561)),'1'!$A$1:$B$16,2,TRUE),O561,\" 82..40+\",VLOOKUP(16-(LEN(O561)),'1'!$A$1:$B$16,2,TRUE),P561,\" 71....+0000000000000000 \"))","v":""},null,""]
[null,{"$f":"IF(I562=\"\",\"\",ROWS($A$3:A562))","v":""},"","","","","","","","",{"$f":"IFERROR(SMALL($B$3:$B$2002,ROWS($A$3:A562)),\"\")","v":""},"","",null,"","","",{"$f":"IF(O562=\"\",\"\",CONCATENATE(\"*11....+\",VLOOKUP(16-(LEN(N562)),'1'!$A$1:$B$16,2,TRUE),N562,\" 81..40+\",VLOOKUP(16-(LEN(O562)),'1'!$A$1:$B$16,2,TRUE),O562,\" 82..40+\",VLOOKUP(16-(LEN(O562)),'1'!$A$1:$B$16,2,TRUE),P562,\" 71....+0000000000000000 \"))","v":""},null,""]
[null,{"$f":"IF(I563=\"\",\"\",ROWS($A$3:A563))","v":""},"","","","","","","","",{"$f":"IFERROR(SMALL($B$3:$B$2002,ROWS($A$3:A563)),\"\")","v":""},"","",null,"","","",{"$f":"IF(O563=\"\",\"\",CONCATENATE(\"*11....+\",VLOOKUP(16-(LEN(N563)),'1'!$A$1:$B$16,2,TRUE),N563,\" 81..40+\",VLOOKUP(16-(LEN(O563)),'1'!$A$1:$B$16,2,TRUE),O563,\" 82..40+\",VLOOKUP(16-(LEN(O563)),'1'!$A$1:$B$16,2,TRUE),P563,\" 71....+0000000000000000 \"))","v":""},null,""]
[null,{"$f":"IF(I564=\"\",\"\",ROWS($A$3:A564))","v":""},"","","","","","","","",{"$f":"IFERROR(SMALL($B$3:$B$2002,ROWS($A$3:A564)),\"\")","v":""},"","",null,"","","",{"$f":"IF(O564=\"\",\"\",CONCATENATE(\"*11....+\",VLOOKUP(16-(LEN(N564)),'1'!$A$1:$B$16,2,TRUE),N564,\" 81..40+\",VLOOKUP(16-(LEN(O564)),'1'!$A$1:$B$16,2,TRUE),O564,\" 82..40+\",VLOOKUP(16-(LEN(O564)),'1'!$A$1:$B$16,2,TRUE),P564,\" 71....+0000000000000000 \"))","v":""},null,""]
[null,{"$f":"IF(I565=\"\",\"\",ROWS($A$3:A565))","v":""},"","","","","","","","",{"$f":"IFERROR(SMALL($B$3:$B$2002,ROWS($A$3:A565)),\"\")","v":""},"","",null,"","","",{"$f":"IF(O565=\"\",\"\",CONCATENATE(\"*11....+\",VLOOKUP(16-(LEN(N565)),'1'!$A$1:$B$16,2,TRUE),N565,\" 81..40+\",VLOOKUP(16-(LEN(O565)),'1'!$A$1:$B$16,2,TRUE),O565,\" 82..40+\",VLOOKUP(16-(LEN(O565)),'1'!$A$1:$B$16,2,TRUE),P565,\" 71....+0000000000000000 \"))","v":""},null,""]
[null,{"$f":"IF(I566=\"\",\"\",ROWS($A$3:A566))","v":""},"","","","","","","","",{"$f":"IFERROR(SMALL($B$3:$B$2002,ROWS($A$3:A566)),\"\")","v":""},"","",null,"","","",{"$f":"IF(O566=\"\",\"\",CONCATENATE(\"*11....+\",VLOOKUP(16-(LEN(N566)),'1'!$A$1:$B$16,2,TRUE),N566,\" 81..40+\",VLOOKUP(16-(LEN(O566)),'1'!$A$1:$B$16,2,TRUE),O566,\" 82..40+\",VLOOKUP(16-(LEN(O566)),'1'!$A$1:$B$16,2,TRUE),P566,\" 71....+0000000000000000 \"))","v":""},null,""]
[null,{"$f":"IF(I567=\"\",\"\",ROWS($A$3:A567))","v":""},"","","","","","","","",{"$f":"IFERROR(SMALL($B$3:$B$2002,ROWS($A$3:A567)),\"\")","v":""},"","",null,"","","",{"$f":"IF(O567=\"\",\"\",CONCATENATE(\"*11....+\",VLOOKUP(16-(LEN(N567)),'1'!$A$1:$B$16,2,TRUE),N567,\" 81..40+\",VLOOKUP(16-(LEN(O567)),'1'!$A$1:$B$16,2,TRUE),O567,\" 82..40+\",VLOOKUP(16-(LEN(O567)),'1'!$A$1:$B$16,2,TRUE),P567,\" 71....+0000000000000000 \"))","v":""},null,""]
[null,{"$f":"IF(I568=\"\",\"\",ROWS($A$3:A568))","v":""},"","","","","","","","",{"$f":"IFERROR(SMALL($B$3:$B$2002,ROWS($A$3:A568)),\"\")","v":""},"","",null,"","","",{"$f":"IF(O568=\"\",\"\",CONCATENATE(\"*11....+\",VLOOKUP(16-(LEN(N568)),'1'!$A$1:$B$16,2,TRUE),N568,\" 81..40+\",VLOOKUP(16-(LEN(O568)),'1'!$A$1:$B$16,2,TRUE),O568,\" 82..40+\",VLOOKUP(16-(LEN(O568)),'1'!$A$1:$B$16,2,TRUE),P568,\" 71....+0000000000000000 \"))","v":""},null,""]
[null,{"$f":"IF(I569=\"\",\"\",ROWS($A$3:A569))","v":""},"","","","","","","","",{"$f":"IFERROR(SMALL($B$3:$B$2002,ROWS($A$3:A569)),\"\")","v":""},"","",null,"","","",{"$f":"IF(O569=\"\",\"\",CONCATENATE(\"*11....+\",VLOOKUP(16-(LEN(N569)),'1'!$A$1:$B$16,2,TRUE),N569,\" 81..40+\",VLOOKUP(16-(LEN(O569)),'1'!$A$1:$B$16,2,TRUE),O569,\" 82..40+\",VLOOKUP(16-(LEN(O569)),'1'!$A$1:$B$16,2,TRUE),P569,\" 71....+0000000000000000 \"))","v":""},null,""]
[null,{"$f":"IF(I570=\"\",\"\",ROWS($A$3:A570))","v":""},"","","","","","","","",{"$f":"IFERROR(SMALL($B$3:$B$2002,ROWS($A$3:A570)),\"\")","v":""},"","",null,"","","",{"$f":"IF(O570=\"\",\"\",CONCATENATE(\"*11....+\",VLOOKUP(16-(LEN(N570)),'1'!$A$1:$B$16,2,TRUE),N570,\" 81..40+\",VLOOKUP(16-(LEN(O570)),'1'!$A$1:$B$16,2,TRUE),O570,\" 82..40+\",VLOOKUP(16-(LEN(O570)),'1'!$A$1:$B$16,2,TRUE),P570,\" 71....+0000000000000000 \"))","v":""},null,""]
[null,{"$f":"IF(I571=\"\",\"\",ROWS($A$3:A571))","v":""},"","","","","","","","",{"$f":"IFERROR(SMALL($B$3:$B$2002,ROWS($A$3:A571)),\"\")","v":""},"","",null,"","","",{"$f":"IF(O571=\"\",\"\",CONCATENATE(\"*11....+\",VLOOKUP(16-(LEN(N571)),'1'!$A$1:$B$16,2,TRUE),N571,\" 81..40+\",VLOOKUP(16-(LEN(O571)),'1'!$A$1:$B$16,2,TRUE),O571,\" 82..40+\",VLOOKUP(16-(LEN(O571)),'1'!$A$1:$B$16,2,TRUE),P571,\" 71....+0000000000000000 \"))","v":""},null,""]
[null,{"$f":"IF(I572=\"\",\"\",ROWS($A$3:A572))","v":""},"","","","","","","","",{"$f":"IFERROR(SMALL($B$3:$B$2002,ROWS($A$3:A572)),\"\")","v":""},"","",null,"","","",{"$f":"IF(O572=\"\",\"\",CONCATENATE(\"*11....+\",VLOOKUP(16-(LEN(N572)),'1'!$A$1:$B$16,2,TRUE),N572,\" 81..40+\",VLOOKUP(16-(LEN(O572)),'1'!$A$1:$B$16,2,TRUE),O572,\" 82..40+\",VLOOKUP(16-(LEN(O572)),'1'!$A$1:$B$16,2,TRUE),P572,\" 71....+0000000000000000 \"))","v":""},null,""]
[null,{"$f":"IF(I573=\"\",\"\",ROWS($A$3:A573))","v":""},"","","","","","","","",{"$f":"IFERROR(SMALL($B$3:$B$2002,ROWS($A$3:A573)),\"\")","v":""},"","",null,"","","",{"$f":"IF(O573=\"\",\"\",CONCATENATE(\"*11....+\",VLOOKUP(16-(LEN(N573)),'1'!$A$1:$B$16,2,TRUE),N573,\" 81..40+\",VLOOKUP(16-(LEN(O573)),'1'!$A$1:$B$16,2,TRUE),O573,\" 82..40+\",VLOOKUP(16-(LEN(O573)),'1'!$A$1:$B$16,2,TRUE),P573,\" 71....+0000000000000000 \"))","v":""},null,""]
[null,{"$f":"IF(I574=\"\",\"\",ROWS($A$3:A574))","v":""},"","","","","","","","",{"$f":"IFERROR(SMALL($B$3:$B$2002,ROWS($A$3:A574)),\"\")","v":""},"","",null,"","","",{"$f":"IF(O574=\"\",\"\",CONCATENATE(\"*11....+\",VLOOKUP(16-(LEN(N574)),'1'!$A$1:$B$16,2,TRUE),N574,\" 81..40+\",VLOOKUP(16-(LEN(O574)),'1'!$A$1:$B$16,2,TRUE),O574,\" 82..40+\",VLOOKUP(16-(LEN(O574)),'1'!$A$1:$B$16,2,TRUE),P574,\" 71....+0000000000000000 \"))","v":""},null,""]
[null,{"$f":"IF(I575=\"\",\"\",ROWS($A$3:A575))","v":""},"","","","","","","","",{"$f":"IFERROR(SMALL($B$3:$B$2002,ROWS($A$3:A575)),\"\")","v":""},"","",null,"","","",{"$f":"IF(O575=\"\",\"\",CONCATENATE(\"*11....+\",VLOOKUP(16-(LEN(N575)),'1'!$A$1:$B$16,2,TRUE),N575,\" 81..40+\",VLOOKUP(16-(LEN(O575)),'1'!$A$1:$B$16,2,TRUE),O575,\" 82..40+\",VLOOKUP(16-(LEN(O575)),'1'!$A$1:$B$16,2,TRUE),P575,\" 71....+0000000000000000 \"))","v":""},null,""]
[null,{"$f":"IF(I576=\"\",\"\",ROWS($A$3:A576))","v":""},"","","","","","","","",{"$f":"IFERROR(SMALL($B$3:$B$2002,ROWS($A$3:A576)),\"\")","v":""},"","",null,"","","",{"$f":"IF(O576=\"\",\"\",CONCATENATE(\"*11....+\",VLOOKUP(16-(LEN(N576)),'1'!$A$1:$B$16,2,TRUE),N576,\" 81..40+\",VLOOKUP(16-(LEN(O576)),'1'!$A$1:$B$16,2,TRUE),O576,\" 82..40+\",VLOOKUP(16-(LEN(O576)),'1'!$A$1:$B$16,2,TRUE),P576,\" 71....+0000000000000000 \"))","v":""},null,""]
[null,{"$f":"IF(I577=\"\",\"\",ROWS($A$3:A577))","v":""},"","","","","","","","",{"$f":"IFERROR(SMALL($B$3:$B$2002,ROWS($A$3:A577)),\"\")","v":""},"","",null,"","","",{"$f":"IF(O577=\"\",\"\",CONCATENATE(\"*11....+\",VLOOKUP(16-(LEN(N577)),'1'!$A$1:$B$16,2,TRUE),N577,\" 81..40+\",VLOOKUP(16-(LEN(O577)),'1'!$A$1:$B$16,2,TRUE),O577,\" 82..40+\",VLOOKUP(16-(LEN(O577)),'1'!$A$1:$B$16,2,TRUE),P577,\" 71....+0000000000000000 \"))","v":""},null,""]
[null,{"$f":"IF(I578=\"\",\"\",ROWS($A$3:A578))","v":""},"","","","","","","","",{"$f":"IFERROR(SMALL($B$3:$B$2002,ROWS($A$3:A578)),\"\")","v":""},"","",null,"","","",{"$f":"IF(O578=\"\",\"\",CONCATENATE(\"*11....+\",VLOOKUP(16-(LEN(N578)),'1'!$A$1:$B$16,2,TRUE),N578,\" 81..40+\",VLOOKUP(16-(LEN(O578)),'1'!$A$1:$B$16,2,TRUE),O578,\" 82..40+\",VLOOKUP(16-(LEN(O578)),'1'!$A$1:$B$16,2,TRUE),P578,\" 71....+0000000000000000 \"))","v":""},null,""]
[null,{"$f":"IF(I579=\"\",\"\",ROWS($A$3:A579))","v":""},"","","","","","","","",{"$f":"IFERROR(SMALL($B$3:$B$2002,ROWS($A$3:A579)),\"\")","v":""},"","",null,"","","",{"$f":"IF(O579=\"\",\"\",CONCATENATE(\"*11....+\",VLOOKUP(16-(LEN(N579)),'1'!$A$1:$B$16,2,TRUE),N579,\" 81..40+\",VLOOKUP(16-(LEN(O579)),'1'!$A$1:$B$16,2,TRUE),O579,\" 82..40+\",VLOOKUP(16-(LEN(O579)),'1'!$A$1:$B$16,2,TRUE),P579,\" 71....+0000000000000000 \"))","v":""},null,""]
[null,{"$f":"IF(I580=\"\",\"\",ROWS($A$3:A580))","v":""},{"$f":"IF(LEN(A580)=59,ROUND(VALUE(MID(A580,23,9)),3),\"\")","v":""},{"$f":"IF(LEN(A580)=24,\"\",\"\")","v":""},{"$f":"IF(LEN(A580)=63,ROUND(VALUE(MID(A580,23,12)),3),\"\")","v":""},{"$f":"IF(LEN(A580)=59,ROUND(VALUE(MID(A580,37,9)),3),\"\")","v":""},{"$f":"IF(LEN(A580)=24,\"\",\"\")","v":""},{"$f":"IF(LEN(A580)=63,ROUND(VALUE(MID(A580,39,12)),3),\"\")","v":""},{"$f":"IF(AND(C580=\"\",D580=\"\",E580=\"\"),\"\",ROUND(CONCATENATE(C580,D580,E580),3))","v":""},{"$f":"IF(AND(C580=\"\",D580=\"\",E580=\"\"),\"\",ROUND(CONCATENATE(F580,G580,H580),3))","v":""},{"$f":"IFERROR(SMALL($B$3:$B$2002,ROWS($A$3:A580)),\"\")","v":""},{"$f":"IF(K580=\"\",\"\",ROUND(VALUE(VLOOKUP(K580,$B$3:$J$2002,8,TRUE)),3))","v":""},{"$f":"IF(K580=\"\",\"\",ROUND(VALUE(VLOOKUP(K580,$B$3:$J$2002,9,TRUE)),3))","v":""},null,{"$f":"IF(L580=\"\",\"\",L580/0.001)","v":""},"",{"$f":"IF(O580=\"\",\"\",16-LEN(N580))","v":""},{"$f":"IF(O580=\"\",\"\",CONCATENATE(\"*11....+\",VLOOKUP(16-(LEN(N580)),'1'!$A$1:$B$16,2,TRUE),N580,\" 81..40+\",VLOOKUP(16-(LEN(O580)),'1'!$A$1:$B$16,2,TRUE),O580,\" 82..40+\",VLOOKUP(16-(LEN(O580)),'1'!$A$1:$B$16,2,TRUE),P580,\" 71....+0000000000000000 \"))","v":""},null,{"$f":"IF(O580=\"\",\"\",CONCATENATE(N580,\",\",L580,\",\",M580))","v":""}]
[null,{"$f":"IF(I581=\"\",\"\",ROWS($A$3:A581))","v":""},"","","","","","","","",{"$f":"IFERROR(SMALL($B$3:$B$2002,ROWS($A$3:A581)),\"\")","v":""},"","",null,"","","",{"$f":"IF(O581=\"\",\"\",CONCATENATE(\"*11....+\",VLOOKUP(16-(LEN(N581)),'1'!$A$1:$B$16,2,TRUE),N581,\" 81..40+\",VLOOKUP(16-(LEN(O581)),'1'!$A$1:$B$16,2,TRUE),O581,\" 82..40+\",VLOOKUP(16-(LEN(O581)),'1'!$A$1:$B$16,2,TRUE),P581,\" 71....+0000000000000000 \"))","v":""},null,""]
[null,{"$f":"IF(I582=\"\",\"\",ROWS($A$3:A582))","v":""},"","","","","","","","",{"$f":"IFERROR(SMALL($B$3:$B$2002,ROWS($A$3:A582)),\"\")","v":""},"","",null,"","","",{"$f":"IF(O582=\"\",\"\",CONCATENATE(\"*11....+\",VLOOKUP(16-(LEN(N582)),'1'!$A$1:$B$16,2,TRUE),N582,\" 81..40+\",VLOOKUP(16-(LEN(O582)),'1'!$A$1:$B$16,2,TRUE),O582,\" 82..40+\",VLOOKUP(16-(LEN(O582)),'1'!$A$1:$B$16,2,TRUE),P582,\" 71....+0000000000000000 \"))","v":""},null,""]
[null,{"$f":"IF(I583=\"\",\"\",ROWS($A$3:A583))","v":""},"","","","","","","","",{"$f":"IFERROR(SMALL($B$3:$B$2002,ROWS($A$3:A583)),\"\")","v":""},"","",null,"","","",{"$f":"IF(O583=\"\",\"\",CONCATENATE(\"*11....+\",VLOOKUP(16-(LEN(N583)),'1'!$A$1:$B$16,2,TRUE),N583,\" 81..40+\",VLOOKUP(16-(LEN(O583)),'1'!$A$1:$B$16,2,TRUE),O583,\" 82..40+\",VLOOKUP(16-(LEN(O583)),'1'!$A$1:$B$16,2,TRUE),P583,\" 71....+0000000000000000 \"))","v":""},null,""]
[null,{"$f":"IF(I584=\"\",\"\",ROWS($A$3:A584))","v":""},"","","","","","","","",{"$f":"IFERROR(SMALL($B$3:$B$2002,ROWS($A$3:A584)),\"\")","v":""},"","",null,"","","",{"$f":"IF(O584=\"\",\"\",CONCATENATE(\"*11....+\",VLOOKUP(16-(LEN(N584)),'1'!$A$1:$B$16,2,TRUE),N584,\" 81..40+\",VLOOKUP(16-(LEN(O584)),'1'!$A$1:$B$16,2,TRUE),O584,\" 82..40+\",VLOOKUP(16-(LEN(O584)),'1'!$A$1:$B$16,2,TRUE),P584,\" 71....+0000000000000000 \"))","v":""},null,""]
[null,{"$f":"IF(I585=\"\",\"\",ROWS($A$3:A585))","v":""},"","","","","","","","",{"$f":"IFERROR(SMALL($B$3:$B$2002,ROWS($A$3:A585)),\"\")","v":""},"","",null,"","","",{"$f":"IF(O585=\"\",\"\",CONCATENATE(\"*11....+\",VLOOKUP(16-(LEN(N585)),'1'!$A$1:$B$16,2,TRUE),N585,\" 81..40+\",VLOOKUP(16-(LEN(O585)),'1'!$A$1:$B$16,2,TRUE),O585,\" 82..40+\",VLOOKUP(16-(LEN(O585)),'1'!$A$1:$B$16,2,TRUE),P585,\" 71....+0000000000000000 \"))","v":""},null,""]
[null,{"$f":"IF(I586=\"\",\"\",ROWS($A$3:A586))","v":""},"","","","","","","","",{"$f":"IFERROR(SMALL($B$3:$B$2002,ROWS($A$3:A586)),\"\")","v":""},"","",null,"","","",{"$f":"IF(O586=\"\",\"\",CONCATENATE(\"*11....+\",VLOOKUP(16-(LEN(N586)),'1'!$A$1:$B$16,2,TRUE),N586,\" 81..40+\",VLOOKUP(16-(LEN(O586)),'1'!$A$1:$B$16,2,TRUE),O586,\" 82..40+\",VLOOKUP(16-(LEN(O586)),'1'!$A$1:$B$16,2,TRUE),P586,\" 71....+0000000000000000 \"))","v":""},null,""]
[null,{"$f":"IF(I587=\"\",\"\",ROWS($A$3:A587))","v":""},"","","","","","","","",{"$f":"IFERROR(SMALL($B$3:$B$2002,ROWS($A$3:A587)),\"\")","v":""},"","",null,"","","",{"$f":"IF(O587=\"\",\"\",CONCATENATE(\"*11....+\",VLOOKUP(16-(LEN(N587)),'1'!$A$1:$B$16,2,TRUE),N587,\" 81..40+\",VLOOKUP(16-(LEN(O587)),'1'!$A$1:$B$16,2,TRUE),O587,\" 82..40+\",VLOOKUP(16-(LEN(O587)),'1'!$A$1:$B$16,2,TRUE),P587,\" 71....+0000000000000000 \"))","v":""},null,""]
[null,{"$f":"IF(I588=\"\",\"\",ROWS($A$3:A588))","v":""},"","","","","","","","",{"$f":"IFERROR(SMALL($B$3:$B$2002,ROWS($A$3:A588)),\"\")","v":""},"","",null,"","","",{"$f":"IF(O588=\"\",\"\",CONCATENATE(\"*11....+\",VLOOKUP(16-(LEN(N588)),'1'!$A$1:$B$16,2,TRUE),N588,\" 81..40+\",VLOOKUP(16-(LEN(O588)),'1'!$A$1:$B$16,2,TRUE),O588,\" 82..40+\",VLOOKUP(16-(LEN(O588)),'1'!$A$1:$B$16,2,TRUE),P588,\" 71....+0000000000000000 \"))","v":""},null,""]
[null,{"$f":"IF(I589=\"\",\"\",ROWS($A$3:A589))","v":""},"","","","","","","","",{"$f":"IFERROR(SMALL($B$3:$B$2002,ROWS($A$3:A589)),\"\")","v":""},"","",null,"","","",{"$f":"IF(O589=\"\",\"\",CONCATENATE(\"*11....+\",VLOOKUP(16-(LEN(N589)),'1'!$A$1:$B$16,2,TRUE),N589,\" 81..40+\",VLOOKUP(16-(LEN(O589)),'1'!$A$1:$B$16,2,TRUE),O589,\" 82..40+\",VLOOKUP(16-(LEN(O589)),'1'!$A$1:$B$16,2,TRUE),P589,\" 71....+0000000000000000 \"))","v":""},null,""]
[null,{"$f":"IF(I590=\"\",\"\",ROWS($A$3:A590))","v":""},"","","","","","","","",{"$f":"IFERROR(SMALL($B$3:$B$2002,ROWS($A$3:A590)),\"\")","v":""},"","",null,"","","",{"$f":"IF(O590=\"\",\"\",CONCATENATE(\"*11....+\",VLOOKUP(16-(LEN(N590)),'1'!$A$1:$B$16,2,TRUE),N590,\" 81..40+\",VLOOKUP(16-(LEN(O590)),'1'!$A$1:$B$16,2,TRUE),O590,\" 82..40+\",VLOOKUP(16-(LEN(O590)),'1'!$A$1:$B$16,2,TRUE),P590,\" 71....+0000000000000000 \"))","v":""},null,""]
[null,{"$f":"IF(I591=\"\",\"\",ROWS($A$3:A591))","v":""},"","","","","","","","",{"$f":"IFERROR(SMALL($B$3:$B$2002,ROWS($A$3:A591)),\"\")","v":""},"","",null,"","","",{"$f":"IF(O591=\"\",\"\",CONCATENATE(\"*11....+\",VLOOKUP(16-(LEN(N591)),'1'!$A$1:$B$16,2,TRUE),N591,\" 81..40+\",VLOOKUP(16-(LEN(O591)),'1'!$A$1:$B$16,2,TRUE),O591,\" 82..40+\",VLOOKUP(16-(LEN(O591)),'1'!$A$1:$B$16,2,TRUE),P591,\" 71....+0000000000000000 \"))","v":""},null,""]
[null,{"$f":"IF(I592=\"\",\"\",ROWS($A$3:A592))","v":""},"","","","","","","","",{"$f":"IFERROR(SMALL($B$3:$B$2002,ROWS($A$3:A592)),\"\")","v":""},"","",null,"","","",{"$f":"IF(O592=\"\",\"\",CONCATENATE(\"*11....+\",VLOOKUP(16-(LEN(N592)),'1'!$A$1:$B$16,2,TRUE),N592,\" 81..40+\",VLOOKUP(16-(LEN(O592)),'1'!$A$1:$B$16,2,TRUE),O592,\" 82..40+\",VLOOKUP(16-(LEN(O592)),'1'!$A$1:$B$16,2,TRUE),P592,\" 71....+0000000000000000 \"))","v":""},null,""]
[null,{"$f":"IF(I593=\"\",\"\",ROWS($A$3:A593))","v":""},"","","","","","","","",{"$f":"IFERROR(SMALL($B$3:$B$2002,ROWS($A$3:A593)),\"\")","v":""},"","",null,"","","",{"$f":"IF(O593=\"\",\"\",CONCATENATE(\"*11....+\",VLOOKUP(16-(LEN(N593)),'1'!$A$1:$B$16,2,TRUE),N593,\" 81..40+\",VLOOKUP(16-(LEN(O593)),'1'!$A$1:$B$16,2,TRUE),O593,\" 82..40+\",VLOOKUP(16-(LEN(O593)),'1'!$A$1:$B$16,2,TRUE),P593,\" 71....+0000000000000000 \"))","v":""},null,""]
[null,{"$f":"IF(I594=\"\",\"\",ROWS($A$3:A594))","v":""},"","","","","","","","",{"$f":"IFERROR(SMALL($B$3:$B$2002,ROWS($A$3:A594)),\"\")","v":""},"","",null,"","","",{"$f":"IF(O594=\"\",\"\",CONCATENATE(\"*11....+\",VLOOKUP(16-(LEN(N594)),'1'!$A$1:$B$16,2,TRUE),N594,\" 81..40+\",VLOOKUP(16-(LEN(O594)),'1'!$A$1:$B$16,2,TRUE),O594,\" 82..40+\",VLOOKUP(16-(LEN(O594)),'1'!$A$1:$B$16,2,TRUE),P594,\" 71....+0000000000000000 \"))","v":""},null,""]
[null,{"$f":"IF(I595=\"\",\"\",ROWS($A$3:A595))","v":""},"","","","","","","","",{"$f":"IFERROR(SMALL($B$3:$B$2002,ROWS($A$3:A595)),\"\")","v":""},"","",null,"","","",{"$f":"IF(O595=\"\",\"\",CONCATENATE(\"*11....+\",VLOOKUP(16-(LEN(N595)),'1'!$A$1:$B$16,2,TRUE),N595,\" 81..40+\",VLOOKUP(16-(LEN(O595)),'1'!$A$1:$B$16,2,TRUE),O595,\" 82..40+\",VLOOKUP(16-(LEN(O595)),'1'!$A$1:$B$16,2,TRUE),P595,\" 71....+0000000000000000 \"))","v":""},null,""]
[null,{"$f":"IF(I596=\"\",\"\",ROWS($A$3:A596))","v":""},"","","","","","","","",{"$f":"IFERROR(SMALL($B$3:$B$2002,ROWS($A$3:A596)),\"\")","v":""},"","",null,"","","",{"$f":"IF(O596=\"\",\"\",CONCATENATE(\"*11....+\",VLOOKUP(16-(LEN(N596)),'1'!$A$1:$B$16,2,TRUE),N596,\" 81..40+\",VLOOKUP(16-(LEN(O596)),'1'!$A$1:$B$16,2,TRUE),O596,\" 82..40+\",VLOOKUP(16-(LEN(O596)),'1'!$A$1:$B$16,2,TRUE),P596,\" 71....+0000000000000000 \"))","v":""},null,""]
[null,{"$f":"IF(I597=\"\",\"\",ROWS($A$3:A597))","v":""},"","","","","","","","",{"$f":"IFERROR(SMALL($B$3:$B$2002,ROWS($A$3:A597)),\"\")","v":""},"","",null,"","","",{"$f":"IF(O597=\"\",\"\",CONCATENATE(\"*11....+\",VLOOKUP(16-(LEN(N597)),'1'!$A$1:$B$16,2,TRUE),N597,\" 81..40+\",VLOOKUP(16-(LEN(O597)),'1'!$A$1:$B$16,2,TRUE),O597,\" 82..40+\",VLOOKUP(16-(LEN(O597)),'1'!$A$1:$B$16,2,TRUE),P597,\" 71....+0000000000000000 \"))","v":""},null,""]
[null,{"$f":"IF(I598=\"\",\"\",ROWS($A$3:A598))","v":""},"","","","","","","","",{"$f":"IFERROR(SMALL($B$3:$B$2002,ROWS($A$3:A598)),\"\")","v":""},"","",null,"","","",{"$f":"IF(O598=\"\",\"\",CONCATENATE(\"*11....+\",VLOOKUP(16-(LEN(N598)),'1'!$A$1:$B$16,2,TRUE),N598,\" 81..40+\",VLOOKUP(16-(LEN(O598)),'1'!$A$1:$B$16,2,TRUE),O598,\" 82..40+\",VLOOKUP(16-(LEN(O598)),'1'!$A$1:$B$16,2,TRUE),P598,\" 71....+0000000000000000 \"))","v":""},null,""]
[null,{"$f":"IF(I599=\"\",\"\",ROWS($A$3:A599))","v":""},"","","","","","","","",{"$f":"IFERROR(SMALL($B$3:$B$2002,ROWS($A$3:A599)),\"\")","v":""},"","",null,"","","",{"$f":"IF(O599=\"\",\"\",CONCATENATE(\"*11....+\",VLOOKUP(16-(LEN(N599)),'1'!$A$1:$B$16,2,TRUE),N599,\" 81..40+\",VLOOKUP(16-(LEN(O599)),'1'!$A$1:$B$16,2,TRUE),O599,\" 82..40+\",VLOOKUP(16-(LEN(O599)),'1'!$A$1:$B$16,2,TRUE),P599,\" 71....+0000000000000000 \"))","v":""},null,""]
[null,{"$f":"IF(I600=\"\",\"\",ROWS($A$3:A600))","v":""},"","","","","","","","",{"$f":"IFERROR(SMALL($B$3:$B$2002,ROWS($A$3:A600)),\"\")","v":""},"","",null,"","","",{"$f":"IF(O600=\"\",\"\",CONCATENATE(\"*11....+\",VLOOKUP(16-(LEN(N600)),'1'!$A$1:$B$16,2,TRUE),N600,\" 81..40+\",VLOOKUP(16-(LEN(O600)),'1'!$A$1:$B$16,2,TRUE),O600,\" 82..40+\",VLOOKUP(16-(LEN(O600)),'1'!$A$1:$B$16,2,TRUE),P600,\" 71....+0000000000000000 \"))","v":""},null,""]
[null,{"$f":"IF(I601=\"\",\"\",ROWS($A$3:A601))","v":""},"","","","","","","","",{"$f":"IFERROR(SMALL($B$3:$B$2002,ROWS($A$3:A601)),\"\")","v":""},"","",null,"","","",{"$f":"IF(O601=\"\",\"\",CONCATENATE(\"*11....+\",VLOOKUP(16-(LEN(N601)),'1'!$A$1:$B$16,2,TRUE),N601,\" 81..40+\",VLOOKUP(16-(LEN(O601)),'1'!$A$1:$B$16,2,TRUE),O601,\" 82..40+\",VLOOKUP(16-(LEN(O601)),'1'!$A$1:$B$16,2,TRUE),P601,\" 71....+0000000000000000 \"))","v":""},null,""]
[null,{"$f":"IF(I602=\"\",\"\",ROWS($A$3:A602))","v":""},"","","","","","","","",{"$f":"IFERROR(SMALL($B$3:$B$2002,ROWS($A$3:A602)),\"\")","v":""},"","",null,"","","",{"$f":"IF(O602=\"\",\"\",CONCATENATE(\"*11....+\",VLOOKUP(16-(LEN(N602)),'1'!$A$1:$B$16,2,TRUE),N602,\" 81..40+\",VLOOKUP(16-(LEN(O602)),'1'!$A$1:$B$16,2,TRUE),O602,\" 82..40+\",VLOOKUP(16-(LEN(O602)),'1'!$A$1:$B$16,2,TRUE),P602,\" 71....+0000000000000000 \"))","v":""},null,""]
[null,{"$f":"IF(I603=\"\",\"\",ROWS($A$3:A603))","v":""},"","","","","","","","",{"$f":"IFERROR(SMALL($B$3:$B$2002,ROWS($A$3:A603)),\"\")","v":""},"","",null,"","","",{"$f":"IF(O603=\"\",\"\",CONCATENATE(\"*11....+\",VLOOKUP(16-(LEN(N603)),'1'!$A$1:$B$16,2,TRUE),N603,\" 81..40+\",VLOOKUP(16-(LEN(O603)),'1'!$A$1:$B$16,2,TRUE),O603,\" 82..40+\",VLOOKUP(16-(LEN(O603)),'1'!$A$1:$B$16,2,TRUE),P603,\" 71....+0000000000000000 \"))","v":""},null,""]
[null,{"$f":"IF(I604=\"\",\"\",ROWS($A$3:A604))","v":""},"","","","","","","","",{"$f":"IFERROR(SMALL($B$3:$B$2002,ROWS($A$3:A604)),\"\")","v":""},"","",null,"","","",{"$f":"IF(O604=\"\",\"\",CONCATENATE(\"*11....+\",VLOOKUP(16-(LEN(N604)),'1'!$A$1:$B$16,2,TRUE),N604,\" 81..40+\",VLOOKUP(16-(LEN(O604)),'1'!$A$1:$B$16,2,TRUE),O604,\" 82..40+\",VLOOKUP(16-(LEN(O604)),'1'!$A$1:$B$16,2,TRUE),P604,\" 71....+0000000000000000 \"))","v":""},null,""]
[null,{"$f":"IF(I605=\"\",\"\",ROWS($A$3:A605))","v":""},"","","","","","","","",{"$f":"IFERROR(SMALL($B$3:$B$2002,ROWS($A$3:A605)),\"\")","v":""},"","",null,"","","",{"$f":"IF(O605=\"\",\"\",CONCATENATE(\"*11....+\",VLOOKUP(16-(LEN(N605)),'1'!$A$1:$B$16,2,TRUE),N605,\" 81..40+\",VLOOKUP(16-(LEN(O605)),'1'!$A$1:$B$16,2,TRUE),O605,\" 82..40+\",VLOOKUP(16-(LEN(O605)),'1'!$A$1:$B$16,2,TRUE),P605,\" 71....+0000000000000000 \"))","v":""},null,""]
[null,{"$f":"IF(I606=\"\",\"\",ROWS($A$3:A606))","v":""},"","","","","","","","",{"$f":"IFERROR(SMALL($B$3:$B$2002,ROWS($A$3:A606)),\"\")","v":""},"","",null,"","","",{"$f":"IF(O606=\"\",\"\",CONCATENATE(\"*11....+\",VLOOKUP(16-(LEN(N606)),'1'!$A$1:$B$16,2,TRUE),N606,\" 81..40+\",VLOOKUP(16-(LEN(O606)),'1'!$A$1:$B$16,2,TRUE),O606,\" 82..40+\",VLOOKUP(16-(LEN(O606)),'1'!$A$1:$B$16,2,TRUE),P606,\" 71....+0000000000000000 \"))","v":""},null,""]
[null,{"$f":"IF(I607=\"\",\"\",ROWS($A$3:A607))","v":""},"","","","","","","","",{"$f":"IFERROR(SMALL($B$3:$B$2002,ROWS($A$3:A607)),\"\")","v":""},"","",null,"","","",{"$f":"IF(O607=\"\",\"\",CONCATENATE(\"*11....+\",VLOOKUP(16-(LEN(N607)),'1'!$A$1:$B$16,2,TRUE),N607,\" 81..40+\",VLOOKUP(16-(LEN(O607)),'1'!$A$1:$B$16,2,TRUE),O607,\" 82..40+\",VLOOKUP(16-(LEN(O607)),'1'!$A$1:$B$16,2,TRUE),P607,\" 71....+0000000000000000 \"))","v":""},null,""]
[null,{"$f":"IF(I608=\"\",\"\",ROWS($A$3:A608))","v":""},"","","","","","","","",{"$f":"IFERROR(SMALL($B$3:$B$2002,ROWS($A$3:A608)),\"\")","v":""},"","",null,"","","",{"$f":"IF(O608=\"\",\"\",CONCATENATE(\"*11....+\",VLOOKUP(16-(LEN(N608)),'1'!$A$1:$B$16,2,TRUE),N608,\" 81..40+\",VLOOKUP(16-(LEN(O608)),'1'!$A$1:$B$16,2,TRUE),O608,\" 82..40+\",VLOOKUP(16-(LEN(O608)),'1'!$A$1:$B$16,2,TRUE),P608,\" 71....+0000000000000000 \"))","v":""},null,""]
[null,{"$f":"IF(I609=\"\",\"\",ROWS($A$3:A609))","v":""},"","","","","","","","",{"$f":"IFERROR(SMALL($B$3:$B$2002,ROWS($A$3:A609)),\"\")","v":""},"","",null,"","","",{"$f":"IF(O609=\"\",\"\",CONCATENATE(\"*11....+\",VLOOKUP(16-(LEN(N609)),'1'!$A$1:$B$16,2,TRUE),N609,\" 81..40+\",VLOOKUP(16-(LEN(O609)),'1'!$A$1:$B$16,2,TRUE),O609,\" 82..40+\",VLOOKUP(16-(LEN(O609)),'1'!$A$1:$B$16,2,TRUE),P609,\" 71....+0000000000000000 \"))","v":""},null,""]
[null,{"$f":"IF(I610=\"\",\"\",ROWS($A$3:A610))","v":""},"","","","","","","","",{"$f":"IFERROR(SMALL($B$3:$B$2002,ROWS($A$3:A610)),\"\")","v":""},"","",null,"","","",{"$f":"IF(O610=\"\",\"\",CONCATENATE(\"*11....+\",VLOOKUP(16-(LEN(N610)),'1'!$A$1:$B$16,2,TRUE),N610,\" 81..40+\",VLOOKUP(16-(LEN(O610)),'1'!$A$1:$B$16,2,TRUE),O610,\" 82..40+\",VLOOKUP(16-(LEN(O610)),'1'!$A$1:$B$16,2,TRUE),P610,\" 71....+0000000000000000 \"))","v":""},null,""]
[null,{"$f":"IF(I611=\"\",\"\",ROWS($A$3:A611))","v":""},"","","","","","","","",{"$f":"IFERROR(SMALL($B$3:$B$2002,ROWS($A$3:A611)),\"\")","v":""},"","",null,"","","",{"$f":"IF(O611=\"\",\"\",CONCATENATE(\"*11....+\",VLOOKUP(16-(LEN(N611)),'1'!$A$1:$B$16,2,TRUE),N611,\" 81..40+\",VLOOKUP(16-(LEN(O611)),'1'!$A$1:$B$16,2,TRUE),O611,\" 82..40+\",VLOOKUP(16-(LEN(O611)),'1'!$A$1:$B$16,2,TRUE),P611,\" 71....+0000000000000000 \"))","v":""},null,""]
[null,{"$f":"IF(I612=\"\",\"\",ROWS($A$3:A612))","v":""},"","","","","","","","",{"$f":"IFERROR(SMALL($B$3:$B$2002,ROWS($A$3:A612)),\"\")","v":""},"","",null,"","","",{"$f":"IF(O612=\"\",\"\",CONCATENATE(\"*11....+\",VLOOKUP(16-(LEN(N612)),'1'!$A$1:$B$16,2,TRUE),N612,\" 81..40+\",VLOOKUP(16-(LEN(O612)),'1'!$A$1:$B$16,2,TRUE),O612,\" 82..40+\",VLOOKUP(16-(LEN(O612)),'1'!$A$1:$B$16,2,TRUE),P612,\" 71....+0000000000000000 \"))","v":""},null,""]
[null,{"$f":"IF(I613=\"\",\"\",ROWS($A$3:A613))","v":""},"","","","","","","","",{"$f":"IFERROR(SMALL($B$3:$B$2002,ROWS($A$3:A613)),\"\")","v":""},"","",null,"","","",{"$f":"IF(O613=\"\",\"\",CONCATENATE(\"*11....+\",VLOOKUP(16-(LEN(N613)),'1'!$A$1:$B$16,2,TRUE),N613,\" 81..40+\",VLOOKUP(16-(LEN(O613)),'1'!$A$1:$B$16,2,TRUE),O613,\" 82..40+\",VLOOKUP(16-(LEN(O613)),'1'!$A$1:$B$16,2,TRUE),P613,\" 71....+0000000000000000 \"))","v":""},null,""]
[null,{"$f":"IF(I614=\"\",\"\",ROWS($A$3:A614))","v":""},"","","","","","","","",{"$f":"IFERROR(SMALL($B$3:$B$2002,ROWS($A$3:A614)),\"\")","v":""},"","",null,"","","",{"$f":"IF(O614=\"\",\"\",CONCATENATE(\"*11....+\",VLOOKUP(16-(LEN(N614)),'1'!$A$1:$B$16,2,TRUE),N614,\" 81..40+\",VLOOKUP(16-(LEN(O614)),'1'!$A$1:$B$16,2,TRUE),O614,\" 82..40+\",VLOOKUP(16-(LEN(O614)),'1'!$A$1:$B$16,2,TRUE),P614,\" 71....+0000000000000000 \"))","v":""},null,""]
[null,{"$f":"IF(I615=\"\",\"\",ROWS($A$3:A615))","v":""},"","","","","","","","",{"$f":"IFERROR(SMALL($B$3:$B$2002,ROWS($A$3:A615)),\"\")","v":""},"","",null,"","","",{"$f":"IF(O615=\"\",\"\",CONCATENATE(\"*11....+\",VLOOKUP(16-(LEN(N615)),'1'!$A$1:$B$16,2,TRUE),N615,\" 81..40+\",VLOOKUP(16-(LEN(O615)),'1'!$A$1:$B$16,2,TRUE),O615,\" 82..40+\",VLOOKUP(16-(LEN(O615)),'1'!$A$1:$B$16,2,TRUE),P615,\" 71....+0000000000000000 \"))","v":""},null,""]
[null,{"$f":"IF(I616=\"\",\"\",ROWS($A$3:A616))","v":""},"","","","","","","","",{"$f":"IFERROR(SMALL($B$3:$B$2002,ROWS($A$3:A616)),\"\")","v":""},"","",null,"","","",{"$f":"IF(O616=\"\",\"\",CONCATENATE(\"*11....+\",VLOOKUP(16-(LEN(N616)),'1'!$A$1:$B$16,2,TRUE),N616,\" 81..40+\",VLOOKUP(16-(LEN(O616)),'1'!$A$1:$B$16,2,TRUE),O616,\" 82..40+\",VLOOKUP(16-(LEN(O616)),'1'!$A$1:$B$16,2,TRUE),P616,\" 71....+0000000000000000 \"))","v":""},null,""]
[null,{"$f":"IF(I617=\"\",\"\",ROWS($A$3:A617))","v":""},"","","","","","","","",{"$f":"IFERROR(SMALL($B$3:$B$2002,ROWS($A$3:A617)),\"\")","v":""},"","",null,"","","",{"$f":"IF(O617=\"\",\"\",CONCATENATE(\"*11....+\",VLOOKUP(16-(LEN(N617)),'1'!$A$1:$B$16,2,TRUE),N617,\" 81..40+\",VLOOKUP(16-(LEN(O617)),'1'!$A$1:$B$16,2,TRUE),O617,\" 82..40+\",VLOOKUP(16-(LEN(O617)),'1'!$A$1:$B$16,2,TRUE),P617,\" 71....+0000000000000000 \"))","v":""},null,""]
[null,{"$f":"IF(I618=\"\",\"\",ROWS($A$3:A618))","v":""},"","","","","","","","",{"$f":"IFERROR(SMALL($B$3:$B$2002,ROWS($A$3:A618)),\"\")","v":""},"","",null,"","","",{"$f":"IF(O618=\"\",\"\",CONCATENATE(\"*11....+\",VLOOKUP(16-(LEN(N618)),'1'!$A$1:$B$16,2,TRUE),N618,\" 81..40+\",VLOOKUP(16-(LEN(O618)),'1'!$A$1:$B$16,2,TRUE),O618,\" 82..40+\",VLOOKUP(16-(LEN(O618)),'1'!$A$1:$B$16,2,TRUE),P618,\" 71....+0000000000000000 \"))","v":""},null,""]
[null,{"$f":"IF(I619=\"\",\"\",ROWS($A$3:A619))","v":""},"","","","","","","","",{"$f":"IFERROR(SMALL($B$3:$B$2002,ROWS($A$3:A619)),\"\")","v":""},"","",null,"","","",{"$f":"IF(O619=\"\",\"\",CONCATENATE(\"*11....+\",VLOOKUP(16-(LEN(N619)),'1'!$A$1:$B$16,2,TRUE),N619,\" 81..40+\",VLOOKUP(16-(LEN(O619)),'1'!$A$1:$B$16,2,TRUE),O619,\" 82..40+\",VLOOKUP(16-(LEN(O619)),'1'!$A$1:$B$16,2,TRUE),P619,\" 71....+0000000000000000 \"))","v":""},null,""]
[null,{"$f":"IF(I620=\"\",\"\",ROWS($A$3:A620))","v":""},"","","","","","","","",{"$f":"IFERROR(SMALL($B$3:$B$2002,ROWS($A$3:A620)),\"\")","v":""},"","",null,"","","",{"$f":"IF(O620=\"\",\"\",CONCATENATE(\"*11....+\",VLOOKUP(16-(LEN(N620)),'1'!$A$1:$B$16,2,TRUE),N620,\" 81..40+\",VLOOKUP(16-(LEN(O620)),'1'!$A$1:$B$16,2,TRUE),O620,\" 82..40+\",VLOOKUP(16-(LEN(O620)),'1'!$A$1:$B$16,2,TRUE),P620,\" 71....+0000000000000000 \"))","v":""},null,""]
[null,{"$f":"IF(I621=\"\",\"\",ROWS($A$3:A621))","v":""},"","","","","","","","",{"$f":"IFERROR(SMALL($B$3:$B$2002,ROWS($A$3:A621)),\"\")","v":""},"","",null,"","","",{"$f":"IF(O621=\"\",\"\",CONCATENATE(\"*11....+\",VLOOKUP(16-(LEN(N621)),'1'!$A$1:$B$16,2,TRUE),N621,\" 81..40+\",VLOOKUP(16-(LEN(O621)),'1'!$A$1:$B$16,2,TRUE),O621,\" 82..40+\",VLOOKUP(16-(LEN(O621)),'1'!$A$1:$B$16,2,TRUE),P621,\" 71....+0000000000000000 \"))","v":""},null,""]
[null,{"$f":"IF(I622=\"\",\"\",ROWS($A$3:A622))","v":""},"","","","","","","","",{"$f":"IFERROR(SMALL($B$3:$B$2002,ROWS($A$3:A622)),\"\")","v":""},"","",null,"","","",{"$f":"IF(O622=\"\",\"\",CONCATENATE(\"*11....+\",VLOOKUP(16-(LEN(N622)),'1'!$A$1:$B$16,2,TRUE),N622,\" 81..40+\",VLOOKUP(16-(LEN(O622)),'1'!$A$1:$B$16,2,TRUE),O622,\" 82..40+\",VLOOKUP(16-(LEN(O622)),'1'!$A$1:$B$16,2,TRUE),P622,\" 71....+0000000000000000 \"))","v":""},null,""]
[null,{"$f":"IF(I623=\"\",\"\",ROWS($A$3:A623))","v":""},"","","","","","","","",{"$f":"IFERROR(SMALL($B$3:$B$2002,ROWS($A$3:A623)),\"\")","v":""},"","",null,"","","",{"$f":"IF(O623=\"\",\"\",CONCATENATE(\"*11....+\",VLOOKUP(16-(LEN(N623)),'1'!$A$1:$B$16,2,TRUE),N623,\" 81..40+\",VLOOKUP(16-(LEN(O623)),'1'!$A$1:$B$16,2,TRUE),O623,\" 82..40+\",VLOOKUP(16-(LEN(O623)),'1'!$A$1:$B$16,2,TRUE),P623,\" 71....+0000000000000000 \"))","v":""},null,""]
[null,{"$f":"IF(I624=\"\",\"\",ROWS($A$3:A624))","v":""},"","","","","","","","",{"$f":"IFERROR(SMALL($B$3:$B$2002,ROWS($A$3:A624)),\"\")","v":""},"","",null,"","","",{"$f":"IF(O624=\"\",\"\",CONCATENATE(\"*11....+\",VLOOKUP(16-(LEN(N624)),'1'!$A$1:$B$16,2,TRUE),N624,\" 81..40+\",VLOOKUP(16-(LEN(O624)),'1'!$A$1:$B$16,2,TRUE),O624,\" 82..40+\",VLOOKUP(16-(LEN(O624)),'1'!$A$1:$B$16,2,TRUE),P624,\" 71....+0000000000000000 \"))","v":""},null,""]
[null,{"$f":"IF(I625=\"\",\"\",ROWS($A$3:A625))","v":""},"","","","","","","","",{"$f":"IFERROR(SMALL($B$3:$B$2002,ROWS($A$3:A625)),\"\")","v":""},"","",null,"","","",{"$f":"IF(O625=\"\",\"\",CONCATENATE(\"*11....+\",VLOOKUP(16-(LEN(N625)),'1'!$A$1:$B$16,2,TRUE),N625,\" 81..40+\",VLOOKUP(16-(LEN(O625)),'1'!$A$1:$B$16,2,TRUE),O625,\" 82..40+\",VLOOKUP(16-(LEN(O625)),'1'!$A$1:$B$16,2,TRUE),P625,\" 71....+0000000000000000 \"))","v":""},null,""]
[null,{"$f":"IF(I626=\"\",\"\",ROWS($A$3:A626))","v":""},"","","","","","","","",{"$f":"IFERROR(SMALL($B$3:$B$2002,ROWS($A$3:A626)),\"\")","v":""},"","",null,"","","",{"$f":"IF(O626=\"\",\"\",CONCATENATE(\"*11....+\",VLOOKUP(16-(LEN(N626)),'1'!$A$1:$B$16,2,TRUE),N626,\" 81..40+\",VLOOKUP(16-(LEN(O626)),'1'!$A$1:$B$16,2,TRUE),O626,\" 82..40+\",VLOOKUP(16-(LEN(O626)),'1'!$A$1:$B$16,2,TRUE),P626,\" 71....+0000000000000000 \"))","v":""},null,""]
[null,{"$f":"IF(I627=\"\",\"\",ROWS($A$3:A627))","v":""},"","","","","","","","",{"$f":"IFERROR(SMALL($B$3:$B$2002,ROWS($A$3:A627)),\"\")","v":""},"","",null,"","","",{"$f":"IF(O627=\"\",\"\",CONCATENATE(\"*11....+\",VLOOKUP(16-(LEN(N627)),'1'!$A$1:$B$16,2,TRUE),N627,\" 81..40+\",VLOOKUP(16-(LEN(O627)),'1'!$A$1:$B$16,2,TRUE),O627,\" 82..40+\",VLOOKUP(16-(LEN(O627)),'1'!$A$1:$B$16,2,TRUE),P627,\" 71....+0000000000000000 \"))","v":""},null,""]
[null,{"$f":"IF(I628=\"\",\"\",ROWS($A$3:A628))","v":""},"","","","","","","","",{"$f":"IFERROR(SMALL($B$3:$B$2002,ROWS($A$3:A628)),\"\")","v":""},"","",null,"","","",{"$f":"IF(O628=\"\",\"\",CONCATENATE(\"*11....+\",VLOOKUP(16-(LEN(N628)),'1'!$A$1:$B$16,2,TRUE),N628,\" 81..40+\",VLOOKUP(16-(LEN(O628)),'1'!$A$1:$B$16,2,TRUE),O628,\" 82..40+\",VLOOKUP(16-(LEN(O628)),'1'!$A$1:$B$16,2,TRUE),P628,\" 71....+0000000000000000 \"))","v":""},null,""]
[null,{"$f":"IF(I629=\"\",\"\",ROWS($A$3:A629))","v":""},"","","","","","","","",{"$f":"IFERROR(SMALL($B$3:$B$2002,ROWS($A$3:A629)),\"\")","v":""},"","",null,"","","",{"$f":"IF(O629=\"\",\"\",CONCATENATE(\"*11....+\",VLOOKUP(16-(LEN(N629)),'1'!$A$1:$B$16,2,TRUE),N629,\" 81..40+\",VLOOKUP(16-(LEN(O629)),'1'!$A$1:$B$16,2,TRUE),O629,\" 82..40+\",VLOOKUP(16-(LEN(O629)),'1'!$A$1:$B$16,2,TRUE),P629,\" 71....+0000000000000000 \"))","v":""},null,""]
[null,{"$f":"IF(I630=\"\",\"\",ROWS($A$3:A630))","v":""},"","","","","","","","",{"$f":"IFERROR(SMALL($B$3:$B$2002,ROWS($A$3:A630)),\"\")","v":""},"","",null,"","","",{"$f":"IF(O630=\"\",\"\",CONCATENATE(\"*11....+\",VLOOKUP(16-(LEN(N630)),'1'!$A$1:$B$16,2,TRUE),N630,\" 81..40+\",VLOOKUP(16-(LEN(O630)),'1'!$A$1:$B$16,2,TRUE),O630,\" 82..40+\",VLOOKUP(16-(LEN(O630)),'1'!$A$1:$B$16,2,TRUE),P630,\" 71....+0000000000000000 \"))","v":""},null,""]
[null,{"$f":"IF(I631=\"\",\"\",ROWS($A$3:A631))","v":""},"","","","","","","","",{"$f":"IFERROR(SMALL($B$3:$B$2002,ROWS($A$3:A631)),\"\")","v":""},"","",null,"","","",{"$f":"IF(O631=\"\",\"\",CONCATENATE(\"*11....+\",VLOOKUP(16-(LEN(N631)),'1'!$A$1:$B$16,2,TRUE),N631,\" 81..40+\",VLOOKUP(16-(LEN(O631)),'1'!$A$1:$B$16,2,TRUE),O631,\" 82..40+\",VLOOKUP(16-(LEN(O631)),'1'!$A$1:$B$16,2,TRUE),P631,\" 71....+0000000000000000 \"))","v":""},null,""]
[null,{"$f":"IF(I632=\"\",\"\",ROWS($A$3:A632))","v":""},"","","","","","","","",{"$f":"IFERROR(SMALL($B$3:$B$2002,ROWS($A$3:A632)),\"\")","v":""},"","",null,"","","",{"$f":"IF(O632=\"\",\"\",CONCATENATE(\"*11....+\",VLOOKUP(16-(LEN(N632)),'1'!$A$1:$B$16,2,TRUE),N632,\" 81..40+\",VLOOKUP(16-(LEN(O632)),'1'!$A$1:$B$16,2,TRUE),O632,\" 82..40+\",VLOOKUP(16-(LEN(O632)),'1'!$A$1:$B$16,2,TRUE),P632,\" 71....+0000000000000000 \"))","v":""},null,""]
[null,{"$f":"IF(I633=\"\",\"\",ROWS($A$3:A633))","v":""},"","","","","","","","",{"$f":"IFERROR(SMALL($B$3:$B$2002,ROWS($A$3:A633)),\"\")","v":""},"","",null,"","","",{"$f":"IF(O633=\"\",\"\",CONCATENATE(\"*11....+\",VLOOKUP(16-(LEN(N633)),'1'!$A$1:$B$16,2,TRUE),N633,\" 81..40+\",VLOOKUP(16-(LEN(O633)),'1'!$A$1:$B$16,2,TRUE),O633,\" 82..40+\",VLOOKUP(16-(LEN(O633)),'1'!$A$1:$B$16,2,TRUE),P633,\" 71....+0000000000000000 \"))","v":""},null,""]
[null,{"$f":"IF(I634=\"\",\"\",ROWS($A$3:A634))","v":""},"","","","","","","","",{"$f":"IFERROR(SMALL($B$3:$B$2002,ROWS($A$3:A634)),\"\")","v":""},"","",null,"","","",{"$f":"IF(O634=\"\",\"\",CONCATENATE(\"*11....+\",VLOOKUP(16-(LEN(N634)),'1'!$A$1:$B$16,2,TRUE),N634,\" 81..40+\",VLOOKUP(16-(LEN(O634)),'1'!$A$1:$B$16,2,TRUE),O634,\" 82..40+\",VLOOKUP(16-(LEN(O634)),'1'!$A$1:$B$16,2,TRUE),P634,\" 71....+0000000000000000 \"))","v":""},null,""]
[null,{"$f":"IF(I635=\"\",\"\",ROWS($A$3:A635))","v":""},"","","","","","","","",{"$f":"IFERROR(SMALL($B$3:$B$2002,ROWS($A$3:A635)),\"\")","v":""},"","",null,"","","",{"$f":"IF(O635=\"\",\"\",CONCATENATE(\"*11....+\",VLOOKUP(16-(LEN(N635)),'1'!$A$1:$B$16,2,TRUE),N635,\" 81..40+\",VLOOKUP(16-(LEN(O635)),'1'!$A$1:$B$16,2,TRUE),O635,\" 82..40+\",VLOOKUP(16-(LEN(O635)),'1'!$A$1:$B$16,2,TRUE),P635,\" 71....+0000000000000000 \"))","v":""},null,""]
[null,{"$f":"IF(I636=\"\",\"\",ROWS($A$3:A636))","v":""},"","","","","","","","",{"$f":"IFERROR(SMALL($B$3:$B$2002,ROWS($A$3:A636)),\"\")","v":""},"","",null,"","","",{"$f":"IF(O636=\"\",\"\",CONCATENATE(\"*11....+\",VLOOKUP(16-(LEN(N636)),'1'!$A$1:$B$16,2,TRUE),N636,\" 81..40+\",VLOOKUP(16-(LEN(O636)),'1'!$A$1:$B$16,2,TRUE),O636,\" 82..40+\",VLOOKUP(16-(LEN(O636)),'1'!$A$1:$B$16,2,TRUE),P636,\" 71....+0000000000000000 \"))","v":""},null,""]
[null,{"$f":"IF(I637=\"\",\"\",ROWS($A$3:A637))","v":""},"","","","","","","","",{"$f":"IFERROR(SMALL($B$3:$B$2002,ROWS($A$3:A637)),\"\")","v":""},"","",null,"","","",{"$f":"IF(O637=\"\",\"\",CONCATENATE(\"*11....+\",VLOOKUP(16-(LEN(N637)),'1'!$A$1:$B$16,2,TRUE),N637,\" 81..40+\",VLOOKUP(16-(LEN(O637)),'1'!$A$1:$B$16,2,TRUE),O637,\" 82..40+\",VLOOKUP(16-(LEN(O637)),'1'!$A$1:$B$16,2,TRUE),P637,\" 71....+0000000000000000 \"))","v":""},null,""]
[null,{"$f":"IF(I638=\"\",\"\",ROWS($A$3:A638))","v":""},"","","","","","","","",{"$f":"IFERROR(SMALL($B$3:$B$2002,ROWS($A$3:A638)),\"\")","v":""},"","",null,"","","",{"$f":"IF(O638=\"\",\"\",CONCATENATE(\"*11....+\",VLOOKUP(16-(LEN(N638)),'1'!$A$1:$B$16,2,TRUE),N638,\" 81..40+\",VLOOKUP(16-(LEN(O638)),'1'!$A$1:$B$16,2,TRUE),O638,\" 82..40+\",VLOOKUP(16-(LEN(O638)),'1'!$A$1:$B$16,2,TRUE),P638,\" 71....+0000000000000000 \"))","v":""},null,""]
[null,{"$f":"IF(I639=\"\",\"\",ROWS($A$3:A639))","v":""},"","","","","","","","",{"$f":"IFERROR(SMALL($B$3:$B$2002,ROWS($A$3:A639)),\"\")","v":""},"","",null,"","","",{"$f":"IF(O639=\"\",\"\",CONCATENATE(\"*11....+\",VLOOKUP(16-(LEN(N639)),'1'!$A$1:$B$16,2,TRUE),N639,\" 81..40+\",VLOOKUP(16-(LEN(O639)),'1'!$A$1:$B$16,2,TRUE),O639,\" 82..40+\",VLOOKUP(16-(LEN(O639)),'1'!$A$1:$B$16,2,TRUE),P639,\" 71....+0000000000000000 \"))","v":""},null,""]
[null,{"$f":"IF(I640=\"\",\"\",ROWS($A$3:A640))","v":""},"","","","","","","","",{"$f":"IFERROR(SMALL($B$3:$B$2002,ROWS($A$3:A640)),\"\")","v":""},"","",null,"","","",{"$f":"IF(O640=\"\",\"\",CONCATENATE(\"*11....+\",VLOOKUP(16-(LEN(N640)),'1'!$A$1:$B$16,2,TRUE),N640,\" 81..40+\",VLOOKUP(16-(LEN(O640)),'1'!$A$1:$B$16,2,TRUE),O640,\" 82..40+\",VLOOKUP(16-(LEN(O640)),'1'!$A$1:$B$16,2,TRUE),P640,\" 71....+0000000000000000 \"))","v":""},null,""]
[null,{"$f":"IF(I641=\"\",\"\",ROWS($A$3:A641))","v":""},"","","","","","","","",{"$f":"IFERROR(SMALL($B$3:$B$2002,ROWS($A$3:A641)),\"\")","v":""},"","",null,"","","",{"$f":"IF(O641=\"\",\"\",CONCATENATE(\"*11....+\",VLOOKUP(16-(LEN(N641)),'1'!$A$1:$B$16,2,TRUE),N641,\" 81..40+\",VLOOKUP(16-(LEN(O641)),'1'!$A$1:$B$16,2,TRUE),O641,\" 82..40+\",VLOOKUP(16-(LEN(O641)),'1'!$A$1:$B$16,2,TRUE),P641,\" 71....+0000000000000000 \"))","v":""},null,""]
[null,{"$f":"IF(I642=\"\",\"\",ROWS($A$3:A642))","v":""},"","","","","","","","",{"$f":"IFERROR(SMALL($B$3:$B$2002,ROWS($A$3:A642)),\"\")","v":""},"","",null,"","","",{"$f":"IF(O642=\"\",\"\",CONCATENATE(\"*11....+\",VLOOKUP(16-(LEN(N642)),'1'!$A$1:$B$16,2,TRUE),N642,\" 81..40+\",VLOOKUP(16-(LEN(O642)),'1'!$A$1:$B$16,2,TRUE),O642,\" 82..40+\",VLOOKUP(16-(LEN(O642)),'1'!$A$1:$B$16,2,TRUE),P642,\" 71....+0000000000000000 \"))","v":""},null,""]
[null,{"$f":"IF(I643=\"\",\"\",ROWS($A$3:A643))","v":""},"","","","","","","","",{"$f":"IFERROR(SMALL($B$3:$B$2002,ROWS($A$3:A643)),\"\")","v":""},"","",null,"","","",{"$f":"IF(O643=\"\",\"\",CONCATENATE(\"*11....+\",VLOOKUP(16-(LEN(N643)),'1'!$A$1:$B$16,2,TRUE),N643,\" 81..40+\",VLOOKUP(16-(LEN(O643)),'1'!$A$1:$B$16,2,TRUE),O643,\" 82..40+\",VLOOKUP(16-(LEN(O643)),'1'!$A$1:$B$16,2,TRUE),P643,\" 71....+0000000000000000 \"))","v":""},null,""]
[null,{"$f":"IF(I644=\"\",\"\",ROWS($A$3:A644))","v":""},{"$f":"IF(LEN(A644)=59,ROUND(VALUE(MID(A644,23,9)),3),\"\")","v":""},{"$f":"IF(LEN(A644)=24,\"\",\"\")","v":""},{"$f":"IF(LEN(A644)=63,ROUND(VALUE(MID(A644,23,12)),3),\"\")","v":""},{"$f":"IF(LEN(A644)=59,ROUND(VALUE(MID(A644,37,9)),3),\"\")","v":""},{"$f":"IF(LEN(A644)=24,\"\",\"\")","v":""},{"$f":"IF(LEN(A644)=63,ROUND(VALUE(MID(A644,39,12)),3),\"\")","v":""},{"$f":"IF(AND(C644=\"\",D644=\"\",E644=\"\"),\"\",ROUND(CONCATENATE(C644,D644,E644),3))","v":""},{"$f":"IF(AND(C644=\"\",D644=\"\",E644=\"\"),\"\",ROUND(CONCATENATE(F644,G644,H644),3))","v":""},{"$f":"IFERROR(SMALL($B$3:$B$2002,ROWS($A$3:A644)),\"\")","v":""},{"$f":"IF(K644=\"\",\"\",ROUND(VALUE(VLOOKUP(K644,$B$3:$J$2002,8,TRUE)),3))","v":""},{"$f":"IF(K644=\"\",\"\",ROUND(VALUE(VLOOKUP(K644,$B$3:$J$2002,9,TRUE)),3))","v":""},null,{"$f":"IF(L644=\"\",\"\",L644/0.001)","v":""},"",{"$f":"IF(O644=\"\",\"\",16-LEN(N644))","v":""},{"$f":"IF(O644=\"\",\"\",CONCATENATE(\"*11....+\",VLOOKUP(16-(LEN(N644)),'1'!$A$1:$B$16,2,TRUE),N644,\" 81..40+\",VLOOKUP(16-(LEN(O644)),'1'!$A$1:$B$16,2,TRUE),O644,\" 82..40+\",VLOOKUP(16-(LEN(O644)),'1'!$A$1:$B$16,2,TRUE),P644,\" 71....+0000000000000000 \"))","v":""},null,{"$f":"IF(O644=\"\",\"\",CONCATENATE(N644,\",\",L644,\",\",M644))","v":""}]
[null,{"$f":"IF(I645=\"\",\"\",ROWS($A$3:A645))","v":""},"","","","","","","","",{"$f":"IFERROR(SMALL($B$3:$B$2002,ROWS($A$3:A645)),\"\")","v":""},"","",null,"","","",{"$f":"IF(O645=\"\",\"\",CONCATENATE(\"*11....+\",VLOOKUP(16-(LEN(N645)),'1'!$A$1:$B$16,2,TRUE),N645,\" 81..40+\",VLOOKUP(16-(LEN(O645)),'1'!$A$1:$B$16,2,TRUE),O645,\" 82..40+\",VLOOKUP(16-(LEN(O645)),'1'!$A$1:$B$16,2,TRUE),P645,\" 71....+0000000000000000 \"))","v":""},null,""]
[null,{"$f":"IF(I646=\"\",\"\",ROWS($A$3:A646))","v":""},"","","","","","","","",{"$f":"IFERROR(SMALL($B$3:$B$2002,ROWS($A$3:A646)),\"\")","v":""},"","",null,"","","",{"$f":"IF(O646=\"\",\"\",CONCATENATE(\"*11....+\",VLOOKUP(16-(LEN(N646)),'1'!$A$1:$B$16,2,TRUE),N646,\" 81..40+\",VLOOKUP(16-(LEN(O646)),'1'!$A$1:$B$16,2,TRUE),O646,\" 82..40+\",VLOOKUP(16-(LEN(O646)),'1'!$A$1:$B$16,2,TRUE),P646,\" 71....+0000000000000000 \"))","v":""},null,""]
[null,{"$f":"IF(I647=\"\",\"\",ROWS($A$3:A647))","v":""},"","","","","","","","",{"$f":"IFERROR(SMALL($B$3:$B$2002,ROWS($A$3:A647)),\"\")","v":""},"","",null,"","","",{"$f":"IF(O647=\"\",\"\",CONCATENATE(\"*11....+\",VLOOKUP(16-(LEN(N647)),'1'!$A$1:$B$16,2,TRUE),N647,\" 81..40+\",VLOOKUP(16-(LEN(O647)),'1'!$A$1:$B$16,2,TRUE),O647,\" 82..40+\",VLOOKUP(16-(LEN(O647)),'1'!$A$1:$B$16,2,TRUE),P647,\" 71....+0000000000000000 \"))","v":""},null,""]
[null,{"$f":"IF(I648=\"\",\"\",ROWS($A$3:A648))","v":""},"","","","","","","","",{"$f":"IFERROR(SMALL($B$3:$B$2002,ROWS($A$3:A648)),\"\")","v":""},"","",null,"","","",{"$f":"IF(O648=\"\",\"\",CONCATENATE(\"*11....+\",VLOOKUP(16-(LEN(N648)),'1'!$A$1:$B$16,2,TRUE),N648,\" 81..40+\",VLOOKUP(16-(LEN(O648)),'1'!$A$1:$B$16,2,TRUE),O648,\" 82..40+\",VLOOKUP(16-(LEN(O648)),'1'!$A$1:$B$16,2,TRUE),P648,\" 71....+0000000000000000 \"))","v":""},null,""]
[null,{"$f":"IF(I649=\"\",\"\",ROWS($A$3:A649))","v":""},"","","","","","","","",{"$f":"IFERROR(SMALL($B$3:$B$2002,ROWS($A$3:A649)),\"\")","v":""},"","",null,"","","",{"$f":"IF(O649=\"\",\"\",CONCATENATE(\"*11....+\",VLOOKUP(16-(LEN(N649)),'1'!$A$1:$B$16,2,TRUE),N649,\" 81..40+\",VLOOKUP(16-(LEN(O649)),'1'!$A$1:$B$16,2,TRUE),O649,\" 82..40+\",VLOOKUP(16-(LEN(O649)),'1'!$A$1:$B$16,2,TRUE),P649,\" 71....+0000000000000000 \"))","v":""},null,""]
[null,{"$f":"IF(I650=\"\",\"\",ROWS($A$3:A650))","v":""},"","","","","","","","",{"$f":"IFERROR(SMALL($B$3:$B$2002,ROWS($A$3:A650)),\"\")","v":""},"","",null,"","","",{"$f":"IF(O650=\"\",\"\",CONCATENATE(\"*11....+\",VLOOKUP(16-(LEN(N650)),'1'!$A$1:$B$16,2,TRUE),N650,\" 81..40+\",VLOOKUP(16-(LEN(O650)),'1'!$A$1:$B$16,2,TRUE),O650,\" 82..40+\",VLOOKUP(16-(LEN(O650)),'1'!$A$1:$B$16,2,TRUE),P650,\" 71....+0000000000000000 \"))","v":""},null,""]
[null,{"$f":"IF(I651=\"\",\"\",ROWS($A$3:A651))","v":""},"","","","","","","","",{"$f":"IFERROR(SMALL($B$3:$B$2002,ROWS($A$3:A651)),\"\")","v":""},"","",null,"","","",{"$f":"IF(O651=\"\",\"\",CONCATENATE(\"*11....+\",VLOOKUP(16-(LEN(N651)),'1'!$A$1:$B$16,2,TRUE),N651,\" 81..40+\",VLOOKUP(16-(LEN(O651)),'1'!$A$1:$B$16,2,TRUE),O651,\" 82..40+\",VLOOKUP(16-(LEN(O651)),'1'!$A$1:$B$16,2,TRUE),P651,\" 71....+0000000000000000 \"))","v":""},null,""]
[null,{"$f":"IF(I652=\"\",\"\",ROWS($A$3:A652))","v":""},"","","","","","","","",{"$f":"IFERROR(SMALL($B$3:$B$2002,ROWS($A$3:A652)),\"\")","v":""},"","",null,"","","",{"$f":"IF(O652=\"\",\"\",CONCATENATE(\"*11....+\",VLOOKUP(16-(LEN(N652)),'1'!$A$1:$B$16,2,TRUE),N652,\" 81..40+\",VLOOKUP(16-(LEN(O652)),'1'!$A$1:$B$16,2,TRUE),O652,\" 82..40+\",VLOOKUP(16-(LEN(O652)),'1'!$A$1:$B$16,2,TRUE),P652,\" 71....+0000000000000000 \"))","v":""},null,""]
[null,{"$f":"IF(I653=\"\",\"\",ROWS($A$3:A653))","v":""},"","","","","","","","",{"$f":"IFERROR(SMALL($B$3:$B$2002,ROWS($A$3:A653)),\"\")","v":""},"","",null,"","","",{"$f":"IF(O653=\"\",\"\",CONCATENATE(\"*11....+\",VLOOKUP(16-(LEN(N653)),'1'!$A$1:$B$16,2,TRUE),N653,\" 81..40+\",VLOOKUP(16-(LEN(O653)),'1'!$A$1:$B$16,2,TRUE),O653,\" 82..40+\",VLOOKUP(16-(LEN(O653)),'1'!$A$1:$B$16,2,TRUE),P653,\" 71....+0000000000000000 \"))","v":""},null,""]
[null,{"$f":"IF(I654=\"\",\"\",ROWS($A$3:A654))","v":""},"","","","","","","","",{"$f":"IFERROR(SMALL($B$3:$B$2002,ROWS($A$3:A654)),\"\")","v":""},"","",null,"","","",{"$f":"IF(O654=\"\",\"\",CONCATENATE(\"*11....+\",VLOOKUP(16-(LEN(N654)),'1'!$A$1:$B$16,2,TRUE),N654,\" 81..40+\",VLOOKUP(16-(LEN(O654)),'1'!$A$1:$B$16,2,TRUE),O654,\" 82..40+\",VLOOKUP(16-(LEN(O654)),'1'!$A$1:$B$16,2,TRUE),P654,\" 71....+0000000000000000 \"))","v":""},null,""]
[null,{"$f":"IF(I655=\"\",\"\",ROWS($A$3:A655))","v":""},"","","","","","","","",{"$f":"IFERROR(SMALL($B$3:$B$2002,ROWS($A$3:A655)),\"\")","v":""},"","",null,"","","",{"$f":"IF(O655=\"\",\"\",CONCATENATE(\"*11....+\",VLOOKUP(16-(LEN(N655)),'1'!$A$1:$B$16,2,TRUE),N655,\" 81..40+\",VLOOKUP(16-(LEN(O655)),'1'!$A$1:$B$16,2,TRUE),O655,\" 82..40+\",VLOOKUP(16-(LEN(O655)),'1'!$A$1:$B$16,2,TRUE),P655,\" 71....+0000000000000000 \"))","v":""},null,""]
[null,{"$f":"IF(I656=\"\",\"\",ROWS($A$3:A656))","v":""},"","","","","","","","",{"$f":"IFERROR(SMALL($B$3:$B$2002,ROWS($A$3:A656)),\"\")","v":""},"","",null,"","","",{"$f":"IF(O656=\"\",\"\",CONCATENATE(\"*11....+\",VLOOKUP(16-(LEN(N656)),'1'!$A$1:$B$16,2,TRUE),N656,\" 81..40+\",VLOOKUP(16-(LEN(O656)),'1'!$A$1:$B$16,2,TRUE),O656,\" 82..40+\",VLOOKUP(16-(LEN(O656)),'1'!$A$1:$B$16,2,TRUE),P656,\" 71....+0000000000000000 \"))","v":""},null,""]
[null,{"$f":"IF(I657=\"\",\"\",ROWS($A$3:A657))","v":""},"","","","","","","","",{"$f":"IFERROR(SMALL($B$3:$B$2002,ROWS($A$3:A657)),\"\")","v":""},"","",null,"","","",{"$f":"IF(O657=\"\",\"\",CONCATENATE(\"*11....+\",VLOOKUP(16-(LEN(N657)),'1'!$A$1:$B$16,2,TRUE),N657,\" 81..40+\",VLOOKUP(16-(LEN(O657)),'1'!$A$1:$B$16,2,TRUE),O657,\" 82..40+\",VLOOKUP(16-(LEN(O657)),'1'!$A$1:$B$16,2,TRUE),P657,\" 71....+0000000000000000 \"))","v":""},null,""]
[null,{"$f":"IF(I658=\"\",\"\",ROWS($A$3:A658))","v":""},"","","","","","","","",{"$f":"IFERROR(SMALL($B$3:$B$2002,ROWS($A$3:A658)),\"\")","v":""},"","",null,"","","",{"$f":"IF(O658=\"\",\"\",CONCATENATE(\"*11....+\",VLOOKUP(16-(LEN(N658)),'1'!$A$1:$B$16,2,TRUE),N658,\" 81..40+\",VLOOKUP(16-(LEN(O658)),'1'!$A$1:$B$16,2,TRUE),O658,\" 82..40+\",VLOOKUP(16-(LEN(O658)),'1'!$A$1:$B$16,2,TRUE),P658,\" 71....+0000000000000000 \"))","v":""},null,""]
[null,{"$f":"IF(I659=\"\",\"\",ROWS($A$3:A659))","v":""},"","","","","","","","",{"$f":"IFERROR(SMALL($B$3:$B$2002,ROWS($A$3:A659)),\"\")","v":""},"","",null,"","","",{"$f":"IF(O659=\"\",\"\",CONCATENATE(\"*11....+\",VLOOKUP(16-(LEN(N659)),'1'!$A$1:$B$16,2,TRUE),N659,\" 81..40+\",VLOOKUP(16-(LEN(O659)),'1'!$A$1:$B$16,2,TRUE),O659,\" 82..40+\",VLOOKUP(16-(LEN(O659)),'1'!$A$1:$B$16,2,TRUE),P659,\" 71....+0000000000000000 \"))","v":""},null,""]
[null,{"$f":"IF(I660=\"\",\"\",ROWS($A$3:A660))","v":""},"","","","","","","","",{"$f":"IFERROR(SMALL($B$3:$B$2002,ROWS($A$3:A660)),\"\")","v":""},"","",null,"","","",{"$f":"IF(O660=\"\",\"\",CONCATENATE(\"*11....+\",VLOOKUP(16-(LEN(N660)),'1'!$A$1:$B$16,2,TRUE),N660,\" 81..40+\",VLOOKUP(16-(LEN(O660)),'1'!$A$1:$B$16,2,TRUE),O660,\" 82..40+\",VLOOKUP(16-(LEN(O660)),'1'!$A$1:$B$16,2,TRUE),P660,\" 71....+0000000000000000 \"))","v":""},null,""]
[null,{"$f":"IF(I661=\"\",\"\",ROWS($A$3:A661))","v":""},"","","","","","","","",{"$f":"IFERROR(SMALL($B$3:$B$2002,ROWS($A$3:A661)),\"\")","v":""},"","",null,"","","",{"$f":"IF(O661=\"\",\"\",CONCATENATE(\"*11....+\",VLOOKUP(16-(LEN(N661)),'1'!$A$1:$B$16,2,TRUE),N661,\" 81..40+\",VLOOKUP(16-(LEN(O661)),'1'!$A$1:$B$16,2,TRUE),O661,\" 82..40+\",VLOOKUP(16-(LEN(O661)),'1'!$A$1:$B$16,2,TRUE),P661,\" 71....+0000000000000000 \"))","v":""},null,""]
[null,{"$f":"IF(I662=\"\",\"\",ROWS($A$3:A662))","v":""},"","","","","","","","",{"$f":"IFERROR(SMALL($B$3:$B$2002,ROWS($A$3:A662)),\"\")","v":""},"","",null,"","","",{"$f":"IF(O662=\"\",\"\",CONCATENATE(\"*11....+\",VLOOKUP(16-(LEN(N662)),'1'!$A$1:$B$16,2,TRUE),N662,\" 81..40+\",VLOOKUP(16-(LEN(O662)),'1'!$A$1:$B$16,2,TRUE),O662,\" 82..40+\",VLOOKUP(16-(LEN(O662)),'1'!$A$1:$B$16,2,TRUE),P662,\" 71....+0000000000000000 \"))","v":""},null,""]
[null,{"$f":"IF(I663=\"\",\"\",ROWS($A$3:A663))","v":""},"","","","","","","","",{"$f":"IFERROR(SMALL($B$3:$B$2002,ROWS($A$3:A663)),\"\")","v":""},"","",null,"","","",{"$f":"IF(O663=\"\",\"\",CONCATENATE(\"*11....+\",VLOOKUP(16-(LEN(N663)),'1'!$A$1:$B$16,2,TRUE),N663,\" 81..40+\",VLOOKUP(16-(LEN(O663)),'1'!$A$1:$B$16,2,TRUE),O663,\" 82..40+\",VLOOKUP(16-(LEN(O663)),'1'!$A$1:$B$16,2,TRUE),P663,\" 71....+0000000000000000 \"))","v":""},null,""]
[null,{"$f":"IF(I664=\"\",\"\",ROWS($A$3:A664))","v":""},"","","","","","","","",{"$f":"IFERROR(SMALL($B$3:$B$2002,ROWS($A$3:A664)),\"\")","v":""},"","",null,"","","",{"$f":"IF(O664=\"\",\"\",CONCATENATE(\"*11....+\",VLOOKUP(16-(LEN(N664)),'1'!$A$1:$B$16,2,TRUE),N664,\" 81..40+\",VLOOKUP(16-(LEN(O664)),'1'!$A$1:$B$16,2,TRUE),O664,\" 82..40+\",VLOOKUP(16-(LEN(O664)),'1'!$A$1:$B$16,2,TRUE),P664,\" 71....+0000000000000000 \"))","v":""},null,""]
[null,{"$f":"IF(I665=\"\",\"\",ROWS($A$3:A665))","v":""},"","","","","","","","",{"$f":"IFERROR(SMALL($B$3:$B$2002,ROWS($A$3:A665)),\"\")","v":""},"","",null,"","","",{"$f":"IF(O665=\"\",\"\",CONCATENATE(\"*11....+\",VLOOKUP(16-(LEN(N665)),'1'!$A$1:$B$16,2,TRUE),N665,\" 81..40+\",VLOOKUP(16-(LEN(O665)),'1'!$A$1:$B$16,2,TRUE),O665,\" 82..40+\",VLOOKUP(16-(LEN(O665)),'1'!$A$1:$B$16,2,TRUE),P665,\" 71....+0000000000000000 \"))","v":""},null,""]
[null,{"$f":"IF(I666=\"\",\"\",ROWS($A$3:A666))","v":""},"","","","","","","","",{"$f":"IFERROR(SMALL($B$3:$B$2002,ROWS($A$3:A666)),\"\")","v":""},"","",null,"","","",{"$f":"IF(O666=\"\",\"\",CONCATENATE(\"*11....+\",VLOOKUP(16-(LEN(N666)),'1'!$A$1:$B$16,2,TRUE),N666,\" 81..40+\",VLOOKUP(16-(LEN(O666)),'1'!$A$1:$B$16,2,TRUE),O666,\" 82..40+\",VLOOKUP(16-(LEN(O666)),'1'!$A$1:$B$16,2,TRUE),P666,\" 71....+0000000000000000 \"))","v":""},null,""]
[null,{"$f":"IF(I667=\"\",\"\",ROWS($A$3:A667))","v":""},"","","","","","","","",{"$f":"IFERROR(SMALL($B$3:$B$2002,ROWS($A$3:A667)),\"\")","v":""},"","",null,"","","",{"$f":"IF(O667=\"\",\"\",CONCATENATE(\"*11....+\",VLOOKUP(16-(LEN(N667)),'1'!$A$1:$B$16,2,TRUE),N667,\" 81..40+\",VLOOKUP(16-(LEN(O667)),'1'!$A$1:$B$16,2,TRUE),O667,\" 82..40+\",VLOOKUP(16-(LEN(O667)),'1'!$A$1:$B$16,2,TRUE),P667,\" 71....+0000000000000000 \"))","v":""},null,""]
[null,{"$f":"IF(I668=\"\",\"\",ROWS($A$3:A668))","v":""},"","","","","","","","",{"$f":"IFERROR(SMALL($B$3:$B$2002,ROWS($A$3:A668)),\"\")","v":""},"","",null,"","","",{"$f":"IF(O668=\"\",\"\",CONCATENATE(\"*11....+\",VLOOKUP(16-(LEN(N668)),'1'!$A$1:$B$16,2,TRUE),N668,\" 81..40+\",VLOOKUP(16-(LEN(O668)),'1'!$A$1:$B$16,2,TRUE),O668,\" 82..40+\",VLOOKUP(16-(LEN(O668)),'1'!$A$1:$B$16,2,TRUE),P668,\" 71....+0000000000000000 \"))","v":""},null,""]
[null,{"$f":"IF(I669=\"\",\"\",ROWS($A$3:A669))","v":""},"","","","","","","","",{"$f":"IFERROR(SMALL($B$3:$B$2002,ROWS($A$3:A669)),\"\")","v":""},"","",null,"","","",{"$f":"IF(O669=\"\",\"\",CONCATENATE(\"*11....+\",VLOOKUP(16-(LEN(N669)),'1'!$A$1:$B$16,2,TRUE),N669,\" 81..40+\",VLOOKUP(16-(LEN(O669)),'1'!$A$1:$B$16,2,TRUE),O669,\" 82..40+\",VLOOKUP(16-(LEN(O669)),'1'!$A$1:$B$16,2,TRUE),P669,\" 71....+0000000000000000 \"))","v":""},null,""]
[null,{"$f":"IF(I670=\"\",\"\",ROWS($A$3:A670))","v":""},"","","","","","","","",{"$f":"IFERROR(SMALL($B$3:$B$2002,ROWS($A$3:A670)),\"\")","v":""},"","",null,"","","",{"$f":"IF(O670=\"\",\"\",CONCATENATE(\"*11....+\",VLOOKUP(16-(LEN(N670)),'1'!$A$1:$B$16,2,TRUE),N670,\" 81..40+\",VLOOKUP(16-(LEN(O670)),'1'!$A$1:$B$16,2,TRUE),O670,\" 82..40+\",VLOOKUP(16-(LEN(O670)),'1'!$A$1:$B$16,2,TRUE),P670,\" 71....+0000000000000000 \"))","v":""},null,""]
[null,{"$f":"IF(I671=\"\",\"\",ROWS($A$3:A671))","v":""},"","","","","","","","",{"$f":"IFERROR(SMALL($B$3:$B$2002,ROWS($A$3:A671)),\"\")","v":""},"","",null,"","","",{"$f":"IF(O671=\"\",\"\",CONCATENATE(\"*11....+\",VLOOKUP(16-(LEN(N671)),'1'!$A$1:$B$16,2,TRUE),N671,\" 81..40+\",VLOOKUP(16-(LEN(O671)),'1'!$A$1:$B$16,2,TRUE),O671,\" 82..40+\",VLOOKUP(16-(LEN(O671)),'1'!$A$1:$B$16,2,TRUE),P671,\" 71....+0000000000000000 \"))","v":""},null,""]
[null,{"$f":"IF(I672=\"\",\"\",ROWS($A$3:A672))","v":""},"","","","","","","","",{"$f":"IFERROR(SMALL($B$3:$B$2002,ROWS($A$3:A672)),\"\")","v":""},"","",null,"","","",{"$f":"IF(O672=\"\",\"\",CONCATENATE(\"*11....+\",VLOOKUP(16-(LEN(N672)),'1'!$A$1:$B$16,2,TRUE),N672,\" 81..40+\",VLOOKUP(16-(LEN(O672)),'1'!$A$1:$B$16,2,TRUE),O672,\" 82..40+\",VLOOKUP(16-(LEN(O672)),'1'!$A$1:$B$16,2,TRUE),P672,\" 71....+0000000000000000 \"))","v":""},null,""]
[null,{"$f":"IF(I673=\"\",\"\",ROWS($A$3:A673))","v":""},"","","","","","","","",{"$f":"IFERROR(SMALL($B$3:$B$2002,ROWS($A$3:A673)),\"\")","v":""},"","",null,"","","",{"$f":"IF(O673=\"\",\"\",CONCATENATE(\"*11....+\",VLOOKUP(16-(LEN(N673)),'1'!$A$1:$B$16,2,TRUE),N673,\" 81..40+\",VLOOKUP(16-(LEN(O673)),'1'!$A$1:$B$16,2,TRUE),O673,\" 82..40+\",VLOOKUP(16-(LEN(O673)),'1'!$A$1:$B$16,2,TRUE),P673,\" 71....+0000000000000000 \"))","v":""},null,""]
[null,{"$f":"IF(I674=\"\",\"\",ROWS($A$3:A674))","v":""},"","","","","","","","",{"$f":"IFERROR(SMALL($B$3:$B$2002,ROWS($A$3:A674)),\"\")","v":""},"","",null,"","","",{"$f":"IF(O674=\"\",\"\",CONCATENATE(\"*11....+\",VLOOKUP(16-(LEN(N674)),'1'!$A$1:$B$16,2,TRUE),N674,\" 81..40+\",VLOOKUP(16-(LEN(O674)),'1'!$A$1:$B$16,2,TRUE),O674,\" 82..40+\",VLOOKUP(16-(LEN(O674)),'1'!$A$1:$B$16,2,TRUE),P674,\" 71....+0000000000000000 \"))","v":""},null,""]
[null,{"$f":"IF(I675=\"\",\"\",ROWS($A$3:A675))","v":""},"","","","","","","","",{"$f":"IFERROR(SMALL($B$3:$B$2002,ROWS($A$3:A675)),\"\")","v":""},"","",null,"","","",{"$f":"IF(O675=\"\",\"\",CONCATENATE(\"*11....+\",VLOOKUP(16-(LEN(N675)),'1'!$A$1:$B$16,2,TRUE),N675,\" 81..40+\",VLOOKUP(16-(LEN(O675)),'1'!$A$1:$B$16,2,TRUE),O675,\" 82..40+\",VLOOKUP(16-(LEN(O675)),'1'!$A$1:$B$16,2,TRUE),P675,\" 71....+0000000000000000 \"))","v":""},null,""]
[null,{"$f":"IF(I676=\"\",\"\",ROWS($A$3:A676))","v":""},"","","","","","","","",{"$f":"IFERROR(SMALL($B$3:$B$2002,ROWS($A$3:A676)),\"\")","v":""},"","",null,"","","",{"$f":"IF(O676=\"\",\"\",CONCATENATE(\"*11....+\",VLOOKUP(16-(LEN(N676)),'1'!$A$1:$B$16,2,TRUE),N676,\" 81..40+\",VLOOKUP(16-(LEN(O676)),'1'!$A$1:$B$16,2,TRUE),O676,\" 82..40+\",VLOOKUP(16-(LEN(O676)),'1'!$A$1:$B$16,2,TRUE),P676,\" 71....+0000000000000000 \"))","v":""},null,""]
[null,{"$f":"IF(I677=\"\",\"\",ROWS($A$3:A677))","v":""},"","","","","","","","",{"$f":"IFERROR(SMALL($B$3:$B$2002,ROWS($A$3:A677)),\"\")","v":""},"","",null,"","","",{"$f":"IF(O677=\"\",\"\",CONCATENATE(\"*11....+\",VLOOKUP(16-(LEN(N677)),'1'!$A$1:$B$16,2,TRUE),N677,\" 81..40+\",VLOOKUP(16-(LEN(O677)),'1'!$A$1:$B$16,2,TRUE),O677,\" 82..40+\",VLOOKUP(16-(LEN(O677)),'1'!$A$1:$B$16,2,TRUE),P677,\" 71....+0000000000000000 \"))","v":""},null,""]
[null,{"$f":"IF(I678=\"\",\"\",ROWS($A$3:A678))","v":""},"","","","","","","","",{"$f":"IFERROR(SMALL($B$3:$B$2002,ROWS($A$3:A678)),\"\")","v":""},"","",null,"","","",{"$f":"IF(O678=\"\",\"\",CONCATENATE(\"*11....+\",VLOOKUP(16-(LEN(N678)),'1'!$A$1:$B$16,2,TRUE),N678,\" 81..40+\",VLOOKUP(16-(LEN(O678)),'1'!$A$1:$B$16,2,TRUE),O678,\" 82..40+\",VLOOKUP(16-(LEN(O678)),'1'!$A$1:$B$16,2,TRUE),P678,\" 71....+0000000000000000 \"))","v":""},null,""]
[null,{"$f":"IF(I679=\"\",\"\",ROWS($A$3:A679))","v":""},"","","","","","","","",{"$f":"IFERROR(SMALL($B$3:$B$2002,ROWS($A$3:A679)),\"\")","v":""},"","",null,"","","",{"$f":"IF(O679=\"\",\"\",CONCATENATE(\"*11....+\",VLOOKUP(16-(LEN(N679)),'1'!$A$1:$B$16,2,TRUE),N679,\" 81..40+\",VLOOKUP(16-(LEN(O679)),'1'!$A$1:$B$16,2,TRUE),O679,\" 82..40+\",VLOOKUP(16-(LEN(O679)),'1'!$A$1:$B$16,2,TRUE),P679,\" 71....+0000000000000000 \"))","v":""},null,""]
[null,{"$f":"IF(I680=\"\",\"\",ROWS($A$3:A680))","v":""},"","","","","","","","",{"$f":"IFERROR(SMALL($B$3:$B$2002,ROWS($A$3:A680)),\"\")","v":""},"","",null,"","","",{"$f":"IF(O680=\"\",\"\",CONCATENATE(\"*11....+\",VLOOKUP(16-(LEN(N680)),'1'!$A$1:$B$16,2,TRUE),N680,\" 81..40+\",VLOOKUP(16-(LEN(O680)),'1'!$A$1:$B$16,2,TRUE),O680,\" 82..40+\",VLOOKUP(16-(LEN(O680)),'1'!$A$1:$B$16,2,TRUE),P680,\" 71....+0000000000000000 \"))","v":""},null,""]
[null,{"$f":"IF(I681=\"\",\"\",ROWS($A$3:A681))","v":""},"","","","","","","","",{"$f":"IFERROR(SMALL($B$3:$B$2002,ROWS($A$3:A681)),\"\")","v":""},"","",null,"","","",{"$f":"IF(O681=\"\",\"\",CONCATENATE(\"*11....+\",VLOOKUP(16-(LEN(N681)),'1'!$A$1:$B$16,2,TRUE),N681,\" 81..40+\",VLOOKUP(16-(LEN(O681)),'1'!$A$1:$B$16,2,TRUE),O681,\" 82..40+\",VLOOKUP(16-(LEN(O681)),'1'!$A$1:$B$16,2,TRUE),P681,\" 71....+0000000000000000 \"))","v":""},null,""]
[null,{"$f":"IF(I682=\"\",\"\",ROWS($A$3:A682))","v":""},"","","","","","","","",{"$f":"IFERROR(SMALL($B$3:$B$2002,ROWS($A$3:A682)),\"\")","v":""},"","",null,"","","",{"$f":"IF(O682=\"\",\"\",CONCATENATE(\"*11....+\",VLOOKUP(16-(LEN(N682)),'1'!$A$1:$B$16,2,TRUE),N682,\" 81..40+\",VLOOKUP(16-(LEN(O682)),'1'!$A$1:$B$16,2,TRUE),O682,\" 82..40+\",VLOOKUP(16-(LEN(O682)),'1'!$A$1:$B$16,2,TRUE),P682,\" 71....+0000000000000000 \"))","v":""},null,""]
[null,{"$f":"IF(I683=\"\",\"\",ROWS($A$3:A683))","v":""},"","","","","","","","",{"$f":"IFERROR(SMALL($B$3:$B$2002,ROWS($A$3:A683)),\"\")","v":""},"","",null,"","","",{"$f":"IF(O683=\"\",\"\",CONCATENATE(\"*11....+\",VLOOKUP(16-(LEN(N683)),'1'!$A$1:$B$16,2,TRUE),N683,\" 81..40+\",VLOOKUP(16-(LEN(O683)),'1'!$A$1:$B$16,2,TRUE),O683,\" 82..40+\",VLOOKUP(16-(LEN(O683)),'1'!$A$1:$B$16,2,TRUE),P683,\" 71....+0000000000000000 \"))","v":""},null,""]
[null,{"$f":"IF(I684=\"\",\"\",ROWS($A$3:A684))","v":""},"","","","","","","","",{"$f":"IFERROR(SMALL($B$3:$B$2002,ROWS($A$3:A684)),\"\")","v":""},"","",null,"","","",{"$f":"IF(O684=\"\",\"\",CONCATENATE(\"*11....+\",VLOOKUP(16-(LEN(N684)),'1'!$A$1:$B$16,2,TRUE),N684,\" 81..40+\",VLOOKUP(16-(LEN(O684)),'1'!$A$1:$B$16,2,TRUE),O684,\" 82..40+\",VLOOKUP(16-(LEN(O684)),'1'!$A$1:$B$16,2,TRUE),P684,\" 71....+0000000000000000 \"))","v":""},null,""]
[null,{"$f":"IF(I685=\"\",\"\",ROWS($A$3:A685))","v":""},"","","","","","","","",{"$f":"IFERROR(SMALL($B$3:$B$2002,ROWS($A$3:A685)),\"\")","v":""},"","",null,"","","",{"$f":"IF(O685=\"\",\"\",CONCATENATE(\"*11....+\",VLOOKUP(16-(LEN(N685)),'1'!$A$1:$B$16,2,TRUE),N685,\" 81..40+\",VLOOKUP(16-(LEN(O685)),'1'!$A$1:$B$16,2,TRUE),O685,\" 82..40+\",VLOOKUP(16-(LEN(O685)),'1'!$A$1:$B$16,2,TRUE),P685,\" 71....+0000000000000000 \"))","v":""},null,""]
[null,{"$f":"IF(I686=\"\",\"\",ROWS($A$3:A686))","v":""},"","","","","","","","",{"$f":"IFERROR(SMALL($B$3:$B$2002,ROWS($A$3:A686)),\"\")","v":""},"","",null,"","","",{"$f":"IF(O686=\"\",\"\",CONCATENATE(\"*11....+\",VLOOKUP(16-(LEN(N686)),'1'!$A$1:$B$16,2,TRUE),N686,\" 81..40+\",VLOOKUP(16-(LEN(O686)),'1'!$A$1:$B$16,2,TRUE),O686,\" 82..40+\",VLOOKUP(16-(LEN(O686)),'1'!$A$1:$B$16,2,TRUE),P686,\" 71....+0000000000000000 \"))","v":""},null,""]
[null,{"$f":"IF(I687=\"\",\"\",ROWS($A$3:A687))","v":""},"","","","","","","","",{"$f":"IFERROR(SMALL($B$3:$B$2002,ROWS($A$3:A687)),\"\")","v":""},"","",null,"","","",{"$f":"IF(O687=\"\",\"\",CONCATENATE(\"*11....+\",VLOOKUP(16-(LEN(N687)),'1'!$A$1:$B$16,2,TRUE),N687,\" 81..40+\",VLOOKUP(16-(LEN(O687)),'1'!$A$1:$B$16,2,TRUE),O687,\" 82..40+\",VLOOKUP(16-(LEN(O687)),'1'!$A$1:$B$16,2,TRUE),P687,\" 71....+0000000000000000 \"))","v":""},null,""]
[null,{"$f":"IF(I688=\"\",\"\",ROWS($A$3:A688))","v":""},"","","","","","","","",{"$f":"IFERROR(SMALL($B$3:$B$2002,ROWS($A$3:A688)),\"\")","v":""},"","",null,"","","",{"$f":"IF(O688=\"\",\"\",CONCATENATE(\"*11....+\",VLOOKUP(16-(LEN(N688)),'1'!$A$1:$B$16,2,TRUE),N688,\" 81..40+\",VLOOKUP(16-(LEN(O688)),'1'!$A$1:$B$16,2,TRUE),O688,\" 82..40+\",VLOOKUP(16-(LEN(O688)),'1'!$A$1:$B$16,2,TRUE),P688,\" 71....+0000000000000000 \"))","v":""},null,""]
[null,{"$f":"IF(I689=\"\",\"\",ROWS($A$3:A689))","v":""},"","","","","","","","",{"$f":"IFERROR(SMALL($B$3:$B$2002,ROWS($A$3:A689)),\"\")","v":""},"","",null,"","","",{"$f":"IF(O689=\"\",\"\",CONCATENATE(\"*11....+\",VLOOKUP(16-(LEN(N689)),'1'!$A$1:$B$16,2,TRUE),N689,\" 81..40+\",VLOOKUP(16-(LEN(O689)),'1'!$A$1:$B$16,2,TRUE),O689,\" 82..40+\",VLOOKUP(16-(LEN(O689)),'1'!$A$1:$B$16,2,TRUE),P689,\" 71....+0000000000000000 \"))","v":""},null,""]
[null,{"$f":"IF(I690=\"\",\"\",ROWS($A$3:A690))","v":""},"","","","","","","","",{"$f":"IFERROR(SMALL($B$3:$B$2002,ROWS($A$3:A690)),\"\")","v":""},"","",null,"","","",{"$f":"IF(O690=\"\",\"\",CONCATENATE(\"*11....+\",VLOOKUP(16-(LEN(N690)),'1'!$A$1:$B$16,2,TRUE),N690,\" 81..40+\",VLOOKUP(16-(LEN(O690)),'1'!$A$1:$B$16,2,TRUE),O690,\" 82..40+\",VLOOKUP(16-(LEN(O690)),'1'!$A$1:$B$16,2,TRUE),P690,\" 71....+0000000000000000 \"))","v":""},null,""]
[null,{"$f":"IF(I691=\"\",\"\",ROWS($A$3:A691))","v":""},"","","","","","","","",{"$f":"IFERROR(SMALL($B$3:$B$2002,ROWS($A$3:A691)),\"\")","v":""},"","",null,"","","",{"$f":"IF(O691=\"\",\"\",CONCATENATE(\"*11....+\",VLOOKUP(16-(LEN(N691)),'1'!$A$1:$B$16,2,TRUE),N691,\" 81..40+\",VLOOKUP(16-(LEN(O691)),'1'!$A$1:$B$16,2,TRUE),O691,\" 82..40+\",VLOOKUP(16-(LEN(O691)),'1'!$A$1:$B$16,2,TRUE),P691,\" 71....+0000000000000000 \"))","v":""},null,""]
[null,{"$f":"IF(I692=\"\",\"\",ROWS($A$3:A692))","v":""},"","","","","","","","",{"$f":"IFERROR(SMALL($B$3:$B$2002,ROWS($A$3:A692)),\"\")","v":""},"","",null,"","","",{"$f":"IF(O692=\"\",\"\",CONCATENATE(\"*11....+\",VLOOKUP(16-(LEN(N692)),'1'!$A$1:$B$16,2,TRUE),N692,\" 81..40+\",VLOOKUP(16-(LEN(O692)),'1'!$A$1:$B$16,2,TRUE),O692,\" 82..40+\",VLOOKUP(16-(LEN(O692)),'1'!$A$1:$B$16,2,TRUE),P692,\" 71....+0000000000000000 \"))","v":""},null,""]
[null,{"$f":"IF(I693=\"\",\"\",ROWS($A$3:A693))","v":""},"","","","","","","","",{"$f":"IFERROR(SMALL($B$3:$B$2002,ROWS($A$3:A693)),\"\")","v":""},"","",null,"","","",{"$f":"IF(O693=\"\",\"\",CONCATENATE(\"*11....+\",VLOOKUP(16-(LEN(N693)),'1'!$A$1:$B$16,2,TRUE),N693,\" 81..40+\",VLOOKUP(16-(LEN(O693)),'1'!$A$1:$B$16,2,TRUE),O693,\" 82..40+\",VLOOKUP(16-(LEN(O693)),'1'!$A$1:$B$16,2,TRUE),P693,\" 71....+0000000000000000 \"))","v":""},null,""]
[null,{"$f":"IF(I694=\"\",\"\",ROWS($A$3:A694))","v":""},"","","","","","","","",{"$f":"IFERROR(SMALL($B$3:$B$2002,ROWS($A$3:A694)),\"\")","v":""},"","",null,"","","",{"$f":"IF(O694=\"\",\"\",CONCATENATE(\"*11....+\",VLOOKUP(16-(LEN(N694)),'1'!$A$1:$B$16,2,TRUE),N694,\" 81..40+\",VLOOKUP(16-(LEN(O694)),'1'!$A$1:$B$16,2,TRUE),O694,\" 82..40+\",VLOOKUP(16-(LEN(O694)),'1'!$A$1:$B$16,2,TRUE),P694,\" 71....+0000000000000000 \"))","v":""},null,""]
[null,{"$f":"IF(I695=\"\",\"\",ROWS($A$3:A695))","v":""},"","","","","","","","",{"$f":"IFERROR(SMALL($B$3:$B$2002,ROWS($A$3:A695)),\"\")","v":""},"","",null,"","","",{"$f":"IF(O695=\"\",\"\",CONCATENATE(\"*11....+\",VLOOKUP(16-(LEN(N695)),'1'!$A$1:$B$16,2,TRUE),N695,\" 81..40+\",VLOOKUP(16-(LEN(O695)),'1'!$A$1:$B$16,2,TRUE),O695,\" 82..40+\",VLOOKUP(16-(LEN(O695)),'1'!$A$1:$B$16,2,TRUE),P695,\" 71....+0000000000000000 \"))","v":""},null,""]
[null,{"$f":"IF(I696=\"\",\"\",ROWS($A$3:A696))","v":""},"","","","","","","","",{"$f":"IFERROR(SMALL($B$3:$B$2002,ROWS($A$3:A696)),\"\")","v":""},"","",null,"","","",{"$f":"IF(O696=\"\",\"\",CONCATENATE(\"*11....+\",VLOOKUP(16-(LEN(N696)),'1'!$A$1:$B$16,2,TRUE),N696,\" 81..40+\",VLOOKUP(16-(LEN(O696)),'1'!$A$1:$B$16,2,TRUE),O696,\" 82..40+\",VLOOKUP(16-(LEN(O696)),'1'!$A$1:$B$16,2,TRUE),P696,\" 71....+0000000000000000 \"))","v":""},null,""]
[null,{"$f":"IF(I697=\"\",\"\",ROWS($A$3:A697))","v":""},"","","","","","","","",{"$f":"IFERROR(SMALL($B$3:$B$2002,ROWS($A$3:A697)),\"\")","v":""},"","",null,"","","",{"$f":"IF(O697=\"\",\"\",CONCATENATE(\"*11....+\",VLOOKUP(16-(LEN(N697)),'1'!$A$1:$B$16,2,TRUE),N697,\" 81..40+\",VLOOKUP(16-(LEN(O697)),'1'!$A$1:$B$16,2,TRUE),O697,\" 82..40+\",VLOOKUP(16-(LEN(O697)),'1'!$A$1:$B$16,2,TRUE),P697,\" 71....+0000000000000000 \"))","v":""},null,""]
[null,{"$f":"IF(I698=\"\",\"\",ROWS($A$3:A698))","v":""},"","","","","","","","",{"$f":"IFERROR(SMALL($B$3:$B$2002,ROWS($A$3:A698)),\"\")","v":""},"","",null,"","","",{"$f":"IF(O698=\"\",\"\",CONCATENATE(\"*11....+\",VLOOKUP(16-(LEN(N698)),'1'!$A$1:$B$16,2,TRUE),N698,\" 81..40+\",VLOOKUP(16-(LEN(O698)),'1'!$A$1:$B$16,2,TRUE),O698,\" 82..40+\",VLOOKUP(16-(LEN(O698)),'1'!$A$1:$B$16,2,TRUE),P698,\" 71....+0000000000000000 \"))","v":""},null,""]
[null,{"$f":"IF(I699=\"\",\"\",ROWS($A$3:A699))","v":""},"","","","","","","","",{"$f":"IFERROR(SMALL($B$3:$B$2002,ROWS($A$3:A699)),\"\")","v":""},"","",null,"","","",{"$f":"IF(O699=\"\",\"\",CONCATENATE(\"*11....+\",VLOOKUP(16-(LEN(N699)),'1'!$A$1:$B$16,2,TRUE),N699,\" 81..40+\",VLOOKUP(16-(LEN(O699)),'1'!$A$1:$B$16,2,TRUE),O699,\" 82..40+\",VLOOKUP(16-(LEN(O699)),'1'!$A$1:$B$16,2,TRUE),P699,\" 71....+0000000000000000 \"))","v":""},null,""]
[null,{"$f":"IF(I700=\"\",\"\",ROWS($A$3:A700))","v":""},"","","","","","","","",{"$f":"IFERROR(SMALL($B$3:$B$2002,ROWS($A$3:A700)),\"\")","v":""},"","",null,"","","",{"$f":"IF(O700=\"\",\"\",CONCATENATE(\"*11....+\",VLOOKUP(16-(LEN(N700)),'1'!$A$1:$B$16,2,TRUE),N700,\" 81..40+\",VLOOKUP(16-(LEN(O700)),'1'!$A$1:$B$16,2,TRUE),O700,\" 82..40+\",VLOOKUP(16-(LEN(O700)),'1'!$A$1:$B$16,2,TRUE),P700,\" 71....+0000000000000000 \"))","v":""},null,""]
[null,{"$f":"IF(I701=\"\",\"\",ROWS($A$3:A701))","v":""},"","","","","","","","",{"$f":"IFERROR(SMALL($B$3:$B$2002,ROWS($A$3:A701)),\"\")","v":""},"","",null,"","","",{"$f":"IF(O701=\"\",\"\",CONCATENATE(\"*11....+\",VLOOKUP(16-(LEN(N701)),'1'!$A$1:$B$16,2,TRUE),N701,\" 81..40+\",VLOOKUP(16-(LEN(O701)),'1'!$A$1:$B$16,2,TRUE),O701,\" 82..40+\",VLOOKUP(16-(LEN(O701)),'1'!$A$1:$B$16,2,TRUE),P701,\" 71....+0000000000000000 \"))","v":""},null,""]
[null,{"$f":"IF(I702=\"\",\"\",ROWS($A$3:A702))","v":""},"","","","","","","","",{"$f":"IFERROR(SMALL($B$3:$B$2002,ROWS($A$3:A702)),\"\")","v":""},"","",null,"","","",{"$f":"IF(O702=\"\",\"\",CONCATENATE(\"*11....+\",VLOOKUP(16-(LEN(N702)),'1'!$A$1:$B$16,2,TRUE),N702,\" 81..40+\",VLOOKUP(16-(LEN(O702)),'1'!$A$1:$B$16,2,TRUE),O702,\" 82..40+\",VLOOKUP(16-(LEN(O702)),'1'!$A$1:$B$16,2,TRUE),P702,\" 71....+0000000000000000 \"))","v":""},null,""]
[null,{"$f":"IF(I703=\"\",\"\",ROWS($A$3:A703))","v":""},"","","","","","","","",{"$f":"IFERROR(SMALL($B$3:$B$2002,ROWS($A$3:A703)),\"\")","v":""},"","",null,"","","",{"$f":"IF(O703=\"\",\"\",CONCATENATE(\"*11....+\",VLOOKUP(16-(LEN(N703)),'1'!$A$1:$B$16,2,TRUE),N703,\" 81..40+\",VLOOKUP(16-(LEN(O703)),'1'!$A$1:$B$16,2,TRUE),O703,\" 82..40+\",VLOOKUP(16-(LEN(O703)),'1'!$A$1:$B$16,2,TRUE),P703,\" 71....+0000000000000000 \"))","v":""},null,""]
[null,{"$f":"IF(I704=\"\",\"\",ROWS($A$3:A704))","v":""},"","","","","","","","",{"$f":"IFERROR(SMALL($B$3:$B$2002,ROWS($A$3:A704)),\"\")","v":""},"","",null,"","","",{"$f":"IF(O704=\"\",\"\",CONCATENATE(\"*11....+\",VLOOKUP(16-(LEN(N704)),'1'!$A$1:$B$16,2,TRUE),N704,\" 81..40+\",VLOOKUP(16-(LEN(O704)),'1'!$A$1:$B$16,2,TRUE),O704,\" 82..40+\",VLOOKUP(16-(LEN(O704)),'1'!$A$1:$B$16,2,TRUE),P704,\" 71....+0000000000000000 \"))","v":""},null,""]
[null,{"$f":"IF(I705=\"\",\"\",ROWS($A$3:A705))","v":""},"","","","","","","","",{"$f":"IFERROR(SMALL($B$3:$B$2002,ROWS($A$3:A705)),\"\")","v":""},"","",null,"","","",{"$f":"IF(O705=\"\",\"\",CONCATENATE(\"*11....+\",VLOOKUP(16-(LEN(N705)),'1'!$A$1:$B$16,2,TRUE),N705,\" 81..40+\",VLOOKUP(16-(LEN(O705)),'1'!$A$1:$B$16,2,TRUE),O705,\" 82..40+\",VLOOKUP(16-(LEN(O705)),'1'!$A$1:$B$16,2,TRUE),P705,\" 71....+0000000000000000 \"))","v":""},null,""]
[null,{"$f":"IF(I706=\"\",\"\",ROWS($A$3:A706))","v":""},"","","","","","","","",{"$f":"IFERROR(SMALL($B$3:$B$2002,ROWS($A$3:A706)),\"\")","v":""},"","",null,"","","",{"$f":"IF(O706=\"\",\"\",CONCATENATE(\"*11....+\",VLOOKUP(16-(LEN(N706)),'1'!$A$1:$B$16,2,TRUE),N706,\" 81..40+\",VLOOKUP(16-(LEN(O706)),'1'!$A$1:$B$16,2,TRUE),O706,\" 82..40+\",VLOOKUP(16-(LEN(O706)),'1'!$A$1:$B$16,2,TRUE),P706,\" 71....+0000000000000000 \"))","v":""},null,""]
[null,{"$f":"IF(I707=\"\",\"\",ROWS($A$3:A707))","v":""},"","","","","","","","",{"$f":"IFERROR(SMALL($B$3:$B$2002,ROWS($A$3:A707)),\"\")","v":""},"","",null,"","","",{"$f":"IF(O707=\"\",\"\",CONCATENATE(\"*11....+\",VLOOKUP(16-(LEN(N707)),'1'!$A$1:$B$16,2,TRUE),N707,\" 81..40+\",VLOOKUP(16-(LEN(O707)),'1'!$A$1:$B$16,2,TRUE),O707,\" 82..40+\",VLOOKUP(16-(LEN(O707)),'1'!$A$1:$B$16,2,TRUE),P707,\" 71....+0000000000000000 \"))","v":""},null,""]
[null,{"$f":"IF(I708=\"\",\"\",ROWS($A$3:A708))","v":""},{"$f":"IF(LEN(A708)=59,ROUND(VALUE(MID(A708,23,9)),3),\"\")","v":""},{"$f":"IF(LEN(A708)=24,\"\",\"\")","v":""},{"$f":"IF(LEN(A708)=63,ROUND(VALUE(MID(A708,23,12)),3),\"\")","v":""},{"$f":"IF(LEN(A708)=59,ROUND(VALUE(MID(A708,37,9)),3),\"\")","v":""},{"$f":"IF(LEN(A708)=24,\"\",\"\")","v":""},{"$f":"IF(LEN(A708)=63,ROUND(VALUE(MID(A708,39,12)),3),\"\")","v":""},{"$f":"IF(AND(C708=\"\",D708=\"\",E708=\"\"),\"\",ROUND(CONCATENATE(C708,D708,E708),3))","v":""},{"$f":"IF(AND(C708=\"\",D708=\"\",E708=\"\"),\"\",ROUND(CONCATENATE(F708,G708,H708),3))","v":""},{"$f":"IFERROR(SMALL($B$3:$B$2002,ROWS($A$3:A708)),\"\")","v":""},{"$f":"IF(K708=\"\",\"\",ROUND(VALUE(VLOOKUP(K708,$B$3:$J$2002,8,TRUE)),3))","v":""},{"$f":"IF(K708=\"\",\"\",ROUND(VALUE(VLOOKUP(K708,$B$3:$J$2002,9,TRUE)),3))","v":""},null,{"$f":"IF(L708=\"\",\"\",L708/0.001)","v":""},"",{"$f":"IF(O708=\"\",\"\",16-LEN(N708))","v":""},{"$f":"IF(O708=\"\",\"\",CONCATENATE(\"*11....+\",VLOOKUP(16-(LEN(N708)),'1'!$A$1:$B$16,2,TRUE),N708,\" 81..40+\",VLOOKUP(16-(LEN(O708)),'1'!$A$1:$B$16,2,TRUE),O708,\" 82..40+\",VLOOKUP(16-(LEN(O708)),'1'!$A$1:$B$16,2,TRUE),P708,\" 71....+0000000000000000 \"))","v":""},null,{"$f":"IF(O708=\"\",\"\",CONCATENATE(N708,\",\",L708,\",\",M708))","v":""}]
[null,{"$f":"IF(I709=\"\",\"\",ROWS($A$3:A709))","v":""},"","","","","","","","",{"$f":"IFERROR(SMALL($B$3:$B$2002,ROWS($A$3:A709)),\"\")","v":""},"","",null,"","","",{"$f":"IF(O709=\"\",\"\",CONCATENATE(\"*11....+\",VLOOKUP(16-(LEN(N709)),'1'!$A$1:$B$16,2,TRUE),N709,\" 81..40+\",VLOOKUP(16-(LEN(O709)),'1'!$A$1:$B$16,2,TRUE),O709,\" 82..40+\",VLOOKUP(16-(LEN(O709)),'1'!$A$1:$B$16,2,TRUE),P709,\" 71....+0000000000000000 \"))","v":""},null,""]
[null,{"$f":"IF(I710=\"\",\"\",ROWS($A$3:A710))","v":""},"","","","","","","","",{"$f":"IFERROR(SMALL($B$3:$B$2002,ROWS($A$3:A710)),\"\")","v":""},"","",null,"","","",{"$f":"IF(O710=\"\",\"\",CONCATENATE(\"*11....+\",VLOOKUP(16-(LEN(N710)),'1'!$A$1:$B$16,2,TRUE),N710,\" 81..40+\",VLOOKUP(16-(LEN(O710)),'1'!$A$1:$B$16,2,TRUE),O710,\" 82..40+\",VLOOKUP(16-(LEN(O710)),'1'!$A$1:$B$16,2,TRUE),P710,\" 71....+0000000000000000 \"))","v":""},null,""]
[null,{"$f":"IF(I711=\"\",\"\",ROWS($A$3:A711))","v":""},"","","","","","","","",{"$f":"IFERROR(SMALL($B$3:$B$2002,ROWS($A$3:A711)),\"\")","v":""},"","",null,"","","",{"$f":"IF(O711=\"\",\"\",CONCATENATE(\"*11....+\",VLOOKUP(16-(LEN(N711)),'1'!$A$1:$B$16,2,TRUE),N711,\" 81..40+\",VLOOKUP(16-(LEN(O711)),'1'!$A$1:$B$16,2,TRUE),O711,\" 82..40+\",VLOOKUP(16-(LEN(O711)),'1'!$A$1:$B$16,2,TRUE),P711,\" 71....+0000000000000000 \"))","v":""},null,""]
[null,{"$f":"IF(I712=\"\",\"\",ROWS($A$3:A712))","v":""},"","","","","","","","",{"$f":"IFERROR(SMALL($B$3:$B$2002,ROWS($A$3:A712)),\"\")","v":""},"","",null,"","","",{"$f":"IF(O712=\"\",\"\",CONCATENATE(\"*11....+\",VLOOKUP(16-(LEN(N712)),'1'!$A$1:$B$16,2,TRUE),N712,\" 81..40+\",VLOOKUP(16-(LEN(O712)),'1'!$A$1:$B$16,2,TRUE),O712,\" 82..40+\",VLOOKUP(16-(LEN(O712)),'1'!$A$1:$B$16,2,TRUE),P712,\" 71....+0000000000000000 \"))","v":""},null,""]
[null,{"$f":"IF(I713=\"\",\"\",ROWS($A$3:A713))","v":""},"","","","","","","","",{"$f":"IFERROR(SMALL($B$3:$B$2002,ROWS($A$3:A713)),\"\")","v":""},"","",null,"","","",{"$f":"IF(O713=\"\",\"\",CONCATENATE(\"*11....+\",VLOOKUP(16-(LEN(N713)),'1'!$A$1:$B$16,2,TRUE),N713,\" 81..40+\",VLOOKUP(16-(LEN(O713)),'1'!$A$1:$B$16,2,TRUE),O713,\" 82..40+\",VLOOKUP(16-(LEN(O713)),'1'!$A$1:$B$16,2,TRUE),P713,\" 71....+0000000000000000 \"))","v":""},null,""]
[null,{"$f":"IF(I714=\"\",\"\",ROWS($A$3:A714))","v":""},"","","","","","","","",{"$f":"IFERROR(SMALL($B$3:$B$2002,ROWS($A$3:A714)),\"\")","v":""},"","",null,"","","",{"$f":"IF(O714=\"\",\"\",CONCATENATE(\"*11....+\",VLOOKUP(16-(LEN(N714)),'1'!$A$1:$B$16,2,TRUE),N714,\" 81..40+\",VLOOKUP(16-(LEN(O714)),'1'!$A$1:$B$16,2,TRUE),O714,\" 82..40+\",VLOOKUP(16-(LEN(O714)),'1'!$A$1:$B$16,2,TRUE),P714,\" 71....+0000000000000000 \"))","v":""},null,""]
[null,{"$f":"IF(I715=\"\",\"\",ROWS($A$3:A715))","v":""},"","","","","","","","",{"$f":"IFERROR(SMALL($B$3:$B$2002,ROWS($A$3:A715)),\"\")","v":""},"","",null,"","","",{"$f":"IF(O715=\"\",\"\",CONCATENATE(\"*11....+\",VLOOKUP(16-(LEN(N715)),'1'!$A$1:$B$16,2,TRUE),N715,\" 81..40+\",VLOOKUP(16-(LEN(O715)),'1'!$A$1:$B$16,2,TRUE),O715,\" 82..40+\",VLOOKUP(16-(LEN(O715)),'1'!$A$1:$B$16,2,TRUE),P715,\" 71....+0000000000000000 \"))","v":""},null,""]
[null,{"$f":"IF(I716=\"\",\"\",ROWS($A$3:A716))","v":""},"","","","","","","","",{"$f":"IFERROR(SMALL($B$3:$B$2002,ROWS($A$3:A716)),\"\")","v":""},"","",null,"","","",{"$f":"IF(O716=\"\",\"\",CONCATENATE(\"*11....+\",VLOOKUP(16-(LEN(N716)),'1'!$A$1:$B$16,2,TRUE),N716,\" 81..40+\",VLOOKUP(16-(LEN(O716)),'1'!$A$1:$B$16,2,TRUE),O716,\" 82..40+\",VLOOKUP(16-(LEN(O716)),'1'!$A$1:$B$16,2,TRUE),P716,\" 71....+0000000000000000 \"))","v":""},null,""]
[null,{"$f":"IF(I717=\"\",\"\",ROWS($A$3:A717))","v":""},"","","","","","","","",{"$f":"IFERROR(SMALL($B$3:$B$2002,ROWS($A$3:A717)),\"\")","v":""},"","",null,"","","",{"$f":"IF(O717=\"\",\"\",CONCATENATE(\"*11....+\",VLOOKUP(16-(LEN(N717)),'1'!$A$1:$B$16,2,TRUE),N717,\" 81..40+\",VLOOKUP(16-(LEN(O717)),'1'!$A$1:$B$16,2,TRUE),O717,\" 82..40+\",VLOOKUP(16-(LEN(O717)),'1'!$A$1:$B$16,2,TRUE),P717,\" 71....+0000000000000000 \"))","v":""},null,""]
[null,{"$f":"IF(I718=\"\",\"\",ROWS($A$3:A718))","v":""},"","","","","","","","",{"$f":"IFERROR(SMALL($B$3:$B$2002,ROWS($A$3:A718)),\"\")","v":""},"","",null,"","","",{"$f":"IF(O718=\"\",\"\",CONCATENATE(\"*11....+\",VLOOKUP(16-(LEN(N718)),'1'!$A$1:$B$16,2,TRUE),N718,\" 81..40+\",VLOOKUP(16-(LEN(O718)),'1'!$A$1:$B$16,2,TRUE),O718,\" 82..40+\",VLOOKUP(16-(LEN(O718)),'1'!$A$1:$B$16,2,TRUE),P718,\" 71....+0000000000000000 \"))","v":""},null,""]
[null,{"$f":"IF(I719=\"\",\"\",ROWS($A$3:A719))","v":""},"","","","","","","","",{"$f":"IFERROR(SMALL($B$3:$B$2002,ROWS($A$3:A719)),\"\")","v":""},"","",null,"","","",{"$f":"IF(O719=\"\",\"\",CONCATENATE(\"*11....+\",VLOOKUP(16-(LEN(N719)),'1'!$A$1:$B$16,2,TRUE),N719,\" 81..40+\",VLOOKUP(16-(LEN(O719)),'1'!$A$1:$B$16,2,TRUE),O719,\" 82..40+\",VLOOKUP(16-(LEN(O719)),'1'!$A$1:$B$16,2,TRUE),P719,\" 71....+0000000000000000 \"))","v":""},null,""]
[null,{"$f":"IF(I720=\"\",\"\",ROWS($A$3:A720))","v":""},"","","","","","","","",{"$f":"IFERROR(SMALL($B$3:$B$2002,ROWS($A$3:A720)),\"\")","v":""},"","",null,"","","",{"$f":"IF(O720=\"\",\"\",CONCATENATE(\"*11....+\",VLOOKUP(16-(LEN(N720)),'1'!$A$1:$B$16,2,TRUE),N720,\" 81..40+\",VLOOKUP(16-(LEN(O720)),'1'!$A$1:$B$16,2,TRUE),O720,\" 82..40+\",VLOOKUP(16-(LEN(O720)),'1'!$A$1:$B$16,2,TRUE),P720,\" 71....+0000000000000000 \"))","v":""},null,""]
[null,{"$f":"IF(I721=\"\",\"\",ROWS($A$3:A721))","v":""},"","","","","","","","",{"$f":"IFERROR(SMALL($B$3:$B$2002,ROWS($A$3:A721)),\"\")","v":""},"","",null,"","","",{"$f":"IF(O721=\"\",\"\",CONCATENATE(\"*11....+\",VLOOKUP(16-(LEN(N721)),'1'!$A$1:$B$16,2,TRUE),N721,\" 81..40+\",VLOOKUP(16-(LEN(O721)),'1'!$A$1:$B$16,2,TRUE),O721,\" 82..40+\",VLOOKUP(16-(LEN(O721)),'1'!$A$1:$B$16,2,TRUE),P721,\" 71....+0000000000000000 \"))","v":""},null,""]
[null,{"$f":"IF(I722=\"\",\"\",ROWS($A$3:A722))","v":""},"","","","","","","","",{"$f":"IFERROR(SMALL($B$3:$B$2002,ROWS($A$3:A722)),\"\")","v":""},"","",null,"","","",{"$f":"IF(O722=\"\",\"\",CONCATENATE(\"*11....+\",VLOOKUP(16-(LEN(N722)),'1'!$A$1:$B$16,2,TRUE),N722,\" 81..40+\",VLOOKUP(16-(LEN(O722)),'1'!$A$1:$B$16,2,TRUE),O722,\" 82..40+\",VLOOKUP(16-(LEN(O722)),'1'!$A$1:$B$16,2,TRUE),P722,\" 71....+0000000000000000 \"))","v":""},null,""]
[null,{"$f":"IF(I723=\"\",\"\",ROWS($A$3:A723))","v":""},"","","","","","","","",{"$f":"IFERROR(SMALL($B$3:$B$2002,ROWS($A$3:A723)),\"\")","v":""},"","",null,"","","",{"$f":"IF(O723=\"\",\"\",CONCATENATE(\"*11....+\",VLOOKUP(16-(LEN(N723)),'1'!$A$1:$B$16,2,TRUE),N723,\" 81..40+\",VLOOKUP(16-(LEN(O723)),'1'!$A$1:$B$16,2,TRUE),O723,\" 82..40+\",VLOOKUP(16-(LEN(O723)),'1'!$A$1:$B$16,2,TRUE),P723,\" 71....+0000000000000000 \"))","v":""},null,""]
[null,{"$f":"IF(I724=\"\",\"\",ROWS($A$3:A724))","v":""},"","","","","","","","",{"$f":"IFERROR(SMALL($B$3:$B$2002,ROWS($A$3:A724)),\"\")","v":""},"","",null,"","","",{"$f":"IF(O724=\"\",\"\",CONCATENATE(\"*11....+\",VLOOKUP(16-(LEN(N724)),'1'!$A$1:$B$16,2,TRUE),N724,\" 81..40+\",VLOOKUP(16-(LEN(O724)),'1'!$A$1:$B$16,2,TRUE),O724,\" 82..40+\",VLOOKUP(16-(LEN(O724)),'1'!$A$1:$B$16,2,TRUE),P724,\" 71....+0000000000000000 \"))","v":""},null,""]
[null,{"$f":"IF(I725=\"\",\"\",ROWS($A$3:A725))","v":""},"","","","","","","","",{"$f":"IFERROR(SMALL($B$3:$B$2002,ROWS($A$3:A725)),\"\")","v":""},"","",null,"","","",{"$f":"IF(O725=\"\",\"\",CONCATENATE(\"*11....+\",VLOOKUP(16-(LEN(N725)),'1'!$A$1:$B$16,2,TRUE),N725,\" 81..40+\",VLOOKUP(16-(LEN(O725)),'1'!$A$1:$B$16,2,TRUE),O725,\" 82..40+\",VLOOKUP(16-(LEN(O725)),'1'!$A$1:$B$16,2,TRUE),P725,\" 71....+0000000000000000 \"))","v":""},null,""]
[null,{"$f":"IF(I726=\"\",\"\",ROWS($A$3:A726))","v":""},"","","","","","","","",{"$f":"IFERROR(SMALL($B$3:$B$2002,ROWS($A$3:A726)),\"\")","v":""},"","",null,"","","",{"$f":"IF(O726=\"\",\"\",CONCATENATE(\"*11....+\",VLOOKUP(16-(LEN(N726)),'1'!$A$1:$B$16,2,TRUE),N726,\" 81..40+\",VLOOKUP(16-(LEN(O726)),'1'!$A$1:$B$16,2,TRUE),O726,\" 82..40+\",VLOOKUP(16-(LEN(O726)),'1'!$A$1:$B$16,2,TRUE),P726,\" 71....+0000000000000000 \"))","v":""},null,""]
[null,{"$f":"IF(I727=\"\",\"\",ROWS($A$3:A727))","v":""},"","","","","","","","",{"$f":"IFERROR(SMALL($B$3:$B$2002,ROWS($A$3:A727)),\"\")","v":""},"","",null,"","","",{"$f":"IF(O727=\"\",\"\",CONCATENATE(\"*11....+\",VLOOKUP(16-(LEN(N727)),'1'!$A$1:$B$16,2,TRUE),N727,\" 81..40+\",VLOOKUP(16-(LEN(O727)),'1'!$A$1:$B$16,2,TRUE),O727,\" 82..40+\",VLOOKUP(16-(LEN(O727)),'1'!$A$1:$B$16,2,TRUE),P727,\" 71....+0000000000000000 \"))","v":""},null,""]
[null,{"$f":"IF(I728=\"\",\"\",ROWS($A$3:A728))","v":""},"","","","","","","","",{"$f":"IFERROR(SMALL($B$3:$B$2002,ROWS($A$3:A728)),\"\")","v":""},"","",null,"","","",{"$f":"IF(O728=\"\",\"\",CONCATENATE(\"*11....+\",VLOOKUP(16-(LEN(N728)),'1'!$A$1:$B$16,2,TRUE),N728,\" 81..40+\",VLOOKUP(16-(LEN(O728)),'1'!$A$1:$B$16,2,TRUE),O728,\" 82..40+\",VLOOKUP(16-(LEN(O728)),'1'!$A$1:$B$16,2,TRUE),P728,\" 71....+0000000000000000 \"))","v":""},null,""]
[null,{"$f":"IF(I729=\"\",\"\",ROWS($A$3:A729))","v":""},"","","","","","","","",{"$f":"IFERROR(SMALL($B$3:$B$2002,ROWS($A$3:A729)),\"\")","v":""},"","",null,"","","",{"$f":"IF(O729=\"\",\"\",CONCATENATE(\"*11....+\",VLOOKUP(16-(LEN(N729)),'1'!$A$1:$B$16,2,TRUE),N729,\" 81..40+\",VLOOKUP(16-(LEN(O729)),'1'!$A$1:$B$16,2,TRUE),O729,\" 82..40+\",VLOOKUP(16-(LEN(O729)),'1'!$A$1:$B$16,2,TRUE),P729,\" 71....+0000000000000000 \"))","v":""},null,""]
[null,{"$f":"IF(I730=\"\",\"\",ROWS($A$3:A730))","v":""},"","","","","","","","",{"$f":"IFERROR(SMALL($B$3:$B$2002,ROWS($A$3:A730)),\"\")","v":""},"","",null,"","","",{"$f":"IF(O730=\"\",\"\",CONCATENATE(\"*11....+\",VLOOKUP(16-(LEN(N730)),'1'!$A$1:$B$16,2,TRUE),N730,\" 81..40+\",VLOOKUP(16-(LEN(O730)),'1'!$A$1:$B$16,2,TRUE),O730,\" 82..40+\",VLOOKUP(16-(LEN(O730)),'1'!$A$1:$B$16,2,TRUE),P730,\" 71....+0000000000000000 \"))","v":""},null,""]
[null,{"$f":"IF(I731=\"\",\"\",ROWS($A$3:A731))","v":""},"","","","","","","","",{"$f":"IFERROR(SMALL($B$3:$B$2002,ROWS($A$3:A731)),\"\")","v":""},"","",null,"","","",{"$f":"IF(O731=\"\",\"\",CONCATENATE(\"*11....+\",VLOOKUP(16-(LEN(N731)),'1'!$A$1:$B$16,2,TRUE),N731,\" 81..40+\",VLOOKUP(16-(LEN(O731)),'1'!$A$1:$B$16,2,TRUE),O731,\" 82..40+\",VLOOKUP(16-(LEN(O731)),'1'!$A$1:$B$16,2,TRUE),P731,\" 71....+0000000000000000 \"))","v":""},null,""]
[null,{"$f":"IF(I732=\"\",\"\",ROWS($A$3:A732))","v":""},"","","","","","","","",{"$f":"IFERROR(SMALL($B$3:$B$2002,ROWS($A$3:A732)),\"\")","v":""},"","",null,"","","",{"$f":"IF(O732=\"\",\"\",CONCATENATE(\"*11....+\",VLOOKUP(16-(LEN(N732)),'1'!$A$1:$B$16,2,TRUE),N732,\" 81..40+\",VLOOKUP(16-(LEN(O732)),'1'!$A$1:$B$16,2,TRUE),O732,\" 82..40+\",VLOOKUP(16-(LEN(O732)),'1'!$A$1:$B$16,2,TRUE),P732,\" 71....+0000000000000000 \"))","v":""},null,""]
[null,{"$f":"IF(I733=\"\",\"\",ROWS($A$3:A733))","v":""},"","","","","","","","",{"$f":"IFERROR(SMALL($B$3:$B$2002,ROWS($A$3:A733)),\"\")","v":""},"","",null,"","","",{"$f":"IF(O733=\"\",\"\",CONCATENATE(\"*11....+\",VLOOKUP(16-(LEN(N733)),'1'!$A$1:$B$16,2,TRUE),N733,\" 81..40+\",VLOOKUP(16-(LEN(O733)),'1'!$A$1:$B$16,2,TRUE),O733,\" 82..40+\",VLOOKUP(16-(LEN(O733)),'1'!$A$1:$B$16,2,TRUE),P733,\" 71....+0000000000000000 \"))","v":""},null,""]
[null,{"$f":"IF(I734=\"\",\"\",ROWS($A$3:A734))","v":""},"","","","","","","","",{"$f":"IFERROR(SMALL($B$3:$B$2002,ROWS($A$3:A734)),\"\")","v":""},"","",null,"","","",{"$f":"IF(O734=\"\",\"\",CONCATENATE(\"*11....+\",VLOOKUP(16-(LEN(N734)),'1'!$A$1:$B$16,2,TRUE),N734,\" 81..40+\",VLOOKUP(16-(LEN(O734)),'1'!$A$1:$B$16,2,TRUE),O734,\" 82..40+\",VLOOKUP(16-(LEN(O734)),'1'!$A$1:$B$16,2,TRUE),P734,\" 71....+0000000000000000 \"))","v":""},null,""]
[null,{"$f":"IF(I735=\"\",\"\",ROWS($A$3:A735))","v":""},"","","","","","","","",{"$f":"IFERROR(SMALL($B$3:$B$2002,ROWS($A$3:A735)),\"\")","v":""},"","",null,"","","",{"$f":"IF(O735=\"\",\"\",CONCATENATE(\"*11....+\",VLOOKUP(16-(LEN(N735)),'1'!$A$1:$B$16,2,TRUE),N735,\" 81..40+\",VLOOKUP(16-(LEN(O735)),'1'!$A$1:$B$16,2,TRUE),O735,\" 82..40+\",VLOOKUP(16-(LEN(O735)),'1'!$A$1:$B$16,2,TRUE),P735,\" 71....+0000000000000000 \"))","v":""},null,""]
[null,{"$f":"IF(I736=\"\",\"\",ROWS($A$3:A736))","v":""},"","","","","","","","",{"$f":"IFERROR(SMALL($B$3:$B$2002,ROWS($A$3:A736)),\"\")","v":""},"","",null,"","","",{"$f":"IF(O736=\"\",\"\",CONCATENATE(\"*11....+\",VLOOKUP(16-(LEN(N736)),'1'!$A$1:$B$16,2,TRUE),N736,\" 81..40+\",VLOOKUP(16-(LEN(O736)),'1'!$A$1:$B$16,2,TRUE),O736,\" 82..40+\",VLOOKUP(16-(LEN(O736)),'1'!$A$1:$B$16,2,TRUE),P736,\" 71....+0000000000000000 \"))","v":""},null,""]
[null,{"$f":"IF(I737=\"\",\"\",ROWS($A$3:A737))","v":""},"","","","","","","","",{"$f":"IFERROR(SMALL($B$3:$B$2002,ROWS($A$3:A737)),\"\")","v":""},"","",null,"","","",{"$f":"IF(O737=\"\",\"\",CONCATENATE(\"*11....+\",VLOOKUP(16-(LEN(N737)),'1'!$A$1:$B$16,2,TRUE),N737,\" 81..40+\",VLOOKUP(16-(LEN(O737)),'1'!$A$1:$B$16,2,TRUE),O737,\" 82..40+\",VLOOKUP(16-(LEN(O737)),'1'!$A$1:$B$16,2,TRUE),P737,\" 71....+0000000000000000 \"))","v":""},null,""]
[null,{"$f":"IF(I738=\"\",\"\",ROWS($A$3:A738))","v":""},"","","","","","","","",{"$f":"IFERROR(SMALL($B$3:$B$2002,ROWS($A$3:A738)),\"\")","v":""},"","",null,"","","",{"$f":"IF(O738=\"\",\"\",CONCATENATE(\"*11....+\",VLOOKUP(16-(LEN(N738)),'1'!$A$1:$B$16,2,TRUE),N738,\" 81..40+\",VLOOKUP(16-(LEN(O738)),'1'!$A$1:$B$16,2,TRUE),O738,\" 82..40+\",VLOOKUP(16-(LEN(O738)),'1'!$A$1:$B$16,2,TRUE),P738,\" 71....+0000000000000000 \"))","v":""},null,""]
[null,{"$f":"IF(I739=\"\",\"\",ROWS($A$3:A739))","v":""},"","","","","","","","",{"$f":"IFERROR(SMALL($B$3:$B$2002,ROWS($A$3:A739)),\"\")","v":""},"","",null,"","","",{"$f":"IF(O739=\"\",\"\",CONCATENATE(\"*11....+\",VLOOKUP(16-(LEN(N739)),'1'!$A$1:$B$16,2,TRUE),N739,\" 81..40+\",VLOOKUP(16-(LEN(O739)),'1'!$A$1:$B$16,2,TRUE),O739,\" 82..40+\",VLOOKUP(16-(LEN(O739)),'1'!$A$1:$B$16,2,TRUE),P739,\" 71....+0000000000000000 \"))","v":""},null,""]
[null,{"$f":"IF(I740=\"\",\"\",ROWS($A$3:A740))","v":""},"","","","","","","","",{"$f":"IFERROR(SMALL($B$3:$B$2002,ROWS($A$3:A740)),\"\")","v":""},"","",null,"","","",{"$f":"IF(O740=\"\",\"\",CONCATENATE(\"*11....+\",VLOOKUP(16-(LEN(N740)),'1'!$A$1:$B$16,2,TRUE),N740,\" 81..40+\",VLOOKUP(16-(LEN(O740)),'1'!$A$1:$B$16,2,TRUE),O740,\" 82..40+\",VLOOKUP(16-(LEN(O740)),'1'!$A$1:$B$16,2,TRUE),P740,\" 71....+0000000000000000 \"))","v":""},null,""]
[null,{"$f":"IF(I741=\"\",\"\",ROWS($A$3:A741))","v":""},"","","","","","","","",{"$f":"IFERROR(SMALL($B$3:$B$2002,ROWS($A$3:A741)),\"\")","v":""},"","",null,"","","",{"$f":"IF(O741=\"\",\"\",CONCATENATE(\"*11....+\",VLOOKUP(16-(LEN(N741)),'1'!$A$1:$B$16,2,TRUE),N741,\" 81..40+\",VLOOKUP(16-(LEN(O741)),'1'!$A$1:$B$16,2,TRUE),O741,\" 82..40+\",VLOOKUP(16-(LEN(O741)),'1'!$A$1:$B$16,2,TRUE),P741,\" 71....+0000000000000000 \"))","v":""},null,""]
[null,{"$f":"IF(I742=\"\",\"\",ROWS($A$3:A742))","v":""},"","","","","","","","",{"$f":"IFERROR(SMALL($B$3:$B$2002,ROWS($A$3:A742)),\"\")","v":""},"","",null,"","","",{"$f":"IF(O742=\"\",\"\",CONCATENATE(\"*11....+\",VLOOKUP(16-(LEN(N742)),'1'!$A$1:$B$16,2,TRUE),N742,\" 81..40+\",VLOOKUP(16-(LEN(O742)),'1'!$A$1:$B$16,2,TRUE),O742,\" 82..40+\",VLOOKUP(16-(LEN(O742)),'1'!$A$1:$B$16,2,TRUE),P742,\" 71....+0000000000000000 \"))","v":""},null,""]
[null,{"$f":"IF(I743=\"\",\"\",ROWS($A$3:A743))","v":""},"","","","","","","","",{"$f":"IFERROR(SMALL($B$3:$B$2002,ROWS($A$3:A743)),\"\")","v":""},"","",null,"","","",{"$f":"IF(O743=\"\",\"\",CONCATENATE(\"*11....+\",VLOOKUP(16-(LEN(N743)),'1'!$A$1:$B$16,2,TRUE),N743,\" 81..40+\",VLOOKUP(16-(LEN(O743)),'1'!$A$1:$B$16,2,TRUE),O743,\" 82..40+\",VLOOKUP(16-(LEN(O743)),'1'!$A$1:$B$16,2,TRUE),P743,\" 71....+0000000000000000 \"))","v":""},null,""]
[null,{"$f":"IF(I744=\"\",\"\",ROWS($A$3:A744))","v":""},"","","","","","","","",{"$f":"IFERROR(SMALL($B$3:$B$2002,ROWS($A$3:A744)),\"\")","v":""},"","",null,"","","",{"$f":"IF(O744=\"\",\"\",CONCATENATE(\"*11....+\",VLOOKUP(16-(LEN(N744)),'1'!$A$1:$B$16,2,TRUE),N744,\" 81..40+\",VLOOKUP(16-(LEN(O744)),'1'!$A$1:$B$16,2,TRUE),O744,\" 82..40+\",VLOOKUP(16-(LEN(O744)),'1'!$A$1:$B$16,2,TRUE),P744,\" 71....+0000000000000000 \"))","v":""},null,""]
[null,{"$f":"IF(I745=\"\",\"\",ROWS($A$3:A745))","v":""},"","","","","","","","",{"$f":"IFERROR(SMALL($B$3:$B$2002,ROWS($A$3:A745)),\"\")","v":""},"","",null,"","","",{"$f":"IF(O745=\"\",\"\",CONCATENATE(\"*11....+\",VLOOKUP(16-(LEN(N745)),'1'!$A$1:$B$16,2,TRUE),N745,\" 81..40+\",VLOOKUP(16-(LEN(O745)),'1'!$A$1:$B$16,2,TRUE),O745,\" 82..40+\",VLOOKUP(16-(LEN(O745)),'1'!$A$1:$B$16,2,TRUE),P745,\" 71....+0000000000000000 \"))","v":""},null,""]
[null,{"$f":"IF(I746=\"\",\"\",ROWS($A$3:A746))","v":""},"","","","","","","","",{"$f":"IFERROR(SMALL($B$3:$B$2002,ROWS($A$3:A746)),\"\")","v":""},"","",null,"","","",{"$f":"IF(O746=\"\",\"\",CONCATENATE(\"*11....+\",VLOOKUP(16-(LEN(N746)),'1'!$A$1:$B$16,2,TRUE),N746,\" 81..40+\",VLOOKUP(16-(LEN(O746)),'1'!$A$1:$B$16,2,TRUE),O746,\" 82..40+\",VLOOKUP(16-(LEN(O746)),'1'!$A$1:$B$16,2,TRUE),P746,\" 71....+0000000000000000 \"))","v":""},null,""]
[null,{"$f":"IF(I747=\"\",\"\",ROWS($A$3:A747))","v":""},"","","","","","","","",{"$f":"IFERROR(SMALL($B$3:$B$2002,ROWS($A$3:A747)),\"\")","v":""},"","",null,"","","",{"$f":"IF(O747=\"\",\"\",CONCATENATE(\"*11....+\",VLOOKUP(16-(LEN(N747)),'1'!$A$1:$B$16,2,TRUE),N747,\" 81..40+\",VLOOKUP(16-(LEN(O747)),'1'!$A$1:$B$16,2,TRUE),O747,\" 82..40+\",VLOOKUP(16-(LEN(O747)),'1'!$A$1:$B$16,2,TRUE),P747,\" 71....+0000000000000000 \"))","v":""},null,""]
[null,{"$f":"IF(I748=\"\",\"\",ROWS($A$3:A748))","v":""},"","","","","","","","",{"$f":"IFERROR(SMALL($B$3:$B$2002,ROWS($A$3:A748)),\"\")","v":""},"","",null,"","","",{"$f":"IF(O748=\"\",\"\",CONCATENATE(\"*11....+\",VLOOKUP(16-(LEN(N748)),'1'!$A$1:$B$16,2,TRUE),N748,\" 81..40+\",VLOOKUP(16-(LEN(O748)),'1'!$A$1:$B$16,2,TRUE),O748,\" 82..40+\",VLOOKUP(16-(LEN(O748)),'1'!$A$1:$B$16,2,TRUE),P748,\" 71....+0000000000000000 \"))","v":""},null,""]
[null,{"$f":"IF(I749=\"\",\"\",ROWS($A$3:A749))","v":""},"","","","","","","","",{"$f":"IFERROR(SMALL($B$3:$B$2002,ROWS($A$3:A749)),\"\")","v":""},"","",null,"","","",{"$f":"IF(O749=\"\",\"\",CONCATENATE(\"*11....+\",VLOOKUP(16-(LEN(N749)),'1'!$A$1:$B$16,2,TRUE),N749,\" 81..40+\",VLOOKUP(16-(LEN(O749)),'1'!$A$1:$B$16,2,TRUE),O749,\" 82..40+\",VLOOKUP(16-(LEN(O749)),'1'!$A$1:$B$16,2,TRUE),P749,\" 71....+0000000000000000 \"))","v":""},null,""]
[null,{"$f":"IF(I750=\"\",\"\",ROWS($A$3:A750))","v":""},"","","","","","","","",{"$f":"IFERROR(SMALL($B$3:$B$2002,ROWS($A$3:A750)),\"\")","v":""},"","",null,"","","",{"$f":"IF(O750=\"\",\"\",CONCATENATE(\"*11....+\",VLOOKUP(16-(LEN(N750)),'1'!$A$1:$B$16,2,TRUE),N750,\" 81..40+\",VLOOKUP(16-(LEN(O750)),'1'!$A$1:$B$16,2,TRUE),O750,\" 82..40+\",VLOOKUP(16-(LEN(O750)),'1'!$A$1:$B$16,2,TRUE),P750,\" 71....+0000000000000000 \"))","v":""},null,""]
[null,{"$f":"IF(I751=\"\",\"\",ROWS($A$3:A751))","v":""},"","","","","","","","",{"$f":"IFERROR(SMALL($B$3:$B$2002,ROWS($A$3:A751)),\"\")","v":""},"","",null,"","","",{"$f":"IF(O751=\"\",\"\",CONCATENATE(\"*11....+\",VLOOKUP(16-(LEN(N751)),'1'!$A$1:$B$16,2,TRUE),N751,\" 81..40+\",VLOOKUP(16-(LEN(O751)),'1'!$A$1:$B$16,2,TRUE),O751,\" 82..40+\",VLOOKUP(16-(LEN(O751)),'1'!$A$1:$B$16,2,TRUE),P751,\" 71....+0000000000000000 \"))","v":""},null,""]
[null,{"$f":"IF(I752=\"\",\"\",ROWS($A$3:A752))","v":""},"","","","","","","","",{"$f":"IFERROR(SMALL($B$3:$B$2002,ROWS($A$3:A752)),\"\")","v":""},"","",null,"","","",{"$f":"IF(O752=\"\",\"\",CONCATENATE(\"*11....+\",VLOOKUP(16-(LEN(N752)),'1'!$A$1:$B$16,2,TRUE),N752,\" 81..40+\",VLOOKUP(16-(LEN(O752)),'1'!$A$1:$B$16,2,TRUE),O752,\" 82..40+\",VLOOKUP(16-(LEN(O752)),'1'!$A$1:$B$16,2,TRUE),P752,\" 71....+0000000000000000 \"))","v":""},null,""]
[null,{"$f":"IF(I753=\"\",\"\",ROWS($A$3:A753))","v":""},"","","","","","","","",{"$f":"IFERROR(SMALL($B$3:$B$2002,ROWS($A$3:A753)),\"\")","v":""},"","",null,"","","",{"$f":"IF(O753=\"\",\"\",CONCATENATE(\"*11....+\",VLOOKUP(16-(LEN(N753)),'1'!$A$1:$B$16,2,TRUE),N753,\" 81..40+\",VLOOKUP(16-(LEN(O753)),'1'!$A$1:$B$16,2,TRUE),O753,\" 82..40+\",VLOOKUP(16-(LEN(O753)),'1'!$A$1:$B$16,2,TRUE),P753,\" 71....+0000000000000000 \"))","v":""},null,""]
[null,{"$f":"IF(I754=\"\",\"\",ROWS($A$3:A754))","v":""},"","","","","","","","",{"$f":"IFERROR(SMALL($B$3:$B$2002,ROWS($A$3:A754)),\"\")","v":""},"","",null,"","","",{"$f":"IF(O754=\"\",\"\",CONCATENATE(\"*11....+\",VLOOKUP(16-(LEN(N754)),'1'!$A$1:$B$16,2,TRUE),N754,\" 81..40+\",VLOOKUP(16-(LEN(O754)),'1'!$A$1:$B$16,2,TRUE),O754,\" 82..40+\",VLOOKUP(16-(LEN(O754)),'1'!$A$1:$B$16,2,TRUE),P754,\" 71....+0000000000000000 \"))","v":""},null,""]
[null,{"$f":"IF(I755=\"\",\"\",ROWS($A$3:A755))","v":""},"","","","","","","","",{"$f":"IFERROR(SMALL($B$3:$B$2002,ROWS($A$3:A755)),\"\")","v":""},"","",null,"","","",{"$f":"IF(O755=\"\",\"\",CONCATENATE(\"*11....+\",VLOOKUP(16-(LEN(N755)),'1'!$A$1:$B$16,2,TRUE),N755,\" 81..40+\",VLOOKUP(16-(LEN(O755)),'1'!$A$1:$B$16,2,TRUE),O755,\" 82..40+\",VLOOKUP(16-(LEN(O755)),'1'!$A$1:$B$16,2,TRUE),P755,\" 71....+0000000000000000 \"))","v":""},null,""]
[null,{"$f":"IF(I756=\"\",\"\",ROWS($A$3:A756))","v":""},"","","","","","","","",{"$f":"IFERROR(SMALL($B$3:$B$2002,ROWS($A$3:A756)),\"\")","v":""},"","",null,"","","",{"$f":"IF(O756=\"\",\"\",CONCATENATE(\"*11....+\",VLOOKUP(16-(LEN(N756)),'1'!$A$1:$B$16,2,TRUE),N756,\" 81..40+\",VLOOKUP(16-(LEN(O756)),'1'!$A$1:$B$16,2,TRUE),O756,\" 82..40+\",VLOOKUP(16-(LEN(O756)),'1'!$A$1:$B$16,2,TRUE),P756,\" 71....+0000000000000000 \"))","v":""},null,""]
[null,{"$f":"IF(I757=\"\",\"\",ROWS($A$3:A757))","v":""},"","","","","","","","",{"$f":"IFERROR(SMALL($B$3:$B$2002,ROWS($A$3:A757)),\"\")","v":""},"","",null,"","","",{"$f":"IF(O757=\"\",\"\",CONCATENATE(\"*11....+\",VLOOKUP(16-(LEN(N757)),'1'!$A$1:$B$16,2,TRUE),N757,\" 81..40+\",VLOOKUP(16-(LEN(O757)),'1'!$A$1:$B$16,2,TRUE),O757,\" 82..40+\",VLOOKUP(16-(LEN(O757)),'1'!$A$1:$B$16,2,TRUE),P757,\" 71....+0000000000000000 \"))","v":""},null,""]
[null,{"$f":"IF(I758=\"\",\"\",ROWS($A$3:A758))","v":""},"","","","","","","","",{"$f":"IFERROR(SMALL($B$3:$B$2002,ROWS($A$3:A758)),\"\")","v":""},"","",null,"","","",{"$f":"IF(O758=\"\",\"\",CONCATENATE(\"*11....+\",VLOOKUP(16-(LEN(N758)),'1'!$A$1:$B$16,2,TRUE),N758,\" 81..40+\",VLOOKUP(16-(LEN(O758)),'1'!$A$1:$B$16,2,TRUE),O758,\" 82..40+\",VLOOKUP(16-(LEN(O758)),'1'!$A$1:$B$16,2,TRUE),P758,\" 71....+0000000000000000 \"))","v":""},null,""]
[null,{"$f":"IF(I759=\"\",\"\",ROWS($A$3:A759))","v":""},"","","","","","","","",{"$f":"IFERROR(SMALL($B$3:$B$2002,ROWS($A$3:A759)),\"\")","v":""},"","",null,"","","",{"$f":"IF(O759=\"\",\"\",CONCATENATE(\"*11....+\",VLOOKUP(16-(LEN(N759)),'1'!$A$1:$B$16,2,TRUE),N759,\" 81..40+\",VLOOKUP(16-(LEN(O759)),'1'!$A$1:$B$16,2,TRUE),O759,\" 82..40+\",VLOOKUP(16-(LEN(O759)),'1'!$A$1:$B$16,2,TRUE),P759,\" 71....+0000000000000000 \"))","v":""},null,""]
[null,{"$f":"IF(I760=\"\",\"\",ROWS($A$3:A760))","v":""},"","","","","","","","",{"$f":"IFERROR(SMALL($B$3:$B$2002,ROWS($A$3:A760)),\"\")","v":""},"","",null,"","","",{"$f":"IF(O760=\"\",\"\",CONCATENATE(\"*11....+\",VLOOKUP(16-(LEN(N760)),'1'!$A$1:$B$16,2,TRUE),N760,\" 81..40+\",VLOOKUP(16-(LEN(O760)),'1'!$A$1:$B$16,2,TRUE),O760,\" 82..40+\",VLOOKUP(16-(LEN(O760)),'1'!$A$1:$B$16,2,TRUE),P760,\" 71....+0000000000000000 \"))","v":""},null,""]
[null,{"$f":"IF(I761=\"\",\"\",ROWS($A$3:A761))","v":""},"","","","","","","","",{"$f":"IFERROR(SMALL($B$3:$B$2002,ROWS($A$3:A761)),\"\")","v":""},"","",null,"","","",{"$f":"IF(O761=\"\",\"\",CONCATENATE(\"*11....+\",VLOOKUP(16-(LEN(N761)),'1'!$A$1:$B$16,2,TRUE),N761,\" 81..40+\",VLOOKUP(16-(LEN(O761)),'1'!$A$1:$B$16,2,TRUE),O761,\" 82..40+\",VLOOKUP(16-(LEN(O761)),'1'!$A$1:$B$16,2,TRUE),P761,\" 71....+0000000000000000 \"))","v":""},null,""]
[null,{"$f":"IF(I762=\"\",\"\",ROWS($A$3:A762))","v":""},"","","","","","","","",{"$f":"IFERROR(SMALL($B$3:$B$2002,ROWS($A$3:A762)),\"\")","v":""},"","",null,"","","",{"$f":"IF(O762=\"\",\"\",CONCATENATE(\"*11....+\",VLOOKUP(16-(LEN(N762)),'1'!$A$1:$B$16,2,TRUE),N762,\" 81..40+\",VLOOKUP(16-(LEN(O762)),'1'!$A$1:$B$16,2,TRUE),O762,\" 82..40+\",VLOOKUP(16-(LEN(O762)),'1'!$A$1:$B$16,2,TRUE),P762,\" 71....+0000000000000000 \"))","v":""},null,""]
[null,{"$f":"IF(I763=\"\",\"\",ROWS($A$3:A763))","v":""},"","","","","","","","",{"$f":"IFERROR(SMALL($B$3:$B$2002,ROWS($A$3:A763)),\"\")","v":""},"","",null,"","","",{"$f":"IF(O763=\"\",\"\",CONCATENATE(\"*11....+\",VLOOKUP(16-(LEN(N763)),'1'!$A$1:$B$16,2,TRUE),N763,\" 81..40+\",VLOOKUP(16-(LEN(O763)),'1'!$A$1:$B$16,2,TRUE),O763,\" 82..40+\",VLOOKUP(16-(LEN(O763)),'1'!$A$1:$B$16,2,TRUE),P763,\" 71....+0000000000000000 \"))","v":""},null,""]
[null,{"$f":"IF(I764=\"\",\"\",ROWS($A$3:A764))","v":""},"","","","","","","","",{"$f":"IFERROR(SMALL($B$3:$B$2002,ROWS($A$3:A764)),\"\")","v":""},"","",null,"","","",{"$f":"IF(O764=\"\",\"\",CONCATENATE(\"*11....+\",VLOOKUP(16-(LEN(N764)),'1'!$A$1:$B$16,2,TRUE),N764,\" 81..40+\",VLOOKUP(16-(LEN(O764)),'1'!$A$1:$B$16,2,TRUE),O764,\" 82..40+\",VLOOKUP(16-(LEN(O764)),'1'!$A$1:$B$16,2,TRUE),P764,\" 71....+0000000000000000 \"))","v":""},null,""]
[null,{"$f":"IF(I765=\"\",\"\",ROWS($A$3:A765))","v":""},"","","","","","","","",{"$f":"IFERROR(SMALL($B$3:$B$2002,ROWS($A$3:A765)),\"\")","v":""},"","",null,"","","",{"$f":"IF(O765=\"\",\"\",CONCATENATE(\"*11....+\",VLOOKUP(16-(LEN(N765)),'1'!$A$1:$B$16,2,TRUE),N765,\" 81..40+\",VLOOKUP(16-(LEN(O765)),'1'!$A$1:$B$16,2,TRUE),O765,\" 82..40+\",VLOOKUP(16-(LEN(O765)),'1'!$A$1:$B$16,2,TRUE),P765,\" 71....+0000000000000000 \"))","v":""},null,""]
[null,{"$f":"IF(I766=\"\",\"\",ROWS($A$3:A766))","v":""},"","","","","","","","",{"$f":"IFERROR(SMALL($B$3:$B$2002,ROWS($A$3:A766)),\"\")","v":""},"","",null,"","","",{"$f":"IF(O766=\"\",\"\",CONCATENATE(\"*11....+\",VLOOKUP(16-(LEN(N766)),'1'!$A$1:$B$16,2,TRUE),N766,\" 81..40+\",VLOOKUP(16-(LEN(O766)),'1'!$A$1:$B$16,2,TRUE),O766,\" 82..40+\",VLOOKUP(16-(LEN(O766)),'1'!$A$1:$B$16,2,TRUE),P766,\" 71....+0000000000000000 \"))","v":""},null,""]
[null,{"$f":"IF(I767=\"\",\"\",ROWS($A$3:A767))","v":""},"","","","","","","","",{"$f":"IFERROR(SMALL($B$3:$B$2002,ROWS($A$3:A767)),\"\")","v":""},"","",null,"","","",{"$f":"IF(O767=\"\",\"\",CONCATENATE(\"*11....+\",VLOOKUP(16-(LEN(N767)),'1'!$A$1:$B$16,2,TRUE),N767,\" 81..40+\",VLOOKUP(16-(LEN(O767)),'1'!$A$1:$B$16,2,TRUE),O767,\" 82..40+\",VLOOKUP(16-(LEN(O767)),'1'!$A$1:$B$16,2,TRUE),P767,\" 71....+0000000000000000 \"))","v":""},null,""]
[null,{"$f":"IF(I768=\"\",\"\",ROWS($A$3:A768))","v":""},"","","","","","","","",{"$f":"IFERROR(SMALL($B$3:$B$2002,ROWS($A$3:A768)),\"\")","v":""},"","",null,"","","",{"$f":"IF(O768=\"\",\"\",CONCATENATE(\"*11....+\",VLOOKUP(16-(LEN(N768)),'1'!$A$1:$B$16,2,TRUE),N768,\" 81..40+\",VLOOKUP(16-(LEN(O768)),'1'!$A$1:$B$16,2,TRUE),O768,\" 82..40+\",VLOOKUP(16-(LEN(O768)),'1'!$A$1:$B$16,2,TRUE),P768,\" 71....+0000000000000000 \"))","v":""},null,""]
[null,{"$f":"IF(I769=\"\",\"\",ROWS($A$3:A769))","v":""},"","","","","","","","",{"$f":"IFERROR(SMALL($B$3:$B$2002,ROWS($A$3:A769)),\"\")","v":""},"","",null,"","","",{"$f":"IF(O769=\"\",\"\",CONCATENATE(\"*11....+\",VLOOKUP(16-(LEN(N769)),'1'!$A$1:$B$16,2,TRUE),N769,\" 81..40+\",VLOOKUP(16-(LEN(O769)),'1'!$A$1:$B$16,2,TRUE),O769,\" 82..40+\",VLOOKUP(16-(LEN(O769)),'1'!$A$1:$B$16,2,TRUE),P769,\" 71....+0000000000000000 \"))","v":""},null,""]
[null,{"$f":"IF(I770=\"\",\"\",ROWS($A$3:A770))","v":""},"","","","","","","","",{"$f":"IFERROR(SMALL($B$3:$B$2002,ROWS($A$3:A770)),\"\")","v":""},"","",null,"","","",{"$f":"IF(O770=\"\",\"\",CONCATENATE(\"*11....+\",VLOOKUP(16-(LEN(N770)),'1'!$A$1:$B$16,2,TRUE),N770,\" 81..40+\",VLOOKUP(16-(LEN(O770)),'1'!$A$1:$B$16,2,TRUE),O770,\" 82..40+\",VLOOKUP(16-(LEN(O770)),'1'!$A$1:$B$16,2,TRUE),P770,\" 71....+0000000000000000 \"))","v":""},null,""]
[null,{"$f":"IF(I771=\"\",\"\",ROWS($A$3:A771))","v":""},"","","","","","","","",{"$f":"IFERROR(SMALL($B$3:$B$2002,ROWS($A$3:A771)),\"\")","v":""},"","",null,"","","",{"$f":"IF(O771=\"\",\"\",CONCATENATE(\"*11....+\",VLOOKUP(16-(LEN(N771)),'1'!$A$1:$B$16,2,TRUE),N771,\" 81..40+\",VLOOKUP(16-(LEN(O771)),'1'!$A$1:$B$16,2,TRUE),O771,\" 82..40+\",VLOOKUP(16-(LEN(O771)),'1'!$A$1:$B$16,2,TRUE),P771,\" 71....+0000000000000000 \"))","v":""},null,""]
[null,{"$f":"IF(I772=\"\",\"\",ROWS($A$3:A772))","v":""},{"$f":"IF(LEN(A772)=59,ROUND(VALUE(MID(A772,23,9)),3),\"\")","v":""},{"$f":"IF(LEN(A772)=24,\"\",\"\")","v":""},{"$f":"IF(LEN(A772)=63,ROUND(VALUE(MID(A772,23,12)),3),\"\")","v":""},{"$f":"IF(LEN(A772)=59,ROUND(VALUE(MID(A772,37,9)),3),\"\")","v":""},{"$f":"IF(LEN(A772)=24,\"\",\"\")","v":""},{"$f":"IF(LEN(A772)=63,ROUND(VALUE(MID(A772,39,12)),3),\"\")","v":""},{"$f":"IF(AND(C772=\"\",D772=\"\",E772=\"\"),\"\",ROUND(CONCATENATE(C772,D772,E772),3))","v":""},{"$f":"IF(AND(C772=\"\",D772=\"\",E772=\"\"),\"\",ROUND(CONCATENATE(F772,G772,H772),3))","v":""},{"$f":"IFERROR(SMALL($B$3:$B$2002,ROWS($A$3:A772)),\"\")","v":""},{"$f":"IF(K772=\"\",\"\",ROUND(VALUE(VLOOKUP(K772,$B$3:$J$2002,8,TRUE)),3))","v":""},{"$f":"IF(K772=\"\",\"\",ROUND(VALUE(VLOOKUP(K772,$B$3:$J$2002,9,TRUE)),3))","v":""},null,{"$f":"IF(L772=\"\",\"\",L772/0.001)","v":""},"",{"$f":"IF(O772=\"\",\"\",16-LEN(N772))","v":""},{"$f":"IF(O772=\"\",\"\",CONCATENATE(\"*11....+\",VLOOKUP(16-(LEN(N772)),'1'!$A$1:$B$16,2,TRUE),N772,\" 81..40+\",VLOOKUP(16-(LEN(O772)),'1'!$A$1:$B$16,2,TRUE),O772,\" 82..40+\",VLOOKUP(16-(LEN(O772)),'1'!$A$1:$B$16,2,TRUE),P772,\" 71....+0000000000000000 \"))","v":""},null,{"$f":"IF(O772=\"\",\"\",CONCATENATE(N772,\",\",L772,\",\",M772))","v":""}]
[null,{"$f":"IF(I773=\"\",\"\",ROWS($A$3:A773))","v":""},"","","","","","","","",{"$f":"IFERROR(SMALL($B$3:$B$2002,ROWS($A$3:A773)),\"\")","v":""},"","",null,"","","",{"$f":"IF(O773=\"\",\"\",CONCATENATE(\"*11....+\",VLOOKUP(16-(LEN(N773)),'1'!$A$1:$B$16,2,TRUE),N773,\" 81..40+\",VLOOKUP(16-(LEN(O773)),'1'!$A$1:$B$16,2,TRUE),O773,\" 82..40+\",VLOOKUP(16-(LEN(O773)),'1'!$A$1:$B$16,2,TRUE),P773,\" 71....+0000000000000000 \"))","v":""},null,""]
[null,{"$f":"IF(I774=\"\",\"\",ROWS($A$3:A774))","v":""},"","","","","","","","",{"$f":"IFERROR(SMALL($B$3:$B$2002,ROWS($A$3:A774)),\"\")","v":""},"","",null,"","","",{"$f":"IF(O774=\"\",\"\",CONCATENATE(\"*11....+\",VLOOKUP(16-(LEN(N774)),'1'!$A$1:$B$16,2,TRUE),N774,\" 81..40+\",VLOOKUP(16-(LEN(O774)),'1'!$A$1:$B$16,2,TRUE),O774,\" 82..40+\",VLOOKUP(16-(LEN(O774)),'1'!$A$1:$B$16,2,TRUE),P774,\" 71....+0000000000000000 \"))","v":""},null,""]
[null,{"$f":"IF(I775=\"\",\"\",ROWS($A$3:A775))","v":""},"","","","","","","","",{"$f":"IFERROR(SMALL($B$3:$B$2002,ROWS($A$3:A775)),\"\")","v":""},"","",null,"","","",{"$f":"IF(O775=\"\",\"\",CONCATENATE(\"*11....+\",VLOOKUP(16-(LEN(N775)),'1'!$A$1:$B$16,2,TRUE),N775,\" 81..40+\",VLOOKUP(16-(LEN(O775)),'1'!$A$1:$B$16,2,TRUE),O775,\" 82..40+\",VLOOKUP(16-(LEN(O775)),'1'!$A$1:$B$16,2,TRUE),P775,\" 71....+0000000000000000 \"))","v":""},null,""]
[null,{"$f":"IF(I776=\"\",\"\",ROWS($A$3:A776))","v":""},"","","","","","","","",{"$f":"IFERROR(SMALL($B$3:$B$2002,ROWS($A$3:A776)),\"\")","v":""},"","",null,"","","",{"$f":"IF(O776=\"\",\"\",CONCATENATE(\"*11....+\",VLOOKUP(16-(LEN(N776)),'1'!$A$1:$B$16,2,TRUE),N776,\" 81..40+\",VLOOKUP(16-(LEN(O776)),'1'!$A$1:$B$16,2,TRUE),O776,\" 82..40+\",VLOOKUP(16-(LEN(O776)),'1'!$A$1:$B$16,2,TRUE),P776,\" 71....+0000000000000000 \"))","v":""},null,""]
[null,{"$f":"IF(I777=\"\",\"\",ROWS($A$3:A777))","v":""},"","","","","","","","",{"$f":"IFERROR(SMALL($B$3:$B$2002,ROWS($A$3:A777)),\"\")","v":""},"","",null,"","","",{"$f":"IF(O777=\"\",\"\",CONCATENATE(\"*11....+\",VLOOKUP(16-(LEN(N777)),'1'!$A$1:$B$16,2,TRUE),N777,\" 81..40+\",VLOOKUP(16-(LEN(O777)),'1'!$A$1:$B$16,2,TRUE),O777,\" 82..40+\",VLOOKUP(16-(LEN(O777)),'1'!$A$1:$B$16,2,TRUE),P777,\" 71....+0000000000000000 \"))","v":""},null,""]
[null,{"$f":"IF(I778=\"\",\"\",ROWS($A$3:A778))","v":""},"","","","","","","","",{"$f":"IFERROR(SMALL($B$3:$B$2002,ROWS($A$3:A778)),\"\")","v":""},"","",null,"","","",{"$f":"IF(O778=\"\",\"\",CONCATENATE(\"*11....+\",VLOOKUP(16-(LEN(N778)),'1'!$A$1:$B$16,2,TRUE),N778,\" 81..40+\",VLOOKUP(16-(LEN(O778)),'1'!$A$1:$B$16,2,TRUE),O778,\" 82..40+\",VLOOKUP(16-(LEN(O778)),'1'!$A$1:$B$16,2,TRUE),P778,\" 71....+0000000000000000 \"))","v":""},null,""]
[null,{"$f":"IF(I779=\"\",\"\",ROWS($A$3:A779))","v":""},"","","","","","","","",{"$f":"IFERROR(SMALL($B$3:$B$2002,ROWS($A$3:A779)),\"\")","v":""},"","",null,"","","",{"$f":"IF(O779=\"\",\"\",CONCATENATE(\"*11....+\",VLOOKUP(16-(LEN(N779)),'1'!$A$1:$B$16,2,TRUE),N779,\" 81..40+\",VLOOKUP(16-(LEN(O779)),'1'!$A$1:$B$16,2,TRUE),O779,\" 82..40+\",VLOOKUP(16-(LEN(O779)),'1'!$A$1:$B$16,2,TRUE),P779,\" 71....+0000000000000000 \"))","v":""},null,""]
[null,{"$f":"IF(I780=\"\",\"\",ROWS($A$3:A780))","v":""},"","","","","","","","",{"$f":"IFERROR(SMALL($B$3:$B$2002,ROWS($A$3:A780)),\"\")","v":""},"","",null,"","","",{"$f":"IF(O780=\"\",\"\",CONCATENATE(\"*11....+\",VLOOKUP(16-(LEN(N780)),'1'!$A$1:$B$16,2,TRUE),N780,\" 81..40+\",VLOOKUP(16-(LEN(O780)),'1'!$A$1:$B$16,2,TRUE),O780,\" 82..40+\",VLOOKUP(16-(LEN(O780)),'1'!$A$1:$B$16,2,TRUE),P780,\" 71....+0000000000000000 \"))","v":""},null,""]
[null,{"$f":"IF(I781=\"\",\"\",ROWS($A$3:A781))","v":""},"","","","","","","","",{"$f":"IFERROR(SMALL($B$3:$B$2002,ROWS($A$3:A781)),\"\")","v":""},"","",null,"","","",{"$f":"IF(O781=\"\",\"\",CONCATENATE(\"*11....+\",VLOOKUP(16-(LEN(N781)),'1'!$A$1:$B$16,2,TRUE),N781,\" 81..40+\",VLOOKUP(16-(LEN(O781)),'1'!$A$1:$B$16,2,TRUE),O781,\" 82..40+\",VLOOKUP(16-(LEN(O781)),'1'!$A$1:$B$16,2,TRUE),P781,\" 71....+0000000000000000 \"))","v":""},null,""]
[null,{"$f":"IF(I782=\"\",\"\",ROWS($A$3:A782))","v":""},"","","","","","","","",{"$f":"IFERROR(SMALL($B$3:$B$2002,ROWS($A$3:A782)),\"\")","v":""},"","",null,"","","",{"$f":"IF(O782=\"\",\"\",CONCATENATE(\"*11....+\",VLOOKUP(16-(LEN(N782)),'1'!$A$1:$B$16,2,TRUE),N782,\" 81..40+\",VLOOKUP(16-(LEN(O782)),'1'!$A$1:$B$16,2,TRUE),O782,\" 82..40+\",VLOOKUP(16-(LEN(O782)),'1'!$A$1:$B$16,2,TRUE),P782,\" 71....+0000000000000000 \"))","v":""},null,""]
[null,{"$f":"IF(I783=\"\",\"\",ROWS($A$3:A783))","v":""},"","","","","","","","",{"$f":"IFERROR(SMALL($B$3:$B$2002,ROWS($A$3:A783)),\"\")","v":""},"","",null,"","","",{"$f":"IF(O783=\"\",\"\",CONCATENATE(\"*11....+\",VLOOKUP(16-(LEN(N783)),'1'!$A$1:$B$16,2,TRUE),N783,\" 81..40+\",VLOOKUP(16-(LEN(O783)),'1'!$A$1:$B$16,2,TRUE),O783,\" 82..40+\",VLOOKUP(16-(LEN(O783)),'1'!$A$1:$B$16,2,TRUE),P783,\" 71....+0000000000000000 \"))","v":""},null,""]
[null,{"$f":"IF(I784=\"\",\"\",ROWS($A$3:A784))","v":""},"","","","","","","","",{"$f":"IFERROR(SMALL($B$3:$B$2002,ROWS($A$3:A784)),\"\")","v":""},"","",null,"","","",{"$f":"IF(O784=\"\",\"\",CONCATENATE(\"*11....+\",VLOOKUP(16-(LEN(N784)),'1'!$A$1:$B$16,2,TRUE),N784,\" 81..40+\",VLOOKUP(16-(LEN(O784)),'1'!$A$1:$B$16,2,TRUE),O784,\" 82..40+\",VLOOKUP(16-(LEN(O784)),'1'!$A$1:$B$16,2,TRUE),P784,\" 71....+0000000000000000 \"))","v":""},null,""]
[null,{"$f":"IF(I785=\"\",\"\",ROWS($A$3:A785))","v":""},"","","","","","","","",{"$f":"IFERROR(SMALL($B$3:$B$2002,ROWS($A$3:A785)),\"\")","v":""},"","",null,"","","",{"$f":"IF(O785=\"\",\"\",CONCATENATE(\"*11....+\",VLOOKUP(16-(LEN(N785)),'1'!$A$1:$B$16,2,TRUE),N785,\" 81..40+\",VLOOKUP(16-(LEN(O785)),'1'!$A$1:$B$16,2,TRUE),O785,\" 82..40+\",VLOOKUP(16-(LEN(O785)),'1'!$A$1:$B$16,2,TRUE),P785,\" 71....+0000000000000000 \"))","v":""},null,""]
[null,{"$f":"IF(I786=\"\",\"\",ROWS($A$3:A786))","v":""},"","","","","","","","",{"$f":"IFERROR(SMALL($B$3:$B$2002,ROWS($A$3:A786)),\"\")","v":""},"","",null,"","","",{"$f":"IF(O786=\"\",\"\",CONCATENATE(\"*11....+\",VLOOKUP(16-(LEN(N786)),'1'!$A$1:$B$16,2,TRUE),N786,\" 81..40+\",VLOOKUP(16-(LEN(O786)),'1'!$A$1:$B$16,2,TRUE),O786,\" 82..40+\",VLOOKUP(16-(LEN(O786)),'1'!$A$1:$B$16,2,TRUE),P786,\" 71....+0000000000000000 \"))","v":""},null,""]
[null,{"$f":"IF(I787=\"\",\"\",ROWS($A$3:A787))","v":""},"","","","","","","","",{"$f":"IFERROR(SMALL($B$3:$B$2002,ROWS($A$3:A787)),\"\")","v":""},"","",null,"","","",{"$f":"IF(O787=\"\",\"\",CONCATENATE(\"*11....+\",VLOOKUP(16-(LEN(N787)),'1'!$A$1:$B$16,2,TRUE),N787,\" 81..40+\",VLOOKUP(16-(LEN(O787)),'1'!$A$1:$B$16,2,TRUE),O787,\" 82..40+\",VLOOKUP(16-(LEN(O787)),'1'!$A$1:$B$16,2,TRUE),P787,\" 71....+0000000000000000 \"))","v":""},null,""]
[null,{"$f":"IF(I788=\"\",\"\",ROWS($A$3:A788))","v":""},"","","","","","","","",{"$f":"IFERROR(SMALL($B$3:$B$2002,ROWS($A$3:A788)),\"\")","v":""},"","",null,"","","",{"$f":"IF(O788=\"\",\"\",CONCATENATE(\"*11....+\",VLOOKUP(16-(LEN(N788)),'1'!$A$1:$B$16,2,TRUE),N788,\" 81..40+\",VLOOKUP(16-(LEN(O788)),'1'!$A$1:$B$16,2,TRUE),O788,\" 82..40+\",VLOOKUP(16-(LEN(O788)),'1'!$A$1:$B$16,2,TRUE),P788,\" 71....+0000000000000000 \"))","v":""},null,""]
[null,{"$f":"IF(I789=\"\",\"\",ROWS($A$3:A789))","v":""},"","","","","","","","",{"$f":"IFERROR(SMALL($B$3:$B$2002,ROWS($A$3:A789)),\"\")","v":""},"","",null,"","","",{"$f":"IF(O789=\"\",\"\",CONCATENATE(\"*11....+\",VLOOKUP(16-(LEN(N789)),'1'!$A$1:$B$16,2,TRUE),N789,\" 81..40+\",VLOOKUP(16-(LEN(O789)),'1'!$A$1:$B$16,2,TRUE),O789,\" 82..40+\",VLOOKUP(16-(LEN(O789)),'1'!$A$1:$B$16,2,TRUE),P789,\" 71....+0000000000000000 \"))","v":""},null,""]
[null,{"$f":"IF(I790=\"\",\"\",ROWS($A$3:A790))","v":""},"","","","","","","","",{"$f":"IFERROR(SMALL($B$3:$B$2002,ROWS($A$3:A790)),\"\")","v":""},"","",null,"","","",{"$f":"IF(O790=\"\",\"\",CONCATENATE(\"*11....+\",VLOOKUP(16-(LEN(N790)),'1'!$A$1:$B$16,2,TRUE),N790,\" 81..40+\",VLOOKUP(16-(LEN(O790)),'1'!$A$1:$B$16,2,TRUE),O790,\" 82..40+\",VLOOKUP(16-(LEN(O790)),'1'!$A$1:$B$16,2,TRUE),P790,\" 71....+0000000000000000 \"))","v":""},null,""]
[null,{"$f":"IF(I791=\"\",\"\",ROWS($A$3:A791))","v":""},"","","","","","","","",{"$f":"IFERROR(SMALL($B$3:$B$2002,ROWS($A$3:A791)),\"\")","v":""},"","",null,"","","",{"$f":"IF(O791=\"\",\"\",CONCATENATE(\"*11....+\",VLOOKUP(16-(LEN(N791)),'1'!$A$1:$B$16,2,TRUE),N791,\" 81..40+\",VLOOKUP(16-(LEN(O791)),'1'!$A$1:$B$16,2,TRUE),O791,\" 82..40+\",VLOOKUP(16-(LEN(O791)),'1'!$A$1:$B$16,2,TRUE),P791,\" 71....+0000000000000000 \"))","v":""},null,""]
[null,{"$f":"IF(I792=\"\",\"\",ROWS($A$3:A792))","v":""},"","","","","","","","",{"$f":"IFERROR(SMALL($B$3:$B$2002,ROWS($A$3:A792)),\"\")","v":""},"","",null,"","","",{"$f":"IF(O792=\"\",\"\",CONCATENATE(\"*11....+\",VLOOKUP(16-(LEN(N792)),'1'!$A$1:$B$16,2,TRUE),N792,\" 81..40+\",VLOOKUP(16-(LEN(O792)),'1'!$A$1:$B$16,2,TRUE),O792,\" 82..40+\",VLOOKUP(16-(LEN(O792)),'1'!$A$1:$B$16,2,TRUE),P792,\" 71....+0000000000000000 \"))","v":""},null,""]
[null,{"$f":"IF(I793=\"\",\"\",ROWS($A$3:A793))","v":""},"","","","","","","","",{"$f":"IFERROR(SMALL($B$3:$B$2002,ROWS($A$3:A793)),\"\")","v":""},"","",null,"","","",{"$f":"IF(O793=\"\",\"\",CONCATENATE(\"*11....+\",VLOOKUP(16-(LEN(N793)),'1'!$A$1:$B$16,2,TRUE),N793,\" 81..40+\",VLOOKUP(16-(LEN(O793)),'1'!$A$1:$B$16,2,TRUE),O793,\" 82..40+\",VLOOKUP(16-(LEN(O793)),'1'!$A$1:$B$16,2,TRUE),P793,\" 71....+0000000000000000 \"))","v":""},null,""]
[null,{"$f":"IF(I794=\"\",\"\",ROWS($A$3:A794))","v":""},"","","","","","","","",{"$f":"IFERROR(SMALL($B$3:$B$2002,ROWS($A$3:A794)),\"\")","v":""},"","",null,"","","",{"$f":"IF(O794=\"\",\"\",CONCATENATE(\"*11....+\",VLOOKUP(16-(LEN(N794)),'1'!$A$1:$B$16,2,TRUE),N794,\" 81..40+\",VLOOKUP(16-(LEN(O794)),'1'!$A$1:$B$16,2,TRUE),O794,\" 82..40+\",VLOOKUP(16-(LEN(O794)),'1'!$A$1:$B$16,2,TRUE),P794,\" 71....+0000000000000000 \"))","v":""},null,""]
[null,{"$f":"IF(I795=\"\",\"\",ROWS($A$3:A795))","v":""},"","","","","","","","",{"$f":"IFERROR(SMALL($B$3:$B$2002,ROWS($A$3:A795)),\"\")","v":""},"","",null,"","","",{"$f":"IF(O795=\"\",\"\",CONCATENATE(\"*11....+\",VLOOKUP(16-(LEN(N795)),'1'!$A$1:$B$16,2,TRUE),N795,\" 81..40+\",VLOOKUP(16-(LEN(O795)),'1'!$A$1:$B$16,2,TRUE),O795,\" 82..40+\",VLOOKUP(16-(LEN(O795)),'1'!$A$1:$B$16,2,TRUE),P795,\" 71....+0000000000000000 \"))","v":""},null,""]
[null,{"$f":"IF(I796=\"\",\"\",ROWS($A$3:A796))","v":""},"","","","","","","","",{"$f":"IFERROR(SMALL($B$3:$B$2002,ROWS($A$3:A796)),\"\")","v":""},"","",null,"","","",{"$f":"IF(O796=\"\",\"\",CONCATENATE(\"*11....+\",VLOOKUP(16-(LEN(N796)),'1'!$A$1:$B$16,2,TRUE),N796,\" 81..40+\",VLOOKUP(16-(LEN(O796)),'1'!$A$1:$B$16,2,TRUE),O796,\" 82..40+\",VLOOKUP(16-(LEN(O796)),'1'!$A$1:$B$16,2,TRUE),P796,\" 71....+0000000000000000 \"))","v":""},null,""]
[null,{"$f":"IF(I797=\"\",\"\",ROWS($A$3:A797))","v":""},"","","","","","","","",{"$f":"IFERROR(SMALL($B$3:$B$2002,ROWS($A$3:A797)),\"\")","v":""},"","",null,"","","",{"$f":"IF(O797=\"\",\"\",CONCATENATE(\"*11....+\",VLOOKUP(16-(LEN(N797)),'1'!$A$1:$B$16,2,TRUE),N797,\" 81..40+\",VLOOKUP(16-(LEN(O797)),'1'!$A$1:$B$16,2,TRUE),O797,\" 82..40+\",VLOOKUP(16-(LEN(O797)),'1'!$A$1:$B$16,2,TRUE),P797,\" 71....+0000000000000000 \"))","v":""},null,""]
[null,{"$f":"IF(I798=\"\",\"\",ROWS($A$3:A798))","v":""},"","","","","","","","",{"$f":"IFERROR(SMALL($B$3:$B$2002,ROWS($A$3:A798)),\"\")","v":""},"","",null,"","","",{"$f":"IF(O798=\"\",\"\",CONCATENATE(\"*11....+\",VLOOKUP(16-(LEN(N798)),'1'!$A$1:$B$16,2,TRUE),N798,\" 81..40+\",VLOOKUP(16-(LEN(O798)),'1'!$A$1:$B$16,2,TRUE),O798,\" 82..40+\",VLOOKUP(16-(LEN(O798)),'1'!$A$1:$B$16,2,TRUE),P798,\" 71....+0000000000000000 \"))","v":""},null,""]
[null,{"$f":"IF(I799=\"\",\"\",ROWS($A$3:A799))","v":""},"","","","","","","","",{"$f":"IFERROR(SMALL($B$3:$B$2002,ROWS($A$3:A799)),\"\")","v":""},"","",null,"","","",{"$f":"IF(O799=\"\",\"\",CONCATENATE(\"*11....+\",VLOOKUP(16-(LEN(N799)),'1'!$A$1:$B$16,2,TRUE),N799,\" 81..40+\",VLOOKUP(16-(LEN(O799)),'1'!$A$1:$B$16,2,TRUE),O799,\" 82..40+\",VLOOKUP(16-(LEN(O799)),'1'!$A$1:$B$16,2,TRUE),P799,\" 71....+0000000000000000 \"))","v":""},null,""]
[null,{"$f":"IF(I800=\"\",\"\",ROWS($A$3:A800))","v":""},"","","","","","","","",{"$f":"IFERROR(SMALL($B$3:$B$2002,ROWS($A$3:A800)),\"\")","v":""},"","",null,"","","",{"$f":"IF(O800=\"\",\"\",CONCATENATE(\"*11....+\",VLOOKUP(16-(LEN(N800)),'1'!$A$1:$B$16,2,TRUE),N800,\" 81..40+\",VLOOKUP(16-(LEN(O800)),'1'!$A$1:$B$16,2,TRUE),O800,\" 82..40+\",VLOOKUP(16-(LEN(O800)),'1'!$A$1:$B$16,2,TRUE),P800,\" 71....+0000000000000000 \"))","v":""},null,""]
[null,{"$f":"IF(I801=\"\",\"\",ROWS($A$3:A801))","v":""},"","","","","","","","",{"$f":"IFERROR(SMALL($B$3:$B$2002,ROWS($A$3:A801)),\"\")","v":""},"","",null,"","","",{"$f":"IF(O801=\"\",\"\",CONCATENATE(\"*11....+\",VLOOKUP(16-(LEN(N801)),'1'!$A$1:$B$16,2,TRUE),N801,\" 81..40+\",VLOOKUP(16-(LEN(O801)),'1'!$A$1:$B$16,2,TRUE),O801,\" 82..40+\",VLOOKUP(16-(LEN(O801)),'1'!$A$1:$B$16,2,TRUE),P801,\" 71....+0000000000000000 \"))","v":""},null,""]
[null,{"$f":"IF(I802=\"\",\"\",ROWS($A$3:A802))","v":""},"","","","","","","","",{"$f":"IFERROR(SMALL($B$3:$B$2002,ROWS($A$3:A802)),\"\")","v":""},"","",null,"","","",{"$f":"IF(O802=\"\",\"\",CONCATENATE(\"*11....+\",VLOOKUP(16-(LEN(N802)),'1'!$A$1:$B$16,2,TRUE),N802,\" 81..40+\",VLOOKUP(16-(LEN(O802)),'1'!$A$1:$B$16,2,TRUE),O802,\" 82..40+\",VLOOKUP(16-(LEN(O802)),'1'!$A$1:$B$16,2,TRUE),P802,\" 71....+0000000000000000 \"))","v":""},null,""]
[null,{"$f":"IF(I803=\"\",\"\",ROWS($A$3:A803))","v":""},"","","","","","","","",{"$f":"IFERROR(SMALL($B$3:$B$2002,ROWS($A$3:A803)),\"\")","v":""},"","",null,"","","",{"$f":"IF(O803=\"\",\"\",CONCATENATE(\"*11....+\",VLOOKUP(16-(LEN(N803)),'1'!$A$1:$B$16,2,TRUE),N803,\" 81..40+\",VLOOKUP(16-(LEN(O803)),'1'!$A$1:$B$16,2,TRUE),O803,\" 82..40+\",VLOOKUP(16-(LEN(O803)),'1'!$A$1:$B$16,2,TRUE),P803,\" 71....+0000000000000000 \"))","v":""},null,""]
[null,{"$f":"IF(I804=\"\",\"\",ROWS($A$3:A804))","v":""},"","","","","","","","",{"$f":"IFERROR(SMALL($B$3:$B$2002,ROWS($A$3:A804)),\"\")","v":""},"","",null,"","","",{"$f":"IF(O804=\"\",\"\",CONCATENATE(\"*11....+\",VLOOKUP(16-(LEN(N804)),'1'!$A$1:$B$16,2,TRUE),N804,\" 81..40+\",VLOOKUP(16-(LEN(O804)),'1'!$A$1:$B$16,2,TRUE),O804,\" 82..40+\",VLOOKUP(16-(LEN(O804)),'1'!$A$1:$B$16,2,TRUE),P804,\" 71....+0000000000000000 \"))","v":""},null,""]
[null,{"$f":"IF(I805=\"\",\"\",ROWS($A$3:A805))","v":""},"","","","","","","","",{"$f":"IFERROR(SMALL($B$3:$B$2002,ROWS($A$3:A805)),\"\")","v":""},"","",null,"","","",{"$f":"IF(O805=\"\",\"\",CONCATENATE(\"*11....+\",VLOOKUP(16-(LEN(N805)),'1'!$A$1:$B$16,2,TRUE),N805,\" 81..40+\",VLOOKUP(16-(LEN(O805)),'1'!$A$1:$B$16,2,TRUE),O805,\" 82..40+\",VLOOKUP(16-(LEN(O805)),'1'!$A$1:$B$16,2,TRUE),P805,\" 71....+0000000000000000 \"))","v":""},null,""]
[null,{"$f":"IF(I806=\"\",\"\",ROWS($A$3:A806))","v":""},"","","","","","","","",{"$f":"IFERROR(SMALL($B$3:$B$2002,ROWS($A$3:A806)),\"\")","v":""},"","",null,"","","",{"$f":"IF(O806=\"\",\"\",CONCATENATE(\"*11....+\",VLOOKUP(16-(LEN(N806)),'1'!$A$1:$B$16,2,TRUE),N806,\" 81..40+\",VLOOKUP(16-(LEN(O806)),'1'!$A$1:$B$16,2,TRUE),O806,\" 82..40+\",VLOOKUP(16-(LEN(O806)),'1'!$A$1:$B$16,2,TRUE),P806,\" 71....+0000000000000000 \"))","v":""},null,""]
[null,{"$f":"IF(I807=\"\",\"\",ROWS($A$3:A807))","v":""},"","","","","","","","",{"$f":"IFERROR(SMALL($B$3:$B$2002,ROWS($A$3:A807)),\"\")","v":""},"","",null,"","","",{"$f":"IF(O807=\"\",\"\",CONCATENATE(\"*11....+\",VLOOKUP(16-(LEN(N807)),'1'!$A$1:$B$16,2,TRUE),N807,\" 81..40+\",VLOOKUP(16-(LEN(O807)),'1'!$A$1:$B$16,2,TRUE),O807,\" 82..40+\",VLOOKUP(16-(LEN(O807)),'1'!$A$1:$B$16,2,TRUE),P807,\" 71....+0000000000000000 \"))","v":""},null,""]
[null,{"$f":"IF(I808=\"\",\"\",ROWS($A$3:A808))","v":""},"","","","","","","","",{"$f":"IFERROR(SMALL($B$3:$B$2002,ROWS($A$3:A808)),\"\")","v":""},"","",null,"","","",{"$f":"IF(O808=\"\",\"\",CONCATENATE(\"*11....+\",VLOOKUP(16-(LEN(N808)),'1'!$A$1:$B$16,2,TRUE),N808,\" 81..40+\",VLOOKUP(16-(LEN(O808)),'1'!$A$1:$B$16,2,TRUE),O808,\" 82..40+\",VLOOKUP(16-(LEN(O808)),'1'!$A$1:$B$16,2,TRUE),P808,\" 71....+0000000000000000 \"))","v":""},null,""]
[null,{"$f":"IF(I809=\"\",\"\",ROWS($A$3:A809))","v":""},"","","","","","","","",{"$f":"IFERROR(SMALL($B$3:$B$2002,ROWS($A$3:A809)),\"\")","v":""},"","",null,"","","",{"$f":"IF(O809=\"\",\"\",CONCATENATE(\"*11....+\",VLOOKUP(16-(LEN(N809)),'1'!$A$1:$B$16,2,TRUE),N809,\" 81..40+\",VLOOKUP(16-(LEN(O809)),'1'!$A$1:$B$16,2,TRUE),O809,\" 82..40+\",VLOOKUP(16-(LEN(O809)),'1'!$A$1:$B$16,2,TRUE),P809,\" 71....+0000000000000000 \"))","v":""},null,""]
[null,{"$f":"IF(I810=\"\",\"\",ROWS($A$3:A810))","v":""},"","","","","","","","",{"$f":"IFERROR(SMALL($B$3:$B$2002,ROWS($A$3:A810)),\"\")","v":""},"","",null,"","","",{"$f":"IF(O810=\"\",\"\",CONCATENATE(\"*11....+\",VLOOKUP(16-(LEN(N810)),'1'!$A$1:$B$16,2,TRUE),N810,\" 81..40+\",VLOOKUP(16-(LEN(O810)),'1'!$A$1:$B$16,2,TRUE),O810,\" 82..40+\",VLOOKUP(16-(LEN(O810)),'1'!$A$1:$B$16,2,TRUE),P810,\" 71....+0000000000000000 \"))","v":""},null,""]
[null,{"$f":"IF(I811=\"\",\"\",ROWS($A$3:A811))","v":""},"","","","","","","","",{"$f":"IFERROR(SMALL($B$3:$B$2002,ROWS($A$3:A811)),\"\")","v":""},"","",null,"","","",{"$f":"IF(O811=\"\",\"\",CONCATENATE(\"*11....+\",VLOOKUP(16-(LEN(N811)),'1'!$A$1:$B$16,2,TRUE),N811,\" 81..40+\",VLOOKUP(16-(LEN(O811)),'1'!$A$1:$B$16,2,TRUE),O811,\" 82..40+\",VLOOKUP(16-(LEN(O811)),'1'!$A$1:$B$16,2,TRUE),P811,\" 71....+0000000000000000 \"))","v":""},null,""]
[null,{"$f":"IF(I812=\"\",\"\",ROWS($A$3:A812))","v":""},"","","","","","","","",{"$f":"IFERROR(SMALL($B$3:$B$2002,ROWS($A$3:A812)),\"\")","v":""},"","",null,"","","",{"$f":"IF(O812=\"\",\"\",CONCATENATE(\"*11....+\",VLOOKUP(16-(LEN(N812)),'1'!$A$1:$B$16,2,TRUE),N812,\" 81..40+\",VLOOKUP(16-(LEN(O812)),'1'!$A$1:$B$16,2,TRUE),O812,\" 82..40+\",VLOOKUP(16-(LEN(O812)),'1'!$A$1:$B$16,2,TRUE),P812,\" 71....+0000000000000000 \"))","v":""},null,""]
[null,{"$f":"IF(I813=\"\",\"\",ROWS($A$3:A813))","v":""},"","","","","","","","",{"$f":"IFERROR(SMALL($B$3:$B$2002,ROWS($A$3:A813)),\"\")","v":""},"","",null,"","","",{"$f":"IF(O813=\"\",\"\",CONCATENATE(\"*11....+\",VLOOKUP(16-(LEN(N813)),'1'!$A$1:$B$16,2,TRUE),N813,\" 81..40+\",VLOOKUP(16-(LEN(O813)),'1'!$A$1:$B$16,2,TRUE),O813,\" 82..40+\",VLOOKUP(16-(LEN(O813)),'1'!$A$1:$B$16,2,TRUE),P813,\" 71....+0000000000000000 \"))","v":""},null,""]
[null,{"$f":"IF(I814=\"\",\"\",ROWS($A$3:A814))","v":""},"","","","","","","","",{"$f":"IFERROR(SMALL($B$3:$B$2002,ROWS($A$3:A814)),\"\")","v":""},"","",null,"","","",{"$f":"IF(O814=\"\",\"\",CONCATENATE(\"*11....+\",VLOOKUP(16-(LEN(N814)),'1'!$A$1:$B$16,2,TRUE),N814,\" 81..40+\",VLOOKUP(16-(LEN(O814)),'1'!$A$1:$B$16,2,TRUE),O814,\" 82..40+\",VLOOKUP(16-(LEN(O814)),'1'!$A$1:$B$16,2,TRUE),P814,\" 71....+0000000000000000 \"))","v":""},null,""]
[null,{"$f":"IF(I815=\"\",\"\",ROWS($A$3:A815))","v":""},"","","","","","","","",{"$f":"IFERROR(SMALL($B$3:$B$2002,ROWS($A$3:A815)),\"\")","v":""},"","",null,"","","",{"$f":"IF(O815=\"\",\"\",CONCATENATE(\"*11....+\",VLOOKUP(16-(LEN(N815)),'1'!$A$1:$B$16,2,TRUE),N815,\" 81..40+\",VLOOKUP(16-(LEN(O815)),'1'!$A$1:$B$16,2,TRUE),O815,\" 82..40+\",VLOOKUP(16-(LEN(O815)),'1'!$A$1:$B$16,2,TRUE),P815,\" 71....+0000000000000000 \"))","v":""},null,""]
[null,{"$f":"IF(I816=\"\",\"\",ROWS($A$3:A816))","v":""},"","","","","","","","",{"$f":"IFERROR(SMALL($B$3:$B$2002,ROWS($A$3:A816)),\"\")","v":""},"","",null,"","","",{"$f":"IF(O816=\"\",\"\",CONCATENATE(\"*11....+\",VLOOKUP(16-(LEN(N816)),'1'!$A$1:$B$16,2,TRUE),N816,\" 81..40+\",VLOOKUP(16-(LEN(O816)),'1'!$A$1:$B$16,2,TRUE),O816,\" 82..40+\",VLOOKUP(16-(LEN(O816)),'1'!$A$1:$B$16,2,TRUE),P816,\" 71....+0000000000000000 \"))","v":""},null,""]
[null,{"$f":"IF(I817=\"\",\"\",ROWS($A$3:A817))","v":""},"","","","","","","","",{"$f":"IFERROR(SMALL($B$3:$B$2002,ROWS($A$3:A817)),\"\")","v":""},"","",null,"","","",{"$f":"IF(O817=\"\",\"\",CONCATENATE(\"*11....+\",VLOOKUP(16-(LEN(N817)),'1'!$A$1:$B$16,2,TRUE),N817,\" 81..40+\",VLOOKUP(16-(LEN(O817)),'1'!$A$1:$B$16,2,TRUE),O817,\" 82..40+\",VLOOKUP(16-(LEN(O817)),'1'!$A$1:$B$16,2,TRUE),P817,\" 71....+0000000000000000 \"))","v":""},null,""]
[null,{"$f":"IF(I818=\"\",\"\",ROWS($A$3:A818))","v":""},"","","","","","","","",{"$f":"IFERROR(SMALL($B$3:$B$2002,ROWS($A$3:A818)),\"\")","v":""},"","",null,"","","",{"$f":"IF(O818=\"\",\"\",CONCATENATE(\"*11....+\",VLOOKUP(16-(LEN(N818)),'1'!$A$1:$B$16,2,TRUE),N818,\" 81..40+\",VLOOKUP(16-(LEN(O818)),'1'!$A$1:$B$16,2,TRUE),O818,\" 82..40+\",VLOOKUP(16-(LEN(O818)),'1'!$A$1:$B$16,2,TRUE),P818,\" 71....+0000000000000000 \"))","v":""},null,""]
[null,{"$f":"IF(I819=\"\",\"\",ROWS($A$3:A819))","v":""},"","","","","","","","",{"$f":"IFERROR(SMALL($B$3:$B$2002,ROWS($A$3:A819)),\"\")","v":""},"","",null,"","","",{"$f":"IF(O819=\"\",\"\",CONCATENATE(\"*11....+\",VLOOKUP(16-(LEN(N819)),'1'!$A$1:$B$16,2,TRUE),N819,\" 81..40+\",VLOOKUP(16-(LEN(O819)),'1'!$A$1:$B$16,2,TRUE),O819,\" 82..40+\",VLOOKUP(16-(LEN(O819)),'1'!$A$1:$B$16,2,TRUE),P819,\" 71....+0000000000000000 \"))","v":""},null,""]
[null,{"$f":"IF(I820=\"\",\"\",ROWS($A$3:A820))","v":""},"","","","","","","","",{"$f":"IFERROR(SMALL($B$3:$B$2002,ROWS($A$3:A820)),\"\")","v":""},"","",null,"","","",{"$f":"IF(O820=\"\",\"\",CONCATENATE(\"*11....+\",VLOOKUP(16-(LEN(N820)),'1'!$A$1:$B$16,2,TRUE),N820,\" 81..40+\",VLOOKUP(16-(LEN(O820)),'1'!$A$1:$B$16,2,TRUE),O820,\" 82..40+\",VLOOKUP(16-(LEN(O820)),'1'!$A$1:$B$16,2,TRUE),P820,\" 71....+0000000000000000 \"))","v":""},null,""]
[null,{"$f":"IF(I821=\"\",\"\",ROWS($A$3:A821))","v":""},"","","","","","","","",{"$f":"IFERROR(SMALL($B$3:$B$2002,ROWS($A$3:A821)),\"\")","v":""},"","",null,"","","",{"$f":"IF(O821=\"\",\"\",CONCATENATE(\"*11....+\",VLOOKUP(16-(LEN(N821)),'1'!$A$1:$B$16,2,TRUE),N821,\" 81..40+\",VLOOKUP(16-(LEN(O821)),'1'!$A$1:$B$16,2,TRUE),O821,\" 82..40+\",VLOOKUP(16-(LEN(O821)),'1'!$A$1:$B$16,2,TRUE),P821,\" 71....+0000000000000000 \"))","v":""},null,""]
[null,{"$f":"IF(I822=\"\",\"\",ROWS($A$3:A822))","v":""},"","","","","","","","",{"$f":"IFERROR(SMALL($B$3:$B$2002,ROWS($A$3:A822)),\"\")","v":""},"","",null,"","","",{"$f":"IF(O822=\"\",\"\",CONCATENATE(\"*11....+\",VLOOKUP(16-(LEN(N822)),'1'!$A$1:$B$16,2,TRUE),N822,\" 81..40+\",VLOOKUP(16-(LEN(O822)),'1'!$A$1:$B$16,2,TRUE),O822,\" 82..40+\",VLOOKUP(16-(LEN(O822)),'1'!$A$1:$B$16,2,TRUE),P822,\" 71....+0000000000000000 \"))","v":""},null,""]
[null,{"$f":"IF(I823=\"\",\"\",ROWS($A$3:A823))","v":""},"","","","","","","","",{"$f":"IFERROR(SMALL($B$3:$B$2002,ROWS($A$3:A823)),\"\")","v":""},"","",null,"","","",{"$f":"IF(O823=\"\",\"\",CONCATENATE(\"*11....+\",VLOOKUP(16-(LEN(N823)),'1'!$A$1:$B$16,2,TRUE),N823,\" 81..40+\",VLOOKUP(16-(LEN(O823)),'1'!$A$1:$B$16,2,TRUE),O823,\" 82..40+\",VLOOKUP(16-(LEN(O823)),'1'!$A$1:$B$16,2,TRUE),P823,\" 71....+0000000000000000 \"))","v":""},null,""]
[null,{"$f":"IF(I824=\"\",\"\",ROWS($A$3:A824))","v":""},"","","","","","","","",{"$f":"IFERROR(SMALL($B$3:$B$2002,ROWS($A$3:A824)),\"\")","v":""},"","",null,"","","",{"$f":"IF(O824=\"\",\"\",CONCATENATE(\"*11....+\",VLOOKUP(16-(LEN(N824)),'1'!$A$1:$B$16,2,TRUE),N824,\" 81..40+\",VLOOKUP(16-(LEN(O824)),'1'!$A$1:$B$16,2,TRUE),O824,\" 82..40+\",VLOOKUP(16-(LEN(O824)),'1'!$A$1:$B$16,2,TRUE),P824,\" 71....+0000000000000000 \"))","v":""},null,""]
[null,{"$f":"IF(I825=\"\",\"\",ROWS($A$3:A825))","v":""},"","","","","","","","",{"$f":"IFERROR(SMALL($B$3:$B$2002,ROWS($A$3:A825)),\"\")","v":""},"","",null,"","","",{"$f":"IF(O825=\"\",\"\",CONCATENATE(\"*11....+\",VLOOKUP(16-(LEN(N825)),'1'!$A$1:$B$16,2,TRUE),N825,\" 81..40+\",VLOOKUP(16-(LEN(O825)),'1'!$A$1:$B$16,2,TRUE),O825,\" 82..40+\",VLOOKUP(16-(LEN(O825)),'1'!$A$1:$B$16,2,TRUE),P825,\" 71....+0000000000000000 \"))","v":""},null,""]
[null,{"$f":"IF(I826=\"\",\"\",ROWS($A$3:A826))","v":""},"","","","","","","","",{"$f":"IFERROR(SMALL($B$3:$B$2002,ROWS($A$3:A826)),\"\")","v":""},"","",null,"","","",{"$f":"IF(O826=\"\",\"\",CONCATENATE(\"*11....+\",VLOOKUP(16-(LEN(N826)),'1'!$A$1:$B$16,2,TRUE),N826,\" 81..40+\",VLOOKUP(16-(LEN(O826)),'1'!$A$1:$B$16,2,TRUE),O826,\" 82..40+\",VLOOKUP(16-(LEN(O826)),'1'!$A$1:$B$16,2,TRUE),P826,\" 71....+0000000000000000 \"))","v":""},null,""]
[null,{"$f":"IF(I827=\"\",\"\",ROWS($A$3:A827))","v":""},"","","","","","","","",{"$f":"IFERROR(SMALL($B$3:$B$2002,ROWS($A$3:A827)),\"\")","v":""},"","",null,"","","",{"$f":"IF(O827=\"\",\"\",CONCATENATE(\"*11....+\",VLOOKUP(16-(LEN(N827)),'1'!$A$1:$B$16,2,TRUE),N827,\" 81..40+\",VLOOKUP(16-(LEN(O827)),'1'!$A$1:$B$16,2,TRUE),O827,\" 82..40+\",VLOOKUP(16-(LEN(O827)),'1'!$A$1:$B$16,2,TRUE),P827,\" 71....+0000000000000000 \"))","v":""},null,""]
[null,{"$f":"IF(I828=\"\",\"\",ROWS($A$3:A828))","v":""},"","","","","","","","",{"$f":"IFERROR(SMALL($B$3:$B$2002,ROWS($A$3:A828)),\"\")","v":""},"","",null,"","","",{"$f":"IF(O828=\"\",\"\",CONCATENATE(\"*11....+\",VLOOKUP(16-(LEN(N828)),'1'!$A$1:$B$16,2,TRUE),N828,\" 81..40+\",VLOOKUP(16-(LEN(O828)),'1'!$A$1:$B$16,2,TRUE),O828,\" 82..40+\",VLOOKUP(16-(LEN(O828)),'1'!$A$1:$B$16,2,TRUE),P828,\" 71....+0000000000000000 \"))","v":""},null,""]
[null,{"$f":"IF(I829=\"\",\"\",ROWS($A$3:A829))","v":""},"","","","","","","","",{"$f":"IFERROR(SMALL($B$3:$B$2002,ROWS($A$3:A829)),\"\")","v":""},"","",null,"","","",{"$f":"IF(O829=\"\",\"\",CONCATENATE(\"*11....+\",VLOOKUP(16-(LEN(N829)),'1'!$A$1:$B$16,2,TRUE),N829,\" 81..40+\",VLOOKUP(16-(LEN(O829)),'1'!$A$1:$B$16,2,TRUE),O829,\" 82..40+\",VLOOKUP(16-(LEN(O829)),'1'!$A$1:$B$16,2,TRUE),P829,\" 71....+0000000000000000 \"))","v":""},null,""]
[null,{"$f":"IF(I830=\"\",\"\",ROWS($A$3:A830))","v":""},"","","","","","","","",{"$f":"IFERROR(SMALL($B$3:$B$2002,ROWS($A$3:A830)),\"\")","v":""},"","",null,"","","",{"$f":"IF(O830=\"\",\"\",CONCATENATE(\"*11....+\",VLOOKUP(16-(LEN(N830)),'1'!$A$1:$B$16,2,TRUE),N830,\" 81..40+\",VLOOKUP(16-(LEN(O830)),'1'!$A$1:$B$16,2,TRUE),O830,\" 82..40+\",VLOOKUP(16-(LEN(O830)),'1'!$A$1:$B$16,2,TRUE),P830,\" 71....+0000000000000000 \"))","v":""},null,""]
[null,{"$f":"IF(I831=\"\",\"\",ROWS($A$3:A831))","v":""},"","","","","","","","",{"$f":"IFERROR(SMALL($B$3:$B$2002,ROWS($A$3:A831)),\"\")","v":""},"","",null,"","","",{"$f":"IF(O831=\"\",\"\",CONCATENATE(\"*11....+\",VLOOKUP(16-(LEN(N831)),'1'!$A$1:$B$16,2,TRUE),N831,\" 81..40+\",VLOOKUP(16-(LEN(O831)),'1'!$A$1:$B$16,2,TRUE),O831,\" 82..40+\",VLOOKUP(16-(LEN(O831)),'1'!$A$1:$B$16,2,TRUE),P831,\" 71....+0000000000000000 \"))","v":""},null,""]
[null,{"$f":"IF(I832=\"\",\"\",ROWS($A$3:A832))","v":""},"","","","","","","","",{"$f":"IFERROR(SMALL($B$3:$B$2002,ROWS($A$3:A832)),\"\")","v":""},"","",null,"","","",{"$f":"IF(O832=\"\",\"\",CONCATENATE(\"*11....+\",VLOOKUP(16-(LEN(N832)),'1'!$A$1:$B$16,2,TRUE),N832,\" 81..40+\",VLOOKUP(16-(LEN(O832)),'1'!$A$1:$B$16,2,TRUE),O832,\" 82..40+\",VLOOKUP(16-(LEN(O832)),'1'!$A$1:$B$16,2,TRUE),P832,\" 71....+0000000000000000 \"))","v":""},null,""]
[null,{"$f":"IF(I833=\"\",\"\",ROWS($A$3:A833))","v":""},"","","","","","","","",{"$f":"IFERROR(SMALL($B$3:$B$2002,ROWS($A$3:A833)),\"\")","v":""},"","",null,"","","",{"$f":"IF(O833=\"\",\"\",CONCATENATE(\"*11....+\",VLOOKUP(16-(LEN(N833)),'1'!$A$1:$B$16,2,TRUE),N833,\" 81..40+\",VLOOKUP(16-(LEN(O833)),'1'!$A$1:$B$16,2,TRUE),O833,\" 82..40+\",VLOOKUP(16-(LEN(O833)),'1'!$A$1:$B$16,2,TRUE),P833,\" 71....+0000000000000000 \"))","v":""},null,""]
[null,{"$f":"IF(I834=\"\",\"\",ROWS($A$3:A834))","v":""},"","","","","","","","",{"$f":"IFERROR(SMALL($B$3:$B$2002,ROWS($A$3:A834)),\"\")","v":""},"","",null,"","","",{"$f":"IF(O834=\"\",\"\",CONCATENATE(\"*11....+\",VLOOKUP(16-(LEN(N834)),'1'!$A$1:$B$16,2,TRUE),N834,\" 81..40+\",VLOOKUP(16-(LEN(O834)),'1'!$A$1:$B$16,2,TRUE),O834,\" 82..40+\",VLOOKUP(16-(LEN(O834)),'1'!$A$1:$B$16,2,TRUE),P834,\" 71....+0000000000000000 \"))","v":""},null,""]
[null,{"$f":"IF(I835=\"\",\"\",ROWS($A$3:A835))","v":""},"","","","","","","","",{"$f":"IFERROR(SMALL($B$3:$B$2002,ROWS($A$3:A835)),\"\")","v":""},"","",null,"","","",{"$f":"IF(O835=\"\",\"\",CONCATENATE(\"*11....+\",VLOOKUP(16-(LEN(N835)),'1'!$A$1:$B$16,2,TRUE),N835,\" 81..40+\",VLOOKUP(16-(LEN(O835)),'1'!$A$1:$B$16,2,TRUE),O835,\" 82..40+\",VLOOKUP(16-(LEN(O835)),'1'!$A$1:$B$16,2,TRUE),P835,\" 71....+0000000000000000 \"))","v":""},null,""]
[null,{"$f":"IF(I836=\"\",\"\",ROWS($A$3:A836))","v":""},{"$f":"IF(LEN(A836)=59,ROUND(VALUE(MID(A836,23,9)),3),\"\")","v":""},{"$f":"IF(LEN(A836)=24,\"\",\"\")","v":""},{"$f":"IF(LEN(A836)=63,ROUND(VALUE(MID(A836,23,12)),3),\"\")","v":""},{"$f":"IF(LEN(A836)=59,ROUND(VALUE(MID(A836,37,9)),3),\"\")","v":""},{"$f":"IF(LEN(A836)=24,\"\",\"\")","v":""},{"$f":"IF(LEN(A836)=63,ROUND(VALUE(MID(A836,39,12)),3),\"\")","v":""},{"$f":"IF(AND(C836=\"\",D836=\"\",E836=\"\"),\"\",ROUND(CONCATENATE(C836,D836,E836),3))","v":""},{"$f":"IF(AND(C836=\"\",D836=\"\",E836=\"\"),\"\",ROUND(CONCATENATE(F836,G836,H836),3))","v":""},{"$f":"IFERROR(SMALL($B$3:$B$2002,ROWS($A$3:A836)),\"\")","v":""},{"$f":"IF(K836=\"\",\"\",ROUND(VALUE(VLOOKUP(K836,$B$3:$J$2002,8,TRUE)),3))","v":""},{"$f":"IF(K836=\"\",\"\",ROUND(VALUE(VLOOKUP(K836,$B$3:$J$2002,9,TRUE)),3))","v":""},null,{"$f":"IF(L836=\"\",\"\",L836/0.001)","v":""},"",{"$f":"IF(O836=\"\",\"\",16-LEN(N836))","v":""},{"$f":"IF(O836=\"\",\"\",CONCATENATE(\"*11....+\",VLOOKUP(16-(LEN(N836)),'1'!$A$1:$B$16,2,TRUE),N836,\" 81..40+\",VLOOKUP(16-(LEN(O836)),'1'!$A$1:$B$16,2,TRUE),O836,\" 82..40+\",VLOOKUP(16-(LEN(O836)),'1'!$A$1:$B$16,2,TRUE),P836,\" 71....+0000000000000000 \"))","v":""},null,{"$f":"IF(O836=\"\",\"\",CONCATENATE(N836,\",\",L836,\",\",M836))","v":""}]
[null,{"$f":"IF(I837=\"\",\"\",ROWS($A$3:A837))","v":""},"","","","","","","","",{"$f":"IFERROR(SMALL($B$3:$B$2002,ROWS($A$3:A837)),\"\")","v":""},"","",null,"","","",{"$f":"IF(O837=\"\",\"\",CONCATENATE(\"*11....+\",VLOOKUP(16-(LEN(N837)),'1'!$A$1:$B$16,2,TRUE),N837,\" 81..40+\",VLOOKUP(16-(LEN(O837)),'1'!$A$1:$B$16,2,TRUE),O837,\" 82..40+\",VLOOKUP(16-(LEN(O837)),'1'!$A$1:$B$16,2,TRUE),P837,\" 71....+0000000000000000 \"))","v":""},null,""]
[null,{"$f":"IF(I838=\"\",\"\",ROWS($A$3:A838))","v":""},"","","","","","","","",{"$f":"IFERROR(SMALL($B$3:$B$2002,ROWS($A$3:A838)),\"\")","v":""},"","",null,"","","",{"$f":"IF(O838=\"\",\"\",CONCATENATE(\"*11....+\",VLOOKUP(16-(LEN(N838)),'1'!$A$1:$B$16,2,TRUE),N838,\" 81..40+\",VLOOKUP(16-(LEN(O838)),'1'!$A$1:$B$16,2,TRUE),O838,\" 82..40+\",VLOOKUP(16-(LEN(O838)),'1'!$A$1:$B$16,2,TRUE),P838,\" 71....+0000000000000000 \"))","v":""},null,""]
[null,{"$f":"IF(I839=\"\",\"\",ROWS($A$3:A839))","v":""},"","","","","","","","",{"$f":"IFERROR(SMALL($B$3:$B$2002,ROWS($A$3:A839)),\"\")","v":""},"","",null,"","","",{"$f":"IF(O839=\"\",\"\",CONCATENATE(\"*11....+\",VLOOKUP(16-(LEN(N839)),'1'!$A$1:$B$16,2,TRUE),N839,\" 81..40+\",VLOOKUP(16-(LEN(O839)),'1'!$A$1:$B$16,2,TRUE),O839,\" 82..40+\",VLOOKUP(16-(LEN(O839)),'1'!$A$1:$B$16,2,TRUE),P839,\" 71....+0000000000000000 \"))","v":""},null,""]
[null,{"$f":"IF(I840=\"\",\"\",ROWS($A$3:A840))","v":""},"","","","","","","","",{"$f":"IFERROR(SMALL($B$3:$B$2002,ROWS($A$3:A840)),\"\")","v":""},"","",null,"","","",{"$f":"IF(O840=\"\",\"\",CONCATENATE(\"*11....+\",VLOOKUP(16-(LEN(N840)),'1'!$A$1:$B$16,2,TRUE),N840,\" 81..40+\",VLOOKUP(16-(LEN(O840)),'1'!$A$1:$B$16,2,TRUE),O840,\" 82..40+\",VLOOKUP(16-(LEN(O840)),'1'!$A$1:$B$16,2,TRUE),P840,\" 71....+0000000000000000 \"))","v":""},null,""]
[null,{"$f":"IF(I841=\"\",\"\",ROWS($A$3:A841))","v":""},"","","","","","","","",{"$f":"IFERROR(SMALL($B$3:$B$2002,ROWS($A$3:A841)),\"\")","v":""},"","",null,"","","",{"$f":"IF(O841=\"\",\"\",CONCATENATE(\"*11....+\",VLOOKUP(16-(LEN(N841)),'1'!$A$1:$B$16,2,TRUE),N841,\" 81..40+\",VLOOKUP(16-(LEN(O841)),'1'!$A$1:$B$16,2,TRUE),O841,\" 82..40+\",VLOOKUP(16-(LEN(O841)),'1'!$A$1:$B$16,2,TRUE),P841,\" 71....+0000000000000000 \"))","v":""},null,""]
[null,{"$f":"IF(I842=\"\",\"\",ROWS($A$3:A842))","v":""},"","","","","","","","",{"$f":"IFERROR(SMALL($B$3:$B$2002,ROWS($A$3:A842)),\"\")","v":""},"","",null,"","","",{"$f":"IF(O842=\"\",\"\",CONCATENATE(\"*11....+\",VLOOKUP(16-(LEN(N842)),'1'!$A$1:$B$16,2,TRUE),N842,\" 81..40+\",VLOOKUP(16-(LEN(O842)),'1'!$A$1:$B$16,2,TRUE),O842,\" 82..40+\",VLOOKUP(16-(LEN(O842)),'1'!$A$1:$B$16,2,TRUE),P842,\" 71....+0000000000000000 \"))","v":""},null,""]
[null,{"$f":"IF(I843=\"\",\"\",ROWS($A$3:A843))","v":""},"","","","","","","","",{"$f":"IFERROR(SMALL($B$3:$B$2002,ROWS($A$3:A843)),\"\")","v":""},"","",null,"","","",{"$f":"IF(O843=\"\",\"\",CONCATENATE(\"*11....+\",VLOOKUP(16-(LEN(N843)),'1'!$A$1:$B$16,2,TRUE),N843,\" 81..40+\",VLOOKUP(16-(LEN(O843)),'1'!$A$1:$B$16,2,TRUE),O843,\" 82..40+\",VLOOKUP(16-(LEN(O843)),'1'!$A$1:$B$16,2,TRUE),P843,\" 71....+0000000000000000 \"))","v":""},null,""]
[null,{"$f":"IF(I844=\"\",\"\",ROWS($A$3:A844))","v":""},"","","","","","","","",{"$f":"IFERROR(SMALL($B$3:$B$2002,ROWS($A$3:A844)),\"\")","v":""},"","",null,"","","",{"$f":"IF(O844=\"\",\"\",CONCATENATE(\"*11....+\",VLOOKUP(16-(LEN(N844)),'1'!$A$1:$B$16,2,TRUE),N844,\" 81..40+\",VLOOKUP(16-(LEN(O844)),'1'!$A$1:$B$16,2,TRUE),O844,\" 82..40+\",VLOOKUP(16-(LEN(O844)),'1'!$A$1:$B$16,2,TRUE),P844,\" 71....+0000000000000000 \"))","v":""},null,""]
[null,{"$f":"IF(I845=\"\",\"\",ROWS($A$3:A845))","v":""},"","","","","","","","",{"$f":"IFERROR(SMALL($B$3:$B$2002,ROWS($A$3:A845)),\"\")","v":""},"","",null,"","","",{"$f":"IF(O845=\"\",\"\",CONCATENATE(\"*11....+\",VLOOKUP(16-(LEN(N845)),'1'!$A$1:$B$16,2,TRUE),N845,\" 81..40+\",VLOOKUP(16-(LEN(O845)),'1'!$A$1:$B$16,2,TRUE),O845,\" 82..40+\",VLOOKUP(16-(LEN(O845)),'1'!$A$1:$B$16,2,TRUE),P845,\" 71....+0000000000000000 \"))","v":""},null,""]
[null,{"$f":"IF(I846=\"\",\"\",ROWS($A$3:A846))","v":""},"","","","","","","","",{"$f":"IFERROR(SMALL($B$3:$B$2002,ROWS($A$3:A846)),\"\")","v":""},"","",null,"","","",{"$f":"IF(O846=\"\",\"\",CONCATENATE(\"*11....+\",VLOOKUP(16-(LEN(N846)),'1'!$A$1:$B$16,2,TRUE),N846,\" 81..40+\",VLOOKUP(16-(LEN(O846)),'1'!$A$1:$B$16,2,TRUE),O846,\" 82..40+\",VLOOKUP(16-(LEN(O846)),'1'!$A$1:$B$16,2,TRUE),P846,\" 71....+0000000000000000 \"))","v":""},null,""]
[null,{"$f":"IF(I847=\"\",\"\",ROWS($A$3:A847))","v":""},"","","","","","","","",{"$f":"IFERROR(SMALL($B$3:$B$2002,ROWS($A$3:A847)),\"\")","v":""},"","",null,"","","",{"$f":"IF(O847=\"\",\"\",CONCATENATE(\"*11....+\",VLOOKUP(16-(LEN(N847)),'1'!$A$1:$B$16,2,TRUE),N847,\" 81..40+\",VLOOKUP(16-(LEN(O847)),'1'!$A$1:$B$16,2,TRUE),O847,\" 82..40+\",VLOOKUP(16-(LEN(O847)),'1'!$A$1:$B$16,2,TRUE),P847,\" 71....+0000000000000000 \"))","v":""},null,""]
[null,{"$f":"IF(I848=\"\",\"\",ROWS($A$3:A848))","v":""},"","","","","","","","",{"$f":"IFERROR(SMALL($B$3:$B$2002,ROWS($A$3:A848)),\"\")","v":""},"","",null,"","","",{"$f":"IF(O848=\"\",\"\",CONCATENATE(\"*11....+\",VLOOKUP(16-(LEN(N848)),'1'!$A$1:$B$16,2,TRUE),N848,\" 81..40+\",VLOOKUP(16-(LEN(O848)),'1'!$A$1:$B$16,2,TRUE),O848,\" 82..40+\",VLOOKUP(16-(LEN(O848)),'1'!$A$1:$B$16,2,TRUE),P848,\" 71....+0000000000000000 \"))","v":""},null,""]
[null,{"$f":"IF(I849=\"\",\"\",ROWS($A$3:A849))","v":""},"","","","","","","","",{"$f":"IFERROR(SMALL($B$3:$B$2002,ROWS($A$3:A849)),\"\")","v":""},"","",null,"","","",{"$f":"IF(O849=\"\",\"\",CONCATENATE(\"*11....+\",VLOOKUP(16-(LEN(N849)),'1'!$A$1:$B$16,2,TRUE),N849,\" 81..40+\",VLOOKUP(16-(LEN(O849)),'1'!$A$1:$B$16,2,TRUE),O849,\" 82..40+\",VLOOKUP(16-(LEN(O849)),'1'!$A$1:$B$16,2,TRUE),P849,\" 71....+0000000000000000 \"))","v":""},null,""]
[null,{"$f":"IF(I850=\"\",\"\",ROWS($A$3:A850))","v":""},"","","","","","","","",{"$f":"IFERROR(SMALL($B$3:$B$2002,ROWS($A$3:A850)),\"\")","v":""},"","",null,"","","",{"$f":"IF(O850=\"\",\"\",CONCATENATE(\"*11....+\",VLOOKUP(16-(LEN(N850)),'1'!$A$1:$B$16,2,TRUE),N850,\" 81..40+\",VLOOKUP(16-(LEN(O850)),'1'!$A$1:$B$16,2,TRUE),O850,\" 82..40+\",VLOOKUP(16-(LEN(O850)),'1'!$A$1:$B$16,2,TRUE),P850,\" 71....+0000000000000000 \"))","v":""},null,""]
[null,{"$f":"IF(I851=\"\",\"\",ROWS($A$3:A851))","v":""},"","","","","","","","",{"$f":"IFERROR(SMALL($B$3:$B$2002,ROWS($A$3:A851)),\"\")","v":""},"","",null,"","","",{"$f":"IF(O851=\"\",\"\",CONCATENATE(\"*11....+\",VLOOKUP(16-(LEN(N851)),'1'!$A$1:$B$16,2,TRUE),N851,\" 81..40+\",VLOOKUP(16-(LEN(O851)),'1'!$A$1:$B$16,2,TRUE),O851,\" 82..40+\",VLOOKUP(16-(LEN(O851)),'1'!$A$1:$B$16,2,TRUE),P851,\" 71....+0000000000000000 \"))","v":""},null,""]
[null,{"$f":"IF(I852=\"\",\"\",ROWS($A$3:A852))","v":""},"","","","","","","","",{"$f":"IFERROR(SMALL($B$3:$B$2002,ROWS($A$3:A852)),\"\")","v":""},"","",null,"","","",{"$f":"IF(O852=\"\",\"\",CONCATENATE(\"*11....+\",VLOOKUP(16-(LEN(N852)),'1'!$A$1:$B$16,2,TRUE),N852,\" 81..40+\",VLOOKUP(16-(LEN(O852)),'1'!$A$1:$B$16,2,TRUE),O852,\" 82..40+\",VLOOKUP(16-(LEN(O852)),'1'!$A$1:$B$16,2,TRUE),P852,\" 71....+0000000000000000 \"))","v":""},null,""]
[null,{"$f":"IF(I853=\"\",\"\",ROWS($A$3:A853))","v":""},"","","","","","","","",{"$f":"IFERROR(SMALL($B$3:$B$2002,ROWS($A$3:A853)),\"\")","v":""},"","",null,"","","",{"$f":"IF(O853=\"\",\"\",CONCATENATE(\"*11....+\",VLOOKUP(16-(LEN(N853)),'1'!$A$1:$B$16,2,TRUE),N853,\" 81..40+\",VLOOKUP(16-(LEN(O853)),'1'!$A$1:$B$16,2,TRUE),O853,\" 82..40+\",VLOOKUP(16-(LEN(O853)),'1'!$A$1:$B$16,2,TRUE),P853,\" 71....+0000000000000000 \"))","v":""},null,""]
[null,{"$f":"IF(I854=\"\",\"\",ROWS($A$3:A854))","v":""},"","","","","","","","",{"$f":"IFERROR(SMALL($B$3:$B$2002,ROWS($A$3:A854)),\"\")","v":""},"","",null,"","","",{"$f":"IF(O854=\"\",\"\",CONCATENATE(\"*11....+\",VLOOKUP(16-(LEN(N854)),'1'!$A$1:$B$16,2,TRUE),N854,\" 81..40+\",VLOOKUP(16-(LEN(O854)),'1'!$A$1:$B$16,2,TRUE),O854,\" 82..40+\",VLOOKUP(16-(LEN(O854)),'1'!$A$1:$B$16,2,TRUE),P854,\" 71....+0000000000000000 \"))","v":""},null,""]
[null,{"$f":"IF(I855=\"\",\"\",ROWS($A$3:A855))","v":""},"","","","","","","","",{"$f":"IFERROR(SMALL($B$3:$B$2002,ROWS($A$3:A855)),\"\")","v":""},"","",null,"","","",{"$f":"IF(O855=\"\",\"\",CONCATENATE(\"*11....+\",VLOOKUP(16-(LEN(N855)),'1'!$A$1:$B$16,2,TRUE),N855,\" 81..40+\",VLOOKUP(16-(LEN(O855)),'1'!$A$1:$B$16,2,TRUE),O855,\" 82..40+\",VLOOKUP(16-(LEN(O855)),'1'!$A$1:$B$16,2,TRUE),P855,\" 71....+0000000000000000 \"))","v":""},null,""]
[null,{"$f":"IF(I856=\"\",\"\",ROWS($A$3:A856))","v":""},"","","","","","","","",{"$f":"IFERROR(SMALL($B$3:$B$2002,ROWS($A$3:A856)),\"\")","v":""},"","",null,"","","",{"$f":"IF(O856=\"\",\"\",CONCATENATE(\"*11....+\",VLOOKUP(16-(LEN(N856)),'1'!$A$1:$B$16,2,TRUE),N856,\" 81..40+\",VLOOKUP(16-(LEN(O856)),'1'!$A$1:$B$16,2,TRUE),O856,\" 82..40+\",VLOOKUP(16-(LEN(O856)),'1'!$A$1:$B$16,2,TRUE),P856,\" 71....+0000000000000000 \"))","v":""},null,""]
[null,{"$f":"IF(I857=\"\",\"\",ROWS($A$3:A857))","v":""},"","","","","","","","",{"$f":"IFERROR(SMALL($B$3:$B$2002,ROWS($A$3:A857)),\"\")","v":""},"","",null,"","","",{"$f":"IF(O857=\"\",\"\",CONCATENATE(\"*11....+\",VLOOKUP(16-(LEN(N857)),'1'!$A$1:$B$16,2,TRUE),N857,\" 81..40+\",VLOOKUP(16-(LEN(O857)),'1'!$A$1:$B$16,2,TRUE),O857,\" 82..40+\",VLOOKUP(16-(LEN(O857)),'1'!$A$1:$B$16,2,TRUE),P857,\" 71....+0000000000000000 \"))","v":""},null,""]
[null,{"$f":"IF(I858=\"\",\"\",ROWS($A$3:A858))","v":""},"","","","","","","","",{"$f":"IFERROR(SMALL($B$3:$B$2002,ROWS($A$3:A858)),\"\")","v":""},"","",null,"","","",{"$f":"IF(O858=\"\",\"\",CONCATENATE(\"*11....+\",VLOOKUP(16-(LEN(N858)),'1'!$A$1:$B$16,2,TRUE),N858,\" 81..40+\",VLOOKUP(16-(LEN(O858)),'1'!$A$1:$B$16,2,TRUE),O858,\" 82..40+\",VLOOKUP(16-(LEN(O858)),'1'!$A$1:$B$16,2,TRUE),P858,\" 71....+0000000000000000 \"))","v":""},null,""]
[null,{"$f":"IF(I859=\"\",\"\",ROWS($A$3:A859))","v":""},"","","","","","","","",{"$f":"IFERROR(SMALL($B$3:$B$2002,ROWS($A$3:A859)),\"\")","v":""},"","",null,"","","",{"$f":"IF(O859=\"\",\"\",CONCATENATE(\"*11....+\",VLOOKUP(16-(LEN(N859)),'1'!$A$1:$B$16,2,TRUE),N859,\" 81..40+\",VLOOKUP(16-(LEN(O859)),'1'!$A$1:$B$16,2,TRUE),O859,\" 82..40+\",VLOOKUP(16-(LEN(O859)),'1'!$A$1:$B$16,2,TRUE),P859,\" 71....+0000000000000000 \"))","v":""},null,""]
[null,{"$f":"IF(I860=\"\",\"\",ROWS($A$3:A860))","v":""},"","","","","","","","",{"$f":"IFERROR(SMALL($B$3:$B$2002,ROWS($A$3:A860)),\"\")","v":""},"","",null,"","","",{"$f":"IF(O860=\"\",\"\",CONCATENATE(\"*11....+\",VLOOKUP(16-(LEN(N860)),'1'!$A$1:$B$16,2,TRUE),N860,\" 81..40+\",VLOOKUP(16-(LEN(O860)),'1'!$A$1:$B$16,2,TRUE),O860,\" 82..40+\",VLOOKUP(16-(LEN(O860)),'1'!$A$1:$B$16,2,TRUE),P860,\" 71....+0000000000000000 \"))","v":""},null,""]
[null,{"$f":"IF(I861=\"\",\"\",ROWS($A$3:A861))","v":""},"","","","","","","","",{"$f":"IFERROR(SMALL($B$3:$B$2002,ROWS($A$3:A861)),\"\")","v":""},"","",null,"","","",{"$f":"IF(O861=\"\",\"\",CONCATENATE(\"*11....+\",VLOOKUP(16-(LEN(N861)),'1'!$A$1:$B$16,2,TRUE),N861,\" 81..40+\",VLOOKUP(16-(LEN(O861)),'1'!$A$1:$B$16,2,TRUE),O861,\" 82..40+\",VLOOKUP(16-(LEN(O861)),'1'!$A$1:$B$16,2,TRUE),P861,\" 71....+0000000000000000 \"))","v":""},null,""]
[null,{"$f":"IF(I862=\"\",\"\",ROWS($A$3:A862))","v":""},"","","","","","","","",{"$f":"IFERROR(SMALL($B$3:$B$2002,ROWS($A$3:A862)),\"\")","v":""},"","",null,"","","",{"$f":"IF(O862=\"\",\"\",CONCATENATE(\"*11....+\",VLOOKUP(16-(LEN(N862)),'1'!$A$1:$B$16,2,TRUE),N862,\" 81..40+\",VLOOKUP(16-(LEN(O862)),'1'!$A$1:$B$16,2,TRUE),O862,\" 82..40+\",VLOOKUP(16-(LEN(O862)),'1'!$A$1:$B$16,2,TRUE),P862,\" 71....+0000000000000000 \"))","v":""},null,""]
[null,{"$f":"IF(I863=\"\",\"\",ROWS($A$3:A863))","v":""},"","","","","","","","",{"$f":"IFERROR(SMALL($B$3:$B$2002,ROWS($A$3:A863)),\"\")","v":""},"","",null,"","","",{"$f":"IF(O863=\"\",\"\",CONCATENATE(\"*11....+\",VLOOKUP(16-(LEN(N863)),'1'!$A$1:$B$16,2,TRUE),N863,\" 81..40+\",VLOOKUP(16-(LEN(O863)),'1'!$A$1:$B$16,2,TRUE),O863,\" 82..40+\",VLOOKUP(16-(LEN(O863)),'1'!$A$1:$B$16,2,TRUE),P863,\" 71....+0000000000000000 \"))","v":""},null,""]
[null,{"$f":"IF(I864=\"\",\"\",ROWS($A$3:A864))","v":""},"","","","","","","","",{"$f":"IFERROR(SMALL($B$3:$B$2002,ROWS($A$3:A864)),\"\")","v":""},"","",null,"","","",{"$f":"IF(O864=\"\",\"\",CONCATENATE(\"*11....+\",VLOOKUP(16-(LEN(N864)),'1'!$A$1:$B$16,2,TRUE),N864,\" 81..40+\",VLOOKUP(16-(LEN(O864)),'1'!$A$1:$B$16,2,TRUE),O864,\" 82..40+\",VLOOKUP(16-(LEN(O864)),'1'!$A$1:$B$16,2,TRUE),P864,\" 71....+0000000000000000 \"))","v":""},null,""]
[null,{"$f":"IF(I865=\"\",\"\",ROWS($A$3:A865))","v":""},"","","","","","","","",{"$f":"IFERROR(SMALL($B$3:$B$2002,ROWS($A$3:A865)),\"\")","v":""},"","",null,"","","",{"$f":"IF(O865=\"\",\"\",CONCATENATE(\"*11....+\",VLOOKUP(16-(LEN(N865)),'1'!$A$1:$B$16,2,TRUE),N865,\" 81..40+\",VLOOKUP(16-(LEN(O865)),'1'!$A$1:$B$16,2,TRUE),O865,\" 82..40+\",VLOOKUP(16-(LEN(O865)),'1'!$A$1:$B$16,2,TRUE),P865,\" 71....+0000000000000000 \"))","v":""},null,""]
[null,{"$f":"IF(I866=\"\",\"\",ROWS($A$3:A866))","v":""},"","","","","","","","",{"$f":"IFERROR(SMALL($B$3:$B$2002,ROWS($A$3:A866)),\"\")","v":""},"","",null,"","","",{"$f":"IF(O866=\"\",\"\",CONCATENATE(\"*11....+\",VLOOKUP(16-(LEN(N866)),'1'!$A$1:$B$16,2,TRUE),N866,\" 81..40+\",VLOOKUP(16-(LEN(O866)),'1'!$A$1:$B$16,2,TRUE),O866,\" 82..40+\",VLOOKUP(16-(LEN(O866)),'1'!$A$1:$B$16,2,TRUE),P866,\" 71....+0000000000000000 \"))","v":""},null,""]
[null,{"$f":"IF(I867=\"\",\"\",ROWS($A$3:A867))","v":""},"","","","","","","","",{"$f":"IFERROR(SMALL($B$3:$B$2002,ROWS($A$3:A867)),\"\")","v":""},"","",null,"","","",{"$f":"IF(O867=\"\",\"\",CONCATENATE(\"*11....+\",VLOOKUP(16-(LEN(N867)),'1'!$A$1:$B$16,2,TRUE),N867,\" 81..40+\",VLOOKUP(16-(LEN(O867)),'1'!$A$1:$B$16,2,TRUE),O867,\" 82..40+\",VLOOKUP(16-(LEN(O867)),'1'!$A$1:$B$16,2,TRUE),P867,\" 71....+0000000000000000 \"))","v":""},null,""]
[null,{"$f":"IF(I868=\"\",\"\",ROWS($A$3:A868))","v":""},"","","","","","","","",{"$f":"IFERROR(SMALL($B$3:$B$2002,ROWS($A$3:A868)),\"\")","v":""},"","",null,"","","",{"$f":"IF(O868=\"\",\"\",CONCATENATE(\"*11....+\",VLOOKUP(16-(LEN(N868)),'1'!$A$1:$B$16,2,TRUE),N868,\" 81..40+\",VLOOKUP(16-(LEN(O868)),'1'!$A$1:$B$16,2,TRUE),O868,\" 82..40+\",VLOOKUP(16-(LEN(O868)),'1'!$A$1:$B$16,2,TRUE),P868,\" 71....+0000000000000000 \"))","v":""},null,""]
[null,{"$f":"IF(I869=\"\",\"\",ROWS($A$3:A869))","v":""},"","","","","","","","",{"$f":"IFERROR(SMALL($B$3:$B$2002,ROWS($A$3:A869)),\"\")","v":""},"","",null,"","","",{"$f":"IF(O869=\"\",\"\",CONCATENATE(\"*11....+\",VLOOKUP(16-(LEN(N869)),'1'!$A$1:$B$16,2,TRUE),N869,\" 81..40+\",VLOOKUP(16-(LEN(O869)),'1'!$A$1:$B$16,2,TRUE),O869,\" 82..40+\",VLOOKUP(16-(LEN(O869)),'1'!$A$1:$B$16,2,TRUE),P869,\" 71....+0000000000000000 \"))","v":""},null,""]
[null,{"$f":"IF(I870=\"\",\"\",ROWS($A$3:A870))","v":""},"","","","","","","","",{"$f":"IFERROR(SMALL($B$3:$B$2002,ROWS($A$3:A870)),\"\")","v":""},"","",null,"","","",{"$f":"IF(O870=\"\",\"\",CONCATENATE(\"*11....+\",VLOOKUP(16-(LEN(N870)),'1'!$A$1:$B$16,2,TRUE),N870,\" 81..40+\",VLOOKUP(16-(LEN(O870)),'1'!$A$1:$B$16,2,TRUE),O870,\" 82..40+\",VLOOKUP(16-(LEN(O870)),'1'!$A$1:$B$16,2,TRUE),P870,\" 71....+0000000000000000 \"))","v":""},null,""]
[null,{"$f":"IF(I871=\"\",\"\",ROWS($A$3:A871))","v":""},"","","","","","","","",{"$f":"IFERROR(SMALL($B$3:$B$2002,ROWS($A$3:A871)),\"\")","v":""},"","",null,"","","",{"$f":"IF(O871=\"\",\"\",CONCATENATE(\"*11....+\",VLOOKUP(16-(LEN(N871)),'1'!$A$1:$B$16,2,TRUE),N871,\" 81..40+\",VLOOKUP(16-(LEN(O871)),'1'!$A$1:$B$16,2,TRUE),O871,\" 82..40+\",VLOOKUP(16-(LEN(O871)),'1'!$A$1:$B$16,2,TRUE),P871,\" 71....+0000000000000000 \"))","v":""},null,""]
[null,{"$f":"IF(I872=\"\",\"\",ROWS($A$3:A872))","v":""},"","","","","","","","",{"$f":"IFERROR(SMALL($B$3:$B$2002,ROWS($A$3:A872)),\"\")","v":""},"","",null,"","","",{"$f":"IF(O872=\"\",\"\",CONCATENATE(\"*11....+\",VLOOKUP(16-(LEN(N872)),'1'!$A$1:$B$16,2,TRUE),N872,\" 81..40+\",VLOOKUP(16-(LEN(O872)),'1'!$A$1:$B$16,2,TRUE),O872,\" 82..40+\",VLOOKUP(16-(LEN(O872)),'1'!$A$1:$B$16,2,TRUE),P872,\" 71....+0000000000000000 \"))","v":""},null,""]
[null,{"$f":"IF(I873=\"\",\"\",ROWS($A$3:A873))","v":""},"","","","","","","","",{"$f":"IFERROR(SMALL($B$3:$B$2002,ROWS($A$3:A873)),\"\")","v":""},"","",null,"","","",{"$f":"IF(O873=\"\",\"\",CONCATENATE(\"*11....+\",VLOOKUP(16-(LEN(N873)),'1'!$A$1:$B$16,2,TRUE),N873,\" 81..40+\",VLOOKUP(16-(LEN(O873)),'1'!$A$1:$B$16,2,TRUE),O873,\" 82..40+\",VLOOKUP(16-(LEN(O873)),'1'!$A$1:$B$16,2,TRUE),P873,\" 71....+0000000000000000 \"))","v":""},null,""]
[null,{"$f":"IF(I874=\"\",\"\",ROWS($A$3:A874))","v":""},"","","","","","","","",{"$f":"IFERROR(SMALL($B$3:$B$2002,ROWS($A$3:A874)),\"\")","v":""},"","",null,"","","",{"$f":"IF(O874=\"\",\"\",CONCATENATE(\"*11....+\",VLOOKUP(16-(LEN(N874)),'1'!$A$1:$B$16,2,TRUE),N874,\" 81..40+\",VLOOKUP(16-(LEN(O874)),'1'!$A$1:$B$16,2,TRUE),O874,\" 82..40+\",VLOOKUP(16-(LEN(O874)),'1'!$A$1:$B$16,2,TRUE),P874,\" 71....+0000000000000000 \"))","v":""},null,""]
[null,{"$f":"IF(I875=\"\",\"\",ROWS($A$3:A875))","v":""},"","","","","","","","",{"$f":"IFERROR(SMALL($B$3:$B$2002,ROWS($A$3:A875)),\"\")","v":""},"","",null,"","","",{"$f":"IF(O875=\"\",\"\",CONCATENATE(\"*11....+\",VLOOKUP(16-(LEN(N875)),'1'!$A$1:$B$16,2,TRUE),N875,\" 81..40+\",VLOOKUP(16-(LEN(O875)),'1'!$A$1:$B$16,2,TRUE),O875,\" 82..40+\",VLOOKUP(16-(LEN(O875)),'1'!$A$1:$B$16,2,TRUE),P875,\" 71....+0000000000000000 \"))","v":""},null,""]
[null,{"$f":"IF(I876=\"\",\"\",ROWS($A$3:A876))","v":""},"","","","","","","","",{"$f":"IFERROR(SMALL($B$3:$B$2002,ROWS($A$3:A876)),\"\")","v":""},"","",null,"","","",{"$f":"IF(O876=\"\",\"\",CONCATENATE(\"*11....+\",VLOOKUP(16-(LEN(N876)),'1'!$A$1:$B$16,2,TRUE),N876,\" 81..40+\",VLOOKUP(16-(LEN(O876)),'1'!$A$1:$B$16,2,TRUE),O876,\" 82..40+\",VLOOKUP(16-(LEN(O876)),'1'!$A$1:$B$16,2,TRUE),P876,\" 71....+0000000000000000 \"))","v":""},null,""]
[null,{"$f":"IF(I877=\"\",\"\",ROWS($A$3:A877))","v":""},"","","","","","","","",{"$f":"IFERROR(SMALL($B$3:$B$2002,ROWS($A$3:A877)),\"\")","v":""},"","",null,"","","",{"$f":"IF(O877=\"\",\"\",CONCATENATE(\"*11....+\",VLOOKUP(16-(LEN(N877)),'1'!$A$1:$B$16,2,TRUE),N877,\" 81..40+\",VLOOKUP(16-(LEN(O877)),'1'!$A$1:$B$16,2,TRUE),O877,\" 82..40+\",VLOOKUP(16-(LEN(O877)),'1'!$A$1:$B$16,2,TRUE),P877,\" 71....+0000000000000000 \"))","v":""},null,""]
[null,{"$f":"IF(I878=\"\",\"\",ROWS($A$3:A878))","v":""},"","","","","","","","",{"$f":"IFERROR(SMALL($B$3:$B$2002,ROWS($A$3:A878)),\"\")","v":""},"","",null,"","","",{"$f":"IF(O878=\"\",\"\",CONCATENATE(\"*11....+\",VLOOKUP(16-(LEN(N878)),'1'!$A$1:$B$16,2,TRUE),N878,\" 81..40+\",VLOOKUP(16-(LEN(O878)),'1'!$A$1:$B$16,2,TRUE),O878,\" 82..40+\",VLOOKUP(16-(LEN(O878)),'1'!$A$1:$B$16,2,TRUE),P878,\" 71....+0000000000000000 \"))","v":""},null,""]
[null,{"$f":"IF(I879=\"\",\"\",ROWS($A$3:A879))","v":""},"","","","","","","","",{"$f":"IFERROR(SMALL($B$3:$B$2002,ROWS($A$3:A879)),\"\")","v":""},"","",null,"","","",{"$f":"IF(O879=\"\",\"\",CONCATENATE(\"*11....+\",VLOOKUP(16-(LEN(N879)),'1'!$A$1:$B$16,2,TRUE),N879,\" 81..40+\",VLOOKUP(16-(LEN(O879)),'1'!$A$1:$B$16,2,TRUE),O879,\" 82..40+\",VLOOKUP(16-(LEN(O879)),'1'!$A$1:$B$16,2,TRUE),P879,\" 71....+0000000000000000 \"))","v":""},null,""]
[null,{"$f":"IF(I880=\"\",\"\",ROWS($A$3:A880))","v":""},"","","","","","","","",{"$f":"IFERROR(SMALL($B$3:$B$2002,ROWS($A$3:A880)),\"\")","v":""},"","",null,"","","",{"$f":"IF(O880=\"\",\"\",CONCATENATE(\"*11....+\",VLOOKUP(16-(LEN(N880)),'1'!$A$1:$B$16,2,TRUE),N880,\" 81..40+\",VLOOKUP(16-(LEN(O880)),'1'!$A$1:$B$16,2,TRUE),O880,\" 82..40+\",VLOOKUP(16-(LEN(O880)),'1'!$A$1:$B$16,2,TRUE),P880,\" 71....+0000000000000000 \"))","v":""},null,""]
[null,{"$f":"IF(I881=\"\",\"\",ROWS($A$3:A881))","v":""},"","","","","","","","",{"$f":"IFERROR(SMALL($B$3:$B$2002,ROWS($A$3:A881)),\"\")","v":""},"","",null,"","","",{"$f":"IF(O881=\"\",\"\",CONCATENATE(\"*11....+\",VLOOKUP(16-(LEN(N881)),'1'!$A$1:$B$16,2,TRUE),N881,\" 81..40+\",VLOOKUP(16-(LEN(O881)),'1'!$A$1:$B$16,2,TRUE),O881,\" 82..40+\",VLOOKUP(16-(LEN(O881)),'1'!$A$1:$B$16,2,TRUE),P881,\" 71....+0000000000000000 \"))","v":""},null,""]
[null,{"$f":"IF(I882=\"\",\"\",ROWS($A$3:A882))","v":""},"","","","","","","","",{"$f":"IFERROR(SMALL($B$3:$B$2002,ROWS($A$3:A882)),\"\")","v":""},"","",null,"","","",{"$f":"IF(O882=\"\",\"\",CONCATENATE(\"*11....+\",VLOOKUP(16-(LEN(N882)),'1'!$A$1:$B$16,2,TRUE),N882,\" 81..40+\",VLOOKUP(16-(LEN(O882)),'1'!$A$1:$B$16,2,TRUE),O882,\" 82..40+\",VLOOKUP(16-(LEN(O882)),'1'!$A$1:$B$16,2,TRUE),P882,\" 71....+0000000000000000 \"))","v":""},null,""]
[null,{"$f":"IF(I883=\"\",\"\",ROWS($A$3:A883))","v":""},"","","","","","","","",{"$f":"IFERROR(SMALL($B$3:$B$2002,ROWS($A$3:A883)),\"\")","v":""},"","",null,"","","",{"$f":"IF(O883=\"\",\"\",CONCATENATE(\"*11....+\",VLOOKUP(16-(LEN(N883)),'1'!$A$1:$B$16,2,TRUE),N883,\" 81..40+\",VLOOKUP(16-(LEN(O883)),'1'!$A$1:$B$16,2,TRUE),O883,\" 82..40+\",VLOOKUP(16-(LEN(O883)),'1'!$A$1:$B$16,2,TRUE),P883,\" 71....+0000000000000000 \"))","v":""},null,""]
[null,{"$f":"IF(I884=\"\",\"\",ROWS($A$3:A884))","v":""},"","","","","","","","",{"$f":"IFERROR(SMALL($B$3:$B$2002,ROWS($A$3:A884)),\"\")","v":""},"","",null,"","","",{"$f":"IF(O884=\"\",\"\",CONCATENATE(\"*11....+\",VLOOKUP(16-(LEN(N884)),'1'!$A$1:$B$16,2,TRUE),N884,\" 81..40+\",VLOOKUP(16-(LEN(O884)),'1'!$A$1:$B$16,2,TRUE),O884,\" 82..40+\",VLOOKUP(16-(LEN(O884)),'1'!$A$1:$B$16,2,TRUE),P884,\" 71....+0000000000000000 \"))","v":""},null,""]
[null,{"$f":"IF(I885=\"\",\"\",ROWS($A$3:A885))","v":""},"","","","","","","","",{"$f":"IFERROR(SMALL($B$3:$B$2002,ROWS($A$3:A885)),\"\")","v":""},"","",null,"","","",{"$f":"IF(O885=\"\",\"\",CONCATENATE(\"*11....+\",VLOOKUP(16-(LEN(N885)),'1'!$A$1:$B$16,2,TRUE),N885,\" 81..40+\",VLOOKUP(16-(LEN(O885)),'1'!$A$1:$B$16,2,TRUE),O885,\" 82..40+\",VLOOKUP(16-(LEN(O885)),'1'!$A$1:$B$16,2,TRUE),P885,\" 71....+0000000000000000 \"))","v":""},null,""]
[null,{"$f":"IF(I886=\"\",\"\",ROWS($A$3:A886))","v":""},"","","","","","","","",{"$f":"IFERROR(SMALL($B$3:$B$2002,ROWS($A$3:A886)),\"\")","v":""},"","",null,"","","",{"$f":"IF(O886=\"\",\"\",CONCATENATE(\"*11....+\",VLOOKUP(16-(LEN(N886)),'1'!$A$1:$B$16,2,TRUE),N886,\" 81..40+\",VLOOKUP(16-(LEN(O886)),'1'!$A$1:$B$16,2,TRUE),O886,\" 82..40+\",VLOOKUP(16-(LEN(O886)),'1'!$A$1:$B$16,2,TRUE),P886,\" 71....+0000000000000000 \"))","v":""},null,""]
[null,{"$f":"IF(I887=\"\",\"\",ROWS($A$3:A887))","v":""},"","","","","","","","",{"$f":"IFERROR(SMALL($B$3:$B$2002,ROWS($A$3:A887)),\"\")","v":""},"","",null,"","","",{"$f":"IF(O887=\"\",\"\",CONCATENATE(\"*11....+\",VLOOKUP(16-(LEN(N887)),'1'!$A$1:$B$16,2,TRUE),N887,\" 81..40+\",VLOOKUP(16-(LEN(O887)),'1'!$A$1:$B$16,2,TRUE),O887,\" 82..40+\",VLOOKUP(16-(LEN(O887)),'1'!$A$1:$B$16,2,TRUE),P887,\" 71....+0000000000000000 \"))","v":""},null,""]
[null,{"$f":"IF(I888=\"\",\"\",ROWS($A$3:A888))","v":""},"","","","","","","","",{"$f":"IFERROR(SMALL($B$3:$B$2002,ROWS($A$3:A888)),\"\")","v":""},"","",null,"","","",{"$f":"IF(O888=\"\",\"\",CONCATENATE(\"*11....+\",VLOOKUP(16-(LEN(N888)),'1'!$A$1:$B$16,2,TRUE),N888,\" 81..40+\",VLOOKUP(16-(LEN(O888)),'1'!$A$1:$B$16,2,TRUE),O888,\" 82..40+\",VLOOKUP(16-(LEN(O888)),'1'!$A$1:$B$16,2,TRUE),P888,\" 71....+0000000000000000 \"))","v":""},null,""]
[null,{"$f":"IF(I889=\"\",\"\",ROWS($A$3:A889))","v":""},"","","","","","","","",{"$f":"IFERROR(SMALL($B$3:$B$2002,ROWS($A$3:A889)),\"\")","v":""},"","",null,"","","",{"$f":"IF(O889=\"\",\"\",CONCATENATE(\"*11....+\",VLOOKUP(16-(LEN(N889)),'1'!$A$1:$B$16,2,TRUE),N889,\" 81..40+\",VLOOKUP(16-(LEN(O889)),'1'!$A$1:$B$16,2,TRUE),O889,\" 82..40+\",VLOOKUP(16-(LEN(O889)),'1'!$A$1:$B$16,2,TRUE),P889,\" 71....+0000000000000000 \"))","v":""},null,""]
[null,{"$f":"IF(I890=\"\",\"\",ROWS($A$3:A890))","v":""},"","","","","","","","",{"$f":"IFERROR(SMALL($B$3:$B$2002,ROWS($A$3:A890)),\"\")","v":""},"","",null,"","","",{"$f":"IF(O890=\"\",\"\",CONCATENATE(\"*11....+\",VLOOKUP(16-(LEN(N890)),'1'!$A$1:$B$16,2,TRUE),N890,\" 81..40+\",VLOOKUP(16-(LEN(O890)),'1'!$A$1:$B$16,2,TRUE),O890,\" 82..40+\",VLOOKUP(16-(LEN(O890)),'1'!$A$1:$B$16,2,TRUE),P890,\" 71....+0000000000000000 \"))","v":""},null,""]
[null,{"$f":"IF(I891=\"\",\"\",ROWS($A$3:A891))","v":""},"","","","","","","","",{"$f":"IFERROR(SMALL($B$3:$B$2002,ROWS($A$3:A891)),\"\")","v":""},"","",null,"","","",{"$f":"IF(O891=\"\",\"\",CONCATENATE(\"*11....+\",VLOOKUP(16-(LEN(N891)),'1'!$A$1:$B$16,2,TRUE),N891,\" 81..40+\",VLOOKUP(16-(LEN(O891)),'1'!$A$1:$B$16,2,TRUE),O891,\" 82..40+\",VLOOKUP(16-(LEN(O891)),'1'!$A$1:$B$16,2,TRUE),P891,\" 71....+0000000000000000 \"))","v":""},null,""]
[null,{"$f":"IF(I892=\"\",\"\",ROWS($A$3:A892))","v":""},"","","","","","","","",{"$f":"IFERROR(SMALL($B$3:$B$2002,ROWS($A$3:A892)),\"\")","v":""},"","",null,"","","",{"$f":"IF(O892=\"\",\"\",CONCATENATE(\"*11....+\",VLOOKUP(16-(LEN(N892)),'1'!$A$1:$B$16,2,TRUE),N892,\" 81..40+\",VLOOKUP(16-(LEN(O892)),'1'!$A$1:$B$16,2,TRUE),O892,\" 82..40+\",VLOOKUP(16-(LEN(O892)),'1'!$A$1:$B$16,2,TRUE),P892,\" 71....+0000000000000000 \"))","v":""},null,""]
[null,{"$f":"IF(I893=\"\",\"\",ROWS($A$3:A893))","v":""},"","","","","","","","",{"$f":"IFERROR(SMALL($B$3:$B$2002,ROWS($A$3:A893)),\"\")","v":""},"","",null,"","","",{"$f":"IF(O893=\"\",\"\",CONCATENATE(\"*11....+\",VLOOKUP(16-(LEN(N893)),'1'!$A$1:$B$16,2,TRUE),N893,\" 81..40+\",VLOOKUP(16-(LEN(O893)),'1'!$A$1:$B$16,2,TRUE),O893,\" 82..40+\",VLOOKUP(16-(LEN(O893)),'1'!$A$1:$B$16,2,TRUE),P893,\" 71....+0000000000000000 \"))","v":""},null,""]
[null,{"$f":"IF(I894=\"\",\"\",ROWS($A$3:A894))","v":""},"","","","","","","","",{"$f":"IFERROR(SMALL($B$3:$B$2002,ROWS($A$3:A894)),\"\")","v":""},"","",null,"","","",{"$f":"IF(O894=\"\",\"\",CONCATENATE(\"*11....+\",VLOOKUP(16-(LEN(N894)),'1'!$A$1:$B$16,2,TRUE),N894,\" 81..40+\",VLOOKUP(16-(LEN(O894)),'1'!$A$1:$B$16,2,TRUE),O894,\" 82..40+\",VLOOKUP(16-(LEN(O894)),'1'!$A$1:$B$16,2,TRUE),P894,\" 71....+0000000000000000 \"))","v":""},null,""]
[null,{"$f":"IF(I895=\"\",\"\",ROWS($A$3:A895))","v":""},"","","","","","","","",{"$f":"IFERROR(SMALL($B$3:$B$2002,ROWS($A$3:A895)),\"\")","v":""},"","",null,"","","",{"$f":"IF(O895=\"\",\"\",CONCATENATE(\"*11....+\",VLOOKUP(16-(LEN(N895)),'1'!$A$1:$B$16,2,TRUE),N895,\" 81..40+\",VLOOKUP(16-(LEN(O895)),'1'!$A$1:$B$16,2,TRUE),O895,\" 82..40+\",VLOOKUP(16-(LEN(O895)),'1'!$A$1:$B$16,2,TRUE),P895,\" 71....+0000000000000000 \"))","v":""},null,""]
[null,{"$f":"IF(I896=\"\",\"\",ROWS($A$3:A896))","v":""},"","","","","","","","",{"$f":"IFERROR(SMALL($B$3:$B$2002,ROWS($A$3:A896)),\"\")","v":""},"","",null,"","","",{"$f":"IF(O896=\"\",\"\",CONCATENATE(\"*11....+\",VLOOKUP(16-(LEN(N896)),'1'!$A$1:$B$16,2,TRUE),N896,\" 81..40+\",VLOOKUP(16-(LEN(O896)),'1'!$A$1:$B$16,2,TRUE),O896,\" 82..40+\",VLOOKUP(16-(LEN(O896)),'1'!$A$1:$B$16,2,TRUE),P896,\" 71....+0000000000000000 \"))","v":""},null,""]
[null,{"$f":"IF(I897=\"\",\"\",ROWS($A$3:A897))","v":""},"","","","","","","","",{"$f":"IFERROR(SMALL($B$3:$B$2002,ROWS($A$3:A897)),\"\")","v":""},"","",null,"","","",{"$f":"IF(O897=\"\",\"\",CONCATENATE(\"*11....+\",VLOOKUP(16-(LEN(N897)),'1'!$A$1:$B$16,2,TRUE),N897,\" 81..40+\",VLOOKUP(16-(LEN(O897)),'1'!$A$1:$B$16,2,TRUE),O897,\" 82..40+\",VLOOKUP(16-(LEN(O897)),'1'!$A$1:$B$16,2,TRUE),P897,\" 71....+0000000000000000 \"))","v":""},null,""]
[null,{"$f":"IF(I898=\"\",\"\",ROWS($A$3:A898))","v":""},"","","","","","","","",{"$f":"IFERROR(SMALL($B$3:$B$2002,ROWS($A$3:A898)),\"\")","v":""},"","",null,"","","",{"$f":"IF(O898=\"\",\"\",CONCATENATE(\"*11....+\",VLOOKUP(16-(LEN(N898)),'1'!$A$1:$B$16,2,TRUE),N898,\" 81..40+\",VLOOKUP(16-(LEN(O898)),'1'!$A$1:$B$16,2,TRUE),O898,\" 82..40+\",VLOOKUP(16-(LEN(O898)),'1'!$A$1:$B$16,2,TRUE),P898,\" 71....+0000000000000000 \"))","v":""},null,""]
[null,{"$f":"IF(I899=\"\",\"\",ROWS($A$3:A899))","v":""},"","","","","","","","",{"$f":"IFERROR(SMALL($B$3:$B$2002,ROWS($A$3:A899)),\"\")","v":""},"","",null,"","","",{"$f":"IF(O899=\"\",\"\",CONCATENATE(\"*11....+\",VLOOKUP(16-(LEN(N899)),'1'!$A$1:$B$16,2,TRUE),N899,\" 81..40+\",VLOOKUP(16-(LEN(O899)),'1'!$A$1:$B$16,2,TRUE),O899,\" 82..40+\",VLOOKUP(16-(LEN(O899)),'1'!$A$1:$B$16,2,TRUE),P899,\" 71....+0000000000000000 \"))","v":""},null,""]
[null,{"$f":"IF(I900=\"\",\"\",ROWS($A$3:A900))","v":""},{"$f":"IF(LEN(A900)=59,ROUND(VALUE(MID(A900,23,9)),3),\"\")","v":""},{"$f":"IF(LEN(A900)=24,\"\",\"\")","v":""},{"$f":"IF(LEN(A900)=63,ROUND(VALUE(MID(A900,23,12)),3),\"\")","v":""},{"$f":"IF(LEN(A900)=59,ROUND(VALUE(MID(A900,37,9)),3),\"\")","v":""},{"$f":"IF(LEN(A900)=24,\"\",\"\")","v":""},{"$f":"IF(LEN(A900)=63,ROUND(VALUE(MID(A900,39,12)),3),\"\")","v":""},{"$f":"IF(AND(C900=\"\",D900=\"\",E900=\"\"),\"\",ROUND(CONCATENATE(C900,D900,E900),3))","v":""},{"$f":"IF(AND(C900=\"\",D900=\"\",E900=\"\"),\"\",ROUND(CONCATENATE(F900,G900,H900),3))","v":""},{"$f":"IFERROR(SMALL($B$3:$B$2002,ROWS($A$3:A900)),\"\")","v":""},{"$f":"IF(K900=\"\",\"\",ROUND(VALUE(VLOOKUP(K900,$B$3:$J$2002,8,TRUE)),3))","v":""},{"$f":"IF(K900=\"\",\"\",ROUND(VALUE(VLOOKUP(K900,$B$3:$J$2002,9,TRUE)),3))","v":""},null,{"$f":"IF(L900=\"\",\"\",L900/0.001)","v":""},"",{"$f":"IF(O900=\"\",\"\",16-LEN(N900))","v":""},{"$f":"IF(O900=\"\",\"\",CONCATENATE(\"*11....+\",VLOOKUP(16-(LEN(N900)),'1'!$A$1:$B$16,2,TRUE),N900,\" 81..40+\",VLOOKUP(16-(LEN(O900)),'1'!$A$1:$B$16,2,TRUE),O900,\" 82..40+\",VLOOKUP(16-(LEN(O900)),'1'!$A$1:$B$16,2,TRUE),P900,\" 71....+0000000000000000 \"))","v":""},null,{"$f":"IF(O900=\"\",\"\",CONCATENATE(N900,\",\",L900,\",\",M900))","v":""}]
[null,{"$f":"IF(I901=\"\",\"\",ROWS($A$3:A901))","v":""},"","","","","","","","",{"$f":"IFERROR(SMALL($B$3:$B$2002,ROWS($A$3:A901)),\"\")","v":""},"","",null,"","","",{"$f":"IF(O901=\"\",\"\",CONCATENATE(\"*11....+\",VLOOKUP(16-(LEN(N901)),'1'!$A$1:$B$16,2,TRUE),N901,\" 81..40+\",VLOOKUP(16-(LEN(O901)),'1'!$A$1:$B$16,2,TRUE),O901,\" 82..40+\",VLOOKUP(16-(LEN(O901)),'1'!$A$1:$B$16,2,TRUE),P901,\" 71....+0000000000000000 \"))","v":""},null,""]
[null,{"$f":"IF(I902=\"\",\"\",ROWS($A$3:A902))","v":""},"","","","","","","","",{"$f":"IFERROR(SMALL($B$3:$B$2002,ROWS($A$3:A902)),\"\")","v":""},"","",null,"","","",{"$f":"IF(O902=\"\",\"\",CONCATENATE(\"*11....+\",VLOOKUP(16-(LEN(N902)),'1'!$A$1:$B$16,2,TRUE),N902,\" 81..40+\",VLOOKUP(16-(LEN(O902)),'1'!$A$1:$B$16,2,TRUE),O902,\" 82..40+\",VLOOKUP(16-(LEN(O902)),'1'!$A$1:$B$16,2,TRUE),P902,\" 71....+0000000000000000 \"))","v":""},null,""]
[null,{"$f":"IF(I903=\"\",\"\",ROWS($A$3:A903))","v":""},"","","","","","","","",{"$f":"IFERROR(SMALL($B$3:$B$2002,ROWS($A$3:A903)),\"\")","v":""},"","",null,"","","",{"$f":"IF(O903=\"\",\"\",CONCATENATE(\"*11....+\",VLOOKUP(16-(LEN(N903)),'1'!$A$1:$B$16,2,TRUE),N903,\" 81..40+\",VLOOKUP(16-(LEN(O903)),'1'!$A$1:$B$16,2,TRUE),O903,\" 82..40+\",VLOOKUP(16-(LEN(O903)),'1'!$A$1:$B$16,2,TRUE),P903,\" 71....+0000000000000000 \"))","v":""},null,""]
[null,{"$f":"IF(I904=\"\",\"\",ROWS($A$3:A904))","v":""},"","","","","","","","",{"$f":"IFERROR(SMALL($B$3:$B$2002,ROWS($A$3:A904)),\"\")","v":""},"","",null,"","","",{"$f":"IF(O904=\"\",\"\",CONCATENATE(\"*11....+\",VLOOKUP(16-(LEN(N904)),'1'!$A$1:$B$16,2,TRUE),N904,\" 81..40+\",VLOOKUP(16-(LEN(O904)),'1'!$A$1:$B$16,2,TRUE),O904,\" 82..40+\",VLOOKUP(16-(LEN(O904)),'1'!$A$1:$B$16,2,TRUE),P904,\" 71....+0000000000000000 \"))","v":""},null,""]
[null,{"$f":"IF(I905=\"\",\"\",ROWS($A$3:A905))","v":""},"","","","","","","","",{"$f":"IFERROR(SMALL($B$3:$B$2002,ROWS($A$3:A905)),\"\")","v":""},"","",null,"","","",{"$f":"IF(O905=\"\",\"\",CONCATENATE(\"*11....+\",VLOOKUP(16-(LEN(N905)),'1'!$A$1:$B$16,2,TRUE),N905,\" 81..40+\",VLOOKUP(16-(LEN(O905)),'1'!$A$1:$B$16,2,TRUE),O905,\" 82..40+\",VLOOKUP(16-(LEN(O905)),'1'!$A$1:$B$16,2,TRUE),P905,\" 71....+0000000000000000 \"))","v":""},null,""]
[null,{"$f":"IF(I906=\"\",\"\",ROWS($A$3:A906))","v":""},"","","","","","","","",{"$f":"IFERROR(SMALL($B$3:$B$2002,ROWS($A$3:A906)),\"\")","v":""},"","",null,"","","",{"$f":"IF(O906=\"\",\"\",CONCATENATE(\"*11....+\",VLOOKUP(16-(LEN(N906)),'1'!$A$1:$B$16,2,TRUE),N906,\" 81..40+\",VLOOKUP(16-(LEN(O906)),'1'!$A$1:$B$16,2,TRUE),O906,\" 82..40+\",VLOOKUP(16-(LEN(O906)),'1'!$A$1:$B$16,2,TRUE),P906,\" 71....+0000000000000000 \"))","v":""},null,""]
[null,{"$f":"IF(I907=\"\",\"\",ROWS($A$3:A907))","v":""},"","","","","","","","",{"$f":"IFERROR(SMALL($B$3:$B$2002,ROWS($A$3:A907)),\"\")","v":""},"","",null,"","","",{"$f":"IF(O907=\"\",\"\",CONCATENATE(\"*11....+\",VLOOKUP(16-(LEN(N907)),'1'!$A$1:$B$16,2,TRUE),N907,\" 81..40+\",VLOOKUP(16-(LEN(O907)),'1'!$A$1:$B$16,2,TRUE),O907,\" 82..40+\",VLOOKUP(16-(LEN(O907)),'1'!$A$1:$B$16,2,TRUE),P907,\" 71....+0000000000000000 \"))","v":""},null,""]
[null,{"$f":"IF(I908=\"\",\"\",ROWS($A$3:A908))","v":""},"","","","","","","","",{"$f":"IFERROR(SMALL($B$3:$B$2002,ROWS($A$3:A908)),\"\")","v":""},"","",null,"","","",{"$f":"IF(O908=\"\",\"\",CONCATENATE(\"*11....+\",VLOOKUP(16-(LEN(N908)),'1'!$A$1:$B$16,2,TRUE),N908,\" 81..40+\",VLOOKUP(16-(LEN(O908)),'1'!$A$1:$B$16,2,TRUE),O908,\" 82..40+\",VLOOKUP(16-(LEN(O908)),'1'!$A$1:$B$16,2,TRUE),P908,\" 71....+0000000000000000 \"))","v":""},null,""]
[null,{"$f":"IF(I909=\"\",\"\",ROWS($A$3:A909))","v":""},"","","","","","","","",{"$f":"IFERROR(SMALL($B$3:$B$2002,ROWS($A$3:A909)),\"\")","v":""},"","",null,"","","",{"$f":"IF(O909=\"\",\"\",CONCATENATE(\"*11....+\",VLOOKUP(16-(LEN(N909)),'1'!$A$1:$B$16,2,TRUE),N909,\" 81..40+\",VLOOKUP(16-(LEN(O909)),'1'!$A$1:$B$16,2,TRUE),O909,\" 82..40+\",VLOOKUP(16-(LEN(O909)),'1'!$A$1:$B$16,2,TRUE),P909,\" 71....+0000000000000000 \"))","v":""},null,""]
[null,{"$f":"IF(I910=\"\",\"\",ROWS($A$3:A910))","v":""},"","","","","","","","",{"$f":"IFERROR(SMALL($B$3:$B$2002,ROWS($A$3:A910)),\"\")","v":""},"","",null,"","","",{"$f":"IF(O910=\"\",\"\",CONCATENATE(\"*11....+\",VLOOKUP(16-(LEN(N910)),'1'!$A$1:$B$16,2,TRUE),N910,\" 81..40+\",VLOOKUP(16-(LEN(O910)),'1'!$A$1:$B$16,2,TRUE),O910,\" 82..40+\",VLOOKUP(16-(LEN(O910)),'1'!$A$1:$B$16,2,TRUE),P910,\" 71....+0000000000000000 \"))","v":""},null,""]
[null,{"$f":"IF(I911=\"\",\"\",ROWS($A$3:A911))","v":""},"","","","","","","","",{"$f":"IFERROR(SMALL($B$3:$B$2002,ROWS($A$3:A911)),\"\")","v":""},"","",null,"","","",{"$f":"IF(O911=\"\",\"\",CONCATENATE(\"*11....+\",VLOOKUP(16-(LEN(N911)),'1'!$A$1:$B$16,2,TRUE),N911,\" 81..40+\",VLOOKUP(16-(LEN(O911)),'1'!$A$1:$B$16,2,TRUE),O911,\" 82..40+\",VLOOKUP(16-(LEN(O911)),'1'!$A$1:$B$16,2,TRUE),P911,\" 71....+0000000000000000 \"))","v":""},null,""]
[null,{"$f":"IF(I912=\"\",\"\",ROWS($A$3:A912))","v":""},"","","","","","","","",{"$f":"IFERROR(SMALL($B$3:$B$2002,ROWS($A$3:A912)),\"\")","v":""},"","",null,"","","",{"$f":"IF(O912=\"\",\"\",CONCATENATE(\"*11....+\",VLOOKUP(16-(LEN(N912)),'1'!$A$1:$B$16,2,TRUE),N912,\" 81..40+\",VLOOKUP(16-(LEN(O912)),'1'!$A$1:$B$16,2,TRUE),O912,\" 82..40+\",VLOOKUP(16-(LEN(O912)),'1'!$A$1:$B$16,2,TRUE),P912,\" 71....+0000000000000000 \"))","v":""},null,""]
[null,{"$f":"IF(I913=\"\",\"\",ROWS($A$3:A913))","v":""},"","","","","","","","",{"$f":"IFERROR(SMALL($B$3:$B$2002,ROWS($A$3:A913)),\"\")","v":""},"","",null,"","","",{"$f":"IF(O913=\"\",\"\",CONCATENATE(\"*11....+\",VLOOKUP(16-(LEN(N913)),'1'!$A$1:$B$16,2,TRUE),N913,\" 81..40+\",VLOOKUP(16-(LEN(O913)),'1'!$A$1:$B$16,2,TRUE),O913,\" 82..40+\",VLOOKUP(16-(LEN(O913)),'1'!$A$1:$B$16,2,TRUE),P913,\" 71....+0000000000000000 \"))","v":""},null,""]
[null,{"$f":"IF(I914=\"\",\"\",ROWS($A$3:A914))","v":""},"","","","","","","","",{"$f":"IFERROR(SMALL($B$3:$B$2002,ROWS($A$3:A914)),\"\")","v":""},"","",null,"","","",{"$f":"IF(O914=\"\",\"\",CONCATENATE(\"*11....+\",VLOOKUP(16-(LEN(N914)),'1'!$A$1:$B$16,2,TRUE),N914,\" 81..40+\",VLOOKUP(16-(LEN(O914)),'1'!$A$1:$B$16,2,TRUE),O914,\" 82..40+\",VLOOKUP(16-(LEN(O914)),'1'!$A$1:$B$16,2,TRUE),P914,\" 71....+0000000000000000 \"))","v":""},null,""]
[null,{"$f":"IF(I915=\"\",\"\",ROWS($A$3:A915))","v":""},"","","","","","","","",{"$f":"IFERROR(SMALL($B$3:$B$2002,ROWS($A$3:A915)),\"\")","v":""},"","",null,"","","",{"$f":"IF(O915=\"\",\"\",CONCATENATE(\"*11....+\",VLOOKUP(16-(LEN(N915)),'1'!$A$1:$B$16,2,TRUE),N915,\" 81..40+\",VLOOKUP(16-(LEN(O915)),'1'!$A$1:$B$16,2,TRUE),O915,\" 82..40+\",VLOOKUP(16-(LEN(O915)),'1'!$A$1:$B$16,2,TRUE),P915,\" 71....+0000000000000000 \"))","v":""},null,""]
[null,{"$f":"IF(I916=\"\",\"\",ROWS($A$3:A916))","v":""},"","","","","","","","",{"$f":"IFERROR(SMALL($B$3:$B$2002,ROWS($A$3:A916)),\"\")","v":""},"","",null,"","","",{"$f":"IF(O916=\"\",\"\",CONCATENATE(\"*11....+\",VLOOKUP(16-(LEN(N916)),'1'!$A$1:$B$16,2,TRUE),N916,\" 81..40+\",VLOOKUP(16-(LEN(O916)),'1'!$A$1:$B$16,2,TRUE),O916,\" 82..40+\",VLOOKUP(16-(LEN(O916)),'1'!$A$1:$B$16,2,TRUE),P916,\" 71....+0000000000000000 \"))","v":""},null,""]
[null,{"$f":"IF(I917=\"\",\"\",ROWS($A$3:A917))","v":""},"","","","","","","","",{"$f":"IFERROR(SMALL($B$3:$B$2002,ROWS($A$3:A917)),\"\")","v":""},"","",null,"","","",{"$f":"IF(O917=\"\",\"\",CONCATENATE(\"*11....+\",VLOOKUP(16-(LEN(N917)),'1'!$A$1:$B$16,2,TRUE),N917,\" 81..40+\",VLOOKUP(16-(LEN(O917)),'1'!$A$1:$B$16,2,TRUE),O917,\" 82..40+\",VLOOKUP(16-(LEN(O917)),'1'!$A$1:$B$16,2,TRUE),P917,\" 71....+0000000000000000 \"))","v":""},null,""]
[null,{"$f":"IF(I918=\"\",\"\",ROWS($A$3:A918))","v":""},"","","","","","","","",{"$f":"IFERROR(SMALL($B$3:$B$2002,ROWS($A$3:A918)),\"\")","v":""},"","",null,"","","",{"$f":"IF(O918=\"\",\"\",CONCATENATE(\"*11....+\",VLOOKUP(16-(LEN(N918)),'1'!$A$1:$B$16,2,TRUE),N918,\" 81..40+\",VLOOKUP(16-(LEN(O918)),'1'!$A$1:$B$16,2,TRUE),O918,\" 82..40+\",VLOOKUP(16-(LEN(O918)),'1'!$A$1:$B$16,2,TRUE),P918,\" 71....+0000000000000000 \"))","v":""},null,""]
[null,{"$f":"IF(I919=\"\",\"\",ROWS($A$3:A919))","v":""},"","","","","","","","",{"$f":"IFERROR(SMALL($B$3:$B$2002,ROWS($A$3:A919)),\"\")","v":""},"","",null,"","","",{"$f":"IF(O919=\"\",\"\",CONCATENATE(\"*11....+\",VLOOKUP(16-(LEN(N919)),'1'!$A$1:$B$16,2,TRUE),N919,\" 81..40+\",VLOOKUP(16-(LEN(O919)),'1'!$A$1:$B$16,2,TRUE),O919,\" 82..40+\",VLOOKUP(16-(LEN(O919)),'1'!$A$1:$B$16,2,TRUE),P919,\" 71....+0000000000000000 \"))","v":""},null,""]
[null,{"$f":"IF(I920=\"\",\"\",ROWS($A$3:A920))","v":""},"","","","","","","","",{"$f":"IFERROR(SMALL($B$3:$B$2002,ROWS($A$3:A920)),\"\")","v":""},"","",null,"","","",{"$f":"IF(O920=\"\",\"\",CONCATENATE(\"*11....+\",VLOOKUP(16-(LEN(N920)),'1'!$A$1:$B$16,2,TRUE),N920,\" 81..40+\",VLOOKUP(16-(LEN(O920)),'1'!$A$1:$B$16,2,TRUE),O920,\" 82..40+\",VLOOKUP(16-(LEN(O920)),'1'!$A$1:$B$16,2,TRUE),P920,\" 71....+0000000000000000 \"))","v":""},null,""]
[null,{"$f":"IF(I921=\"\",\"\",ROWS($A$3:A921))","v":""},"","","","","","","","",{"$f":"IFERROR(SMALL($B$3:$B$2002,ROWS($A$3:A921)),\"\")","v":""},"","",null,"","","",{"$f":"IF(O921=\"\",\"\",CONCATENATE(\"*11....+\",VLOOKUP(16-(LEN(N921)),'1'!$A$1:$B$16,2,TRUE),N921,\" 81..40+\",VLOOKUP(16-(LEN(O921)),'1'!$A$1:$B$16,2,TRUE),O921,\" 82..40+\",VLOOKUP(16-(LEN(O921)),'1'!$A$1:$B$16,2,TRUE),P921,\" 71....+0000000000000000 \"))","v":""},null,""]
[null,{"$f":"IF(I922=\"\",\"\",ROWS($A$3:A922))","v":""},"","","","","","","","",{"$f":"IFERROR(SMALL($B$3:$B$2002,ROWS($A$3:A922)),\"\")","v":""},"","",null,"","","",{"$f":"IF(O922=\"\",\"\",CONCATENATE(\"*11....+\",VLOOKUP(16-(LEN(N922)),'1'!$A$1:$B$16,2,TRUE),N922,\" 81..40+\",VLOOKUP(16-(LEN(O922)),'1'!$A$1:$B$16,2,TRUE),O922,\" 82..40+\",VLOOKUP(16-(LEN(O922)),'1'!$A$1:$B$16,2,TRUE),P922,\" 71....+0000000000000000 \"))","v":""},null,""]
[null,{"$f":"IF(I923=\"\",\"\",ROWS($A$3:A923))","v":""},"","","","","","","","",{"$f":"IFERROR(SMALL($B$3:$B$2002,ROWS($A$3:A923)),\"\")","v":""},"","",null,"","","",{"$f":"IF(O923=\"\",\"\",CONCATENATE(\"*11....+\",VLOOKUP(16-(LEN(N923)),'1'!$A$1:$B$16,2,TRUE),N923,\" 81..40+\",VLOOKUP(16-(LEN(O923)),'1'!$A$1:$B$16,2,TRUE),O923,\" 82..40+\",VLOOKUP(16-(LEN(O923)),'1'!$A$1:$B$16,2,TRUE),P923,\" 71....+0000000000000000 \"))","v":""},null,""]
[null,{"$f":"IF(I924=\"\",\"\",ROWS($A$3:A924))","v":""},"","","","","","","","",{"$f":"IFERROR(SMALL($B$3:$B$2002,ROWS($A$3:A924)),\"\")","v":""},"","",null,"","","",{"$f":"IF(O924=\"\",\"\",CONCATENATE(\"*11....+\",VLOOKUP(16-(LEN(N924)),'1'!$A$1:$B$16,2,TRUE),N924,\" 81..40+\",VLOOKUP(16-(LEN(O924)),'1'!$A$1:$B$16,2,TRUE),O924,\" 82..40+\",VLOOKUP(16-(LEN(O924)),'1'!$A$1:$B$16,2,TRUE),P924,\" 71....+0000000000000000 \"))","v":""},null,""]
[null,{"$f":"IF(I925=\"\",\"\",ROWS($A$3:A925))","v":""},"","","","","","","","",{"$f":"IFERROR(SMALL($B$3:$B$2002,ROWS($A$3:A925)),\"\")","v":""},"","",null,"","","",{"$f":"IF(O925=\"\",\"\",CONCATENATE(\"*11....+\",VLOOKUP(16-(LEN(N925)),'1'!$A$1:$B$16,2,TRUE),N925,\" 81..40+\",VLOOKUP(16-(LEN(O925)),'1'!$A$1:$B$16,2,TRUE),O925,\" 82..40+\",VLOOKUP(16-(LEN(O925)),'1'!$A$1:$B$16,2,TRUE),P925,\" 71....+0000000000000000 \"))","v":""},null,""]
[null,{"$f":"IF(I926=\"\",\"\",ROWS($A$3:A926))","v":""},"","","","","","","","",{"$f":"IFERROR(SMALL($B$3:$B$2002,ROWS($A$3:A926)),\"\")","v":""},"","",null,"","","",{"$f":"IF(O926=\"\",\"\",CONCATENATE(\"*11....+\",VLOOKUP(16-(LEN(N926)),'1'!$A$1:$B$16,2,TRUE),N926,\" 81..40+\",VLOOKUP(16-(LEN(O926)),'1'!$A$1:$B$16,2,TRUE),O926,\" 82..40+\",VLOOKUP(16-(LEN(O926)),'1'!$A$1:$B$16,2,TRUE),P926,\" 71....+0000000000000000 \"))","v":""},null,""]
[null,{"$f":"IF(I927=\"\",\"\",ROWS($A$3:A927))","v":""},"","","","","","","","",{"$f":"IFERROR(SMALL($B$3:$B$2002,ROWS($A$3:A927)),\"\")","v":""},"","",null,"","","",{"$f":"IF(O927=\"\",\"\",CONCATENATE(\"*11....+\",VLOOKUP(16-(LEN(N927)),'1'!$A$1:$B$16,2,TRUE),N927,\" 81..40+\",VLOOKUP(16-(LEN(O927)),'1'!$A$1:$B$16,2,TRUE),O927,\" 82..40+\",VLOOKUP(16-(LEN(O927)),'1'!$A$1:$B$16,2,TRUE),P927,\" 71....+0000000000000000 \"))","v":""},null,""]
[null,{"$f":"IF(I928=\"\",\"\",ROWS($A$3:A928))","v":""},"","","","","","","","",{"$f":"IFERROR(SMALL($B$3:$B$2002,ROWS($A$3:A928)),\"\")","v":""},"","",null,"","","",{"$f":"IF(O928=\"\",\"\",CONCATENATE(\"*11....+\",VLOOKUP(16-(LEN(N928)),'1'!$A$1:$B$16,2,TRUE),N928,\" 81..40+\",VLOOKUP(16-(LEN(O928)),'1'!$A$1:$B$16,2,TRUE),O928,\" 82..40+\",VLOOKUP(16-(LEN(O928)),'1'!$A$1:$B$16,2,TRUE),P928,\" 71....+0000000000000000 \"))","v":""},null,""]
[null,{"$f":"IF(I929=\"\",\"\",ROWS($A$3:A929))","v":""},"","","","","","","","",{"$f":"IFERROR(SMALL($B$3:$B$2002,ROWS($A$3:A929)),\"\")","v":""},"","",null,"","","",{"$f":"IF(O929=\"\",\"\",CONCATENATE(\"*11....+\",VLOOKUP(16-(LEN(N929)),'1'!$A$1:$B$16,2,TRUE),N929,\" 81..40+\",VLOOKUP(16-(LEN(O929)),'1'!$A$1:$B$16,2,TRUE),O929,\" 82..40+\",VLOOKUP(16-(LEN(O929)),'1'!$A$1:$B$16,2,TRUE),P929,\" 71....+0000000000000000 \"))","v":""},null,""]
[null,{"$f":"IF(I930=\"\",\"\",ROWS($A$3:A930))","v":""},"","","","","","","","",{"$f":"IFERROR(SMALL($B$3:$B$2002,ROWS($A$3:A930)),\"\")","v":""},"","",null,"","","",{"$f":"IF(O930=\"\",\"\",CONCATENATE(\"*11....+\",VLOOKUP(16-(LEN(N930)),'1'!$A$1:$B$16,2,TRUE),N930,\" 81..40+\",VLOOKUP(16-(LEN(O930)),'1'!$A$1:$B$16,2,TRUE),O930,\" 82..40+\",VLOOKUP(16-(LEN(O930)),'1'!$A$1:$B$16,2,TRUE),P930,\" 71....+0000000000000000 \"))","v":""},null,""]
[null,{"$f":"IF(I931=\"\",\"\",ROWS($A$3:A931))","v":""},"","","","","","","","",{"$f":"IFERROR(SMALL($B$3:$B$2002,ROWS($A$3:A931)),\"\")","v":""},"","",null,"","","",{"$f":"IF(O931=\"\",\"\",CONCATENATE(\"*11....+\",VLOOKUP(16-(LEN(N931)),'1'!$A$1:$B$16,2,TRUE),N931,\" 81..40+\",VLOOKUP(16-(LEN(O931)),'1'!$A$1:$B$16,2,TRUE),O931,\" 82..40+\",VLOOKUP(16-(LEN(O931)),'1'!$A$1:$B$16,2,TRUE),P931,\" 71....+0000000000000000 \"))","v":""},null,""]
[null,{"$f":"IF(I932=\"\",\"\",ROWS($A$3:A932))","v":""},"","","","","","","","",{"$f":"IFERROR(SMALL($B$3:$B$2002,ROWS($A$3:A932)),\"\")","v":""},"","",null,"","","",{"$f":"IF(O932=\"\",\"\",CONCATENATE(\"*11....+\",VLOOKUP(16-(LEN(N932)),'1'!$A$1:$B$16,2,TRUE),N932,\" 81..40+\",VLOOKUP(16-(LEN(O932)),'1'!$A$1:$B$16,2,TRUE),O932,\" 82..40+\",VLOOKUP(16-(LEN(O932)),'1'!$A$1:$B$16,2,TRUE),P932,\" 71....+0000000000000000 \"))","v":""},null,""]
[null,{"$f":"IF(I933=\"\",\"\",ROWS($A$3:A933))","v":""},"","","","","","","","",{"$f":"IFERROR(SMALL($B$3:$B$2002,ROWS($A$3:A933)),\"\")","v":""},"","",null,"","","",{"$f":"IF(O933=\"\",\"\",CONCATENATE(\"*11....+\",VLOOKUP(16-(LEN(N933)),'1'!$A$1:$B$16,2,TRUE),N933,\" 81..40+\",VLOOKUP(16-(LEN(O933)),'1'!$A$1:$B$16,2,TRUE),O933,\" 82..40+\",VLOOKUP(16-(LEN(O933)),'1'!$A$1:$B$16,2,TRUE),P933,\" 71....+0000000000000000 \"))","v":""},null,""]
[null,{"$f":"IF(I934=\"\",\"\",ROWS($A$3:A934))","v":""},"","","","","","","","",{"$f":"IFERROR(SMALL($B$3:$B$2002,ROWS($A$3:A934)),\"\")","v":""},"","",null,"","","",{"$f":"IF(O934=\"\",\"\",CONCATENATE(\"*11....+\",VLOOKUP(16-(LEN(N934)),'1'!$A$1:$B$16,2,TRUE),N934,\" 81..40+\",VLOOKUP(16-(LEN(O934)),'1'!$A$1:$B$16,2,TRUE),O934,\" 82..40+\",VLOOKUP(16-(LEN(O934)),'1'!$A$1:$B$16,2,TRUE),P934,\" 71....+0000000000000000 \"))","v":""},null,""]
[null,{"$f":"IF(I935=\"\",\"\",ROWS($A$3:A935))","v":""},"","","","","","","","",{"$f":"IFERROR(SMALL($B$3:$B$2002,ROWS($A$3:A935)),\"\")","v":""},"","",null,"","","",{"$f":"IF(O935=\"\",\"\",CONCATENATE(\"*11....+\",VLOOKUP(16-(LEN(N935)),'1'!$A$1:$B$16,2,TRUE),N935,\" 81..40+\",VLOOKUP(16-(LEN(O935)),'1'!$A$1:$B$16,2,TRUE),O935,\" 82..40+\",VLOOKUP(16-(LEN(O935)),'1'!$A$1:$B$16,2,TRUE),P935,\" 71....+0000000000000000 \"))","v":""},null,""]
[null,{"$f":"IF(I936=\"\",\"\",ROWS($A$3:A936))","v":""},"","","","","","","","",{"$f":"IFERROR(SMALL($B$3:$B$2002,ROWS($A$3:A936)),\"\")","v":""},"","",null,"","","",{"$f":"IF(O936=\"\",\"\",CONCATENATE(\"*11....+\",VLOOKUP(16-(LEN(N936)),'1'!$A$1:$B$16,2,TRUE),N936,\" 81..40+\",VLOOKUP(16-(LEN(O936)),'1'!$A$1:$B$16,2,TRUE),O936,\" 82..40+\",VLOOKUP(16-(LEN(O936)),'1'!$A$1:$B$16,2,TRUE),P936,\" 71....+0000000000000000 \"))","v":""},null,""]
[null,{"$f":"IF(I937=\"\",\"\",ROWS($A$3:A937))","v":""},"","","","","","","","",{"$f":"IFERROR(SMALL($B$3:$B$2002,ROWS($A$3:A937)),\"\")","v":""},"","",null,"","","",{"$f":"IF(O937=\"\",\"\",CONCATENATE(\"*11....+\",VLOOKUP(16-(LEN(N937)),'1'!$A$1:$B$16,2,TRUE),N937,\" 81..40+\",VLOOKUP(16-(LEN(O937)),'1'!$A$1:$B$16,2,TRUE),O937,\" 82..40+\",VLOOKUP(16-(LEN(O937)),'1'!$A$1:$B$16,2,TRUE),P937,\" 71....+0000000000000000 \"))","v":""},null,""]
[null,{"$f":"IF(I938=\"\",\"\",ROWS($A$3:A938))","v":""},"","","","","","","","",{"$f":"IFERROR(SMALL($B$3:$B$2002,ROWS($A$3:A938)),\"\")","v":""},"","",null,"","","",{"$f":"IF(O938=\"\",\"\",CONCATENATE(\"*11....+\",VLOOKUP(16-(LEN(N938)),'1'!$A$1:$B$16,2,TRUE),N938,\" 81..40+\",VLOOKUP(16-(LEN(O938)),'1'!$A$1:$B$16,2,TRUE),O938,\" 82..40+\",VLOOKUP(16-(LEN(O938)),'1'!$A$1:$B$16,2,TRUE),P938,\" 71....+0000000000000000 \"))","v":""},null,""]
[null,{"$f":"IF(I939=\"\",\"\",ROWS($A$3:A939))","v":""},"","","","","","","","",{"$f":"IFERROR(SMALL($B$3:$B$2002,ROWS($A$3:A939)),\"\")","v":""},"","",null,"","","",{"$f":"IF(O939=\"\",\"\",CONCATENATE(\"*11....+\",VLOOKUP(16-(LEN(N939)),'1'!$A$1:$B$16,2,TRUE),N939,\" 81..40+\",VLOOKUP(16-(LEN(O939)),'1'!$A$1:$B$16,2,TRUE),O939,\" 82..40+\",VLOOKUP(16-(LEN(O939)),'1'!$A$1:$B$16,2,TRUE),P939,\" 71....+0000000000000000 \"))","v":""},null,""]
[null,{"$f":"IF(I940=\"\",\"\",ROWS($A$3:A940))","v":""},"","","","","","","","",{"$f":"IFERROR(SMALL($B$3:$B$2002,ROWS($A$3:A940)),\"\")","v":""},"","",null,"","","",{"$f":"IF(O940=\"\",\"\",CONCATENATE(\"*11....+\",VLOOKUP(16-(LEN(N940)),'1'!$A$1:$B$16,2,TRUE),N940,\" 81..40+\",VLOOKUP(16-(LEN(O940)),'1'!$A$1:$B$16,2,TRUE),O940,\" 82..40+\",VLOOKUP(16-(LEN(O940)),'1'!$A$1:$B$16,2,TRUE),P940,\" 71....+0000000000000000 \"))","v":""},null,""]
[null,{"$f":"IF(I941=\"\",\"\",ROWS($A$3:A941))","v":""},"","","","","","","","",{"$f":"IFERROR(SMALL($B$3:$B$2002,ROWS($A$3:A941)),\"\")","v":""},"","",null,"","","",{"$f":"IF(O941=\"\",\"\",CONCATENATE(\"*11....+\",VLOOKUP(16-(LEN(N941)),'1'!$A$1:$B$16,2,TRUE),N941,\" 81..40+\",VLOOKUP(16-(LEN(O941)),'1'!$A$1:$B$16,2,TRUE),O941,\" 82..40+\",VLOOKUP(16-(LEN(O941)),'1'!$A$1:$B$16,2,TRUE),P941,\" 71....+0000000000000000 \"))","v":""},null,""]
[null,{"$f":"IF(I942=\"\",\"\",ROWS($A$3:A942))","v":""},"","","","","","","","",{"$f":"IFERROR(SMALL($B$3:$B$2002,ROWS($A$3:A942)),\"\")","v":""},"","",null,"","","",{"$f":"IF(O942=\"\",\"\",CONCATENATE(\"*11....+\",VLOOKUP(16-(LEN(N942)),'1'!$A$1:$B$16,2,TRUE),N942,\" 81..40+\",VLOOKUP(16-(LEN(O942)),'1'!$A$1:$B$16,2,TRUE),O942,\" 82..40+\",VLOOKUP(16-(LEN(O942)),'1'!$A$1:$B$16,2,TRUE),P942,\" 71....+0000000000000000 \"))","v":""},null,""]
[null,{"$f":"IF(I943=\"\",\"\",ROWS($A$3:A943))","v":""},"","","","","","","","",{"$f":"IFERROR(SMALL($B$3:$B$2002,ROWS($A$3:A943)),\"\")","v":""},"","",null,"","","",{"$f":"IF(O943=\"\",\"\",CONCATENATE(\"*11....+\",VLOOKUP(16-(LEN(N943)),'1'!$A$1:$B$16,2,TRUE),N943,\" 81..40+\",VLOOKUP(16-(LEN(O943)),'1'!$A$1:$B$16,2,TRUE),O943,\" 82..40+\",VLOOKUP(16-(LEN(O943)),'1'!$A$1:$B$16,2,TRUE),P943,\" 71....+0000000000000000 \"))","v":""},null,""]
[null,{"$f":"IF(I944=\"\",\"\",ROWS($A$3:A944))","v":""},"","","","","","","","",{"$f":"IFERROR(SMALL($B$3:$B$2002,ROWS($A$3:A944)),\"\")","v":""},"","",null,"","","",{"$f":"IF(O944=\"\",\"\",CONCATENATE(\"*11....+\",VLOOKUP(16-(LEN(N944)),'1'!$A$1:$B$16,2,TRUE),N944,\" 81..40+\",VLOOKUP(16-(LEN(O944)),'1'!$A$1:$B$16,2,TRUE),O944,\" 82..40+\",VLOOKUP(16-(LEN(O944)),'1'!$A$1:$B$16,2,TRUE),P944,\" 71....+0000000000000000 \"))","v":""},null,""]
[null,{"$f":"IF(I945=\"\",\"\",ROWS($A$3:A945))","v":""},"","","","","","","","",{"$f":"IFERROR(SMALL($B$3:$B$2002,ROWS($A$3:A945)),\"\")","v":""},"","",null,"","","",{"$f":"IF(O945=\"\",\"\",CONCATENATE(\"*11....+\",VLOOKUP(16-(LEN(N945)),'1'!$A$1:$B$16,2,TRUE),N945,\" 81..40+\",VLOOKUP(16-(LEN(O945)),'1'!$A$1:$B$16,2,TRUE),O945,\" 82..40+\",VLOOKUP(16-(LEN(O945)),'1'!$A$1:$B$16,2,TRUE),P945,\" 71....+0000000000000000 \"))","v":""},null,""]
[null,{"$f":"IF(I946=\"\",\"\",ROWS($A$3:A946))","v":""},"","","","","","","","",{"$f":"IFERROR(SMALL($B$3:$B$2002,ROWS($A$3:A946)),\"\")","v":""},"","",null,"","","",{"$f":"IF(O946=\"\",\"\",CONCATENATE(\"*11....+\",VLOOKUP(16-(LEN(N946)),'1'!$A$1:$B$16,2,TRUE),N946,\" 81..40+\",VLOOKUP(16-(LEN(O946)),'1'!$A$1:$B$16,2,TRUE),O946,\" 82..40+\",VLOOKUP(16-(LEN(O946)),'1'!$A$1:$B$16,2,TRUE),P946,\" 71....+0000000000000000 \"))","v":""},null,""]
[null,{"$f":"IF(I947=\"\",\"\",ROWS($A$3:A947))","v":""},"","","","","","","","",{"$f":"IFERROR(SMALL($B$3:$B$2002,ROWS($A$3:A947)),\"\")","v":""},"","",null,"","","",{"$f":"IF(O947=\"\",\"\",CONCATENATE(\"*11....+\",VLOOKUP(16-(LEN(N947)),'1'!$A$1:$B$16,2,TRUE),N947,\" 81..40+\",VLOOKUP(16-(LEN(O947)),'1'!$A$1:$B$16,2,TRUE),O947,\" 82..40+\",VLOOKUP(16-(LEN(O947)),'1'!$A$1:$B$16,2,TRUE),P947,\" 71....+0000000000000000 \"))","v":""},null,""]
[null,{"$f":"IF(I948=\"\",\"\",ROWS($A$3:A948))","v":""},"","","","","","","","",{"$f":"IFERROR(SMALL($B$3:$B$2002,ROWS($A$3:A948)),\"\")","v":""},"","",null,"","","",{"$f":"IF(O948=\"\",\"\",CONCATENATE(\"*11....+\",VLOOKUP(16-(LEN(N948)),'1'!$A$1:$B$16,2,TRUE),N948,\" 81..40+\",VLOOKUP(16-(LEN(O948)),'1'!$A$1:$B$16,2,TRUE),O948,\" 82..40+\",VLOOKUP(16-(LEN(O948)),'1'!$A$1:$B$16,2,TRUE),P948,\" 71....+0000000000000000 \"))","v":""},null,""]
[null,{"$f":"IF(I949=\"\",\"\",ROWS($A$3:A949))","v":""},"","","","","","","","",{"$f":"IFERROR(SMALL($B$3:$B$2002,ROWS($A$3:A949)),\"\")","v":""},"","",null,"","","",{"$f":"IF(O949=\"\",\"\",CONCATENATE(\"*11....+\",VLOOKUP(16-(LEN(N949)),'1'!$A$1:$B$16,2,TRUE),N949,\" 81..40+\",VLOOKUP(16-(LEN(O949)),'1'!$A$1:$B$16,2,TRUE),O949,\" 82..40+\",VLOOKUP(16-(LEN(O949)),'1'!$A$1:$B$16,2,TRUE),P949,\" 71....+0000000000000000 \"))","v":""},null,""]
[null,{"$f":"IF(I950=\"\",\"\",ROWS($A$3:A950))","v":""},"","","","","","","","",{"$f":"IFERROR(SMALL($B$3:$B$2002,ROWS($A$3:A950)),\"\")","v":""},"","",null,"","","",{"$f":"IF(O950=\"\",\"\",CONCATENATE(\"*11....+\",VLOOKUP(16-(LEN(N950)),'1'!$A$1:$B$16,2,TRUE),N950,\" 81..40+\",VLOOKUP(16-(LEN(O950)),'1'!$A$1:$B$16,2,TRUE),O950,\" 82..40+\",VLOOKUP(16-(LEN(O950)),'1'!$A$1:$B$16,2,TRUE),P950,\" 71....+0000000000000000 \"))","v":""},null,""]
[null,{"$f":"IF(I951=\"\",\"\",ROWS($A$3:A951))","v":""},"","","","","","","","",{"$f":"IFERROR(SMALL($B$3:$B$2002,ROWS($A$3:A951)),\"\")","v":""},"","",null,"","","",{"$f":"IF(O951=\"\",\"\",CONCATENATE(\"*11....+\",VLOOKUP(16-(LEN(N951)),'1'!$A$1:$B$16,2,TRUE),N951,\" 81..40+\",VLOOKUP(16-(LEN(O951)),'1'!$A$1:$B$16,2,TRUE),O951,\" 82..40+\",VLOOKUP(16-(LEN(O951)),'1'!$A$1:$B$16,2,TRUE),P951,\" 71....+0000000000000000 \"))","v":""},null,""]
[null,{"$f":"IF(I952=\"\",\"\",ROWS($A$3:A952))","v":""},"","","","","","","","",{"$f":"IFERROR(SMALL($B$3:$B$2002,ROWS($A$3:A952)),\"\")","v":""},"","",null,"","","",{"$f":"IF(O952=\"\",\"\",CONCATENATE(\"*11....+\",VLOOKUP(16-(LEN(N952)),'1'!$A$1:$B$16,2,TRUE),N952,\" 81..40+\",VLOOKUP(16-(LEN(O952)),'1'!$A$1:$B$16,2,TRUE),O952,\" 82..40+\",VLOOKUP(16-(LEN(O952)),'1'!$A$1:$B$16,2,TRUE),P952,\" 71....+0000000000000000 \"))","v":""},null,""]
[null,{"$f":"IF(I953=\"\",\"\",ROWS($A$3:A953))","v":""},"","","","","","","","",{"$f":"IFERROR(SMALL($B$3:$B$2002,ROWS($A$3:A953)),\"\")","v":""},"","",null,"","","",{"$f":"IF(O953=\"\",\"\",CONCATENATE(\"*11....+\",VLOOKUP(16-(LEN(N953)),'1'!$A$1:$B$16,2,TRUE),N953,\" 81..40+\",VLOOKUP(16-(LEN(O953)),'1'!$A$1:$B$16,2,TRUE),O953,\" 82..40+\",VLOOKUP(16-(LEN(O953)),'1'!$A$1:$B$16,2,TRUE),P953,\" 71....+0000000000000000 \"))","v":""},null,""]
[null,{"$f":"IF(I954=\"\",\"\",ROWS($A$3:A954))","v":""},"","","","","","","","",{"$f":"IFERROR(SMALL($B$3:$B$2002,ROWS($A$3:A954)),\"\")","v":""},"","",null,"","","",{"$f":"IF(O954=\"\",\"\",CONCATENATE(\"*11....+\",VLOOKUP(16-(LEN(N954)),'1'!$A$1:$B$16,2,TRUE),N954,\" 81..40+\",VLOOKUP(16-(LEN(O954)),'1'!$A$1:$B$16,2,TRUE),O954,\" 82..40+\",VLOOKUP(16-(LEN(O954)),'1'!$A$1:$B$16,2,TRUE),P954,\" 71....+0000000000000000 \"))","v":""},null,""]
[null,{"$f":"IF(I955=\"\",\"\",ROWS($A$3:A955))","v":""},"","","","","","","","",{"$f":"IFERROR(SMALL($B$3:$B$2002,ROWS($A$3:A955)),\"\")","v":""},"","",null,"","","",{"$f":"IF(O955=\"\",\"\",CONCATENATE(\"*11....+\",VLOOKUP(16-(LEN(N955)),'1'!$A$1:$B$16,2,TRUE),N955,\" 81..40+\",VLOOKUP(16-(LEN(O955)),'1'!$A$1:$B$16,2,TRUE),O955,\" 82..40+\",VLOOKUP(16-(LEN(O955)),'1'!$A$1:$B$16,2,TRUE),P955,\" 71....+0000000000000000 \"))","v":""},null,""]
[null,{"$f":"IF(I956=\"\",\"\",ROWS($A$3:A956))","v":""},"","","","","","","","",{"$f":"IFERROR(SMALL($B$3:$B$2002,ROWS($A$3:A956)),\"\")","v":""},"","",null,"","","",{"$f":"IF(O956=\"\",\"\",CONCATENATE(\"*11....+\",VLOOKUP(16-(LEN(N956)),'1'!$A$1:$B$16,2,TRUE),N956,\" 81..40+\",VLOOKUP(16-(LEN(O956)),'1'!$A$1:$B$16,2,TRUE),O956,\" 82..40+\",VLOOKUP(16-(LEN(O956)),'1'!$A$1:$B$16,2,TRUE),P956,\" 71....+0000000000000000 \"))","v":""},null,""]
[null,{"$f":"IF(I957=\"\",\"\",ROWS($A$3:A957))","v":""},"","","","","","","","",{"$f":"IFERROR(SMALL($B$3:$B$2002,ROWS($A$3:A957)),\"\")","v":""},"","",null,"","","",{"$f":"IF(O957=\"\",\"\",CONCATENATE(\"*11....+\",VLOOKUP(16-(LEN(N957)),'1'!$A$1:$B$16,2,TRUE),N957,\" 81..40+\",VLOOKUP(16-(LEN(O957)),'1'!$A$1:$B$16,2,TRUE),O957,\" 82..40+\",VLOOKUP(16-(LEN(O957)),'1'!$A$1:$B$16,2,TRUE),P957,\" 71....+0000000000000000 \"))","v":""},null,""]
[null,{"$f":"IF(I958=\"\",\"\",ROWS($A$3:A958))","v":""},"","","","","","","","",{"$f":"IFERROR(SMALL($B$3:$B$2002,ROWS($A$3:A958)),\"\")","v":""},"","",null,"","","",{"$f":"IF(O958=\"\",\"\",CONCATENATE(\"*11....+\",VLOOKUP(16-(LEN(N958)),'1'!$A$1:$B$16,2,TRUE),N958,\" 81..40+\",VLOOKUP(16-(LEN(O958)),'1'!$A$1:$B$16,2,TRUE),O958,\" 82..40+\",VLOOKUP(16-(LEN(O958)),'1'!$A$1:$B$16,2,TRUE),P958,\" 71....+0000000000000000 \"))","v":""},null,""]
[null,{"$f":"IF(I959=\"\",\"\",ROWS($A$3:A959))","v":""},"","","","","","","","",{"$f":"IFERROR(SMALL($B$3:$B$2002,ROWS($A$3:A959)),\"\")","v":""},"","",null,"","","",{"$f":"IF(O959=\"\",\"\",CONCATENATE(\"*11....+\",VLOOKUP(16-(LEN(N959)),'1'!$A$1:$B$16,2,TRUE),N959,\" 81..40+\",VLOOKUP(16-(LEN(O959)),'1'!$A$1:$B$16,2,TRUE),O959,\" 82..40+\",VLOOKUP(16-(LEN(O959)),'1'!$A$1:$B$16,2,TRUE),P959,\" 71....+0000000000000000 \"))","v":""},null,""]
[null,{"$f":"IF(I960=\"\",\"\",ROWS($A$3:A960))","v":""},"","","","","","","","",{"$f":"IFERROR(SMALL($B$3:$B$2002,ROWS($A$3:A960)),\"\")","v":""},"","",null,"","","",{"$f":"IF(O960=\"\",\"\",CONCATENATE(\"*11....+\",VLOOKUP(16-(LEN(N960)),'1'!$A$1:$B$16,2,TRUE),N960,\" 81..40+\",VLOOKUP(16-(LEN(O960)),'1'!$A$1:$B$16,2,TRUE),O960,\" 82..40+\",VLOOKUP(16-(LEN(O960)),'1'!$A$1:$B$16,2,TRUE),P960,\" 71....+0000000000000000 \"))","v":""},null,""]
[null,{"$f":"IF(I961=\"\",\"\",ROWS($A$3:A961))","v":""},"","","","","","","","",{"$f":"IFERROR(SMALL($B$3:$B$2002,ROWS($A$3:A961)),\"\")","v":""},"","",null,"","","",{"$f":"IF(O961=\"\",\"\",CONCATENATE(\"*11....+\",VLOOKUP(16-(LEN(N961)),'1'!$A$1:$B$16,2,TRUE),N961,\" 81..40+\",VLOOKUP(16-(LEN(O961)),'1'!$A$1:$B$16,2,TRUE),O961,\" 82..40+\",VLOOKUP(16-(LEN(O961)),'1'!$A$1:$B$16,2,TRUE),P961,\" 71....+0000000000000000 \"))","v":""},null,""]
[null,{"$f":"IF(I962=\"\",\"\",ROWS($A$3:A962))","v":""},"","","","","","","","",{"$f":"IFERROR(SMALL($B$3:$B$2002,ROWS($A$3:A962)),\"\")","v":""},"","",null,"","","",{"$f":"IF(O962=\"\",\"\",CONCATENATE(\"*11....+\",VLOOKUP(16-(LEN(N962)),'1'!$A$1:$B$16,2,TRUE),N962,\" 81..40+\",VLOOKUP(16-(LEN(O962)),'1'!$A$1:$B$16,2,TRUE),O962,\" 82..40+\",VLOOKUP(16-(LEN(O962)),'1'!$A$1:$B$16,2,TRUE),P962,\" 71....+0000000000000000 \"))","v":""},null,""]
[null,{"$f":"IF(I963=\"\",\"\",ROWS($A$3:A963))","v":""},"","","","","","","","",{"$f":"IFERROR(SMALL($B$3:$B$2002,ROWS($A$3:A963)),\"\")","v":""},"","",null,"","","",{"$f":"IF(O963=\"\",\"\",CONCATENATE(\"*11....+\",VLOOKUP(16-(LEN(N963)),'1'!$A$1:$B$16,2,TRUE),N963,\" 81..40+\",VLOOKUP(16-(LEN(O963)),'1'!$A$1:$B$16,2,TRUE),O963,\" 82..40+\",VLOOKUP(16-(LEN(O963)),'1'!$A$1:$B$16,2,TRUE),P963,\" 71....+0000000000000000 \"))","v":""},null,""]
[null,{"$f":"IF(I964=\"\",\"\",ROWS($A$3:A964))","v":""},{"$f":"IF(LEN(A964)=59,ROUND(VALUE(MID(A964,23,9)),3),\"\")","v":""},{"$f":"IF(LEN(A964)=24,\"\",\"\")","v":""},{"$f":"IF(LEN(A964)=63,ROUND(VALUE(MID(A964,23,12)),3),\"\")","v":""},{"$f":"IF(LEN(A964)=59,ROUND(VALUE(MID(A964,37,9)),3),\"\")","v":""},{"$f":"IF(LEN(A964)=24,\"\",\"\")","v":""},{"$f":"IF(LEN(A964)=63,ROUND(VALUE(MID(A964,39,12)),3),\"\")","v":""},{"$f":"IF(AND(C964=\"\",D964=\"\",E964=\"\"),\"\",ROUND(CONCATENATE(C964,D964,E964),3))","v":""},{"$f":"IF(AND(C964=\"\",D964=\"\",E964=\"\"),\"\",ROUND(CONCATENATE(F964,G964,H964),3))","v":""},{"$f":"IFERROR(SMALL($B$3:$B$2002,ROWS($A$3:A964)),\"\")","v":""},{"$f":"IF(K964=\"\",\"\",ROUND(VALUE(VLOOKUP(K964,$B$3:$J$2002,8,TRUE)),3))","v":""},{"$f":"IF(K964=\"\",\"\",ROUND(VALUE(VLOOKUP(K964,$B$3:$J$2002,9,TRUE)),3))","v":""},null,{"$f":"IF(L964=\"\",\"\",L964/0.001)","v":""},"",{"$f":"IF(O964=\"\",\"\",16-LEN(N964))","v":""},{"$f":"IF(O964=\"\",\"\",CONCATENATE(\"*11....+\",VLOOKUP(16-(LEN(N964)),'1'!$A$1:$B$16,2,TRUE),N964,\" 81..40+\",VLOOKUP(16-(LEN(O964)),'1'!$A$1:$B$16,2,TRUE),O964,\" 82..40+\",VLOOKUP(16-(LEN(O964)),'1'!$A$1:$B$16,2,TRUE),P964,\" 71....+0000000000000000 \"))","v":""},null,{"$f":"IF(O964=\"\",\"\",CONCATENATE(N964,\",\",L964,\",\",M964))","v":""}]
[null,{"$f":"IF(I965=\"\",\"\",ROWS($A$3:A965))","v":""},"","","","","","","","",{"$f":"IFERROR(SMALL($B$3:$B$2002,ROWS($A$3:A965)),\"\")","v":""},"","",null,"","","",{"$f":"IF(O965=\"\",\"\",CONCATENATE(\"*11....+\",VLOOKUP(16-(LEN(N965)),'1'!$A$1:$B$16,2,TRUE),N965,\" 81..40+\",VLOOKUP(16-(LEN(O965)),'1'!$A$1:$B$16,2,TRUE),O965,\" 82..40+\",VLOOKUP(16-(LEN(O965)),'1'!$A$1:$B$16,2,TRUE),P965,\" 71....+0000000000000000 \"))","v":""},null,""]
[null,{"$f":"IF(I966=\"\",\"\",ROWS($A$3:A966))","v":""},"","","","","","","","",{"$f":"IFERROR(SMALL($B$3:$B$2002,ROWS($A$3:A966)),\"\")","v":""},"","",null,"","","",{"$f":"IF(O966=\"\",\"\",CONCATENATE(\"*11....+\",VLOOKUP(16-(LEN(N966)),'1'!$A$1:$B$16,2,TRUE),N966,\" 81..40+\",VLOOKUP(16-(LEN(O966)),'1'!$A$1:$B$16,2,TRUE),O966,\" 82..40+\",VLOOKUP(16-(LEN(O966)),'1'!$A$1:$B$16,2,TRUE),P966,\" 71....+0000000000000000 \"))","v":""},null,""]
[null,{"$f":"IF(I967=\"\",\"\",ROWS($A$3:A967))","v":""},"","","","","","","","",{"$f":"IFERROR(SMALL($B$3:$B$2002,ROWS($A$3:A967)),\"\")","v":""},"","",null,"","","",{"$f":"IF(O967=\"\",\"\",CONCATENATE(\"*11....+\",VLOOKUP(16-(LEN(N967)),'1'!$A$1:$B$16,2,TRUE),N967,\" 81..40+\",VLOOKUP(16-(LEN(O967)),'1'!$A$1:$B$16,2,TRUE),O967,\" 82..40+\",VLOOKUP(16-(LEN(O967)),'1'!$A$1:$B$16,2,TRUE),P967,\" 71....+0000000000000000 \"))","v":""},null,""]
[null,{"$f":"IF(I968=\"\",\"\",ROWS($A$3:A968))","v":""},"","","","","","","","",{"$f":"IFERROR(SMALL($B$3:$B$2002,ROWS($A$3:A968)),\"\")","v":""},"","",null,"","","",{"$f":"IF(O968=\"\",\"\",CONCATENATE(\"*11....+\",VLOOKUP(16-(LEN(N968)),'1'!$A$1:$B$16,2,TRUE),N968,\" 81..40+\",VLOOKUP(16-(LEN(O968)),'1'!$A$1:$B$16,2,TRUE),O968,\" 82..40+\",VLOOKUP(16-(LEN(O968)),'1'!$A$1:$B$16,2,TRUE),P968,\" 71....+0000000000000000 \"))","v":""},null,""]
[null,{"$f":"IF(I969=\"\",\"\",ROWS($A$3:A969))","v":""},"","","","","","","","",{"$f":"IFERROR(SMALL($B$3:$B$2002,ROWS($A$3:A969)),\"\")","v":""},"","",null,"","","",{"$f":"IF(O969=\"\",\"\",CONCATENATE(\"*11....+\",VLOOKUP(16-(LEN(N969)),'1'!$A$1:$B$16,2,TRUE),N969,\" 81..40+\",VLOOKUP(16-(LEN(O969)),'1'!$A$1:$B$16,2,TRUE),O969,\" 82..40+\",VLOOKUP(16-(LEN(O969)),'1'!$A$1:$B$16,2,TRUE),P969,\" 71....+0000000000000000 \"))","v":""},null,""]
[null,{"$f":"IF(I970=\"\",\"\",ROWS($A$3:A970))","v":""},"","","","","","","","",{"$f":"IFERROR(SMALL($B$3:$B$2002,ROWS($A$3:A970)),\"\")","v":""},"","",null,"","","",{"$f":"IF(O970=\"\",\"\",CONCATENATE(\"*11....+\",VLOOKUP(16-(LEN(N970)),'1'!$A$1:$B$16,2,TRUE),N970,\" 81..40+\",VLOOKUP(16-(LEN(O970)),'1'!$A$1:$B$16,2,TRUE),O970,\" 82..40+\",VLOOKUP(16-(LEN(O970)),'1'!$A$1:$B$16,2,TRUE),P970,\" 71....+0000000000000000 \"))","v":""},null,""]
[null,{"$f":"IF(I971=\"\",\"\",ROWS($A$3:A971))","v":""},"","","","","","","","",{"$f":"IFERROR(SMALL($B$3:$B$2002,ROWS($A$3:A971)),\"\")","v":""},"","",null,"","","",{"$f":"IF(O971=\"\",\"\",CONCATENATE(\"*11....+\",VLOOKUP(16-(LEN(N971)),'1'!$A$1:$B$16,2,TRUE),N971,\" 81..40+\",VLOOKUP(16-(LEN(O971)),'1'!$A$1:$B$16,2,TRUE),O971,\" 82..40+\",VLOOKUP(16-(LEN(O971)),'1'!$A$1:$B$16,2,TRUE),P971,\" 71....+0000000000000000 \"))","v":""},null,""]
[null,{"$f":"IF(I972=\"\",\"\",ROWS($A$3:A972))","v":""},"","","","","","","","",{"$f":"IFERROR(SMALL($B$3:$B$2002,ROWS($A$3:A972)),\"\")","v":""},"","",null,"","","",{"$f":"IF(O972=\"\",\"\",CONCATENATE(\"*11....+\",VLOOKUP(16-(LEN(N972)),'1'!$A$1:$B$16,2,TRUE),N972,\" 81..40+\",VLOOKUP(16-(LEN(O972)),'1'!$A$1:$B$16,2,TRUE),O972,\" 82..40+\",VLOOKUP(16-(LEN(O972)),'1'!$A$1:$B$16,2,TRUE),P972,\" 71....+0000000000000000 \"))","v":""},null,""]
[null,{"$f":"IF(I973=\"\",\"\",ROWS($A$3:A973))","v":""},"","","","","","","","",{"$f":"IFERROR(SMALL($B$3:$B$2002,ROWS($A$3:A973)),\"\")","v":""},"","",null,"","","",{"$f":"IF(O973=\"\",\"\",CONCATENATE(\"*11....+\",VLOOKUP(16-(LEN(N973)),'1'!$A$1:$B$16,2,TRUE),N973,\" 81..40+\",VLOOKUP(16-(LEN(O973)),'1'!$A$1:$B$16,2,TRUE),O973,\" 82..40+\",VLOOKUP(16-(LEN(O973)),'1'!$A$1:$B$16,2,TRUE),P973,\" 71....+0000000000000000 \"))","v":""},null,""]
[null,{"$f":"IF(I974=\"\",\"\",ROWS($A$3:A974))","v":""},"","","","","","","","",{"$f":"IFERROR(SMALL($B$3:$B$2002,ROWS($A$3:A974)),\"\")","v":""},"","",null,"","","",{"$f":"IF(O974=\"\",\"\",CONCATENATE(\"*11....+\",VLOOKUP(16-(LEN(N974)),'1'!$A$1:$B$16,2,TRUE),N974,\" 81..40+\",VLOOKUP(16-(LEN(O974)),'1'!$A$1:$B$16,2,TRUE),O974,\" 82..40+\",VLOOKUP(16-(LEN(O974)),'1'!$A$1:$B$16,2,TRUE),P974,\" 71....+0000000000000000 \"))","v":""},null,""]
[null,{"$f":"IF(I975=\"\",\"\",ROWS($A$3:A975))","v":""},"","","","","","","","",{"$f":"IFERROR(SMALL($B$3:$B$2002,ROWS($A$3:A975)),\"\")","v":""},"","",null,"","","",{"$f":"IF(O975=\"\",\"\",CONCATENATE(\"*11....+\",VLOOKUP(16-(LEN(N975)),'1'!$A$1:$B$16,2,TRUE),N975,\" 81..40+\",VLOOKUP(16-(LEN(O975)),'1'!$A$1:$B$16,2,TRUE),O975,\" 82..40+\",VLOOKUP(16-(LEN(O975)),'1'!$A$1:$B$16,2,TRUE),P975,\" 71....+0000000000000000 \"))","v":""},null,""]
[null,{"$f":"IF(I976=\"\",\"\",ROWS($A$3:A976))","v":""},"","","","","","","","",{"$f":"IFERROR(SMALL($B$3:$B$2002,ROWS($A$3:A976)),\"\")","v":""},"","",null,"","","",{"$f":"IF(O976=\"\",\"\",CONCATENATE(\"*11....+\",VLOOKUP(16-(LEN(N976)),'1'!$A$1:$B$16,2,TRUE),N976,\" 81..40+\",VLOOKUP(16-(LEN(O976)),'1'!$A$1:$B$16,2,TRUE),O976,\" 82..40+\",VLOOKUP(16-(LEN(O976)),'1'!$A$1:$B$16,2,TRUE),P976,\" 71....+0000000000000000 \"))","v":""},null,""]
[null,{"$f":"IF(I977=\"\",\"\",ROWS($A$3:A977))","v":""},"","","","","","","","",{"$f":"IFERROR(SMALL($B$3:$B$2002,ROWS($A$3:A977)),\"\")","v":""},"","",null,"","","",{"$f":"IF(O977=\"\",\"\",CONCATENATE(\"*11....+\",VLOOKUP(16-(LEN(N977)),'1'!$A$1:$B$16,2,TRUE),N977,\" 81..40+\",VLOOKUP(16-(LEN(O977)),'1'!$A$1:$B$16,2,TRUE),O977,\" 82..40+\",VLOOKUP(16-(LEN(O977)),'1'!$A$1:$B$16,2,TRUE),P977,\" 71....+0000000000000000 \"))","v":""},null,""]
[null,{"$f":"IF(I978=\"\",\"\",ROWS($A$3:A978))","v":""},"","","","","","","","",{"$f":"IFERROR(SMALL($B$3:$B$2002,ROWS($A$3:A978)),\"\")","v":""},"","",null,"","","",{"$f":"IF(O978=\"\",\"\",CONCATENATE(\"*11....+\",VLOOKUP(16-(LEN(N978)),'1'!$A$1:$B$16,2,TRUE),N978,\" 81..40+\",VLOOKUP(16-(LEN(O978)),'1'!$A$1:$B$16,2,TRUE),O978,\" 82..40+\",VLOOKUP(16-(LEN(O978)),'1'!$A$1:$B$16,2,TRUE),P978,\" 71....+0000000000000000 \"))","v":""},null,""]
[null,{"$f":"IF(I979=\"\",\"\",ROWS($A$3:A979))","v":""},"","","","","","","","",{"$f":"IFERROR(SMALL($B$3:$B$2002,ROWS($A$3:A979)),\"\")","v":""},"","",null,"","","",{"$f":"IF(O979=\"\",\"\",CONCATENATE(\"*11....+\",VLOOKUP(16-(LEN(N979)),'1'!$A$1:$B$16,2,TRUE),N979,\" 81..40+\",VLOOKUP(16-(LEN(O979)),'1'!$A$1:$B$16,2,TRUE),O979,\" 82..40+\",VLOOKUP(16-(LEN(O979)),'1'!$A$1:$B$16,2,TRUE),P979,\" 71....+0000000000000000 \"))","v":""},null,""]
[null,{"$f":"IF(I980=\"\",\"\",ROWS($A$3:A980))","v":""},"","","","","","","","",{"$f":"IFERROR(SMALL($B$3:$B$2002,ROWS($A$3:A980)),\"\")","v":""},"","",null,"","","",{"$f":"IF(O980=\"\",\"\",CONCATENATE(\"*11....+\",VLOOKUP(16-(LEN(N980)),'1'!$A$1:$B$16,2,TRUE),N980,\" 81..40+\",VLOOKUP(16-(LEN(O980)),'1'!$A$1:$B$16,2,TRUE),O980,\" 82..40+\",VLOOKUP(16-(LEN(O980)),'1'!$A$1:$B$16,2,TRUE),P980,\" 71....+0000000000000000 \"))","v":""},null,""]
[null,{"$f":"IF(I981=\"\",\"\",ROWS($A$3:A981))","v":""},"","","","","","","","",{"$f":"IFERROR(SMALL($B$3:$B$2002,ROWS($A$3:A981)),\"\")","v":""},"","",null,"","","",{"$f":"IF(O981=\"\",\"\",CONCATENATE(\"*11....+\",VLOOKUP(16-(LEN(N981)),'1'!$A$1:$B$16,2,TRUE),N981,\" 81..40+\",VLOOKUP(16-(LEN(O981)),'1'!$A$1:$B$16,2,TRUE),O981,\" 82..40+\",VLOOKUP(16-(LEN(O981)),'1'!$A$1:$B$16,2,TRUE),P981,\" 71....+0000000000000000 \"))","v":""},null,""]
[null,{"$f":"IF(I982=\"\",\"\",ROWS($A$3:A982))","v":""},"","","","","","","","",{"$f":"IFERROR(SMALL($B$3:$B$2002,ROWS($A$3:A982)),\"\")","v":""},"","",null,"","","",{"$f":"IF(O982=\"\",\"\",CONCATENATE(\"*11....+\",VLOOKUP(16-(LEN(N982)),'1'!$A$1:$B$16,2,TRUE),N982,\" 81..40+\",VLOOKUP(16-(LEN(O982)),'1'!$A$1:$B$16,2,TRUE),O982,\" 82..40+\",VLOOKUP(16-(LEN(O982)),'1'!$A$1:$B$16,2,TRUE),P982,\" 71....+0000000000000000 \"))","v":""},null,""]
[null,{"$f":"IF(I983=\"\",\"\",ROWS($A$3:A983))","v":""},"","","","","","","","",{"$f":"IFERROR(SMALL($B$3:$B$2002,ROWS($A$3:A983)),\"\")","v":""},"","",null,"","","",{"$f":"IF(O983=\"\",\"\",CONCATENATE(\"*11....+\",VLOOKUP(16-(LEN(N983)),'1'!$A$1:$B$16,2,TRUE),N983,\" 81..40+\",VLOOKUP(16-(LEN(O983)),'1'!$A$1:$B$16,2,TRUE),O983,\" 82..40+\",VLOOKUP(16-(LEN(O983)),'1'!$A$1:$B$16,2,TRUE),P983,\" 71....+0000000000000000 \"))","v":""},null,""]
[null,{"$f":"IF(I984=\"\",\"\",ROWS($A$3:A984))","v":""},"","","","","","","","",{"$f":"IFERROR(SMALL($B$3:$B$2002,ROWS($A$3:A984)),\"\")","v":""},"","",null,"","","",{"$f":"IF(O984=\"\",\"\",CONCATENATE(\"*11....+\",VLOOKUP(16-(LEN(N984)),'1'!$A$1:$B$16,2,TRUE),N984,\" 81..40+\",VLOOKUP(16-(LEN(O984)),'1'!$A$1:$B$16,2,TRUE),O984,\" 82..40+\",VLOOKUP(16-(LEN(O984)),'1'!$A$1:$B$16,2,TRUE),P984,\" 71....+0000000000000000 \"))","v":""},null,""]
[null,{"$f":"IF(I985=\"\",\"\",ROWS($A$3:A985))","v":""},"","","","","","","","",{"$f":"IFERROR(SMALL($B$3:$B$2002,ROWS($A$3:A985)),\"\")","v":""},"","",null,"","","",{"$f":"IF(O985=\"\",\"\",CONCATENATE(\"*11....+\",VLOOKUP(16-(LEN(N985)),'1'!$A$1:$B$16,2,TRUE),N985,\" 81..40+\",VLOOKUP(16-(LEN(O985)),'1'!$A$1:$B$16,2,TRUE),O985,\" 82..40+\",VLOOKUP(16-(LEN(O985)),'1'!$A$1:$B$16,2,TRUE),P985,\" 71....+0000000000000000 \"))","v":""},null,""]
[null,{"$f":"IF(I986=\"\",\"\",ROWS($A$3:A986))","v":""},"","","","","","","","",{"$f":"IFERROR(SMALL($B$3:$B$2002,ROWS($A$3:A986)),\"\")","v":""},"","",null,"","","",{"$f":"IF(O986=\"\",\"\",CONCATENATE(\"*11....+\",VLOOKUP(16-(LEN(N986)),'1'!$A$1:$B$16,2,TRUE),N986,\" 81..40+\",VLOOKUP(16-(LEN(O986)),'1'!$A$1:$B$16,2,TRUE),O986,\" 82..40+\",VLOOKUP(16-(LEN(O986)),'1'!$A$1:$B$16,2,TRUE),P986,\" 71....+0000000000000000 \"))","v":""},null,""]
[null,{"$f":"IF(I987=\"\",\"\",ROWS($A$3:A987))","v":""},"","","","","","","","",{"$f":"IFERROR(SMALL($B$3:$B$2002,ROWS($A$3:A987)),\"\")","v":""},"","",null,"","","",{"$f":"IF(O987=\"\",\"\",CONCATENATE(\"*11....+\",VLOOKUP(16-(LEN(N987)),'1'!$A$1:$B$16,2,TRUE),N987,\" 81..40+\",VLOOKUP(16-(LEN(O987)),'1'!$A$1:$B$16,2,TRUE),O987,\" 82..40+\",VLOOKUP(16-(LEN(O987)),'1'!$A$1:$B$16,2,TRUE),P987,\" 71....+0000000000000000 \"))","v":""},null,""]
[null,{"$f":"IF(I988=\"\",\"\",ROWS($A$3:A988))","v":""},"","","","","","","","",{"$f":"IFERROR(SMALL($B$3:$B$2002,ROWS($A$3:A988)),\"\")","v":""},"","",null,"","","",{"$f":"IF(O988=\"\",\"\",CONCATENATE(\"*11....+\",VLOOKUP(16-(LEN(N988)),'1'!$A$1:$B$16,2,TRUE),N988,\" 81..40+\",VLOOKUP(16-(LEN(O988)),'1'!$A$1:$B$16,2,TRUE),O988,\" 82..40+\",VLOOKUP(16-(LEN(O988)),'1'!$A$1:$B$16,2,TRUE),P988,\" 71....+0000000000000000 \"))","v":""},null,""]
[null,{"$f":"IF(I989=\"\",\"\",ROWS($A$3:A989))","v":""},"","","","","","","","",{"$f":"IFERROR(SMALL($B$3:$B$2002,ROWS($A$3:A989)),\"\")","v":""},"","",null,"","","",{"$f":"IF(O989=\"\",\"\",CONCATENATE(\"*11....+\",VLOOKUP(16-(LEN(N989)),'1'!$A$1:$B$16,2,TRUE),N989,\" 81..40+\",VLOOKUP(16-(LEN(O989)),'1'!$A$1:$B$16,2,TRUE),O989,\" 82..40+\",VLOOKUP(16-(LEN(O989)),'1'!$A$1:$B$16,2,TRUE),P989,\" 71....+0000000000000000 \"))","v":""},null,""]
[null,{"$f":"IF(I990=\"\",\"\",ROWS($A$3:A990))","v":""},"","","","","","","","",{"$f":"IFERROR(SMALL($B$3:$B$2002,ROWS($A$3:A990)),\"\")","v":""},"","",null,"","","",{"$f":"IF(O990=\"\",\"\",CONCATENATE(\"*11....+\",VLOOKUP(16-(LEN(N990)),'1'!$A$1:$B$16,2,TRUE),N990,\" 81..40+\",VLOOKUP(16-(LEN(O990)),'1'!$A$1:$B$16,2,TRUE),O990,\" 82..40+\",VLOOKUP(16-(LEN(O990)),'1'!$A$1:$B$16,2,TRUE),P990,\" 71....+0000000000000000 \"))","v":""},null,""]
[null,{"$f":"IF(I991=\"\",\"\",ROWS($A$3:A991))","v":""},"","","","","","","","",{"$f":"IFERROR(SMALL($B$3:$B$2002,ROWS($A$3:A991)),\"\")","v":""},"","",null,"","","",{"$f":"IF(O991=\"\",\"\",CONCATENATE(\"*11....+\",VLOOKUP(16-(LEN(N991)),'1'!$A$1:$B$16,2,TRUE),N991,\" 81..40+\",VLOOKUP(16-(LEN(O991)),'1'!$A$1:$B$16,2,TRUE),O991,\" 82..40+\",VLOOKUP(16-(LEN(O991)),'1'!$A$1:$B$16,2,TRUE),P991,\" 71....+0000000000000000 \"))","v":""},null,""]
[null,{"$f":"IF(I992=\"\",\"\",ROWS($A$3:A992))","v":""},"","","","","","","","",{"$f":"IFERROR(SMALL($B$3:$B$2002,ROWS($A$3:A992)),\"\")","v":""},"","",null,"","","",{"$f":"IF(O992=\"\",\"\",CONCATENATE(\"*11....+\",VLOOKUP(16-(LEN(N992)),'1'!$A$1:$B$16,2,TRUE),N992,\" 81..40+\",VLOOKUP(16-(LEN(O992)),'1'!$A$1:$B$16,2,TRUE),O992,\" 82..40+\",VLOOKUP(16-(LEN(O992)),'1'!$A$1:$B$16,2,TRUE),P992,\" 71....+0000000000000000 \"))","v":""},null,""]
[null,{"$f":"IF(I993=\"\",\"\",ROWS($A$3:A993))","v":""},"","","","","","","","",{"$f":"IFERROR(SMALL($B$3:$B$2002,ROWS($A$3:A993)),\"\")","v":""},"","",null,"","","",{"$f":"IF(O993=\"\",\"\",CONCATENATE(\"*11....+\",VLOOKUP(16-(LEN(N993)),'1'!$A$1:$B$16,2,TRUE),N993,\" 81..40+\",VLOOKUP(16-(LEN(O993)),'1'!$A$1:$B$16,2,TRUE),O993,\" 82..40+\",VLOOKUP(16-(LEN(O993)),'1'!$A$1:$B$16,2,TRUE),P993,\" 71....+0000000000000000 \"))","v":""},null,""]
[null,{"$f":"IF(I994=\"\",\"\",ROWS($A$3:A994))","v":""},"","","","","","","","",{"$f":"IFERROR(SMALL($B$3:$B$2002,ROWS($A$3:A994)),\"\")","v":""},"","",null,"","","",{"$f":"IF(O994=\"\",\"\",CONCATENATE(\"*11....+\",VLOOKUP(16-(LEN(N994)),'1'!$A$1:$B$16,2,TRUE),N994,\" 81..40+\",VLOOKUP(16-(LEN(O994)),'1'!$A$1:$B$16,2,TRUE),O994,\" 82..40+\",VLOOKUP(16-(LEN(O994)),'1'!$A$1:$B$16,2,TRUE),P994,\" 71....+0000000000000000 \"))","v":""},null,""]
[null,{"$f":"IF(I995=\"\",\"\",ROWS($A$3:A995))","v":""},"","","","","","","","",{"$f":"IFERROR(SMALL($B$3:$B$2002,ROWS($A$3:A995)),\"\")","v":""},"","",null,"","","",{"$f":"IF(O995=\"\",\"\",CONCATENATE(\"*11....+\",VLOOKUP(16-(LEN(N995)),'1'!$A$1:$B$16,2,TRUE),N995,\" 81..40+\",VLOOKUP(16-(LEN(O995)),'1'!$A$1:$B$16,2,TRUE),O995,\" 82..40+\",VLOOKUP(16-(LEN(O995)),'1'!$A$1:$B$16,2,TRUE),P995,\" 71....+0000000000000000 \"))","v":""},null,""]
[null,{"$f":"IF(I996=\"\",\"\",ROWS($A$3:A996))","v":""},"","","","","","","","",{"$f":"IFERROR(SMALL($B$3:$B$2002,ROWS($A$3:A996)),\"\")","v":""},"","",null,"","","",{"$f":"IF(O996=\"\",\"\",CONCATENATE(\"*11....+\",VLOOKUP(16-(LEN(N996)),'1'!$A$1:$B$16,2,TRUE),N996,\" 81..40+\",VLOOKUP(16-(LEN(O996)),'1'!$A$1:$B$16,2,TRUE),O996,\" 82..40+\",VLOOKUP(16-(LEN(O996)),'1'!$A$1:$B$16,2,TRUE),P996,\" 71....+0000000000000000 \"))","v":""},null,""]
[null,{"$f":"IF(I997=\"\",\"\",ROWS($A$3:A997))","v":""},"","","","","","","","",{"$f":"IFERROR(SMALL($B$3:$B$2002,ROWS($A$3:A997)),\"\")","v":""},"","",null,"","","",{"$f":"IF(O997=\"\",\"\",CONCATENATE(\"*11....+\",VLOOKUP(16-(LEN(N997)),'1'!$A$1:$B$16,2,TRUE),N997,\" 81..40+\",VLOOKUP(16-(LEN(O997)),'1'!$A$1:$B$16,2,TRUE),O997,\" 82..40+\",VLOOKUP(16-(LEN(O997)),'1'!$A$1:$B$16,2,TRUE),P997,\" 71....+0000000000000000 \"))","v":""},null,""]
[null,{"$f":"IF(I998=\"\",\"\",ROWS($A$3:A998))","v":""},"","","","","","","","",{"$f":"IFERROR(SMALL($B$3:$B$2002,ROWS($A$3:A998)),\"\")","v":""},"","",null,"","","",{"$f":"IF(O998=\"\",\"\",CONCATENATE(\"*11....+\",VLOOKUP(16-(LEN(N998)),'1'!$A$1:$B$16,2,TRUE),N998,\" 81..40+\",VLOOKUP(16-(LEN(O998)),'1'!$A$1:$B$16,2,TRUE),O998,\" 82..40+\",VLOOKUP(16-(LEN(O998)),'1'!$A$1:$B$16,2,TRUE),P998,\" 71....+0000000000000000 \"))","v":""},null,""]
[null,{"$f":"IF(I999=\"\",\"\",ROWS($A$3:A999))","v":""},"","","","","","","","",{"$f":"IFERROR(SMALL($B$3:$B$2002,ROWS($A$3:A999)),\"\")","v":""},"","",null,"","","",{"$f":"IF(O999=\"\",\"\",CONCATENATE(\"*11....+\",VLOOKUP(16-(LEN(N999)),'1'!$A$1:$B$16,2,TRUE),N999,\" 81..40+\",VLOOKUP(16-(LEN(O999)),'1'!$A$1:$B$16,2,TRUE),O999,\" 82..40+\",VLOOKUP(16-(LEN(O999)),'1'!$A$1:$B$16,2,TRUE),P999,\" 71....+0000000000000000 \"))","v":""},null,""]
[null,{"$f":"IF(I1000=\"\",\"\",ROWS($A$3:A1000))","v":""},"","","","","","","","",{"$f":"IFERROR(SMALL($B$3:$B$2002,ROWS($A$3:A1000)),\"\")","v":""},"","",null,"","","",{"$f":"IF(O1000=\"\",\"\",CONCATENATE(\"*11....+\",VLOOKUP(16-(LEN(N1000)),'1'!$A$1:$B$16,2,TRUE),N1000,\" 81..40+\",VLOOKUP(16-(LEN(O1000)),'1'!$A$1:$B$16,2,TRUE),O1000,\" 82..40+\",VLOOKUP(16-(LEN(O1000)),'1'!$A$1:$B$16,2,TRUE),P1000,\" 71....+0000000000000000 \"))","v":""},null,""]
[null,{"$f":"IF(I1001=\"\",\"\",ROWS($A$3:A1001))","v":""},"","","","","","","","",{"$f":"IFERROR(SMALL($B$3:$B$2002,ROWS($A$3:A1001)),\"\")","v":""},"","",null,"","","",{"$f":"IF(O1001=\"\",\"\",CONCATENATE(\"*11....+\",VLOOKUP(16-(LEN(N1001)),'1'!$A$1:$B$16,2,TRUE),N1001,\" 81..40+\",VLOOKUP(16-(LEN(O1001)),'1'!$A$1:$B$16,2,TRUE),O1001,\" 82..40+\",VLOOKUP(16-(LEN(O1001)),'1'!$A$1:$B$16,2,TRUE),P1001,\" 71....+0000000000000000 \"))","v":""},null,""]
[null,{"$f":"IF(I1002=\"\",\"\",ROWS($A$3:A1002))","v":""},"","","","","","","","",{"$f":"IFERROR(SMALL($B$3:$B$2002,ROWS($A$3:A1002)),\"\")","v":""},"","",null,"","","",{"$f":"IF(O1002=\"\",\"\",CONCATENATE(\"*11....+\",VLOOKUP(16-(LEN(N1002)),'1'!$A$1:$B$16,2,TRUE),N1002,\" 81..40+\",VLOOKUP(16-(LEN(O1002)),'1'!$A$1:$B$16,2,TRUE),O1002,\" 82..40+\",VLOOKUP(16-(LEN(O1002)),'1'!$A$1:$B$16,2,TRUE),P1002,\" 71....+0000000000000000 \"))","v":""},null,""]
[null,{"$f":"IF(I1003=\"\",\"\",ROWS($A$3:A1003))","v":""},"","","","","","","","",{"$f":"IFERROR(SMALL($B$3:$B$2002,ROWS($A$3:A1003)),\"\")","v":""},"","",null,"","","",{"$f":"IF(O1003=\"\",\"\",CONCATENATE(\"*11....+\",VLOOKUP(16-(LEN(N1003)),'1'!$A$1:$B$16,2,TRUE),N1003,\" 81..40+\",VLOOKUP(16-(LEN(O1003)),'1'!$A$1:$B$16,2,TRUE),O1003,\" 82..40+\",VLOOKUP(16-(LEN(O1003)),'1'!$A$1:$B$16,2,TRUE),P1003,\" 71....+0000000000000000 \"))","v":""},null,""]
[null,{"$f":"IF(I1004=\"\",\"\",ROWS($A$3:A1004))","v":""},"","","","","","","","",{"$f":"IFERROR(SMALL($B$3:$B$2002,ROWS($A$3:A1004)),\"\")","v":""},"","",null,"","","",{"$f":"IF(O1004=\"\",\"\",CONCATENATE(\"*11....+\",VLOOKUP(16-(LEN(N1004)),'1'!$A$1:$B$16,2,TRUE),N1004,\" 81..40+\",VLOOKUP(16-(LEN(O1004)),'1'!$A$1:$B$16,2,TRUE),O1004,\" 82..40+\",VLOOKUP(16-(LEN(O1004)),'1'!$A$1:$B$16,2,TRUE),P1004,\" 71....+0000000000000000 \"))","v":""},null,""]
[null,{"$f":"IF(I1005=\"\",\"\",ROWS($A$3:A1005))","v":""},"","","","","","","","",{"$f":"IFERROR(SMALL($B$3:$B$2002,ROWS($A$3:A1005)),\"\")","v":""},"","",null,"","","",{"$f":"IF(O1005=\"\",\"\",CONCATENATE(\"*11....+\",VLOOKUP(16-(LEN(N1005)),'1'!$A$1:$B$16,2,TRUE),N1005,\" 81..40+\",VLOOKUP(16-(LEN(O1005)),'1'!$A$1:$B$16,2,TRUE),O1005,\" 82..40+\",VLOOKUP(16-(LEN(O1005)),'1'!$A$1:$B$16,2,TRUE),P1005,\" 71....+0000000000000000 \"))","v":""},null,""]
[null,{"$f":"IF(I1006=\"\",\"\",ROWS($A$3:A1006))","v":""},"","","","","","","","",{"$f":"IFERROR(SMALL($B$3:$B$2002,ROWS($A$3:A1006)),\"\")","v":""},"","",null,"","","",{"$f":"IF(O1006=\"\",\"\",CONCATENATE(\"*11....+\",VLOOKUP(16-(LEN(N1006)),'1'!$A$1:$B$16,2,TRUE),N1006,\" 81..40+\",VLOOKUP(16-(LEN(O1006)),'1'!$A$1:$B$16,2,TRUE),O1006,\" 82..40+\",VLOOKUP(16-(LEN(O1006)),'1'!$A$1:$B$16,2,TRUE),P1006,\" 71....+0000000000000000 \"))","v":""},null,""]
[null,{"$f":"IF(I1007=\"\",\"\",ROWS($A$3:A1007))","v":""},"","","","","","","","",{"$f":"IFERROR(SMALL($B$3:$B$2002,ROWS($A$3:A1007)),\"\")","v":""},"","",null,"","","",{"$f":"IF(O1007=\"\",\"\",CONCATENATE(\"*11....+\",VLOOKUP(16-(LEN(N1007)),'1'!$A$1:$B$16,2,TRUE),N1007,\" 81..40+\",VLOOKUP(16-(LEN(O1007)),'1'!$A$1:$B$16,2,TRUE),O1007,\" 82..40+\",VLOOKUP(16-(LEN(O1007)),'1'!$A$1:$B$16,2,TRUE),P1007,\" 71....+0000000000000000 \"))","v":""},null,""]
[null,{"$f":"IF(I1008=\"\",\"\",ROWS($A$3:A1008))","v":""},"","","","","","","","",{"$f":"IFERROR(SMALL($B$3:$B$2002,ROWS($A$3:A1008)),\"\")","v":""},"","",null,"","","",{"$f":"IF(O1008=\"\",\"\",CONCATENATE(\"*11....+\",VLOOKUP(16-(LEN(N1008)),'1'!$A$1:$B$16,2,TRUE),N1008,\" 81..40+\",VLOOKUP(16-(LEN(O1008)),'1'!$A$1:$B$16,2,TRUE),O1008,\" 82..40+\",VLOOKUP(16-(LEN(O1008)),'1'!$A$1:$B$16,2,TRUE),P1008,\" 71....+0000000000000000 \"))","v":""},null,""]
[null,{"$f":"IF(I1009=\"\",\"\",ROWS($A$3:A1009))","v":""},"","","","","","","","",{"$f":"IFERROR(SMALL($B$3:$B$2002,ROWS($A$3:A1009)),\"\")","v":""},"","",null,"","","",{"$f":"IF(O1009=\"\",\"\",CONCATENATE(\"*11....+\",VLOOKUP(16-(LEN(N1009)),'1'!$A$1:$B$16,2,TRUE),N1009,\" 81..40+\",VLOOKUP(16-(LEN(O1009)),'1'!$A$1:$B$16,2,TRUE),O1009,\" 82..40+\",VLOOKUP(16-(LEN(O1009)),'1'!$A$1:$B$16,2,TRUE),P1009,\" 71....+0000000000000000 \"))","v":""},null,""]
[null,{"$f":"IF(I1010=\"\",\"\",ROWS($A$3:A1010))","v":""},"","","","","","","","",{"$f":"IFERROR(SMALL($B$3:$B$2002,ROWS($A$3:A1010)),\"\")","v":""},"","",null,"","","",{"$f":"IF(O1010=\"\",\"\",CONCATENATE(\"*11....+\",VLOOKUP(16-(LEN(N1010)),'1'!$A$1:$B$16,2,TRUE),N1010,\" 81..40+\",VLOOKUP(16-(LEN(O1010)),'1'!$A$1:$B$16,2,TRUE),O1010,\" 82..40+\",VLOOKUP(16-(LEN(O1010)),'1'!$A$1:$B$16,2,TRUE),P1010,\" 71....+0000000000000000 \"))","v":""},null,""]
[null,{"$f":"IF(I1011=\"\",\"\",ROWS($A$3:A1011))","v":""},"","","","","","","","",{"$f":"IFERROR(SMALL($B$3:$B$2002,ROWS($A$3:A1011)),\"\")","v":""},"","",null,"","","",{"$f":"IF(O1011=\"\",\"\",CONCATENATE(\"*11....+\",VLOOKUP(16-(LEN(N1011)),'1'!$A$1:$B$16,2,TRUE),N1011,\" 81..40+\",VLOOKUP(16-(LEN(O1011)),'1'!$A$1:$B$16,2,TRUE),O1011,\" 82..40+\",VLOOKUP(16-(LEN(O1011)),'1'!$A$1:$B$16,2,TRUE),P1011,\" 71....+0000000000000000 \"))","v":""},null,""]
[null,{"$f":"IF(I1012=\"\",\"\",ROWS($A$3:A1012))","v":""},"","","","","","","","",{"$f":"IFERROR(SMALL($B$3:$B$2002,ROWS($A$3:A1012)),\"\")","v":""},"","",null,"","","",{"$f":"IF(O1012=\"\",\"\",CONCATENATE(\"*11....+\",VLOOKUP(16-(LEN(N1012)),'1'!$A$1:$B$16,2,TRUE),N1012,\" 81..40+\",VLOOKUP(16-(LEN(O1012)),'1'!$A$1:$B$16,2,TRUE),O1012,\" 82..40+\",VLOOKUP(16-(LEN(O1012)),'1'!$A$1:$B$16,2,TRUE),P1012,\" 71....+0000000000000000 \"))","v":""},null,""]
[null,{"$f":"IF(I1013=\"\",\"\",ROWS($A$3:A1013))","v":""},"","","","","","","","",{"$f":"IFERROR(SMALL($B$3:$B$2002,ROWS($A$3:A1013)),\"\")","v":""},"","",null,"","","",{"$f":"IF(O1013=\"\",\"\",CONCATENATE(\"*11....+\",VLOOKUP(16-(LEN(N1013)),'1'!$A$1:$B$16,2,TRUE),N1013,\" 81..40+\",VLOOKUP(16-(LEN(O1013)),'1'!$A$1:$B$16,2,TRUE),O1013,\" 82..40+\",VLOOKUP(16-(LEN(O1013)),'1'!$A$1:$B$16,2,TRUE),P1013,\" 71....+0000000000000000 \"))","v":""},null,""]
[null,{"$f":"IF(I1014=\"\",\"\",ROWS($A$3:A1014))","v":""},"","","","","","","","",{"$f":"IFERROR(SMALL($B$3:$B$2002,ROWS($A$3:A1014)),\"\")","v":""},"","",null,"","","",{"$f":"IF(O1014=\"\",\"\",CONCATENATE(\"*11....+\",VLOOKUP(16-(LEN(N1014)),'1'!$A$1:$B$16,2,TRUE),N1014,\" 81..40+\",VLOOKUP(16-(LEN(O1014)),'1'!$A$1:$B$16,2,TRUE),O1014,\" 82..40+\",VLOOKUP(16-(LEN(O1014)),'1'!$A$1:$B$16,2,TRUE),P1014,\" 71....+0000000000000000 \"))","v":""},null,""]
[null,{"$f":"IF(I1015=\"\",\"\",ROWS($A$3:A1015))","v":""},"","","","","","","","",{"$f":"IFERROR(SMALL($B$3:$B$2002,ROWS($A$3:A1015)),\"\")","v":""},"","",null,"","","",{"$f":"IF(O1015=\"\",\"\",CONCATENATE(\"*11....+\",VLOOKUP(16-(LEN(N1015)),'1'!$A$1:$B$16,2,TRUE),N1015,\" 81..40+\",VLOOKUP(16-(LEN(O1015)),'1'!$A$1:$B$16,2,TRUE),O1015,\" 82..40+\",VLOOKUP(16-(LEN(O1015)),'1'!$A$1:$B$16,2,TRUE),P1015,\" 71....+0000000000000000 \"))","v":""},null,""]
[null,{"$f":"IF(I1016=\"\",\"\",ROWS($A$3:A1016))","v":""},"","","","","","","","",{"$f":"IFERROR(SMALL($B$3:$B$2002,ROWS($A$3:A1016)),\"\")","v":""},"","",null,"","","",{"$f":"IF(O1016=\"\",\"\",CONCATENATE(\"*11....+\",VLOOKUP(16-(LEN(N1016)),'1'!$A$1:$B$16,2,TRUE),N1016,\" 81..40+\",VLOOKUP(16-(LEN(O1016)),'1'!$A$1:$B$16,2,TRUE),O1016,\" 82..40+\",VLOOKUP(16-(LEN(O1016)),'1'!$A$1:$B$16,2,TRUE),P1016,\" 71....+0000000000000000 \"))","v":""},null,""]
[null,{"$f":"IF(I1017=\"\",\"\",ROWS($A$3:A1017))","v":""},"","","","","","","","",{"$f":"IFERROR(SMALL($B$3:$B$2002,ROWS($A$3:A1017)),\"\")","v":""},"","",null,"","","",{"$f":"IF(O1017=\"\",\"\",CONCATENATE(\"*11....+\",VLOOKUP(16-(LEN(N1017)),'1'!$A$1:$B$16,2,TRUE),N1017,\" 81..40+\",VLOOKUP(16-(LEN(O1017)),'1'!$A$1:$B$16,2,TRUE),O1017,\" 82..40+\",VLOOKUP(16-(LEN(O1017)),'1'!$A$1:$B$16,2,TRUE),P1017,\" 71....+0000000000000000 \"))","v":""},null,""]
[null,{"$f":"IF(I1018=\"\",\"\",ROWS($A$3:A1018))","v":""},"","","","","","","","",{"$f":"IFERROR(SMALL($B$3:$B$2002,ROWS($A$3:A1018)),\"\")","v":""},"","",null,"","","",{"$f":"IF(O1018=\"\",\"\",CONCATENATE(\"*11....+\",VLOOKUP(16-(LEN(N1018)),'1'!$A$1:$B$16,2,TRUE),N1018,\" 81..40+\",VLOOKUP(16-(LEN(O1018)),'1'!$A$1:$B$16,2,TRUE),O1018,\" 82..40+\",VLOOKUP(16-(LEN(O1018)),'1'!$A$1:$B$16,2,TRUE),P1018,\" 71....+0000000000000000 \"))","v":""},null,""]
[null,{"$f":"IF(I1019=\"\",\"\",ROWS($A$3:A1019))","v":""},"","","","","","","","",{"$f":"IFERROR(SMALL($B$3:$B$2002,ROWS($A$3:A1019)),\"\")","v":""},"","",null,"","","",{"$f":"IF(O1019=\"\",\"\",CONCATENATE(\"*11....+\",VLOOKUP(16-(LEN(N1019)),'1'!$A$1:$B$16,2,TRUE),N1019,\" 81..40+\",VLOOKUP(16-(LEN(O1019)),'1'!$A$1:$B$16,2,TRUE),O1019,\" 82..40+\",VLOOKUP(16-(LEN(O1019)),'1'!$A$1:$B$16,2,TRUE),P1019,\" 71....+0000000000000000 \"))","v":""},null,""]
[null,{"$f":"IF(I1020=\"\",\"\",ROWS($A$3:A1020))","v":""},"","","","","","","","",{"$f":"IFERROR(SMALL($B$3:$B$2002,ROWS($A$3:A1020)),\"\")","v":""},"","",null,"","","",{"$f":"IF(O1020=\"\",\"\",CONCATENATE(\"*11....+\",VLOOKUP(16-(LEN(N1020)),'1'!$A$1:$B$16,2,TRUE),N1020,\" 81..40+\",VLOOKUP(16-(LEN(O1020)),'1'!$A$1:$B$16,2,TRUE),O1020,\" 82..40+\",VLOOKUP(16-(LEN(O1020)),'1'!$A$1:$B$16,2,TRUE),P1020,\" 71....+0000000000000000 \"))","v":""},null,""]
[null,{"$f":"IF(I1021=\"\",\"\",ROWS($A$3:A1021))","v":""},"","","","","","","","",{"$f":"IFERROR(SMALL($B$3:$B$2002,ROWS($A$3:A1021)),\"\")","v":""},"","",null,"","","",{"$f":"IF(O1021=\"\",\"\",CONCATENATE(\"*11....+\",VLOOKUP(16-(LEN(N1021)),'1'!$A$1:$B$16,2,TRUE),N1021,\" 81..40+\",VLOOKUP(16-(LEN(O1021)),'1'!$A$1:$B$16,2,TRUE),O1021,\" 82..40+\",VLOOKUP(16-(LEN(O1021)),'1'!$A$1:$B$16,2,TRUE),P1021,\" 71....+0000000000000000 \"))","v":""},null,""]
[null,{"$f":"IF(I1022=\"\",\"\",ROWS($A$3:A1022))","v":""},"","","","","","","","",{"$f":"IFERROR(SMALL($B$3:$B$2002,ROWS($A$3:A1022)),\"\")","v":""},"","",null,"","","",{"$f":"IF(O1022=\"\",\"\",CONCATENATE(\"*11....+\",VLOOKUP(16-(LEN(N1022)),'1'!$A$1:$B$16,2,TRUE),N1022,\" 81..40+\",VLOOKUP(16-(LEN(O1022)),'1'!$A$1:$B$16,2,TRUE),O1022,\" 82..40+\",VLOOKUP(16-(LEN(O1022)),'1'!$A$1:$B$16,2,TRUE),P1022,\" 71....+0000000000000000 \"))","v":""},null,""]
[null,{"$f":"IF(I1023=\"\",\"\",ROWS($A$3:A1023))","v":""},"","","","","","","","",{"$f":"IFERROR(SMALL($B$3:$B$2002,ROWS($A$3:A1023)),\"\")","v":""},"","",null,"","","",{"$f":"IF(O1023=\"\",\"\",CONCATENATE(\"*11....+\",VLOOKUP(16-(LEN(N1023)),'1'!$A$1:$B$16,2,TRUE),N1023,\" 81..40+\",VLOOKUP(16-(LEN(O1023)),'1'!$A$1:$B$16,2,TRUE),O1023,\" 82..40+\",VLOOKUP(16-(LEN(O1023)),'1'!$A$1:$B$16,2,TRUE),P1023,\" 71....+0000000000000000 \"))","v":""},null,""]
[null,{"$f":"IF(I1024=\"\",\"\",ROWS($A$3:A1024))","v":""},"","","","","","","","",{"$f":"IFERROR(SMALL($B$3:$B$2002,ROWS($A$3:A1024)),\"\")","v":""},"","",null,"","","",{"$f":"IF(O1024=\"\",\"\",CONCATENATE(\"*11....+\",VLOOKUP(16-(LEN(N1024)),'1'!$A$1:$B$16,2,TRUE),N1024,\" 81..40+\",VLOOKUP(16-(LEN(O1024)),'1'!$A$1:$B$16,2,TRUE),O1024,\" 82..40+\",VLOOKUP(16-(LEN(O1024)),'1'!$A$1:$B$16,2,TRUE),P1024,\" 71....+0000000000000000 \"))","v":""},null,""]
[null,{"$f":"IF(I1025=\"\",\"\",ROWS($A$3:A1025))","v":""},"","","","","","","","",{"$f":"IFERROR(SMALL($B$3:$B$2002,ROWS($A$3:A1025)),\"\")","v":""},"","",null,"","","",{"$f":"IF(O1025=\"\",\"\",CONCATENATE(\"*11....+\",VLOOKUP(16-(LEN(N1025)),'1'!$A$1:$B$16,2,TRUE),N1025,\" 81..40+\",VLOOKUP(16-(LEN(O1025)),'1'!$A$1:$B$16,2,TRUE),O1025,\" 82..40+\",VLOOKUP(16-(LEN(O1025)),'1'!$A$1:$B$16,2,TRUE),P1025,\" 71....+0000000000000000 \"))","v":""},null,""]
[null,{"$f":"IF(I1026=\"\",\"\",ROWS($A$3:A1026))","v":""},"","","","","","","","",{"$f":"IFERROR(SMALL($B$3:$B$2002,ROWS($A$3:A1026)),\"\")","v":""},"","",null,"","","",{"$f":"IF(O1026=\"\",\"\",CONCATENATE(\"*11....+\",VLOOKUP(16-(LEN(N1026)),'1'!$A$1:$B$16,2,TRUE),N1026,\" 81..40+\",VLOOKUP(16-(LEN(O1026)),'1'!$A$1:$B$16,2,TRUE),O1026,\" 82..40+\",VLOOKUP(16-(LEN(O1026)),'1'!$A$1:$B$16,2,TRUE),P1026,\" 71....+0000000000000000 \"))","v":""},null,""]
[null,{"$f":"IF(I1027=\"\",\"\",ROWS($A$3:A1027))","v":""},"","","","","","","","",{"$f":"IFERROR(SMALL($B$3:$B$2002,ROWS($A$3:A1027)),\"\")","v":""},"","",null,"","","",{"$f":"IF(O1027=\"\",\"\",CONCATENATE(\"*11....+\",VLOOKUP(16-(LEN(N1027)),'1'!$A$1:$B$16,2,TRUE),N1027,\" 81..40+\",VLOOKUP(16-(LEN(O1027)),'1'!$A$1:$B$16,2,TRUE),O1027,\" 82..40+\",VLOOKUP(16-(LEN(O1027)),'1'!$A$1:$B$16,2,TRUE),P1027,\" 71....+0000000000000000 \"))","v":""},null,""]
[null,{"$f":"IF(I1028=\"\",\"\",ROWS($A$3:A1028))","v":""},{"$f":"IF(LEN(A1028)=59,ROUND(VALUE(MID(A1028,23,9)),3),\"\")","v":""},{"$f":"IF(LEN(A1028)=24,\"\",\"\")","v":""},{"$f":"IF(LEN(A1028)=63,ROUND(VALUE(MID(A1028,23,12)),3),\"\")","v":""},{"$f":"IF(LEN(A1028)=59,ROUND(VALUE(MID(A1028,37,9)),3),\"\")","v":""},{"$f":"IF(LEN(A1028)=24,\"\",\"\")","v":""},{"$f":"IF(LEN(A1028)=63,ROUND(VALUE(MID(A1028,39,12)),3),\"\")","v":""},{"$f":"IF(AND(C1028=\"\",D1028=\"\",E1028=\"\"),\"\",ROUND(CONCATENATE(C1028,D1028,E1028),3))","v":""},{"$f":"IF(AND(C1028=\"\",D1028=\"\",E1028=\"\"),\"\",ROUND(CONCATENATE(F1028,G1028,H1028),3))","v":""},{"$f":"IFERROR(SMALL($B$3:$B$2002,ROWS($A$3:A1028)),\"\")","v":""},{"$f":"IF(K1028=\"\",\"\",ROUND(VALUE(VLOOKUP(K1028,$B$3:$J$2002,8,TRUE)),3))","v":""},{"$f":"IF(K1028=\"\",\"\",ROUND(VALUE(VLOOKUP(K1028,$B$3:$J$2002,9,TRUE)),3))","v":""},null,{"$f":"IF(L1028=\"\",\"\",L1028/0.001)","v":""},"",{"$f":"IF(O1028=\"\",\"\",16-LEN(N1028))","v":""},{"$f":"IF(O1028=\"\",\"\",CONCATENATE(\"*11....+\",VLOOKUP(16-(LEN(N1028)),'1'!$A$1:$B$16,2,TRUE),N1028,\" 81..40+\",VLOOKUP(16-(LEN(O1028)),'1'!$A$1:$B$16,2,TRUE),O1028,\" 82..40+\",VLOOKUP(16-(LEN(O1028)),'1'!$A$1:$B$16,2,TRUE),P1028,\" 71....+0000000000000000 \"))","v":""},null,{"$f":"IF(O1028=\"\",\"\",CONCATENATE(N1028,\",\",L1028,\",\",M1028))","v":""}]
[null,{"$f":"IF(I1029=\"\",\"\",ROWS($A$3:A1029))","v":""},"","","","","","","","",{"$f":"IFERROR(SMALL($B$3:$B$2002,ROWS($A$3:A1029)),\"\")","v":""},"","",null,"","","",{"$f":"IF(O1029=\"\",\"\",CONCATENATE(\"*11....+\",VLOOKUP(16-(LEN(N1029)),'1'!$A$1:$B$16,2,TRUE),N1029,\" 81..40+\",VLOOKUP(16-(LEN(O1029)),'1'!$A$1:$B$16,2,TRUE),O1029,\" 82..40+\",VLOOKUP(16-(LEN(O1029)),'1'!$A$1:$B$16,2,TRUE),P1029,\" 71....+0000000000000000 \"))","v":""},null,""]
[null,{"$f":"IF(I1030=\"\",\"\",ROWS($A$3:A1030))","v":""},"","","","","","","","",{"$f":"IFERROR(SMALL($B$3:$B$2002,ROWS($A$3:A1030)),\"\")","v":""},"","",null,"","","",{"$f":"IF(O1030=\"\",\"\",CONCATENATE(\"*11....+\",VLOOKUP(16-(LEN(N1030)),'1'!$A$1:$B$16,2,TRUE),N1030,\" 81..40+\",VLOOKUP(16-(LEN(O1030)),'1'!$A$1:$B$16,2,TRUE),O1030,\" 82..40+\",VLOOKUP(16-(LEN(O1030)),'1'!$A$1:$B$16,2,TRUE),P1030,\" 71....+0000000000000000 \"))","v":""},null,""]
[null,{"$f":"IF(I1031=\"\",\"\",ROWS($A$3:A1031))","v":""},"","","","","","","","",{"$f":"IFERROR(SMALL($B$3:$B$2002,ROWS($A$3:A1031)),\"\")","v":""},"","",null,"","","",{"$f":"IF(O1031=\"\",\"\",CONCATENATE(\"*11....+\",VLOOKUP(16-(LEN(N1031)),'1'!$A$1:$B$16,2,TRUE),N1031,\" 81..40+\",VLOOKUP(16-(LEN(O1031)),'1'!$A$1:$B$16,2,TRUE),O1031,\" 82..40+\",VLOOKUP(16-(LEN(O1031)),'1'!$A$1:$B$16,2,TRUE),P1031,\" 71....+0000000000000000 \"))","v":""},null,""]
[null,{"$f":"IF(I1032=\"\",\"\",ROWS($A$3:A1032))","v":""},"","","","","","","","",{"$f":"IFERROR(SMALL($B$3:$B$2002,ROWS($A$3:A1032)),\"\")","v":""},"","",null,"","","",{"$f":"IF(O1032=\"\",\"\",CONCATENATE(\"*11....+\",VLOOKUP(16-(LEN(N1032)),'1'!$A$1:$B$16,2,TRUE),N1032,\" 81..40+\",VLOOKUP(16-(LEN(O1032)),'1'!$A$1:$B$16,2,TRUE),O1032,\" 82..40+\",VLOOKUP(16-(LEN(O1032)),'1'!$A$1:$B$16,2,TRUE),P1032,\" 71....+0000000000000000 \"))","v":""},null,""]
[null,{"$f":"IF(I1033=\"\",\"\",ROWS($A$3:A1033))","v":""},"","","","","","","","",{"$f":"IFERROR(SMALL($B$3:$B$2002,ROWS($A$3:A1033)),\"\")","v":""},"","",null,"","","",{"$f":"IF(O1033=\"\",\"\",CONCATENATE(\"*11....+\",VLOOKUP(16-(LEN(N1033)),'1'!$A$1:$B$16,2,TRUE),N1033,\" 81..40+\",VLOOKUP(16-(LEN(O1033)),'1'!$A$1:$B$16,2,TRUE),O1033,\" 82..40+\",VLOOKUP(16-(LEN(O1033)),'1'!$A$1:$B$16,2,TRUE),P1033,\" 71....+0000000000000000 \"))","v":""},null,""]
[null,{"$f":"IF(I1034=\"\",\"\",ROWS($A$3:A1034))","v":""},"","","","","","","","",{"$f":"IFERROR(SMALL($B$3:$B$2002,ROWS($A$3:A1034)),\"\")","v":""},"","",null,"","","",{"$f":"IF(O1034=\"\",\"\",CONCATENATE(\"*11....+\",VLOOKUP(16-(LEN(N1034)),'1'!$A$1:$B$16,2,TRUE),N1034,\" 81..40+\",VLOOKUP(16-(LEN(O1034)),'1'!$A$1:$B$16,2,TRUE),O1034,\" 82..40+\",VLOOKUP(16-(LEN(O1034)),'1'!$A$1:$B$16,2,TRUE),P1034,\" 71....+0000000000000000 \"))","v":""},null,""]
[null,{"$f":"IF(I1035=\"\",\"\",ROWS($A$3:A1035))","v":""},"","","","","","","","",{"$f":"IFERROR(SMALL($B$3:$B$2002,ROWS($A$3:A1035)),\"\")","v":""},"","",null,"","","",{"$f":"IF(O1035=\"\",\"\",CONCATENATE(\"*11....+\",VLOOKUP(16-(LEN(N1035)),'1'!$A$1:$B$16,2,TRUE),N1035,\" 81..40+\",VLOOKUP(16-(LEN(O1035)),'1'!$A$1:$B$16,2,TRUE),O1035,\" 82..40+\",VLOOKUP(16-(LEN(O1035)),'1'!$A$1:$B$16,2,TRUE),P1035,\" 71....+0000000000000000 \"))","v":""},null,""]
[null,{"$f":"IF(I1036=\"\",\"\",ROWS($A$3:A1036))","v":""},"","","","","","","","",{"$f":"IFERROR(SMALL($B$3:$B$2002,ROWS($A$3:A1036)),\"\")","v":""},"","",null,"","","",{"$f":"IF(O1036=\"\",\"\",CONCATENATE(\"*11....+\",VLOOKUP(16-(LEN(N1036)),'1'!$A$1:$B$16,2,TRUE),N1036,\" 81..40+\",VLOOKUP(16-(LEN(O1036)),'1'!$A$1:$B$16,2,TRUE),O1036,\" 82..40+\",VLOOKUP(16-(LEN(O1036)),'1'!$A$1:$B$16,2,TRUE),P1036,\" 71....+0000000000000000 \"))","v":""},null,""]
[null,{"$f":"IF(I1037=\"\",\"\",ROWS($A$3:A1037))","v":""},"","","","","","","","",{"$f":"IFERROR(SMALL($B$3:$B$2002,ROWS($A$3:A1037)),\"\")","v":""},"","",null,"","","",{"$f":"IF(O1037=\"\",\"\",CONCATENATE(\"*11....+\",VLOOKUP(16-(LEN(N1037)),'1'!$A$1:$B$16,2,TRUE),N1037,\" 81..40+\",VLOOKUP(16-(LEN(O1037)),'1'!$A$1:$B$16,2,TRUE),O1037,\" 82..40+\",VLOOKUP(16-(LEN(O1037)),'1'!$A$1:$B$16,2,TRUE),P1037,\" 71....+0000000000000000 \"))","v":""},null,""]
[null,{"$f":"IF(I1038=\"\",\"\",ROWS($A$3:A1038))","v":""},"","","","","","","","",{"$f":"IFERROR(SMALL($B$3:$B$2002,ROWS($A$3:A1038)),\"\")","v":""},"","",null,"","","",{"$f":"IF(O1038=\"\",\"\",CONCATENATE(\"*11....+\",VLOOKUP(16-(LEN(N1038)),'1'!$A$1:$B$16,2,TRUE),N1038,\" 81..40+\",VLOOKUP(16-(LEN(O1038)),'1'!$A$1:$B$16,2,TRUE),O1038,\" 82..40+\",VLOOKUP(16-(LEN(O1038)),'1'!$A$1:$B$16,2,TRUE),P1038,\" 71....+0000000000000000 \"))","v":""},null,""]
[null,{"$f":"IF(I1039=\"\",\"\",ROWS($A$3:A1039))","v":""},"","","","","","","","",{"$f":"IFERROR(SMALL($B$3:$B$2002,ROWS($A$3:A1039)),\"\")","v":""},"","",null,"","","",{"$f":"IF(O1039=\"\",\"\",CONCATENATE(\"*11....+\",VLOOKUP(16-(LEN(N1039)),'1'!$A$1:$B$16,2,TRUE),N1039,\" 81..40+\",VLOOKUP(16-(LEN(O1039)),'1'!$A$1:$B$16,2,TRUE),O1039,\" 82..40+\",VLOOKUP(16-(LEN(O1039)),'1'!$A$1:$B$16,2,TRUE),P1039,\" 71....+0000000000000000 \"))","v":""},null,""]
[null,{"$f":"IF(I1040=\"\",\"\",ROWS($A$3:A1040))","v":""},"","","","","","","","",{"$f":"IFERROR(SMALL($B$3:$B$2002,ROWS($A$3:A1040)),\"\")","v":""},"","",null,"","","",{"$f":"IF(O1040=\"\",\"\",CONCATENATE(\"*11....+\",VLOOKUP(16-(LEN(N1040)),'1'!$A$1:$B$16,2,TRUE),N1040,\" 81..40+\",VLOOKUP(16-(LEN(O1040)),'1'!$A$1:$B$16,2,TRUE),O1040,\" 82..40+\",VLOOKUP(16-(LEN(O1040)),'1'!$A$1:$B$16,2,TRUE),P1040,\" 71....+0000000000000000 \"))","v":""},null,""]
[null,{"$f":"IF(I1041=\"\",\"\",ROWS($A$3:A1041))","v":""},"","","","","","","","",{"$f":"IFERROR(SMALL($B$3:$B$2002,ROWS($A$3:A1041)),\"\")","v":""},"","",null,"","","",{"$f":"IF(O1041=\"\",\"\",CONCATENATE(\"*11....+\",VLOOKUP(16-(LEN(N1041)),'1'!$A$1:$B$16,2,TRUE),N1041,\" 81..40+\",VLOOKUP(16-(LEN(O1041)),'1'!$A$1:$B$16,2,TRUE),O1041,\" 82..40+\",VLOOKUP(16-(LEN(O1041)),'1'!$A$1:$B$16,2,TRUE),P1041,\" 71....+0000000000000000 \"))","v":""},null,""]
[null,{"$f":"IF(I1042=\"\",\"\",ROWS($A$3:A1042))","v":""},"","","","","","","","",{"$f":"IFERROR(SMALL($B$3:$B$2002,ROWS($A$3:A1042)),\"\")","v":""},"","",null,"","","",{"$f":"IF(O1042=\"\",\"\",CONCATENATE(\"*11....+\",VLOOKUP(16-(LEN(N1042)),'1'!$A$1:$B$16,2,TRUE),N1042,\" 81..40+\",VLOOKUP(16-(LEN(O1042)),'1'!$A$1:$B$16,2,TRUE),O1042,\" 82..40+\",VLOOKUP(16-(LEN(O1042)),'1'!$A$1:$B$16,2,TRUE),P1042,\" 71....+0000000000000000 \"))","v":""},null,""]
[null,{"$f":"IF(I1043=\"\",\"\",ROWS($A$3:A1043))","v":""},"","","","","","","","",{"$f":"IFERROR(SMALL($B$3:$B$2002,ROWS($A$3:A1043)),\"\")","v":""},"","",null,"","","",{"$f":"IF(O1043=\"\",\"\",CONCATENATE(\"*11....+\",VLOOKUP(16-(LEN(N1043)),'1'!$A$1:$B$16,2,TRUE),N1043,\" 81..40+\",VLOOKUP(16-(LEN(O1043)),'1'!$A$1:$B$16,2,TRUE),O1043,\" 82..40+\",VLOOKUP(16-(LEN(O1043)),'1'!$A$1:$B$16,2,TRUE),P1043,\" 71....+0000000000000000 \"))","v":""},null,""]
[null,{"$f":"IF(I1044=\"\",\"\",ROWS($A$3:A1044))","v":""},"","","","","","","","",{"$f":"IFERROR(SMALL($B$3:$B$2002,ROWS($A$3:A1044)),\"\")","v":""},"","",null,"","","",{"$f":"IF(O1044=\"\",\"\",CONCATENATE(\"*11....+\",VLOOKUP(16-(LEN(N1044)),'1'!$A$1:$B$16,2,TRUE),N1044,\" 81..40+\",VLOOKUP(16-(LEN(O1044)),'1'!$A$1:$B$16,2,TRUE),O1044,\" 82..40+\",VLOOKUP(16-(LEN(O1044)),'1'!$A$1:$B$16,2,TRUE),P1044,\" 71....+0000000000000000 \"))","v":""},null,""]
[null,{"$f":"IF(I1045=\"\",\"\",ROWS($A$3:A1045))","v":""},"","","","","","","","",{"$f":"IFERROR(SMALL($B$3:$B$2002,ROWS($A$3:A1045)),\"\")","v":""},"","",null,"","","",{"$f":"IF(O1045=\"\",\"\",CONCATENATE(\"*11....+\",VLOOKUP(16-(LEN(N1045)),'1'!$A$1:$B$16,2,TRUE),N1045,\" 81..40+\",VLOOKUP(16-(LEN(O1045)),'1'!$A$1:$B$16,2,TRUE),O1045,\" 82..40+\",VLOOKUP(16-(LEN(O1045)),'1'!$A$1:$B$16,2,TRUE),P1045,\" 71....+0000000000000000 \"))","v":""},null,""]
[null,{"$f":"IF(I1046=\"\",\"\",ROWS($A$3:A1046))","v":""},"","","","","","","","",{"$f":"IFERROR(SMALL($B$3:$B$2002,ROWS($A$3:A1046)),\"\")","v":""},"","",null,"","","",{"$f":"IF(O1046=\"\",\"\",CONCATENATE(\"*11....+\",VLOOKUP(16-(LEN(N1046)),'1'!$A$1:$B$16,2,TRUE),N1046,\" 81..40+\",VLOOKUP(16-(LEN(O1046)),'1'!$A$1:$B$16,2,TRUE),O1046,\" 82..40+\",VLOOKUP(16-(LEN(O1046)),'1'!$A$1:$B$16,2,TRUE),P1046,\" 71....+0000000000000000 \"))","v":""},null,""]
[null,{"$f":"IF(I1047=\"\",\"\",ROWS($A$3:A1047))","v":""},"","","","","","","","",{"$f":"IFERROR(SMALL($B$3:$B$2002,ROWS($A$3:A1047)),\"\")","v":""},"","",null,"","","",{"$f":"IF(O1047=\"\",\"\",CONCATENATE(\"*11....+\",VLOOKUP(16-(LEN(N1047)),'1'!$A$1:$B$16,2,TRUE),N1047,\" 81..40+\",VLOOKUP(16-(LEN(O1047)),'1'!$A$1:$B$16,2,TRUE),O1047,\" 82..40+\",VLOOKUP(16-(LEN(O1047)),'1'!$A$1:$B$16,2,TRUE),P1047,\" 71....+0000000000000000 \"))","v":""},null,""]
[null,{"$f":"IF(I1048=\"\",\"\",ROWS($A$3:A1048))","v":""},"","","","","","","","",{"$f":"IFERROR(SMALL($B$3:$B$2002,ROWS($A$3:A1048)),\"\")","v":""},"","",null,"","","",{"$f":"IF(O1048=\"\",\"\",CONCATENATE(\"*11....+\",VLOOKUP(16-(LEN(N1048)),'1'!$A$1:$B$16,2,TRUE),N1048,\" 81..40+\",VLOOKUP(16-(LEN(O1048)),'1'!$A$1:$B$16,2,TRUE),O1048,\" 82..40+\",VLOOKUP(16-(LEN(O1048)),'1'!$A$1:$B$16,2,TRUE),P1048,\" 71....+0000000000000000 \"))","v":""},null,""]
[null,{"$f":"IF(I1049=\"\",\"\",ROWS($A$3:A1049))","v":""},"","","","","","","","",{"$f":"IFERROR(SMALL($B$3:$B$2002,ROWS($A$3:A1049)),\"\")","v":""},"","",null,"","","",{"$f":"IF(O1049=\"\",\"\",CONCATENATE(\"*11....+\",VLOOKUP(16-(LEN(N1049)),'1'!$A$1:$B$16,2,TRUE),N1049,\" 81..40+\",VLOOKUP(16-(LEN(O1049)),'1'!$A$1:$B$16,2,TRUE),O1049,\" 82..40+\",VLOOKUP(16-(LEN(O1049)),'1'!$A$1:$B$16,2,TRUE),P1049,\" 71....+0000000000000000 \"))","v":""},null,""]
[null,{"$f":"IF(I1050=\"\",\"\",ROWS($A$3:A1050))","v":""},"","","","","","","","",{"$f":"IFERROR(SMALL($B$3:$B$2002,ROWS($A$3:A1050)),\"\")","v":""},"","",null,"","","",{"$f":"IF(O1050=\"\",\"\",CONCATENATE(\"*11....+\",VLOOKUP(16-(LEN(N1050)),'1'!$A$1:$B$16,2,TRUE),N1050,\" 81..40+\",VLOOKUP(16-(LEN(O1050)),'1'!$A$1:$B$16,2,TRUE),O1050,\" 82..40+\",VLOOKUP(16-(LEN(O1050)),'1'!$A$1:$B$16,2,TRUE),P1050,\" 71....+0000000000000000 \"))","v":""},null,""]
[null,{"$f":"IF(I1051=\"\",\"\",ROWS($A$3:A1051))","v":""},"","","","","","","","",{"$f":"IFERROR(SMALL($B$3:$B$2002,ROWS($A$3:A1051)),\"\")","v":""},"","",null,"","","",{"$f":"IF(O1051=\"\",\"\",CONCATENATE(\"*11....+\",VLOOKUP(16-(LEN(N1051)),'1'!$A$1:$B$16,2,TRUE),N1051,\" 81..40+\",VLOOKUP(16-(LEN(O1051)),'1'!$A$1:$B$16,2,TRUE),O1051,\" 82..40+\",VLOOKUP(16-(LEN(O1051)),'1'!$A$1:$B$16,2,TRUE),P1051,\" 71....+0000000000000000 \"))","v":""},null,""]
[null,{"$f":"IF(I1052=\"\",\"\",ROWS($A$3:A1052))","v":""},"","","","","","","","",{"$f":"IFERROR(SMALL($B$3:$B$2002,ROWS($A$3:A1052)),\"\")","v":""},"","",null,"","","",{"$f":"IF(O1052=\"\",\"\",CONCATENATE(\"*11....+\",VLOOKUP(16-(LEN(N1052)),'1'!$A$1:$B$16,2,TRUE),N1052,\" 81..40+\",VLOOKUP(16-(LEN(O1052)),'1'!$A$1:$B$16,2,TRUE),O1052,\" 82..40+\",VLOOKUP(16-(LEN(O1052)),'1'!$A$1:$B$16,2,TRUE),P1052,\" 71....+0000000000000000 \"))","v":""},null,""]
[null,{"$f":"IF(I1053=\"\",\"\",ROWS($A$3:A1053))","v":""},"","","","","","","","",{"$f":"IFERROR(SMALL($B$3:$B$2002,ROWS($A$3:A1053)),\"\")","v":""},"","",null,"","","",{"$f":"IF(O1053=\"\",\"\",CONCATENATE(\"*11....+\",VLOOKUP(16-(LEN(N1053)),'1'!$A$1:$B$16,2,TRUE),N1053,\" 81..40+\",VLOOKUP(16-(LEN(O1053)),'1'!$A$1:$B$16,2,TRUE),O1053,\" 82..40+\",VLOOKUP(16-(LEN(O1053)),'1'!$A$1:$B$16,2,TRUE),P1053,\" 71....+0000000000000000 \"))","v":""},null,""]
[null,{"$f":"IF(I1054=\"\",\"\",ROWS($A$3:A1054))","v":""},"","","","","","","","",{"$f":"IFERROR(SMALL($B$3:$B$2002,ROWS($A$3:A1054)),\"\")","v":""},"","",null,"","","",{"$f":"IF(O1054=\"\",\"\",CONCATENATE(\"*11....+\",VLOOKUP(16-(LEN(N1054)),'1'!$A$1:$B$16,2,TRUE),N1054,\" 81..40+\",VLOOKUP(16-(LEN(O1054)),'1'!$A$1:$B$16,2,TRUE),O1054,\" 82..40+\",VLOOKUP(16-(LEN(O1054)),'1'!$A$1:$B$16,2,TRUE),P1054,\" 71....+0000000000000000 \"))","v":""},null,""]
[null,{"$f":"IF(I1055=\"\",\"\",ROWS($A$3:A1055))","v":""},"","","","","","","","",{"$f":"IFERROR(SMALL($B$3:$B$2002,ROWS($A$3:A1055)),\"\")","v":""},"","",null,"","","",{"$f":"IF(O1055=\"\",\"\",CONCATENATE(\"*11....+\",VLOOKUP(16-(LEN(N1055)),'1'!$A$1:$B$16,2,TRUE),N1055,\" 81..40+\",VLOOKUP(16-(LEN(O1055)),'1'!$A$1:$B$16,2,TRUE),O1055,\" 82..40+\",VLOOKUP(16-(LEN(O1055)),'1'!$A$1:$B$16,2,TRUE),P1055,\" 71....+0000000000000000 \"))","v":""},null,""]
[null,{"$f":"IF(I1056=\"\",\"\",ROWS($A$3:A1056))","v":""},"","","","","","","","",{"$f":"IFERROR(SMALL($B$3:$B$2002,ROWS($A$3:A1056)),\"\")","v":""},"","",null,"","","",{"$f":"IF(O1056=\"\",\"\",CONCATENATE(\"*11....+\",VLOOKUP(16-(LEN(N1056)),'1'!$A$1:$B$16,2,TRUE),N1056,\" 81..40+\",VLOOKUP(16-(LEN(O1056)),'1'!$A$1:$B$16,2,TRUE),O1056,\" 82..40+\",VLOOKUP(16-(LEN(O1056)),'1'!$A$1:$B$16,2,TRUE),P1056,\" 71....+0000000000000000 \"))","v":""},null,""]
[null,{"$f":"IF(I1057=\"\",\"\",ROWS($A$3:A1057))","v":""},"","","","","","","","",{"$f":"IFERROR(SMALL($B$3:$B$2002,ROWS($A$3:A1057)),\"\")","v":""},"","",null,"","","",{"$f":"IF(O1057=\"\",\"\",CONCATENATE(\"*11....+\",VLOOKUP(16-(LEN(N1057)),'1'!$A$1:$B$16,2,TRUE),N1057,\" 81..40+\",VLOOKUP(16-(LEN(O1057)),'1'!$A$1:$B$16,2,TRUE),O1057,\" 82..40+\",VLOOKUP(16-(LEN(O1057)),'1'!$A$1:$B$16,2,TRUE),P1057,\" 71....+0000000000000000 \"))","v":""},null,""]
[null,{"$f":"IF(I1058=\"\",\"\",ROWS($A$3:A1058))","v":""},"","","","","","","","",{"$f":"IFERROR(SMALL($B$3:$B$2002,ROWS($A$3:A1058)),\"\")","v":""},"","",null,"","","",{"$f":"IF(O1058=\"\",\"\",CONCATENATE(\"*11....+\",VLOOKUP(16-(LEN(N1058)),'1'!$A$1:$B$16,2,TRUE),N1058,\" 81..40+\",VLOOKUP(16-(LEN(O1058)),'1'!$A$1:$B$16,2,TRUE),O1058,\" 82..40+\",VLOOKUP(16-(LEN(O1058)),'1'!$A$1:$B$16,2,TRUE),P1058,\" 71....+0000000000000000 \"))","v":""},null,""]
[null,{"$f":"IF(I1059=\"\",\"\",ROWS($A$3:A1059))","v":""},"","","","","","","","",{"$f":"IFERROR(SMALL($B$3:$B$2002,ROWS($A$3:A1059)),\"\")","v":""},"","",null,"","","",{"$f":"IF(O1059=\"\",\"\",CONCATENATE(\"*11....+\",VLOOKUP(16-(LEN(N1059)),'1'!$A$1:$B$16,2,TRUE),N1059,\" 81..40+\",VLOOKUP(16-(LEN(O1059)),'1'!$A$1:$B$16,2,TRUE),O1059,\" 82..40+\",VLOOKUP(16-(LEN(O1059)),'1'!$A$1:$B$16,2,TRUE),P1059,\" 71....+0000000000000000 \"))","v":""},null,""]
[null,{"$f":"IF(I1060=\"\",\"\",ROWS($A$3:A1060))","v":""},"","","","","","","","",{"$f":"IFERROR(SMALL($B$3:$B$2002,ROWS($A$3:A1060)),\"\")","v":""},"","",null,"","","",{"$f":"IF(O1060=\"\",\"\",CONCATENATE(\"*11....+\",VLOOKUP(16-(LEN(N1060)),'1'!$A$1:$B$16,2,TRUE),N1060,\" 81..40+\",VLOOKUP(16-(LEN(O1060)),'1'!$A$1:$B$16,2,TRUE),O1060,\" 82..40+\",VLOOKUP(16-(LEN(O1060)),'1'!$A$1:$B$16,2,TRUE),P1060,\" 71....+0000000000000000 \"))","v":""},null,""]
[null,{"$f":"IF(I1061=\"\",\"\",ROWS($A$3:A1061))","v":""},"","","","","","","","",{"$f":"IFERROR(SMALL($B$3:$B$2002,ROWS($A$3:A1061)),\"\")","v":""},"","",null,"","","",{"$f":"IF(O1061=\"\",\"\",CONCATENATE(\"*11....+\",VLOOKUP(16-(LEN(N1061)),'1'!$A$1:$B$16,2,TRUE),N1061,\" 81..40+\",VLOOKUP(16-(LEN(O1061)),'1'!$A$1:$B$16,2,TRUE),O1061,\" 82..40+\",VLOOKUP(16-(LEN(O1061)),'1'!$A$1:$B$16,2,TRUE),P1061,\" 71....+0000000000000000 \"))","v":""},null,""]
[null,{"$f":"IF(I1062=\"\",\"\",ROWS($A$3:A1062))","v":""},"","","","","","","","",{"$f":"IFERROR(SMALL($B$3:$B$2002,ROWS($A$3:A1062)),\"\")","v":""},"","",null,"","","",{"$f":"IF(O1062=\"\",\"\",CONCATENATE(\"*11....+\",VLOOKUP(16-(LEN(N1062)),'1'!$A$1:$B$16,2,TRUE),N1062,\" 81..40+\",VLOOKUP(16-(LEN(O1062)),'1'!$A$1:$B$16,2,TRUE),O1062,\" 82..40+\",VLOOKUP(16-(LEN(O1062)),'1'!$A$1:$B$16,2,TRUE),P1062,\" 71....+0000000000000000 \"))","v":""},null,""]
[null,{"$f":"IF(I1063=\"\",\"\",ROWS($A$3:A1063))","v":""},"","","","","","","","",{"$f":"IFERROR(SMALL($B$3:$B$2002,ROWS($A$3:A1063)),\"\")","v":""},"","",null,"","","",{"$f":"IF(O1063=\"\",\"\",CONCATENATE(\"*11....+\",VLOOKUP(16-(LEN(N1063)),'1'!$A$1:$B$16,2,TRUE),N1063,\" 81..40+\",VLOOKUP(16-(LEN(O1063)),'1'!$A$1:$B$16,2,TRUE),O1063,\" 82..40+\",VLOOKUP(16-(LEN(O1063)),'1'!$A$1:$B$16,2,TRUE),P1063,\" 71....+0000000000000000 \"))","v":""},null,""]
[null,{"$f":"IF(I1064=\"\",\"\",ROWS($A$3:A1064))","v":""},"","","","","","","","",{"$f":"IFERROR(SMALL($B$3:$B$2002,ROWS($A$3:A1064)),\"\")","v":""},"","",null,"","","",{"$f":"IF(O1064=\"\",\"\",CONCATENATE(\"*11....+\",VLOOKUP(16-(LEN(N1064)),'1'!$A$1:$B$16,2,TRUE),N1064,\" 81..40+\",VLOOKUP(16-(LEN(O1064)),'1'!$A$1:$B$16,2,TRUE),O1064,\" 82..40+\",VLOOKUP(16-(LEN(O1064)),'1'!$A$1:$B$16,2,TRUE),P1064,\" 71....+0000000000000000 \"))","v":""},null,""]
[null,{"$f":"IF(I1065=\"\",\"\",ROWS($A$3:A1065))","v":""},"","","","","","","","",{"$f":"IFERROR(SMALL($B$3:$B$2002,ROWS($A$3:A1065)),\"\")","v":""},"","",null,"","","",{"$f":"IF(O1065=\"\",\"\",CONCATENATE(\"*11....+\",VLOOKUP(16-(LEN(N1065)),'1'!$A$1:$B$16,2,TRUE),N1065,\" 81..40+\",VLOOKUP(16-(LEN(O1065)),'1'!$A$1:$B$16,2,TRUE),O1065,\" 82..40+\",VLOOKUP(16-(LEN(O1065)),'1'!$A$1:$B$16,2,TRUE),P1065,\" 71....+0000000000000000 \"))","v":""},null,""]
[null,{"$f":"IF(I1066=\"\",\"\",ROWS($A$3:A1066))","v":""},"","","","","","","","",{"$f":"IFERROR(SMALL($B$3:$B$2002,ROWS($A$3:A1066)),\"\")","v":""},"","",null,"","","",{"$f":"IF(O1066=\"\",\"\",CONCATENATE(\"*11....+\",VLOOKUP(16-(LEN(N1066)),'1'!$A$1:$B$16,2,TRUE),N1066,\" 81..40+\",VLOOKUP(16-(LEN(O1066)),'1'!$A$1:$B$16,2,TRUE),O1066,\" 82..40+\",VLOOKUP(16-(LEN(O1066)),'1'!$A$1:$B$16,2,TRUE),P1066,\" 71....+0000000000000000 \"))","v":""},null,""]
[null,{"$f":"IF(I1067=\"\",\"\",ROWS($A$3:A1067))","v":""},"","","","","","","","",{"$f":"IFERROR(SMALL($B$3:$B$2002,ROWS($A$3:A1067)),\"\")","v":""},"","",null,"","","",{"$f":"IF(O1067=\"\",\"\",CONCATENATE(\"*11....+\",VLOOKUP(16-(LEN(N1067)),'1'!$A$1:$B$16,2,TRUE),N1067,\" 81..40+\",VLOOKUP(16-(LEN(O1067)),'1'!$A$1:$B$16,2,TRUE),O1067,\" 82..40+\",VLOOKUP(16-(LEN(O1067)),'1'!$A$1:$B$16,2,TRUE),P1067,\" 71....+0000000000000000 \"))","v":""},null,""]
[null,{"$f":"IF(I1068=\"\",\"\",ROWS($A$3:A1068))","v":""},"","","","","","","","",{"$f":"IFERROR(SMALL($B$3:$B$2002,ROWS($A$3:A1068)),\"\")","v":""},"","",null,"","","",{"$f":"IF(O1068=\"\",\"\",CONCATENATE(\"*11....+\",VLOOKUP(16-(LEN(N1068)),'1'!$A$1:$B$16,2,TRUE),N1068,\" 81..40+\",VLOOKUP(16-(LEN(O1068)),'1'!$A$1:$B$16,2,TRUE),O1068,\" 82..40+\",VLOOKUP(16-(LEN(O1068)),'1'!$A$1:$B$16,2,TRUE),P1068,\" 71....+0000000000000000 \"))","v":""},null,""]
[null,{"$f":"IF(I1069=\"\",\"\",ROWS($A$3:A1069))","v":""},"","","","","","","","",{"$f":"IFERROR(SMALL($B$3:$B$2002,ROWS($A$3:A1069)),\"\")","v":""},"","",null,"","","",{"$f":"IF(O1069=\"\",\"\",CONCATENATE(\"*11....+\",VLOOKUP(16-(LEN(N1069)),'1'!$A$1:$B$16,2,TRUE),N1069,\" 81..40+\",VLOOKUP(16-(LEN(O1069)),'1'!$A$1:$B$16,2,TRUE),O1069,\" 82..40+\",VLOOKUP(16-(LEN(O1069)),'1'!$A$1:$B$16,2,TRUE),P1069,\" 71....+0000000000000000 \"))","v":""},null,""]
[null,{"$f":"IF(I1070=\"\",\"\",ROWS($A$3:A1070))","v":""},"","","","","","","","",{"$f":"IFERROR(SMALL($B$3:$B$2002,ROWS($A$3:A1070)),\"\")","v":""},"","",null,"","","",{"$f":"IF(O1070=\"\",\"\",CONCATENATE(\"*11....+\",VLOOKUP(16-(LEN(N1070)),'1'!$A$1:$B$16,2,TRUE),N1070,\" 81..40+\",VLOOKUP(16-(LEN(O1070)),'1'!$A$1:$B$16,2,TRUE),O1070,\" 82..40+\",VLOOKUP(16-(LEN(O1070)),'1'!$A$1:$B$16,2,TRUE),P1070,\" 71....+0000000000000000 \"))","v":""},null,""]
[null,{"$f":"IF(I1071=\"\",\"\",ROWS($A$3:A1071))","v":""},"","","","","","","","",{"$f":"IFERROR(SMALL($B$3:$B$2002,ROWS($A$3:A1071)),\"\")","v":""},"","",null,"","","",{"$f":"IF(O1071=\"\",\"\",CONCATENATE(\"*11....+\",VLOOKUP(16-(LEN(N1071)),'1'!$A$1:$B$16,2,TRUE),N1071,\" 81..40+\",VLOOKUP(16-(LEN(O1071)),'1'!$A$1:$B$16,2,TRUE),O1071,\" 82..40+\",VLOOKUP(16-(LEN(O1071)),'1'!$A$1:$B$16,2,TRUE),P1071,\" 71....+0000000000000000 \"))","v":""},null,""]
[null,{"$f":"IF(I1072=\"\",\"\",ROWS($A$3:A1072))","v":""},"","","","","","","","",{"$f":"IFERROR(SMALL($B$3:$B$2002,ROWS($A$3:A1072)),\"\")","v":""},"","",null,"","","",{"$f":"IF(O1072=\"\",\"\",CONCATENATE(\"*11....+\",VLOOKUP(16-(LEN(N1072)),'1'!$A$1:$B$16,2,TRUE),N1072,\" 81..40+\",VLOOKUP(16-(LEN(O1072)),'1'!$A$1:$B$16,2,TRUE),O1072,\" 82..40+\",VLOOKUP(16-(LEN(O1072)),'1'!$A$1:$B$16,2,TRUE),P1072,\" 71....+0000000000000000 \"))","v":""},null,""]
[null,{"$f":"IF(I1073=\"\",\"\",ROWS($A$3:A1073))","v":""},"","","","","","","","",{"$f":"IFERROR(SMALL($B$3:$B$2002,ROWS($A$3:A1073)),\"\")","v":""},"","",null,"","","",{"$f":"IF(O1073=\"\",\"\",CONCATENATE(\"*11....+\",VLOOKUP(16-(LEN(N1073)),'1'!$A$1:$B$16,2,TRUE),N1073,\" 81..40+\",VLOOKUP(16-(LEN(O1073)),'1'!$A$1:$B$16,2,TRUE),O1073,\" 82..40+\",VLOOKUP(16-(LEN(O1073)),'1'!$A$1:$B$16,2,TRUE),P1073,\" 71....+0000000000000000 \"))","v":""},null,""]
[null,{"$f":"IF(I1074=\"\",\"\",ROWS($A$3:A1074))","v":""},"","","","","","","","",{"$f":"IFERROR(SMALL($B$3:$B$2002,ROWS($A$3:A1074)),\"\")","v":""},"","",null,"","","",{"$f":"IF(O1074=\"\",\"\",CONCATENATE(\"*11....+\",VLOOKUP(16-(LEN(N1074)),'1'!$A$1:$B$16,2,TRUE),N1074,\" 81..40+\",VLOOKUP(16-(LEN(O1074)),'1'!$A$1:$B$16,2,TRUE),O1074,\" 82..40+\",VLOOKUP(16-(LEN(O1074)),'1'!$A$1:$B$16,2,TRUE),P1074,\" 71....+0000000000000000 \"))","v":""},null,""]
[null,{"$f":"IF(I1075=\"\",\"\",ROWS($A$3:A1075))","v":""},"","","","","","","","",{"$f":"IFERROR(SMALL($B$3:$B$2002,ROWS($A$3:A1075)),\"\")","v":""},"","",null,"","","",{"$f":"IF(O1075=\"\",\"\",CONCATENATE(\"*11....+\",VLOOKUP(16-(LEN(N1075)),'1'!$A$1:$B$16,2,TRUE),N1075,\" 81..40+\",VLOOKUP(16-(LEN(O1075)),'1'!$A$1:$B$16,2,TRUE),O1075,\" 82..40+\",VLOOKUP(16-(LEN(O1075)),'1'!$A$1:$B$16,2,TRUE),P1075,\" 71....+0000000000000000 \"))","v":""},null,""]
[null,{"$f":"IF(I1076=\"\",\"\",ROWS($A$3:A1076))","v":""},"","","","","","","","",{"$f":"IFERROR(SMALL($B$3:$B$2002,ROWS($A$3:A1076)),\"\")","v":""},"","",null,"","","",{"$f":"IF(O1076=\"\",\"\",CONCATENATE(\"*11....+\",VLOOKUP(16-(LEN(N1076)),'1'!$A$1:$B$16,2,TRUE),N1076,\" 81..40+\",VLOOKUP(16-(LEN(O1076)),'1'!$A$1:$B$16,2,TRUE),O1076,\" 82..40+\",VLOOKUP(16-(LEN(O1076)),'1'!$A$1:$B$16,2,TRUE),P1076,\" 71....+0000000000000000 \"))","v":""},null,""]
[null,{"$f":"IF(I1077=\"\",\"\",ROWS($A$3:A1077))","v":""},"","","","","","","","",{"$f":"IFERROR(SMALL($B$3:$B$2002,ROWS($A$3:A1077)),\"\")","v":""},"","",null,"","","",{"$f":"IF(O1077=\"\",\"\",CONCATENATE(\"*11....+\",VLOOKUP(16-(LEN(N1077)),'1'!$A$1:$B$16,2,TRUE),N1077,\" 81..40+\",VLOOKUP(16-(LEN(O1077)),'1'!$A$1:$B$16,2,TRUE),O1077,\" 82..40+\",VLOOKUP(16-(LEN(O1077)),'1'!$A$1:$B$16,2,TRUE),P1077,\" 71....+0000000000000000 \"))","v":""},null,""]
[null,{"$f":"IF(I1078=\"\",\"\",ROWS($A$3:A1078))","v":""},"","","","","","","","",{"$f":"IFERROR(SMALL($B$3:$B$2002,ROWS($A$3:A1078)),\"\")","v":""},"","",null,"","","",{"$f":"IF(O1078=\"\",\"\",CONCATENATE(\"*11....+\",VLOOKUP(16-(LEN(N1078)),'1'!$A$1:$B$16,2,TRUE),N1078,\" 81..40+\",VLOOKUP(16-(LEN(O1078)),'1'!$A$1:$B$16,2,TRUE),O1078,\" 82..40+\",VLOOKUP(16-(LEN(O1078)),'1'!$A$1:$B$16,2,TRUE),P1078,\" 71....+0000000000000000 \"))","v":""},null,""]
[null,{"$f":"IF(I1079=\"\",\"\",ROWS($A$3:A1079))","v":""},"","","","","","","","",{"$f":"IFERROR(SMALL($B$3:$B$2002,ROWS($A$3:A1079)),\"\")","v":""},"","",null,"","","",{"$f":"IF(O1079=\"\",\"\",CONCATENATE(\"*11....+\",VLOOKUP(16-(LEN(N1079)),'1'!$A$1:$B$16,2,TRUE),N1079,\" 81..40+\",VLOOKUP(16-(LEN(O1079)),'1'!$A$1:$B$16,2,TRUE),O1079,\" 82..40+\",VLOOKUP(16-(LEN(O1079)),'1'!$A$1:$B$16,2,TRUE),P1079,\" 71....+0000000000000000 \"))","v":""},null,""]
[null,{"$f":"IF(I1080=\"\",\"\",ROWS($A$3:A1080))","v":""},"","","","","","","","",{"$f":"IFERROR(SMALL($B$3:$B$2002,ROWS($A$3:A1080)),\"\")","v":""},"","",null,"","","",{"$f":"IF(O1080=\"\",\"\",CONCATENATE(\"*11....+\",VLOOKUP(16-(LEN(N1080)),'1'!$A$1:$B$16,2,TRUE),N1080,\" 81..40+\",VLOOKUP(16-(LEN(O1080)),'1'!$A$1:$B$16,2,TRUE),O1080,\" 82..40+\",VLOOKUP(16-(LEN(O1080)),'1'!$A$1:$B$16,2,TRUE),P1080,\" 71....+0000000000000000 \"))","v":""},null,""]
[null,{"$f":"IF(I1081=\"\",\"\",ROWS($A$3:A1081))","v":""},"","","","","","","","",{"$f":"IFERROR(SMALL($B$3:$B$2002,ROWS($A$3:A1081)),\"\")","v":""},"","",null,"","","",{"$f":"IF(O1081=\"\",\"\",CONCATENATE(\"*11....+\",VLOOKUP(16-(LEN(N1081)),'1'!$A$1:$B$16,2,TRUE),N1081,\" 81..40+\",VLOOKUP(16-(LEN(O1081)),'1'!$A$1:$B$16,2,TRUE),O1081,\" 82..40+\",VLOOKUP(16-(LEN(O1081)),'1'!$A$1:$B$16,2,TRUE),P1081,\" 71....+0000000000000000 \"))","v":""},null,""]
[null,{"$f":"IF(I1082=\"\",\"\",ROWS($A$3:A1082))","v":""},"","","","","","","","",{"$f":"IFERROR(SMALL($B$3:$B$2002,ROWS($A$3:A1082)),\"\")","v":""},"","",null,"","","",{"$f":"IF(O1082=\"\",\"\",CONCATENATE(\"*11....+\",VLOOKUP(16-(LEN(N1082)),'1'!$A$1:$B$16,2,TRUE),N1082,\" 81..40+\",VLOOKUP(16-(LEN(O1082)),'1'!$A$1:$B$16,2,TRUE),O1082,\" 82..40+\",VLOOKUP(16-(LEN(O1082)),'1'!$A$1:$B$16,2,TRUE),P1082,\" 71....+0000000000000000 \"))","v":""},null,""]
[null,{"$f":"IF(I1083=\"\",\"\",ROWS($A$3:A1083))","v":""},"","","","","","","","",{"$f":"IFERROR(SMALL($B$3:$B$2002,ROWS($A$3:A1083)),\"\")","v":""},"","",null,"","","",{"$f":"IF(O1083=\"\",\"\",CONCATENATE(\"*11....+\",VLOOKUP(16-(LEN(N1083)),'1'!$A$1:$B$16,2,TRUE),N1083,\" 81..40+\",VLOOKUP(16-(LEN(O1083)),'1'!$A$1:$B$16,2,TRUE),O1083,\" 82..40+\",VLOOKUP(16-(LEN(O1083)),'1'!$A$1:$B$16,2,TRUE),P1083,\" 71....+0000000000000000 \"))","v":""},null,""]
[null,{"$f":"IF(I1084=\"\",\"\",ROWS($A$3:A1084))","v":""},"","","","","","","","",{"$f":"IFERROR(SMALL($B$3:$B$2002,ROWS($A$3:A1084)),\"\")","v":""},"","",null,"","","",{"$f":"IF(O1084=\"\",\"\",CONCATENATE(\"*11....+\",VLOOKUP(16-(LEN(N1084)),'1'!$A$1:$B$16,2,TRUE),N1084,\" 81..40+\",VLOOKUP(16-(LEN(O1084)),'1'!$A$1:$B$16,2,TRUE),O1084,\" 82..40+\",VLOOKUP(16-(LEN(O1084)),'1'!$A$1:$B$16,2,TRUE),P1084,\" 71....+0000000000000000 \"))","v":""},null,""]
[null,{"$f":"IF(I1085=\"\",\"\",ROWS($A$3:A1085))","v":""},"","","","","","","","",{"$f":"IFERROR(SMALL($B$3:$B$2002,ROWS($A$3:A1085)),\"\")","v":""},"","",null,"","","",{"$f":"IF(O1085=\"\",\"\",CONCATENATE(\"*11....+\",VLOOKUP(16-(LEN(N1085)),'1'!$A$1:$B$16,2,TRUE),N1085,\" 81..40+\",VLOOKUP(16-(LEN(O1085)),'1'!$A$1:$B$16,2,TRUE),O1085,\" 82..40+\",VLOOKUP(16-(LEN(O1085)),'1'!$A$1:$B$16,2,TRUE),P1085,\" 71....+0000000000000000 \"))","v":""},null,""]
[null,{"$f":"IF(I1086=\"\",\"\",ROWS($A$3:A1086))","v":""},"","","","","","","","",{"$f":"IFERROR(SMALL($B$3:$B$2002,ROWS($A$3:A1086)),\"\")","v":""},"","",null,"","","",{"$f":"IF(O1086=\"\",\"\",CONCATENATE(\"*11....+\",VLOOKUP(16-(LEN(N1086)),'1'!$A$1:$B$16,2,TRUE),N1086,\" 81..40+\",VLOOKUP(16-(LEN(O1086)),'1'!$A$1:$B$16,2,TRUE),O1086,\" 82..40+\",VLOOKUP(16-(LEN(O1086)),'1'!$A$1:$B$16,2,TRUE),P1086,\" 71....+0000000000000000 \"))","v":""},null,""]
[null,{"$f":"IF(I1087=\"\",\"\",ROWS($A$3:A1087))","v":""},"","","","","","","","",{"$f":"IFERROR(SMALL($B$3:$B$2002,ROWS($A$3:A1087)),\"\")","v":""},"","",null,"","","",{"$f":"IF(O1087=\"\",\"\",CONCATENATE(\"*11....+\",VLOOKUP(16-(LEN(N1087)),'1'!$A$1:$B$16,2,TRUE),N1087,\" 81..40+\",VLOOKUP(16-(LEN(O1087)),'1'!$A$1:$B$16,2,TRUE),O1087,\" 82..40+\",VLOOKUP(16-(LEN(O1087)),'1'!$A$1:$B$16,2,TRUE),P1087,\" 71....+0000000000000000 \"))","v":""},null,""]
[null,{"$f":"IF(I1088=\"\",\"\",ROWS($A$3:A1088))","v":""},"","","","","","","","",{"$f":"IFERROR(SMALL($B$3:$B$2002,ROWS($A$3:A1088)),\"\")","v":""},"","",null,"","","",{"$f":"IF(O1088=\"\",\"\",CONCATENATE(\"*11....+\",VLOOKUP(16-(LEN(N1088)),'1'!$A$1:$B$16,2,TRUE),N1088,\" 81..40+\",VLOOKUP(16-(LEN(O1088)),'1'!$A$1:$B$16,2,TRUE),O1088,\" 82..40+\",VLOOKUP(16-(LEN(O1088)),'1'!$A$1:$B$16,2,TRUE),P1088,\" 71....+0000000000000000 \"))","v":""},null,""]
[null,{"$f":"IF(I1089=\"\",\"\",ROWS($A$3:A1089))","v":""},"","","","","","","","",{"$f":"IFERROR(SMALL($B$3:$B$2002,ROWS($A$3:A1089)),\"\")","v":""},"","",null,"","","",{"$f":"IF(O1089=\"\",\"\",CONCATENATE(\"*11....+\",VLOOKUP(16-(LEN(N1089)),'1'!$A$1:$B$16,2,TRUE),N1089,\" 81..40+\",VLOOKUP(16-(LEN(O1089)),'1'!$A$1:$B$16,2,TRUE),O1089,\" 82..40+\",VLOOKUP(16-(LEN(O1089)),'1'!$A$1:$B$16,2,TRUE),P1089,\" 71....+0000000000000000 \"))","v":""},null,""]
[null,{"$f":"IF(I1090=\"\",\"\",ROWS($A$3:A1090))","v":""},"","","","","","","","",{"$f":"IFERROR(SMALL($B$3:$B$2002,ROWS($A$3:A1090)),\"\")","v":""},"","",null,"","","",{"$f":"IF(O1090=\"\",\"\",CONCATENATE(\"*11....+\",VLOOKUP(16-(LEN(N1090)),'1'!$A$1:$B$16,2,TRUE),N1090,\" 81..40+\",VLOOKUP(16-(LEN(O1090)),'1'!$A$1:$B$16,2,TRUE),O1090,\" 82..40+\",VLOOKUP(16-(LEN(O1090)),'1'!$A$1:$B$16,2,TRUE),P1090,\" 71....+0000000000000000 \"))","v":""},null,""]
[null,{"$f":"IF(I1091=\"\",\"\",ROWS($A$3:A1091))","v":""},"","","","","","","","",{"$f":"IFERROR(SMALL($B$3:$B$2002,ROWS($A$3:A1091)),\"\")","v":""},"","",null,"","","",{"$f":"IF(O1091=\"\",\"\",CONCATENATE(\"*11....+\",VLOOKUP(16-(LEN(N1091)),'1'!$A$1:$B$16,2,TRUE),N1091,\" 81..40+\",VLOOKUP(16-(LEN(O1091)),'1'!$A$1:$B$16,2,TRUE),O1091,\" 82..40+\",VLOOKUP(16-(LEN(O1091)),'1'!$A$1:$B$16,2,TRUE),P1091,\" 71....+0000000000000000 \"))","v":""},null,""]
[null,{"$f":"IF(I1092=\"\",\"\",ROWS($A$3:A1092))","v":""},{"$f":"IF(LEN(A1092)=59,ROUND(VALUE(MID(A1092,23,9)),3),\"\")","v":""},{"$f":"IF(LEN(A1092)=24,\"\",\"\")","v":""},{"$f":"IF(LEN(A1092)=63,ROUND(VALUE(MID(A1092,23,12)),3),\"\")","v":""},{"$f":"IF(LEN(A1092)=59,ROUND(VALUE(MID(A1092,37,9)),3),\"\")","v":""},{"$f":"IF(LEN(A1092)=24,\"\",\"\")","v":""},{"$f":"IF(LEN(A1092)=63,ROUND(VALUE(MID(A1092,39,12)),3),\"\")","v":""},{"$f":"IF(AND(C1092=\"\",D1092=\"\",E1092=\"\"),\"\",ROUND(CONCATENATE(C1092,D1092,E1092),3))","v":""},{"$f":"IF(AND(C1092=\"\",D1092=\"\",E1092=\"\"),\"\",ROUND(CONCATENATE(F1092,G1092,H1092),3))","v":""},{"$f":"IFERROR(SMALL($B$3:$B$2002,ROWS($A$3:A1092)),\"\")","v":""},{"$f":"IF(K1092=\"\",\"\",ROUND(VALUE(VLOOKUP(K1092,$B$3:$J$2002,8,TRUE)),3))","v":""},{"$f":"IF(K1092=\"\",\"\",ROUND(VALUE(VLOOKUP(K1092,$B$3:$J$2002,9,TRUE)),3))","v":""},null,{"$f":"IF(L1092=\"\",\"\",L1092/0.001)","v":""},"",{"$f":"IF(O1092=\"\",\"\",16-LEN(N1092))","v":""},{"$f":"IF(O1092=\"\",\"\",CONCATENATE(\"*11....+\",VLOOKUP(16-(LEN(N1092)),'1'!$A$1:$B$16,2,TRUE),N1092,\" 81..40+\",VLOOKUP(16-(LEN(O1092)),'1'!$A$1:$B$16,2,TRUE),O1092,\" 82..40+\",VLOOKUP(16-(LEN(O1092)),'1'!$A$1:$B$16,2,TRUE),P1092,\" 71....+0000000000000000 \"))","v":""},null,{"$f":"IF(O1092=\"\",\"\",CONCATENATE(N1092,\",\",L1092,\",\",M1092))","v":""}]
[null,{"$f":"IF(I1093=\"\",\"\",ROWS($A$3:A1093))","v":""},"","","","","","","","",{"$f":"IFERROR(SMALL($B$3:$B$2002,ROWS($A$3:A1093)),\"\")","v":""},"","",null,"","","",{"$f":"IF(O1093=\"\",\"\",CONCATENATE(\"*11....+\",VLOOKUP(16-(LEN(N1093)),'1'!$A$1:$B$16,2,TRUE),N1093,\" 81..40+\",VLOOKUP(16-(LEN(O1093)),'1'!$A$1:$B$16,2,TRUE),O1093,\" 82..40+\",VLOOKUP(16-(LEN(O1093)),'1'!$A$1:$B$16,2,TRUE),P1093,\" 71....+0000000000000000 \"))","v":""},null,""]
[null,{"$f":"IF(I1094=\"\",\"\",ROWS($A$3:A1094))","v":""},"","","","","","","","",{"$f":"IFERROR(SMALL($B$3:$B$2002,ROWS($A$3:A1094)),\"\")","v":""},"","",null,"","","",{"$f":"IF(O1094=\"\",\"\",CONCATENATE(\"*11....+\",VLOOKUP(16-(LEN(N1094)),'1'!$A$1:$B$16,2,TRUE),N1094,\" 81..40+\",VLOOKUP(16-(LEN(O1094)),'1'!$A$1:$B$16,2,TRUE),O1094,\" 82..40+\",VLOOKUP(16-(LEN(O1094)),'1'!$A$1:$B$16,2,TRUE),P1094,\" 71....+0000000000000000 \"))","v":""},null,""]
[null,{"$f":"IF(I1095=\"\",\"\",ROWS($A$3:A1095))","v":""},"","","","","","","","",{"$f":"IFERROR(SMALL($B$3:$B$2002,ROWS($A$3:A1095)),\"\")","v":""},"","",null,"","","",{"$f":"IF(O1095=\"\",\"\",CONCATENATE(\"*11....+\",VLOOKUP(16-(LEN(N1095)),'1'!$A$1:$B$16,2,TRUE),N1095,\" 81..40+\",VLOOKUP(16-(LEN(O1095)),'1'!$A$1:$B$16,2,TRUE),O1095,\" 82..40+\",VLOOKUP(16-(LEN(O1095)),'1'!$A$1:$B$16,2,TRUE),P1095,\" 71....+0000000000000000 \"))","v":""},null,""]
[null,{"$f":"IF(I1096=\"\",\"\",ROWS($A$3:A1096))","v":""},"","","","","","","","",{"$f":"IFERROR(SMALL($B$3:$B$2002,ROWS($A$3:A1096)),\"\")","v":""},"","",null,"","","",{"$f":"IF(O1096=\"\",\"\",CONCATENATE(\"*11....+\",VLOOKUP(16-(LEN(N1096)),'1'!$A$1:$B$16,2,TRUE),N1096,\" 81..40+\",VLOOKUP(16-(LEN(O1096)),'1'!$A$1:$B$16,2,TRUE),O1096,\" 82..40+\",VLOOKUP(16-(LEN(O1096)),'1'!$A$1:$B$16,2,TRUE),P1096,\" 71....+0000000000000000 \"))","v":""},null,""]
[null,{"$f":"IF(I1097=\"\",\"\",ROWS($A$3:A1097))","v":""},"","","","","","","","",{"$f":"IFERROR(SMALL($B$3:$B$2002,ROWS($A$3:A1097)),\"\")","v":""},"","",null,"","","",{"$f":"IF(O1097=\"\",\"\",CONCATENATE(\"*11....+\",VLOOKUP(16-(LEN(N1097)),'1'!$A$1:$B$16,2,TRUE),N1097,\" 81..40+\",VLOOKUP(16-(LEN(O1097)),'1'!$A$1:$B$16,2,TRUE),O1097,\" 82..40+\",VLOOKUP(16-(LEN(O1097)),'1'!$A$1:$B$16,2,TRUE),P1097,\" 71....+0000000000000000 \"))","v":""},null,""]
[null,{"$f":"IF(I1098=\"\",\"\",ROWS($A$3:A1098))","v":""},"","","","","","","","",{"$f":"IFERROR(SMALL($B$3:$B$2002,ROWS($A$3:A1098)),\"\")","v":""},"","",null,"","","",{"$f":"IF(O1098=\"\",\"\",CONCATENATE(\"*11....+\",VLOOKUP(16-(LEN(N1098)),'1'!$A$1:$B$16,2,TRUE),N1098,\" 81..40+\",VLOOKUP(16-(LEN(O1098)),'1'!$A$1:$B$16,2,TRUE),O1098,\" 82..40+\",VLOOKUP(16-(LEN(O1098)),'1'!$A$1:$B$16,2,TRUE),P1098,\" 71....+0000000000000000 \"))","v":""},null,""]
[null,{"$f":"IF(I1099=\"\",\"\",ROWS($A$3:A1099))","v":""},"","","","","","","","",{"$f":"IFERROR(SMALL($B$3:$B$2002,ROWS($A$3:A1099)),\"\")","v":""},"","",null,"","","",{"$f":"IF(O1099=\"\",\"\",CONCATENATE(\"*11....+\",VLOOKUP(16-(LEN(N1099)),'1'!$A$1:$B$16,2,TRUE),N1099,\" 81..40+\",VLOOKUP(16-(LEN(O1099)),'1'!$A$1:$B$16,2,TRUE),O1099,\" 82..40+\",VLOOKUP(16-(LEN(O1099)),'1'!$A$1:$B$16,2,TRUE),P1099,\" 71....+0000000000000000 \"))","v":""},null,""]
[null,{"$f":"IF(I1100=\"\",\"\",ROWS($A$3:A1100))","v":""},"","","","","","","","",{"$f":"IFERROR(SMALL($B$3:$B$2002,ROWS($A$3:A1100)),\"\")","v":""},"","",null,"","","",{"$f":"IF(O1100=\"\",\"\",CONCATENATE(\"*11....+\",VLOOKUP(16-(LEN(N1100)),'1'!$A$1:$B$16,2,TRUE),N1100,\" 81..40+\",VLOOKUP(16-(LEN(O1100)),'1'!$A$1:$B$16,2,TRUE),O1100,\" 82..40+\",VLOOKUP(16-(LEN(O1100)),'1'!$A$1:$B$16,2,TRUE),P1100,\" 71....+0000000000000000 \"))","v":""},null,""]
[null,{"$f":"IF(I1101=\"\",\"\",ROWS($A$3:A1101))","v":""},"","","","","","","","",{"$f":"IFERROR(SMALL($B$3:$B$2002,ROWS($A$3:A1101)),\"\")","v":""},"","",null,"","","",{"$f":"IF(O1101=\"\",\"\",CONCATENATE(\"*11....+\",VLOOKUP(16-(LEN(N1101)),'1'!$A$1:$B$16,2,TRUE),N1101,\" 81..40+\",VLOOKUP(16-(LEN(O1101)),'1'!$A$1:$B$16,2,TRUE),O1101,\" 82..40+\",VLOOKUP(16-(LEN(O1101)),'1'!$A$1:$B$16,2,TRUE),P1101,\" 71....+0000000000000000 \"))","v":""},null,""]
[null,{"$f":"IF(I1102=\"\",\"\",ROWS($A$3:A1102))","v":""},"","","","","","","","",{"$f":"IFERROR(SMALL($B$3:$B$2002,ROWS($A$3:A1102)),\"\")","v":""},"","",null,"","","",{"$f":"IF(O1102=\"\",\"\",CONCATENATE(\"*11....+\",VLOOKUP(16-(LEN(N1102)),'1'!$A$1:$B$16,2,TRUE),N1102,\" 81..40+\",VLOOKUP(16-(LEN(O1102)),'1'!$A$1:$B$16,2,TRUE),O1102,\" 82..40+\",VLOOKUP(16-(LEN(O1102)),'1'!$A$1:$B$16,2,TRUE),P1102,\" 71....+0000000000000000 \"))","v":""},null,""]
[null,{"$f":"IF(I1103=\"\",\"\",ROWS($A$3:A1103))","v":""},"","","","","","","","",{"$f":"IFERROR(SMALL($B$3:$B$2002,ROWS($A$3:A1103)),\"\")","v":""},"","",null,"","","",{"$f":"IF(O1103=\"\",\"\",CONCATENATE(\"*11....+\",VLOOKUP(16-(LEN(N1103)),'1'!$A$1:$B$16,2,TRUE),N1103,\" 81..40+\",VLOOKUP(16-(LEN(O1103)),'1'!$A$1:$B$16,2,TRUE),O1103,\" 82..40+\",VLOOKUP(16-(LEN(O1103)),'1'!$A$1:$B$16,2,TRUE),P1103,\" 71....+0000000000000000 \"))","v":""},null,""]
[null,{"$f":"IF(I1104=\"\",\"\",ROWS($A$3:A1104))","v":""},"","","","","","","","",{"$f":"IFERROR(SMALL($B$3:$B$2002,ROWS($A$3:A1104)),\"\")","v":""},"","",null,"","","",{"$f":"IF(O1104=\"\",\"\",CONCATENATE(\"*11....+\",VLOOKUP(16-(LEN(N1104)),'1'!$A$1:$B$16,2,TRUE),N1104,\" 81..40+\",VLOOKUP(16-(LEN(O1104)),'1'!$A$1:$B$16,2,TRUE),O1104,\" 82..40+\",VLOOKUP(16-(LEN(O1104)),'1'!$A$1:$B$16,2,TRUE),P1104,\" 71....+0000000000000000 \"))","v":""},null,""]
[null,{"$f":"IF(I1105=\"\",\"\",ROWS($A$3:A1105))","v":""},"","","","","","","","",{"$f":"IFERROR(SMALL($B$3:$B$2002,ROWS($A$3:A1105)),\"\")","v":""},"","",null,"","","",{"$f":"IF(O1105=\"\",\"\",CONCATENATE(\"*11....+\",VLOOKUP(16-(LEN(N1105)),'1'!$A$1:$B$16,2,TRUE),N1105,\" 81..40+\",VLOOKUP(16-(LEN(O1105)),'1'!$A$1:$B$16,2,TRUE),O1105,\" 82..40+\",VLOOKUP(16-(LEN(O1105)),'1'!$A$1:$B$16,2,TRUE),P1105,\" 71....+0000000000000000 \"))","v":""},null,""]
[null,{"$f":"IF(I1106=\"\",\"\",ROWS($A$3:A1106))","v":""},"","","","","","","","",{"$f":"IFERROR(SMALL($B$3:$B$2002,ROWS($A$3:A1106)),\"\")","v":""},"","",null,"","","",{"$f":"IF(O1106=\"\",\"\",CONCATENATE(\"*11....+\",VLOOKUP(16-(LEN(N1106)),'1'!$A$1:$B$16,2,TRUE),N1106,\" 81..40+\",VLOOKUP(16-(LEN(O1106)),'1'!$A$1:$B$16,2,TRUE),O1106,\" 82..40+\",VLOOKUP(16-(LEN(O1106)),'1'!$A$1:$B$16,2,TRUE),P1106,\" 71....+0000000000000000 \"))","v":""},null,""]
[null,{"$f":"IF(I1107=\"\",\"\",ROWS($A$3:A1107))","v":""},"","","","","","","","",{"$f":"IFERROR(SMALL($B$3:$B$2002,ROWS($A$3:A1107)),\"\")","v":""},"","",null,"","","",{"$f":"IF(O1107=\"\",\"\",CONCATENATE(\"*11....+\",VLOOKUP(16-(LEN(N1107)),'1'!$A$1:$B$16,2,TRUE),N1107,\" 81..40+\",VLOOKUP(16-(LEN(O1107)),'1'!$A$1:$B$16,2,TRUE),O1107,\" 82..40+\",VLOOKUP(16-(LEN(O1107)),'1'!$A$1:$B$16,2,TRUE),P1107,\" 71....+0000000000000000 \"))","v":""},null,""]
[null,{"$f":"IF(I1108=\"\",\"\",ROWS($A$3:A1108))","v":""},"","","","","","","","",{"$f":"IFERROR(SMALL($B$3:$B$2002,ROWS($A$3:A1108)),\"\")","v":""},"","",null,"","","",{"$f":"IF(O1108=\"\",\"\",CONCATENATE(\"*11....+\",VLOOKUP(16-(LEN(N1108)),'1'!$A$1:$B$16,2,TRUE),N1108,\" 81..40+\",VLOOKUP(16-(LEN(O1108)),'1'!$A$1:$B$16,2,TRUE),O1108,\" 82..40+\",VLOOKUP(16-(LEN(O1108)),'1'!$A$1:$B$16,2,TRUE),P1108,\" 71....+0000000000000000 \"))","v":""},null,""]
[null,{"$f":"IF(I1109=\"\",\"\",ROWS($A$3:A1109))","v":""},"","","","","","","","",{"$f":"IFERROR(SMALL($B$3:$B$2002,ROWS($A$3:A1109)),\"\")","v":""},"","",null,"","","",{"$f":"IF(O1109=\"\",\"\",CONCATENATE(\"*11....+\",VLOOKUP(16-(LEN(N1109)),'1'!$A$1:$B$16,2,TRUE),N1109,\" 81..40+\",VLOOKUP(16-(LEN(O1109)),'1'!$A$1:$B$16,2,TRUE),O1109,\" 82..40+\",VLOOKUP(16-(LEN(O1109)),'1'!$A$1:$B$16,2,TRUE),P1109,\" 71....+0000000000000000 \"))","v":""},null,""]
[null,{"$f":"IF(I1110=\"\",\"\",ROWS($A$3:A1110))","v":""},"","","","","","","","",{"$f":"IFERROR(SMALL($B$3:$B$2002,ROWS($A$3:A1110)),\"\")","v":""},"","",null,"","","",{"$f":"IF(O1110=\"\",\"\",CONCATENATE(\"*11....+\",VLOOKUP(16-(LEN(N1110)),'1'!$A$1:$B$16,2,TRUE),N1110,\" 81..40+\",VLOOKUP(16-(LEN(O1110)),'1'!$A$1:$B$16,2,TRUE),O1110,\" 82..40+\",VLOOKUP(16-(LEN(O1110)),'1'!$A$1:$B$16,2,TRUE),P1110,\" 71....+0000000000000000 \"))","v":""},null,""]
[null,{"$f":"IF(I1111=\"\",\"\",ROWS($A$3:A1111))","v":""},"","","","","","","","",{"$f":"IFERROR(SMALL($B$3:$B$2002,ROWS($A$3:A1111)),\"\")","v":""},"","",null,"","","",{"$f":"IF(O1111=\"\",\"\",CONCATENATE(\"*11....+\",VLOOKUP(16-(LEN(N1111)),'1'!$A$1:$B$16,2,TRUE),N1111,\" 81..40+\",VLOOKUP(16-(LEN(O1111)),'1'!$A$1:$B$16,2,TRUE),O1111,\" 82..40+\",VLOOKUP(16-(LEN(O1111)),'1'!$A$1:$B$16,2,TRUE),P1111,\" 71....+0000000000000000 \"))","v":""},null,""]
[null,{"$f":"IF(I1112=\"\",\"\",ROWS($A$3:A1112))","v":""},"","","","","","","","",{"$f":"IFERROR(SMALL($B$3:$B$2002,ROWS($A$3:A1112)),\"\")","v":""},"","",null,"","","",{"$f":"IF(O1112=\"\",\"\",CONCATENATE(\"*11....+\",VLOOKUP(16-(LEN(N1112)),'1'!$A$1:$B$16,2,TRUE),N1112,\" 81..40+\",VLOOKUP(16-(LEN(O1112)),'1'!$A$1:$B$16,2,TRUE),O1112,\" 82..40+\",VLOOKUP(16-(LEN(O1112)),'1'!$A$1:$B$16,2,TRUE),P1112,\" 71....+0000000000000000 \"))","v":""},null,""]
[null,{"$f":"IF(I1113=\"\",\"\",ROWS($A$3:A1113))","v":""},"","","","","","","","",{"$f":"IFERROR(SMALL($B$3:$B$2002,ROWS($A$3:A1113)),\"\")","v":""},"","",null,"","","",{"$f":"IF(O1113=\"\",\"\",CONCATENATE(\"*11....+\",VLOOKUP(16-(LEN(N1113)),'1'!$A$1:$B$16,2,TRUE),N1113,\" 81..40+\",VLOOKUP(16-(LEN(O1113)),'1'!$A$1:$B$16,2,TRUE),O1113,\" 82..40+\",VLOOKUP(16-(LEN(O1113)),'1'!$A$1:$B$16,2,TRUE),P1113,\" 71....+0000000000000000 \"))","v":""},null,""]
[null,{"$f":"IF(I1114=\"\",\"\",ROWS($A$3:A1114))","v":""},"","","","","","","","",{"$f":"IFERROR(SMALL($B$3:$B$2002,ROWS($A$3:A1114)),\"\")","v":""},"","",null,"","","",{"$f":"IF(O1114=\"\",\"\",CONCATENATE(\"*11....+\",VLOOKUP(16-(LEN(N1114)),'1'!$A$1:$B$16,2,TRUE),N1114,\" 81..40+\",VLOOKUP(16-(LEN(O1114)),'1'!$A$1:$B$16,2,TRUE),O1114,\" 82..40+\",VLOOKUP(16-(LEN(O1114)),'1'!$A$1:$B$16,2,TRUE),P1114,\" 71....+0000000000000000 \"))","v":""},null,""]
[null,{"$f":"IF(I1115=\"\",\"\",ROWS($A$3:A1115))","v":""},"","","","","","","","",{"$f":"IFERROR(SMALL($B$3:$B$2002,ROWS($A$3:A1115)),\"\")","v":""},"","",null,"","","",{"$f":"IF(O1115=\"\",\"\",CONCATENATE(\"*11....+\",VLOOKUP(16-(LEN(N1115)),'1'!$A$1:$B$16,2,TRUE),N1115,\" 81..40+\",VLOOKUP(16-(LEN(O1115)),'1'!$A$1:$B$16,2,TRUE),O1115,\" 82..40+\",VLOOKUP(16-(LEN(O1115)),'1'!$A$1:$B$16,2,TRUE),P1115,\" 71....+0000000000000000 \"))","v":""},null,""]
[null,{"$f":"IF(I1116=\"\",\"\",ROWS($A$3:A1116))","v":""},"","","","","","","","",{"$f":"IFERROR(SMALL($B$3:$B$2002,ROWS($A$3:A1116)),\"\")","v":""},"","",null,"","","",{"$f":"IF(O1116=\"\",\"\",CONCATENATE(\"*11....+\",VLOOKUP(16-(LEN(N1116)),'1'!$A$1:$B$16,2,TRUE),N1116,\" 81..40+\",VLOOKUP(16-(LEN(O1116)),'1'!$A$1:$B$16,2,TRUE),O1116,\" 82..40+\",VLOOKUP(16-(LEN(O1116)),'1'!$A$1:$B$16,2,TRUE),P1116,\" 71....+0000000000000000 \"))","v":""},null,""]
[null,{"$f":"IF(I1117=\"\",\"\",ROWS($A$3:A1117))","v":""},"","","","","","","","",{"$f":"IFERROR(SMALL($B$3:$B$2002,ROWS($A$3:A1117)),\"\")","v":""},"","",null,"","","",{"$f":"IF(O1117=\"\",\"\",CONCATENATE(\"*11....+\",VLOOKUP(16-(LEN(N1117)),'1'!$A$1:$B$16,2,TRUE),N1117,\" 81..40+\",VLOOKUP(16-(LEN(O1117)),'1'!$A$1:$B$16,2,TRUE),O1117,\" 82..40+\",VLOOKUP(16-(LEN(O1117)),'1'!$A$1:$B$16,2,TRUE),P1117,\" 71....+0000000000000000 \"))","v":""},null,""]
[null,{"$f":"IF(I1118=\"\",\"\",ROWS($A$3:A1118))","v":""},"","","","","","","","",{"$f":"IFERROR(SMALL($B$3:$B$2002,ROWS($A$3:A1118)),\"\")","v":""},"","",null,"","","",{"$f":"IF(O1118=\"\",\"\",CONCATENATE(\"*11....+\",VLOOKUP(16-(LEN(N1118)),'1'!$A$1:$B$16,2,TRUE),N1118,\" 81..40+\",VLOOKUP(16-(LEN(O1118)),'1'!$A$1:$B$16,2,TRUE),O1118,\" 82..40+\",VLOOKUP(16-(LEN(O1118)),'1'!$A$1:$B$16,2,TRUE),P1118,\" 71....+0000000000000000 \"))","v":""},null,""]
[null,{"$f":"IF(I1119=\"\",\"\",ROWS($A$3:A1119))","v":""},"","","","","","","","",{"$f":"IFERROR(SMALL($B$3:$B$2002,ROWS($A$3:A1119)),\"\")","v":""},"","",null,"","","",{"$f":"IF(O1119=\"\",\"\",CONCATENATE(\"*11....+\",VLOOKUP(16-(LEN(N1119)),'1'!$A$1:$B$16,2,TRUE),N1119,\" 81..40+\",VLOOKUP(16-(LEN(O1119)),'1'!$A$1:$B$16,2,TRUE),O1119,\" 82..40+\",VLOOKUP(16-(LEN(O1119)),'1'!$A$1:$B$16,2,TRUE),P1119,\" 71....+0000000000000000 \"))","v":""},null,""]
[null,{"$f":"IF(I1120=\"\",\"\",ROWS($A$3:A1120))","v":""},"","","","","","","","",{"$f":"IFERROR(SMALL($B$3:$B$2002,ROWS($A$3:A1120)),\"\")","v":""},"","",null,"","","",{"$f":"IF(O1120=\"\",\"\",CONCATENATE(\"*11....+\",VLOOKUP(16-(LEN(N1120)),'1'!$A$1:$B$16,2,TRUE),N1120,\" 81..40+\",VLOOKUP(16-(LEN(O1120)),'1'!$A$1:$B$16,2,TRUE),O1120,\" 82..40+\",VLOOKUP(16-(LEN(O1120)),'1'!$A$1:$B$16,2,TRUE),P1120,\" 71....+0000000000000000 \"))","v":""},null,""]
[null,{"$f":"IF(I1121=\"\",\"\",ROWS($A$3:A1121))","v":""},"","","","","","","","",{"$f":"IFERROR(SMALL($B$3:$B$2002,ROWS($A$3:A1121)),\"\")","v":""},"","",null,"","","",{"$f":"IF(O1121=\"\",\"\",CONCATENATE(\"*11....+\",VLOOKUP(16-(LEN(N1121)),'1'!$A$1:$B$16,2,TRUE),N1121,\" 81..40+\",VLOOKUP(16-(LEN(O1121)),'1'!$A$1:$B$16,2,TRUE),O1121,\" 82..40+\",VLOOKUP(16-(LEN(O1121)),'1'!$A$1:$B$16,2,TRUE),P1121,\" 71....+0000000000000000 \"))","v":""},null,""]
[null,{"$f":"IF(I1122=\"\",\"\",ROWS($A$3:A1122))","v":""},"","","","","","","","",{"$f":"IFERROR(SMALL($B$3:$B$2002,ROWS($A$3:A1122)),\"\")","v":""},"","",null,"","","",{"$f":"IF(O1122=\"\",\"\",CONCATENATE(\"*11....+\",VLOOKUP(16-(LEN(N1122)),'1'!$A$1:$B$16,2,TRUE),N1122,\" 81..40+\",VLOOKUP(16-(LEN(O1122)),'1'!$A$1:$B$16,2,TRUE),O1122,\" 82..40+\",VLOOKUP(16-(LEN(O1122)),'1'!$A$1:$B$16,2,TRUE),P1122,\" 71....+0000000000000000 \"))","v":""},null,""]
[null,{"$f":"IF(I1123=\"\",\"\",ROWS($A$3:A1123))","v":""},"","","","","","","","",{"$f":"IFERROR(SMALL($B$3:$B$2002,ROWS($A$3:A1123)),\"\")","v":""},"","",null,"","","",{"$f":"IF(O1123=\"\",\"\",CONCATENATE(\"*11....+\",VLOOKUP(16-(LEN(N1123)),'1'!$A$1:$B$16,2,TRUE),N1123,\" 81..40+\",VLOOKUP(16-(LEN(O1123)),'1'!$A$1:$B$16,2,TRUE),O1123,\" 82..40+\",VLOOKUP(16-(LEN(O1123)),'1'!$A$1:$B$16,2,TRUE),P1123,\" 71....+0000000000000000 \"))","v":""},null,""]
[null,{"$f":"IF(I1124=\"\",\"\",ROWS($A$3:A1124))","v":""},"","","","","","","","",{"$f":"IFERROR(SMALL($B$3:$B$2002,ROWS($A$3:A1124)),\"\")","v":""},"","",null,"","","",{"$f":"IF(O1124=\"\",\"\",CONCATENATE(\"*11....+\",VLOOKUP(16-(LEN(N1124)),'1'!$A$1:$B$16,2,TRUE),N1124,\" 81..40+\",VLOOKUP(16-(LEN(O1124)),'1'!$A$1:$B$16,2,TRUE),O1124,\" 82..40+\",VLOOKUP(16-(LEN(O1124)),'1'!$A$1:$B$16,2,TRUE),P1124,\" 71....+0000000000000000 \"))","v":""},null,""]
[null,{"$f":"IF(I1125=\"\",\"\",ROWS($A$3:A1125))","v":""},"","","","","","","","",{"$f":"IFERROR(SMALL($B$3:$B$2002,ROWS($A$3:A1125)),\"\")","v":""},"","",null,"","","",{"$f":"IF(O1125=\"\",\"\",CONCATENATE(\"*11....+\",VLOOKUP(16-(LEN(N1125)),'1'!$A$1:$B$16,2,TRUE),N1125,\" 81..40+\",VLOOKUP(16-(LEN(O1125)),'1'!$A$1:$B$16,2,TRUE),O1125,\" 82..40+\",VLOOKUP(16-(LEN(O1125)),'1'!$A$1:$B$16,2,TRUE),P1125,\" 71....+0000000000000000 \"))","v":""},null,""]
[null,{"$f":"IF(I1126=\"\",\"\",ROWS($A$3:A1126))","v":""},"","","","","","","","",{"$f":"IFERROR(SMALL($B$3:$B$2002,ROWS($A$3:A1126)),\"\")","v":""},"","",null,"","","",{"$f":"IF(O1126=\"\",\"\",CONCATENATE(\"*11....+\",VLOOKUP(16-(LEN(N1126)),'1'!$A$1:$B$16,2,TRUE),N1126,\" 81..40+\",VLOOKUP(16-(LEN(O1126)),'1'!$A$1:$B$16,2,TRUE),O1126,\" 82..40+\",VLOOKUP(16-(LEN(O1126)),'1'!$A$1:$B$16,2,TRUE),P1126,\" 71....+0000000000000000 \"))","v":""},null,""]
[null,{"$f":"IF(I1127=\"\",\"\",ROWS($A$3:A1127))","v":""},"","","","","","","","",{"$f":"IFERROR(SMALL($B$3:$B$2002,ROWS($A$3:A1127)),\"\")","v":""},"","",null,"","","",{"$f":"IF(O1127=\"\",\"\",CONCATENATE(\"*11....+\",VLOOKUP(16-(LEN(N1127)),'1'!$A$1:$B$16,2,TRUE),N1127,\" 81..40+\",VLOOKUP(16-(LEN(O1127)),'1'!$A$1:$B$16,2,TRUE),O1127,\" 82..40+\",VLOOKUP(16-(LEN(O1127)),'1'!$A$1:$B$16,2,TRUE),P1127,\" 71....+0000000000000000 \"))","v":""},null,""]
[null,{"$f":"IF(I1128=\"\",\"\",ROWS($A$3:A1128))","v":""},"","","","","","","","",{"$f":"IFERROR(SMALL($B$3:$B$2002,ROWS($A$3:A1128)),\"\")","v":""},"","",null,"","","",{"$f":"IF(O1128=\"\",\"\",CONCATENATE(\"*11....+\",VLOOKUP(16-(LEN(N1128)),'1'!$A$1:$B$16,2,TRUE),N1128,\" 81..40+\",VLOOKUP(16-(LEN(O1128)),'1'!$A$1:$B$16,2,TRUE),O1128,\" 82..40+\",VLOOKUP(16-(LEN(O1128)),'1'!$A$1:$B$16,2,TRUE),P1128,\" 71....+0000000000000000 \"))","v":""},null,""]
[null,{"$f":"IF(I1129=\"\",\"\",ROWS($A$3:A1129))","v":""},"","","","","","","","",{"$f":"IFERROR(SMALL($B$3:$B$2002,ROWS($A$3:A1129)),\"\")","v":""},"","",null,"","","",{"$f":"IF(O1129=\"\",\"\",CONCATENATE(\"*11....+\",VLOOKUP(16-(LEN(N1129)),'1'!$A$1:$B$16,2,TRUE),N1129,\" 81..40+\",VLOOKUP(16-(LEN(O1129)),'1'!$A$1:$B$16,2,TRUE),O1129,\" 82..40+\",VLOOKUP(16-(LEN(O1129)),'1'!$A$1:$B$16,2,TRUE),P1129,\" 71....+0000000000000000 \"))","v":""},null,""]
[null,{"$f":"IF(I1130=\"\",\"\",ROWS($A$3:A1130))","v":""},"","","","","","","","",{"$f":"IFERROR(SMALL($B$3:$B$2002,ROWS($A$3:A1130)),\"\")","v":""},"","",null,"","","",{"$f":"IF(O1130=\"\",\"\",CONCATENATE(\"*11....+\",VLOOKUP(16-(LEN(N1130)),'1'!$A$1:$B$16,2,TRUE),N1130,\" 81..40+\",VLOOKUP(16-(LEN(O1130)),'1'!$A$1:$B$16,2,TRUE),O1130,\" 82..40+\",VLOOKUP(16-(LEN(O1130)),'1'!$A$1:$B$16,2,TRUE),P1130,\" 71....+0000000000000000 \"))","v":""},null,""]
[null,{"$f":"IF(I1131=\"\",\"\",ROWS($A$3:A1131))","v":""},"","","","","","","","",{"$f":"IFERROR(SMALL($B$3:$B$2002,ROWS($A$3:A1131)),\"\")","v":""},"","",null,"","","",{"$f":"IF(O1131=\"\",\"\",CONCATENATE(\"*11....+\",VLOOKUP(16-(LEN(N1131)),'1'!$A$1:$B$16,2,TRUE),N1131,\" 81..40+\",VLOOKUP(16-(LEN(O1131)),'1'!$A$1:$B$16,2,TRUE),O1131,\" 82..40+\",VLOOKUP(16-(LEN(O1131)),'1'!$A$1:$B$16,2,TRUE),P1131,\" 71....+0000000000000000 \"))","v":""},null,""]
[null,{"$f":"IF(I1132=\"\",\"\",ROWS($A$3:A1132))","v":""},"","","","","","","","",{"$f":"IFERROR(SMALL($B$3:$B$2002,ROWS($A$3:A1132)),\"\")","v":""},"","",null,"","","",{"$f":"IF(O1132=\"\",\"\",CONCATENATE(\"*11....+\",VLOOKUP(16-(LEN(N1132)),'1'!$A$1:$B$16,2,TRUE),N1132,\" 81..40+\",VLOOKUP(16-(LEN(O1132)),'1'!$A$1:$B$16,2,TRUE),O1132,\" 82..40+\",VLOOKUP(16-(LEN(O1132)),'1'!$A$1:$B$16,2,TRUE),P1132,\" 71....+0000000000000000 \"))","v":""},null,""]
[null,{"$f":"IF(I1133=\"\",\"\",ROWS($A$3:A1133))","v":""},"","","","","","","","",{"$f":"IFERROR(SMALL($B$3:$B$2002,ROWS($A$3:A1133)),\"\")","v":""},"","",null,"","","",{"$f":"IF(O1133=\"\",\"\",CONCATENATE(\"*11....+\",VLOOKUP(16-(LEN(N1133)),'1'!$A$1:$B$16,2,TRUE),N1133,\" 81..40+\",VLOOKUP(16-(LEN(O1133)),'1'!$A$1:$B$16,2,TRUE),O1133,\" 82..40+\",VLOOKUP(16-(LEN(O1133)),'1'!$A$1:$B$16,2,TRUE),P1133,\" 71....+0000000000000000 \"))","v":""},null,""]
[null,{"$f":"IF(I1134=\"\",\"\",ROWS($A$3:A1134))","v":""},"","","","","","","","",{"$f":"IFERROR(SMALL($B$3:$B$2002,ROWS($A$3:A1134)),\"\")","v":""},"","",null,"","","",{"$f":"IF(O1134=\"\",\"\",CONCATENATE(\"*11....+\",VLOOKUP(16-(LEN(N1134)),'1'!$A$1:$B$16,2,TRUE),N1134,\" 81..40+\",VLOOKUP(16-(LEN(O1134)),'1'!$A$1:$B$16,2,TRUE),O1134,\" 82..40+\",VLOOKUP(16-(LEN(O1134)),'1'!$A$1:$B$16,2,TRUE),P1134,\" 71....+0000000000000000 \"))","v":""},null,""]
[null,{"$f":"IF(I1135=\"\",\"\",ROWS($A$3:A1135))","v":""},"","","","","","","","",{"$f":"IFERROR(SMALL($B$3:$B$2002,ROWS($A$3:A1135)),\"\")","v":""},"","",null,"","","",{"$f":"IF(O1135=\"\",\"\",CONCATENATE(\"*11....+\",VLOOKUP(16-(LEN(N1135)),'1'!$A$1:$B$16,2,TRUE),N1135,\" 81..40+\",VLOOKUP(16-(LEN(O1135)),'1'!$A$1:$B$16,2,TRUE),O1135,\" 82..40+\",VLOOKUP(16-(LEN(O1135)),'1'!$A$1:$B$16,2,TRUE),P1135,\" 71....+0000000000000000 \"))","v":""},null,""]
[null,{"$f":"IF(I1136=\"\",\"\",ROWS($A$3:A1136))","v":""},"","","","","","","","",{"$f":"IFERROR(SMALL($B$3:$B$2002,ROWS($A$3:A1136)),\"\")","v":""},"","",null,"","","",{"$f":"IF(O1136=\"\",\"\",CONCATENATE(\"*11....+\",VLOOKUP(16-(LEN(N1136)),'1'!$A$1:$B$16,2,TRUE),N1136,\" 81..40+\",VLOOKUP(16-(LEN(O1136)),'1'!$A$1:$B$16,2,TRUE),O1136,\" 82..40+\",VLOOKUP(16-(LEN(O1136)),'1'!$A$1:$B$16,2,TRUE),P1136,\" 71....+0000000000000000 \"))","v":""},null,""]
[null,{"$f":"IF(I1137=\"\",\"\",ROWS($A$3:A1137))","v":""},"","","","","","","","",{"$f":"IFERROR(SMALL($B$3:$B$2002,ROWS($A$3:A1137)),\"\")","v":""},"","",null,"","","",{"$f":"IF(O1137=\"\",\"\",CONCATENATE(\"*11....+\",VLOOKUP(16-(LEN(N1137)),'1'!$A$1:$B$16,2,TRUE),N1137,\" 81..40+\",VLOOKUP(16-(LEN(O1137)),'1'!$A$1:$B$16,2,TRUE),O1137,\" 82..40+\",VLOOKUP(16-(LEN(O1137)),'1'!$A$1:$B$16,2,TRUE),P1137,\" 71....+0000000000000000 \"))","v":""},null,""]
[null,{"$f":"IF(I1138=\"\",\"\",ROWS($A$3:A1138))","v":""},"","","","","","","","",{"$f":"IFERROR(SMALL($B$3:$B$2002,ROWS($A$3:A1138)),\"\")","v":""},"","",null,"","","",{"$f":"IF(O1138=\"\",\"\",CONCATENATE(\"*11....+\",VLOOKUP(16-(LEN(N1138)),'1'!$A$1:$B$16,2,TRUE),N1138,\" 81..40+\",VLOOKUP(16-(LEN(O1138)),'1'!$A$1:$B$16,2,TRUE),O1138,\" 82..40+\",VLOOKUP(16-(LEN(O1138)),'1'!$A$1:$B$16,2,TRUE),P1138,\" 71....+0000000000000000 \"))","v":""},null,""]
[null,{"$f":"IF(I1139=\"\",\"\",ROWS($A$3:A1139))","v":""},"","","","","","","","",{"$f":"IFERROR(SMALL($B$3:$B$2002,ROWS($A$3:A1139)),\"\")","v":""},"","",null,"","","",{"$f":"IF(O1139=\"\",\"\",CONCATENATE(\"*11....+\",VLOOKUP(16-(LEN(N1139)),'1'!$A$1:$B$16,2,TRUE),N1139,\" 81..40+\",VLOOKUP(16-(LEN(O1139)),'1'!$A$1:$B$16,2,TRUE),O1139,\" 82..40+\",VLOOKUP(16-(LEN(O1139)),'1'!$A$1:$B$16,2,TRUE),P1139,\" 71....+0000000000000000 \"))","v":""},null,""]
[null,{"$f":"IF(I1140=\"\",\"\",ROWS($A$3:A1140))","v":""},"","","","","","","","",{"$f":"IFERROR(SMALL($B$3:$B$2002,ROWS($A$3:A1140)),\"\")","v":""},"","",null,"","","",{"$f":"IF(O1140=\"\",\"\",CONCATENATE(\"*11....+\",VLOOKUP(16-(LEN(N1140)),'1'!$A$1:$B$16,2,TRUE),N1140,\" 81..40+\",VLOOKUP(16-(LEN(O1140)),'1'!$A$1:$B$16,2,TRUE),O1140,\" 82..40+\",VLOOKUP(16-(LEN(O1140)),'1'!$A$1:$B$16,2,TRUE),P1140,\" 71....+0000000000000000 \"))","v":""},null,""]
[null,{"$f":"IF(I1141=\"\",\"\",ROWS($A$3:A1141))","v":""},"","","","","","","","",{"$f":"IFERROR(SMALL($B$3:$B$2002,ROWS($A$3:A1141)),\"\")","v":""},"","",null,"","","",{"$f":"IF(O1141=\"\",\"\",CONCATENATE(\"*11....+\",VLOOKUP(16-(LEN(N1141)),'1'!$A$1:$B$16,2,TRUE),N1141,\" 81..40+\",VLOOKUP(16-(LEN(O1141)),'1'!$A$1:$B$16,2,TRUE),O1141,\" 82..40+\",VLOOKUP(16-(LEN(O1141)),'1'!$A$1:$B$16,2,TRUE),P1141,\" 71....+0000000000000000 \"))","v":""},null,""]
[null,{"$f":"IF(I1142=\"\",\"\",ROWS($A$3:A1142))","v":""},"","","","","","","","",{"$f":"IFERROR(SMALL($B$3:$B$2002,ROWS($A$3:A1142)),\"\")","v":""},"","",null,"","","",{"$f":"IF(O1142=\"\",\"\",CONCATENATE(\"*11....+\",VLOOKUP(16-(LEN(N1142)),'1'!$A$1:$B$16,2,TRUE),N1142,\" 81..40+\",VLOOKUP(16-(LEN(O1142)),'1'!$A$1:$B$16,2,TRUE),O1142,\" 82..40+\",VLOOKUP(16-(LEN(O1142)),'1'!$A$1:$B$16,2,TRUE),P1142,\" 71....+0000000000000000 \"))","v":""},null,""]
[null,{"$f":"IF(I1143=\"\",\"\",ROWS($A$3:A1143))","v":""},"","","","","","","","",{"$f":"IFERROR(SMALL($B$3:$B$2002,ROWS($A$3:A1143)),\"\")","v":""},"","",null,"","","",{"$f":"IF(O1143=\"\",\"\",CONCATENATE(\"*11....+\",VLOOKUP(16-(LEN(N1143)),'1'!$A$1:$B$16,2,TRUE),N1143,\" 81..40+\",VLOOKUP(16-(LEN(O1143)),'1'!$A$1:$B$16,2,TRUE),O1143,\" 82..40+\",VLOOKUP(16-(LEN(O1143)),'1'!$A$1:$B$16,2,TRUE),P1143,\" 71....+0000000000000000 \"))","v":""},null,""]
[null,{"$f":"IF(I1144=\"\",\"\",ROWS($A$3:A1144))","v":""},"","","","","","","","",{"$f":"IFERROR(SMALL($B$3:$B$2002,ROWS($A$3:A1144)),\"\")","v":""},"","",null,"","","",{"$f":"IF(O1144=\"\",\"\",CONCATENATE(\"*11....+\",VLOOKUP(16-(LEN(N1144)),'1'!$A$1:$B$16,2,TRUE),N1144,\" 81..40+\",VLOOKUP(16-(LEN(O1144)),'1'!$A$1:$B$16,2,TRUE),O1144,\" 82..40+\",VLOOKUP(16-(LEN(O1144)),'1'!$A$1:$B$16,2,TRUE),P1144,\" 71....+0000000000000000 \"))","v":""},null,""]
[null,{"$f":"IF(I1145=\"\",\"\",ROWS($A$3:A1145))","v":""},"","","","","","","","",{"$f":"IFERROR(SMALL($B$3:$B$2002,ROWS($A$3:A1145)),\"\")","v":""},"","",null,"","","",{"$f":"IF(O1145=\"\",\"\",CONCATENATE(\"*11....+\",VLOOKUP(16-(LEN(N1145)),'1'!$A$1:$B$16,2,TRUE),N1145,\" 81..40+\",VLOOKUP(16-(LEN(O1145)),'1'!$A$1:$B$16,2,TRUE),O1145,\" 82..40+\",VLOOKUP(16-(LEN(O1145)),'1'!$A$1:$B$16,2,TRUE),P1145,\" 71....+0000000000000000 \"))","v":""},null,""]
[null,{"$f":"IF(I1146=\"\",\"\",ROWS($A$3:A1146))","v":""},"","","","","","","","",{"$f":"IFERROR(SMALL($B$3:$B$2002,ROWS($A$3:A1146)),\"\")","v":""},"","",null,"","","",{"$f":"IF(O1146=\"\",\"\",CONCATENATE(\"*11....+\",VLOOKUP(16-(LEN(N1146)),'1'!$A$1:$B$16,2,TRUE),N1146,\" 81..40+\",VLOOKUP(16-(LEN(O1146)),'1'!$A$1:$B$16,2,TRUE),O1146,\" 82..40+\",VLOOKUP(16-(LEN(O1146)),'1'!$A$1:$B$16,2,TRUE),P1146,\" 71....+0000000000000000 \"))","v":""},null,""]
[null,{"$f":"IF(I1147=\"\",\"\",ROWS($A$3:A1147))","v":""},"","","","","","","","",{"$f":"IFERROR(SMALL($B$3:$B$2002,ROWS($A$3:A1147)),\"\")","v":""},"","",null,"","","",{"$f":"IF(O1147=\"\",\"\",CONCATENATE(\"*11....+\",VLOOKUP(16-(LEN(N1147)),'1'!$A$1:$B$16,2,TRUE),N1147,\" 81..40+\",VLOOKUP(16-(LEN(O1147)),'1'!$A$1:$B$16,2,TRUE),O1147,\" 82..40+\",VLOOKUP(16-(LEN(O1147)),'1'!$A$1:$B$16,2,TRUE),P1147,\" 71....+0000000000000000 \"))","v":""},null,""]
[null,{"$f":"IF(I1148=\"\",\"\",ROWS($A$3:A1148))","v":""},"","","","","","","","",{"$f":"IFERROR(SMALL($B$3:$B$2002,ROWS($A$3:A1148)),\"\")","v":""},"","",null,"","","",{"$f":"IF(O1148=\"\",\"\",CONCATENATE(\"*11....+\",VLOOKUP(16-(LEN(N1148)),'1'!$A$1:$B$16,2,TRUE),N1148,\" 81..40+\",VLOOKUP(16-(LEN(O1148)),'1'!$A$1:$B$16,2,TRUE),O1148,\" 82..40+\",VLOOKUP(16-(LEN(O1148)),'1'!$A$1:$B$16,2,TRUE),P1148,\" 71....+0000000000000000 \"))","v":""},null,""]
[null,{"$f":"IF(I1149=\"\",\"\",ROWS($A$3:A1149))","v":""},"","","","","","","","",{"$f":"IFERROR(SMALL($B$3:$B$2002,ROWS($A$3:A1149)),\"\")","v":""},"","",null,"","","",{"$f":"IF(O1149=\"\",\"\",CONCATENATE(\"*11....+\",VLOOKUP(16-(LEN(N1149)),'1'!$A$1:$B$16,2,TRUE),N1149,\" 81..40+\",VLOOKUP(16-(LEN(O1149)),'1'!$A$1:$B$16,2,TRUE),O1149,\" 82..40+\",VLOOKUP(16-(LEN(O1149)),'1'!$A$1:$B$16,2,TRUE),P1149,\" 71....+0000000000000000 \"))","v":""},null,""]
[null,{"$f":"IF(I1150=\"\",\"\",ROWS($A$3:A1150))","v":""},"","","","","","","","",{"$f":"IFERROR(SMALL($B$3:$B$2002,ROWS($A$3:A1150)),\"\")","v":""},"","",null,"","","",{"$f":"IF(O1150=\"\",\"\",CONCATENATE(\"*11....+\",VLOOKUP(16-(LEN(N1150)),'1'!$A$1:$B$16,2,TRUE),N1150,\" 81..40+\",VLOOKUP(16-(LEN(O1150)),'1'!$A$1:$B$16,2,TRUE),O1150,\" 82..40+\",VLOOKUP(16-(LEN(O1150)),'1'!$A$1:$B$16,2,TRUE),P1150,\" 71....+0000000000000000 \"))","v":""},null,""]
[null,{"$f":"IF(I1151=\"\",\"\",ROWS($A$3:A1151))","v":""},"","","","","","","","",{"$f":"IFERROR(SMALL($B$3:$B$2002,ROWS($A$3:A1151)),\"\")","v":""},"","",null,"","","",{"$f":"IF(O1151=\"\",\"\",CONCATENATE(\"*11....+\",VLOOKUP(16-(LEN(N1151)),'1'!$A$1:$B$16,2,TRUE),N1151,\" 81..40+\",VLOOKUP(16-(LEN(O1151)),'1'!$A$1:$B$16,2,TRUE),O1151,\" 82..40+\",VLOOKUP(16-(LEN(O1151)),'1'!$A$1:$B$16,2,TRUE),P1151,\" 71....+0000000000000000 \"))","v":""},null,""]
[null,{"$f":"IF(I1152=\"\",\"\",ROWS($A$3:A1152))","v":""},"","","","","","","","",{"$f":"IFERROR(SMALL($B$3:$B$2002,ROWS($A$3:A1152)),\"\")","v":""},"","",null,"","","",{"$f":"IF(O1152=\"\",\"\",CONCATENATE(\"*11....+\",VLOOKUP(16-(LEN(N1152)),'1'!$A$1:$B$16,2,TRUE),N1152,\" 81..40+\",VLOOKUP(16-(LEN(O1152)),'1'!$A$1:$B$16,2,TRUE),O1152,\" 82..40+\",VLOOKUP(16-(LEN(O1152)),'1'!$A$1:$B$16,2,TRUE),P1152,\" 71....+0000000000000000 \"))","v":""},null,""]
[null,{"$f":"IF(I1153=\"\",\"\",ROWS($A$3:A1153))","v":""},"","","","","","","","",{"$f":"IFERROR(SMALL($B$3:$B$2002,ROWS($A$3:A1153)),\"\")","v":""},"","",null,"","","",{"$f":"IF(O1153=\"\",\"\",CONCATENATE(\"*11....+\",VLOOKUP(16-(LEN(N1153)),'1'!$A$1:$B$16,2,TRUE),N1153,\" 81..40+\",VLOOKUP(16-(LEN(O1153)),'1'!$A$1:$B$16,2,TRUE),O1153,\" 82..40+\",VLOOKUP(16-(LEN(O1153)),'1'!$A$1:$B$16,2,TRUE),P1153,\" 71....+0000000000000000 \"))","v":""},null,""]
[null,{"$f":"IF(I1154=\"\",\"\",ROWS($A$3:A1154))","v":""},"","","","","","","","",{"$f":"IFERROR(SMALL($B$3:$B$2002,ROWS($A$3:A1154)),\"\")","v":""},"","",null,"","","",{"$f":"IF(O1154=\"\",\"\",CONCATENATE(\"*11....+\",VLOOKUP(16-(LEN(N1154)),'1'!$A$1:$B$16,2,TRUE),N1154,\" 81..40+\",VLOOKUP(16-(LEN(O1154)),'1'!$A$1:$B$16,2,TRUE),O1154,\" 82..40+\",VLOOKUP(16-(LEN(O1154)),'1'!$A$1:$B$16,2,TRUE),P1154,\" 71....+0000000000000000 \"))","v":""},null,""]
[null,{"$f":"IF(I1155=\"\",\"\",ROWS($A$3:A1155))","v":""},"","","","","","","","",{"$f":"IFERROR(SMALL($B$3:$B$2002,ROWS($A$3:A1155)),\"\")","v":""},"","",null,"","","",{"$f":"IF(O1155=\"\",\"\",CONCATENATE(\"*11....+\",VLOOKUP(16-(LEN(N1155)),'1'!$A$1:$B$16,2,TRUE),N1155,\" 81..40+\",VLOOKUP(16-(LEN(O1155)),'1'!$A$1:$B$16,2,TRUE),O1155,\" 82..40+\",VLOOKUP(16-(LEN(O1155)),'1'!$A$1:$B$16,2,TRUE),P1155,\" 71....+0000000000000000 \"))","v":""},null,""]
[null,{"$f":"IF(I1156=\"\",\"\",ROWS($A$3:A1156))","v":""},{"$f":"IF(LEN(A1156)=59,ROUND(VALUE(MID(A1156,23,9)),3),\"\")","v":""},{"$f":"IF(LEN(A1156)=24,\"\",\"\")","v":""},{"$f":"IF(LEN(A1156)=63,ROUND(VALUE(MID(A1156,23,12)),3),\"\")","v":""},{"$f":"IF(LEN(A1156)=59,ROUND(VALUE(MID(A1156,37,9)),3),\"\")","v":""},{"$f":"IF(LEN(A1156)=24,\"\",\"\")","v":""},{"$f":"IF(LEN(A1156)=63,ROUND(VALUE(MID(A1156,39,12)),3),\"\")","v":""},{"$f":"IF(AND(C1156=\"\",D1156=\"\",E1156=\"\"),\"\",ROUND(CONCATENATE(C1156,D1156,E1156),3))","v":""},{"$f":"IF(AND(C1156=\"\",D1156=\"\",E1156=\"\"),\"\",ROUND(CONCATENATE(F1156,G1156,H1156),3))","v":""},{"$f":"IFERROR(SMALL($B$3:$B$2002,ROWS($A$3:A1156)),\"\")","v":""},{"$f":"IF(K1156=\"\",\"\",ROUND(VALUE(VLOOKUP(K1156,$B$3:$J$2002,8,TRUE)),3))","v":""},{"$f":"IF(K1156=\"\",\"\",ROUND(VALUE(VLOOKUP(K1156,$B$3:$J$2002,9,TRUE)),3))","v":""},null,{"$f":"IF(L1156=\"\",\"\",L1156/0.001)","v":""},"",{"$f":"IF(O1156=\"\",\"\",16-LEN(N1156))","v":""},{"$f":"IF(O1156=\"\",\"\",CONCATENATE(\"*11....+\",VLOOKUP(16-(LEN(N1156)),'1'!$A$1:$B$16,2,TRUE),N1156,\" 81..40+\",VLOOKUP(16-(LEN(O1156)),'1'!$A$1:$B$16,2,TRUE),O1156,\" 82..40+\",VLOOKUP(16-(LEN(O1156)),'1'!$A$1:$B$16,2,TRUE),P1156,\" 71....+0000000000000000 \"))","v":""},null,{"$f":"IF(O1156=\"\",\"\",CONCATENATE(N1156,\",\",L1156,\",\",M1156))","v":""}]
[null,{"$f":"IF(I1157=\"\",\"\",ROWS($A$3:A1157))","v":""},"","","","","","","","",{"$f":"IFERROR(SMALL($B$3:$B$2002,ROWS($A$3:A1157)),\"\")","v":""},"","",null,"","","",{"$f":"IF(O1157=\"\",\"\",CONCATENATE(\"*11....+\",VLOOKUP(16-(LEN(N1157)),'1'!$A$1:$B$16,2,TRUE),N1157,\" 81..40+\",VLOOKUP(16-(LEN(O1157)),'1'!$A$1:$B$16,2,TRUE),O1157,\" 82..40+\",VLOOKUP(16-(LEN(O1157)),'1'!$A$1:$B$16,2,TRUE),P1157,\" 71....+0000000000000000 \"))","v":""},null,""]
[null,{"$f":"IF(I1158=\"\",\"\",ROWS($A$3:A1158))","v":""},"","","","","","","","",{"$f":"IFERROR(SMALL($B$3:$B$2002,ROWS($A$3:A1158)),\"\")","v":""},"","",null,"","","",{"$f":"IF(O1158=\"\",\"\",CONCATENATE(\"*11....+\",VLOOKUP(16-(LEN(N1158)),'1'!$A$1:$B$16,2,TRUE),N1158,\" 81..40+\",VLOOKUP(16-(LEN(O1158)),'1'!$A$1:$B$16,2,TRUE),O1158,\" 82..40+\",VLOOKUP(16-(LEN(O1158)),'1'!$A$1:$B$16,2,TRUE),P1158,\" 71....+0000000000000000 \"))","v":""},null,""]
[null,{"$f":"IF(I1159=\"\",\"\",ROWS($A$3:A1159))","v":""},"","","","","","","","",{"$f":"IFERROR(SMALL($B$3:$B$2002,ROWS($A$3:A1159)),\"\")","v":""},"","",null,"","","",{"$f":"IF(O1159=\"\",\"\",CONCATENATE(\"*11....+\",VLOOKUP(16-(LEN(N1159)),'1'!$A$1:$B$16,2,TRUE),N1159,\" 81..40+\",VLOOKUP(16-(LEN(O1159)),'1'!$A$1:$B$16,2,TRUE),O1159,\" 82..40+\",VLOOKUP(16-(LEN(O1159)),'1'!$A$1:$B$16,2,TRUE),P1159,\" 71....+0000000000000000 \"))","v":""},null,""]
[null,{"$f":"IF(I1160=\"\",\"\",ROWS($A$3:A1160))","v":""},"","","","","","","","",{"$f":"IFERROR(SMALL($B$3:$B$2002,ROWS($A$3:A1160)),\"\")","v":""},"","",null,"","","",{"$f":"IF(O1160=\"\",\"\",CONCATENATE(\"*11....+\",VLOOKUP(16-(LEN(N1160)),'1'!$A$1:$B$16,2,TRUE),N1160,\" 81..40+\",VLOOKUP(16-(LEN(O1160)),'1'!$A$1:$B$16,2,TRUE),O1160,\" 82..40+\",VLOOKUP(16-(LEN(O1160)),'1'!$A$1:$B$16,2,TRUE),P1160,\" 71....+0000000000000000 \"))","v":""},null,""]
[null,{"$f":"IF(I1161=\"\",\"\",ROWS($A$3:A1161))","v":""},"","","","","","","","",{"$f":"IFERROR(SMALL($B$3:$B$2002,ROWS($A$3:A1161)),\"\")","v":""},"","",null,"","","",{"$f":"IF(O1161=\"\",\"\",CONCATENATE(\"*11....+\",VLOOKUP(16-(LEN(N1161)),'1'!$A$1:$B$16,2,TRUE),N1161,\" 81..40+\",VLOOKUP(16-(LEN(O1161)),'1'!$A$1:$B$16,2,TRUE),O1161,\" 82..40+\",VLOOKUP(16-(LEN(O1161)),'1'!$A$1:$B$16,2,TRUE),P1161,\" 71....+0000000000000000 \"))","v":""},null,""]
[null,{"$f":"IF(I1162=\"\",\"\",ROWS($A$3:A1162))","v":""},"","","","","","","","",{"$f":"IFERROR(SMALL($B$3:$B$2002,ROWS($A$3:A1162)),\"\")","v":""},"","",null,"","","",{"$f":"IF(O1162=\"\",\"\",CONCATENATE(\"*11....+\",VLOOKUP(16-(LEN(N1162)),'1'!$A$1:$B$16,2,TRUE),N1162,\" 81..40+\",VLOOKUP(16-(LEN(O1162)),'1'!$A$1:$B$16,2,TRUE),O1162,\" 82..40+\",VLOOKUP(16-(LEN(O1162)),'1'!$A$1:$B$16,2,TRUE),P1162,\" 71....+0000000000000000 \"))","v":""},null,""]
[null,{"$f":"IF(I1163=\"\",\"\",ROWS($A$3:A1163))","v":""},"","","","","","","","",{"$f":"IFERROR(SMALL($B$3:$B$2002,ROWS($A$3:A1163)),\"\")","v":""},"","",null,"","","",{"$f":"IF(O1163=\"\",\"\",CONCATENATE(\"*11....+\",VLOOKUP(16-(LEN(N1163)),'1'!$A$1:$B$16,2,TRUE),N1163,\" 81..40+\",VLOOKUP(16-(LEN(O1163)),'1'!$A$1:$B$16,2,TRUE),O1163,\" 82..40+\",VLOOKUP(16-(LEN(O1163)),'1'!$A$1:$B$16,2,TRUE),P1163,\" 71....+0000000000000000 \"))","v":""},null,""]
[null,{"$f":"IF(I1164=\"\",\"\",ROWS($A$3:A1164))","v":""},"","","","","","","","",{"$f":"IFERROR(SMALL($B$3:$B$2002,ROWS($A$3:A1164)),\"\")","v":""},"","",null,"","","",{"$f":"IF(O1164=\"\",\"\",CONCATENATE(\"*11....+\",VLOOKUP(16-(LEN(N1164)),'1'!$A$1:$B$16,2,TRUE),N1164,\" 81..40+\",VLOOKUP(16-(LEN(O1164)),'1'!$A$1:$B$16,2,TRUE),O1164,\" 82..40+\",VLOOKUP(16-(LEN(O1164)),'1'!$A$1:$B$16,2,TRUE),P1164,\" 71....+0000000000000000 \"))","v":""},null,""]
[null,{"$f":"IF(I1165=\"\",\"\",ROWS($A$3:A1165))","v":""},"","","","","","","","",{"$f":"IFERROR(SMALL($B$3:$B$2002,ROWS($A$3:A1165)),\"\")","v":""},"","",null,"","","",{"$f":"IF(O1165=\"\",\"\",CONCATENATE(\"*11....+\",VLOOKUP(16-(LEN(N1165)),'1'!$A$1:$B$16,2,TRUE),N1165,\" 81..40+\",VLOOKUP(16-(LEN(O1165)),'1'!$A$1:$B$16,2,TRUE),O1165,\" 82..40+\",VLOOKUP(16-(LEN(O1165)),'1'!$A$1:$B$16,2,TRUE),P1165,\" 71....+0000000000000000 \"))","v":""},null,""]
[null,{"$f":"IF(I1166=\"\",\"\",ROWS($A$3:A1166))","v":""},"","","","","","","","",{"$f":"IFERROR(SMALL($B$3:$B$2002,ROWS($A$3:A1166)),\"\")","v":""},"","",null,"","","",{"$f":"IF(O1166=\"\",\"\",CONCATENATE(\"*11....+\",VLOOKUP(16-(LEN(N1166)),'1'!$A$1:$B$16,2,TRUE),N1166,\" 81..40+\",VLOOKUP(16-(LEN(O1166)),'1'!$A$1:$B$16,2,TRUE),O1166,\" 82..40+\",VLOOKUP(16-(LEN(O1166)),'1'!$A$1:$B$16,2,TRUE),P1166,\" 71....+0000000000000000 \"))","v":""},null,""]
[null,{"$f":"IF(I1167=\"\",\"\",ROWS($A$3:A1167))","v":""},"","","","","","","","",{"$f":"IFERROR(SMALL($B$3:$B$2002,ROWS($A$3:A1167)),\"\")","v":""},"","",null,"","","",{"$f":"IF(O1167=\"\",\"\",CONCATENATE(\"*11....+\",VLOOKUP(16-(LEN(N1167)),'1'!$A$1:$B$16,2,TRUE),N1167,\" 81..40+\",VLOOKUP(16-(LEN(O1167)),'1'!$A$1:$B$16,2,TRUE),O1167,\" 82..40+\",VLOOKUP(16-(LEN(O1167)),'1'!$A$1:$B$16,2,TRUE),P1167,\" 71....+0000000000000000 \"))","v":""},null,""]
[null,{"$f":"IF(I1168=\"\",\"\",ROWS($A$3:A1168))","v":""},"","","","","","","","",{"$f":"IFERROR(SMALL($B$3:$B$2002,ROWS($A$3:A1168)),\"\")","v":""},"","",null,"","","",{"$f":"IF(O1168=\"\",\"\",CONCATENATE(\"*11....+\",VLOOKUP(16-(LEN(N1168)),'1'!$A$1:$B$16,2,TRUE),N1168,\" 81..40+\",VLOOKUP(16-(LEN(O1168)),'1'!$A$1:$B$16,2,TRUE),O1168,\" 82..40+\",VLOOKUP(16-(LEN(O1168)),'1'!$A$1:$B$16,2,TRUE),P1168,\" 71....+0000000000000000 \"))","v":""},null,""]
[null,{"$f":"IF(I1169=\"\",\"\",ROWS($A$3:A1169))","v":""},"","","","","","","","",{"$f":"IFERROR(SMALL($B$3:$B$2002,ROWS($A$3:A1169)),\"\")","v":""},"","",null,"","","",{"$f":"IF(O1169=\"\",\"\",CONCATENATE(\"*11....+\",VLOOKUP(16-(LEN(N1169)),'1'!$A$1:$B$16,2,TRUE),N1169,\" 81..40+\",VLOOKUP(16-(LEN(O1169)),'1'!$A$1:$B$16,2,TRUE),O1169,\" 82..40+\",VLOOKUP(16-(LEN(O1169)),'1'!$A$1:$B$16,2,TRUE),P1169,\" 71....+0000000000000000 \"))","v":""},null,""]
[null,{"$f":"IF(I1170=\"\",\"\",ROWS($A$3:A1170))","v":""},"","","","","","","","",{"$f":"IFERROR(SMALL($B$3:$B$2002,ROWS($A$3:A1170)),\"\")","v":""},"","",null,"","","",{"$f":"IF(O1170=\"\",\"\",CONCATENATE(\"*11....+\",VLOOKUP(16-(LEN(N1170)),'1'!$A$1:$B$16,2,TRUE),N1170,\" 81..40+\",VLOOKUP(16-(LEN(O1170)),'1'!$A$1:$B$16,2,TRUE),O1170,\" 82..40+\",VLOOKUP(16-(LEN(O1170)),'1'!$A$1:$B$16,2,TRUE),P1170,\" 71....+0000000000000000 \"))","v":""},null,""]
[null,{"$f":"IF(I1171=\"\",\"\",ROWS($A$3:A1171))","v":""},"","","","","","","","",{"$f":"IFERROR(SMALL($B$3:$B$2002,ROWS($A$3:A1171)),\"\")","v":""},"","",null,"","","",{"$f":"IF(O1171=\"\",\"\",CONCATENATE(\"*11....+\",VLOOKUP(16-(LEN(N1171)),'1'!$A$1:$B$16,2,TRUE),N1171,\" 81..40+\",VLOOKUP(16-(LEN(O1171)),'1'!$A$1:$B$16,2,TRUE),O1171,\" 82..40+\",VLOOKUP(16-(LEN(O1171)),'1'!$A$1:$B$16,2,TRUE),P1171,\" 71....+0000000000000000 \"))","v":""},null,""]
[null,{"$f":"IF(I1172=\"\",\"\",ROWS($A$3:A1172))","v":""},"","","","","","","","",{"$f":"IFERROR(SMALL($B$3:$B$2002,ROWS($A$3:A1172)),\"\")","v":""},"","",null,"","","",{"$f":"IF(O1172=\"\",\"\",CONCATENATE(\"*11....+\",VLOOKUP(16-(LEN(N1172)),'1'!$A$1:$B$16,2,TRUE),N1172,\" 81..40+\",VLOOKUP(16-(LEN(O1172)),'1'!$A$1:$B$16,2,TRUE),O1172,\" 82..40+\",VLOOKUP(16-(LEN(O1172)),'1'!$A$1:$B$16,2,TRUE),P1172,\" 71....+0000000000000000 \"))","v":""},null,""]
[null,{"$f":"IF(I1173=\"\",\"\",ROWS($A$3:A1173))","v":""},"","","","","","","","",{"$f":"IFERROR(SMALL($B$3:$B$2002,ROWS($A$3:A1173)),\"\")","v":""},"","",null,"","","",{"$f":"IF(O1173=\"\",\"\",CONCATENATE(\"*11....+\",VLOOKUP(16-(LEN(N1173)),'1'!$A$1:$B$16,2,TRUE),N1173,\" 81..40+\",VLOOKUP(16-(LEN(O1173)),'1'!$A$1:$B$16,2,TRUE),O1173,\" 82..40+\",VLOOKUP(16-(LEN(O1173)),'1'!$A$1:$B$16,2,TRUE),P1173,\" 71....+0000000000000000 \"))","v":""},null,""]
[null,{"$f":"IF(I1174=\"\",\"\",ROWS($A$3:A1174))","v":""},"","","","","","","","",{"$f":"IFERROR(SMALL($B$3:$B$2002,ROWS($A$3:A1174)),\"\")","v":""},"","",null,"","","",{"$f":"IF(O1174=\"\",\"\",CONCATENATE(\"*11....+\",VLOOKUP(16-(LEN(N1174)),'1'!$A$1:$B$16,2,TRUE),N1174,\" 81..40+\",VLOOKUP(16-(LEN(O1174)),'1'!$A$1:$B$16,2,TRUE),O1174,\" 82..40+\",VLOOKUP(16-(LEN(O1174)),'1'!$A$1:$B$16,2,TRUE),P1174,\" 71....+0000000000000000 \"))","v":""},null,""]
[null,{"$f":"IF(I1175=\"\",\"\",ROWS($A$3:A1175))","v":""},"","","","","","","","",{"$f":"IFERROR(SMALL($B$3:$B$2002,ROWS($A$3:A1175)),\"\")","v":""},"","",null,"","","",{"$f":"IF(O1175=\"\",\"\",CONCATENATE(\"*11....+\",VLOOKUP(16-(LEN(N1175)),'1'!$A$1:$B$16,2,TRUE),N1175,\" 81..40+\",VLOOKUP(16-(LEN(O1175)),'1'!$A$1:$B$16,2,TRUE),O1175,\" 82..40+\",VLOOKUP(16-(LEN(O1175)),'1'!$A$1:$B$16,2,TRUE),P1175,\" 71....+0000000000000000 \"))","v":""},null,""]
[null,{"$f":"IF(I1176=\"\",\"\",ROWS($A$3:A1176))","v":""},"","","","","","","","",{"$f":"IFERROR(SMALL($B$3:$B$2002,ROWS($A$3:A1176)),\"\")","v":""},"","",null,"","","",{"$f":"IF(O1176=\"\",\"\",CONCATENATE(\"*11....+\",VLOOKUP(16-(LEN(N1176)),'1'!$A$1:$B$16,2,TRUE),N1176,\" 81..40+\",VLOOKUP(16-(LEN(O1176)),'1'!$A$1:$B$16,2,TRUE),O1176,\" 82..40+\",VLOOKUP(16-(LEN(O1176)),'1'!$A$1:$B$16,2,TRUE),P1176,\" 71....+0000000000000000 \"))","v":""},null,""]
[null,{"$f":"IF(I1177=\"\",\"\",ROWS($A$3:A1177))","v":""},"","","","","","","","",{"$f":"IFERROR(SMALL($B$3:$B$2002,ROWS($A$3:A1177)),\"\")","v":""},"","",null,"","","",{"$f":"IF(O1177=\"\",\"\",CONCATENATE(\"*11....+\",VLOOKUP(16-(LEN(N1177)),'1'!$A$1:$B$16,2,TRUE),N1177,\" 81..40+\",VLOOKUP(16-(LEN(O1177)),'1'!$A$1:$B$16,2,TRUE),O1177,\" 82..40+\",VLOOKUP(16-(LEN(O1177)),'1'!$A$1:$B$16,2,TRUE),P1177,\" 71....+0000000000000000 \"))","v":""},null,""]
[null,{"$f":"IF(I1178=\"\",\"\",ROWS($A$3:A1178))","v":""},"","","","","","","","",{"$f":"IFERROR(SMALL($B$3:$B$2002,ROWS($A$3:A1178)),\"\")","v":""},"","",null,"","","",{"$f":"IF(O1178=\"\",\"\",CONCATENATE(\"*11....+\",VLOOKUP(16-(LEN(N1178)),'1'!$A$1:$B$16,2,TRUE),N1178,\" 81..40+\",VLOOKUP(16-(LEN(O1178)),'1'!$A$1:$B$16,2,TRUE),O1178,\" 82..40+\",VLOOKUP(16-(LEN(O1178)),'1'!$A$1:$B$16,2,TRUE),P1178,\" 71....+0000000000000000 \"))","v":""},null,""]
[null,{"$f":"IF(I1179=\"\",\"\",ROWS($A$3:A1179))","v":""},"","","","","","","","",{"$f":"IFERROR(SMALL($B$3:$B$2002,ROWS($A$3:A1179)),\"\")","v":""},"","",null,"","","",{"$f":"IF(O1179=\"\",\"\",CONCATENATE(\"*11....+\",VLOOKUP(16-(LEN(N1179)),'1'!$A$1:$B$16,2,TRUE),N1179,\" 81..40+\",VLOOKUP(16-(LEN(O1179)),'1'!$A$1:$B$16,2,TRUE),O1179,\" 82..40+\",VLOOKUP(16-(LEN(O1179)),'1'!$A$1:$B$16,2,TRUE),P1179,\" 71....+0000000000000000 \"))","v":""},null,""]
[null,{"$f":"IF(I1180=\"\",\"\",ROWS($A$3:A1180))","v":""},"","","","","","","","",{"$f":"IFERROR(SMALL($B$3:$B$2002,ROWS($A$3:A1180)),\"\")","v":""},"","",null,"","","",{"$f":"IF(O1180=\"\",\"\",CONCATENATE(\"*11....+\",VLOOKUP(16-(LEN(N1180)),'1'!$A$1:$B$16,2,TRUE),N1180,\" 81..40+\",VLOOKUP(16-(LEN(O1180)),'1'!$A$1:$B$16,2,TRUE),O1180,\" 82..40+\",VLOOKUP(16-(LEN(O1180)),'1'!$A$1:$B$16,2,TRUE),P1180,\" 71....+0000000000000000 \"))","v":""},null,""]
[null,{"$f":"IF(I1181=\"\",\"\",ROWS($A$3:A1181))","v":""},"","","","","","","","",{"$f":"IFERROR(SMALL($B$3:$B$2002,ROWS($A$3:A1181)),\"\")","v":""},"","",null,"","","",{"$f":"IF(O1181=\"\",\"\",CONCATENATE(\"*11....+\",VLOOKUP(16-(LEN(N1181)),'1'!$A$1:$B$16,2,TRUE),N1181,\" 81..40+\",VLOOKUP(16-(LEN(O1181)),'1'!$A$1:$B$16,2,TRUE),O1181,\" 82..40+\",VLOOKUP(16-(LEN(O1181)),'1'!$A$1:$B$16,2,TRUE),P1181,\" 71....+0000000000000000 \"))","v":""},null,""]
[null,{"$f":"IF(I1182=\"\",\"\",ROWS($A$3:A1182))","v":""},"","","","","","","","",{"$f":"IFERROR(SMALL($B$3:$B$2002,ROWS($A$3:A1182)),\"\")","v":""},"","",null,"","","",{"$f":"IF(O1182=\"\",\"\",CONCATENATE(\"*11....+\",VLOOKUP(16-(LEN(N1182)),'1'!$A$1:$B$16,2,TRUE),N1182,\" 81..40+\",VLOOKUP(16-(LEN(O1182)),'1'!$A$1:$B$16,2,TRUE),O1182,\" 82..40+\",VLOOKUP(16-(LEN(O1182)),'1'!$A$1:$B$16,2,TRUE),P1182,\" 71....+0000000000000000 \"))","v":""},null,""]
[null,{"$f":"IF(I1183=\"\",\"\",ROWS($A$3:A1183))","v":""},"","","","","","","","",{"$f":"IFERROR(SMALL($B$3:$B$2002,ROWS($A$3:A1183)),\"\")","v":""},"","",null,"","","",{"$f":"IF(O1183=\"\",\"\",CONCATENATE(\"*11....+\",VLOOKUP(16-(LEN(N1183)),'1'!$A$1:$B$16,2,TRUE),N1183,\" 81..40+\",VLOOKUP(16-(LEN(O1183)),'1'!$A$1:$B$16,2,TRUE),O1183,\" 82..40+\",VLOOKUP(16-(LEN(O1183)),'1'!$A$1:$B$16,2,TRUE),P1183,\" 71....+0000000000000000 \"))","v":""},null,""]
[null,{"$f":"IF(I1184=\"\",\"\",ROWS($A$3:A1184))","v":""},"","","","","","","","",{"$f":"IFERROR(SMALL($B$3:$B$2002,ROWS($A$3:A1184)),\"\")","v":""},"","",null,"","","",{"$f":"IF(O1184=\"\",\"\",CONCATENATE(\"*11....+\",VLOOKUP(16-(LEN(N1184)),'1'!$A$1:$B$16,2,TRUE),N1184,\" 81..40+\",VLOOKUP(16-(LEN(O1184)),'1'!$A$1:$B$16,2,TRUE),O1184,\" 82..40+\",VLOOKUP(16-(LEN(O1184)),'1'!$A$1:$B$16,2,TRUE),P1184,\" 71....+0000000000000000 \"))","v":""},null,""]
[null,{"$f":"IF(I1185=\"\",\"\",ROWS($A$3:A1185))","v":""},"","","","","","","","",{"$f":"IFERROR(SMALL($B$3:$B$2002,ROWS($A$3:A1185)),\"\")","v":""},"","",null,"","","",{"$f":"IF(O1185=\"\",\"\",CONCATENATE(\"*11....+\",VLOOKUP(16-(LEN(N1185)),'1'!$A$1:$B$16,2,TRUE),N1185,\" 81..40+\",VLOOKUP(16-(LEN(O1185)),'1'!$A$1:$B$16,2,TRUE),O1185,\" 82..40+\",VLOOKUP(16-(LEN(O1185)),'1'!$A$1:$B$16,2,TRUE),P1185,\" 71....+0000000000000000 \"))","v":""},null,""]
[null,{"$f":"IF(I1186=\"\",\"\",ROWS($A$3:A1186))","v":""},"","","","","","","","",{"$f":"IFERROR(SMALL($B$3:$B$2002,ROWS($A$3:A1186)),\"\")","v":""},"","",null,"","","",{"$f":"IF(O1186=\"\",\"\",CONCATENATE(\"*11....+\",VLOOKUP(16-(LEN(N1186)),'1'!$A$1:$B$16,2,TRUE),N1186,\" 81..40+\",VLOOKUP(16-(LEN(O1186)),'1'!$A$1:$B$16,2,TRUE),O1186,\" 82..40+\",VLOOKUP(16-(LEN(O1186)),'1'!$A$1:$B$16,2,TRUE),P1186,\" 71....+0000000000000000 \"))","v":""},null,""]
[null,{"$f":"IF(I1187=\"\",\"\",ROWS($A$3:A1187))","v":""},"","","","","","","","",{"$f":"IFERROR(SMALL($B$3:$B$2002,ROWS($A$3:A1187)),\"\")","v":""},"","",null,"","","",{"$f":"IF(O1187=\"\",\"\",CONCATENATE(\"*11....+\",VLOOKUP(16-(LEN(N1187)),'1'!$A$1:$B$16,2,TRUE),N1187,\" 81..40+\",VLOOKUP(16-(LEN(O1187)),'1'!$A$1:$B$16,2,TRUE),O1187,\" 82..40+\",VLOOKUP(16-(LEN(O1187)),'1'!$A$1:$B$16,2,TRUE),P1187,\" 71....+0000000000000000 \"))","v":""},null,""]
[null,{"$f":"IF(I1188=\"\",\"\",ROWS($A$3:A1188))","v":""},"","","","","","","","",{"$f":"IFERROR(SMALL($B$3:$B$2002,ROWS($A$3:A1188)),\"\")","v":""},"","",null,"","","",{"$f":"IF(O1188=\"\",\"\",CONCATENATE(\"*11....+\",VLOOKUP(16-(LEN(N1188)),'1'!$A$1:$B$16,2,TRUE),N1188,\" 81..40+\",VLOOKUP(16-(LEN(O1188)),'1'!$A$1:$B$16,2,TRUE),O1188,\" 82..40+\",VLOOKUP(16-(LEN(O1188)),'1'!$A$1:$B$16,2,TRUE),P1188,\" 71....+0000000000000000 \"))","v":""},null,""]
[null,{"$f":"IF(I1189=\"\",\"\",ROWS($A$3:A1189))","v":""},"","","","","","","","",{"$f":"IFERROR(SMALL($B$3:$B$2002,ROWS($A$3:A1189)),\"\")","v":""},"","",null,"","","",{"$f":"IF(O1189=\"\",\"\",CONCATENATE(\"*11....+\",VLOOKUP(16-(LEN(N1189)),'1'!$A$1:$B$16,2,TRUE),N1189,\" 81..40+\",VLOOKUP(16-(LEN(O1189)),'1'!$A$1:$B$16,2,TRUE),O1189,\" 82..40+\",VLOOKUP(16-(LEN(O1189)),'1'!$A$1:$B$16,2,TRUE),P1189,\" 71....+0000000000000000 \"))","v":""},null,""]
[null,{"$f":"IF(I1190=\"\",\"\",ROWS($A$3:A1190))","v":""},"","","","","","","","",{"$f":"IFERROR(SMALL($B$3:$B$2002,ROWS($A$3:A1190)),\"\")","v":""},"","",null,"","","",{"$f":"IF(O1190=\"\",\"\",CONCATENATE(\"*11....+\",VLOOKUP(16-(LEN(N1190)),'1'!$A$1:$B$16,2,TRUE),N1190,\" 81..40+\",VLOOKUP(16-(LEN(O1190)),'1'!$A$1:$B$16,2,TRUE),O1190,\" 82..40+\",VLOOKUP(16-(LEN(O1190)),'1'!$A$1:$B$16,2,TRUE),P1190,\" 71....+0000000000000000 \"))","v":""},null,""]
[null,{"$f":"IF(I1191=\"\",\"\",ROWS($A$3:A1191))","v":""},"","","","","","","","",{"$f":"IFERROR(SMALL($B$3:$B$2002,ROWS($A$3:A1191)),\"\")","v":""},"","",null,"","","",{"$f":"IF(O1191=\"\",\"\",CONCATENATE(\"*11....+\",VLOOKUP(16-(LEN(N1191)),'1'!$A$1:$B$16,2,TRUE),N1191,\" 81..40+\",VLOOKUP(16-(LEN(O1191)),'1'!$A$1:$B$16,2,TRUE),O1191,\" 82..40+\",VLOOKUP(16-(LEN(O1191)),'1'!$A$1:$B$16,2,TRUE),P1191,\" 71....+0000000000000000 \"))","v":""},null,""]
[null,{"$f":"IF(I1192=\"\",\"\",ROWS($A$3:A1192))","v":""},"","","","","","","","",{"$f":"IFERROR(SMALL($B$3:$B$2002,ROWS($A$3:A1192)),\"\")","v":""},"","",null,"","","",{"$f":"IF(O1192=\"\",\"\",CONCATENATE(\"*11....+\",VLOOKUP(16-(LEN(N1192)),'1'!$A$1:$B$16,2,TRUE),N1192,\" 81..40+\",VLOOKUP(16-(LEN(O1192)),'1'!$A$1:$B$16,2,TRUE),O1192,\" 82..40+\",VLOOKUP(16-(LEN(O1192)),'1'!$A$1:$B$16,2,TRUE),P1192,\" 71....+0000000000000000 \"))","v":""},null,""]
[null,{"$f":"IF(I1193=\"\",\"\",ROWS($A$3:A1193))","v":""},"","","","","","","","",{"$f":"IFERROR(SMALL($B$3:$B$2002,ROWS($A$3:A1193)),\"\")","v":""},"","",null,"","","",{"$f":"IF(O1193=\"\",\"\",CONCATENATE(\"*11....+\",VLOOKUP(16-(LEN(N1193)),'1'!$A$1:$B$16,2,TRUE),N1193,\" 81..40+\",VLOOKUP(16-(LEN(O1193)),'1'!$A$1:$B$16,2,TRUE),O1193,\" 82..40+\",VLOOKUP(16-(LEN(O1193)),'1'!$A$1:$B$16,2,TRUE),P1193,\" 71....+0000000000000000 \"))","v":""},null,""]
[null,{"$f":"IF(I1194=\"\",\"\",ROWS($A$3:A1194))","v":""},"","","","","","","","",{"$f":"IFERROR(SMALL($B$3:$B$2002,ROWS($A$3:A1194)),\"\")","v":""},"","",null,"","","",{"$f":"IF(O1194=\"\",\"\",CONCATENATE(\"*11....+\",VLOOKUP(16-(LEN(N1194)),'1'!$A$1:$B$16,2,TRUE),N1194,\" 81..40+\",VLOOKUP(16-(LEN(O1194)),'1'!$A$1:$B$16,2,TRUE),O1194,\" 82..40+\",VLOOKUP(16-(LEN(O1194)),'1'!$A$1:$B$16,2,TRUE),P1194,\" 71....+0000000000000000 \"))","v":""},null,""]
[null,{"$f":"IF(I1195=\"\",\"\",ROWS($A$3:A1195))","v":""},"","","","","","","","",{"$f":"IFERROR(SMALL($B$3:$B$2002,ROWS($A$3:A1195)),\"\")","v":""},"","",null,"","","",{"$f":"IF(O1195=\"\",\"\",CONCATENATE(\"*11....+\",VLOOKUP(16-(LEN(N1195)),'1'!$A$1:$B$16,2,TRUE),N1195,\" 81..40+\",VLOOKUP(16-(LEN(O1195)),'1'!$A$1:$B$16,2,TRUE),O1195,\" 82..40+\",VLOOKUP(16-(LEN(O1195)),'1'!$A$1:$B$16,2,TRUE),P1195,\" 71....+0000000000000000 \"))","v":""},null,""]
[null,{"$f":"IF(I1196=\"\",\"\",ROWS($A$3:A1196))","v":""},"","","","","","","","",{"$f":"IFERROR(SMALL($B$3:$B$2002,ROWS($A$3:A1196)),\"\")","v":""},"","",null,"","","",{"$f":"IF(O1196=\"\",\"\",CONCATENATE(\"*11....+\",VLOOKUP(16-(LEN(N1196)),'1'!$A$1:$B$16,2,TRUE),N1196,\" 81..40+\",VLOOKUP(16-(LEN(O1196)),'1'!$A$1:$B$16,2,TRUE),O1196,\" 82..40+\",VLOOKUP(16-(LEN(O1196)),'1'!$A$1:$B$16,2,TRUE),P1196,\" 71....+0000000000000000 \"))","v":""},null,""]
[null,{"$f":"IF(I1197=\"\",\"\",ROWS($A$3:A1197))","v":""},"","","","","","","","",{"$f":"IFERROR(SMALL($B$3:$B$2002,ROWS($A$3:A1197)),\"\")","v":""},"","",null,"","","",{"$f":"IF(O1197=\"\",\"\",CONCATENATE(\"*11....+\",VLOOKUP(16-(LEN(N1197)),'1'!$A$1:$B$16,2,TRUE),N1197,\" 81..40+\",VLOOKUP(16-(LEN(O1197)),'1'!$A$1:$B$16,2,TRUE),O1197,\" 82..40+\",VLOOKUP(16-(LEN(O1197)),'1'!$A$1:$B$16,2,TRUE),P1197,\" 71....+0000000000000000 \"))","v":""},null,""]
[null,{"$f":"IF(I1198=\"\",\"\",ROWS($A$3:A1198))","v":""},"","","","","","","","",{"$f":"IFERROR(SMALL($B$3:$B$2002,ROWS($A$3:A1198)),\"\")","v":""},"","",null,"","","",{"$f":"IF(O1198=\"\",\"\",CONCATENATE(\"*11....+\",VLOOKUP(16-(LEN(N1198)),'1'!$A$1:$B$16,2,TRUE),N1198,\" 81..40+\",VLOOKUP(16-(LEN(O1198)),'1'!$A$1:$B$16,2,TRUE),O1198,\" 82..40+\",VLOOKUP(16-(LEN(O1198)),'1'!$A$1:$B$16,2,TRUE),P1198,\" 71....+0000000000000000 \"))","v":""},null,""]
[null,{"$f":"IF(I1199=\"\",\"\",ROWS($A$3:A1199))","v":""},"","","","","","","","",{"$f":"IFERROR(SMALL($B$3:$B$2002,ROWS($A$3:A1199)),\"\")","v":""},"","",null,"","","",{"$f":"IF(O1199=\"\",\"\",CONCATENATE(\"*11....+\",VLOOKUP(16-(LEN(N1199)),'1'!$A$1:$B$16,2,TRUE),N1199,\" 81..40+\",VLOOKUP(16-(LEN(O1199)),'1'!$A$1:$B$16,2,TRUE),O1199,\" 82..40+\",VLOOKUP(16-(LEN(O1199)),'1'!$A$1:$B$16,2,TRUE),P1199,\" 71....+0000000000000000 \"))","v":""},null,""]
[null,{"$f":"IF(I1200=\"\",\"\",ROWS($A$3:A1200))","v":""},"","","","","","","","",{"$f":"IFERROR(SMALL($B$3:$B$2002,ROWS($A$3:A1200)),\"\")","v":""},"","",null,"","","",{"$f":"IF(O1200=\"\",\"\",CONCATENATE(\"*11....+\",VLOOKUP(16-(LEN(N1200)),'1'!$A$1:$B$16,2,TRUE),N1200,\" 81..40+\",VLOOKUP(16-(LEN(O1200)),'1'!$A$1:$B$16,2,TRUE),O1200,\" 82..40+\",VLOOKUP(16-(LEN(O1200)),'1'!$A$1:$B$16,2,TRUE),P1200,\" 71....+0000000000000000 \"))","v":""},null,""]
[null,{"$f":"IF(I1201=\"\",\"\",ROWS($A$3:A1201))","v":""},"","","","","","","","",{"$f":"IFERROR(SMALL($B$3:$B$2002,ROWS($A$3:A1201)),\"\")","v":""},"","",null,"","","",{"$f":"IF(O1201=\"\",\"\",CONCATENATE(\"*11....+\",VLOOKUP(16-(LEN(N1201)),'1'!$A$1:$B$16,2,TRUE),N1201,\" 81..40+\",VLOOKUP(16-(LEN(O1201)),'1'!$A$1:$B$16,2,TRUE),O1201,\" 82..40+\",VLOOKUP(16-(LEN(O1201)),'1'!$A$1:$B$16,2,TRUE),P1201,\" 71....+0000000000000000 \"))","v":""},null,""]
[null,{"$f":"IF(I1202=\"\",\"\",ROWS($A$3:A1202))","v":""},"","","","","","","","",{"$f":"IFERROR(SMALL($B$3:$B$2002,ROWS($A$3:A1202)),\"\")","v":""},"","",null,"","","",{"$f":"IF(O1202=\"\",\"\",CONCATENATE(\"*11....+\",VLOOKUP(16-(LEN(N1202)),'1'!$A$1:$B$16,2,TRUE),N1202,\" 81..40+\",VLOOKUP(16-(LEN(O1202)),'1'!$A$1:$B$16,2,TRUE),O1202,\" 82..40+\",VLOOKUP(16-(LEN(O1202)),'1'!$A$1:$B$16,2,TRUE),P1202,\" 71....+0000000000000000 \"))","v":""},null,""]
[null,{"$f":"IF(I1203=\"\",\"\",ROWS($A$3:A1203))","v":""},"","","","","","","","",{"$f":"IFERROR(SMALL($B$3:$B$2002,ROWS($A$3:A1203)),\"\")","v":""},"","",null,"","","",{"$f":"IF(O1203=\"\",\"\",CONCATENATE(\"*11....+\",VLOOKUP(16-(LEN(N1203)),'1'!$A$1:$B$16,2,TRUE),N1203,\" 81..40+\",VLOOKUP(16-(LEN(O1203)),'1'!$A$1:$B$16,2,TRUE),O1203,\" 82..40+\",VLOOKUP(16-(LEN(O1203)),'1'!$A$1:$B$16,2,TRUE),P1203,\" 71....+0000000000000000 \"))","v":""},null,""]
[null,{"$f":"IF(I1204=\"\",\"\",ROWS($A$3:A1204))","v":""},"","","","","","","","",{"$f":"IFERROR(SMALL($B$3:$B$2002,ROWS($A$3:A1204)),\"\")","v":""},"","",null,"","","",{"$f":"IF(O1204=\"\",\"\",CONCATENATE(\"*11....+\",VLOOKUP(16-(LEN(N1204)),'1'!$A$1:$B$16,2,TRUE),N1204,\" 81..40+\",VLOOKUP(16-(LEN(O1204)),'1'!$A$1:$B$16,2,TRUE),O1204,\" 82..40+\",VLOOKUP(16-(LEN(O1204)),'1'!$A$1:$B$16,2,TRUE),P1204,\" 71....+0000000000000000 \"))","v":""},null,""]
[null,{"$f":"IF(I1205=\"\",\"\",ROWS($A$3:A1205))","v":""},"","","","","","","","",{"$f":"IFERROR(SMALL($B$3:$B$2002,ROWS($A$3:A1205)),\"\")","v":""},"","",null,"","","",{"$f":"IF(O1205=\"\",\"\",CONCATENATE(\"*11....+\",VLOOKUP(16-(LEN(N1205)),'1'!$A$1:$B$16,2,TRUE),N1205,\" 81..40+\",VLOOKUP(16-(LEN(O1205)),'1'!$A$1:$B$16,2,TRUE),O1205,\" 82..40+\",VLOOKUP(16-(LEN(O1205)),'1'!$A$1:$B$16,2,TRUE),P1205,\" 71....+0000000000000000 \"))","v":""},null,""]
[null,{"$f":"IF(I1206=\"\",\"\",ROWS($A$3:A1206))","v":""},"","","","","","","","",{"$f":"IFERROR(SMALL($B$3:$B$2002,ROWS($A$3:A1206)),\"\")","v":""},"","",null,"","","",{"$f":"IF(O1206=\"\",\"\",CONCATENATE(\"*11....+\",VLOOKUP(16-(LEN(N1206)),'1'!$A$1:$B$16,2,TRUE),N1206,\" 81..40+\",VLOOKUP(16-(LEN(O1206)),'1'!$A$1:$B$16,2,TRUE),O1206,\" 82..40+\",VLOOKUP(16-(LEN(O1206)),'1'!$A$1:$B$16,2,TRUE),P1206,\" 71....+0000000000000000 \"))","v":""},null,""]
[null,{"$f":"IF(I1207=\"\",\"\",ROWS($A$3:A1207))","v":""},"","","","","","","","",{"$f":"IFERROR(SMALL($B$3:$B$2002,ROWS($A$3:A1207)),\"\")","v":""},"","",null,"","","",{"$f":"IF(O1207=\"\",\"\",CONCATENATE(\"*11....+\",VLOOKUP(16-(LEN(N1207)),'1'!$A$1:$B$16,2,TRUE),N1207,\" 81..40+\",VLOOKUP(16-(LEN(O1207)),'1'!$A$1:$B$16,2,TRUE),O1207,\" 82..40+\",VLOOKUP(16-(LEN(O1207)),'1'!$A$1:$B$16,2,TRUE),P1207,\" 71....+0000000000000000 \"))","v":""},null,""]
[null,{"$f":"IF(I1208=\"\",\"\",ROWS($A$3:A1208))","v":""},"","","","","","","","",{"$f":"IFERROR(SMALL($B$3:$B$2002,ROWS($A$3:A1208)),\"\")","v":""},"","",null,"","","",{"$f":"IF(O1208=\"\",\"\",CONCATENATE(\"*11....+\",VLOOKUP(16-(LEN(N1208)),'1'!$A$1:$B$16,2,TRUE),N1208,\" 81..40+\",VLOOKUP(16-(LEN(O1208)),'1'!$A$1:$B$16,2,TRUE),O1208,\" 82..40+\",VLOOKUP(16-(LEN(O1208)),'1'!$A$1:$B$16,2,TRUE),P1208,\" 71....+0000000000000000 \"))","v":""},null,""]
[null,{"$f":"IF(I1209=\"\",\"\",ROWS($A$3:A1209))","v":""},"","","","","","","","",{"$f":"IFERROR(SMALL($B$3:$B$2002,ROWS($A$3:A1209)),\"\")","v":""},"","",null,"","","",{"$f":"IF(O1209=\"\",\"\",CONCATENATE(\"*11....+\",VLOOKUP(16-(LEN(N1209)),'1'!$A$1:$B$16,2,TRUE),N1209,\" 81..40+\",VLOOKUP(16-(LEN(O1209)),'1'!$A$1:$B$16,2,TRUE),O1209,\" 82..40+\",VLOOKUP(16-(LEN(O1209)),'1'!$A$1:$B$16,2,TRUE),P1209,\" 71....+0000000000000000 \"))","v":""},null,""]
[null,{"$f":"IF(I1210=\"\",\"\",ROWS($A$3:A1210))","v":""},"","","","","","","","",{"$f":"IFERROR(SMALL($B$3:$B$2002,ROWS($A$3:A1210)),\"\")","v":""},"","",null,"","","",{"$f":"IF(O1210=\"\",\"\",CONCATENATE(\"*11....+\",VLOOKUP(16-(LEN(N1210)),'1'!$A$1:$B$16,2,TRUE),N1210,\" 81..40+\",VLOOKUP(16-(LEN(O1210)),'1'!$A$1:$B$16,2,TRUE),O1210,\" 82..40+\",VLOOKUP(16-(LEN(O1210)),'1'!$A$1:$B$16,2,TRUE),P1210,\" 71....+0000000000000000 \"))","v":""},null,""]
[null,{"$f":"IF(I1211=\"\",\"\",ROWS($A$3:A1211))","v":""},"","","","","","","","",{"$f":"IFERROR(SMALL($B$3:$B$2002,ROWS($A$3:A1211)),\"\")","v":""},"","",null,"","","",{"$f":"IF(O1211=\"\",\"\",CONCATENATE(\"*11....+\",VLOOKUP(16-(LEN(N1211)),'1'!$A$1:$B$16,2,TRUE),N1211,\" 81..40+\",VLOOKUP(16-(LEN(O1211)),'1'!$A$1:$B$16,2,TRUE),O1211,\" 82..40+\",VLOOKUP(16-(LEN(O1211)),'1'!$A$1:$B$16,2,TRUE),P1211,\" 71....+0000000000000000 \"))","v":""},null,""]
[null,{"$f":"IF(I1212=\"\",\"\",ROWS($A$3:A1212))","v":""},"","","","","","","","",{"$f":"IFERROR(SMALL($B$3:$B$2002,ROWS($A$3:A1212)),\"\")","v":""},"","",null,"","","",{"$f":"IF(O1212=\"\",\"\",CONCATENATE(\"*11....+\",VLOOKUP(16-(LEN(N1212)),'1'!$A$1:$B$16,2,TRUE),N1212,\" 81..40+\",VLOOKUP(16-(LEN(O1212)),'1'!$A$1:$B$16,2,TRUE),O1212,\" 82..40+\",VLOOKUP(16-(LEN(O1212)),'1'!$A$1:$B$16,2,TRUE),P1212,\" 71....+0000000000000000 \"))","v":""},null,""]
[null,{"$f":"IF(I1213=\"\",\"\",ROWS($A$3:A1213))","v":""},"","","","","","","","",{"$f":"IFERROR(SMALL($B$3:$B$2002,ROWS($A$3:A1213)),\"\")","v":""},"","",null,"","","",{"$f":"IF(O1213=\"\",\"\",CONCATENATE(\"*11....+\",VLOOKUP(16-(LEN(N1213)),'1'!$A$1:$B$16,2,TRUE),N1213,\" 81..40+\",VLOOKUP(16-(LEN(O1213)),'1'!$A$1:$B$16,2,TRUE),O1213,\" 82..40+\",VLOOKUP(16-(LEN(O1213)),'1'!$A$1:$B$16,2,TRUE),P1213,\" 71....+0000000000000000 \"))","v":""},null,""]
[null,{"$f":"IF(I1214=\"\",\"\",ROWS($A$3:A1214))","v":""},"","","","","","","","",{"$f":"IFERROR(SMALL($B$3:$B$2002,ROWS($A$3:A1214)),\"\")","v":""},"","",null,"","","",{"$f":"IF(O1214=\"\",\"\",CONCATENATE(\"*11....+\",VLOOKUP(16-(LEN(N1214)),'1'!$A$1:$B$16,2,TRUE),N1214,\" 81..40+\",VLOOKUP(16-(LEN(O1214)),'1'!$A$1:$B$16,2,TRUE),O1214,\" 82..40+\",VLOOKUP(16-(LEN(O1214)),'1'!$A$1:$B$16,2,TRUE),P1214,\" 71....+0000000000000000 \"))","v":""},null,""]
[null,{"$f":"IF(I1215=\"\",\"\",ROWS($A$3:A1215))","v":""},"","","","","","","","",{"$f":"IFERROR(SMALL($B$3:$B$2002,ROWS($A$3:A1215)),\"\")","v":""},"","",null,"","","",{"$f":"IF(O1215=\"\",\"\",CONCATENATE(\"*11....+\",VLOOKUP(16-(LEN(N1215)),'1'!$A$1:$B$16,2,TRUE),N1215,\" 81..40+\",VLOOKUP(16-(LEN(O1215)),'1'!$A$1:$B$16,2,TRUE),O1215,\" 82..40+\",VLOOKUP(16-(LEN(O1215)),'1'!$A$1:$B$16,2,TRUE),P1215,\" 71....+0000000000000000 \"))","v":""},null,""]
[null,{"$f":"IF(I1216=\"\",\"\",ROWS($A$3:A1216))","v":""},"","","","","","","","",{"$f":"IFERROR(SMALL($B$3:$B$2002,ROWS($A$3:A1216)),\"\")","v":""},"","",null,"","","",{"$f":"IF(O1216=\"\",\"\",CONCATENATE(\"*11....+\",VLOOKUP(16-(LEN(N1216)),'1'!$A$1:$B$16,2,TRUE),N1216,\" 81..40+\",VLOOKUP(16-(LEN(O1216)),'1'!$A$1:$B$16,2,TRUE),O1216,\" 82..40+\",VLOOKUP(16-(LEN(O1216)),'1'!$A$1:$B$16,2,TRUE),P1216,\" 71....+0000000000000000 \"))","v":""},null,""]
[null,{"$f":"IF(I1217=\"\",\"\",ROWS($A$3:A1217))","v":""},"","","","","","","","",{"$f":"IFERROR(SMALL($B$3:$B$2002,ROWS($A$3:A1217)),\"\")","v":""},"","",null,"","","",{"$f":"IF(O1217=\"\",\"\",CONCATENATE(\"*11....+\",VLOOKUP(16-(LEN(N1217)),'1'!$A$1:$B$16,2,TRUE),N1217,\" 81..40+\",VLOOKUP(16-(LEN(O1217)),'1'!$A$1:$B$16,2,TRUE),O1217,\" 82..40+\",VLOOKUP(16-(LEN(O1217)),'1'!$A$1:$B$16,2,TRUE),P1217,\" 71....+0000000000000000 \"))","v":""},null,""]
[null,{"$f":"IF(I1218=\"\",\"\",ROWS($A$3:A1218))","v":""},"","","","","","","","",{"$f":"IFERROR(SMALL($B$3:$B$2002,ROWS($A$3:A1218)),\"\")","v":""},"","",null,"","","",{"$f":"IF(O1218=\"\",\"\",CONCATENATE(\"*11....+\",VLOOKUP(16-(LEN(N1218)),'1'!$A$1:$B$16,2,TRUE),N1218,\" 81..40+\",VLOOKUP(16-(LEN(O1218)),'1'!$A$1:$B$16,2,TRUE),O1218,\" 82..40+\",VLOOKUP(16-(LEN(O1218)),'1'!$A$1:$B$16,2,TRUE),P1218,\" 71....+0000000000000000 \"))","v":""},null,""]
[null,{"$f":"IF(I1219=\"\",\"\",ROWS($A$3:A1219))","v":""},"","","","","","","","",{"$f":"IFERROR(SMALL($B$3:$B$2002,ROWS($A$3:A1219)),\"\")","v":""},"","",null,"","","",{"$f":"IF(O1219=\"\",\"\",CONCATENATE(\"*11....+\",VLOOKUP(16-(LEN(N1219)),'1'!$A$1:$B$16,2,TRUE),N1219,\" 81..40+\",VLOOKUP(16-(LEN(O1219)),'1'!$A$1:$B$16,2,TRUE),O1219,\" 82..40+\",VLOOKUP(16-(LEN(O1219)),'1'!$A$1:$B$16,2,TRUE),P1219,\" 71....+0000000000000000 \"))","v":""},null,""]
[null,{"$f":"IF(I1220=\"\",\"\",ROWS($A$3:A1220))","v":""},{"$f":"IF(LEN(A1220)=59,ROUND(VALUE(MID(A1220,23,9)),3),\"\")","v":""},{"$f":"IF(LEN(A1220)=24,\"\",\"\")","v":""},{"$f":"IF(LEN(A1220)=63,ROUND(VALUE(MID(A1220,23,12)),3),\"\")","v":""},{"$f":"IF(LEN(A1220)=59,ROUND(VALUE(MID(A1220,37,9)),3),\"\")","v":""},{"$f":"IF(LEN(A1220)=24,\"\",\"\")","v":""},{"$f":"IF(LEN(A1220)=63,ROUND(VALUE(MID(A1220,39,12)),3),\"\")","v":""},{"$f":"IF(AND(C1220=\"\",D1220=\"\",E1220=\"\"),\"\",ROUND(CONCATENATE(C1220,D1220,E1220),3))","v":""},{"$f":"IF(AND(C1220=\"\",D1220=\"\",E1220=\"\"),\"\",ROUND(CONCATENATE(F1220,G1220,H1220),3))","v":""},{"$f":"IFERROR(SMALL($B$3:$B$2002,ROWS($A$3:A1220)),\"\")","v":""},{"$f":"IF(K1220=\"\",\"\",ROUND(VALUE(VLOOKUP(K1220,$B$3:$J$2002,8,TRUE)),3))","v":""},{"$f":"IF(K1220=\"\",\"\",ROUND(VALUE(VLOOKUP(K1220,$B$3:$J$2002,9,TRUE)),3))","v":""},null,{"$f":"IF(L1220=\"\",\"\",L1220/0.001)","v":""},"",{"$f":"IF(O1220=\"\",\"\",16-LEN(N1220))","v":""},{"$f":"IF(O1220=\"\",\"\",CONCATENATE(\"*11....+\",VLOOKUP(16-(LEN(N1220)),'1'!$A$1:$B$16,2,TRUE),N1220,\" 81..40+\",VLOOKUP(16-(LEN(O1220)),'1'!$A$1:$B$16,2,TRUE),O1220,\" 82..40+\",VLOOKUP(16-(LEN(O1220)),'1'!$A$1:$B$16,2,TRUE),P1220,\" 71....+0000000000000000 \"))","v":""},null,{"$f":"IF(O1220=\"\",\"\",CONCATENATE(N1220,\",\",L1220,\",\",M1220))","v":""}]
[null,{"$f":"IF(I1221=\"\",\"\",ROWS($A$3:A1221))","v":""},"","","","","","","","",{"$f":"IFERROR(SMALL($B$3:$B$2002,ROWS($A$3:A1221)),\"\")","v":""},"","",null,"","","",{"$f":"IF(O1221=\"\",\"\",CONCATENATE(\"*11....+\",VLOOKUP(16-(LEN(N1221)),'1'!$A$1:$B$16,2,TRUE),N1221,\" 81..40+\",VLOOKUP(16-(LEN(O1221)),'1'!$A$1:$B$16,2,TRUE),O1221,\" 82..40+\",VLOOKUP(16-(LEN(O1221)),'1'!$A$1:$B$16,2,TRUE),P1221,\" 71....+0000000000000000 \"))","v":""},null,""]
[null,{"$f":"IF(I1222=\"\",\"\",ROWS($A$3:A1222))","v":""},"","","","","","","","",{"$f":"IFERROR(SMALL($B$3:$B$2002,ROWS($A$3:A1222)),\"\")","v":""},"","",null,"","","",{"$f":"IF(O1222=\"\",\"\",CONCATENATE(\"*11....+\",VLOOKUP(16-(LEN(N1222)),'1'!$A$1:$B$16,2,TRUE),N1222,\" 81..40+\",VLOOKUP(16-(LEN(O1222)),'1'!$A$1:$B$16,2,TRUE),O1222,\" 82..40+\",VLOOKUP(16-(LEN(O1222)),'1'!$A$1:$B$16,2,TRUE),P1222,\" 71....+0000000000000000 \"))","v":""},null,""]
[null,{"$f":"IF(I1223=\"\",\"\",ROWS($A$3:A1223))","v":""},"","","","","","","","",{"$f":"IFERROR(SMALL($B$3:$B$2002,ROWS($A$3:A1223)),\"\")","v":""},"","",null,"","","",{"$f":"IF(O1223=\"\",\"\",CONCATENATE(\"*11....+\",VLOOKUP(16-(LEN(N1223)),'1'!$A$1:$B$16,2,TRUE),N1223,\" 81..40+\",VLOOKUP(16-(LEN(O1223)),'1'!$A$1:$B$16,2,TRUE),O1223,\" 82..40+\",VLOOKUP(16-(LEN(O1223)),'1'!$A$1:$B$16,2,TRUE),P1223,\" 71....+0000000000000000 \"))","v":""},null,""]
[null,{"$f":"IF(I1224=\"\",\"\",ROWS($A$3:A1224))","v":""},"","","","","","","","",{"$f":"IFERROR(SMALL($B$3:$B$2002,ROWS($A$3:A1224)),\"\")","v":""},"","",null,"","","",{"$f":"IF(O1224=\"\",\"\",CONCATENATE(\"*11....+\",VLOOKUP(16-(LEN(N1224)),'1'!$A$1:$B$16,2,TRUE),N1224,\" 81..40+\",VLOOKUP(16-(LEN(O1224)),'1'!$A$1:$B$16,2,TRUE),O1224,\" 82..40+\",VLOOKUP(16-(LEN(O1224)),'1'!$A$1:$B$16,2,TRUE),P1224,\" 71....+0000000000000000 \"))","v":""},null,""]
[null,{"$f":"IF(I1225=\"\",\"\",ROWS($A$3:A1225))","v":""},"","","","","","","","",{"$f":"IFERROR(SMALL($B$3:$B$2002,ROWS($A$3:A1225)),\"\")","v":""},"","",null,"","","",{"$f":"IF(O1225=\"\",\"\",CONCATENATE(\"*11....+\",VLOOKUP(16-(LEN(N1225)),'1'!$A$1:$B$16,2,TRUE),N1225,\" 81..40+\",VLOOKUP(16-(LEN(O1225)),'1'!$A$1:$B$16,2,TRUE),O1225,\" 82..40+\",VLOOKUP(16-(LEN(O1225)),'1'!$A$1:$B$16,2,TRUE),P1225,\" 71....+0000000000000000 \"))","v":""},null,""]
[null,{"$f":"IF(I1226=\"\",\"\",ROWS($A$3:A1226))","v":""},"","","","","","","","",{"$f":"IFERROR(SMALL($B$3:$B$2002,ROWS($A$3:A1226)),\"\")","v":""},"","",null,"","","",{"$f":"IF(O1226=\"\",\"\",CONCATENATE(\"*11....+\",VLOOKUP(16-(LEN(N1226)),'1'!$A$1:$B$16,2,TRUE),N1226,\" 81..40+\",VLOOKUP(16-(LEN(O1226)),'1'!$A$1:$B$16,2,TRUE),O1226,\" 82..40+\",VLOOKUP(16-(LEN(O1226)),'1'!$A$1:$B$16,2,TRUE),P1226,\" 71....+0000000000000000 \"))","v":""},null,""]
[null,{"$f":"IF(I1227=\"\",\"\",ROWS($A$3:A1227))","v":""},"","","","","","","","",{"$f":"IFERROR(SMALL($B$3:$B$2002,ROWS($A$3:A1227)),\"\")","v":""},"","",null,"","","",{"$f":"IF(O1227=\"\",\"\",CONCATENATE(\"*11....+\",VLOOKUP(16-(LEN(N1227)),'1'!$A$1:$B$16,2,TRUE),N1227,\" 81..40+\",VLOOKUP(16-(LEN(O1227)),'1'!$A$1:$B$16,2,TRUE),O1227,\" 82..40+\",VLOOKUP(16-(LEN(O1227)),'1'!$A$1:$B$16,2,TRUE),P1227,\" 71....+0000000000000000 \"))","v":""},null,""]
[null,{"$f":"IF(I1228=\"\",\"\",ROWS($A$3:A1228))","v":""},"","","","","","","","",{"$f":"IFERROR(SMALL($B$3:$B$2002,ROWS($A$3:A1228)),\"\")","v":""},"","",null,"","","",{"$f":"IF(O1228=\"\",\"\",CONCATENATE(\"*11....+\",VLOOKUP(16-(LEN(N1228)),'1'!$A$1:$B$16,2,TRUE),N1228,\" 81..40+\",VLOOKUP(16-(LEN(O1228)),'1'!$A$1:$B$16,2,TRUE),O1228,\" 82..40+\",VLOOKUP(16-(LEN(O1228)),'1'!$A$1:$B$16,2,TRUE),P1228,\" 71....+0000000000000000 \"))","v":""},null,""]
[null,{"$f":"IF(I1229=\"\",\"\",ROWS($A$3:A1229))","v":""},"","","","","","","","",{"$f":"IFERROR(SMALL($B$3:$B$2002,ROWS($A$3:A1229)),\"\")","v":""},"","",null,"","","",{"$f":"IF(O1229=\"\",\"\",CONCATENATE(\"*11....+\",VLOOKUP(16-(LEN(N1229)),'1'!$A$1:$B$16,2,TRUE),N1229,\" 81..40+\",VLOOKUP(16-(LEN(O1229)),'1'!$A$1:$B$16,2,TRUE),O1229,\" 82..40+\",VLOOKUP(16-(LEN(O1229)),'1'!$A$1:$B$16,2,TRUE),P1229,\" 71....+0000000000000000 \"))","v":""},null,""]
[null,{"$f":"IF(I1230=\"\",\"\",ROWS($A$3:A1230))","v":""},"","","","","","","","",{"$f":"IFERROR(SMALL($B$3:$B$2002,ROWS($A$3:A1230)),\"\")","v":""},"","",null,"","","",{"$f":"IF(O1230=\"\",\"\",CONCATENATE(\"*11....+\",VLOOKUP(16-(LEN(N1230)),'1'!$A$1:$B$16,2,TRUE),N1230,\" 81..40+\",VLOOKUP(16-(LEN(O1230)),'1'!$A$1:$B$16,2,TRUE),O1230,\" 82..40+\",VLOOKUP(16-(LEN(O1230)),'1'!$A$1:$B$16,2,TRUE),P1230,\" 71....+0000000000000000 \"))","v":""},null,""]
[null,{"$f":"IF(I1231=\"\",\"\",ROWS($A$3:A1231))","v":""},"","","","","","","","",{"$f":"IFERROR(SMALL($B$3:$B$2002,ROWS($A$3:A1231)),\"\")","v":""},"","",null,"","","",{"$f":"IF(O1231=\"\",\"\",CONCATENATE(\"*11....+\",VLOOKUP(16-(LEN(N1231)),'1'!$A$1:$B$16,2,TRUE),N1231,\" 81..40+\",VLOOKUP(16-(LEN(O1231)),'1'!$A$1:$B$16,2,TRUE),O1231,\" 82..40+\",VLOOKUP(16-(LEN(O1231)),'1'!$A$1:$B$16,2,TRUE),P1231,\" 71....+0000000000000000 \"))","v":""},null,""]
[null,{"$f":"IF(I1232=\"\",\"\",ROWS($A$3:A1232))","v":""},"","","","","","","","",{"$f":"IFERROR(SMALL($B$3:$B$2002,ROWS($A$3:A1232)),\"\")","v":""},"","",null,"","","",{"$f":"IF(O1232=\"\",\"\",CONCATENATE(\"*11....+\",VLOOKUP(16-(LEN(N1232)),'1'!$A$1:$B$16,2,TRUE),N1232,\" 81..40+\",VLOOKUP(16-(LEN(O1232)),'1'!$A$1:$B$16,2,TRUE),O1232,\" 82..40+\",VLOOKUP(16-(LEN(O1232)),'1'!$A$1:$B$16,2,TRUE),P1232,\" 71....+0000000000000000 \"))","v":""},null,""]
[null,{"$f":"IF(I1233=\"\",\"\",ROWS($A$3:A1233))","v":""},"","","","","","","","",{"$f":"IFERROR(SMALL($B$3:$B$2002,ROWS($A$3:A1233)),\"\")","v":""},"","",null,"","","",{"$f":"IF(O1233=\"\",\"\",CONCATENATE(\"*11....+\",VLOOKUP(16-(LEN(N1233)),'1'!$A$1:$B$16,2,TRUE),N1233,\" 81..40+\",VLOOKUP(16-(LEN(O1233)),'1'!$A$1:$B$16,2,TRUE),O1233,\" 82..40+\",VLOOKUP(16-(LEN(O1233)),'1'!$A$1:$B$16,2,TRUE),P1233,\" 71....+0000000000000000 \"))","v":""},null,""]
[null,{"$f":"IF(I1234=\"\",\"\",ROWS($A$3:A1234))","v":""},"","","","","","","","",{"$f":"IFERROR(SMALL($B$3:$B$2002,ROWS($A$3:A1234)),\"\")","v":""},"","",null,"","","",{"$f":"IF(O1234=\"\",\"\",CONCATENATE(\"*11....+\",VLOOKUP(16-(LEN(N1234)),'1'!$A$1:$B$16,2,TRUE),N1234,\" 81..40+\",VLOOKUP(16-(LEN(O1234)),'1'!$A$1:$B$16,2,TRUE),O1234,\" 82..40+\",VLOOKUP(16-(LEN(O1234)),'1'!$A$1:$B$16,2,TRUE),P1234,\" 71....+0000000000000000 \"))","v":""},null,""]
[null,{"$f":"IF(I1235=\"\",\"\",ROWS($A$3:A1235))","v":""},"","","","","","","","",{"$f":"IFERROR(SMALL($B$3:$B$2002,ROWS($A$3:A1235)),\"\")","v":""},"","",null,"","","",{"$f":"IF(O1235=\"\",\"\",CONCATENATE(\"*11....+\",VLOOKUP(16-(LEN(N1235)),'1'!$A$1:$B$16,2,TRUE),N1235,\" 81..40+\",VLOOKUP(16-(LEN(O1235)),'1'!$A$1:$B$16,2,TRUE),O1235,\" 82..40+\",VLOOKUP(16-(LEN(O1235)),'1'!$A$1:$B$16,2,TRUE),P1235,\" 71....+0000000000000000 \"))","v":""},null,""]
[null,{"$f":"IF(I1236=\"\",\"\",ROWS($A$3:A1236))","v":""},"","","","","","","","",{"$f":"IFERROR(SMALL($B$3:$B$2002,ROWS($A$3:A1236)),\"\")","v":""},"","",null,"","","",{"$f":"IF(O1236=\"\",\"\",CONCATENATE(\"*11....+\",VLOOKUP(16-(LEN(N1236)),'1'!$A$1:$B$16,2,TRUE),N1236,\" 81..40+\",VLOOKUP(16-(LEN(O1236)),'1'!$A$1:$B$16,2,TRUE),O1236,\" 82..40+\",VLOOKUP(16-(LEN(O1236)),'1'!$A$1:$B$16,2,TRUE),P1236,\" 71....+0000000000000000 \"))","v":""},null,""]
[null,{"$f":"IF(I1237=\"\",\"\",ROWS($A$3:A1237))","v":""},"","","","","","","","",{"$f":"IFERROR(SMALL($B$3:$B$2002,ROWS($A$3:A1237)),\"\")","v":""},"","",null,"","","",{"$f":"IF(O1237=\"\",\"\",CONCATENATE(\"*11....+\",VLOOKUP(16-(LEN(N1237)),'1'!$A$1:$B$16,2,TRUE),N1237,\" 81..40+\",VLOOKUP(16-(LEN(O1237)),'1'!$A$1:$B$16,2,TRUE),O1237,\" 82..40+\",VLOOKUP(16-(LEN(O1237)),'1'!$A$1:$B$16,2,TRUE),P1237,\" 71....+0000000000000000 \"))","v":""},null,""]
[null,{"$f":"IF(I1238=\"\",\"\",ROWS($A$3:A1238))","v":""},"","","","","","","","",{"$f":"IFERROR(SMALL($B$3:$B$2002,ROWS($A$3:A1238)),\"\")","v":""},"","",null,"","","",{"$f":"IF(O1238=\"\",\"\",CONCATENATE(\"*11....+\",VLOOKUP(16-(LEN(N1238)),'1'!$A$1:$B$16,2,TRUE),N1238,\" 81..40+\",VLOOKUP(16-(LEN(O1238)),'1'!$A$1:$B$16,2,TRUE),O1238,\" 82..40+\",VLOOKUP(16-(LEN(O1238)),'1'!$A$1:$B$16,2,TRUE),P1238,\" 71....+0000000000000000 \"))","v":""},null,""]
[null,{"$f":"IF(I1239=\"\",\"\",ROWS($A$3:A1239))","v":""},"","","","","","","","",{"$f":"IFERROR(SMALL($B$3:$B$2002,ROWS($A$3:A1239)),\"\")","v":""},"","",null,"","","",{"$f":"IF(O1239=\"\",\"\",CONCATENATE(\"*11....+\",VLOOKUP(16-(LEN(N1239)),'1'!$A$1:$B$16,2,TRUE),N1239,\" 81..40+\",VLOOKUP(16-(LEN(O1239)),'1'!$A$1:$B$16,2,TRUE),O1239,\" 82..40+\",VLOOKUP(16-(LEN(O1239)),'1'!$A$1:$B$16,2,TRUE),P1239,\" 71....+0000000000000000 \"))","v":""},null,""]
[null,{"$f":"IF(I1240=\"\",\"\",ROWS($A$3:A1240))","v":""},"","","","","","","","",{"$f":"IFERROR(SMALL($B$3:$B$2002,ROWS($A$3:A1240)),\"\")","v":""},"","",null,"","","",{"$f":"IF(O1240=\"\",\"\",CONCATENATE(\"*11....+\",VLOOKUP(16-(LEN(N1240)),'1'!$A$1:$B$16,2,TRUE),N1240,\" 81..40+\",VLOOKUP(16-(LEN(O1240)),'1'!$A$1:$B$16,2,TRUE),O1240,\" 82..40+\",VLOOKUP(16-(LEN(O1240)),'1'!$A$1:$B$16,2,TRUE),P1240,\" 71....+0000000000000000 \"))","v":""},null,""]
[null,{"$f":"IF(I1241=\"\",\"\",ROWS($A$3:A1241))","v":""},"","","","","","","","",{"$f":"IFERROR(SMALL($B$3:$B$2002,ROWS($A$3:A1241)),\"\")","v":""},"","",null,"","","",{"$f":"IF(O1241=\"\",\"\",CONCATENATE(\"*11....+\",VLOOKUP(16-(LEN(N1241)),'1'!$A$1:$B$16,2,TRUE),N1241,\" 81..40+\",VLOOKUP(16-(LEN(O1241)),'1'!$A$1:$B$16,2,TRUE),O1241,\" 82..40+\",VLOOKUP(16-(LEN(O1241)),'1'!$A$1:$B$16,2,TRUE),P1241,\" 71....+0000000000000000 \"))","v":""},null,""]
[null,{"$f":"IF(I1242=\"\",\"\",ROWS($A$3:A1242))","v":""},"","","","","","","","",{"$f":"IFERROR(SMALL($B$3:$B$2002,ROWS($A$3:A1242)),\"\")","v":""},"","",null,"","","",{"$f":"IF(O1242=\"\",\"\",CONCATENATE(\"*11....+\",VLOOKUP(16-(LEN(N1242)),'1'!$A$1:$B$16,2,TRUE),N1242,\" 81..40+\",VLOOKUP(16-(LEN(O1242)),'1'!$A$1:$B$16,2,TRUE),O1242,\" 82..40+\",VLOOKUP(16-(LEN(O1242)),'1'!$A$1:$B$16,2,TRUE),P1242,\" 71....+0000000000000000 \"))","v":""},null,""]
[null,{"$f":"IF(I1243=\"\",\"\",ROWS($A$3:A1243))","v":""},"","","","","","","","",{"$f":"IFERROR(SMALL($B$3:$B$2002,ROWS($A$3:A1243)),\"\")","v":""},"","",null,"","","",{"$f":"IF(O1243=\"\",\"\",CONCATENATE(\"*11....+\",VLOOKUP(16-(LEN(N1243)),'1'!$A$1:$B$16,2,TRUE),N1243,\" 81..40+\",VLOOKUP(16-(LEN(O1243)),'1'!$A$1:$B$16,2,TRUE),O1243,\" 82..40+\",VLOOKUP(16-(LEN(O1243)),'1'!$A$1:$B$16,2,TRUE),P1243,\" 71....+0000000000000000 \"))","v":""},null,""]
[null,{"$f":"IF(I1244=\"\",\"\",ROWS($A$3:A1244))","v":""},"","","","","","","","",{"$f":"IFERROR(SMALL($B$3:$B$2002,ROWS($A$3:A1244)),\"\")","v":""},"","",null,"","","",{"$f":"IF(O1244=\"\",\"\",CONCATENATE(\"*11....+\",VLOOKUP(16-(LEN(N1244)),'1'!$A$1:$B$16,2,TRUE),N1244,\" 81..40+\",VLOOKUP(16-(LEN(O1244)),'1'!$A$1:$B$16,2,TRUE),O1244,\" 82..40+\",VLOOKUP(16-(LEN(O1244)),'1'!$A$1:$B$16,2,TRUE),P1244,\" 71....+0000000000000000 \"))","v":""},null,""]
[null,{"$f":"IF(I1245=\"\",\"\",ROWS($A$3:A1245))","v":""},"","","","","","","","",{"$f":"IFERROR(SMALL($B$3:$B$2002,ROWS($A$3:A1245)),\"\")","v":""},"","",null,"","","",{"$f":"IF(O1245=\"\",\"\",CONCATENATE(\"*11....+\",VLOOKUP(16-(LEN(N1245)),'1'!$A$1:$B$16,2,TRUE),N1245,\" 81..40+\",VLOOKUP(16-(LEN(O1245)),'1'!$A$1:$B$16,2,TRUE),O1245,\" 82..40+\",VLOOKUP(16-(LEN(O1245)),'1'!$A$1:$B$16,2,TRUE),P1245,\" 71....+0000000000000000 \"))","v":""},null,""]
[null,{"$f":"IF(I1246=\"\",\"\",ROWS($A$3:A1246))","v":""},"","","","","","","","",{"$f":"IFERROR(SMALL($B$3:$B$2002,ROWS($A$3:A1246)),\"\")","v":""},"","",null,"","","",{"$f":"IF(O1246=\"\",\"\",CONCATENATE(\"*11....+\",VLOOKUP(16-(LEN(N1246)),'1'!$A$1:$B$16,2,TRUE),N1246,\" 81..40+\",VLOOKUP(16-(LEN(O1246)),'1'!$A$1:$B$16,2,TRUE),O1246,\" 82..40+\",VLOOKUP(16-(LEN(O1246)),'1'!$A$1:$B$16,2,TRUE),P1246,\" 71....+0000000000000000 \"))","v":""},null,""]
[null,{"$f":"IF(I1247=\"\",\"\",ROWS($A$3:A1247))","v":""},"","","","","","","","",{"$f":"IFERROR(SMALL($B$3:$B$2002,ROWS($A$3:A1247)),\"\")","v":""},"","",null,"","","",{"$f":"IF(O1247=\"\",\"\",CONCATENATE(\"*11....+\",VLOOKUP(16-(LEN(N1247)),'1'!$A$1:$B$16,2,TRUE),N1247,\" 81..40+\",VLOOKUP(16-(LEN(O1247)),'1'!$A$1:$B$16,2,TRUE),O1247,\" 82..40+\",VLOOKUP(16-(LEN(O1247)),'1'!$A$1:$B$16,2,TRUE),P1247,\" 71....+0000000000000000 \"))","v":""},null,""]
[null,{"$f":"IF(I1248=\"\",\"\",ROWS($A$3:A1248))","v":""},"","","","","","","","",{"$f":"IFERROR(SMALL($B$3:$B$2002,ROWS($A$3:A1248)),\"\")","v":""},"","",null,"","","",{"$f":"IF(O1248=\"\",\"\",CONCATENATE(\"*11....+\",VLOOKUP(16-(LEN(N1248)),'1'!$A$1:$B$16,2,TRUE),N1248,\" 81..40+\",VLOOKUP(16-(LEN(O1248)),'1'!$A$1:$B$16,2,TRUE),O1248,\" 82..40+\",VLOOKUP(16-(LEN(O1248)),'1'!$A$1:$B$16,2,TRUE),P1248,\" 71....+0000000000000000 \"))","v":""},null,""]
[null,{"$f":"IF(I1249=\"\",\"\",ROWS($A$3:A1249))","v":""},"","","","","","","","",{"$f":"IFERROR(SMALL($B$3:$B$2002,ROWS($A$3:A1249)),\"\")","v":""},"","",null,"","","",{"$f":"IF(O1249=\"\",\"\",CONCATENATE(\"*11....+\",VLOOKUP(16-(LEN(N1249)),'1'!$A$1:$B$16,2,TRUE),N1249,\" 81..40+\",VLOOKUP(16-(LEN(O1249)),'1'!$A$1:$B$16,2,TRUE),O1249,\" 82..40+\",VLOOKUP(16-(LEN(O1249)),'1'!$A$1:$B$16,2,TRUE),P1249,\" 71....+0000000000000000 \"))","v":""},null,""]
[null,{"$f":"IF(I1250=\"\",\"\",ROWS($A$3:A1250))","v":""},"","","","","","","","",{"$f":"IFERROR(SMALL($B$3:$B$2002,ROWS($A$3:A1250)),\"\")","v":""},"","",null,"","","",{"$f":"IF(O1250=\"\",\"\",CONCATENATE(\"*11....+\",VLOOKUP(16-(LEN(N1250)),'1'!$A$1:$B$16,2,TRUE),N1250,\" 81..40+\",VLOOKUP(16-(LEN(O1250)),'1'!$A$1:$B$16,2,TRUE),O1250,\" 82..40+\",VLOOKUP(16-(LEN(O1250)),'1'!$A$1:$B$16,2,TRUE),P1250,\" 71....+0000000000000000 \"))","v":""},null,""]
[null,{"$f":"IF(I1251=\"\",\"\",ROWS($A$3:A1251))","v":""},"","","","","","","","",{"$f":"IFERROR(SMALL($B$3:$B$2002,ROWS($A$3:A1251)),\"\")","v":""},"","",null,"","","",{"$f":"IF(O1251=\"\",\"\",CONCATENATE(\"*11....+\",VLOOKUP(16-(LEN(N1251)),'1'!$A$1:$B$16,2,TRUE),N1251,\" 81..40+\",VLOOKUP(16-(LEN(O1251)),'1'!$A$1:$B$16,2,TRUE),O1251,\" 82..40+\",VLOOKUP(16-(LEN(O1251)),'1'!$A$1:$B$16,2,TRUE),P1251,\" 71....+0000000000000000 \"))","v":""},null,""]
[null,{"$f":"IF(I1252=\"\",\"\",ROWS($A$3:A1252))","v":""},"","","","","","","","",{"$f":"IFERROR(SMALL($B$3:$B$2002,ROWS($A$3:A1252)),\"\")","v":""},"","",null,"","","",{"$f":"IF(O1252=\"\",\"\",CONCATENATE(\"*11....+\",VLOOKUP(16-(LEN(N1252)),'1'!$A$1:$B$16,2,TRUE),N1252,\" 81..40+\",VLOOKUP(16-(LEN(O1252)),'1'!$A$1:$B$16,2,TRUE),O1252,\" 82..40+\",VLOOKUP(16-(LEN(O1252)),'1'!$A$1:$B$16,2,TRUE),P1252,\" 71....+0000000000000000 \"))","v":""},null,""]
[null,{"$f":"IF(I1253=\"\",\"\",ROWS($A$3:A1253))","v":""},"","","","","","","","",{"$f":"IFERROR(SMALL($B$3:$B$2002,ROWS($A$3:A1253)),\"\")","v":""},"","",null,"","","",{"$f":"IF(O1253=\"\",\"\",CONCATENATE(\"*11....+\",VLOOKUP(16-(LEN(N1253)),'1'!$A$1:$B$16,2,TRUE),N1253,\" 81..40+\",VLOOKUP(16-(LEN(O1253)),'1'!$A$1:$B$16,2,TRUE),O1253,\" 82..40+\",VLOOKUP(16-(LEN(O1253)),'1'!$A$1:$B$16,2,TRUE),P1253,\" 71....+0000000000000000 \"))","v":""},null,""]
[null,{"$f":"IF(I1254=\"\",\"\",ROWS($A$3:A1254))","v":""},"","","","","","","","",{"$f":"IFERROR(SMALL($B$3:$B$2002,ROWS($A$3:A1254)),\"\")","v":""},"","",null,"","","",{"$f":"IF(O1254=\"\",\"\",CONCATENATE(\"*11....+\",VLOOKUP(16-(LEN(N1254)),'1'!$A$1:$B$16,2,TRUE),N1254,\" 81..40+\",VLOOKUP(16-(LEN(O1254)),'1'!$A$1:$B$16,2,TRUE),O1254,\" 82..40+\",VLOOKUP(16-(LEN(O1254)),'1'!$A$1:$B$16,2,TRUE),P1254,\" 71....+0000000000000000 \"))","v":""},null,""]
[null,{"$f":"IF(I1255=\"\",\"\",ROWS($A$3:A1255))","v":""},"","","","","","","","",{"$f":"IFERROR(SMALL($B$3:$B$2002,ROWS($A$3:A1255)),\"\")","v":""},"","",null,"","","",{"$f":"IF(O1255=\"\",\"\",CONCATENATE(\"*11....+\",VLOOKUP(16-(LEN(N1255)),'1'!$A$1:$B$16,2,TRUE),N1255,\" 81..40+\",VLOOKUP(16-(LEN(O1255)),'1'!$A$1:$B$16,2,TRUE),O1255,\" 82..40+\",VLOOKUP(16-(LEN(O1255)),'1'!$A$1:$B$16,2,TRUE),P1255,\" 71....+0000000000000000 \"))","v":""},null,""]
[null,{"$f":"IF(I1256=\"\",\"\",ROWS($A$3:A1256))","v":""},"","","","","","","","",{"$f":"IFERROR(SMALL($B$3:$B$2002,ROWS($A$3:A1256)),\"\")","v":""},"","",null,"","","",{"$f":"IF(O1256=\"\",\"\",CONCATENATE(\"*11....+\",VLOOKUP(16-(LEN(N1256)),'1'!$A$1:$B$16,2,TRUE),N1256,\" 81..40+\",VLOOKUP(16-(LEN(O1256)),'1'!$A$1:$B$16,2,TRUE),O1256,\" 82..40+\",VLOOKUP(16-(LEN(O1256)),'1'!$A$1:$B$16,2,TRUE),P1256,\" 71....+0000000000000000 \"))","v":""},null,""]
[null,{"$f":"IF(I1257=\"\",\"\",ROWS($A$3:A1257))","v":""},"","","","","","","","",{"$f":"IFERROR(SMALL($B$3:$B$2002,ROWS($A$3:A1257)),\"\")","v":""},"","",null,"","","",{"$f":"IF(O1257=\"\",\"\",CONCATENATE(\"*11....+\",VLOOKUP(16-(LEN(N1257)),'1'!$A$1:$B$16,2,TRUE),N1257,\" 81..40+\",VLOOKUP(16-(LEN(O1257)),'1'!$A$1:$B$16,2,TRUE),O1257,\" 82..40+\",VLOOKUP(16-(LEN(O1257)),'1'!$A$1:$B$16,2,TRUE),P1257,\" 71....+0000000000000000 \"))","v":""},null,""]
[null,{"$f":"IF(I1258=\"\",\"\",ROWS($A$3:A1258))","v":""},"","","","","","","","",{"$f":"IFERROR(SMALL($B$3:$B$2002,ROWS($A$3:A1258)),\"\")","v":""},"","",null,"","","",{"$f":"IF(O1258=\"\",\"\",CONCATENATE(\"*11....+\",VLOOKUP(16-(LEN(N1258)),'1'!$A$1:$B$16,2,TRUE),N1258,\" 81..40+\",VLOOKUP(16-(LEN(O1258)),'1'!$A$1:$B$16,2,TRUE),O1258,\" 82..40+\",VLOOKUP(16-(LEN(O1258)),'1'!$A$1:$B$16,2,TRUE),P1258,\" 71....+0000000000000000 \"))","v":""},null,""]
[null,{"$f":"IF(I1259=\"\",\"\",ROWS($A$3:A1259))","v":""},"","","","","","","","",{"$f":"IFERROR(SMALL($B$3:$B$2002,ROWS($A$3:A1259)),\"\")","v":""},"","",null,"","","",{"$f":"IF(O1259=\"\",\"\",CONCATENATE(\"*11....+\",VLOOKUP(16-(LEN(N1259)),'1'!$A$1:$B$16,2,TRUE),N1259,\" 81..40+\",VLOOKUP(16-(LEN(O1259)),'1'!$A$1:$B$16,2,TRUE),O1259,\" 82..40+\",VLOOKUP(16-(LEN(O1259)),'1'!$A$1:$B$16,2,TRUE),P1259,\" 71....+0000000000000000 \"))","v":""},null,""]
[null,{"$f":"IF(I1260=\"\",\"\",ROWS($A$3:A1260))","v":""},"","","","","","","","",{"$f":"IFERROR(SMALL($B$3:$B$2002,ROWS($A$3:A1260)),\"\")","v":""},"","",null,"","","",{"$f":"IF(O1260=\"\",\"\",CONCATENATE(\"*11....+\",VLOOKUP(16-(LEN(N1260)),'1'!$A$1:$B$16,2,TRUE),N1260,\" 81..40+\",VLOOKUP(16-(LEN(O1260)),'1'!$A$1:$B$16,2,TRUE),O1260,\" 82..40+\",VLOOKUP(16-(LEN(O1260)),'1'!$A$1:$B$16,2,TRUE),P1260,\" 71....+0000000000000000 \"))","v":""},null,""]
[null,{"$f":"IF(I1261=\"\",\"\",ROWS($A$3:A1261))","v":""},"","","","","","","","",{"$f":"IFERROR(SMALL($B$3:$B$2002,ROWS($A$3:A1261)),\"\")","v":""},"","",null,"","","",{"$f":"IF(O1261=\"\",\"\",CONCATENATE(\"*11....+\",VLOOKUP(16-(LEN(N1261)),'1'!$A$1:$B$16,2,TRUE),N1261,\" 81..40+\",VLOOKUP(16-(LEN(O1261)),'1'!$A$1:$B$16,2,TRUE),O1261,\" 82..40+\",VLOOKUP(16-(LEN(O1261)),'1'!$A$1:$B$16,2,TRUE),P1261,\" 71....+0000000000000000 \"))","v":""},null,""]
[null,{"$f":"IF(I1262=\"\",\"\",ROWS($A$3:A1262))","v":""},"","","","","","","","",{"$f":"IFERROR(SMALL($B$3:$B$2002,ROWS($A$3:A1262)),\"\")","v":""},"","",null,"","","",{"$f":"IF(O1262=\"\",\"\",CONCATENATE(\"*11....+\",VLOOKUP(16-(LEN(N1262)),'1'!$A$1:$B$16,2,TRUE),N1262,\" 81..40+\",VLOOKUP(16-(LEN(O1262)),'1'!$A$1:$B$16,2,TRUE),O1262,\" 82..40+\",VLOOKUP(16-(LEN(O1262)),'1'!$A$1:$B$16,2,TRUE),P1262,\" 71....+0000000000000000 \"))","v":""},null,""]
[null,{"$f":"IF(I1263=\"\",\"\",ROWS($A$3:A1263))","v":""},"","","","","","","","",{"$f":"IFERROR(SMALL($B$3:$B$2002,ROWS($A$3:A1263)),\"\")","v":""},"","",null,"","","",{"$f":"IF(O1263=\"\",\"\",CONCATENATE(\"*11....+\",VLOOKUP(16-(LEN(N1263)),'1'!$A$1:$B$16,2,TRUE),N1263,\" 81..40+\",VLOOKUP(16-(LEN(O1263)),'1'!$A$1:$B$16,2,TRUE),O1263,\" 82..40+\",VLOOKUP(16-(LEN(O1263)),'1'!$A$1:$B$16,2,TRUE),P1263,\" 71....+0000000000000000 \"))","v":""},null,""]
[null,{"$f":"IF(I1264=\"\",\"\",ROWS($A$3:A1264))","v":""},"","","","","","","","",{"$f":"IFERROR(SMALL($B$3:$B$2002,ROWS($A$3:A1264)),\"\")","v":""},"","",null,"","","",{"$f":"IF(O1264=\"\",\"\",CONCATENATE(\"*11....+\",VLOOKUP(16-(LEN(N1264)),'1'!$A$1:$B$16,2,TRUE),N1264,\" 81..40+\",VLOOKUP(16-(LEN(O1264)),'1'!$A$1:$B$16,2,TRUE),O1264,\" 82..40+\",VLOOKUP(16-(LEN(O1264)),'1'!$A$1:$B$16,2,TRUE),P1264,\" 71....+0000000000000000 \"))","v":""},null,""]
[null,{"$f":"IF(I1265=\"\",\"\",ROWS($A$3:A1265))","v":""},"","","","","","","","",{"$f":"IFERROR(SMALL($B$3:$B$2002,ROWS($A$3:A1265)),\"\")","v":""},"","",null,"","","",{"$f":"IF(O1265=\"\",\"\",CONCATENATE(\"*11....+\",VLOOKUP(16-(LEN(N1265)),'1'!$A$1:$B$16,2,TRUE),N1265,\" 81..40+\",VLOOKUP(16-(LEN(O1265)),'1'!$A$1:$B$16,2,TRUE),O1265,\" 82..40+\",VLOOKUP(16-(LEN(O1265)),'1'!$A$1:$B$16,2,TRUE),P1265,\" 71....+0000000000000000 \"))","v":""},null,""]
[null,{"$f":"IF(I1266=\"\",\"\",ROWS($A$3:A1266))","v":""},"","","","","","","","",{"$f":"IFERROR(SMALL($B$3:$B$2002,ROWS($A$3:A1266)),\"\")","v":""},"","",null,"","","",{"$f":"IF(O1266=\"\",\"\",CONCATENATE(\"*11....+\",VLOOKUP(16-(LEN(N1266)),'1'!$A$1:$B$16,2,TRUE),N1266,\" 81..40+\",VLOOKUP(16-(LEN(O1266)),'1'!$A$1:$B$16,2,TRUE),O1266,\" 82..40+\",VLOOKUP(16-(LEN(O1266)),'1'!$A$1:$B$16,2,TRUE),P1266,\" 71....+0000000000000000 \"))","v":""},null,""]
[null,{"$f":"IF(I1267=\"\",\"\",ROWS($A$3:A1267))","v":""},"","","","","","","","",{"$f":"IFERROR(SMALL($B$3:$B$2002,ROWS($A$3:A1267)),\"\")","v":""},"","",null,"","","",{"$f":"IF(O1267=\"\",\"\",CONCATENATE(\"*11....+\",VLOOKUP(16-(LEN(N1267)),'1'!$A$1:$B$16,2,TRUE),N1267,\" 81..40+\",VLOOKUP(16-(LEN(O1267)),'1'!$A$1:$B$16,2,TRUE),O1267,\" 82..40+\",VLOOKUP(16-(LEN(O1267)),'1'!$A$1:$B$16,2,TRUE),P1267,\" 71....+0000000000000000 \"))","v":""},null,""]
[null,{"$f":"IF(I1268=\"\",\"\",ROWS($A$3:A1268))","v":""},"","","","","","","","",{"$f":"IFERROR(SMALL($B$3:$B$2002,ROWS($A$3:A1268)),\"\")","v":""},"","",null,"","","",{"$f":"IF(O1268=\"\",\"\",CONCATENATE(\"*11....+\",VLOOKUP(16-(LEN(N1268)),'1'!$A$1:$B$16,2,TRUE),N1268,\" 81..40+\",VLOOKUP(16-(LEN(O1268)),'1'!$A$1:$B$16,2,TRUE),O1268,\" 82..40+\",VLOOKUP(16-(LEN(O1268)),'1'!$A$1:$B$16,2,TRUE),P1268,\" 71....+0000000000000000 \"))","v":""},null,""]
[null,{"$f":"IF(I1269=\"\",\"\",ROWS($A$3:A1269))","v":""},"","","","","","","","",{"$f":"IFERROR(SMALL($B$3:$B$2002,ROWS($A$3:A1269)),\"\")","v":""},"","",null,"","","",{"$f":"IF(O1269=\"\",\"\",CONCATENATE(\"*11....+\",VLOOKUP(16-(LEN(N1269)),'1'!$A$1:$B$16,2,TRUE),N1269,\" 81..40+\",VLOOKUP(16-(LEN(O1269)),'1'!$A$1:$B$16,2,TRUE),O1269,\" 82..40+\",VLOOKUP(16-(LEN(O1269)),'1'!$A$1:$B$16,2,TRUE),P1269,\" 71....+0000000000000000 \"))","v":""},null,""]
[null,{"$f":"IF(I1270=\"\",\"\",ROWS($A$3:A1270))","v":""},"","","","","","","","",{"$f":"IFERROR(SMALL($B$3:$B$2002,ROWS($A$3:A1270)),\"\")","v":""},"","",null,"","","",{"$f":"IF(O1270=\"\",\"\",CONCATENATE(\"*11....+\",VLOOKUP(16-(LEN(N1270)),'1'!$A$1:$B$16,2,TRUE),N1270,\" 81..40+\",VLOOKUP(16-(LEN(O1270)),'1'!$A$1:$B$16,2,TRUE),O1270,\" 82..40+\",VLOOKUP(16-(LEN(O1270)),'1'!$A$1:$B$16,2,TRUE),P1270,\" 71....+0000000000000000 \"))","v":""},null,""]
[null,{"$f":"IF(I1271=\"\",\"\",ROWS($A$3:A1271))","v":""},"","","","","","","","",{"$f":"IFERROR(SMALL($B$3:$B$2002,ROWS($A$3:A1271)),\"\")","v":""},"","",null,"","","",{"$f":"IF(O1271=\"\",\"\",CONCATENATE(\"*11....+\",VLOOKUP(16-(LEN(N1271)),'1'!$A$1:$B$16,2,TRUE),N1271,\" 81..40+\",VLOOKUP(16-(LEN(O1271)),'1'!$A$1:$B$16,2,TRUE),O1271,\" 82..40+\",VLOOKUP(16-(LEN(O1271)),'1'!$A$1:$B$16,2,TRUE),P1271,\" 71....+0000000000000000 \"))","v":""},null,""]
[null,{"$f":"IF(I1272=\"\",\"\",ROWS($A$3:A1272))","v":""},"","","","","","","","",{"$f":"IFERROR(SMALL($B$3:$B$2002,ROWS($A$3:A1272)),\"\")","v":""},"","",null,"","","",{"$f":"IF(O1272=\"\",\"\",CONCATENATE(\"*11....+\",VLOOKUP(16-(LEN(N1272)),'1'!$A$1:$B$16,2,TRUE),N1272,\" 81..40+\",VLOOKUP(16-(LEN(O1272)),'1'!$A$1:$B$16,2,TRUE),O1272,\" 82..40+\",VLOOKUP(16-(LEN(O1272)),'1'!$A$1:$B$16,2,TRUE),P1272,\" 71....+0000000000000000 \"))","v":""},null,""]
[null,{"$f":"IF(I1273=\"\",\"\",ROWS($A$3:A1273))","v":""},"","","","","","","","",{"$f":"IFERROR(SMALL($B$3:$B$2002,ROWS($A$3:A1273)),\"\")","v":""},"","",null,"","","",{"$f":"IF(O1273=\"\",\"\",CONCATENATE(\"*11....+\",VLOOKUP(16-(LEN(N1273)),'1'!$A$1:$B$16,2,TRUE),N1273,\" 81..40+\",VLOOKUP(16-(LEN(O1273)),'1'!$A$1:$B$16,2,TRUE),O1273,\" 82..40+\",VLOOKUP(16-(LEN(O1273)),'1'!$A$1:$B$16,2,TRUE),P1273,\" 71....+0000000000000000 \"))","v":""},null,""]
[null,{"$f":"IF(I1274=\"\",\"\",ROWS($A$3:A1274))","v":""},"","","","","","","","",{"$f":"IFERROR(SMALL($B$3:$B$2002,ROWS($A$3:A1274)),\"\")","v":""},"","",null,"","","",{"$f":"IF(O1274=\"\",\"\",CONCATENATE(\"*11....+\",VLOOKUP(16-(LEN(N1274)),'1'!$A$1:$B$16,2,TRUE),N1274,\" 81..40+\",VLOOKUP(16-(LEN(O1274)),'1'!$A$1:$B$16,2,TRUE),O1274,\" 82..40+\",VLOOKUP(16-(LEN(O1274)),'1'!$A$1:$B$16,2,TRUE),P1274,\" 71....+0000000000000000 \"))","v":""},null,""]
[null,{"$f":"IF(I1275=\"\",\"\",ROWS($A$3:A1275))","v":""},"","","","","","","","",{"$f":"IFERROR(SMALL($B$3:$B$2002,ROWS($A$3:A1275)),\"\")","v":""},"","",null,"","","",{"$f":"IF(O1275=\"\",\"\",CONCATENATE(\"*11....+\",VLOOKUP(16-(LEN(N1275)),'1'!$A$1:$B$16,2,TRUE),N1275,\" 81..40+\",VLOOKUP(16-(LEN(O1275)),'1'!$A$1:$B$16,2,TRUE),O1275,\" 82..40+\",VLOOKUP(16-(LEN(O1275)),'1'!$A$1:$B$16,2,TRUE),P1275,\" 71....+0000000000000000 \"))","v":""},null,""]
[null,{"$f":"IF(I1276=\"\",\"\",ROWS($A$3:A1276))","v":""},"","","","","","","","",{"$f":"IFERROR(SMALL($B$3:$B$2002,ROWS($A$3:A1276)),\"\")","v":""},"","",null,"","","",{"$f":"IF(O1276=\"\",\"\",CONCATENATE(\"*11....+\",VLOOKUP(16-(LEN(N1276)),'1'!$A$1:$B$16,2,TRUE),N1276,\" 81..40+\",VLOOKUP(16-(LEN(O1276)),'1'!$A$1:$B$16,2,TRUE),O1276,\" 82..40+\",VLOOKUP(16-(LEN(O1276)),'1'!$A$1:$B$16,2,TRUE),P1276,\" 71....+0000000000000000 \"))","v":""},null,""]
[null,{"$f":"IF(I1277=\"\",\"\",ROWS($A$3:A1277))","v":""},"","","","","","","","",{"$f":"IFERROR(SMALL($B$3:$B$2002,ROWS($A$3:A1277)),\"\")","v":""},"","",null,"","","",{"$f":"IF(O1277=\"\",\"\",CONCATENATE(\"*11....+\",VLOOKUP(16-(LEN(N1277)),'1'!$A$1:$B$16,2,TRUE),N1277,\" 81..40+\",VLOOKUP(16-(LEN(O1277)),'1'!$A$1:$B$16,2,TRUE),O1277,\" 82..40+\",VLOOKUP(16-(LEN(O1277)),'1'!$A$1:$B$16,2,TRUE),P1277,\" 71....+0000000000000000 \"))","v":""},null,""]
[null,{"$f":"IF(I1278=\"\",\"\",ROWS($A$3:A1278))","v":""},"","","","","","","","",{"$f":"IFERROR(SMALL($B$3:$B$2002,ROWS($A$3:A1278)),\"\")","v":""},"","",null,"","","",{"$f":"IF(O1278=\"\",\"\",CONCATENATE(\"*11....+\",VLOOKUP(16-(LEN(N1278)),'1'!$A$1:$B$16,2,TRUE),N1278,\" 81..40+\",VLOOKUP(16-(LEN(O1278)),'1'!$A$1:$B$16,2,TRUE),O1278,\" 82..40+\",VLOOKUP(16-(LEN(O1278)),'1'!$A$1:$B$16,2,TRUE),P1278,\" 71....+0000000000000000 \"))","v":""},null,""]
[null,{"$f":"IF(I1279=\"\",\"\",ROWS($A$3:A1279))","v":""},"","","","","","","","",{"$f":"IFERROR(SMALL($B$3:$B$2002,ROWS($A$3:A1279)),\"\")","v":""},"","",null,"","","",{"$f":"IF(O1279=\"\",\"\",CONCATENATE(\"*11....+\",VLOOKUP(16-(LEN(N1279)),'1'!$A$1:$B$16,2,TRUE),N1279,\" 81..40+\",VLOOKUP(16-(LEN(O1279)),'1'!$A$1:$B$16,2,TRUE),O1279,\" 82..40+\",VLOOKUP(16-(LEN(O1279)),'1'!$A$1:$B$16,2,TRUE),P1279,\" 71....+0000000000000000 \"))","v":""},null,""]
[null,{"$f":"IF(I1280=\"\",\"\",ROWS($A$3:A1280))","v":""},"","","","","","","","",{"$f":"IFERROR(SMALL($B$3:$B$2002,ROWS($A$3:A1280)),\"\")","v":""},"","",null,"","","",{"$f":"IF(O1280=\"\",\"\",CONCATENATE(\"*11....+\",VLOOKUP(16-(LEN(N1280)),'1'!$A$1:$B$16,2,TRUE),N1280,\" 81..40+\",VLOOKUP(16-(LEN(O1280)),'1'!$A$1:$B$16,2,TRUE),O1280,\" 82..40+\",VLOOKUP(16-(LEN(O1280)),'1'!$A$1:$B$16,2,TRUE),P1280,\" 71....+0000000000000000 \"))","v":""},null,""]
[null,{"$f":"IF(I1281=\"\",\"\",ROWS($A$3:A1281))","v":""},"","","","","","","","",{"$f":"IFERROR(SMALL($B$3:$B$2002,ROWS($A$3:A1281)),\"\")","v":""},"","",null,"","","",{"$f":"IF(O1281=\"\",\"\",CONCATENATE(\"*11....+\",VLOOKUP(16-(LEN(N1281)),'1'!$A$1:$B$16,2,TRUE),N1281,\" 81..40+\",VLOOKUP(16-(LEN(O1281)),'1'!$A$1:$B$16,2,TRUE),O1281,\" 82..40+\",VLOOKUP(16-(LEN(O1281)),'1'!$A$1:$B$16,2,TRUE),P1281,\" 71....+0000000000000000 \"))","v":""},null,""]
[null,{"$f":"IF(I1282=\"\",\"\",ROWS($A$3:A1282))","v":""},"","","","","","","","",{"$f":"IFERROR(SMALL($B$3:$B$2002,ROWS($A$3:A1282)),\"\")","v":""},"","",null,"","","",{"$f":"IF(O1282=\"\",\"\",CONCATENATE(\"*11....+\",VLOOKUP(16-(LEN(N1282)),'1'!$A$1:$B$16,2,TRUE),N1282,\" 81..40+\",VLOOKUP(16-(LEN(O1282)),'1'!$A$1:$B$16,2,TRUE),O1282,\" 82..40+\",VLOOKUP(16-(LEN(O1282)),'1'!$A$1:$B$16,2,TRUE),P1282,\" 71....+0000000000000000 \"))","v":""},null,""]
[null,{"$f":"IF(I1283=\"\",\"\",ROWS($A$3:A1283))","v":""},"","","","","","","","",{"$f":"IFERROR(SMALL($B$3:$B$2002,ROWS($A$3:A1283)),\"\")","v":""},"","",null,"","","",{"$f":"IF(O1283=\"\",\"\",CONCATENATE(\"*11....+\",VLOOKUP(16-(LEN(N1283)),'1'!$A$1:$B$16,2,TRUE),N1283,\" 81..40+\",VLOOKUP(16-(LEN(O1283)),'1'!$A$1:$B$16,2,TRUE),O1283,\" 82..40+\",VLOOKUP(16-(LEN(O1283)),'1'!$A$1:$B$16,2,TRUE),P1283,\" 71....+0000000000000000 \"))","v":""},null,""]
[null,{"$f":"IF(I1284=\"\",\"\",ROWS($A$3:A1284))","v":""},{"$f":"IF(LEN(A1284)=59,ROUND(VALUE(MID(A1284,23,9)),3),\"\")","v":""},{"$f":"IF(LEN(A1284)=24,\"\",\"\")","v":""},{"$f":"IF(LEN(A1284)=63,ROUND(VALUE(MID(A1284,23,12)),3),\"\")","v":""},{"$f":"IF(LEN(A1284)=59,ROUND(VALUE(MID(A1284,37,9)),3),\"\")","v":""},{"$f":"IF(LEN(A1284)=24,\"\",\"\")","v":""},{"$f":"IF(LEN(A1284)=63,ROUND(VALUE(MID(A1284,39,12)),3),\"\")","v":""},{"$f":"IF(AND(C1284=\"\",D1284=\"\",E1284=\"\"),\"\",ROUND(CONCATENATE(C1284,D1284,E1284),3))","v":""},{"$f":"IF(AND(C1284=\"\",D1284=\"\",E1284=\"\"),\"\",ROUND(CONCATENATE(F1284,G1284,H1284),3))","v":""},{"$f":"IFERROR(SMALL($B$3:$B$2002,ROWS($A$3:A1284)),\"\")","v":""},{"$f":"IF(K1284=\"\",\"\",ROUND(VALUE(VLOOKUP(K1284,$B$3:$J$2002,8,TRUE)),3))","v":""},{"$f":"IF(K1284=\"\",\"\",ROUND(VALUE(VLOOKUP(K1284,$B$3:$J$2002,9,TRUE)),3))","v":""},null,{"$f":"IF(L1284=\"\",\"\",L1284/0.001)","v":""},"",{"$f":"IF(O1284=\"\",\"\",16-LEN(N1284))","v":""},{"$f":"IF(O1284=\"\",\"\",CONCATENATE(\"*11....+\",VLOOKUP(16-(LEN(N1284)),'1'!$A$1:$B$16,2,TRUE),N1284,\" 81..40+\",VLOOKUP(16-(LEN(O1284)),'1'!$A$1:$B$16,2,TRUE),O1284,\" 82..40+\",VLOOKUP(16-(LEN(O1284)),'1'!$A$1:$B$16,2,TRUE),P1284,\" 71....+0000000000000000 \"))","v":""},null,{"$f":"IF(O1284=\"\",\"\",CONCATENATE(N1284,\",\",L1284,\",\",M1284))","v":""}]
[null,{"$f":"IF(I1285=\"\",\"\",ROWS($A$3:A1285))","v":""},"","","","","","","","",{"$f":"IFERROR(SMALL($B$3:$B$2002,ROWS($A$3:A1285)),\"\")","v":""},"","",null,"","","",{"$f":"IF(O1285=\"\",\"\",CONCATENATE(\"*11....+\",VLOOKUP(16-(LEN(N1285)),'1'!$A$1:$B$16,2,TRUE),N1285,\" 81..40+\",VLOOKUP(16-(LEN(O1285)),'1'!$A$1:$B$16,2,TRUE),O1285,\" 82..40+\",VLOOKUP(16-(LEN(O1285)),'1'!$A$1:$B$16,2,TRUE),P1285,\" 71....+0000000000000000 \"))","v":""},null,""]
[null,{"$f":"IF(I1286=\"\",\"\",ROWS($A$3:A1286))","v":""},"","","","","","","","",{"$f":"IFERROR(SMALL($B$3:$B$2002,ROWS($A$3:A1286)),\"\")","v":""},"","",null,"","","",{"$f":"IF(O1286=\"\",\"\",CONCATENATE(\"*11....+\",VLOOKUP(16-(LEN(N1286)),'1'!$A$1:$B$16,2,TRUE),N1286,\" 81..40+\",VLOOKUP(16-(LEN(O1286)),'1'!$A$1:$B$16,2,TRUE),O1286,\" 82..40+\",VLOOKUP(16-(LEN(O1286)),'1'!$A$1:$B$16,2,TRUE),P1286,\" 71....+0000000000000000 \"))","v":""},null,""]
[null,{"$f":"IF(I1287=\"\",\"\",ROWS($A$3:A1287))","v":""},"","","","","","","","",{"$f":"IFERROR(SMALL($B$3:$B$2002,ROWS($A$3:A1287)),\"\")","v":""},"","",null,"","","",{"$f":"IF(O1287=\"\",\"\",CONCATENATE(\"*11....+\",VLOOKUP(16-(LEN(N1287)),'1'!$A$1:$B$16,2,TRUE),N1287,\" 81..40+\",VLOOKUP(16-(LEN(O1287)),'1'!$A$1:$B$16,2,TRUE),O1287,\" 82..40+\",VLOOKUP(16-(LEN(O1287)),'1'!$A$1:$B$16,2,TRUE),P1287,\" 71....+0000000000000000 \"))","v":""},null,""]
[null,{"$f":"IF(I1288=\"\",\"\",ROWS($A$3:A1288))","v":""},"","","","","","","","",{"$f":"IFERROR(SMALL($B$3:$B$2002,ROWS($A$3:A1288)),\"\")","v":""},"","",null,"","","",{"$f":"IF(O1288=\"\",\"\",CONCATENATE(\"*11....+\",VLOOKUP(16-(LEN(N1288)),'1'!$A$1:$B$16,2,TRUE),N1288,\" 81..40+\",VLOOKUP(16-(LEN(O1288)),'1'!$A$1:$B$16,2,TRUE),O1288,\" 82..40+\",VLOOKUP(16-(LEN(O1288)),'1'!$A$1:$B$16,2,TRUE),P1288,\" 71....+0000000000000000 \"))","v":""},null,""]
[null,{"$f":"IF(I1289=\"\",\"\",ROWS($A$3:A1289))","v":""},"","","","","","","","",{"$f":"IFERROR(SMALL($B$3:$B$2002,ROWS($A$3:A1289)),\"\")","v":""},"","",null,"","","",{"$f":"IF(O1289=\"\",\"\",CONCATENATE(\"*11....+\",VLOOKUP(16-(LEN(N1289)),'1'!$A$1:$B$16,2,TRUE),N1289,\" 81..40+\",VLOOKUP(16-(LEN(O1289)),'1'!$A$1:$B$16,2,TRUE),O1289,\" 82..40+\",VLOOKUP(16-(LEN(O1289)),'1'!$A$1:$B$16,2,TRUE),P1289,\" 71....+0000000000000000 \"))","v":""},null,""]
[null,{"$f":"IF(I1290=\"\",\"\",ROWS($A$3:A1290))","v":""},"","","","","","","","",{"$f":"IFERROR(SMALL($B$3:$B$2002,ROWS($A$3:A1290)),\"\")","v":""},"","",null,"","","",{"$f":"IF(O1290=\"\",\"\",CONCATENATE(\"*11....+\",VLOOKUP(16-(LEN(N1290)),'1'!$A$1:$B$16,2,TRUE),N1290,\" 81..40+\",VLOOKUP(16-(LEN(O1290)),'1'!$A$1:$B$16,2,TRUE),O1290,\" 82..40+\",VLOOKUP(16-(LEN(O1290)),'1'!$A$1:$B$16,2,TRUE),P1290,\" 71....+0000000000000000 \"))","v":""},null,""]
[null,{"$f":"IF(I1291=\"\",\"\",ROWS($A$3:A1291))","v":""},"","","","","","","","",{"$f":"IFERROR(SMALL($B$3:$B$2002,ROWS($A$3:A1291)),\"\")","v":""},"","",null,"","","",{"$f":"IF(O1291=\"\",\"\",CONCATENATE(\"*11....+\",VLOOKUP(16-(LEN(N1291)),'1'!$A$1:$B$16,2,TRUE),N1291,\" 81..40+\",VLOOKUP(16-(LEN(O1291)),'1'!$A$1:$B$16,2,TRUE),O1291,\" 82..40+\",VLOOKUP(16-(LEN(O1291)),'1'!$A$1:$B$16,2,TRUE),P1291,\" 71....+0000000000000000 \"))","v":""},null,""]
[null,{"$f":"IF(I1292=\"\",\"\",ROWS($A$3:A1292))","v":""},"","","","","","","","",{"$f":"IFERROR(SMALL($B$3:$B$2002,ROWS($A$3:A1292)),\"\")","v":""},"","",null,"","","",{"$f":"IF(O1292=\"\",\"\",CONCATENATE(\"*11....+\",VLOOKUP(16-(LEN(N1292)),'1'!$A$1:$B$16,2,TRUE),N1292,\" 81..40+\",VLOOKUP(16-(LEN(O1292)),'1'!$A$1:$B$16,2,TRUE),O1292,\" 82..40+\",VLOOKUP(16-(LEN(O1292)),'1'!$A$1:$B$16,2,TRUE),P1292,\" 71....+0000000000000000 \"))","v":""},null,""]
[null,{"$f":"IF(I1293=\"\",\"\",ROWS($A$3:A1293))","v":""},"","","","","","","","",{"$f":"IFERROR(SMALL($B$3:$B$2002,ROWS($A$3:A1293)),\"\")","v":""},"","",null,"","","",{"$f":"IF(O1293=\"\",\"\",CONCATENATE(\"*11....+\",VLOOKUP(16-(LEN(N1293)),'1'!$A$1:$B$16,2,TRUE),N1293,\" 81..40+\",VLOOKUP(16-(LEN(O1293)),'1'!$A$1:$B$16,2,TRUE),O1293,\" 82..40+\",VLOOKUP(16-(LEN(O1293)),'1'!$A$1:$B$16,2,TRUE),P1293,\" 71....+0000000000000000 \"))","v":""},null,""]
[null,{"$f":"IF(I1294=\"\",\"\",ROWS($A$3:A1294))","v":""},"","","","","","","","",{"$f":"IFERROR(SMALL($B$3:$B$2002,ROWS($A$3:A1294)),\"\")","v":""},"","",null,"","","",{"$f":"IF(O1294=\"\",\"\",CONCATENATE(\"*11....+\",VLOOKUP(16-(LEN(N1294)),'1'!$A$1:$B$16,2,TRUE),N1294,\" 81..40+\",VLOOKUP(16-(LEN(O1294)),'1'!$A$1:$B$16,2,TRUE),O1294,\" 82..40+\",VLOOKUP(16-(LEN(O1294)),'1'!$A$1:$B$16,2,TRUE),P1294,\" 71....+0000000000000000 \"))","v":""},null,""]
[null,{"$f":"IF(I1295=\"\",\"\",ROWS($A$3:A1295))","v":""},"","","","","","","","",{"$f":"IFERROR(SMALL($B$3:$B$2002,ROWS($A$3:A1295)),\"\")","v":""},"","",null,"","","",{"$f":"IF(O1295=\"\",\"\",CONCATENATE(\"*11....+\",VLOOKUP(16-(LEN(N1295)),'1'!$A$1:$B$16,2,TRUE),N1295,\" 81..40+\",VLOOKUP(16-(LEN(O1295)),'1'!$A$1:$B$16,2,TRUE),O1295,\" 82..40+\",VLOOKUP(16-(LEN(O1295)),'1'!$A$1:$B$16,2,TRUE),P1295,\" 71....+0000000000000000 \"))","v":""},null,""]
[null,{"$f":"IF(I1296=\"\",\"\",ROWS($A$3:A1296))","v":""},"","","","","","","","",{"$f":"IFERROR(SMALL($B$3:$B$2002,ROWS($A$3:A1296)),\"\")","v":""},"","",null,"","","",{"$f":"IF(O1296=\"\",\"\",CONCATENATE(\"*11....+\",VLOOKUP(16-(LEN(N1296)),'1'!$A$1:$B$16,2,TRUE),N1296,\" 81..40+\",VLOOKUP(16-(LEN(O1296)),'1'!$A$1:$B$16,2,TRUE),O1296,\" 82..40+\",VLOOKUP(16-(LEN(O1296)),'1'!$A$1:$B$16,2,TRUE),P1296,\" 71....+0000000000000000 \"))","v":""},null,""]
[null,{"$f":"IF(I1297=\"\",\"\",ROWS($A$3:A1297))","v":""},"","","","","","","","",{"$f":"IFERROR(SMALL($B$3:$B$2002,ROWS($A$3:A1297)),\"\")","v":""},"","",null,"","","",{"$f":"IF(O1297=\"\",\"\",CONCATENATE(\"*11....+\",VLOOKUP(16-(LEN(N1297)),'1'!$A$1:$B$16,2,TRUE),N1297,\" 81..40+\",VLOOKUP(16-(LEN(O1297)),'1'!$A$1:$B$16,2,TRUE),O1297,\" 82..40+\",VLOOKUP(16-(LEN(O1297)),'1'!$A$1:$B$16,2,TRUE),P1297,\" 71....+0000000000000000 \"))","v":""},null,""]
[null,{"$f":"IF(I1298=\"\",\"\",ROWS($A$3:A1298))","v":""},"","","","","","","","",{"$f":"IFERROR(SMALL($B$3:$B$2002,ROWS($A$3:A1298)),\"\")","v":""},"","",null,"","","",{"$f":"IF(O1298=\"\",\"\",CONCATENATE(\"*11....+\",VLOOKUP(16-(LEN(N1298)),'1'!$A$1:$B$16,2,TRUE),N1298,\" 81..40+\",VLOOKUP(16-(LEN(O1298)),'1'!$A$1:$B$16,2,TRUE),O1298,\" 82..40+\",VLOOKUP(16-(LEN(O1298)),'1'!$A$1:$B$16,2,TRUE),P1298,\" 71....+0000000000000000 \"))","v":""},null,""]
[null,{"$f":"IF(I1299=\"\",\"\",ROWS($A$3:A1299))","v":""},"","","","","","","","",{"$f":"IFERROR(SMALL($B$3:$B$2002,ROWS($A$3:A1299)),\"\")","v":""},"","",null,"","","",{"$f":"IF(O1299=\"\",\"\",CONCATENATE(\"*11....+\",VLOOKUP(16-(LEN(N1299)),'1'!$A$1:$B$16,2,TRUE),N1299,\" 81..40+\",VLOOKUP(16-(LEN(O1299)),'1'!$A$1:$B$16,2,TRUE),O1299,\" 82..40+\",VLOOKUP(16-(LEN(O1299)),'1'!$A$1:$B$16,2,TRUE),P1299,\" 71....+0000000000000000 \"))","v":""},null,""]
[null,{"$f":"IF(I1300=\"\",\"\",ROWS($A$3:A1300))","v":""},"","","","","","","","",{"$f":"IFERROR(SMALL($B$3:$B$2002,ROWS($A$3:A1300)),\"\")","v":""},"","",null,"","","",{"$f":"IF(O1300=\"\",\"\",CONCATENATE(\"*11....+\",VLOOKUP(16-(LEN(N1300)),'1'!$A$1:$B$16,2,TRUE),N1300,\" 81..40+\",VLOOKUP(16-(LEN(O1300)),'1'!$A$1:$B$16,2,TRUE),O1300,\" 82..40+\",VLOOKUP(16-(LEN(O1300)),'1'!$A$1:$B$16,2,TRUE),P1300,\" 71....+0000000000000000 \"))","v":""},null,""]
[null,{"$f":"IF(I1301=\"\",\"\",ROWS($A$3:A1301))","v":""},"","","","","","","","",{"$f":"IFERROR(SMALL($B$3:$B$2002,ROWS($A$3:A1301)),\"\")","v":""},"","",null,"","","",{"$f":"IF(O1301=\"\",\"\",CONCATENATE(\"*11....+\",VLOOKUP(16-(LEN(N1301)),'1'!$A$1:$B$16,2,TRUE),N1301,\" 81..40+\",VLOOKUP(16-(LEN(O1301)),'1'!$A$1:$B$16,2,TRUE),O1301,\" 82..40+\",VLOOKUP(16-(LEN(O1301)),'1'!$A$1:$B$16,2,TRUE),P1301,\" 71....+0000000000000000 \"))","v":""},null,""]
[null,{"$f":"IF(I1302=\"\",\"\",ROWS($A$3:A1302))","v":""},"","","","","","","","",{"$f":"IFERROR(SMALL($B$3:$B$2002,ROWS($A$3:A1302)),\"\")","v":""},"","",null,"","","",{"$f":"IF(O1302=\"\",\"\",CONCATENATE(\"*11....+\",VLOOKUP(16-(LEN(N1302)),'1'!$A$1:$B$16,2,TRUE),N1302,\" 81..40+\",VLOOKUP(16-(LEN(O1302)),'1'!$A$1:$B$16,2,TRUE),O1302,\" 82..40+\",VLOOKUP(16-(LEN(O1302)),'1'!$A$1:$B$16,2,TRUE),P1302,\" 71....+0000000000000000 \"))","v":""},null,""]
[null,{"$f":"IF(I1303=\"\",\"\",ROWS($A$3:A1303))","v":""},"","","","","","","","",{"$f":"IFERROR(SMALL($B$3:$B$2002,ROWS($A$3:A1303)),\"\")","v":""},"","",null,"","","",{"$f":"IF(O1303=\"\",\"\",CONCATENATE(\"*11....+\",VLOOKUP(16-(LEN(N1303)),'1'!$A$1:$B$16,2,TRUE),N1303,\" 81..40+\",VLOOKUP(16-(LEN(O1303)),'1'!$A$1:$B$16,2,TRUE),O1303,\" 82..40+\",VLOOKUP(16-(LEN(O1303)),'1'!$A$1:$B$16,2,TRUE),P1303,\" 71....+0000000000000000 \"))","v":""},null,""]
[null,{"$f":"IF(I1304=\"\",\"\",ROWS($A$3:A1304))","v":""},"","","","","","","","",{"$f":"IFERROR(SMALL($B$3:$B$2002,ROWS($A$3:A1304)),\"\")","v":""},"","",null,"","","",{"$f":"IF(O1304=\"\",\"\",CONCATENATE(\"*11....+\",VLOOKUP(16-(LEN(N1304)),'1'!$A$1:$B$16,2,TRUE),N1304,\" 81..40+\",VLOOKUP(16-(LEN(O1304)),'1'!$A$1:$B$16,2,TRUE),O1304,\" 82..40+\",VLOOKUP(16-(LEN(O1304)),'1'!$A$1:$B$16,2,TRUE),P1304,\" 71....+0000000000000000 \"))","v":""},null,""]
[null,{"$f":"IF(I1305=\"\",\"\",ROWS($A$3:A1305))","v":""},"","","","","","","","",{"$f":"IFERROR(SMALL($B$3:$B$2002,ROWS($A$3:A1305)),\"\")","v":""},"","",null,"","","",{"$f":"IF(O1305=\"\",\"\",CONCATENATE(\"*11....+\",VLOOKUP(16-(LEN(N1305)),'1'!$A$1:$B$16,2,TRUE),N1305,\" 81..40+\",VLOOKUP(16-(LEN(O1305)),'1'!$A$1:$B$16,2,TRUE),O1305,\" 82..40+\",VLOOKUP(16-(LEN(O1305)),'1'!$A$1:$B$16,2,TRUE),P1305,\" 71....+0000000000000000 \"))","v":""},null,""]
[null,{"$f":"IF(I1306=\"\",\"\",ROWS($A$3:A1306))","v":""},"","","","","","","","",{"$f":"IFERROR(SMALL($B$3:$B$2002,ROWS($A$3:A1306)),\"\")","v":""},"","",null,"","","",{"$f":"IF(O1306=\"\",\"\",CONCATENATE(\"*11....+\",VLOOKUP(16-(LEN(N1306)),'1'!$A$1:$B$16,2,TRUE),N1306,\" 81..40+\",VLOOKUP(16-(LEN(O1306)),'1'!$A$1:$B$16,2,TRUE),O1306,\" 82..40+\",VLOOKUP(16-(LEN(O1306)),'1'!$A$1:$B$16,2,TRUE),P1306,\" 71....+0000000000000000 \"))","v":""},null,""]
[null,{"$f":"IF(I1307=\"\",\"\",ROWS($A$3:A1307))","v":""},"","","","","","","","",{"$f":"IFERROR(SMALL($B$3:$B$2002,ROWS($A$3:A1307)),\"\")","v":""},"","",null,"","","",{"$f":"IF(O1307=\"\",\"\",CONCATENATE(\"*11....+\",VLOOKUP(16-(LEN(N1307)),'1'!$A$1:$B$16,2,TRUE),N1307,\" 81..40+\",VLOOKUP(16-(LEN(O1307)),'1'!$A$1:$B$16,2,TRUE),O1307,\" 82..40+\",VLOOKUP(16-(LEN(O1307)),'1'!$A$1:$B$16,2,TRUE),P1307,\" 71....+0000000000000000 \"))","v":""},null,""]
[null,{"$f":"IF(I1308=\"\",\"\",ROWS($A$3:A1308))","v":""},"","","","","","","","",{"$f":"IFERROR(SMALL($B$3:$B$2002,ROWS($A$3:A1308)),\"\")","v":""},"","",null,"","","",{"$f":"IF(O1308=\"\",\"\",CONCATENATE(\"*11....+\",VLOOKUP(16-(LEN(N1308)),'1'!$A$1:$B$16,2,TRUE),N1308,\" 81..40+\",VLOOKUP(16-(LEN(O1308)),'1'!$A$1:$B$16,2,TRUE),O1308,\" 82..40+\",VLOOKUP(16-(LEN(O1308)),'1'!$A$1:$B$16,2,TRUE),P1308,\" 71....+0000000000000000 \"))","v":""},null,""]
[null,{"$f":"IF(I1309=\"\",\"\",ROWS($A$3:A1309))","v":""},"","","","","","","","",{"$f":"IFERROR(SMALL($B$3:$B$2002,ROWS($A$3:A1309)),\"\")","v":""},"","",null,"","","",{"$f":"IF(O1309=\"\",\"\",CONCATENATE(\"*11....+\",VLOOKUP(16-(LEN(N1309)),'1'!$A$1:$B$16,2,TRUE),N1309,\" 81..40+\",VLOOKUP(16-(LEN(O1309)),'1'!$A$1:$B$16,2,TRUE),O1309,\" 82..40+\",VLOOKUP(16-(LEN(O1309)),'1'!$A$1:$B$16,2,TRUE),P1309,\" 71....+0000000000000000 \"))","v":""},null,""]
[null,{"$f":"IF(I1310=\"\",\"\",ROWS($A$3:A1310))","v":""},"","","","","","","","",{"$f":"IFERROR(SMALL($B$3:$B$2002,ROWS($A$3:A1310)),\"\")","v":""},"","",null,"","","",{"$f":"IF(O1310=\"\",\"\",CONCATENATE(\"*11....+\",VLOOKUP(16-(LEN(N1310)),'1'!$A$1:$B$16,2,TRUE),N1310,\" 81..40+\",VLOOKUP(16-(LEN(O1310)),'1'!$A$1:$B$16,2,TRUE),O1310,\" 82..40+\",VLOOKUP(16-(LEN(O1310)),'1'!$A$1:$B$16,2,TRUE),P1310,\" 71....+0000000000000000 \"))","v":""},null,""]
[null,{"$f":"IF(I1311=\"\",\"\",ROWS($A$3:A1311))","v":""},"","","","","","","","",{"$f":"IFERROR(SMALL($B$3:$B$2002,ROWS($A$3:A1311)),\"\")","v":""},"","",null,"","","",{"$f":"IF(O1311=\"\",\"\",CONCATENATE(\"*11....+\",VLOOKUP(16-(LEN(N1311)),'1'!$A$1:$B$16,2,TRUE),N1311,\" 81..40+\",VLOOKUP(16-(LEN(O1311)),'1'!$A$1:$B$16,2,TRUE),O1311,\" 82..40+\",VLOOKUP(16-(LEN(O1311)),'1'!$A$1:$B$16,2,TRUE),P1311,\" 71....+0000000000000000 \"))","v":""},null,""]
[null,{"$f":"IF(I1312=\"\",\"\",ROWS($A$3:A1312))","v":""},"","","","","","","","",{"$f":"IFERROR(SMALL($B$3:$B$2002,ROWS($A$3:A1312)),\"\")","v":""},"","",null,"","","",{"$f":"IF(O1312=\"\",\"\",CONCATENATE(\"*11....+\",VLOOKUP(16-(LEN(N1312)),'1'!$A$1:$B$16,2,TRUE),N1312,\" 81..40+\",VLOOKUP(16-(LEN(O1312)),'1'!$A$1:$B$16,2,TRUE),O1312,\" 82..40+\",VLOOKUP(16-(LEN(O1312)),'1'!$A$1:$B$16,2,TRUE),P1312,\" 71....+0000000000000000 \"))","v":""},null,""]
[null,{"$f":"IF(I1313=\"\",\"\",ROWS($A$3:A1313))","v":""},"","","","","","","","",{"$f":"IFERROR(SMALL($B$3:$B$2002,ROWS($A$3:A1313)),\"\")","v":""},"","",null,"","","",{"$f":"IF(O1313=\"\",\"\",CONCATENATE(\"*11....+\",VLOOKUP(16-(LEN(N1313)),'1'!$A$1:$B$16,2,TRUE),N1313,\" 81..40+\",VLOOKUP(16-(LEN(O1313)),'1'!$A$1:$B$16,2,TRUE),O1313,\" 82..40+\",VLOOKUP(16-(LEN(O1313)),'1'!$A$1:$B$16,2,TRUE),P1313,\" 71....+0000000000000000 \"))","v":""},null,""]
[null,{"$f":"IF(I1314=\"\",\"\",ROWS($A$3:A1314))","v":""},"","","","","","","","",{"$f":"IFERROR(SMALL($B$3:$B$2002,ROWS($A$3:A1314)),\"\")","v":""},"","",null,"","","",{"$f":"IF(O1314=\"\",\"\",CONCATENATE(\"*11....+\",VLOOKUP(16-(LEN(N1314)),'1'!$A$1:$B$16,2,TRUE),N1314,\" 81..40+\",VLOOKUP(16-(LEN(O1314)),'1'!$A$1:$B$16,2,TRUE),O1314,\" 82..40+\",VLOOKUP(16-(LEN(O1314)),'1'!$A$1:$B$16,2,TRUE),P1314,\" 71....+0000000000000000 \"))","v":""},null,""]
[null,{"$f":"IF(I1315=\"\",\"\",ROWS($A$3:A1315))","v":""},"","","","","","","","",{"$f":"IFERROR(SMALL($B$3:$B$2002,ROWS($A$3:A1315)),\"\")","v":""},"","",null,"","","",{"$f":"IF(O1315=\"\",\"\",CONCATENATE(\"*11....+\",VLOOKUP(16-(LEN(N1315)),'1'!$A$1:$B$16,2,TRUE),N1315,\" 81..40+\",VLOOKUP(16-(LEN(O1315)),'1'!$A$1:$B$16,2,TRUE),O1315,\" 82..40+\",VLOOKUP(16-(LEN(O1315)),'1'!$A$1:$B$16,2,TRUE),P1315,\" 71....+0000000000000000 \"))","v":""},null,""]
[null,{"$f":"IF(I1316=\"\",\"\",ROWS($A$3:A1316))","v":""},"","","","","","","","",{"$f":"IFERROR(SMALL($B$3:$B$2002,ROWS($A$3:A1316)),\"\")","v":""},"","",null,"","","",{"$f":"IF(O1316=\"\",\"\",CONCATENATE(\"*11....+\",VLOOKUP(16-(LEN(N1316)),'1'!$A$1:$B$16,2,TRUE),N1316,\" 81..40+\",VLOOKUP(16-(LEN(O1316)),'1'!$A$1:$B$16,2,TRUE),O1316,\" 82..40+\",VLOOKUP(16-(LEN(O1316)),'1'!$A$1:$B$16,2,TRUE),P1316,\" 71....+0000000000000000 \"))","v":""},null,""]
[null,{"$f":"IF(I1317=\"\",\"\",ROWS($A$3:A1317))","v":""},"","","","","","","","",{"$f":"IFERROR(SMALL($B$3:$B$2002,ROWS($A$3:A1317)),\"\")","v":""},"","",null,"","","",{"$f":"IF(O1317=\"\",\"\",CONCATENATE(\"*11....+\",VLOOKUP(16-(LEN(N1317)),'1'!$A$1:$B$16,2,TRUE),N1317,\" 81..40+\",VLOOKUP(16-(LEN(O1317)),'1'!$A$1:$B$16,2,TRUE),O1317,\" 82..40+\",VLOOKUP(16-(LEN(O1317)),'1'!$A$1:$B$16,2,TRUE),P1317,\" 71....+0000000000000000 \"))","v":""},null,""]
[null,{"$f":"IF(I1318=\"\",\"\",ROWS($A$3:A1318))","v":""},"","","","","","","","",{"$f":"IFERROR(SMALL($B$3:$B$2002,ROWS($A$3:A1318)),\"\")","v":""},"","",null,"","","",{"$f":"IF(O1318=\"\",\"\",CONCATENATE(\"*11....+\",VLOOKUP(16-(LEN(N1318)),'1'!$A$1:$B$16,2,TRUE),N1318,\" 81..40+\",VLOOKUP(16-(LEN(O1318)),'1'!$A$1:$B$16,2,TRUE),O1318,\" 82..40+\",VLOOKUP(16-(LEN(O1318)),'1'!$A$1:$B$16,2,TRUE),P1318,\" 71....+0000000000000000 \"))","v":""},null,""]
[null,{"$f":"IF(I1319=\"\",\"\",ROWS($A$3:A1319))","v":""},"","","","","","","","",{"$f":"IFERROR(SMALL($B$3:$B$2002,ROWS($A$3:A1319)),\"\")","v":""},"","",null,"","","",{"$f":"IF(O1319=\"\",\"\",CONCATENATE(\"*11....+\",VLOOKUP(16-(LEN(N1319)),'1'!$A$1:$B$16,2,TRUE),N1319,\" 81..40+\",VLOOKUP(16-(LEN(O1319)),'1'!$A$1:$B$16,2,TRUE),O1319,\" 82..40+\",VLOOKUP(16-(LEN(O1319)),'1'!$A$1:$B$16,2,TRUE),P1319,\" 71....+0000000000000000 \"))","v":""},null,""]
[null,{"$f":"IF(I1320=\"\",\"\",ROWS($A$3:A1320))","v":""},"","","","","","","","",{"$f":"IFERROR(SMALL($B$3:$B$2002,ROWS($A$3:A1320)),\"\")","v":""},"","",null,"","","",{"$f":"IF(O1320=\"\",\"\",CONCATENATE(\"*11....+\",VLOOKUP(16-(LEN(N1320)),'1'!$A$1:$B$16,2,TRUE),N1320,\" 81..40+\",VLOOKUP(16-(LEN(O1320)),'1'!$A$1:$B$16,2,TRUE),O1320,\" 82..40+\",VLOOKUP(16-(LEN(O1320)),'1'!$A$1:$B$16,2,TRUE),P1320,\" 71....+0000000000000000 \"))","v":""},null,""]
[null,{"$f":"IF(I1321=\"\",\"\",ROWS($A$3:A1321))","v":""},"","","","","","","","",{"$f":"IFERROR(SMALL($B$3:$B$2002,ROWS($A$3:A1321)),\"\")","v":""},"","",null,"","","",{"$f":"IF(O1321=\"\",\"\",CONCATENATE(\"*11....+\",VLOOKUP(16-(LEN(N1321)),'1'!$A$1:$B$16,2,TRUE),N1321,\" 81..40+\",VLOOKUP(16-(LEN(O1321)),'1'!$A$1:$B$16,2,TRUE),O1321,\" 82..40+\",VLOOKUP(16-(LEN(O1321)),'1'!$A$1:$B$16,2,TRUE),P1321,\" 71....+0000000000000000 \"))","v":""},null,""]
[null,{"$f":"IF(I1322=\"\",\"\",ROWS($A$3:A1322))","v":""},"","","","","","","","",{"$f":"IFERROR(SMALL($B$3:$B$2002,ROWS($A$3:A1322)),\"\")","v":""},"","",null,"","","",{"$f":"IF(O1322=\"\",\"\",CONCATENATE(\"*11....+\",VLOOKUP(16-(LEN(N1322)),'1'!$A$1:$B$16,2,TRUE),N1322,\" 81..40+\",VLOOKUP(16-(LEN(O1322)),'1'!$A$1:$B$16,2,TRUE),O1322,\" 82..40+\",VLOOKUP(16-(LEN(O1322)),'1'!$A$1:$B$16,2,TRUE),P1322,\" 71....+0000000000000000 \"))","v":""},null,""]
[null,{"$f":"IF(I1323=\"\",\"\",ROWS($A$3:A1323))","v":""},"","","","","","","","",{"$f":"IFERROR(SMALL($B$3:$B$2002,ROWS($A$3:A1323)),\"\")","v":""},"","",null,"","","",{"$f":"IF(O1323=\"\",\"\",CONCATENATE(\"*11....+\",VLOOKUP(16-(LEN(N1323)),'1'!$A$1:$B$16,2,TRUE),N1323,\" 81..40+\",VLOOKUP(16-(LEN(O1323)),'1'!$A$1:$B$16,2,TRUE),O1323,\" 82..40+\",VLOOKUP(16-(LEN(O1323)),'1'!$A$1:$B$16,2,TRUE),P1323,\" 71....+0000000000000000 \"))","v":""},null,""]
[null,{"$f":"IF(I1324=\"\",\"\",ROWS($A$3:A1324))","v":""},"","","","","","","","",{"$f":"IFERROR(SMALL($B$3:$B$2002,ROWS($A$3:A1324)),\"\")","v":""},"","",null,"","","",{"$f":"IF(O1324=\"\",\"\",CONCATENATE(\"*11....+\",VLOOKUP(16-(LEN(N1324)),'1'!$A$1:$B$16,2,TRUE),N1324,\" 81..40+\",VLOOKUP(16-(LEN(O1324)),'1'!$A$1:$B$16,2,TRUE),O1324,\" 82..40+\",VLOOKUP(16-(LEN(O1324)),'1'!$A$1:$B$16,2,TRUE),P1324,\" 71....+0000000000000000 \"))","v":""},null,""]
[null,{"$f":"IF(I1325=\"\",\"\",ROWS($A$3:A1325))","v":""},"","","","","","","","",{"$f":"IFERROR(SMALL($B$3:$B$2002,ROWS($A$3:A1325)),\"\")","v":""},"","",null,"","","",{"$f":"IF(O1325=\"\",\"\",CONCATENATE(\"*11....+\",VLOOKUP(16-(LEN(N1325)),'1'!$A$1:$B$16,2,TRUE),N1325,\" 81..40+\",VLOOKUP(16-(LEN(O1325)),'1'!$A$1:$B$16,2,TRUE),O1325,\" 82..40+\",VLOOKUP(16-(LEN(O1325)),'1'!$A$1:$B$16,2,TRUE),P1325,\" 71....+0000000000000000 \"))","v":""},null,""]
[null,{"$f":"IF(I1326=\"\",\"\",ROWS($A$3:A1326))","v":""},"","","","","","","","",{"$f":"IFERROR(SMALL($B$3:$B$2002,ROWS($A$3:A1326)),\"\")","v":""},"","",null,"","","",{"$f":"IF(O1326=\"\",\"\",CONCATENATE(\"*11....+\",VLOOKUP(16-(LEN(N1326)),'1'!$A$1:$B$16,2,TRUE),N1326,\" 81..40+\",VLOOKUP(16-(LEN(O1326)),'1'!$A$1:$B$16,2,TRUE),O1326,\" 82..40+\",VLOOKUP(16-(LEN(O1326)),'1'!$A$1:$B$16,2,TRUE),P1326,\" 71....+0000000000000000 \"))","v":""},null,""]
[null,{"$f":"IF(I1327=\"\",\"\",ROWS($A$3:A1327))","v":""},"","","","","","","","",{"$f":"IFERROR(SMALL($B$3:$B$2002,ROWS($A$3:A1327)),\"\")","v":""},"","",null,"","","",{"$f":"IF(O1327=\"\",\"\",CONCATENATE(\"*11....+\",VLOOKUP(16-(LEN(N1327)),'1'!$A$1:$B$16,2,TRUE),N1327,\" 81..40+\",VLOOKUP(16-(LEN(O1327)),'1'!$A$1:$B$16,2,TRUE),O1327,\" 82..40+\",VLOOKUP(16-(LEN(O1327)),'1'!$A$1:$B$16,2,TRUE),P1327,\" 71....+0000000000000000 \"))","v":""},null,""]
[null,{"$f":"IF(I1328=\"\",\"\",ROWS($A$3:A1328))","v":""},"","","","","","","","",{"$f":"IFERROR(SMALL($B$3:$B$2002,ROWS($A$3:A1328)),\"\")","v":""},"","",null,"","","",{"$f":"IF(O1328=\"\",\"\",CONCATENATE(\"*11....+\",VLOOKUP(16-(LEN(N1328)),'1'!$A$1:$B$16,2,TRUE),N1328,\" 81..40+\",VLOOKUP(16-(LEN(O1328)),'1'!$A$1:$B$16,2,TRUE),O1328,\" 82..40+\",VLOOKUP(16-(LEN(O1328)),'1'!$A$1:$B$16,2,TRUE),P1328,\" 71....+0000000000000000 \"))","v":""},null,""]
[null,{"$f":"IF(I1329=\"\",\"\",ROWS($A$3:A1329))","v":""},"","","","","","","","",{"$f":"IFERROR(SMALL($B$3:$B$2002,ROWS($A$3:A1329)),\"\")","v":""},"","",null,"","","",{"$f":"IF(O1329=\"\",\"\",CONCATENATE(\"*11....+\",VLOOKUP(16-(LEN(N1329)),'1'!$A$1:$B$16,2,TRUE),N1329,\" 81..40+\",VLOOKUP(16-(LEN(O1329)),'1'!$A$1:$B$16,2,TRUE),O1329,\" 82..40+\",VLOOKUP(16-(LEN(O1329)),'1'!$A$1:$B$16,2,TRUE),P1329,\" 71....+0000000000000000 \"))","v":""},null,""]
[null,{"$f":"IF(I1330=\"\",\"\",ROWS($A$3:A1330))","v":""},"","","","","","","","",{"$f":"IFERROR(SMALL($B$3:$B$2002,ROWS($A$3:A1330)),\"\")","v":""},"","",null,"","","",{"$f":"IF(O1330=\"\",\"\",CONCATENATE(\"*11....+\",VLOOKUP(16-(LEN(N1330)),'1'!$A$1:$B$16,2,TRUE),N1330,\" 81..40+\",VLOOKUP(16-(LEN(O1330)),'1'!$A$1:$B$16,2,TRUE),O1330,\" 82..40+\",VLOOKUP(16-(LEN(O1330)),'1'!$A$1:$B$16,2,TRUE),P1330,\" 71....+0000000000000000 \"))","v":""},null,""]
[null,{"$f":"IF(I1331=\"\",\"\",ROWS($A$3:A1331))","v":""},"","","","","","","","",{"$f":"IFERROR(SMALL($B$3:$B$2002,ROWS($A$3:A1331)),\"\")","v":""},"","",null,"","","",{"$f":"IF(O1331=\"\",\"\",CONCATENATE(\"*11....+\",VLOOKUP(16-(LEN(N1331)),'1'!$A$1:$B$16,2,TRUE),N1331,\" 81..40+\",VLOOKUP(16-(LEN(O1331)),'1'!$A$1:$B$16,2,TRUE),O1331,\" 82..40+\",VLOOKUP(16-(LEN(O1331)),'1'!$A$1:$B$16,2,TRUE),P1331,\" 71....+0000000000000000 \"))","v":""},null,""]
[null,{"$f":"IF(I1332=\"\",\"\",ROWS($A$3:A1332))","v":""},"","","","","","","","",{"$f":"IFERROR(SMALL($B$3:$B$2002,ROWS($A$3:A1332)),\"\")","v":""},"","",null,"","","",{"$f":"IF(O1332=\"\",\"\",CONCATENATE(\"*11....+\",VLOOKUP(16-(LEN(N1332)),'1'!$A$1:$B$16,2,TRUE),N1332,\" 81..40+\",VLOOKUP(16-(LEN(O1332)),'1'!$A$1:$B$16,2,TRUE),O1332,\" 82..40+\",VLOOKUP(16-(LEN(O1332)),'1'!$A$1:$B$16,2,TRUE),P1332,\" 71....+0000000000000000 \"))","v":""},null,""]
[null,{"$f":"IF(I1333=\"\",\"\",ROWS($A$3:A1333))","v":""},"","","","","","","","",{"$f":"IFERROR(SMALL($B$3:$B$2002,ROWS($A$3:A1333)),\"\")","v":""},"","",null,"","","",{"$f":"IF(O1333=\"\",\"\",CONCATENATE(\"*11....+\",VLOOKUP(16-(LEN(N1333)),'1'!$A$1:$B$16,2,TRUE),N1333,\" 81..40+\",VLOOKUP(16-(LEN(O1333)),'1'!$A$1:$B$16,2,TRUE),O1333,\" 82..40+\",VLOOKUP(16-(LEN(O1333)),'1'!$A$1:$B$16,2,TRUE),P1333,\" 71....+0000000000000000 \"))","v":""},null,""]
[null,{"$f":"IF(I1334=\"\",\"\",ROWS($A$3:A1334))","v":""},"","","","","","","","",{"$f":"IFERROR(SMALL($B$3:$B$2002,ROWS($A$3:A1334)),\"\")","v":""},"","",null,"","","",{"$f":"IF(O1334=\"\",\"\",CONCATENATE(\"*11....+\",VLOOKUP(16-(LEN(N1334)),'1'!$A$1:$B$16,2,TRUE),N1334,\" 81..40+\",VLOOKUP(16-(LEN(O1334)),'1'!$A$1:$B$16,2,TRUE),O1334,\" 82..40+\",VLOOKUP(16-(LEN(O1334)),'1'!$A$1:$B$16,2,TRUE),P1334,\" 71....+0000000000000000 \"))","v":""},null,""]
[null,{"$f":"IF(I1335=\"\",\"\",ROWS($A$3:A1335))","v":""},"","","","","","","","",{"$f":"IFERROR(SMALL($B$3:$B$2002,ROWS($A$3:A1335)),\"\")","v":""},"","",null,"","","",{"$f":"IF(O1335=\"\",\"\",CONCATENATE(\"*11....+\",VLOOKUP(16-(LEN(N1335)),'1'!$A$1:$B$16,2,TRUE),N1335,\" 81..40+\",VLOOKUP(16-(LEN(O1335)),'1'!$A$1:$B$16,2,TRUE),O1335,\" 82..40+\",VLOOKUP(16-(LEN(O1335)),'1'!$A$1:$B$16,2,TRUE),P1335,\" 71....+0000000000000000 \"))","v":""},null,""]
[null,{"$f":"IF(I1336=\"\",\"\",ROWS($A$3:A1336))","v":""},"","","","","","","","",{"$f":"IFERROR(SMALL($B$3:$B$2002,ROWS($A$3:A1336)),\"\")","v":""},"","",null,"","","",{"$f":"IF(O1336=\"\",\"\",CONCATENATE(\"*11....+\",VLOOKUP(16-(LEN(N1336)),'1'!$A$1:$B$16,2,TRUE),N1336,\" 81..40+\",VLOOKUP(16-(LEN(O1336)),'1'!$A$1:$B$16,2,TRUE),O1336,\" 82..40+\",VLOOKUP(16-(LEN(O1336)),'1'!$A$1:$B$16,2,TRUE),P1336,\" 71....+0000000000000000 \"))","v":""},null,""]
[null,{"$f":"IF(I1337=\"\",\"\",ROWS($A$3:A1337))","v":""},"","","","","","","","",{"$f":"IFERROR(SMALL($B$3:$B$2002,ROWS($A$3:A1337)),\"\")","v":""},"","",null,"","","",{"$f":"IF(O1337=\"\",\"\",CONCATENATE(\"*11....+\",VLOOKUP(16-(LEN(N1337)),'1'!$A$1:$B$16,2,TRUE),N1337,\" 81..40+\",VLOOKUP(16-(LEN(O1337)),'1'!$A$1:$B$16,2,TRUE),O1337,\" 82..40+\",VLOOKUP(16-(LEN(O1337)),'1'!$A$1:$B$16,2,TRUE),P1337,\" 71....+0000000000000000 \"))","v":""},null,""]
[null,{"$f":"IF(I1338=\"\",\"\",ROWS($A$3:A1338))","v":""},"","","","","","","","",{"$f":"IFERROR(SMALL($B$3:$B$2002,ROWS($A$3:A1338)),\"\")","v":""},"","",null,"","","",{"$f":"IF(O1338=\"\",\"\",CONCATENATE(\"*11....+\",VLOOKUP(16-(LEN(N1338)),'1'!$A$1:$B$16,2,TRUE),N1338,\" 81..40+\",VLOOKUP(16-(LEN(O1338)),'1'!$A$1:$B$16,2,TRUE),O1338,\" 82..40+\",VLOOKUP(16-(LEN(O1338)),'1'!$A$1:$B$16,2,TRUE),P1338,\" 71....+0000000000000000 \"))","v":""},null,""]
[null,{"$f":"IF(I1339=\"\",\"\",ROWS($A$3:A1339))","v":""},"","","","","","","","",{"$f":"IFERROR(SMALL($B$3:$B$2002,ROWS($A$3:A1339)),\"\")","v":""},"","",null,"","","",{"$f":"IF(O1339=\"\",\"\",CONCATENATE(\"*11....+\",VLOOKUP(16-(LEN(N1339)),'1'!$A$1:$B$16,2,TRUE),N1339,\" 81..40+\",VLOOKUP(16-(LEN(O1339)),'1'!$A$1:$B$16,2,TRUE),O1339,\" 82..40+\",VLOOKUP(16-(LEN(O1339)),'1'!$A$1:$B$16,2,TRUE),P1339,\" 71....+0000000000000000 \"))","v":""},null,""]
[null,{"$f":"IF(I1340=\"\",\"\",ROWS($A$3:A1340))","v":""},"","","","","","","","",{"$f":"IFERROR(SMALL($B$3:$B$2002,ROWS($A$3:A1340)),\"\")","v":""},"","",null,"","","",{"$f":"IF(O1340=\"\",\"\",CONCATENATE(\"*11....+\",VLOOKUP(16-(LEN(N1340)),'1'!$A$1:$B$16,2,TRUE),N1340,\" 81..40+\",VLOOKUP(16-(LEN(O1340)),'1'!$A$1:$B$16,2,TRUE),O1340,\" 82..40+\",VLOOKUP(16-(LEN(O1340)),'1'!$A$1:$B$16,2,TRUE),P1340,\" 71....+0000000000000000 \"))","v":""},null,""]
[null,{"$f":"IF(I1341=\"\",\"\",ROWS($A$3:A1341))","v":""},"","","","","","","","",{"$f":"IFERROR(SMALL($B$3:$B$2002,ROWS($A$3:A1341)),\"\")","v":""},"","",null,"","","",{"$f":"IF(O1341=\"\",\"\",CONCATENATE(\"*11....+\",VLOOKUP(16-(LEN(N1341)),'1'!$A$1:$B$16,2,TRUE),N1341,\" 81..40+\",VLOOKUP(16-(LEN(O1341)),'1'!$A$1:$B$16,2,TRUE),O1341,\" 82..40+\",VLOOKUP(16-(LEN(O1341)),'1'!$A$1:$B$16,2,TRUE),P1341,\" 71....+0000000000000000 \"))","v":""},null,""]
[null,{"$f":"IF(I1342=\"\",\"\",ROWS($A$3:A1342))","v":""},"","","","","","","","",{"$f":"IFERROR(SMALL($B$3:$B$2002,ROWS($A$3:A1342)),\"\")","v":""},"","",null,"","","",{"$f":"IF(O1342=\"\",\"\",CONCATENATE(\"*11....+\",VLOOKUP(16-(LEN(N1342)),'1'!$A$1:$B$16,2,TRUE),N1342,\" 81..40+\",VLOOKUP(16-(LEN(O1342)),'1'!$A$1:$B$16,2,TRUE),O1342,\" 82..40+\",VLOOKUP(16-(LEN(O1342)),'1'!$A$1:$B$16,2,TRUE),P1342,\" 71....+0000000000000000 \"))","v":""},null,""]
[null,{"$f":"IF(I1343=\"\",\"\",ROWS($A$3:A1343))","v":""},"","","","","","","","",{"$f":"IFERROR(SMALL($B$3:$B$2002,ROWS($A$3:A1343)),\"\")","v":""},"","",null,"","","",{"$f":"IF(O1343=\"\",\"\",CONCATENATE(\"*11....+\",VLOOKUP(16-(LEN(N1343)),'1'!$A$1:$B$16,2,TRUE),N1343,\" 81..40+\",VLOOKUP(16-(LEN(O1343)),'1'!$A$1:$B$16,2,TRUE),O1343,\" 82..40+\",VLOOKUP(16-(LEN(O1343)),'1'!$A$1:$B$16,2,TRUE),P1343,\" 71....+0000000000000000 \"))","v":""},null,""]
[null,{"$f":"IF(I1344=\"\",\"\",ROWS($A$3:A1344))","v":""},"","","","","","","","",{"$f":"IFERROR(SMALL($B$3:$B$2002,ROWS($A$3:A1344)),\"\")","v":""},"","",null,"","","",{"$f":"IF(O1344=\"\",\"\",CONCATENATE(\"*11....+\",VLOOKUP(16-(LEN(N1344)),'1'!$A$1:$B$16,2,TRUE),N1344,\" 81..40+\",VLOOKUP(16-(LEN(O1344)),'1'!$A$1:$B$16,2,TRUE),O1344,\" 82..40+\",VLOOKUP(16-(LEN(O1344)),'1'!$A$1:$B$16,2,TRUE),P1344,\" 71....+0000000000000000 \"))","v":""},null,""]
[null,{"$f":"IF(I1345=\"\",\"\",ROWS($A$3:A1345))","v":""},"","","","","","","","",{"$f":"IFERROR(SMALL($B$3:$B$2002,ROWS($A$3:A1345)),\"\")","v":""},"","",null,"","","",{"$f":"IF(O1345=\"\",\"\",CONCATENATE(\"*11....+\",VLOOKUP(16-(LEN(N1345)),'1'!$A$1:$B$16,2,TRUE),N1345,\" 81..40+\",VLOOKUP(16-(LEN(O1345)),'1'!$A$1:$B$16,2,TRUE),O1345,\" 82..40+\",VLOOKUP(16-(LEN(O1345)),'1'!$A$1:$B$16,2,TRUE),P1345,\" 71....+0000000000000000 \"))","v":""},null,""]
[null,{"$f":"IF(I1346=\"\",\"\",ROWS($A$3:A1346))","v":""},"","","","","","","","",{"$f":"IFERROR(SMALL($B$3:$B$2002,ROWS($A$3:A1346)),\"\")","v":""},"","",null,"","","",{"$f":"IF(O1346=\"\",\"\",CONCATENATE(\"*11....+\",VLOOKUP(16-(LEN(N1346)),'1'!$A$1:$B$16,2,TRUE),N1346,\" 81..40+\",VLOOKUP(16-(LEN(O1346)),'1'!$A$1:$B$16,2,TRUE),O1346,\" 82..40+\",VLOOKUP(16-(LEN(O1346)),'1'!$A$1:$B$16,2,TRUE),P1346,\" 71....+0000000000000000 \"))","v":""},null,""]
[null,{"$f":"IF(I1347=\"\",\"\",ROWS($A$3:A1347))","v":""},"","","","","","","","",{"$f":"IFERROR(SMALL($B$3:$B$2002,ROWS($A$3:A1347)),\"\")","v":""},"","",null,"","","",{"$f":"IF(O1347=\"\",\"\",CONCATENATE(\"*11....+\",VLOOKUP(16-(LEN(N1347)),'1'!$A$1:$B$16,2,TRUE),N1347,\" 81..40+\",VLOOKUP(16-(LEN(O1347)),'1'!$A$1:$B$16,2,TRUE),O1347,\" 82..40+\",VLOOKUP(16-(LEN(O1347)),'1'!$A$1:$B$16,2,TRUE),P1347,\" 71....+0000000000000000 \"))","v":""},null,""]
[null,{"$f":"IF(I1348=\"\",\"\",ROWS($A$3:A1348))","v":""},{"$f":"IF(LEN(A1348)=59,ROUND(VALUE(MID(A1348,23,9)),3),\"\")","v":""},{"$f":"IF(LEN(A1348)=24,\"\",\"\")","v":""},{"$f":"IF(LEN(A1348)=63,ROUND(VALUE(MID(A1348,23,12)),3),\"\")","v":""},{"$f":"IF(LEN(A1348)=59,ROUND(VALUE(MID(A1348,37,9)),3),\"\")","v":""},{"$f":"IF(LEN(A1348)=24,\"\",\"\")","v":""},{"$f":"IF(LEN(A1348)=63,ROUND(VALUE(MID(A1348,39,12)),3),\"\")","v":""},{"$f":"IF(AND(C1348=\"\",D1348=\"\",E1348=\"\"),\"\",ROUND(CONCATENATE(C1348,D1348,E1348),3))","v":""},{"$f":"IF(AND(C1348=\"\",D1348=\"\",E1348=\"\"),\"\",ROUND(CONCATENATE(F1348,G1348,H1348),3))","v":""},{"$f":"IFERROR(SMALL($B$3:$B$2002,ROWS($A$3:A1348)),\"\")","v":""},{"$f":"IF(K1348=\"\",\"\",ROUND(VALUE(VLOOKUP(K1348,$B$3:$J$2002,8,TRUE)),3))","v":""},{"$f":"IF(K1348=\"\",\"\",ROUND(VALUE(VLOOKUP(K1348,$B$3:$J$2002,9,TRUE)),3))","v":""},null,{"$f":"IF(L1348=\"\",\"\",L1348/0.001)","v":""},"",{"$f":"IF(O1348=\"\",\"\",16-LEN(N1348))","v":""},{"$f":"IF(O1348=\"\",\"\",CONCATENATE(\"*11....+\",VLOOKUP(16-(LEN(N1348)),'1'!$A$1:$B$16,2,TRUE),N1348,\" 81..40+\",VLOOKUP(16-(LEN(O1348)),'1'!$A$1:$B$16,2,TRUE),O1348,\" 82..40+\",VLOOKUP(16-(LEN(O1348)),'1'!$A$1:$B$16,2,TRUE),P1348,\" 71....+0000000000000000 \"))","v":""},null,{"$f":"IF(O1348=\"\",\"\",CONCATENATE(N1348,\",\",L1348,\",\",M1348))","v":""}]
[null,{"$f":"IF(I1349=\"\",\"\",ROWS($A$3:A1349))","v":""},"","","","","","","","",{"$f":"IFERROR(SMALL($B$3:$B$2002,ROWS($A$3:A1349)),\"\")","v":""},"","",null,"","","",{"$f":"IF(O1349=\"\",\"\",CONCATENATE(\"*11....+\",VLOOKUP(16-(LEN(N1349)),'1'!$A$1:$B$16,2,TRUE),N1349,\" 81..40+\",VLOOKUP(16-(LEN(O1349)),'1'!$A$1:$B$16,2,TRUE),O1349,\" 82..40+\",VLOOKUP(16-(LEN(O1349)),'1'!$A$1:$B$16,2,TRUE),P1349,\" 71....+0000000000000000 \"))","v":""},null,""]
[null,{"$f":"IF(I1350=\"\",\"\",ROWS($A$3:A1350))","v":""},"","","","","","","","",{"$f":"IFERROR(SMALL($B$3:$B$2002,ROWS($A$3:A1350)),\"\")","v":""},"","",null,"","","",{"$f":"IF(O1350=\"\",\"\",CONCATENATE(\"*11....+\",VLOOKUP(16-(LEN(N1350)),'1'!$A$1:$B$16,2,TRUE),N1350,\" 81..40+\",VLOOKUP(16-(LEN(O1350)),'1'!$A$1:$B$16,2,TRUE),O1350,\" 82..40+\",VLOOKUP(16-(LEN(O1350)),'1'!$A$1:$B$16,2,TRUE),P1350,\" 71....+0000000000000000 \"))","v":""},null,""]
[null,{"$f":"IF(I1351=\"\",\"\",ROWS($A$3:A1351))","v":""},"","","","","","","","",{"$f":"IFERROR(SMALL($B$3:$B$2002,ROWS($A$3:A1351)),\"\")","v":""},"","",null,"","","",{"$f":"IF(O1351=\"\",\"\",CONCATENATE(\"*11....+\",VLOOKUP(16-(LEN(N1351)),'1'!$A$1:$B$16,2,TRUE),N1351,\" 81..40+\",VLOOKUP(16-(LEN(O1351)),'1'!$A$1:$B$16,2,TRUE),O1351,\" 82..40+\",VLOOKUP(16-(LEN(O1351)),'1'!$A$1:$B$16,2,TRUE),P1351,\" 71....+0000000000000000 \"))","v":""},null,""]
[null,{"$f":"IF(I1352=\"\",\"\",ROWS($A$3:A1352))","v":""},"","","","","","","","",{"$f":"IFERROR(SMALL($B$3:$B$2002,ROWS($A$3:A1352)),\"\")","v":""},"","",null,"","","",{"$f":"IF(O1352=\"\",\"\",CONCATENATE(\"*11....+\",VLOOKUP(16-(LEN(N1352)),'1'!$A$1:$B$16,2,TRUE),N1352,\" 81..40+\",VLOOKUP(16-(LEN(O1352)),'1'!$A$1:$B$16,2,TRUE),O1352,\" 82..40+\",VLOOKUP(16-(LEN(O1352)),'1'!$A$1:$B$16,2,TRUE),P1352,\" 71....+0000000000000000 \"))","v":""},null,""]
[null,{"$f":"IF(I1353=\"\",\"\",ROWS($A$3:A1353))","v":""},"","","","","","","","",{"$f":"IFERROR(SMALL($B$3:$B$2002,ROWS($A$3:A1353)),\"\")","v":""},"","",null,"","","",{"$f":"IF(O1353=\"\",\"\",CONCATENATE(\"*11....+\",VLOOKUP(16-(LEN(N1353)),'1'!$A$1:$B$16,2,TRUE),N1353,\" 81..40+\",VLOOKUP(16-(LEN(O1353)),'1'!$A$1:$B$16,2,TRUE),O1353,\" 82..40+\",VLOOKUP(16-(LEN(O1353)),'1'!$A$1:$B$16,2,TRUE),P1353,\" 71....+0000000000000000 \"))","v":""},null,""]
[null,{"$f":"IF(I1354=\"\",\"\",ROWS($A$3:A1354))","v":""},"","","","","","","","",{"$f":"IFERROR(SMALL($B$3:$B$2002,ROWS($A$3:A1354)),\"\")","v":""},"","",null,"","","",{"$f":"IF(O1354=\"\",\"\",CONCATENATE(\"*11....+\",VLOOKUP(16-(LEN(N1354)),'1'!$A$1:$B$16,2,TRUE),N1354,\" 81..40+\",VLOOKUP(16-(LEN(O1354)),'1'!$A$1:$B$16,2,TRUE),O1354,\" 82..40+\",VLOOKUP(16-(LEN(O1354)),'1'!$A$1:$B$16,2,TRUE),P1354,\" 71....+0000000000000000 \"))","v":""},null,""]
[null,{"$f":"IF(I1355=\"\",\"\",ROWS($A$3:A1355))","v":""},"","","","","","","","",{"$f":"IFERROR(SMALL($B$3:$B$2002,ROWS($A$3:A1355)),\"\")","v":""},"","",null,"","","",{"$f":"IF(O1355=\"\",\"\",CONCATENATE(\"*11....+\",VLOOKUP(16-(LEN(N1355)),'1'!$A$1:$B$16,2,TRUE),N1355,\" 81..40+\",VLOOKUP(16-(LEN(O1355)),'1'!$A$1:$B$16,2,TRUE),O1355,\" 82..40+\",VLOOKUP(16-(LEN(O1355)),'1'!$A$1:$B$16,2,TRUE),P1355,\" 71....+0000000000000000 \"))","v":""},null,""]
[null,{"$f":"IF(I1356=\"\",\"\",ROWS($A$3:A1356))","v":""},"","","","","","","","",{"$f":"IFERROR(SMALL($B$3:$B$2002,ROWS($A$3:A1356)),\"\")","v":""},"","",null,"","","",{"$f":"IF(O1356=\"\",\"\",CONCATENATE(\"*11....+\",VLOOKUP(16-(LEN(N1356)),'1'!$A$1:$B$16,2,TRUE),N1356,\" 81..40+\",VLOOKUP(16-(LEN(O1356)),'1'!$A$1:$B$16,2,TRUE),O1356,\" 82..40+\",VLOOKUP(16-(LEN(O1356)),'1'!$A$1:$B$16,2,TRUE),P1356,\" 71....+0000000000000000 \"))","v":""},null,""]
[null,{"$f":"IF(I1357=\"\",\"\",ROWS($A$3:A1357))","v":""},"","","","","","","","",{"$f":"IFERROR(SMALL($B$3:$B$2002,ROWS($A$3:A1357)),\"\")","v":""},"","",null,"","","",{"$f":"IF(O1357=\"\",\"\",CONCATENATE(\"*11....+\",VLOOKUP(16-(LEN(N1357)),'1'!$A$1:$B$16,2,TRUE),N1357,\" 81..40+\",VLOOKUP(16-(LEN(O1357)),'1'!$A$1:$B$16,2,TRUE),O1357,\" 82..40+\",VLOOKUP(16-(LEN(O1357)),'1'!$A$1:$B$16,2,TRUE),P1357,\" 71....+0000000000000000 \"))","v":""},null,""]
[null,{"$f":"IF(I1358=\"\",\"\",ROWS($A$3:A1358))","v":""},"","","","","","","","",{"$f":"IFERROR(SMALL($B$3:$B$2002,ROWS($A$3:A1358)),\"\")","v":""},"","",null,"","","",{"$f":"IF(O1358=\"\",\"\",CONCATENATE(\"*11....+\",VLOOKUP(16-(LEN(N1358)),'1'!$A$1:$B$16,2,TRUE),N1358,\" 81..40+\",VLOOKUP(16-(LEN(O1358)),'1'!$A$1:$B$16,2,TRUE),O1358,\" 82..40+\",VLOOKUP(16-(LEN(O1358)),'1'!$A$1:$B$16,2,TRUE),P1358,\" 71....+0000000000000000 \"))","v":""},null,""]
[null,{"$f":"IF(I1359=\"\",\"\",ROWS($A$3:A1359))","v":""},"","","","","","","","",{"$f":"IFERROR(SMALL($B$3:$B$2002,ROWS($A$3:A1359)),\"\")","v":""},"","",null,"","","",{"$f":"IF(O1359=\"\",\"\",CONCATENATE(\"*11....+\",VLOOKUP(16-(LEN(N1359)),'1'!$A$1:$B$16,2,TRUE),N1359,\" 81..40+\",VLOOKUP(16-(LEN(O1359)),'1'!$A$1:$B$16,2,TRUE),O1359,\" 82..40+\",VLOOKUP(16-(LEN(O1359)),'1'!$A$1:$B$16,2,TRUE),P1359,\" 71....+0000000000000000 \"))","v":""},null,""]
[null,{"$f":"IF(I1360=\"\",\"\",ROWS($A$3:A1360))","v":""},"","","","","","","","",{"$f":"IFERROR(SMALL($B$3:$B$2002,ROWS($A$3:A1360)),\"\")","v":""},"","",null,"","","",{"$f":"IF(O1360=\"\",\"\",CONCATENATE(\"*11....+\",VLOOKUP(16-(LEN(N1360)),'1'!$A$1:$B$16,2,TRUE),N1360,\" 81..40+\",VLOOKUP(16-(LEN(O1360)),'1'!$A$1:$B$16,2,TRUE),O1360,\" 82..40+\",VLOOKUP(16-(LEN(O1360)),'1'!$A$1:$B$16,2,TRUE),P1360,\" 71....+0000000000000000 \"))","v":""},null,""]
[null,{"$f":"IF(I1361=\"\",\"\",ROWS($A$3:A1361))","v":""},"","","","","","","","",{"$f":"IFERROR(SMALL($B$3:$B$2002,ROWS($A$3:A1361)),\"\")","v":""},"","",null,"","","",{"$f":"IF(O1361=\"\",\"\",CONCATENATE(\"*11....+\",VLOOKUP(16-(LEN(N1361)),'1'!$A$1:$B$16,2,TRUE),N1361,\" 81..40+\",VLOOKUP(16-(LEN(O1361)),'1'!$A$1:$B$16,2,TRUE),O1361,\" 82..40+\",VLOOKUP(16-(LEN(O1361)),'1'!$A$1:$B$16,2,TRUE),P1361,\" 71....+0000000000000000 \"))","v":""},null,""]
[null,{"$f":"IF(I1362=\"\",\"\",ROWS($A$3:A1362))","v":""},"","","","","","","","",{"$f":"IFERROR(SMALL($B$3:$B$2002,ROWS($A$3:A1362)),\"\")","v":""},"","",null,"","","",{"$f":"IF(O1362=\"\",\"\",CONCATENATE(\"*11....+\",VLOOKUP(16-(LEN(N1362)),'1'!$A$1:$B$16,2,TRUE),N1362,\" 81..40+\",VLOOKUP(16-(LEN(O1362)),'1'!$A$1:$B$16,2,TRUE),O1362,\" 82..40+\",VLOOKUP(16-(LEN(O1362)),'1'!$A$1:$B$16,2,TRUE),P1362,\" 71....+0000000000000000 \"))","v":""},null,""]
[null,{"$f":"IF(I1363=\"\",\"\",ROWS($A$3:A1363))","v":""},"","","","","","","","",{"$f":"IFERROR(SMALL($B$3:$B$2002,ROWS($A$3:A1363)),\"\")","v":""},"","",null,"","","",{"$f":"IF(O1363=\"\",\"\",CONCATENATE(\"*11....+\",VLOOKUP(16-(LEN(N1363)),'1'!$A$1:$B$16,2,TRUE),N1363,\" 81..40+\",VLOOKUP(16-(LEN(O1363)),'1'!$A$1:$B$16,2,TRUE),O1363,\" 82..40+\",VLOOKUP(16-(LEN(O1363)),'1'!$A$1:$B$16,2,TRUE),P1363,\" 71....+0000000000000000 \"))","v":""},null,""]
[null,{"$f":"IF(I1364=\"\",\"\",ROWS($A$3:A1364))","v":""},"","","","","","","","",{"$f":"IFERROR(SMALL($B$3:$B$2002,ROWS($A$3:A1364)),\"\")","v":""},"","",null,"","","",{"$f":"IF(O1364=\"\",\"\",CONCATENATE(\"*11....+\",VLOOKUP(16-(LEN(N1364)),'1'!$A$1:$B$16,2,TRUE),N1364,\" 81..40+\",VLOOKUP(16-(LEN(O1364)),'1'!$A$1:$B$16,2,TRUE),O1364,\" 82..40+\",VLOOKUP(16-(LEN(O1364)),'1'!$A$1:$B$16,2,TRUE),P1364,\" 71....+0000000000000000 \"))","v":""},null,""]
[null,{"$f":"IF(I1365=\"\",\"\",ROWS($A$3:A1365))","v":""},"","","","","","","","",{"$f":"IFERROR(SMALL($B$3:$B$2002,ROWS($A$3:A1365)),\"\")","v":""},"","",null,"","","",{"$f":"IF(O1365=\"\",\"\",CONCATENATE(\"*11....+\",VLOOKUP(16-(LEN(N1365)),'1'!$A$1:$B$16,2,TRUE),N1365,\" 81..40+\",VLOOKUP(16-(LEN(O1365)),'1'!$A$1:$B$16,2,TRUE),O1365,\" 82..40+\",VLOOKUP(16-(LEN(O1365)),'1'!$A$1:$B$16,2,TRUE),P1365,\" 71....+0000000000000000 \"))","v":""},null,""]
[null,{"$f":"IF(I1366=\"\",\"\",ROWS($A$3:A1366))","v":""},"","","","","","","","",{"$f":"IFERROR(SMALL($B$3:$B$2002,ROWS($A$3:A1366)),\"\")","v":""},"","",null,"","","",{"$f":"IF(O1366=\"\",\"\",CONCATENATE(\"*11....+\",VLOOKUP(16-(LEN(N1366)),'1'!$A$1:$B$16,2,TRUE),N1366,\" 81..40+\",VLOOKUP(16-(LEN(O1366)),'1'!$A$1:$B$16,2,TRUE),O1366,\" 82..40+\",VLOOKUP(16-(LEN(O1366)),'1'!$A$1:$B$16,2,TRUE),P1366,\" 71....+0000000000000000 \"))","v":""},null,""]
[null,{"$f":"IF(I1367=\"\",\"\",ROWS($A$3:A1367))","v":""},"","","","","","","","",{"$f":"IFERROR(SMALL($B$3:$B$2002,ROWS($A$3:A1367)),\"\")","v":""},"","",null,"","","",{"$f":"IF(O1367=\"\",\"\",CONCATENATE(\"*11....+\",VLOOKUP(16-(LEN(N1367)),'1'!$A$1:$B$16,2,TRUE),N1367,\" 81..40+\",VLOOKUP(16-(LEN(O1367)),'1'!$A$1:$B$16,2,TRUE),O1367,\" 82..40+\",VLOOKUP(16-(LEN(O1367)),'1'!$A$1:$B$16,2,TRUE),P1367,\" 71....+0000000000000000 \"))","v":""},null,""]
[null,{"$f":"IF(I1368=\"\",\"\",ROWS($A$3:A1368))","v":""},"","","","","","","","",{"$f":"IFERROR(SMALL($B$3:$B$2002,ROWS($A$3:A1368)),\"\")","v":""},"","",null,"","","",{"$f":"IF(O1368=\"\",\"\",CONCATENATE(\"*11....+\",VLOOKUP(16-(LEN(N1368)),'1'!$A$1:$B$16,2,TRUE),N1368,\" 81..40+\",VLOOKUP(16-(LEN(O1368)),'1'!$A$1:$B$16,2,TRUE),O1368,\" 82..40+\",VLOOKUP(16-(LEN(O1368)),'1'!$A$1:$B$16,2,TRUE),P1368,\" 71....+0000000000000000 \"))","v":""},null,""]
[null,{"$f":"IF(I1369=\"\",\"\",ROWS($A$3:A1369))","v":""},"","","","","","","","",{"$f":"IFERROR(SMALL($B$3:$B$2002,ROWS($A$3:A1369)),\"\")","v":""},"","",null,"","","",{"$f":"IF(O1369=\"\",\"\",CONCATENATE(\"*11....+\",VLOOKUP(16-(LEN(N1369)),'1'!$A$1:$B$16,2,TRUE),N1369,\" 81..40+\",VLOOKUP(16-(LEN(O1369)),'1'!$A$1:$B$16,2,TRUE),O1369,\" 82..40+\",VLOOKUP(16-(LEN(O1369)),'1'!$A$1:$B$16,2,TRUE),P1369,\" 71....+0000000000000000 \"))","v":""},null,""]
[null,{"$f":"IF(I1370=\"\",\"\",ROWS($A$3:A1370))","v":""},"","","","","","","","",{"$f":"IFERROR(SMALL($B$3:$B$2002,ROWS($A$3:A1370)),\"\")","v":""},"","",null,"","","",{"$f":"IF(O1370=\"\",\"\",CONCATENATE(\"*11....+\",VLOOKUP(16-(LEN(N1370)),'1'!$A$1:$B$16,2,TRUE),N1370,\" 81..40+\",VLOOKUP(16-(LEN(O1370)),'1'!$A$1:$B$16,2,TRUE),O1370,\" 82..40+\",VLOOKUP(16-(LEN(O1370)),'1'!$A$1:$B$16,2,TRUE),P1370,\" 71....+0000000000000000 \"))","v":""},null,""]
[null,{"$f":"IF(I1371=\"\",\"\",ROWS($A$3:A1371))","v":""},"","","","","","","","",{"$f":"IFERROR(SMALL($B$3:$B$2002,ROWS($A$3:A1371)),\"\")","v":""},"","",null,"","","",{"$f":"IF(O1371=\"\",\"\",CONCATENATE(\"*11....+\",VLOOKUP(16-(LEN(N1371)),'1'!$A$1:$B$16,2,TRUE),N1371,\" 81..40+\",VLOOKUP(16-(LEN(O1371)),'1'!$A$1:$B$16,2,TRUE),O1371,\" 82..40+\",VLOOKUP(16-(LEN(O1371)),'1'!$A$1:$B$16,2,TRUE),P1371,\" 71....+0000000000000000 \"))","v":""},null,""]
[null,{"$f":"IF(I1372=\"\",\"\",ROWS($A$3:A1372))","v":""},"","","","","","","","",{"$f":"IFERROR(SMALL($B$3:$B$2002,ROWS($A$3:A1372)),\"\")","v":""},"","",null,"","","",{"$f":"IF(O1372=\"\",\"\",CONCATENATE(\"*11....+\",VLOOKUP(16-(LEN(N1372)),'1'!$A$1:$B$16,2,TRUE),N1372,\" 81..40+\",VLOOKUP(16-(LEN(O1372)),'1'!$A$1:$B$16,2,TRUE),O1372,\" 82..40+\",VLOOKUP(16-(LEN(O1372)),'1'!$A$1:$B$16,2,TRUE),P1372,\" 71....+0000000000000000 \"))","v":""},null,""]
[null,{"$f":"IF(I1373=\"\",\"\",ROWS($A$3:A1373))","v":""},"","","","","","","","",{"$f":"IFERROR(SMALL($B$3:$B$2002,ROWS($A$3:A1373)),\"\")","v":""},"","",null,"","","",{"$f":"IF(O1373=\"\",\"\",CONCATENATE(\"*11....+\",VLOOKUP(16-(LEN(N1373)),'1'!$A$1:$B$16,2,TRUE),N1373,\" 81..40+\",VLOOKUP(16-(LEN(O1373)),'1'!$A$1:$B$16,2,TRUE),O1373,\" 82..40+\",VLOOKUP(16-(LEN(O1373)),'1'!$A$1:$B$16,2,TRUE),P1373,\" 71....+0000000000000000 \"))","v":""},null,""]
[null,{"$f":"IF(I1374=\"\",\"\",ROWS($A$3:A1374))","v":""},"","","","","","","","",{"$f":"IFERROR(SMALL($B$3:$B$2002,ROWS($A$3:A1374)),\"\")","v":""},"","",null,"","","",{"$f":"IF(O1374=\"\",\"\",CONCATENATE(\"*11....+\",VLOOKUP(16-(LEN(N1374)),'1'!$A$1:$B$16,2,TRUE),N1374,\" 81..40+\",VLOOKUP(16-(LEN(O1374)),'1'!$A$1:$B$16,2,TRUE),O1374,\" 82..40+\",VLOOKUP(16-(LEN(O1374)),'1'!$A$1:$B$16,2,TRUE),P1374,\" 71....+0000000000000000 \"))","v":""},null,""]
[null,{"$f":"IF(I1375=\"\",\"\",ROWS($A$3:A1375))","v":""},"","","","","","","","",{"$f":"IFERROR(SMALL($B$3:$B$2002,ROWS($A$3:A1375)),\"\")","v":""},"","",null,"","","",{"$f":"IF(O1375=\"\",\"\",CONCATENATE(\"*11....+\",VLOOKUP(16-(LEN(N1375)),'1'!$A$1:$B$16,2,TRUE),N1375,\" 81..40+\",VLOOKUP(16-(LEN(O1375)),'1'!$A$1:$B$16,2,TRUE),O1375,\" 82..40+\",VLOOKUP(16-(LEN(O1375)),'1'!$A$1:$B$16,2,TRUE),P1375,\" 71....+0000000000000000 \"))","v":""},null,""]
[null,{"$f":"IF(I1376=\"\",\"\",ROWS($A$3:A1376))","v":""},"","","","","","","","",{"$f":"IFERROR(SMALL($B$3:$B$2002,ROWS($A$3:A1376)),\"\")","v":""},"","",null,"","","",{"$f":"IF(O1376=\"\",\"\",CONCATENATE(\"*11....+\",VLOOKUP(16-(LEN(N1376)),'1'!$A$1:$B$16,2,TRUE),N1376,\" 81..40+\",VLOOKUP(16-(LEN(O1376)),'1'!$A$1:$B$16,2,TRUE),O1376,\" 82..40+\",VLOOKUP(16-(LEN(O1376)),'1'!$A$1:$B$16,2,TRUE),P1376,\" 71....+0000000000000000 \"))","v":""},null,""]
[null,{"$f":"IF(I1377=\"\",\"\",ROWS($A$3:A1377))","v":""},"","","","","","","","",{"$f":"IFERROR(SMALL($B$3:$B$2002,ROWS($A$3:A1377)),\"\")","v":""},"","",null,"","","",{"$f":"IF(O1377=\"\",\"\",CONCATENATE(\"*11....+\",VLOOKUP(16-(LEN(N1377)),'1'!$A$1:$B$16,2,TRUE),N1377,\" 81..40+\",VLOOKUP(16-(LEN(O1377)),'1'!$A$1:$B$16,2,TRUE),O1377,\" 82..40+\",VLOOKUP(16-(LEN(O1377)),'1'!$A$1:$B$16,2,TRUE),P1377,\" 71....+0000000000000000 \"))","v":""},null,""]
[null,{"$f":"IF(I1378=\"\",\"\",ROWS($A$3:A1378))","v":""},"","","","","","","","",{"$f":"IFERROR(SMALL($B$3:$B$2002,ROWS($A$3:A1378)),\"\")","v":""},"","",null,"","","",{"$f":"IF(O1378=\"\",\"\",CONCATENATE(\"*11....+\",VLOOKUP(16-(LEN(N1378)),'1'!$A$1:$B$16,2,TRUE),N1378,\" 81..40+\",VLOOKUP(16-(LEN(O1378)),'1'!$A$1:$B$16,2,TRUE),O1378,\" 82..40+\",VLOOKUP(16-(LEN(O1378)),'1'!$A$1:$B$16,2,TRUE),P1378,\" 71....+0000000000000000 \"))","v":""},null,""]
[null,{"$f":"IF(I1379=\"\",\"\",ROWS($A$3:A1379))","v":""},"","","","","","","","",{"$f":"IFERROR(SMALL($B$3:$B$2002,ROWS($A$3:A1379)),\"\")","v":""},"","",null,"","","",{"$f":"IF(O1379=\"\",\"\",CONCATENATE(\"*11....+\",VLOOKUP(16-(LEN(N1379)),'1'!$A$1:$B$16,2,TRUE),N1379,\" 81..40+\",VLOOKUP(16-(LEN(O1379)),'1'!$A$1:$B$16,2,TRUE),O1379,\" 82..40+\",VLOOKUP(16-(LEN(O1379)),'1'!$A$1:$B$16,2,TRUE),P1379,\" 71....+0000000000000000 \"))","v":""},null,""]
[null,{"$f":"IF(I1380=\"\",\"\",ROWS($A$3:A1380))","v":""},"","","","","","","","",{"$f":"IFERROR(SMALL($B$3:$B$2002,ROWS($A$3:A1380)),\"\")","v":""},"","",null,"","","",{"$f":"IF(O1380=\"\",\"\",CONCATENATE(\"*11....+\",VLOOKUP(16-(LEN(N1380)),'1'!$A$1:$B$16,2,TRUE),N1380,\" 81..40+\",VLOOKUP(16-(LEN(O1380)),'1'!$A$1:$B$16,2,TRUE),O1380,\" 82..40+\",VLOOKUP(16-(LEN(O1380)),'1'!$A$1:$B$16,2,TRUE),P1380,\" 71....+0000000000000000 \"))","v":""},null,""]
[null,{"$f":"IF(I1381=\"\",\"\",ROWS($A$3:A1381))","v":""},"","","","","","","","",{"$f":"IFERROR(SMALL($B$3:$B$2002,ROWS($A$3:A1381)),\"\")","v":""},"","",null,"","","",{"$f":"IF(O1381=\"\",\"\",CONCATENATE(\"*11....+\",VLOOKUP(16-(LEN(N1381)),'1'!$A$1:$B$16,2,TRUE),N1381,\" 81..40+\",VLOOKUP(16-(LEN(O1381)),'1'!$A$1:$B$16,2,TRUE),O1381,\" 82..40+\",VLOOKUP(16-(LEN(O1381)),'1'!$A$1:$B$16,2,TRUE),P1381,\" 71....+0000000000000000 \"))","v":""},null,""]
[null,{"$f":"IF(I1382=\"\",\"\",ROWS($A$3:A1382))","v":""},"","","","","","","","",{"$f":"IFERROR(SMALL($B$3:$B$2002,ROWS($A$3:A1382)),\"\")","v":""},"","",null,"","","",{"$f":"IF(O1382=\"\",\"\",CONCATENATE(\"*11....+\",VLOOKUP(16-(LEN(N1382)),'1'!$A$1:$B$16,2,TRUE),N1382,\" 81..40+\",VLOOKUP(16-(LEN(O1382)),'1'!$A$1:$B$16,2,TRUE),O1382,\" 82..40+\",VLOOKUP(16-(LEN(O1382)),'1'!$A$1:$B$16,2,TRUE),P1382,\" 71....+0000000000000000 \"))","v":""},null,""]
[null,{"$f":"IF(I1383=\"\",\"\",ROWS($A$3:A1383))","v":""},"","","","","","","","",{"$f":"IFERROR(SMALL($B$3:$B$2002,ROWS($A$3:A1383)),\"\")","v":""},"","",null,"","","",{"$f":"IF(O1383=\"\",\"\",CONCATENATE(\"*11....+\",VLOOKUP(16-(LEN(N1383)),'1'!$A$1:$B$16,2,TRUE),N1383,\" 81..40+\",VLOOKUP(16-(LEN(O1383)),'1'!$A$1:$B$16,2,TRUE),O1383,\" 82..40+\",VLOOKUP(16-(LEN(O1383)),'1'!$A$1:$B$16,2,TRUE),P1383,\" 71....+0000000000000000 \"))","v":""},null,""]
[null,{"$f":"IF(I1384=\"\",\"\",ROWS($A$3:A1384))","v":""},"","","","","","","","",{"$f":"IFERROR(SMALL($B$3:$B$2002,ROWS($A$3:A1384)),\"\")","v":""},"","",null,"","","",{"$f":"IF(O1384=\"\",\"\",CONCATENATE(\"*11....+\",VLOOKUP(16-(LEN(N1384)),'1'!$A$1:$B$16,2,TRUE),N1384,\" 81..40+\",VLOOKUP(16-(LEN(O1384)),'1'!$A$1:$B$16,2,TRUE),O1384,\" 82..40+\",VLOOKUP(16-(LEN(O1384)),'1'!$A$1:$B$16,2,TRUE),P1384,\" 71....+0000000000000000 \"))","v":""},null,""]
[null,{"$f":"IF(I1385=\"\",\"\",ROWS($A$3:A1385))","v":""},"","","","","","","","",{"$f":"IFERROR(SMALL($B$3:$B$2002,ROWS($A$3:A1385)),\"\")","v":""},"","",null,"","","",{"$f":"IF(O1385=\"\",\"\",CONCATENATE(\"*11....+\",VLOOKUP(16-(LEN(N1385)),'1'!$A$1:$B$16,2,TRUE),N1385,\" 81..40+\",VLOOKUP(16-(LEN(O1385)),'1'!$A$1:$B$16,2,TRUE),O1385,\" 82..40+\",VLOOKUP(16-(LEN(O1385)),'1'!$A$1:$B$16,2,TRUE),P1385,\" 71....+0000000000000000 \"))","v":""},null,""]
[null,{"$f":"IF(I1386=\"\",\"\",ROWS($A$3:A1386))","v":""},"","","","","","","","",{"$f":"IFERROR(SMALL($B$3:$B$2002,ROWS($A$3:A1386)),\"\")","v":""},"","",null,"","","",{"$f":"IF(O1386=\"\",\"\",CONCATENATE(\"*11....+\",VLOOKUP(16-(LEN(N1386)),'1'!$A$1:$B$16,2,TRUE),N1386,\" 81..40+\",VLOOKUP(16-(LEN(O1386)),'1'!$A$1:$B$16,2,TRUE),O1386,\" 82..40+\",VLOOKUP(16-(LEN(O1386)),'1'!$A$1:$B$16,2,TRUE),P1386,\" 71....+0000000000000000 \"))","v":""},null,""]
[null,{"$f":"IF(I1387=\"\",\"\",ROWS($A$3:A1387))","v":""},"","","","","","","","",{"$f":"IFERROR(SMALL($B$3:$B$2002,ROWS($A$3:A1387)),\"\")","v":""},"","",null,"","","",{"$f":"IF(O1387=\"\",\"\",CONCATENATE(\"*11....+\",VLOOKUP(16-(LEN(N1387)),'1'!$A$1:$B$16,2,TRUE),N1387,\" 81..40+\",VLOOKUP(16-(LEN(O1387)),'1'!$A$1:$B$16,2,TRUE),O1387,\" 82..40+\",VLOOKUP(16-(LEN(O1387)),'1'!$A$1:$B$16,2,TRUE),P1387,\" 71....+0000000000000000 \"))","v":""},null,""]
[null,{"$f":"IF(I1388=\"\",\"\",ROWS($A$3:A1388))","v":""},"","","","","","","","",{"$f":"IFERROR(SMALL($B$3:$B$2002,ROWS($A$3:A1388)),\"\")","v":""},"","",null,"","","",{"$f":"IF(O1388=\"\",\"\",CONCATENATE(\"*11....+\",VLOOKUP(16-(LEN(N1388)),'1'!$A$1:$B$16,2,TRUE),N1388,\" 81..40+\",VLOOKUP(16-(LEN(O1388)),'1'!$A$1:$B$16,2,TRUE),O1388,\" 82..40+\",VLOOKUP(16-(LEN(O1388)),'1'!$A$1:$B$16,2,TRUE),P1388,\" 71....+0000000000000000 \"))","v":""},null,""]
[null,{"$f":"IF(I1389=\"\",\"\",ROWS($A$3:A1389))","v":""},"","","","","","","","",{"$f":"IFERROR(SMALL($B$3:$B$2002,ROWS($A$3:A1389)),\"\")","v":""},"","",null,"","","",{"$f":"IF(O1389=\"\",\"\",CONCATENATE(\"*11....+\",VLOOKUP(16-(LEN(N1389)),'1'!$A$1:$B$16,2,TRUE),N1389,\" 81..40+\",VLOOKUP(16-(LEN(O1389)),'1'!$A$1:$B$16,2,TRUE),O1389,\" 82..40+\",VLOOKUP(16-(LEN(O1389)),'1'!$A$1:$B$16,2,TRUE),P1389,\" 71....+0000000000000000 \"))","v":""},null,""]
[null,{"$f":"IF(I1390=\"\",\"\",ROWS($A$3:A1390))","v":""},"","","","","","","","",{"$f":"IFERROR(SMALL($B$3:$B$2002,ROWS($A$3:A1390)),\"\")","v":""},"","",null,"","","",{"$f":"IF(O1390=\"\",\"\",CONCATENATE(\"*11....+\",VLOOKUP(16-(LEN(N1390)),'1'!$A$1:$B$16,2,TRUE),N1390,\" 81..40+\",VLOOKUP(16-(LEN(O1390)),'1'!$A$1:$B$16,2,TRUE),O1390,\" 82..40+\",VLOOKUP(16-(LEN(O1390)),'1'!$A$1:$B$16,2,TRUE),P1390,\" 71....+0000000000000000 \"))","v":""},null,""]
[null,{"$f":"IF(I1391=\"\",\"\",ROWS($A$3:A1391))","v":""},"","","","","","","","",{"$f":"IFERROR(SMALL($B$3:$B$2002,ROWS($A$3:A1391)),\"\")","v":""},"","",null,"","","",{"$f":"IF(O1391=\"\",\"\",CONCATENATE(\"*11....+\",VLOOKUP(16-(LEN(N1391)),'1'!$A$1:$B$16,2,TRUE),N1391,\" 81..40+\",VLOOKUP(16-(LEN(O1391)),'1'!$A$1:$B$16,2,TRUE),O1391,\" 82..40+\",VLOOKUP(16-(LEN(O1391)),'1'!$A$1:$B$16,2,TRUE),P1391,\" 71....+0000000000000000 \"))","v":""},null,""]
[null,{"$f":"IF(I1392=\"\",\"\",ROWS($A$3:A1392))","v":""},"","","","","","","","",{"$f":"IFERROR(SMALL($B$3:$B$2002,ROWS($A$3:A1392)),\"\")","v":""},"","",null,"","","",{"$f":"IF(O1392=\"\",\"\",CONCATENATE(\"*11....+\",VLOOKUP(16-(LEN(N1392)),'1'!$A$1:$B$16,2,TRUE),N1392,\" 81..40+\",VLOOKUP(16-(LEN(O1392)),'1'!$A$1:$B$16,2,TRUE),O1392,\" 82..40+\",VLOOKUP(16-(LEN(O1392)),'1'!$A$1:$B$16,2,TRUE),P1392,\" 71....+0000000000000000 \"))","v":""},null,""]
[null,{"$f":"IF(I1393=\"\",\"\",ROWS($A$3:A1393))","v":""},"","","","","","","","",{"$f":"IFERROR(SMALL($B$3:$B$2002,ROWS($A$3:A1393)),\"\")","v":""},"","",null,"","","",{"$f":"IF(O1393=\"\",\"\",CONCATENATE(\"*11....+\",VLOOKUP(16-(LEN(N1393)),'1'!$A$1:$B$16,2,TRUE),N1393,\" 81..40+\",VLOOKUP(16-(LEN(O1393)),'1'!$A$1:$B$16,2,TRUE),O1393,\" 82..40+\",VLOOKUP(16-(LEN(O1393)),'1'!$A$1:$B$16,2,TRUE),P1393,\" 71....+0000000000000000 \"))","v":""},null,""]
[null,{"$f":"IF(I1394=\"\",\"\",ROWS($A$3:A1394))","v":""},"","","","","","","","",{"$f":"IFERROR(SMALL($B$3:$B$2002,ROWS($A$3:A1394)),\"\")","v":""},"","",null,"","","",{"$f":"IF(O1394=\"\",\"\",CONCATENATE(\"*11....+\",VLOOKUP(16-(LEN(N1394)),'1'!$A$1:$B$16,2,TRUE),N1394,\" 81..40+\",VLOOKUP(16-(LEN(O1394)),'1'!$A$1:$B$16,2,TRUE),O1394,\" 82..40+\",VLOOKUP(16-(LEN(O1394)),'1'!$A$1:$B$16,2,TRUE),P1394,\" 71....+0000000000000000 \"))","v":""},null,""]
[null,{"$f":"IF(I1395=\"\",\"\",ROWS($A$3:A1395))","v":""},"","","","","","","","",{"$f":"IFERROR(SMALL($B$3:$B$2002,ROWS($A$3:A1395)),\"\")","v":""},"","",null,"","","",{"$f":"IF(O1395=\"\",\"\",CONCATENATE(\"*11....+\",VLOOKUP(16-(LEN(N1395)),'1'!$A$1:$B$16,2,TRUE),N1395,\" 81..40+\",VLOOKUP(16-(LEN(O1395)),'1'!$A$1:$B$16,2,TRUE),O1395,\" 82..40+\",VLOOKUP(16-(LEN(O1395)),'1'!$A$1:$B$16,2,TRUE),P1395,\" 71....+0000000000000000 \"))","v":""},null,""]
[null,{"$f":"IF(I1396=\"\",\"\",ROWS($A$3:A1396))","v":""},"","","","","","","","",{"$f":"IFERROR(SMALL($B$3:$B$2002,ROWS($A$3:A1396)),\"\")","v":""},"","",null,"","","",{"$f":"IF(O1396=\"\",\"\",CONCATENATE(\"*11....+\",VLOOKUP(16-(LEN(N1396)),'1'!$A$1:$B$16,2,TRUE),N1396,\" 81..40+\",VLOOKUP(16-(LEN(O1396)),'1'!$A$1:$B$16,2,TRUE),O1396,\" 82..40+\",VLOOKUP(16-(LEN(O1396)),'1'!$A$1:$B$16,2,TRUE),P1396,\" 71....+0000000000000000 \"))","v":""},null,""]
[null,{"$f":"IF(I1397=\"\",\"\",ROWS($A$3:A1397))","v":""},"","","","","","","","",{"$f":"IFERROR(SMALL($B$3:$B$2002,ROWS($A$3:A1397)),\"\")","v":""},"","",null,"","","",{"$f":"IF(O1397=\"\",\"\",CONCATENATE(\"*11....+\",VLOOKUP(16-(LEN(N1397)),'1'!$A$1:$B$16,2,TRUE),N1397,\" 81..40+\",VLOOKUP(16-(LEN(O1397)),'1'!$A$1:$B$16,2,TRUE),O1397,\" 82..40+\",VLOOKUP(16-(LEN(O1397)),'1'!$A$1:$B$16,2,TRUE),P1397,\" 71....+0000000000000000 \"))","v":""},null,""]
[null,{"$f":"IF(I1398=\"\",\"\",ROWS($A$3:A1398))","v":""},"","","","","","","","",{"$f":"IFERROR(SMALL($B$3:$B$2002,ROWS($A$3:A1398)),\"\")","v":""},"","",null,"","","",{"$f":"IF(O1398=\"\",\"\",CONCATENATE(\"*11....+\",VLOOKUP(16-(LEN(N1398)),'1'!$A$1:$B$16,2,TRUE),N1398,\" 81..40+\",VLOOKUP(16-(LEN(O1398)),'1'!$A$1:$B$16,2,TRUE),O1398,\" 82..40+\",VLOOKUP(16-(LEN(O1398)),'1'!$A$1:$B$16,2,TRUE),P1398,\" 71....+0000000000000000 \"))","v":""},null,""]
[null,{"$f":"IF(I1399=\"\",\"\",ROWS($A$3:A1399))","v":""},"","","","","","","","",{"$f":"IFERROR(SMALL($B$3:$B$2002,ROWS($A$3:A1399)),\"\")","v":""},"","",null,"","","",{"$f":"IF(O1399=\"\",\"\",CONCATENATE(\"*11....+\",VLOOKUP(16-(LEN(N1399)),'1'!$A$1:$B$16,2,TRUE),N1399,\" 81..40+\",VLOOKUP(16-(LEN(O1399)),'1'!$A$1:$B$16,2,TRUE),O1399,\" 82..40+\",VLOOKUP(16-(LEN(O1399)),'1'!$A$1:$B$16,2,TRUE),P1399,\" 71....+0000000000000000 \"))","v":""},null,""]
[null,{"$f":"IF(I1400=\"\",\"\",ROWS($A$3:A1400))","v":""},"","","","","","","","",{"$f":"IFERROR(SMALL($B$3:$B$2002,ROWS($A$3:A1400)),\"\")","v":""},"","",null,"","","",{"$f":"IF(O1400=\"\",\"\",CONCATENATE(\"*11....+\",VLOOKUP(16-(LEN(N1400)),'1'!$A$1:$B$16,2,TRUE),N1400,\" 81..40+\",VLOOKUP(16-(LEN(O1400)),'1'!$A$1:$B$16,2,TRUE),O1400,\" 82..40+\",VLOOKUP(16-(LEN(O1400)),'1'!$A$1:$B$16,2,TRUE),P1400,\" 71....+0000000000000000 \"))","v":""},null,""]
[null,{"$f":"IF(I1401=\"\",\"\",ROWS($A$3:A1401))","v":""},"","","","","","","","",{"$f":"IFERROR(SMALL($B$3:$B$2002,ROWS($A$3:A1401)),\"\")","v":""},"","",null,"","","",{"$f":"IF(O1401=\"\",\"\",CONCATENATE(\"*11....+\",VLOOKUP(16-(LEN(N1401)),'1'!$A$1:$B$16,2,TRUE),N1401,\" 81..40+\",VLOOKUP(16-(LEN(O1401)),'1'!$A$1:$B$16,2,TRUE),O1401,\" 82..40+\",VLOOKUP(16-(LEN(O1401)),'1'!$A$1:$B$16,2,TRUE),P1401,\" 71....+0000000000000000 \"))","v":""},null,""]
[null,{"$f":"IF(I1402=\"\",\"\",ROWS($A$3:A1402))","v":""},"","","","","","","","",{"$f":"IFERROR(SMALL($B$3:$B$2002,ROWS($A$3:A1402)),\"\")","v":""},"","",null,"","","",{"$f":"IF(O1402=\"\",\"\",CONCATENATE(\"*11....+\",VLOOKUP(16-(LEN(N1402)),'1'!$A$1:$B$16,2,TRUE),N1402,\" 81..40+\",VLOOKUP(16-(LEN(O1402)),'1'!$A$1:$B$16,2,TRUE),O1402,\" 82..40+\",VLOOKUP(16-(LEN(O1402)),'1'!$A$1:$B$16,2,TRUE),P1402,\" 71....+0000000000000000 \"))","v":""},null,""]
[null,{"$f":"IF(I1403=\"\",\"\",ROWS($A$3:A1403))","v":""},"","","","","","","","",{"$f":"IFERROR(SMALL($B$3:$B$2002,ROWS($A$3:A1403)),\"\")","v":""},"","",null,"","","",{"$f":"IF(O1403=\"\",\"\",CONCATENATE(\"*11....+\",VLOOKUP(16-(LEN(N1403)),'1'!$A$1:$B$16,2,TRUE),N1403,\" 81..40+\",VLOOKUP(16-(LEN(O1403)),'1'!$A$1:$B$16,2,TRUE),O1403,\" 82..40+\",VLOOKUP(16-(LEN(O1403)),'1'!$A$1:$B$16,2,TRUE),P1403,\" 71....+0000000000000000 \"))","v":""},null,""]
[null,{"$f":"IF(I1404=\"\",\"\",ROWS($A$3:A1404))","v":""},"","","","","","","","",{"$f":"IFERROR(SMALL($B$3:$B$2002,ROWS($A$3:A1404)),\"\")","v":""},"","",null,"","","",{"$f":"IF(O1404=\"\",\"\",CONCATENATE(\"*11....+\",VLOOKUP(16-(LEN(N1404)),'1'!$A$1:$B$16,2,TRUE),N1404,\" 81..40+\",VLOOKUP(16-(LEN(O1404)),'1'!$A$1:$B$16,2,TRUE),O1404,\" 82..40+\",VLOOKUP(16-(LEN(O1404)),'1'!$A$1:$B$16,2,TRUE),P1404,\" 71....+0000000000000000 \"))","v":""},null,""]
[null,{"$f":"IF(I1405=\"\",\"\",ROWS($A$3:A1405))","v":""},"","","","","","","","",{"$f":"IFERROR(SMALL($B$3:$B$2002,ROWS($A$3:A1405)),\"\")","v":""},"","",null,"","","",{"$f":"IF(O1405=\"\",\"\",CONCATENATE(\"*11....+\",VLOOKUP(16-(LEN(N1405)),'1'!$A$1:$B$16,2,TRUE),N1405,\" 81..40+\",VLOOKUP(16-(LEN(O1405)),'1'!$A$1:$B$16,2,TRUE),O1405,\" 82..40+\",VLOOKUP(16-(LEN(O1405)),'1'!$A$1:$B$16,2,TRUE),P1405,\" 71....+0000000000000000 \"))","v":""},null,""]
[null,{"$f":"IF(I1406=\"\",\"\",ROWS($A$3:A1406))","v":""},"","","","","","","","",{"$f":"IFERROR(SMALL($B$3:$B$2002,ROWS($A$3:A1406)),\"\")","v":""},"","",null,"","","",{"$f":"IF(O1406=\"\",\"\",CONCATENATE(\"*11....+\",VLOOKUP(16-(LEN(N1406)),'1'!$A$1:$B$16,2,TRUE),N1406,\" 81..40+\",VLOOKUP(16-(LEN(O1406)),'1'!$A$1:$B$16,2,TRUE),O1406,\" 82..40+\",VLOOKUP(16-(LEN(O1406)),'1'!$A$1:$B$16,2,TRUE),P1406,\" 71....+0000000000000000 \"))","v":""},null,""]
[null,{"$f":"IF(I1407=\"\",\"\",ROWS($A$3:A1407))","v":""},"","","","","","","","",{"$f":"IFERROR(SMALL($B$3:$B$2002,ROWS($A$3:A1407)),\"\")","v":""},"","",null,"","","",{"$f":"IF(O1407=\"\",\"\",CONCATENATE(\"*11....+\",VLOOKUP(16-(LEN(N1407)),'1'!$A$1:$B$16,2,TRUE),N1407,\" 81..40+\",VLOOKUP(16-(LEN(O1407)),'1'!$A$1:$B$16,2,TRUE),O1407,\" 82..40+\",VLOOKUP(16-(LEN(O1407)),'1'!$A$1:$B$16,2,TRUE),P1407,\" 71....+0000000000000000 \"))","v":""},null,""]
[null,{"$f":"IF(I1408=\"\",\"\",ROWS($A$3:A1408))","v":""},"","","","","","","","",{"$f":"IFERROR(SMALL($B$3:$B$2002,ROWS($A$3:A1408)),\"\")","v":""},"","",null,"","","",{"$f":"IF(O1408=\"\",\"\",CONCATENATE(\"*11....+\",VLOOKUP(16-(LEN(N1408)),'1'!$A$1:$B$16,2,TRUE),N1408,\" 81..40+\",VLOOKUP(16-(LEN(O1408)),'1'!$A$1:$B$16,2,TRUE),O1408,\" 82..40+\",VLOOKUP(16-(LEN(O1408)),'1'!$A$1:$B$16,2,TRUE),P1408,\" 71....+0000000000000000 \"))","v":""},null,""]
[null,{"$f":"IF(I1409=\"\",\"\",ROWS($A$3:A1409))","v":""},"","","","","","","","",{"$f":"IFERROR(SMALL($B$3:$B$2002,ROWS($A$3:A1409)),\"\")","v":""},"","",null,"","","",{"$f":"IF(O1409=\"\",\"\",CONCATENATE(\"*11....+\",VLOOKUP(16-(LEN(N1409)),'1'!$A$1:$B$16,2,TRUE),N1409,\" 81..40+\",VLOOKUP(16-(LEN(O1409)),'1'!$A$1:$B$16,2,TRUE),O1409,\" 82..40+\",VLOOKUP(16-(LEN(O1409)),'1'!$A$1:$B$16,2,TRUE),P1409,\" 71....+0000000000000000 \"))","v":""},null,""]
[null,{"$f":"IF(I1410=\"\",\"\",ROWS($A$3:A1410))","v":""},"","","","","","","","",{"$f":"IFERROR(SMALL($B$3:$B$2002,ROWS($A$3:A1410)),\"\")","v":""},"","",null,"","","",{"$f":"IF(O1410=\"\",\"\",CONCATENATE(\"*11....+\",VLOOKUP(16-(LEN(N1410)),'1'!$A$1:$B$16,2,TRUE),N1410,\" 81..40+\",VLOOKUP(16-(LEN(O1410)),'1'!$A$1:$B$16,2,TRUE),O1410,\" 82..40+\",VLOOKUP(16-(LEN(O1410)),'1'!$A$1:$B$16,2,TRUE),P1410,\" 71....+0000000000000000 \"))","v":""},null,""]
[null,{"$f":"IF(I1411=\"\",\"\",ROWS($A$3:A1411))","v":""},"","","","","","","","",{"$f":"IFERROR(SMALL($B$3:$B$2002,ROWS($A$3:A1411)),\"\")","v":""},"","",null,"","","",{"$f":"IF(O1411=\"\",\"\",CONCATENATE(\"*11....+\",VLOOKUP(16-(LEN(N1411)),'1'!$A$1:$B$16,2,TRUE),N1411,\" 81..40+\",VLOOKUP(16-(LEN(O1411)),'1'!$A$1:$B$16,2,TRUE),O1411,\" 82..40+\",VLOOKUP(16-(LEN(O1411)),'1'!$A$1:$B$16,2,TRUE),P1411,\" 71....+0000000000000000 \"))","v":""},null,""]
[null,{"$f":"IF(I1412=\"\",\"\",ROWS($A$3:A1412))","v":""},{"$f":"IF(LEN(A1412)=59,ROUND(VALUE(MID(A1412,23,9)),3),\"\")","v":""},{"$f":"IF(LEN(A1412)=24,\"\",\"\")","v":""},{"$f":"IF(LEN(A1412)=63,ROUND(VALUE(MID(A1412,23,12)),3),\"\")","v":""},{"$f":"IF(LEN(A1412)=59,ROUND(VALUE(MID(A1412,37,9)),3),\"\")","v":""},{"$f":"IF(LEN(A1412)=24,\"\",\"\")","v":""},{"$f":"IF(LEN(A1412)=63,ROUND(VALUE(MID(A1412,39,12)),3),\"\")","v":""},{"$f":"IF(AND(C1412=\"\",D1412=\"\",E1412=\"\"),\"\",ROUND(CONCATENATE(C1412,D1412,E1412),3))","v":""},{"$f":"IF(AND(C1412=\"\",D1412=\"\",E1412=\"\"),\"\",ROUND(CONCATENATE(F1412,G1412,H1412),3))","v":""},{"$f":"IFERROR(SMALL($B$3:$B$2002,ROWS($A$3:A1412)),\"\")","v":""},{"$f":"IF(K1412=\"\",\"\",ROUND(VALUE(VLOOKUP(K1412,$B$3:$J$2002,8,TRUE)),3))","v":""},{"$f":"IF(K1412=\"\",\"\",ROUND(VALUE(VLOOKUP(K1412,$B$3:$J$2002,9,TRUE)),3))","v":""},null,{"$f":"IF(L1412=\"\",\"\",L1412/0.001)","v":""},"",{"$f":"IF(O1412=\"\",\"\",16-LEN(N1412))","v":""},{"$f":"IF(O1412=\"\",\"\",CONCATENATE(\"*11....+\",VLOOKUP(16-(LEN(N1412)),'1'!$A$1:$B$16,2,TRUE),N1412,\" 81..40+\",VLOOKUP(16-(LEN(O1412)),'1'!$A$1:$B$16,2,TRUE),O1412,\" 82..40+\",VLOOKUP(16-(LEN(O1412)),'1'!$A$1:$B$16,2,TRUE),P1412,\" 71....+0000000000000000 \"))","v":""},null,{"$f":"IF(O1412=\"\",\"\",CONCATENATE(N1412,\",\",L1412,\",\",M1412))","v":""}]
[null,{"$f":"IF(I1413=\"\",\"\",ROWS($A$3:A1413))","v":""},"","","","","","","","",{"$f":"IFERROR(SMALL($B$3:$B$2002,ROWS($A$3:A1413)),\"\")","v":""},"","",null,"","","",{"$f":"IF(O1413=\"\",\"\",CONCATENATE(\"*11....+\",VLOOKUP(16-(LEN(N1413)),'1'!$A$1:$B$16,2,TRUE),N1413,\" 81..40+\",VLOOKUP(16-(LEN(O1413)),'1'!$A$1:$B$16,2,TRUE),O1413,\" 82..40+\",VLOOKUP(16-(LEN(O1413)),'1'!$A$1:$B$16,2,TRUE),P1413,\" 71....+0000000000000000 \"))","v":""},null,""]
[null,{"$f":"IF(I1414=\"\",\"\",ROWS($A$3:A1414))","v":""},"","","","","","","","",{"$f":"IFERROR(SMALL($B$3:$B$2002,ROWS($A$3:A1414)),\"\")","v":""},"","",null,"","","",{"$f":"IF(O1414=\"\",\"\",CONCATENATE(\"*11....+\",VLOOKUP(16-(LEN(N1414)),'1'!$A$1:$B$16,2,TRUE),N1414,\" 81..40+\",VLOOKUP(16-(LEN(O1414)),'1'!$A$1:$B$16,2,TRUE),O1414,\" 82..40+\",VLOOKUP(16-(LEN(O1414)),'1'!$A$1:$B$16,2,TRUE),P1414,\" 71....+0000000000000000 \"))","v":""},null,""]
[null,{"$f":"IF(I1415=\"\",\"\",ROWS($A$3:A1415))","v":""},"","","","","","","","",{"$f":"IFERROR(SMALL($B$3:$B$2002,ROWS($A$3:A1415)),\"\")","v":""},"","",null,"","","",{"$f":"IF(O1415=\"\",\"\",CONCATENATE(\"*11....+\",VLOOKUP(16-(LEN(N1415)),'1'!$A$1:$B$16,2,TRUE),N1415,\" 81..40+\",VLOOKUP(16-(LEN(O1415)),'1'!$A$1:$B$16,2,TRUE),O1415,\" 82..40+\",VLOOKUP(16-(LEN(O1415)),'1'!$A$1:$B$16,2,TRUE),P1415,\" 71....+0000000000000000 \"))","v":""},null,""]
[null,{"$f":"IF(I1416=\"\",\"\",ROWS($A$3:A1416))","v":""},"","","","","","","","",{"$f":"IFERROR(SMALL($B$3:$B$2002,ROWS($A$3:A1416)),\"\")","v":""},"","",null,"","","",{"$f":"IF(O1416=\"\",\"\",CONCATENATE(\"*11....+\",VLOOKUP(16-(LEN(N1416)),'1'!$A$1:$B$16,2,TRUE),N1416,\" 81..40+\",VLOOKUP(16-(LEN(O1416)),'1'!$A$1:$B$16,2,TRUE),O1416,\" 82..40+\",VLOOKUP(16-(LEN(O1416)),'1'!$A$1:$B$16,2,TRUE),P1416,\" 71....+0000000000000000 \"))","v":""},null,""]
[null,{"$f":"IF(I1417=\"\",\"\",ROWS($A$3:A1417))","v":""},"","","","","","","","",{"$f":"IFERROR(SMALL($B$3:$B$2002,ROWS($A$3:A1417)),\"\")","v":""},"","",null,"","","",{"$f":"IF(O1417=\"\",\"\",CONCATENATE(\"*11....+\",VLOOKUP(16-(LEN(N1417)),'1'!$A$1:$B$16,2,TRUE),N1417,\" 81..40+\",VLOOKUP(16-(LEN(O1417)),'1'!$A$1:$B$16,2,TRUE),O1417,\" 82..40+\",VLOOKUP(16-(LEN(O1417)),'1'!$A$1:$B$16,2,TRUE),P1417,\" 71....+0000000000000000 \"))","v":""},null,""]
[null,{"$f":"IF(I1418=\"\",\"\",ROWS($A$3:A1418))","v":""},"","","","","","","","",{"$f":"IFERROR(SMALL($B$3:$B$2002,ROWS($A$3:A1418)),\"\")","v":""},"","",null,"","","",{"$f":"IF(O1418=\"\",\"\",CONCATENATE(\"*11....+\",VLOOKUP(16-(LEN(N1418)),'1'!$A$1:$B$16,2,TRUE),N1418,\" 81..40+\",VLOOKUP(16-(LEN(O1418)),'1'!$A$1:$B$16,2,TRUE),O1418,\" 82..40+\",VLOOKUP(16-(LEN(O1418)),'1'!$A$1:$B$16,2,TRUE),P1418,\" 71....+0000000000000000 \"))","v":""},null,""]
[null,{"$f":"IF(I1419=\"\",\"\",ROWS($A$3:A1419))","v":""},"","","","","","","","",{"$f":"IFERROR(SMALL($B$3:$B$2002,ROWS($A$3:A1419)),\"\")","v":""},"","",null,"","","",{"$f":"IF(O1419=\"\",\"\",CONCATENATE(\"*11....+\",VLOOKUP(16-(LEN(N1419)),'1'!$A$1:$B$16,2,TRUE),N1419,\" 81..40+\",VLOOKUP(16-(LEN(O1419)),'1'!$A$1:$B$16,2,TRUE),O1419,\" 82..40+\",VLOOKUP(16-(LEN(O1419)),'1'!$A$1:$B$16,2,TRUE),P1419,\" 71....+0000000000000000 \"))","v":""},null,""]
[null,{"$f":"IF(I1420=\"\",\"\",ROWS($A$3:A1420))","v":""},"","","","","","","","",{"$f":"IFERROR(SMALL($B$3:$B$2002,ROWS($A$3:A1420)),\"\")","v":""},"","",null,"","","",{"$f":"IF(O1420=\"\",\"\",CONCATENATE(\"*11....+\",VLOOKUP(16-(LEN(N1420)),'1'!$A$1:$B$16,2,TRUE),N1420,\" 81..40+\",VLOOKUP(16-(LEN(O1420)),'1'!$A$1:$B$16,2,TRUE),O1420,\" 82..40+\",VLOOKUP(16-(LEN(O1420)),'1'!$A$1:$B$16,2,TRUE),P1420,\" 71....+0000000000000000 \"))","v":""},null,""]
[null,{"$f":"IF(I1421=\"\",\"\",ROWS($A$3:A1421))","v":""},"","","","","","","","",{"$f":"IFERROR(SMALL($B$3:$B$2002,ROWS($A$3:A1421)),\"\")","v":""},"","",null,"","","",{"$f":"IF(O1421=\"\",\"\",CONCATENATE(\"*11....+\",VLOOKUP(16-(LEN(N1421)),'1'!$A$1:$B$16,2,TRUE),N1421,\" 81..40+\",VLOOKUP(16-(LEN(O1421)),'1'!$A$1:$B$16,2,TRUE),O1421,\" 82..40+\",VLOOKUP(16-(LEN(O1421)),'1'!$A$1:$B$16,2,TRUE),P1421,\" 71....+0000000000000000 \"))","v":""},null,""]
[null,{"$f":"IF(I1422=\"\",\"\",ROWS($A$3:A1422))","v":""},"","","","","","","","",{"$f":"IFERROR(SMALL($B$3:$B$2002,ROWS($A$3:A1422)),\"\")","v":""},"","",null,"","","",{"$f":"IF(O1422=\"\",\"\",CONCATENATE(\"*11....+\",VLOOKUP(16-(LEN(N1422)),'1'!$A$1:$B$16,2,TRUE),N1422,\" 81..40+\",VLOOKUP(16-(LEN(O1422)),'1'!$A$1:$B$16,2,TRUE),O1422,\" 82..40+\",VLOOKUP(16-(LEN(O1422)),'1'!$A$1:$B$16,2,TRUE),P1422,\" 71....+0000000000000000 \"))","v":""},null,""]
[null,{"$f":"IF(I1423=\"\",\"\",ROWS($A$3:A1423))","v":""},"","","","","","","","",{"$f":"IFERROR(SMALL($B$3:$B$2002,ROWS($A$3:A1423)),\"\")","v":""},"","",null,"","","",{"$f":"IF(O1423=\"\",\"\",CONCATENATE(\"*11....+\",VLOOKUP(16-(LEN(N1423)),'1'!$A$1:$B$16,2,TRUE),N1423,\" 81..40+\",VLOOKUP(16-(LEN(O1423)),'1'!$A$1:$B$16,2,TRUE),O1423,\" 82..40+\",VLOOKUP(16-(LEN(O1423)),'1'!$A$1:$B$16,2,TRUE),P1423,\" 71....+0000000000000000 \"))","v":""},null,""]
[null,{"$f":"IF(I1424=\"\",\"\",ROWS($A$3:A1424))","v":""},"","","","","","","","",{"$f":"IFERROR(SMALL($B$3:$B$2002,ROWS($A$3:A1424)),\"\")","v":""},"","",null,"","","",{"$f":"IF(O1424=\"\",\"\",CONCATENATE(\"*11....+\",VLOOKUP(16-(LEN(N1424)),'1'!$A$1:$B$16,2,TRUE),N1424,\" 81..40+\",VLOOKUP(16-(LEN(O1424)),'1'!$A$1:$B$16,2,TRUE),O1424,\" 82..40+\",VLOOKUP(16-(LEN(O1424)),'1'!$A$1:$B$16,2,TRUE),P1424,\" 71....+0000000000000000 \"))","v":""},null,""]
[null,{"$f":"IF(I1425=\"\",\"\",ROWS($A$3:A1425))","v":""},"","","","","","","","",{"$f":"IFERROR(SMALL($B$3:$B$2002,ROWS($A$3:A1425)),\"\")","v":""},"","",null,"","","",{"$f":"IF(O1425=\"\",\"\",CONCATENATE(\"*11....+\",VLOOKUP(16-(LEN(N1425)),'1'!$A$1:$B$16,2,TRUE),N1425,\" 81..40+\",VLOOKUP(16-(LEN(O1425)),'1'!$A$1:$B$16,2,TRUE),O1425,\" 82..40+\",VLOOKUP(16-(LEN(O1425)),'1'!$A$1:$B$16,2,TRUE),P1425,\" 71....+0000000000000000 \"))","v":""},null,""]
[null,{"$f":"IF(I1426=\"\",\"\",ROWS($A$3:A1426))","v":""},"","","","","","","","",{"$f":"IFERROR(SMALL($B$3:$B$2002,ROWS($A$3:A1426)),\"\")","v":""},"","",null,"","","",{"$f":"IF(O1426=\"\",\"\",CONCATENATE(\"*11....+\",VLOOKUP(16-(LEN(N1426)),'1'!$A$1:$B$16,2,TRUE),N1426,\" 81..40+\",VLOOKUP(16-(LEN(O1426)),'1'!$A$1:$B$16,2,TRUE),O1426,\" 82..40+\",VLOOKUP(16-(LEN(O1426)),'1'!$A$1:$B$16,2,TRUE),P1426,\" 71....+0000000000000000 \"))","v":""},null,""]
[null,{"$f":"IF(I1427=\"\",\"\",ROWS($A$3:A1427))","v":""},"","","","","","","","",{"$f":"IFERROR(SMALL($B$3:$B$2002,ROWS($A$3:A1427)),\"\")","v":""},"","",null,"","","",{"$f":"IF(O1427=\"\",\"\",CONCATENATE(\"*11....+\",VLOOKUP(16-(LEN(N1427)),'1'!$A$1:$B$16,2,TRUE),N1427,\" 81..40+\",VLOOKUP(16-(LEN(O1427)),'1'!$A$1:$B$16,2,TRUE),O1427,\" 82..40+\",VLOOKUP(16-(LEN(O1427)),'1'!$A$1:$B$16,2,TRUE),P1427,\" 71....+0000000000000000 \"))","v":""},null,""]
[null,{"$f":"IF(I1428=\"\",\"\",ROWS($A$3:A1428))","v":""},"","","","","","","","",{"$f":"IFERROR(SMALL($B$3:$B$2002,ROWS($A$3:A1428)),\"\")","v":""},"","",null,"","","",{"$f":"IF(O1428=\"\",\"\",CONCATENATE(\"*11....+\",VLOOKUP(16-(LEN(N1428)),'1'!$A$1:$B$16,2,TRUE),N1428,\" 81..40+\",VLOOKUP(16-(LEN(O1428)),'1'!$A$1:$B$16,2,TRUE),O1428,\" 82..40+\",VLOOKUP(16-(LEN(O1428)),'1'!$A$1:$B$16,2,TRUE),P1428,\" 71....+0000000000000000 \"))","v":""},null,""]
[null,{"$f":"IF(I1429=\"\",\"\",ROWS($A$3:A1429))","v":""},"","","","","","","","",{"$f":"IFERROR(SMALL($B$3:$B$2002,ROWS($A$3:A1429)),\"\")","v":""},"","",null,"","","",{"$f":"IF(O1429=\"\",\"\",CONCATENATE(\"*11....+\",VLOOKUP(16-(LEN(N1429)),'1'!$A$1:$B$16,2,TRUE),N1429,\" 81..40+\",VLOOKUP(16-(LEN(O1429)),'1'!$A$1:$B$16,2,TRUE),O1429,\" 82..40+\",VLOOKUP(16-(LEN(O1429)),'1'!$A$1:$B$16,2,TRUE),P1429,\" 71....+0000000000000000 \"))","v":""},null,""]
[null,{"$f":"IF(I1430=\"\",\"\",ROWS($A$3:A1430))","v":""},"","","","","","","","",{"$f":"IFERROR(SMALL($B$3:$B$2002,ROWS($A$3:A1430)),\"\")","v":""},"","",null,"","","",{"$f":"IF(O1430=\"\",\"\",CONCATENATE(\"*11....+\",VLOOKUP(16-(LEN(N1430)),'1'!$A$1:$B$16,2,TRUE),N1430,\" 81..40+\",VLOOKUP(16-(LEN(O1430)),'1'!$A$1:$B$16,2,TRUE),O1430,\" 82..40+\",VLOOKUP(16-(LEN(O1430)),'1'!$A$1:$B$16,2,TRUE),P1430,\" 71....+0000000000000000 \"))","v":""},null,""]
[null,{"$f":"IF(I1431=\"\",\"\",ROWS($A$3:A1431))","v":""},"","","","","","","","",{"$f":"IFERROR(SMALL($B$3:$B$2002,ROWS($A$3:A1431)),\"\")","v":""},"","",null,"","","",{"$f":"IF(O1431=\"\",\"\",CONCATENATE(\"*11....+\",VLOOKUP(16-(LEN(N1431)),'1'!$A$1:$B$16,2,TRUE),N1431,\" 81..40+\",VLOOKUP(16-(LEN(O1431)),'1'!$A$1:$B$16,2,TRUE),O1431,\" 82..40+\",VLOOKUP(16-(LEN(O1431)),'1'!$A$1:$B$16,2,TRUE),P1431,\" 71....+0000000000000000 \"))","v":""},null,""]
[null,{"$f":"IF(I1432=\"\",\"\",ROWS($A$3:A1432))","v":""},"","","","","","","","",{"$f":"IFERROR(SMALL($B$3:$B$2002,ROWS($A$3:A1432)),\"\")","v":""},"","",null,"","","",{"$f":"IF(O1432=\"\",\"\",CONCATENATE(\"*11....+\",VLOOKUP(16-(LEN(N1432)),'1'!$A$1:$B$16,2,TRUE),N1432,\" 81..40+\",VLOOKUP(16-(LEN(O1432)),'1'!$A$1:$B$16,2,TRUE),O1432,\" 82..40+\",VLOOKUP(16-(LEN(O1432)),'1'!$A$1:$B$16,2,TRUE),P1432,\" 71....+0000000000000000 \"))","v":""},null,""]
[null,{"$f":"IF(I1433=\"\",\"\",ROWS($A$3:A1433))","v":""},"","","","","","","","",{"$f":"IFERROR(SMALL($B$3:$B$2002,ROWS($A$3:A1433)),\"\")","v":""},"","",null,"","","",{"$f":"IF(O1433=\"\",\"\",CONCATENATE(\"*11....+\",VLOOKUP(16-(LEN(N1433)),'1'!$A$1:$B$16,2,TRUE),N1433,\" 81..40+\",VLOOKUP(16-(LEN(O1433)),'1'!$A$1:$B$16,2,TRUE),O1433,\" 82..40+\",VLOOKUP(16-(LEN(O1433)),'1'!$A$1:$B$16,2,TRUE),P1433,\" 71....+0000000000000000 \"))","v":""},null,""]
[null,{"$f":"IF(I1434=\"\",\"\",ROWS($A$3:A1434))","v":""},"","","","","","","","",{"$f":"IFERROR(SMALL($B$3:$B$2002,ROWS($A$3:A1434)),\"\")","v":""},"","",null,"","","",{"$f":"IF(O1434=\"\",\"\",CONCATENATE(\"*11....+\",VLOOKUP(16-(LEN(N1434)),'1'!$A$1:$B$16,2,TRUE),N1434,\" 81..40+\",VLOOKUP(16-(LEN(O1434)),'1'!$A$1:$B$16,2,TRUE),O1434,\" 82..40+\",VLOOKUP(16-(LEN(O1434)),'1'!$A$1:$B$16,2,TRUE),P1434,\" 71....+0000000000000000 \"))","v":""},null,""]
[null,{"$f":"IF(I1435=\"\",\"\",ROWS($A$3:A1435))","v":""},"","","","","","","","",{"$f":"IFERROR(SMALL($B$3:$B$2002,ROWS($A$3:A1435)),\"\")","v":""},"","",null,"","","",{"$f":"IF(O1435=\"\",\"\",CONCATENATE(\"*11....+\",VLOOKUP(16-(LEN(N1435)),'1'!$A$1:$B$16,2,TRUE),N1435,\" 81..40+\",VLOOKUP(16-(LEN(O1435)),'1'!$A$1:$B$16,2,TRUE),O1435,\" 82..40+\",VLOOKUP(16-(LEN(O1435)),'1'!$A$1:$B$16,2,TRUE),P1435,\" 71....+0000000000000000 \"))","v":""},null,""]
[null,{"$f":"IF(I1436=\"\",\"\",ROWS($A$3:A1436))","v":""},"","","","","","","","",{"$f":"IFERROR(SMALL($B$3:$B$2002,ROWS($A$3:A1436)),\"\")","v":""},"","",null,"","","",{"$f":"IF(O1436=\"\",\"\",CONCATENATE(\"*11....+\",VLOOKUP(16-(LEN(N1436)),'1'!$A$1:$B$16,2,TRUE),N1436,\" 81..40+\",VLOOKUP(16-(LEN(O1436)),'1'!$A$1:$B$16,2,TRUE),O1436,\" 82..40+\",VLOOKUP(16-(LEN(O1436)),'1'!$A$1:$B$16,2,TRUE),P1436,\" 71....+0000000000000000 \"))","v":""},null,""]
[null,{"$f":"IF(I1437=\"\",\"\",ROWS($A$3:A1437))","v":""},"","","","","","","","",{"$f":"IFERROR(SMALL($B$3:$B$2002,ROWS($A$3:A1437)),\"\")","v":""},"","",null,"","","",{"$f":"IF(O1437=\"\",\"\",CONCATENATE(\"*11....+\",VLOOKUP(16-(LEN(N1437)),'1'!$A$1:$B$16,2,TRUE),N1437,\" 81..40+\",VLOOKUP(16-(LEN(O1437)),'1'!$A$1:$B$16,2,TRUE),O1437,\" 82..40+\",VLOOKUP(16-(LEN(O1437)),'1'!$A$1:$B$16,2,TRUE),P1437,\" 71....+0000000000000000 \"))","v":""},null,""]
[null,{"$f":"IF(I1438=\"\",\"\",ROWS($A$3:A1438))","v":""},"","","","","","","","",{"$f":"IFERROR(SMALL($B$3:$B$2002,ROWS($A$3:A1438)),\"\")","v":""},"","",null,"","","",{"$f":"IF(O1438=\"\",\"\",CONCATENATE(\"*11....+\",VLOOKUP(16-(LEN(N1438)),'1'!$A$1:$B$16,2,TRUE),N1438,\" 81..40+\",VLOOKUP(16-(LEN(O1438)),'1'!$A$1:$B$16,2,TRUE),O1438,\" 82..40+\",VLOOKUP(16-(LEN(O1438)),'1'!$A$1:$B$16,2,TRUE),P1438,\" 71....+0000000000000000 \"))","v":""},null,""]
[null,{"$f":"IF(I1439=\"\",\"\",ROWS($A$3:A1439))","v":""},"","","","","","","","",{"$f":"IFERROR(SMALL($B$3:$B$2002,ROWS($A$3:A1439)),\"\")","v":""},"","",null,"","","",{"$f":"IF(O1439=\"\",\"\",CONCATENATE(\"*11....+\",VLOOKUP(16-(LEN(N1439)),'1'!$A$1:$B$16,2,TRUE),N1439,\" 81..40+\",VLOOKUP(16-(LEN(O1439)),'1'!$A$1:$B$16,2,TRUE),O1439,\" 82..40+\",VLOOKUP(16-(LEN(O1439)),'1'!$A$1:$B$16,2,TRUE),P1439,\" 71....+0000000000000000 \"))","v":""},null,""]
[null,{"$f":"IF(I1440=\"\",\"\",ROWS($A$3:A1440))","v":""},"","","","","","","","",{"$f":"IFERROR(SMALL($B$3:$B$2002,ROWS($A$3:A1440)),\"\")","v":""},"","",null,"","","",{"$f":"IF(O1440=\"\",\"\",CONCATENATE(\"*11....+\",VLOOKUP(16-(LEN(N1440)),'1'!$A$1:$B$16,2,TRUE),N1440,\" 81..40+\",VLOOKUP(16-(LEN(O1440)),'1'!$A$1:$B$16,2,TRUE),O1440,\" 82..40+\",VLOOKUP(16-(LEN(O1440)),'1'!$A$1:$B$16,2,TRUE),P1440,\" 71....+0000000000000000 \"))","v":""},null,""]
[null,{"$f":"IF(I1441=\"\",\"\",ROWS($A$3:A1441))","v":""},"","","","","","","","",{"$f":"IFERROR(SMALL($B$3:$B$2002,ROWS($A$3:A1441)),\"\")","v":""},"","",null,"","","",{"$f":"IF(O1441=\"\",\"\",CONCATENATE(\"*11....+\",VLOOKUP(16-(LEN(N1441)),'1'!$A$1:$B$16,2,TRUE),N1441,\" 81..40+\",VLOOKUP(16-(LEN(O1441)),'1'!$A$1:$B$16,2,TRUE),O1441,\" 82..40+\",VLOOKUP(16-(LEN(O1441)),'1'!$A$1:$B$16,2,TRUE),P1441,\" 71....+0000000000000000 \"))","v":""},null,""]
[null,{"$f":"IF(I1442=\"\",\"\",ROWS($A$3:A1442))","v":""},"","","","","","","","",{"$f":"IFERROR(SMALL($B$3:$B$2002,ROWS($A$3:A1442)),\"\")","v":""},"","",null,"","","",{"$f":"IF(O1442=\"\",\"\",CONCATENATE(\"*11....+\",VLOOKUP(16-(LEN(N1442)),'1'!$A$1:$B$16,2,TRUE),N1442,\" 81..40+\",VLOOKUP(16-(LEN(O1442)),'1'!$A$1:$B$16,2,TRUE),O1442,\" 82..40+\",VLOOKUP(16-(LEN(O1442)),'1'!$A$1:$B$16,2,TRUE),P1442,\" 71....+0000000000000000 \"))","v":""},null,""]
[null,{"$f":"IF(I1443=\"\",\"\",ROWS($A$3:A1443))","v":""},"","","","","","","","",{"$f":"IFERROR(SMALL($B$3:$B$2002,ROWS($A$3:A1443)),\"\")","v":""},"","",null,"","","",{"$f":"IF(O1443=\"\",\"\",CONCATENATE(\"*11....+\",VLOOKUP(16-(LEN(N1443)),'1'!$A$1:$B$16,2,TRUE),N1443,\" 81..40+\",VLOOKUP(16-(LEN(O1443)),'1'!$A$1:$B$16,2,TRUE),O1443,\" 82..40+\",VLOOKUP(16-(LEN(O1443)),'1'!$A$1:$B$16,2,TRUE),P1443,\" 71....+0000000000000000 \"))","v":""},null,""]
[null,{"$f":"IF(I1444=\"\",\"\",ROWS($A$3:A1444))","v":""},"","","","","","","","",{"$f":"IFERROR(SMALL($B$3:$B$2002,ROWS($A$3:A1444)),\"\")","v":""},"","",null,"","","",{"$f":"IF(O1444=\"\",\"\",CONCATENATE(\"*11....+\",VLOOKUP(16-(LEN(N1444)),'1'!$A$1:$B$16,2,TRUE),N1444,\" 81..40+\",VLOOKUP(16-(LEN(O1444)),'1'!$A$1:$B$16,2,TRUE),O1444,\" 82..40+\",VLOOKUP(16-(LEN(O1444)),'1'!$A$1:$B$16,2,TRUE),P1444,\" 71....+0000000000000000 \"))","v":""},null,""]
[null,{"$f":"IF(I1445=\"\",\"\",ROWS($A$3:A1445))","v":""},"","","","","","","","",{"$f":"IFERROR(SMALL($B$3:$B$2002,ROWS($A$3:A1445)),\"\")","v":""},"","",null,"","","",{"$f":"IF(O1445=\"\",\"\",CONCATENATE(\"*11....+\",VLOOKUP(16-(LEN(N1445)),'1'!$A$1:$B$16,2,TRUE),N1445,\" 81..40+\",VLOOKUP(16-(LEN(O1445)),'1'!$A$1:$B$16,2,TRUE),O1445,\" 82..40+\",VLOOKUP(16-(LEN(O1445)),'1'!$A$1:$B$16,2,TRUE),P1445,\" 71....+0000000000000000 \"))","v":""},null,""]
[null,{"$f":"IF(I1446=\"\",\"\",ROWS($A$3:A1446))","v":""},"","","","","","","","",{"$f":"IFERROR(SMALL($B$3:$B$2002,ROWS($A$3:A1446)),\"\")","v":""},"","",null,"","","",{"$f":"IF(O1446=\"\",\"\",CONCATENATE(\"*11....+\",VLOOKUP(16-(LEN(N1446)),'1'!$A$1:$B$16,2,TRUE),N1446,\" 81..40+\",VLOOKUP(16-(LEN(O1446)),'1'!$A$1:$B$16,2,TRUE),O1446,\" 82..40+\",VLOOKUP(16-(LEN(O1446)),'1'!$A$1:$B$16,2,TRUE),P1446,\" 71....+0000000000000000 \"))","v":""},null,""]
[null,{"$f":"IF(I1447=\"\",\"\",ROWS($A$3:A1447))","v":""},"","","","","","","","",{"$f":"IFERROR(SMALL($B$3:$B$2002,ROWS($A$3:A1447)),\"\")","v":""},"","",null,"","","",{"$f":"IF(O1447=\"\",\"\",CONCATENATE(\"*11....+\",VLOOKUP(16-(LEN(N1447)),'1'!$A$1:$B$16,2,TRUE),N1447,\" 81..40+\",VLOOKUP(16-(LEN(O1447)),'1'!$A$1:$B$16,2,TRUE),O1447,\" 82..40+\",VLOOKUP(16-(LEN(O1447)),'1'!$A$1:$B$16,2,TRUE),P1447,\" 71....+0000000000000000 \"))","v":""},null,""]
[null,{"$f":"IF(I1448=\"\",\"\",ROWS($A$3:A1448))","v":""},"","","","","","","","",{"$f":"IFERROR(SMALL($B$3:$B$2002,ROWS($A$3:A1448)),\"\")","v":""},"","",null,"","","",{"$f":"IF(O1448=\"\",\"\",CONCATENATE(\"*11....+\",VLOOKUP(16-(LEN(N1448)),'1'!$A$1:$B$16,2,TRUE),N1448,\" 81..40+\",VLOOKUP(16-(LEN(O1448)),'1'!$A$1:$B$16,2,TRUE),O1448,\" 82..40+\",VLOOKUP(16-(LEN(O1448)),'1'!$A$1:$B$16,2,TRUE),P1448,\" 71....+0000000000000000 \"))","v":""},null,""]
[null,{"$f":"IF(I1449=\"\",\"\",ROWS($A$3:A1449))","v":""},"","","","","","","","",{"$f":"IFERROR(SMALL($B$3:$B$2002,ROWS($A$3:A1449)),\"\")","v":""},"","",null,"","","",{"$f":"IF(O1449=\"\",\"\",CONCATENATE(\"*11....+\",VLOOKUP(16-(LEN(N1449)),'1'!$A$1:$B$16,2,TRUE),N1449,\" 81..40+\",VLOOKUP(16-(LEN(O1449)),'1'!$A$1:$B$16,2,TRUE),O1449,\" 82..40+\",VLOOKUP(16-(LEN(O1449)),'1'!$A$1:$B$16,2,TRUE),P1449,\" 71....+0000000000000000 \"))","v":""},null,""]
[null,{"$f":"IF(I1450=\"\",\"\",ROWS($A$3:A1450))","v":""},"","","","","","","","",{"$f":"IFERROR(SMALL($B$3:$B$2002,ROWS($A$3:A1450)),\"\")","v":""},"","",null,"","","",{"$f":"IF(O1450=\"\",\"\",CONCATENATE(\"*11....+\",VLOOKUP(16-(LEN(N1450)),'1'!$A$1:$B$16,2,TRUE),N1450,\" 81..40+\",VLOOKUP(16-(LEN(O1450)),'1'!$A$1:$B$16,2,TRUE),O1450,\" 82..40+\",VLOOKUP(16-(LEN(O1450)),'1'!$A$1:$B$16,2,TRUE),P1450,\" 71....+0000000000000000 \"))","v":""},null,""]
[null,{"$f":"IF(I1451=\"\",\"\",ROWS($A$3:A1451))","v":""},"","","","","","","","",{"$f":"IFERROR(SMALL($B$3:$B$2002,ROWS($A$3:A1451)),\"\")","v":""},"","",null,"","","",{"$f":"IF(O1451=\"\",\"\",CONCATENATE(\"*11....+\",VLOOKUP(16-(LEN(N1451)),'1'!$A$1:$B$16,2,TRUE),N1451,\" 81..40+\",VLOOKUP(16-(LEN(O1451)),'1'!$A$1:$B$16,2,TRUE),O1451,\" 82..40+\",VLOOKUP(16-(LEN(O1451)),'1'!$A$1:$B$16,2,TRUE),P1451,\" 71....+0000000000000000 \"))","v":""},null,""]
[null,{"$f":"IF(I1452=\"\",\"\",ROWS($A$3:A1452))","v":""},"","","","","","","","",{"$f":"IFERROR(SMALL($B$3:$B$2002,ROWS($A$3:A1452)),\"\")","v":""},"","",null,"","","",{"$f":"IF(O1452=\"\",\"\",CONCATENATE(\"*11....+\",VLOOKUP(16-(LEN(N1452)),'1'!$A$1:$B$16,2,TRUE),N1452,\" 81..40+\",VLOOKUP(16-(LEN(O1452)),'1'!$A$1:$B$16,2,TRUE),O1452,\" 82..40+\",VLOOKUP(16-(LEN(O1452)),'1'!$A$1:$B$16,2,TRUE),P1452,\" 71....+0000000000000000 \"))","v":""},null,""]
[null,{"$f":"IF(I1453=\"\",\"\",ROWS($A$3:A1453))","v":""},"","","","","","","","",{"$f":"IFERROR(SMALL($B$3:$B$2002,ROWS($A$3:A1453)),\"\")","v":""},"","",null,"","","",{"$f":"IF(O1453=\"\",\"\",CONCATENATE(\"*11....+\",VLOOKUP(16-(LEN(N1453)),'1'!$A$1:$B$16,2,TRUE),N1453,\" 81..40+\",VLOOKUP(16-(LEN(O1453)),'1'!$A$1:$B$16,2,TRUE),O1453,\" 82..40+\",VLOOKUP(16-(LEN(O1453)),'1'!$A$1:$B$16,2,TRUE),P1453,\" 71....+0000000000000000 \"))","v":""},null,""]
[null,{"$f":"IF(I1454=\"\",\"\",ROWS($A$3:A1454))","v":""},"","","","","","","","",{"$f":"IFERROR(SMALL($B$3:$B$2002,ROWS($A$3:A1454)),\"\")","v":""},"","",null,"","","",{"$f":"IF(O1454=\"\",\"\",CONCATENATE(\"*11....+\",VLOOKUP(16-(LEN(N1454)),'1'!$A$1:$B$16,2,TRUE),N1454,\" 81..40+\",VLOOKUP(16-(LEN(O1454)),'1'!$A$1:$B$16,2,TRUE),O1454,\" 82..40+\",VLOOKUP(16-(LEN(O1454)),'1'!$A$1:$B$16,2,TRUE),P1454,\" 71....+0000000000000000 \"))","v":""},null,""]
[null,{"$f":"IF(I1455=\"\",\"\",ROWS($A$3:A1455))","v":""},"","","","","","","","",{"$f":"IFERROR(SMALL($B$3:$B$2002,ROWS($A$3:A1455)),\"\")","v":""},"","",null,"","","",{"$f":"IF(O1455=\"\",\"\",CONCATENATE(\"*11....+\",VLOOKUP(16-(LEN(N1455)),'1'!$A$1:$B$16,2,TRUE),N1455,\" 81..40+\",VLOOKUP(16-(LEN(O1455)),'1'!$A$1:$B$16,2,TRUE),O1455,\" 82..40+\",VLOOKUP(16-(LEN(O1455)),'1'!$A$1:$B$16,2,TRUE),P1455,\" 71....+0000000000000000 \"))","v":""},null,""]
[null,{"$f":"IF(I1456=\"\",\"\",ROWS($A$3:A1456))","v":""},"","","","","","","","",{"$f":"IFERROR(SMALL($B$3:$B$2002,ROWS($A$3:A1456)),\"\")","v":""},"","",null,"","","",{"$f":"IF(O1456=\"\",\"\",CONCATENATE(\"*11....+\",VLOOKUP(16-(LEN(N1456)),'1'!$A$1:$B$16,2,TRUE),N1456,\" 81..40+\",VLOOKUP(16-(LEN(O1456)),'1'!$A$1:$B$16,2,TRUE),O1456,\" 82..40+\",VLOOKUP(16-(LEN(O1456)),'1'!$A$1:$B$16,2,TRUE),P1456,\" 71....+0000000000000000 \"))","v":""},null,""]
[null,{"$f":"IF(I1457=\"\",\"\",ROWS($A$3:A1457))","v":""},"","","","","","","","",{"$f":"IFERROR(SMALL($B$3:$B$2002,ROWS($A$3:A1457)),\"\")","v":""},"","",null,"","","",{"$f":"IF(O1457=\"\",\"\",CONCATENATE(\"*11....+\",VLOOKUP(16-(LEN(N1457)),'1'!$A$1:$B$16,2,TRUE),N1457,\" 81..40+\",VLOOKUP(16-(LEN(O1457)),'1'!$A$1:$B$16,2,TRUE),O1457,\" 82..40+\",VLOOKUP(16-(LEN(O1457)),'1'!$A$1:$B$16,2,TRUE),P1457,\" 71....+0000000000000000 \"))","v":""},null,""]
[null,{"$f":"IF(I1458=\"\",\"\",ROWS($A$3:A1458))","v":""},"","","","","","","","",{"$f":"IFERROR(SMALL($B$3:$B$2002,ROWS($A$3:A1458)),\"\")","v":""},"","",null,"","","",{"$f":"IF(O1458=\"\",\"\",CONCATENATE(\"*11....+\",VLOOKUP(16-(LEN(N1458)),'1'!$A$1:$B$16,2,TRUE),N1458,\" 81..40+\",VLOOKUP(16-(LEN(O1458)),'1'!$A$1:$B$16,2,TRUE),O1458,\" 82..40+\",VLOOKUP(16-(LEN(O1458)),'1'!$A$1:$B$16,2,TRUE),P1458,\" 71....+0000000000000000 \"))","v":""},null,""]
[null,{"$f":"IF(I1459=\"\",\"\",ROWS($A$3:A1459))","v":""},"","","","","","","","",{"$f":"IFERROR(SMALL($B$3:$B$2002,ROWS($A$3:A1459)),\"\")","v":""},"","",null,"","","",{"$f":"IF(O1459=\"\",\"\",CONCATENATE(\"*11....+\",VLOOKUP(16-(LEN(N1459)),'1'!$A$1:$B$16,2,TRUE),N1459,\" 81..40+\",VLOOKUP(16-(LEN(O1459)),'1'!$A$1:$B$16,2,TRUE),O1459,\" 82..40+\",VLOOKUP(16-(LEN(O1459)),'1'!$A$1:$B$16,2,TRUE),P1459,\" 71....+0000000000000000 \"))","v":""},null,""]
[null,{"$f":"IF(I1460=\"\",\"\",ROWS($A$3:A1460))","v":""},"","","","","","","","",{"$f":"IFERROR(SMALL($B$3:$B$2002,ROWS($A$3:A1460)),\"\")","v":""},"","",null,"","","",{"$f":"IF(O1460=\"\",\"\",CONCATENATE(\"*11....+\",VLOOKUP(16-(LEN(N1460)),'1'!$A$1:$B$16,2,TRUE),N1460,\" 81..40+\",VLOOKUP(16-(LEN(O1460)),'1'!$A$1:$B$16,2,TRUE),O1460,\" 82..40+\",VLOOKUP(16-(LEN(O1460)),'1'!$A$1:$B$16,2,TRUE),P1460,\" 71....+0000000000000000 \"))","v":""},null,""]
[null,{"$f":"IF(I1461=\"\",\"\",ROWS($A$3:A1461))","v":""},"","","","","","","","",{"$f":"IFERROR(SMALL($B$3:$B$2002,ROWS($A$3:A1461)),\"\")","v":""},"","",null,"","","",{"$f":"IF(O1461=\"\",\"\",CONCATENATE(\"*11....+\",VLOOKUP(16-(LEN(N1461)),'1'!$A$1:$B$16,2,TRUE),N1461,\" 81..40+\",VLOOKUP(16-(LEN(O1461)),'1'!$A$1:$B$16,2,TRUE),O1461,\" 82..40+\",VLOOKUP(16-(LEN(O1461)),'1'!$A$1:$B$16,2,TRUE),P1461,\" 71....+0000000000000000 \"))","v":""},null,""]
[null,{"$f":"IF(I1462=\"\",\"\",ROWS($A$3:A1462))","v":""},"","","","","","","","",{"$f":"IFERROR(SMALL($B$3:$B$2002,ROWS($A$3:A1462)),\"\")","v":""},"","",null,"","","",{"$f":"IF(O1462=\"\",\"\",CONCATENATE(\"*11....+\",VLOOKUP(16-(LEN(N1462)),'1'!$A$1:$B$16,2,TRUE),N1462,\" 81..40+\",VLOOKUP(16-(LEN(O1462)),'1'!$A$1:$B$16,2,TRUE),O1462,\" 82..40+\",VLOOKUP(16-(LEN(O1462)),'1'!$A$1:$B$16,2,TRUE),P1462,\" 71....+0000000000000000 \"))","v":""},null,""]
[null,{"$f":"IF(I1463=\"\",\"\",ROWS($A$3:A1463))","v":""},"","","","","","","","",{"$f":"IFERROR(SMALL($B$3:$B$2002,ROWS($A$3:A1463)),\"\")","v":""},"","",null,"","","",{"$f":"IF(O1463=\"\",\"\",CONCATENATE(\"*11....+\",VLOOKUP(16-(LEN(N1463)),'1'!$A$1:$B$16,2,TRUE),N1463,\" 81..40+\",VLOOKUP(16-(LEN(O1463)),'1'!$A$1:$B$16,2,TRUE),O1463,\" 82..40+\",VLOOKUP(16-(LEN(O1463)),'1'!$A$1:$B$16,2,TRUE),P1463,\" 71....+0000000000000000 \"))","v":""},null,""]
[null,{"$f":"IF(I1464=\"\",\"\",ROWS($A$3:A1464))","v":""},"","","","","","","","",{"$f":"IFERROR(SMALL($B$3:$B$2002,ROWS($A$3:A1464)),\"\")","v":""},"","",null,"","","",{"$f":"IF(O1464=\"\",\"\",CONCATENATE(\"*11....+\",VLOOKUP(16-(LEN(N1464)),'1'!$A$1:$B$16,2,TRUE),N1464,\" 81..40+\",VLOOKUP(16-(LEN(O1464)),'1'!$A$1:$B$16,2,TRUE),O1464,\" 82..40+\",VLOOKUP(16-(LEN(O1464)),'1'!$A$1:$B$16,2,TRUE),P1464,\" 71....+0000000000000000 \"))","v":""},null,""]
[null,{"$f":"IF(I1465=\"\",\"\",ROWS($A$3:A1465))","v":""},"","","","","","","","",{"$f":"IFERROR(SMALL($B$3:$B$2002,ROWS($A$3:A1465)),\"\")","v":""},"","",null,"","","",{"$f":"IF(O1465=\"\",\"\",CONCATENATE(\"*11....+\",VLOOKUP(16-(LEN(N1465)),'1'!$A$1:$B$16,2,TRUE),N1465,\" 81..40+\",VLOOKUP(16-(LEN(O1465)),'1'!$A$1:$B$16,2,TRUE),O1465,\" 82..40+\",VLOOKUP(16-(LEN(O1465)),'1'!$A$1:$B$16,2,TRUE),P1465,\" 71....+0000000000000000 \"))","v":""},null,""]
[null,{"$f":"IF(I1466=\"\",\"\",ROWS($A$3:A1466))","v":""},"","","","","","","","",{"$f":"IFERROR(SMALL($B$3:$B$2002,ROWS($A$3:A1466)),\"\")","v":""},"","",null,"","","",{"$f":"IF(O1466=\"\",\"\",CONCATENATE(\"*11....+\",VLOOKUP(16-(LEN(N1466)),'1'!$A$1:$B$16,2,TRUE),N1466,\" 81..40+\",VLOOKUP(16-(LEN(O1466)),'1'!$A$1:$B$16,2,TRUE),O1466,\" 82..40+\",VLOOKUP(16-(LEN(O1466)),'1'!$A$1:$B$16,2,TRUE),P1466,\" 71....+0000000000000000 \"))","v":""},null,""]
[null,{"$f":"IF(I1467=\"\",\"\",ROWS($A$3:A1467))","v":""},"","","","","","","","",{"$f":"IFERROR(SMALL($B$3:$B$2002,ROWS($A$3:A1467)),\"\")","v":""},"","",null,"","","",{"$f":"IF(O1467=\"\",\"\",CONCATENATE(\"*11....+\",VLOOKUP(16-(LEN(N1467)),'1'!$A$1:$B$16,2,TRUE),N1467,\" 81..40+\",VLOOKUP(16-(LEN(O1467)),'1'!$A$1:$B$16,2,TRUE),O1467,\" 82..40+\",VLOOKUP(16-(LEN(O1467)),'1'!$A$1:$B$16,2,TRUE),P1467,\" 71....+0000000000000000 \"))","v":""},null,""]
[null,{"$f":"IF(I1468=\"\",\"\",ROWS($A$3:A1468))","v":""},"","","","","","","","",{"$f":"IFERROR(SMALL($B$3:$B$2002,ROWS($A$3:A1468)),\"\")","v":""},"","",null,"","","",{"$f":"IF(O1468=\"\",\"\",CONCATENATE(\"*11....+\",VLOOKUP(16-(LEN(N1468)),'1'!$A$1:$B$16,2,TRUE),N1468,\" 81..40+\",VLOOKUP(16-(LEN(O1468)),'1'!$A$1:$B$16,2,TRUE),O1468,\" 82..40+\",VLOOKUP(16-(LEN(O1468)),'1'!$A$1:$B$16,2,TRUE),P1468,\" 71....+0000000000000000 \"))","v":""},null,""]
[null,{"$f":"IF(I1469=\"\",\"\",ROWS($A$3:A1469))","v":""},"","","","","","","","",{"$f":"IFERROR(SMALL($B$3:$B$2002,ROWS($A$3:A1469)),\"\")","v":""},"","",null,"","","",{"$f":"IF(O1469=\"\",\"\",CONCATENATE(\"*11....+\",VLOOKUP(16-(LEN(N1469)),'1'!$A$1:$B$16,2,TRUE),N1469,\" 81..40+\",VLOOKUP(16-(LEN(O1469)),'1'!$A$1:$B$16,2,TRUE),O1469,\" 82..40+\",VLOOKUP(16-(LEN(O1469)),'1'!$A$1:$B$16,2,TRUE),P1469,\" 71....+0000000000000000 \"))","v":""},null,""]
[null,{"$f":"IF(I1470=\"\",\"\",ROWS($A$3:A1470))","v":""},"","","","","","","","",{"$f":"IFERROR(SMALL($B$3:$B$2002,ROWS($A$3:A1470)),\"\")","v":""},"","",null,"","","",{"$f":"IF(O1470=\"\",\"\",CONCATENATE(\"*11....+\",VLOOKUP(16-(LEN(N1470)),'1'!$A$1:$B$16,2,TRUE),N1470,\" 81..40+\",VLOOKUP(16-(LEN(O1470)),'1'!$A$1:$B$16,2,TRUE),O1470,\" 82..40+\",VLOOKUP(16-(LEN(O1470)),'1'!$A$1:$B$16,2,TRUE),P1470,\" 71....+0000000000000000 \"))","v":""},null,""]
[null,{"$f":"IF(I1471=\"\",\"\",ROWS($A$3:A1471))","v":""},"","","","","","","","",{"$f":"IFERROR(SMALL($B$3:$B$2002,ROWS($A$3:A1471)),\"\")","v":""},"","",null,"","","",{"$f":"IF(O1471=\"\",\"\",CONCATENATE(\"*11....+\",VLOOKUP(16-(LEN(N1471)),'1'!$A$1:$B$16,2,TRUE),N1471,\" 81..40+\",VLOOKUP(16-(LEN(O1471)),'1'!$A$1:$B$16,2,TRUE),O1471,\" 82..40+\",VLOOKUP(16-(LEN(O1471)),'1'!$A$1:$B$16,2,TRUE),P1471,\" 71....+0000000000000000 \"))","v":""},null,""]
[null,{"$f":"IF(I1472=\"\",\"\",ROWS($A$3:A1472))","v":""},"","","","","","","","",{"$f":"IFERROR(SMALL($B$3:$B$2002,ROWS($A$3:A1472)),\"\")","v":""},"","",null,"","","",{"$f":"IF(O1472=\"\",\"\",CONCATENATE(\"*11....+\",VLOOKUP(16-(LEN(N1472)),'1'!$A$1:$B$16,2,TRUE),N1472,\" 81..40+\",VLOOKUP(16-(LEN(O1472)),'1'!$A$1:$B$16,2,TRUE),O1472,\" 82..40+\",VLOOKUP(16-(LEN(O1472)),'1'!$A$1:$B$16,2,TRUE),P1472,\" 71....+0000000000000000 \"))","v":""},null,""]
[null,{"$f":"IF(I1473=\"\",\"\",ROWS($A$3:A1473))","v":""},"","","","","","","","",{"$f":"IFERROR(SMALL($B$3:$B$2002,ROWS($A$3:A1473)),\"\")","v":""},"","",null,"","","",{"$f":"IF(O1473=\"\",\"\",CONCATENATE(\"*11....+\",VLOOKUP(16-(LEN(N1473)),'1'!$A$1:$B$16,2,TRUE),N1473,\" 81..40+\",VLOOKUP(16-(LEN(O1473)),'1'!$A$1:$B$16,2,TRUE),O1473,\" 82..40+\",VLOOKUP(16-(LEN(O1473)),'1'!$A$1:$B$16,2,TRUE),P1473,\" 71....+0000000000000000 \"))","v":""},null,""]
[null,{"$f":"IF(I1474=\"\",\"\",ROWS($A$3:A1474))","v":""},"","","","","","","","",{"$f":"IFERROR(SMALL($B$3:$B$2002,ROWS($A$3:A1474)),\"\")","v":""},"","",null,"","","",{"$f":"IF(O1474=\"\",\"\",CONCATENATE(\"*11....+\",VLOOKUP(16-(LEN(N1474)),'1'!$A$1:$B$16,2,TRUE),N1474,\" 81..40+\",VLOOKUP(16-(LEN(O1474)),'1'!$A$1:$B$16,2,TRUE),O1474,\" 82..40+\",VLOOKUP(16-(LEN(O1474)),'1'!$A$1:$B$16,2,TRUE),P1474,\" 71....+0000000000000000 \"))","v":""},null,""]
[null,{"$f":"IF(I1475=\"\",\"\",ROWS($A$3:A1475))","v":""},"","","","","","","","",{"$f":"IFERROR(SMALL($B$3:$B$2002,ROWS($A$3:A1475)),\"\")","v":""},"","",null,"","","",{"$f":"IF(O1475=\"\",\"\",CONCATENATE(\"*11....+\",VLOOKUP(16-(LEN(N1475)),'1'!$A$1:$B$16,2,TRUE),N1475,\" 81..40+\",VLOOKUP(16-(LEN(O1475)),'1'!$A$1:$B$16,2,TRUE),O1475,\" 82..40+\",VLOOKUP(16-(LEN(O1475)),'1'!$A$1:$B$16,2,TRUE),P1475,\" 71....+0000000000000000 \"))","v":""},null,""]
[null,{"$f":"IF(I1476=\"\",\"\",ROWS($A$3:A1476))","v":""},{"$f":"IF(LEN(A1476)=59,ROUND(VALUE(MID(A1476,23,9)),3),\"\")","v":""},{"$f":"IF(LEN(A1476)=24,\"\",\"\")","v":""},{"$f":"IF(LEN(A1476)=63,ROUND(VALUE(MID(A1476,23,12)),3),\"\")","v":""},{"$f":"IF(LEN(A1476)=59,ROUND(VALUE(MID(A1476,37,9)),3),\"\")","v":""},{"$f":"IF(LEN(A1476)=24,\"\",\"\")","v":""},{"$f":"IF(LEN(A1476)=63,ROUND(VALUE(MID(A1476,39,12)),3),\"\")","v":""},{"$f":"IF(AND(C1476=\"\",D1476=\"\",E1476=\"\"),\"\",ROUND(CONCATENATE(C1476,D1476,E1476),3))","v":""},{"$f":"IF(AND(C1476=\"\",D1476=\"\",E1476=\"\"),\"\",ROUND(CONCATENATE(F1476,G1476,H1476),3))","v":""},{"$f":"IFERROR(SMALL($B$3:$B$2002,ROWS($A$3:A1476)),\"\")","v":""},{"$f":"IF(K1476=\"\",\"\",ROUND(VALUE(VLOOKUP(K1476,$B$3:$J$2002,8,TRUE)),3))","v":""},{"$f":"IF(K1476=\"\",\"\",ROUND(VALUE(VLOOKUP(K1476,$B$3:$J$2002,9,TRUE)),3))","v":""},null,{"$f":"IF(L1476=\"\",\"\",L1476/0.001)","v":""},"",{"$f":"IF(O1476=\"\",\"\",16-LEN(N1476))","v":""},{"$f":"IF(O1476=\"\",\"\",CONCATENATE(\"*11....+\",VLOOKUP(16-(LEN(N1476)),'1'!$A$1:$B$16,2,TRUE),N1476,\" 81..40+\",VLOOKUP(16-(LEN(O1476)),'1'!$A$1:$B$16,2,TRUE),O1476,\" 82..40+\",VLOOKUP(16-(LEN(O1476)),'1'!$A$1:$B$16,2,TRUE),P1476,\" 71....+0000000000000000 \"))","v":""},null,{"$f":"IF(O1476=\"\",\"\",CONCATENATE(N1476,\",\",L1476,\",\",M1476))","v":""}]
[null,{"$f":"IF(I1477=\"\",\"\",ROWS($A$3:A1477))","v":""},"","","","","","","","",{"$f":"IFERROR(SMALL($B$3:$B$2002,ROWS($A$3:A1477)),\"\")","v":""},"","",null,"","","",{"$f":"IF(O1477=\"\",\"\",CONCATENATE(\"*11....+\",VLOOKUP(16-(LEN(N1477)),'1'!$A$1:$B$16,2,TRUE),N1477,\" 81..40+\",VLOOKUP(16-(LEN(O1477)),'1'!$A$1:$B$16,2,TRUE),O1477,\" 82..40+\",VLOOKUP(16-(LEN(O1477)),'1'!$A$1:$B$16,2,TRUE),P1477,\" 71....+0000000000000000 \"))","v":""},null,""]
[null,{"$f":"IF(I1478=\"\",\"\",ROWS($A$3:A1478))","v":""},"","","","","","","","",{"$f":"IFERROR(SMALL($B$3:$B$2002,ROWS($A$3:A1478)),\"\")","v":""},"","",null,"","","",{"$f":"IF(O1478=\"\",\"\",CONCATENATE(\"*11....+\",VLOOKUP(16-(LEN(N1478)),'1'!$A$1:$B$16,2,TRUE),N1478,\" 81..40+\",VLOOKUP(16-(LEN(O1478)),'1'!$A$1:$B$16,2,TRUE),O1478,\" 82..40+\",VLOOKUP(16-(LEN(O1478)),'1'!$A$1:$B$16,2,TRUE),P1478,\" 71....+0000000000000000 \"))","v":""},null,""]
[null,{"$f":"IF(I1479=\"\",\"\",ROWS($A$3:A1479))","v":""},"","","","","","","","",{"$f":"IFERROR(SMALL($B$3:$B$2002,ROWS($A$3:A1479)),\"\")","v":""},"","",null,"","","",{"$f":"IF(O1479=\"\",\"\",CONCATENATE(\"*11....+\",VLOOKUP(16-(LEN(N1479)),'1'!$A$1:$B$16,2,TRUE),N1479,\" 81..40+\",VLOOKUP(16-(LEN(O1479)),'1'!$A$1:$B$16,2,TRUE),O1479,\" 82..40+\",VLOOKUP(16-(LEN(O1479)),'1'!$A$1:$B$16,2,TRUE),P1479,\" 71....+0000000000000000 \"))","v":""},null,""]
[null,{"$f":"IF(I1480=\"\",\"\",ROWS($A$3:A1480))","v":""},"","","","","","","","",{"$f":"IFERROR(SMALL($B$3:$B$2002,ROWS($A$3:A1480)),\"\")","v":""},"","",null,"","","",{"$f":"IF(O1480=\"\",\"\",CONCATENATE(\"*11....+\",VLOOKUP(16-(LEN(N1480)),'1'!$A$1:$B$16,2,TRUE),N1480,\" 81..40+\",VLOOKUP(16-(LEN(O1480)),'1'!$A$1:$B$16,2,TRUE),O1480,\" 82..40+\",VLOOKUP(16-(LEN(O1480)),'1'!$A$1:$B$16,2,TRUE),P1480,\" 71....+0000000000000000 \"))","v":""},null,""]
[null,{"$f":"IF(I1481=\"\",\"\",ROWS($A$3:A1481))","v":""},"","","","","","","","",{"$f":"IFERROR(SMALL($B$3:$B$2002,ROWS($A$3:A1481)),\"\")","v":""},"","",null,"","","",{"$f":"IF(O1481=\"\",\"\",CONCATENATE(\"*11....+\",VLOOKUP(16-(LEN(N1481)),'1'!$A$1:$B$16,2,TRUE),N1481,\" 81..40+\",VLOOKUP(16-(LEN(O1481)),'1'!$A$1:$B$16,2,TRUE),O1481,\" 82..40+\",VLOOKUP(16-(LEN(O1481)),'1'!$A$1:$B$16,2,TRUE),P1481,\" 71....+0000000000000000 \"))","v":""},null,""]
[null,{"$f":"IF(I1482=\"\",\"\",ROWS($A$3:A1482))","v":""},"","","","","","","","",{"$f":"IFERROR(SMALL($B$3:$B$2002,ROWS($A$3:A1482)),\"\")","v":""},"","",null,"","","",{"$f":"IF(O1482=\"\",\"\",CONCATENATE(\"*11....+\",VLOOKUP(16-(LEN(N1482)),'1'!$A$1:$B$16,2,TRUE),N1482,\" 81..40+\",VLOOKUP(16-(LEN(O1482)),'1'!$A$1:$B$16,2,TRUE),O1482,\" 82..40+\",VLOOKUP(16-(LEN(O1482)),'1'!$A$1:$B$16,2,TRUE),P1482,\" 71....+0000000000000000 \"))","v":""},null,""]
[null,{"$f":"IF(I1483=\"\",\"\",ROWS($A$3:A1483))","v":""},"","","","","","","","",{"$f":"IFERROR(SMALL($B$3:$B$2002,ROWS($A$3:A1483)),\"\")","v":""},"","",null,"","","",{"$f":"IF(O1483=\"\",\"\",CONCATENATE(\"*11....+\",VLOOKUP(16-(LEN(N1483)),'1'!$A$1:$B$16,2,TRUE),N1483,\" 81..40+\",VLOOKUP(16-(LEN(O1483)),'1'!$A$1:$B$16,2,TRUE),O1483,\" 82..40+\",VLOOKUP(16-(LEN(O1483)),'1'!$A$1:$B$16,2,TRUE),P1483,\" 71....+0000000000000000 \"))","v":""},null,""]
[null,{"$f":"IF(I1484=\"\",\"\",ROWS($A$3:A1484))","v":""},"","","","","","","","",{"$f":"IFERROR(SMALL($B$3:$B$2002,ROWS($A$3:A1484)),\"\")","v":""},"","",null,"","","",{"$f":"IF(O1484=\"\",\"\",CONCATENATE(\"*11....+\",VLOOKUP(16-(LEN(N1484)),'1'!$A$1:$B$16,2,TRUE),N1484,\" 81..40+\",VLOOKUP(16-(LEN(O1484)),'1'!$A$1:$B$16,2,TRUE),O1484,\" 82..40+\",VLOOKUP(16-(LEN(O1484)),'1'!$A$1:$B$16,2,TRUE),P1484,\" 71....+0000000000000000 \"))","v":""},null,""]
[null,{"$f":"IF(I1485=\"\",\"\",ROWS($A$3:A1485))","v":""},"","","","","","","","",{"$f":"IFERROR(SMALL($B$3:$B$2002,ROWS($A$3:A1485)),\"\")","v":""},"","",null,"","","",{"$f":"IF(O1485=\"\",\"\",CONCATENATE(\"*11....+\",VLOOKUP(16-(LEN(N1485)),'1'!$A$1:$B$16,2,TRUE),N1485,\" 81..40+\",VLOOKUP(16-(LEN(O1485)),'1'!$A$1:$B$16,2,TRUE),O1485,\" 82..40+\",VLOOKUP(16-(LEN(O1485)),'1'!$A$1:$B$16,2,TRUE),P1485,\" 71....+0000000000000000 \"))","v":""},null,""]
[null,{"$f":"IF(I1486=\"\",\"\",ROWS($A$3:A1486))","v":""},"","","","","","","","",{"$f":"IFERROR(SMALL($B$3:$B$2002,ROWS($A$3:A1486)),\"\")","v":""},"","",null,"","","",{"$f":"IF(O1486=\"\",\"\",CONCATENATE(\"*11....+\",VLOOKUP(16-(LEN(N1486)),'1'!$A$1:$B$16,2,TRUE),N1486,\" 81..40+\",VLOOKUP(16-(LEN(O1486)),'1'!$A$1:$B$16,2,TRUE),O1486,\" 82..40+\",VLOOKUP(16-(LEN(O1486)),'1'!$A$1:$B$16,2,TRUE),P1486,\" 71....+0000000000000000 \"))","v":""},null,""]
[null,{"$f":"IF(I1487=\"\",\"\",ROWS($A$3:A1487))","v":""},"","","","","","","","",{"$f":"IFERROR(SMALL($B$3:$B$2002,ROWS($A$3:A1487)),\"\")","v":""},"","",null,"","","",{"$f":"IF(O1487=\"\",\"\",CONCATENATE(\"*11....+\",VLOOKUP(16-(LEN(N1487)),'1'!$A$1:$B$16,2,TRUE),N1487,\" 81..40+\",VLOOKUP(16-(LEN(O1487)),'1'!$A$1:$B$16,2,TRUE),O1487,\" 82..40+\",VLOOKUP(16-(LEN(O1487)),'1'!$A$1:$B$16,2,TRUE),P1487,\" 71....+0000000000000000 \"))","v":""},null,""]
[null,{"$f":"IF(I1488=\"\",\"\",ROWS($A$3:A1488))","v":""},"","","","","","","","",{"$f":"IFERROR(SMALL($B$3:$B$2002,ROWS($A$3:A1488)),\"\")","v":""},"","",null,"","","",{"$f":"IF(O1488=\"\",\"\",CONCATENATE(\"*11....+\",VLOOKUP(16-(LEN(N1488)),'1'!$A$1:$B$16,2,TRUE),N1488,\" 81..40+\",VLOOKUP(16-(LEN(O1488)),'1'!$A$1:$B$16,2,TRUE),O1488,\" 82..40+\",VLOOKUP(16-(LEN(O1488)),'1'!$A$1:$B$16,2,TRUE),P1488,\" 71....+0000000000000000 \"))","v":""},null,""]
[null,{"$f":"IF(I1489=\"\",\"\",ROWS($A$3:A1489))","v":""},"","","","","","","","",{"$f":"IFERROR(SMALL($B$3:$B$2002,ROWS($A$3:A1489)),\"\")","v":""},"","",null,"","","",{"$f":"IF(O1489=\"\",\"\",CONCATENATE(\"*11....+\",VLOOKUP(16-(LEN(N1489)),'1'!$A$1:$B$16,2,TRUE),N1489,\" 81..40+\",VLOOKUP(16-(LEN(O1489)),'1'!$A$1:$B$16,2,TRUE),O1489,\" 82..40+\",VLOOKUP(16-(LEN(O1489)),'1'!$A$1:$B$16,2,TRUE),P1489,\" 71....+0000000000000000 \"))","v":""},null,""]
[null,{"$f":"IF(I1490=\"\",\"\",ROWS($A$3:A1490))","v":""},"","","","","","","","",{"$f":"IFERROR(SMALL($B$3:$B$2002,ROWS($A$3:A1490)),\"\")","v":""},"","",null,"","","",{"$f":"IF(O1490=\"\",\"\",CONCATENATE(\"*11....+\",VLOOKUP(16-(LEN(N1490)),'1'!$A$1:$B$16,2,TRUE),N1490,\" 81..40+\",VLOOKUP(16-(LEN(O1490)),'1'!$A$1:$B$16,2,TRUE),O1490,\" 82..40+\",VLOOKUP(16-(LEN(O1490)),'1'!$A$1:$B$16,2,TRUE),P1490,\" 71....+0000000000000000 \"))","v":""},null,""]
[null,{"$f":"IF(I1491=\"\",\"\",ROWS($A$3:A1491))","v":""},"","","","","","","","",{"$f":"IFERROR(SMALL($B$3:$B$2002,ROWS($A$3:A1491)),\"\")","v":""},"","",null,"","","",{"$f":"IF(O1491=\"\",\"\",CONCATENATE(\"*11....+\",VLOOKUP(16-(LEN(N1491)),'1'!$A$1:$B$16,2,TRUE),N1491,\" 81..40+\",VLOOKUP(16-(LEN(O1491)),'1'!$A$1:$B$16,2,TRUE),O1491,\" 82..40+\",VLOOKUP(16-(LEN(O1491)),'1'!$A$1:$B$16,2,TRUE),P1491,\" 71....+0000000000000000 \"))","v":""},null,""]
[null,{"$f":"IF(I1492=\"\",\"\",ROWS($A$3:A1492))","v":""},"","","","","","","","",{"$f":"IFERROR(SMALL($B$3:$B$2002,ROWS($A$3:A1492)),\"\")","v":""},"","",null,"","","",{"$f":"IF(O1492=\"\",\"\",CONCATENATE(\"*11....+\",VLOOKUP(16-(LEN(N1492)),'1'!$A$1:$B$16,2,TRUE),N1492,\" 81..40+\",VLOOKUP(16-(LEN(O1492)),'1'!$A$1:$B$16,2,TRUE),O1492,\" 82..40+\",VLOOKUP(16-(LEN(O1492)),'1'!$A$1:$B$16,2,TRUE),P1492,\" 71....+0000000000000000 \"))","v":""},null,""]
[null,{"$f":"IF(I1493=\"\",\"\",ROWS($A$3:A1493))","v":""},"","","","","","","","",{"$f":"IFERROR(SMALL($B$3:$B$2002,ROWS($A$3:A1493)),\"\")","v":""},"","",null,"","","",{"$f":"IF(O1493=\"\",\"\",CONCATENATE(\"*11....+\",VLOOKUP(16-(LEN(N1493)),'1'!$A$1:$B$16,2,TRUE),N1493,\" 81..40+\",VLOOKUP(16-(LEN(O1493)),'1'!$A$1:$B$16,2,TRUE),O1493,\" 82..40+\",VLOOKUP(16-(LEN(O1493)),'1'!$A$1:$B$16,2,TRUE),P1493,\" 71....+0000000000000000 \"))","v":""},null,""]
[null,{"$f":"IF(I1494=\"\",\"\",ROWS($A$3:A1494))","v":""},"","","","","","","","",{"$f":"IFERROR(SMALL($B$3:$B$2002,ROWS($A$3:A1494)),\"\")","v":""},"","",null,"","","",{"$f":"IF(O1494=\"\",\"\",CONCATENATE(\"*11....+\",VLOOKUP(16-(LEN(N1494)),'1'!$A$1:$B$16,2,TRUE),N1494,\" 81..40+\",VLOOKUP(16-(LEN(O1494)),'1'!$A$1:$B$16,2,TRUE),O1494,\" 82..40+\",VLOOKUP(16-(LEN(O1494)),'1'!$A$1:$B$16,2,TRUE),P1494,\" 71....+0000000000000000 \"))","v":""},null,""]
[null,{"$f":"IF(I1495=\"\",\"\",ROWS($A$3:A1495))","v":""},"","","","","","","","",{"$f":"IFERROR(SMALL($B$3:$B$2002,ROWS($A$3:A1495)),\"\")","v":""},"","",null,"","","",{"$f":"IF(O1495=\"\",\"\",CONCATENATE(\"*11....+\",VLOOKUP(16-(LEN(N1495)),'1'!$A$1:$B$16,2,TRUE),N1495,\" 81..40+\",VLOOKUP(16-(LEN(O1495)),'1'!$A$1:$B$16,2,TRUE),O1495,\" 82..40+\",VLOOKUP(16-(LEN(O1495)),'1'!$A$1:$B$16,2,TRUE),P1495,\" 71....+0000000000000000 \"))","v":""},null,""]
[null,{"$f":"IF(I1496=\"\",\"\",ROWS($A$3:A1496))","v":""},"","","","","","","","",{"$f":"IFERROR(SMALL($B$3:$B$2002,ROWS($A$3:A1496)),\"\")","v":""},"","",null,"","","",{"$f":"IF(O1496=\"\",\"\",CONCATENATE(\"*11....+\",VLOOKUP(16-(LEN(N1496)),'1'!$A$1:$B$16,2,TRUE),N1496,\" 81..40+\",VLOOKUP(16-(LEN(O1496)),'1'!$A$1:$B$16,2,TRUE),O1496,\" 82..40+\",VLOOKUP(16-(LEN(O1496)),'1'!$A$1:$B$16,2,TRUE),P1496,\" 71....+0000000000000000 \"))","v":""},null,""]
[null,{"$f":"IF(I1497=\"\",\"\",ROWS($A$3:A1497))","v":""},"","","","","","","","",{"$f":"IFERROR(SMALL($B$3:$B$2002,ROWS($A$3:A1497)),\"\")","v":""},"","",null,"","","",{"$f":"IF(O1497=\"\",\"\",CONCATENATE(\"*11....+\",VLOOKUP(16-(LEN(N1497)),'1'!$A$1:$B$16,2,TRUE),N1497,\" 81..40+\",VLOOKUP(16-(LEN(O1497)),'1'!$A$1:$B$16,2,TRUE),O1497,\" 82..40+\",VLOOKUP(16-(LEN(O1497)),'1'!$A$1:$B$16,2,TRUE),P1497,\" 71....+0000000000000000 \"))","v":""},null,""]
[null,{"$f":"IF(I1498=\"\",\"\",ROWS($A$3:A1498))","v":""},"","","","","","","","",{"$f":"IFERROR(SMALL($B$3:$B$2002,ROWS($A$3:A1498)),\"\")","v":""},"","",null,"","","",{"$f":"IF(O1498=\"\",\"\",CONCATENATE(\"*11....+\",VLOOKUP(16-(LEN(N1498)),'1'!$A$1:$B$16,2,TRUE),N1498,\" 81..40+\",VLOOKUP(16-(LEN(O1498)),'1'!$A$1:$B$16,2,TRUE),O1498,\" 82..40+\",VLOOKUP(16-(LEN(O1498)),'1'!$A$1:$B$16,2,TRUE),P1498,\" 71....+0000000000000000 \"))","v":""},null,""]
[null,{"$f":"IF(I1499=\"\",\"\",ROWS($A$3:A1499))","v":""},"","","","","","","","",{"$f":"IFERROR(SMALL($B$3:$B$2002,ROWS($A$3:A1499)),\"\")","v":""},"","",null,"","","",{"$f":"IF(O1499=\"\",\"\",CONCATENATE(\"*11....+\",VLOOKUP(16-(LEN(N1499)),'1'!$A$1:$B$16,2,TRUE),N1499,\" 81..40+\",VLOOKUP(16-(LEN(O1499)),'1'!$A$1:$B$16,2,TRUE),O1499,\" 82..40+\",VLOOKUP(16-(LEN(O1499)),'1'!$A$1:$B$16,2,TRUE),P1499,\" 71....+0000000000000000 \"))","v":""},null,""]
[null,{"$f":"IF(I1500=\"\",\"\",ROWS($A$3:A1500))","v":""},"","","","","","","","",{"$f":"IFERROR(SMALL($B$3:$B$2002,ROWS($A$3:A1500)),\"\")","v":""},"","",null,"","","",{"$f":"IF(O1500=\"\",\"\",CONCATENATE(\"*11....+\",VLOOKUP(16-(LEN(N1500)),'1'!$A$1:$B$16,2,TRUE),N1500,\" 81..40+\",VLOOKUP(16-(LEN(O1500)),'1'!$A$1:$B$16,2,TRUE),O1500,\" 82..40+\",VLOOKUP(16-(LEN(O1500)),'1'!$A$1:$B$16,2,TRUE),P1500,\" 71....+0000000000000000 \"))","v":""},null,""]
[null,{"$f":"IF(I1501=\"\",\"\",ROWS($A$3:A1501))","v":""},"","","","","","","","",{"$f":"IFERROR(SMALL($B$3:$B$2002,ROWS($A$3:A1501)),\"\")","v":""},"","",null,"","","",{"$f":"IF(O1501=\"\",\"\",CONCATENATE(\"*11....+\",VLOOKUP(16-(LEN(N1501)),'1'!$A$1:$B$16,2,TRUE),N1501,\" 81..40+\",VLOOKUP(16-(LEN(O1501)),'1'!$A$1:$B$16,2,TRUE),O1501,\" 82..40+\",VLOOKUP(16-(LEN(O1501)),'1'!$A$1:$B$16,2,TRUE),P1501,\" 71....+0000000000000000 \"))","v":""},null,""]
[null,{"$f":"IF(I1502=\"\",\"\",ROWS($A$3:A1502))","v":""},"","","","","","","","",{"$f":"IFERROR(SMALL($B$3:$B$2002,ROWS($A$3:A1502)),\"\")","v":""},"","",null,"","","",{"$f":"IF(O1502=\"\",\"\",CONCATENATE(\"*11....+\",VLOOKUP(16-(LEN(N1502)),'1'!$A$1:$B$16,2,TRUE),N1502,\" 81..40+\",VLOOKUP(16-(LEN(O1502)),'1'!$A$1:$B$16,2,TRUE),O1502,\" 82..40+\",VLOOKUP(16-(LEN(O1502)),'1'!$A$1:$B$16,2,TRUE),P1502,\" 71....+0000000000000000 \"))","v":""},null,""]
[null,{"$f":"IF(I1503=\"\",\"\",ROWS($A$3:A1503))","v":""},"","","","","","","","",{"$f":"IFERROR(SMALL($B$3:$B$2002,ROWS($A$3:A1503)),\"\")","v":""},"","",null,"","","",{"$f":"IF(O1503=\"\",\"\",CONCATENATE(\"*11....+\",VLOOKUP(16-(LEN(N1503)),'1'!$A$1:$B$16,2,TRUE),N1503,\" 81..40+\",VLOOKUP(16-(LEN(O1503)),'1'!$A$1:$B$16,2,TRUE),O1503,\" 82..40+\",VLOOKUP(16-(LEN(O1503)),'1'!$A$1:$B$16,2,TRUE),P1503,\" 71....+0000000000000000 \"))","v":""},null,""]
[null,{"$f":"IF(I1504=\"\",\"\",ROWS($A$3:A1504))","v":""},"","","","","","","","",{"$f":"IFERROR(SMALL($B$3:$B$2002,ROWS($A$3:A1504)),\"\")","v":""},"","",null,"","","",{"$f":"IF(O1504=\"\",\"\",CONCATENATE(\"*11....+\",VLOOKUP(16-(LEN(N1504)),'1'!$A$1:$B$16,2,TRUE),N1504,\" 81..40+\",VLOOKUP(16-(LEN(O1504)),'1'!$A$1:$B$16,2,TRUE),O1504,\" 82..40+\",VLOOKUP(16-(LEN(O1504)),'1'!$A$1:$B$16,2,TRUE),P1504,\" 71....+0000000000000000 \"))","v":""},null,""]
[null,{"$f":"IF(I1505=\"\",\"\",ROWS($A$3:A1505))","v":""},"","","","","","","","",{"$f":"IFERROR(SMALL($B$3:$B$2002,ROWS($A$3:A1505)),\"\")","v":""},"","",null,"","","",{"$f":"IF(O1505=\"\",\"\",CONCATENATE(\"*11....+\",VLOOKUP(16-(LEN(N1505)),'1'!$A$1:$B$16,2,TRUE),N1505,\" 81..40+\",VLOOKUP(16-(LEN(O1505)),'1'!$A$1:$B$16,2,TRUE),O1505,\" 82..40+\",VLOOKUP(16-(LEN(O1505)),'1'!$A$1:$B$16,2,TRUE),P1505,\" 71....+0000000000000000 \"))","v":""},null,""]
[null,{"$f":"IF(I1506=\"\",\"\",ROWS($A$3:A1506))","v":""},"","","","","","","","",{"$f":"IFERROR(SMALL($B$3:$B$2002,ROWS($A$3:A1506)),\"\")","v":""},"","",null,"","","",{"$f":"IF(O1506=\"\",\"\",CONCATENATE(\"*11....+\",VLOOKUP(16-(LEN(N1506)),'1'!$A$1:$B$16,2,TRUE),N1506,\" 81..40+\",VLOOKUP(16-(LEN(O1506)),'1'!$A$1:$B$16,2,TRUE),O1506,\" 82..40+\",VLOOKUP(16-(LEN(O1506)),'1'!$A$1:$B$16,2,TRUE),P1506,\" 71....+0000000000000000 \"))","v":""},null,""]
[null,{"$f":"IF(I1507=\"\",\"\",ROWS($A$3:A1507))","v":""},"","","","","","","","",{"$f":"IFERROR(SMALL($B$3:$B$2002,ROWS($A$3:A1507)),\"\")","v":""},"","",null,"","","",{"$f":"IF(O1507=\"\",\"\",CONCATENATE(\"*11....+\",VLOOKUP(16-(LEN(N1507)),'1'!$A$1:$B$16,2,TRUE),N1507,\" 81..40+\",VLOOKUP(16-(LEN(O1507)),'1'!$A$1:$B$16,2,TRUE),O1507,\" 82..40+\",VLOOKUP(16-(LEN(O1507)),'1'!$A$1:$B$16,2,TRUE),P1507,\" 71....+0000000000000000 \"))","v":""},null,""]
[null,{"$f":"IF(I1508=\"\",\"\",ROWS($A$3:A1508))","v":""},"","","","","","","","",{"$f":"IFERROR(SMALL($B$3:$B$2002,ROWS($A$3:A1508)),\"\")","v":""},"","",null,"","","",{"$f":"IF(O1508=\"\",\"\",CONCATENATE(\"*11....+\",VLOOKUP(16-(LEN(N1508)),'1'!$A$1:$B$16,2,TRUE),N1508,\" 81..40+\",VLOOKUP(16-(LEN(O1508)),'1'!$A$1:$B$16,2,TRUE),O1508,\" 82..40+\",VLOOKUP(16-(LEN(O1508)),'1'!$A$1:$B$16,2,TRUE),P1508,\" 71....+0000000000000000 \"))","v":""},null,""]
[null,{"$f":"IF(I1509=\"\",\"\",ROWS($A$3:A1509))","v":""},"","","","","","","","",{"$f":"IFERROR(SMALL($B$3:$B$2002,ROWS($A$3:A1509)),\"\")","v":""},"","",null,"","","",{"$f":"IF(O1509=\"\",\"\",CONCATENATE(\"*11....+\",VLOOKUP(16-(LEN(N1509)),'1'!$A$1:$B$16,2,TRUE),N1509,\" 81..40+\",VLOOKUP(16-(LEN(O1509)),'1'!$A$1:$B$16,2,TRUE),O1509,\" 82..40+\",VLOOKUP(16-(LEN(O1509)),'1'!$A$1:$B$16,2,TRUE),P1509,\" 71....+0000000000000000 \"))","v":""},null,""]
[null,{"$f":"IF(I1510=\"\",\"\",ROWS($A$3:A1510))","v":""},"","","","","","","","",{"$f":"IFERROR(SMALL($B$3:$B$2002,ROWS($A$3:A1510)),\"\")","v":""},"","",null,"","","",{"$f":"IF(O1510=\"\",\"\",CONCATENATE(\"*11....+\",VLOOKUP(16-(LEN(N1510)),'1'!$A$1:$B$16,2,TRUE),N1510,\" 81..40+\",VLOOKUP(16-(LEN(O1510)),'1'!$A$1:$B$16,2,TRUE),O1510,\" 82..40+\",VLOOKUP(16-(LEN(O1510)),'1'!$A$1:$B$16,2,TRUE),P1510,\" 71....+0000000000000000 \"))","v":""},null,""]
[null,{"$f":"IF(I1511=\"\",\"\",ROWS($A$3:A1511))","v":""},"","","","","","","","",{"$f":"IFERROR(SMALL($B$3:$B$2002,ROWS($A$3:A1511)),\"\")","v":""},"","",null,"","","",{"$f":"IF(O1511=\"\",\"\",CONCATENATE(\"*11....+\",VLOOKUP(16-(LEN(N1511)),'1'!$A$1:$B$16,2,TRUE),N1511,\" 81..40+\",VLOOKUP(16-(LEN(O1511)),'1'!$A$1:$B$16,2,TRUE),O1511,\" 82..40+\",VLOOKUP(16-(LEN(O1511)),'1'!$A$1:$B$16,2,TRUE),P1511,\" 71....+0000000000000000 \"))","v":""},null,""]
[null,{"$f":"IF(I1512=\"\",\"\",ROWS($A$3:A1512))","v":""},"","","","","","","","",{"$f":"IFERROR(SMALL($B$3:$B$2002,ROWS($A$3:A1512)),\"\")","v":""},"","",null,"","","",{"$f":"IF(O1512=\"\",\"\",CONCATENATE(\"*11....+\",VLOOKUP(16-(LEN(N1512)),'1'!$A$1:$B$16,2,TRUE),N1512,\" 81..40+\",VLOOKUP(16-(LEN(O1512)),'1'!$A$1:$B$16,2,TRUE),O1512,\" 82..40+\",VLOOKUP(16-(LEN(O1512)),'1'!$A$1:$B$16,2,TRUE),P1512,\" 71....+0000000000000000 \"))","v":""},null,""]
[null,{"$f":"IF(I1513=\"\",\"\",ROWS($A$3:A1513))","v":""},"","","","","","","","",{"$f":"IFERROR(SMALL($B$3:$B$2002,ROWS($A$3:A1513)),\"\")","v":""},"","",null,"","","",{"$f":"IF(O1513=\"\",\"\",CONCATENATE(\"*11....+\",VLOOKUP(16-(LEN(N1513)),'1'!$A$1:$B$16,2,TRUE),N1513,\" 81..40+\",VLOOKUP(16-(LEN(O1513)),'1'!$A$1:$B$16,2,TRUE),O1513,\" 82..40+\",VLOOKUP(16-(LEN(O1513)),'1'!$A$1:$B$16,2,TRUE),P1513,\" 71....+0000000000000000 \"))","v":""},null,""]
[null,{"$f":"IF(I1514=\"\",\"\",ROWS($A$3:A1514))","v":""},"","","","","","","","",{"$f":"IFERROR(SMALL($B$3:$B$2002,ROWS($A$3:A1514)),\"\")","v":""},"","",null,"","","",{"$f":"IF(O1514=\"\",\"\",CONCATENATE(\"*11....+\",VLOOKUP(16-(LEN(N1514)),'1'!$A$1:$B$16,2,TRUE),N1514,\" 81..40+\",VLOOKUP(16-(LEN(O1514)),'1'!$A$1:$B$16,2,TRUE),O1514,\" 82..40+\",VLOOKUP(16-(LEN(O1514)),'1'!$A$1:$B$16,2,TRUE),P1514,\" 71....+0000000000000000 \"))","v":""},null,""]
[null,{"$f":"IF(I1515=\"\",\"\",ROWS($A$3:A1515))","v":""},"","","","","","","","",{"$f":"IFERROR(SMALL($B$3:$B$2002,ROWS($A$3:A1515)),\"\")","v":""},"","",null,"","","",{"$f":"IF(O1515=\"\",\"\",CONCATENATE(\"*11....+\",VLOOKUP(16-(LEN(N1515)),'1'!$A$1:$B$16,2,TRUE),N1515,\" 81..40+\",VLOOKUP(16-(LEN(O1515)),'1'!$A$1:$B$16,2,TRUE),O1515,\" 82..40+\",VLOOKUP(16-(LEN(O1515)),'1'!$A$1:$B$16,2,TRUE),P1515,\" 71....+0000000000000000 \"))","v":""},null,""]
[null,{"$f":"IF(I1516=\"\",\"\",ROWS($A$3:A1516))","v":""},"","","","","","","","",{"$f":"IFERROR(SMALL($B$3:$B$2002,ROWS($A$3:A1516)),\"\")","v":""},"","",null,"","","",{"$f":"IF(O1516=\"\",\"\",CONCATENATE(\"*11....+\",VLOOKUP(16-(LEN(N1516)),'1'!$A$1:$B$16,2,TRUE),N1516,\" 81..40+\",VLOOKUP(16-(LEN(O1516)),'1'!$A$1:$B$16,2,TRUE),O1516,\" 82..40+\",VLOOKUP(16-(LEN(O1516)),'1'!$A$1:$B$16,2,TRUE),P1516,\" 71....+0000000000000000 \"))","v":""},null,""]
[null,{"$f":"IF(I1517=\"\",\"\",ROWS($A$3:A1517))","v":""},"","","","","","","","",{"$f":"IFERROR(SMALL($B$3:$B$2002,ROWS($A$3:A1517)),\"\")","v":""},"","",null,"","","",{"$f":"IF(O1517=\"\",\"\",CONCATENATE(\"*11....+\",VLOOKUP(16-(LEN(N1517)),'1'!$A$1:$B$16,2,TRUE),N1517,\" 81..40+\",VLOOKUP(16-(LEN(O1517)),'1'!$A$1:$B$16,2,TRUE),O1517,\" 82..40+\",VLOOKUP(16-(LEN(O1517)),'1'!$A$1:$B$16,2,TRUE),P1517,\" 71....+0000000000000000 \"))","v":""},null,""]
[null,{"$f":"IF(I1518=\"\",\"\",ROWS($A$3:A1518))","v":""},"","","","","","","","",{"$f":"IFERROR(SMALL($B$3:$B$2002,ROWS($A$3:A1518)),\"\")","v":""},"","",null,"","","",{"$f":"IF(O1518=\"\",\"\",CONCATENATE(\"*11....+\",VLOOKUP(16-(LEN(N1518)),'1'!$A$1:$B$16,2,TRUE),N1518,\" 81..40+\",VLOOKUP(16-(LEN(O1518)),'1'!$A$1:$B$16,2,TRUE),O1518,\" 82..40+\",VLOOKUP(16-(LEN(O1518)),'1'!$A$1:$B$16,2,TRUE),P1518,\" 71....+0000000000000000 \"))","v":""},null,""]
[null,{"$f":"IF(I1519=\"\",\"\",ROWS($A$3:A1519))","v":""},"","","","","","","","",{"$f":"IFERROR(SMALL($B$3:$B$2002,ROWS($A$3:A1519)),\"\")","v":""},"","",null,"","","",{"$f":"IF(O1519=\"\",\"\",CONCATENATE(\"*11....+\",VLOOKUP(16-(LEN(N1519)),'1'!$A$1:$B$16,2,TRUE),N1519,\" 81..40+\",VLOOKUP(16-(LEN(O1519)),'1'!$A$1:$B$16,2,TRUE),O1519,\" 82..40+\",VLOOKUP(16-(LEN(O1519)),'1'!$A$1:$B$16,2,TRUE),P1519,\" 71....+0000000000000000 \"))","v":""},null,""]
[null,{"$f":"IF(I1520=\"\",\"\",ROWS($A$3:A1520))","v":""},"","","","","","","","",{"$f":"IFERROR(SMALL($B$3:$B$2002,ROWS($A$3:A1520)),\"\")","v":""},"","",null,"","","",{"$f":"IF(O1520=\"\",\"\",CONCATENATE(\"*11....+\",VLOOKUP(16-(LEN(N1520)),'1'!$A$1:$B$16,2,TRUE),N1520,\" 81..40+\",VLOOKUP(16-(LEN(O1520)),'1'!$A$1:$B$16,2,TRUE),O1520,\" 82..40+\",VLOOKUP(16-(LEN(O1520)),'1'!$A$1:$B$16,2,TRUE),P1520,\" 71....+0000000000000000 \"))","v":""},null,""]
[null,{"$f":"IF(I1521=\"\",\"\",ROWS($A$3:A1521))","v":""},"","","","","","","","",{"$f":"IFERROR(SMALL($B$3:$B$2002,ROWS($A$3:A1521)),\"\")","v":""},"","",null,"","","",{"$f":"IF(O1521=\"\",\"\",CONCATENATE(\"*11....+\",VLOOKUP(16-(LEN(N1521)),'1'!$A$1:$B$16,2,TRUE),N1521,\" 81..40+\",VLOOKUP(16-(LEN(O1521)),'1'!$A$1:$B$16,2,TRUE),O1521,\" 82..40+\",VLOOKUP(16-(LEN(O1521)),'1'!$A$1:$B$16,2,TRUE),P1521,\" 71....+0000000000000000 \"))","v":""},null,""]
[null,{"$f":"IF(I1522=\"\",\"\",ROWS($A$3:A1522))","v":""},"","","","","","","","",{"$f":"IFERROR(SMALL($B$3:$B$2002,ROWS($A$3:A1522)),\"\")","v":""},"","",null,"","","",{"$f":"IF(O1522=\"\",\"\",CONCATENATE(\"*11....+\",VLOOKUP(16-(LEN(N1522)),'1'!$A$1:$B$16,2,TRUE),N1522,\" 81..40+\",VLOOKUP(16-(LEN(O1522)),'1'!$A$1:$B$16,2,TRUE),O1522,\" 82..40+\",VLOOKUP(16-(LEN(O1522)),'1'!$A$1:$B$16,2,TRUE),P1522,\" 71....+0000000000000000 \"))","v":""},null,""]
[null,{"$f":"IF(I1523=\"\",\"\",ROWS($A$3:A1523))","v":""},"","","","","","","","",{"$f":"IFERROR(SMALL($B$3:$B$2002,ROWS($A$3:A1523)),\"\")","v":""},"","",null,"","","",{"$f":"IF(O1523=\"\",\"\",CONCATENATE(\"*11....+\",VLOOKUP(16-(LEN(N1523)),'1'!$A$1:$B$16,2,TRUE),N1523,\" 81..40+\",VLOOKUP(16-(LEN(O1523)),'1'!$A$1:$B$16,2,TRUE),O1523,\" 82..40+\",VLOOKUP(16-(LEN(O1523)),'1'!$A$1:$B$16,2,TRUE),P1523,\" 71....+0000000000000000 \"))","v":""},null,""]
[null,{"$f":"IF(I1524=\"\",\"\",ROWS($A$3:A1524))","v":""},"","","","","","","","",{"$f":"IFERROR(SMALL($B$3:$B$2002,ROWS($A$3:A1524)),\"\")","v":""},"","",null,"","","",{"$f":"IF(O1524=\"\",\"\",CONCATENATE(\"*11....+\",VLOOKUP(16-(LEN(N1524)),'1'!$A$1:$B$16,2,TRUE),N1524,\" 81..40+\",VLOOKUP(16-(LEN(O1524)),'1'!$A$1:$B$16,2,TRUE),O1524,\" 82..40+\",VLOOKUP(16-(LEN(O1524)),'1'!$A$1:$B$16,2,TRUE),P1524,\" 71....+0000000000000000 \"))","v":""},null,""]
[null,{"$f":"IF(I1525=\"\",\"\",ROWS($A$3:A1525))","v":""},"","","","","","","","",{"$f":"IFERROR(SMALL($B$3:$B$2002,ROWS($A$3:A1525)),\"\")","v":""},"","",null,"","","",{"$f":"IF(O1525=\"\",\"\",CONCATENATE(\"*11....+\",VLOOKUP(16-(LEN(N1525)),'1'!$A$1:$B$16,2,TRUE),N1525,\" 81..40+\",VLOOKUP(16-(LEN(O1525)),'1'!$A$1:$B$16,2,TRUE),O1525,\" 82..40+\",VLOOKUP(16-(LEN(O1525)),'1'!$A$1:$B$16,2,TRUE),P1525,\" 71....+0000000000000000 \"))","v":""},null,""]
[null,{"$f":"IF(I1526=\"\",\"\",ROWS($A$3:A1526))","v":""},"","","","","","","","",{"$f":"IFERROR(SMALL($B$3:$B$2002,ROWS($A$3:A1526)),\"\")","v":""},"","",null,"","","",{"$f":"IF(O1526=\"\",\"\",CONCATENATE(\"*11....+\",VLOOKUP(16-(LEN(N1526)),'1'!$A$1:$B$16,2,TRUE),N1526,\" 81..40+\",VLOOKUP(16-(LEN(O1526)),'1'!$A$1:$B$16,2,TRUE),O1526,\" 82..40+\",VLOOKUP(16-(LEN(O1526)),'1'!$A$1:$B$16,2,TRUE),P1526,\" 71....+0000000000000000 \"))","v":""},null,""]
[null,{"$f":"IF(I1527=\"\",\"\",ROWS($A$3:A1527))","v":""},"","","","","","","","",{"$f":"IFERROR(SMALL($B$3:$B$2002,ROWS($A$3:A1527)),\"\")","v":""},"","",null,"","","",{"$f":"IF(O1527=\"\",\"\",CONCATENATE(\"*11....+\",VLOOKUP(16-(LEN(N1527)),'1'!$A$1:$B$16,2,TRUE),N1527,\" 81..40+\",VLOOKUP(16-(LEN(O1527)),'1'!$A$1:$B$16,2,TRUE),O1527,\" 82..40+\",VLOOKUP(16-(LEN(O1527)),'1'!$A$1:$B$16,2,TRUE),P1527,\" 71....+0000000000000000 \"))","v":""},null,""]
[null,{"$f":"IF(I1528=\"\",\"\",ROWS($A$3:A1528))","v":""},"","","","","","","","",{"$f":"IFERROR(SMALL($B$3:$B$2002,ROWS($A$3:A1528)),\"\")","v":""},"","",null,"","","",{"$f":"IF(O1528=\"\",\"\",CONCATENATE(\"*11....+\",VLOOKUP(16-(LEN(N1528)),'1'!$A$1:$B$16,2,TRUE),N1528,\" 81..40+\",VLOOKUP(16-(LEN(O1528)),'1'!$A$1:$B$16,2,TRUE),O1528,\" 82..40+\",VLOOKUP(16-(LEN(O1528)),'1'!$A$1:$B$16,2,TRUE),P1528,\" 71....+0000000000000000 \"))","v":""},null,""]
[null,{"$f":"IF(I1529=\"\",\"\",ROWS($A$3:A1529))","v":""},"","","","","","","","",{"$f":"IFERROR(SMALL($B$3:$B$2002,ROWS($A$3:A1529)),\"\")","v":""},"","",null,"","","",{"$f":"IF(O1529=\"\",\"\",CONCATENATE(\"*11....+\",VLOOKUP(16-(LEN(N1529)),'1'!$A$1:$B$16,2,TRUE),N1529,\" 81..40+\",VLOOKUP(16-(LEN(O1529)),'1'!$A$1:$B$16,2,TRUE),O1529,\" 82..40+\",VLOOKUP(16-(LEN(O1529)),'1'!$A$1:$B$16,2,TRUE),P1529,\" 71....+0000000000000000 \"))","v":""},null,""]
[null,{"$f":"IF(I1530=\"\",\"\",ROWS($A$3:A1530))","v":""},"","","","","","","","",{"$f":"IFERROR(SMALL($B$3:$B$2002,ROWS($A$3:A1530)),\"\")","v":""},"","",null,"","","",{"$f":"IF(O1530=\"\",\"\",CONCATENATE(\"*11....+\",VLOOKUP(16-(LEN(N1530)),'1'!$A$1:$B$16,2,TRUE),N1530,\" 81..40+\",VLOOKUP(16-(LEN(O1530)),'1'!$A$1:$B$16,2,TRUE),O1530,\" 82..40+\",VLOOKUP(16-(LEN(O1530)),'1'!$A$1:$B$16,2,TRUE),P1530,\" 71....+0000000000000000 \"))","v":""},null,""]
[null,{"$f":"IF(I1531=\"\",\"\",ROWS($A$3:A1531))","v":""},"","","","","","","","",{"$f":"IFERROR(SMALL($B$3:$B$2002,ROWS($A$3:A1531)),\"\")","v":""},"","",null,"","","",{"$f":"IF(O1531=\"\",\"\",CONCATENATE(\"*11....+\",VLOOKUP(16-(LEN(N1531)),'1'!$A$1:$B$16,2,TRUE),N1531,\" 81..40+\",VLOOKUP(16-(LEN(O1531)),'1'!$A$1:$B$16,2,TRUE),O1531,\" 82..40+\",VLOOKUP(16-(LEN(O1531)),'1'!$A$1:$B$16,2,TRUE),P1531,\" 71....+0000000000000000 \"))","v":""},null,""]
[null,{"$f":"IF(I1532=\"\",\"\",ROWS($A$3:A1532))","v":""},"","","","","","","","",{"$f":"IFERROR(SMALL($B$3:$B$2002,ROWS($A$3:A1532)),\"\")","v":""},"","",null,"","","",{"$f":"IF(O1532=\"\",\"\",CONCATENATE(\"*11....+\",VLOOKUP(16-(LEN(N1532)),'1'!$A$1:$B$16,2,TRUE),N1532,\" 81..40+\",VLOOKUP(16-(LEN(O1532)),'1'!$A$1:$B$16,2,TRUE),O1532,\" 82..40+\",VLOOKUP(16-(LEN(O1532)),'1'!$A$1:$B$16,2,TRUE),P1532,\" 71....+0000000000000000 \"))","v":""},null,""]
[null,{"$f":"IF(I1533=\"\",\"\",ROWS($A$3:A1533))","v":""},"","","","","","","","",{"$f":"IFERROR(SMALL($B$3:$B$2002,ROWS($A$3:A1533)),\"\")","v":""},"","",null,"","","",{"$f":"IF(O1533=\"\",\"\",CONCATENATE(\"*11....+\",VLOOKUP(16-(LEN(N1533)),'1'!$A$1:$B$16,2,TRUE),N1533,\" 81..40+\",VLOOKUP(16-(LEN(O1533)),'1'!$A$1:$B$16,2,TRUE),O1533,\" 82..40+\",VLOOKUP(16-(LEN(O1533)),'1'!$A$1:$B$16,2,TRUE),P1533,\" 71....+0000000000000000 \"))","v":""},null,""]
[null,{"$f":"IF(I1534=\"\",\"\",ROWS($A$3:A1534))","v":""},"","","","","","","","",{"$f":"IFERROR(SMALL($B$3:$B$2002,ROWS($A$3:A1534)),\"\")","v":""},"","",null,"","","",{"$f":"IF(O1534=\"\",\"\",CONCATENATE(\"*11....+\",VLOOKUP(16-(LEN(N1534)),'1'!$A$1:$B$16,2,TRUE),N1534,\" 81..40+\",VLOOKUP(16-(LEN(O1534)),'1'!$A$1:$B$16,2,TRUE),O1534,\" 82..40+\",VLOOKUP(16-(LEN(O1534)),'1'!$A$1:$B$16,2,TRUE),P1534,\" 71....+0000000000000000 \"))","v":""},null,""]
[null,{"$f":"IF(I1535=\"\",\"\",ROWS($A$3:A1535))","v":""},"","","","","","","","",{"$f":"IFERROR(SMALL($B$3:$B$2002,ROWS($A$3:A1535)),\"\")","v":""},"","",null,"","","",{"$f":"IF(O1535=\"\",\"\",CONCATENATE(\"*11....+\",VLOOKUP(16-(LEN(N1535)),'1'!$A$1:$B$16,2,TRUE),N1535,\" 81..40+\",VLOOKUP(16-(LEN(O1535)),'1'!$A$1:$B$16,2,TRUE),O1535,\" 82..40+\",VLOOKUP(16-(LEN(O1535)),'1'!$A$1:$B$16,2,TRUE),P1535,\" 71....+0000000000000000 \"))","v":""},null,""]
[null,{"$f":"IF(I1536=\"\",\"\",ROWS($A$3:A1536))","v":""},"","","","","","","","",{"$f":"IFERROR(SMALL($B$3:$B$2002,ROWS($A$3:A1536)),\"\")","v":""},"","",null,"","","",{"$f":"IF(O1536=\"\",\"\",CONCATENATE(\"*11....+\",VLOOKUP(16-(LEN(N1536)),'1'!$A$1:$B$16,2,TRUE),N1536,\" 81..40+\",VLOOKUP(16-(LEN(O1536)),'1'!$A$1:$B$16,2,TRUE),O1536,\" 82..40+\",VLOOKUP(16-(LEN(O1536)),'1'!$A$1:$B$16,2,TRUE),P1536,\" 71....+0000000000000000 \"))","v":""},null,""]
[null,{"$f":"IF(I1537=\"\",\"\",ROWS($A$3:A1537))","v":""},"","","","","","","","",{"$f":"IFERROR(SMALL($B$3:$B$2002,ROWS($A$3:A1537)),\"\")","v":""},"","",null,"","","",{"$f":"IF(O1537=\"\",\"\",CONCATENATE(\"*11....+\",VLOOKUP(16-(LEN(N1537)),'1'!$A$1:$B$16,2,TRUE),N1537,\" 81..40+\",VLOOKUP(16-(LEN(O1537)),'1'!$A$1:$B$16,2,TRUE),O1537,\" 82..40+\",VLOOKUP(16-(LEN(O1537)),'1'!$A$1:$B$16,2,TRUE),P1537,\" 71....+0000000000000000 \"))","v":""},null,""]
[null,{"$f":"IF(I1538=\"\",\"\",ROWS($A$3:A1538))","v":""},"","","","","","","","",{"$f":"IFERROR(SMALL($B$3:$B$2002,ROWS($A$3:A1538)),\"\")","v":""},"","",null,"","","",{"$f":"IF(O1538=\"\",\"\",CONCATENATE(\"*11....+\",VLOOKUP(16-(LEN(N1538)),'1'!$A$1:$B$16,2,TRUE),N1538,\" 81..40+\",VLOOKUP(16-(LEN(O1538)),'1'!$A$1:$B$16,2,TRUE),O1538,\" 82..40+\",VLOOKUP(16-(LEN(O1538)),'1'!$A$1:$B$16,2,TRUE),P1538,\" 71....+0000000000000000 \"))","v":""},null,""]
[null,{"$f":"IF(I1539=\"\",\"\",ROWS($A$3:A1539))","v":""},"","","","","","","","",{"$f":"IFERROR(SMALL($B$3:$B$2002,ROWS($A$3:A1539)),\"\")","v":""},"","",null,"","","",{"$f":"IF(O1539=\"\",\"\",CONCATENATE(\"*11....+\",VLOOKUP(16-(LEN(N1539)),'1'!$A$1:$B$16,2,TRUE),N1539,\" 81..40+\",VLOOKUP(16-(LEN(O1539)),'1'!$A$1:$B$16,2,TRUE),O1539,\" 82..40+\",VLOOKUP(16-(LEN(O1539)),'1'!$A$1:$B$16,2,TRUE),P1539,\" 71....+0000000000000000 \"))","v":""},null,""]
[null,{"$f":"IF(I1540=\"\",\"\",ROWS($A$3:A1540))","v":""},{"$f":"IF(LEN(A1540)=59,ROUND(VALUE(MID(A1540,23,9)),3),\"\")","v":""},{"$f":"IF(LEN(A1540)=24,\"\",\"\")","v":""},{"$f":"IF(LEN(A1540)=63,ROUND(VALUE(MID(A1540,23,12)),3),\"\")","v":""},{"$f":"IF(LEN(A1540)=59,ROUND(VALUE(MID(A1540,37,9)),3),\"\")","v":""},{"$f":"IF(LEN(A1540)=24,\"\",\"\")","v":""},{"$f":"IF(LEN(A1540)=63,ROUND(VALUE(MID(A1540,39,12)),3),\"\")","v":""},{"$f":"IF(AND(C1540=\"\",D1540=\"\",E1540=\"\"),\"\",ROUND(CONCATENATE(C1540,D1540,E1540),3))","v":""},{"$f":"IF(AND(C1540=\"\",D1540=\"\",E1540=\"\"),\"\",ROUND(CONCATENATE(F1540,G1540,H1540),3))","v":""},{"$f":"IFERROR(SMALL($B$3:$B$2002,ROWS($A$3:A1540)),\"\")","v":""},{"$f":"IF(K1540=\"\",\"\",ROUND(VALUE(VLOOKUP(K1540,$B$3:$J$2002,8,TRUE)),3))","v":""},{"$f":"IF(K1540=\"\",\"\",ROUND(VALUE(VLOOKUP(K1540,$B$3:$J$2002,9,TRUE)),3))","v":""},null,{"$f":"IF(L1540=\"\",\"\",L1540/0.001)","v":""},"",{"$f":"IF(O1540=\"\",\"\",16-LEN(N1540))","v":""},{"$f":"IF(O1540=\"\",\"\",CONCATENATE(\"*11....+\",VLOOKUP(16-(LEN(N1540)),'1'!$A$1:$B$16,2,TRUE),N1540,\" 81..40+\",VLOOKUP(16-(LEN(O1540)),'1'!$A$1:$B$16,2,TRUE),O1540,\" 82..40+\",VLOOKUP(16-(LEN(O1540)),'1'!$A$1:$B$16,2,TRUE),P1540,\" 71....+0000000000000000 \"))","v":""},null,{"$f":"IF(O1540=\"\",\"\",CONCATENATE(N1540,\",\",L1540,\",\",M1540))","v":""}]
[null,{"$f":"IF(I1541=\"\",\"\",ROWS($A$3:A1541))","v":""},"","","","","","","","",{"$f":"IFERROR(SMALL($B$3:$B$2002,ROWS($A$3:A1541)),\"\")","v":""},"","",null,"","","",{"$f":"IF(O1541=\"\",\"\",CONCATENATE(\"*11....+\",VLOOKUP(16-(LEN(N1541)),'1'!$A$1:$B$16,2,TRUE),N1541,\" 81..40+\",VLOOKUP(16-(LEN(O1541)),'1'!$A$1:$B$16,2,TRUE),O1541,\" 82..40+\",VLOOKUP(16-(LEN(O1541)),'1'!$A$1:$B$16,2,TRUE),P1541,\" 71....+0000000000000000 \"))","v":""},null,""]
[null,{"$f":"IF(I1542=\"\",\"\",ROWS($A$3:A1542))","v":""},"","","","","","","","",{"$f":"IFERROR(SMALL($B$3:$B$2002,ROWS($A$3:A1542)),\"\")","v":""},"","",null,"","","",{"$f":"IF(O1542=\"\",\"\",CONCATENATE(\"*11....+\",VLOOKUP(16-(LEN(N1542)),'1'!$A$1:$B$16,2,TRUE),N1542,\" 81..40+\",VLOOKUP(16-(LEN(O1542)),'1'!$A$1:$B$16,2,TRUE),O1542,\" 82..40+\",VLOOKUP(16-(LEN(O1542)),'1'!$A$1:$B$16,2,TRUE),P1542,\" 71....+0000000000000000 \"))","v":""},null,""]
[null,{"$f":"IF(I1543=\"\",\"\",ROWS($A$3:A1543))","v":""},"","","","","","","","",{"$f":"IFERROR(SMALL($B$3:$B$2002,ROWS($A$3:A1543)),\"\")","v":""},"","",null,"","","",{"$f":"IF(O1543=\"\",\"\",CONCATENATE(\"*11....+\",VLOOKUP(16-(LEN(N1543)),'1'!$A$1:$B$16,2,TRUE),N1543,\" 81..40+\",VLOOKUP(16-(LEN(O1543)),'1'!$A$1:$B$16,2,TRUE),O1543,\" 82..40+\",VLOOKUP(16-(LEN(O1543)),'1'!$A$1:$B$16,2,TRUE),P1543,\" 71....+0000000000000000 \"))","v":""},null,""]
[null,{"$f":"IF(I1544=\"\",\"\",ROWS($A$3:A1544))","v":""},"","","","","","","","",{"$f":"IFERROR(SMALL($B$3:$B$2002,ROWS($A$3:A1544)),\"\")","v":""},"","",null,"","","",{"$f":"IF(O1544=\"\",\"\",CONCATENATE(\"*11....+\",VLOOKUP(16-(LEN(N1544)),'1'!$A$1:$B$16,2,TRUE),N1544,\" 81..40+\",VLOOKUP(16-(LEN(O1544)),'1'!$A$1:$B$16,2,TRUE),O1544,\" 82..40+\",VLOOKUP(16-(LEN(O1544)),'1'!$A$1:$B$16,2,TRUE),P1544,\" 71....+0000000000000000 \"))","v":""},null,""]
[null,{"$f":"IF(I1545=\"\",\"\",ROWS($A$3:A1545))","v":""},"","","","","","","","",{"$f":"IFERROR(SMALL($B$3:$B$2002,ROWS($A$3:A1545)),\"\")","v":""},"","",null,"","","",{"$f":"IF(O1545=\"\",\"\",CONCATENATE(\"*11....+\",VLOOKUP(16-(LEN(N1545)),'1'!$A$1:$B$16,2,TRUE),N1545,\" 81..40+\",VLOOKUP(16-(LEN(O1545)),'1'!$A$1:$B$16,2,TRUE),O1545,\" 82..40+\",VLOOKUP(16-(LEN(O1545)),'1'!$A$1:$B$16,2,TRUE),P1545,\" 71....+0000000000000000 \"))","v":""},null,""]
[null,{"$f":"IF(I1546=\"\",\"\",ROWS($A$3:A1546))","v":""},"","","","","","","","",{"$f":"IFERROR(SMALL($B$3:$B$2002,ROWS($A$3:A1546)),\"\")","v":""},"","",null,"","","",{"$f":"IF(O1546=\"\",\"\",CONCATENATE(\"*11....+\",VLOOKUP(16-(LEN(N1546)),'1'!$A$1:$B$16,2,TRUE),N1546,\" 81..40+\",VLOOKUP(16-(LEN(O1546)),'1'!$A$1:$B$16,2,TRUE),O1546,\" 82..40+\",VLOOKUP(16-(LEN(O1546)),'1'!$A$1:$B$16,2,TRUE),P1546,\" 71....+0000000000000000 \"))","v":""},null,""]
[null,{"$f":"IF(I1547=\"\",\"\",ROWS($A$3:A1547))","v":""},"","","","","","","","",{"$f":"IFERROR(SMALL($B$3:$B$2002,ROWS($A$3:A1547)),\"\")","v":""},"","",null,"","","",{"$f":"IF(O1547=\"\",\"\",CONCATENATE(\"*11....+\",VLOOKUP(16-(LEN(N1547)),'1'!$A$1:$B$16,2,TRUE),N1547,\" 81..40+\",VLOOKUP(16-(LEN(O1547)),'1'!$A$1:$B$16,2,TRUE),O1547,\" 82..40+\",VLOOKUP(16-(LEN(O1547)),'1'!$A$1:$B$16,2,TRUE),P1547,\" 71....+0000000000000000 \"))","v":""},null,""]
[null,{"$f":"IF(I1548=\"\",\"\",ROWS($A$3:A1548))","v":""},"","","","","","","","",{"$f":"IFERROR(SMALL($B$3:$B$2002,ROWS($A$3:A1548)),\"\")","v":""},"","",null,"","","",{"$f":"IF(O1548=\"\",\"\",CONCATENATE(\"*11....+\",VLOOKUP(16-(LEN(N1548)),'1'!$A$1:$B$16,2,TRUE),N1548,\" 81..40+\",VLOOKUP(16-(LEN(O1548)),'1'!$A$1:$B$16,2,TRUE),O1548,\" 82..40+\",VLOOKUP(16-(LEN(O1548)),'1'!$A$1:$B$16,2,TRUE),P1548,\" 71....+0000000000000000 \"))","v":""},null,""]
[null,{"$f":"IF(I1549=\"\",\"\",ROWS($A$3:A1549))","v":""},"","","","","","","","",{"$f":"IFERROR(SMALL($B$3:$B$2002,ROWS($A$3:A1549)),\"\")","v":""},"","",null,"","","",{"$f":"IF(O1549=\"\",\"\",CONCATENATE(\"*11....+\",VLOOKUP(16-(LEN(N1549)),'1'!$A$1:$B$16,2,TRUE),N1549,\" 81..40+\",VLOOKUP(16-(LEN(O1549)),'1'!$A$1:$B$16,2,TRUE),O1549,\" 82..40+\",VLOOKUP(16-(LEN(O1549)),'1'!$A$1:$B$16,2,TRUE),P1549,\" 71....+0000000000000000 \"))","v":""},null,""]
[null,{"$f":"IF(I1550=\"\",\"\",ROWS($A$3:A1550))","v":""},"","","","","","","","",{"$f":"IFERROR(SMALL($B$3:$B$2002,ROWS($A$3:A1550)),\"\")","v":""},"","",null,"","","",{"$f":"IF(O1550=\"\",\"\",CONCATENATE(\"*11....+\",VLOOKUP(16-(LEN(N1550)),'1'!$A$1:$B$16,2,TRUE),N1550,\" 81..40+\",VLOOKUP(16-(LEN(O1550)),'1'!$A$1:$B$16,2,TRUE),O1550,\" 82..40+\",VLOOKUP(16-(LEN(O1550)),'1'!$A$1:$B$16,2,TRUE),P1550,\" 71....+0000000000000000 \"))","v":""},null,""]
[null,{"$f":"IF(I1551=\"\",\"\",ROWS($A$3:A1551))","v":""},"","","","","","","","",{"$f":"IFERROR(SMALL($B$3:$B$2002,ROWS($A$3:A1551)),\"\")","v":""},"","",null,"","","",{"$f":"IF(O1551=\"\",\"\",CONCATENATE(\"*11....+\",VLOOKUP(16-(LEN(N1551)),'1'!$A$1:$B$16,2,TRUE),N1551,\" 81..40+\",VLOOKUP(16-(LEN(O1551)),'1'!$A$1:$B$16,2,TRUE),O1551,\" 82..40+\",VLOOKUP(16-(LEN(O1551)),'1'!$A$1:$B$16,2,TRUE),P1551,\" 71....+0000000000000000 \"))","v":""},null,""]
[null,{"$f":"IF(I1552=\"\",\"\",ROWS($A$3:A1552))","v":""},"","","","","","","","",{"$f":"IFERROR(SMALL($B$3:$B$2002,ROWS($A$3:A1552)),\"\")","v":""},"","",null,"","","",{"$f":"IF(O1552=\"\",\"\",CONCATENATE(\"*11....+\",VLOOKUP(16-(LEN(N1552)),'1'!$A$1:$B$16,2,TRUE),N1552,\" 81..40+\",VLOOKUP(16-(LEN(O1552)),'1'!$A$1:$B$16,2,TRUE),O1552,\" 82..40+\",VLOOKUP(16-(LEN(O1552)),'1'!$A$1:$B$16,2,TRUE),P1552,\" 71....+0000000000000000 \"))","v":""},null,""]
[null,{"$f":"IF(I1553=\"\",\"\",ROWS($A$3:A1553))","v":""},"","","","","","","","",{"$f":"IFERROR(SMALL($B$3:$B$2002,ROWS($A$3:A1553)),\"\")","v":""},"","",null,"","","",{"$f":"IF(O1553=\"\",\"\",CONCATENATE(\"*11....+\",VLOOKUP(16-(LEN(N1553)),'1'!$A$1:$B$16,2,TRUE),N1553,\" 81..40+\",VLOOKUP(16-(LEN(O1553)),'1'!$A$1:$B$16,2,TRUE),O1553,\" 82..40+\",VLOOKUP(16-(LEN(O1553)),'1'!$A$1:$B$16,2,TRUE),P1553,\" 71....+0000000000000000 \"))","v":""},null,""]
[null,{"$f":"IF(I1554=\"\",\"\",ROWS($A$3:A1554))","v":""},"","","","","","","","",{"$f":"IFERROR(SMALL($B$3:$B$2002,ROWS($A$3:A1554)),\"\")","v":""},"","",null,"","","",{"$f":"IF(O1554=\"\",\"\",CONCATENATE(\"*11....+\",VLOOKUP(16-(LEN(N1554)),'1'!$A$1:$B$16,2,TRUE),N1554,\" 81..40+\",VLOOKUP(16-(LEN(O1554)),'1'!$A$1:$B$16,2,TRUE),O1554,\" 82..40+\",VLOOKUP(16-(LEN(O1554)),'1'!$A$1:$B$16,2,TRUE),P1554,\" 71....+0000000000000000 \"))","v":""},null,""]
[null,{"$f":"IF(I1555=\"\",\"\",ROWS($A$3:A1555))","v":""},"","","","","","","","",{"$f":"IFERROR(SMALL($B$3:$B$2002,ROWS($A$3:A1555)),\"\")","v":""},"","",null,"","","",{"$f":"IF(O1555=\"\",\"\",CONCATENATE(\"*11....+\",VLOOKUP(16-(LEN(N1555)),'1'!$A$1:$B$16,2,TRUE),N1555,\" 81..40+\",VLOOKUP(16-(LEN(O1555)),'1'!$A$1:$B$16,2,TRUE),O1555,\" 82..40+\",VLOOKUP(16-(LEN(O1555)),'1'!$A$1:$B$16,2,TRUE),P1555,\" 71....+0000000000000000 \"))","v":""},null,""]
[null,{"$f":"IF(I1556=\"\",\"\",ROWS($A$3:A1556))","v":""},"","","","","","","","",{"$f":"IFERROR(SMALL($B$3:$B$2002,ROWS($A$3:A1556)),\"\")","v":""},"","",null,"","","",{"$f":"IF(O1556=\"\",\"\",CONCATENATE(\"*11....+\",VLOOKUP(16-(LEN(N1556)),'1'!$A$1:$B$16,2,TRUE),N1556,\" 81..40+\",VLOOKUP(16-(LEN(O1556)),'1'!$A$1:$B$16,2,TRUE),O1556,\" 82..40+\",VLOOKUP(16-(LEN(O1556)),'1'!$A$1:$B$16,2,TRUE),P1556,\" 71....+0000000000000000 \"))","v":""},null,""]
[null,{"$f":"IF(I1557=\"\",\"\",ROWS($A$3:A1557))","v":""},"","","","","","","","",{"$f":"IFERROR(SMALL($B$3:$B$2002,ROWS($A$3:A1557)),\"\")","v":""},"","",null,"","","",{"$f":"IF(O1557=\"\",\"\",CONCATENATE(\"*11....+\",VLOOKUP(16-(LEN(N1557)),'1'!$A$1:$B$16,2,TRUE),N1557,\" 81..40+\",VLOOKUP(16-(LEN(O1557)),'1'!$A$1:$B$16,2,TRUE),O1557,\" 82..40+\",VLOOKUP(16-(LEN(O1557)),'1'!$A$1:$B$16,2,TRUE),P1557,\" 71....+0000000000000000 \"))","v":""},null,""]
[null,{"$f":"IF(I1558=\"\",\"\",ROWS($A$3:A1558))","v":""},"","","","","","","","",{"$f":"IFERROR(SMALL($B$3:$B$2002,ROWS($A$3:A1558)),\"\")","v":""},"","",null,"","","",{"$f":"IF(O1558=\"\",\"\",CONCATENATE(\"*11....+\",VLOOKUP(16-(LEN(N1558)),'1'!$A$1:$B$16,2,TRUE),N1558,\" 81..40+\",VLOOKUP(16-(LEN(O1558)),'1'!$A$1:$B$16,2,TRUE),O1558,\" 82..40+\",VLOOKUP(16-(LEN(O1558)),'1'!$A$1:$B$16,2,TRUE),P1558,\" 71....+0000000000000000 \"))","v":""},null,""]
[null,{"$f":"IF(I1559=\"\",\"\",ROWS($A$3:A1559))","v":""},"","","","","","","","",{"$f":"IFERROR(SMALL($B$3:$B$2002,ROWS($A$3:A1559)),\"\")","v":""},"","",null,"","","",{"$f":"IF(O1559=\"\",\"\",CONCATENATE(\"*11....+\",VLOOKUP(16-(LEN(N1559)),'1'!$A$1:$B$16,2,TRUE),N1559,\" 81..40+\",VLOOKUP(16-(LEN(O1559)),'1'!$A$1:$B$16,2,TRUE),O1559,\" 82..40+\",VLOOKUP(16-(LEN(O1559)),'1'!$A$1:$B$16,2,TRUE),P1559,\" 71....+0000000000000000 \"))","v":""},null,""]
[null,{"$f":"IF(I1560=\"\",\"\",ROWS($A$3:A1560))","v":""},"","","","","","","","",{"$f":"IFERROR(SMALL($B$3:$B$2002,ROWS($A$3:A1560)),\"\")","v":""},"","",null,"","","",{"$f":"IF(O1560=\"\",\"\",CONCATENATE(\"*11....+\",VLOOKUP(16-(LEN(N1560)),'1'!$A$1:$B$16,2,TRUE),N1560,\" 81..40+\",VLOOKUP(16-(LEN(O1560)),'1'!$A$1:$B$16,2,TRUE),O1560,\" 82..40+\",VLOOKUP(16-(LEN(O1560)),'1'!$A$1:$B$16,2,TRUE),P1560,\" 71....+0000000000000000 \"))","v":""},null,""]
[null,{"$f":"IF(I1561=\"\",\"\",ROWS($A$3:A1561))","v":""},"","","","","","","","",{"$f":"IFERROR(SMALL($B$3:$B$2002,ROWS($A$3:A1561)),\"\")","v":""},"","",null,"","","",{"$f":"IF(O1561=\"\",\"\",CONCATENATE(\"*11....+\",VLOOKUP(16-(LEN(N1561)),'1'!$A$1:$B$16,2,TRUE),N1561,\" 81..40+\",VLOOKUP(16-(LEN(O1561)),'1'!$A$1:$B$16,2,TRUE),O1561,\" 82..40+\",VLOOKUP(16-(LEN(O1561)),'1'!$A$1:$B$16,2,TRUE),P1561,\" 71....+0000000000000000 \"))","v":""},null,""]
[null,{"$f":"IF(I1562=\"\",\"\",ROWS($A$3:A1562))","v":""},"","","","","","","","",{"$f":"IFERROR(SMALL($B$3:$B$2002,ROWS($A$3:A1562)),\"\")","v":""},"","",null,"","","",{"$f":"IF(O1562=\"\",\"\",CONCATENATE(\"*11....+\",VLOOKUP(16-(LEN(N1562)),'1'!$A$1:$B$16,2,TRUE),N1562,\" 81..40+\",VLOOKUP(16-(LEN(O1562)),'1'!$A$1:$B$16,2,TRUE),O1562,\" 82..40+\",VLOOKUP(16-(LEN(O1562)),'1'!$A$1:$B$16,2,TRUE),P1562,\" 71....+0000000000000000 \"))","v":""},null,""]
[null,{"$f":"IF(I1563=\"\",\"\",ROWS($A$3:A1563))","v":""},"","","","","","","","",{"$f":"IFERROR(SMALL($B$3:$B$2002,ROWS($A$3:A1563)),\"\")","v":""},"","",null,"","","",{"$f":"IF(O1563=\"\",\"\",CONCATENATE(\"*11....+\",VLOOKUP(16-(LEN(N1563)),'1'!$A$1:$B$16,2,TRUE),N1563,\" 81..40+\",VLOOKUP(16-(LEN(O1563)),'1'!$A$1:$B$16,2,TRUE),O1563,\" 82..40+\",VLOOKUP(16-(LEN(O1563)),'1'!$A$1:$B$16,2,TRUE),P1563,\" 71....+0000000000000000 \"))","v":""},null,""]
[null,{"$f":"IF(I1564=\"\",\"\",ROWS($A$3:A1564))","v":""},"","","","","","","","",{"$f":"IFERROR(SMALL($B$3:$B$2002,ROWS($A$3:A1564)),\"\")","v":""},"","",null,"","","",{"$f":"IF(O1564=\"\",\"\",CONCATENATE(\"*11....+\",VLOOKUP(16-(LEN(N1564)),'1'!$A$1:$B$16,2,TRUE),N1564,\" 81..40+\",VLOOKUP(16-(LEN(O1564)),'1'!$A$1:$B$16,2,TRUE),O1564,\" 82..40+\",VLOOKUP(16-(LEN(O1564)),'1'!$A$1:$B$16,2,TRUE),P1564,\" 71....+0000000000000000 \"))","v":""},null,""]
[null,{"$f":"IF(I1565=\"\",\"\",ROWS($A$3:A1565))","v":""},"","","","","","","","",{"$f":"IFERROR(SMALL($B$3:$B$2002,ROWS($A$3:A1565)),\"\")","v":""},"","",null,"","","",{"$f":"IF(O1565=\"\",\"\",CONCATENATE(\"*11....+\",VLOOKUP(16-(LEN(N1565)),'1'!$A$1:$B$16,2,TRUE),N1565,\" 81..40+\",VLOOKUP(16-(LEN(O1565)),'1'!$A$1:$B$16,2,TRUE),O1565,\" 82..40+\",VLOOKUP(16-(LEN(O1565)),'1'!$A$1:$B$16,2,TRUE),P1565,\" 71....+0000000000000000 \"))","v":""},null,""]
[null,{"$f":"IF(I1566=\"\",\"\",ROWS($A$3:A1566))","v":""},"","","","","","","","",{"$f":"IFERROR(SMALL($B$3:$B$2002,ROWS($A$3:A1566)),\"\")","v":""},"","",null,"","","",{"$f":"IF(O1566=\"\",\"\",CONCATENATE(\"*11....+\",VLOOKUP(16-(LEN(N1566)),'1'!$A$1:$B$16,2,TRUE),N1566,\" 81..40+\",VLOOKUP(16-(LEN(O1566)),'1'!$A$1:$B$16,2,TRUE),O1566,\" 82..40+\",VLOOKUP(16-(LEN(O1566)),'1'!$A$1:$B$16,2,TRUE),P1566,\" 71....+0000000000000000 \"))","v":""},null,""]
[null,{"$f":"IF(I1567=\"\",\"\",ROWS($A$3:A1567))","v":""},"","","","","","","","",{"$f":"IFERROR(SMALL($B$3:$B$2002,ROWS($A$3:A1567)),\"\")","v":""},"","",null,"","","",{"$f":"IF(O1567=\"\",\"\",CONCATENATE(\"*11....+\",VLOOKUP(16-(LEN(N1567)),'1'!$A$1:$B$16,2,TRUE),N1567,\" 81..40+\",VLOOKUP(16-(LEN(O1567)),'1'!$A$1:$B$16,2,TRUE),O1567,\" 82..40+\",VLOOKUP(16-(LEN(O1567)),'1'!$A$1:$B$16,2,TRUE),P1567,\" 71....+0000000000000000 \"))","v":""},null,""]
[null,{"$f":"IF(I1568=\"\",\"\",ROWS($A$3:A1568))","v":""},"","","","","","","","",{"$f":"IFERROR(SMALL($B$3:$B$2002,ROWS($A$3:A1568)),\"\")","v":""},"","",null,"","","",{"$f":"IF(O1568=\"\",\"\",CONCATENATE(\"*11....+\",VLOOKUP(16-(LEN(N1568)),'1'!$A$1:$B$16,2,TRUE),N1568,\" 81..40+\",VLOOKUP(16-(LEN(O1568)),'1'!$A$1:$B$16,2,TRUE),O1568,\" 82..40+\",VLOOKUP(16-(LEN(O1568)),'1'!$A$1:$B$16,2,TRUE),P1568,\" 71....+0000000000000000 \"))","v":""},null,""]
[null,{"$f":"IF(I1569=\"\",\"\",ROWS($A$3:A1569))","v":""},"","","","","","","","",{"$f":"IFERROR(SMALL($B$3:$B$2002,ROWS($A$3:A1569)),\"\")","v":""},"","",null,"","","",{"$f":"IF(O1569=\"\",\"\",CONCATENATE(\"*11....+\",VLOOKUP(16-(LEN(N1569)),'1'!$A$1:$B$16,2,TRUE),N1569,\" 81..40+\",VLOOKUP(16-(LEN(O1569)),'1'!$A$1:$B$16,2,TRUE),O1569,\" 82..40+\",VLOOKUP(16-(LEN(O1569)),'1'!$A$1:$B$16,2,TRUE),P1569,\" 71....+0000000000000000 \"))","v":""},null,""]
[null,{"$f":"IF(I1570=\"\",\"\",ROWS($A$3:A1570))","v":""},"","","","","","","","",{"$f":"IFERROR(SMALL($B$3:$B$2002,ROWS($A$3:A1570)),\"\")","v":""},"","",null,"","","",{"$f":"IF(O1570=\"\",\"\",CONCATENATE(\"*11....+\",VLOOKUP(16-(LEN(N1570)),'1'!$A$1:$B$16,2,TRUE),N1570,\" 81..40+\",VLOOKUP(16-(LEN(O1570)),'1'!$A$1:$B$16,2,TRUE),O1570,\" 82..40+\",VLOOKUP(16-(LEN(O1570)),'1'!$A$1:$B$16,2,TRUE),P1570,\" 71....+0000000000000000 \"))","v":""},null,""]
[null,{"$f":"IF(I1571=\"\",\"\",ROWS($A$3:A1571))","v":""},"","","","","","","","",{"$f":"IFERROR(SMALL($B$3:$B$2002,ROWS($A$3:A1571)),\"\")","v":""},"","",null,"","","",{"$f":"IF(O1571=\"\",\"\",CONCATENATE(\"*11....+\",VLOOKUP(16-(LEN(N1571)),'1'!$A$1:$B$16,2,TRUE),N1571,\" 81..40+\",VLOOKUP(16-(LEN(O1571)),'1'!$A$1:$B$16,2,TRUE),O1571,\" 82..40+\",VLOOKUP(16-(LEN(O1571)),'1'!$A$1:$B$16,2,TRUE),P1571,\" 71....+0000000000000000 \"))","v":""},null,""]
[null,{"$f":"IF(I1572=\"\",\"\",ROWS($A$3:A1572))","v":""},"","","","","","","","",{"$f":"IFERROR(SMALL($B$3:$B$2002,ROWS($A$3:A1572)),\"\")","v":""},"","",null,"","","",{"$f":"IF(O1572=\"\",\"\",CONCATENATE(\"*11....+\",VLOOKUP(16-(LEN(N1572)),'1'!$A$1:$B$16,2,TRUE),N1572,\" 81..40+\",VLOOKUP(16-(LEN(O1572)),'1'!$A$1:$B$16,2,TRUE),O1572,\" 82..40+\",VLOOKUP(16-(LEN(O1572)),'1'!$A$1:$B$16,2,TRUE),P1572,\" 71....+0000000000000000 \"))","v":""},null,""]
[null,{"$f":"IF(I1573=\"\",\"\",ROWS($A$3:A1573))","v":""},"","","","","","","","",{"$f":"IFERROR(SMALL($B$3:$B$2002,ROWS($A$3:A1573)),\"\")","v":""},"","",null,"","","",{"$f":"IF(O1573=\"\",\"\",CONCATENATE(\"*11....+\",VLOOKUP(16-(LEN(N1573)),'1'!$A$1:$B$16,2,TRUE),N1573,\" 81..40+\",VLOOKUP(16-(LEN(O1573)),'1'!$A$1:$B$16,2,TRUE),O1573,\" 82..40+\",VLOOKUP(16-(LEN(O1573)),'1'!$A$1:$B$16,2,TRUE),P1573,\" 71....+0000000000000000 \"))","v":""},null,""]
[null,{"$f":"IF(I1574=\"\",\"\",ROWS($A$3:A1574))","v":""},"","","","","","","","",{"$f":"IFERROR(SMALL($B$3:$B$2002,ROWS($A$3:A1574)),\"\")","v":""},"","",null,"","","",{"$f":"IF(O1574=\"\",\"\",CONCATENATE(\"*11....+\",VLOOKUP(16-(LEN(N1574)),'1'!$A$1:$B$16,2,TRUE),N1574,\" 81..40+\",VLOOKUP(16-(LEN(O1574)),'1'!$A$1:$B$16,2,TRUE),O1574,\" 82..40+\",VLOOKUP(16-(LEN(O1574)),'1'!$A$1:$B$16,2,TRUE),P1574,\" 71....+0000000000000000 \"))","v":""},null,""]
[null,{"$f":"IF(I1575=\"\",\"\",ROWS($A$3:A1575))","v":""},"","","","","","","","",{"$f":"IFERROR(SMALL($B$3:$B$2002,ROWS($A$3:A1575)),\"\")","v":""},"","",null,"","","",{"$f":"IF(O1575=\"\",\"\",CONCATENATE(\"*11....+\",VLOOKUP(16-(LEN(N1575)),'1'!$A$1:$B$16,2,TRUE),N1575,\" 81..40+\",VLOOKUP(16-(LEN(O1575)),'1'!$A$1:$B$16,2,TRUE),O1575,\" 82..40+\",VLOOKUP(16-(LEN(O1575)),'1'!$A$1:$B$16,2,TRUE),P1575,\" 71....+0000000000000000 \"))","v":""},null,""]
[null,{"$f":"IF(I1576=\"\",\"\",ROWS($A$3:A1576))","v":""},"","","","","","","","",{"$f":"IFERROR(SMALL($B$3:$B$2002,ROWS($A$3:A1576)),\"\")","v":""},"","",null,"","","",{"$f":"IF(O1576=\"\",\"\",CONCATENATE(\"*11....+\",VLOOKUP(16-(LEN(N1576)),'1'!$A$1:$B$16,2,TRUE),N1576,\" 81..40+\",VLOOKUP(16-(LEN(O1576)),'1'!$A$1:$B$16,2,TRUE),O1576,\" 82..40+\",VLOOKUP(16-(LEN(O1576)),'1'!$A$1:$B$16,2,TRUE),P1576,\" 71....+0000000000000000 \"))","v":""},null,""]
[null,{"$f":"IF(I1577=\"\",\"\",ROWS($A$3:A1577))","v":""},"","","","","","","","",{"$f":"IFERROR(SMALL($B$3:$B$2002,ROWS($A$3:A1577)),\"\")","v":""},"","",null,"","","",{"$f":"IF(O1577=\"\",\"\",CONCATENATE(\"*11....+\",VLOOKUP(16-(LEN(N1577)),'1'!$A$1:$B$16,2,TRUE),N1577,\" 81..40+\",VLOOKUP(16-(LEN(O1577)),'1'!$A$1:$B$16,2,TRUE),O1577,\" 82..40+\",VLOOKUP(16-(LEN(O1577)),'1'!$A$1:$B$16,2,TRUE),P1577,\" 71....+0000000000000000 \"))","v":""},null,""]
[null,{"$f":"IF(I1578=\"\",\"\",ROWS($A$3:A1578))","v":""},"","","","","","","","",{"$f":"IFERROR(SMALL($B$3:$B$2002,ROWS($A$3:A1578)),\"\")","v":""},"","",null,"","","",{"$f":"IF(O1578=\"\",\"\",CONCATENATE(\"*11....+\",VLOOKUP(16-(LEN(N1578)),'1'!$A$1:$B$16,2,TRUE),N1578,\" 81..40+\",VLOOKUP(16-(LEN(O1578)),'1'!$A$1:$B$16,2,TRUE),O1578,\" 82..40+\",VLOOKUP(16-(LEN(O1578)),'1'!$A$1:$B$16,2,TRUE),P1578,\" 71....+0000000000000000 \"))","v":""},null,""]
[null,{"$f":"IF(I1579=\"\",\"\",ROWS($A$3:A1579))","v":""},"","","","","","","","",{"$f":"IFERROR(SMALL($B$3:$B$2002,ROWS($A$3:A1579)),\"\")","v":""},"","",null,"","","",{"$f":"IF(O1579=\"\",\"\",CONCATENATE(\"*11....+\",VLOOKUP(16-(LEN(N1579)),'1'!$A$1:$B$16,2,TRUE),N1579,\" 81..40+\",VLOOKUP(16-(LEN(O1579)),'1'!$A$1:$B$16,2,TRUE),O1579,\" 82..40+\",VLOOKUP(16-(LEN(O1579)),'1'!$A$1:$B$16,2,TRUE),P1579,\" 71....+0000000000000000 \"))","v":""},null,""]
[null,{"$f":"IF(I1580=\"\",\"\",ROWS($A$3:A1580))","v":""},"","","","","","","","",{"$f":"IFERROR(SMALL($B$3:$B$2002,ROWS($A$3:A1580)),\"\")","v":""},"","",null,"","","",{"$f":"IF(O1580=\"\",\"\",CONCATENATE(\"*11....+\",VLOOKUP(16-(LEN(N1580)),'1'!$A$1:$B$16,2,TRUE),N1580,\" 81..40+\",VLOOKUP(16-(LEN(O1580)),'1'!$A$1:$B$16,2,TRUE),O1580,\" 82..40+\",VLOOKUP(16-(LEN(O1580)),'1'!$A$1:$B$16,2,TRUE),P1580,\" 71....+0000000000000000 \"))","v":""},null,""]
[null,{"$f":"IF(I1581=\"\",\"\",ROWS($A$3:A1581))","v":""},"","","","","","","","",{"$f":"IFERROR(SMALL($B$3:$B$2002,ROWS($A$3:A1581)),\"\")","v":""},"","",null,"","","",{"$f":"IF(O1581=\"\",\"\",CONCATENATE(\"*11....+\",VLOOKUP(16-(LEN(N1581)),'1'!$A$1:$B$16,2,TRUE),N1581,\" 81..40+\",VLOOKUP(16-(LEN(O1581)),'1'!$A$1:$B$16,2,TRUE),O1581,\" 82..40+\",VLOOKUP(16-(LEN(O1581)),'1'!$A$1:$B$16,2,TRUE),P1581,\" 71....+0000000000000000 \"))","v":""},null,""]
[null,{"$f":"IF(I1582=\"\",\"\",ROWS($A$3:A1582))","v":""},"","","","","","","","",{"$f":"IFERROR(SMALL($B$3:$B$2002,ROWS($A$3:A1582)),\"\")","v":""},"","",null,"","","",{"$f":"IF(O1582=\"\",\"\",CONCATENATE(\"*11....+\",VLOOKUP(16-(LEN(N1582)),'1'!$A$1:$B$16,2,TRUE),N1582,\" 81..40+\",VLOOKUP(16-(LEN(O1582)),'1'!$A$1:$B$16,2,TRUE),O1582,\" 82..40+\",VLOOKUP(16-(LEN(O1582)),'1'!$A$1:$B$16,2,TRUE),P1582,\" 71....+0000000000000000 \"))","v":""},null,""]
[null,{"$f":"IF(I1583=\"\",\"\",ROWS($A$3:A1583))","v":""},"","","","","","","","",{"$f":"IFERROR(SMALL($B$3:$B$2002,ROWS($A$3:A1583)),\"\")","v":""},"","",null,"","","",{"$f":"IF(O1583=\"\",\"\",CONCATENATE(\"*11....+\",VLOOKUP(16-(LEN(N1583)),'1'!$A$1:$B$16,2,TRUE),N1583,\" 81..40+\",VLOOKUP(16-(LEN(O1583)),'1'!$A$1:$B$16,2,TRUE),O1583,\" 82..40+\",VLOOKUP(16-(LEN(O1583)),'1'!$A$1:$B$16,2,TRUE),P1583,\" 71....+0000000000000000 \"))","v":""},null,""]
[null,{"$f":"IF(I1584=\"\",\"\",ROWS($A$3:A1584))","v":""},"","","","","","","","",{"$f":"IFERROR(SMALL($B$3:$B$2002,ROWS($A$3:A1584)),\"\")","v":""},"","",null,"","","",{"$f":"IF(O1584=\"\",\"\",CONCATENATE(\"*11....+\",VLOOKUP(16-(LEN(N1584)),'1'!$A$1:$B$16,2,TRUE),N1584,\" 81..40+\",VLOOKUP(16-(LEN(O1584)),'1'!$A$1:$B$16,2,TRUE),O1584,\" 82..40+\",VLOOKUP(16-(LEN(O1584)),'1'!$A$1:$B$16,2,TRUE),P1584,\" 71....+0000000000000000 \"))","v":""},null,""]
[null,{"$f":"IF(I1585=\"\",\"\",ROWS($A$3:A1585))","v":""},"","","","","","","","",{"$f":"IFERROR(SMALL($B$3:$B$2002,ROWS($A$3:A1585)),\"\")","v":""},"","",null,"","","",{"$f":"IF(O1585=\"\",\"\",CONCATENATE(\"*11....+\",VLOOKUP(16-(LEN(N1585)),'1'!$A$1:$B$16,2,TRUE),N1585,\" 81..40+\",VLOOKUP(16-(LEN(O1585)),'1'!$A$1:$B$16,2,TRUE),O1585,\" 82..40+\",VLOOKUP(16-(LEN(O1585)),'1'!$A$1:$B$16,2,TRUE),P1585,\" 71....+0000000000000000 \"))","v":""},null,""]
[null,{"$f":"IF(I1586=\"\",\"\",ROWS($A$3:A1586))","v":""},"","","","","","","","",{"$f":"IFERROR(SMALL($B$3:$B$2002,ROWS($A$3:A1586)),\"\")","v":""},"","",null,"","","",{"$f":"IF(O1586=\"\",\"\",CONCATENATE(\"*11....+\",VLOOKUP(16-(LEN(N1586)),'1'!$A$1:$B$16,2,TRUE),N1586,\" 81..40+\",VLOOKUP(16-(LEN(O1586)),'1'!$A$1:$B$16,2,TRUE),O1586,\" 82..40+\",VLOOKUP(16-(LEN(O1586)),'1'!$A$1:$B$16,2,TRUE),P1586,\" 71....+0000000000000000 \"))","v":""},null,""]
[null,{"$f":"IF(I1587=\"\",\"\",ROWS($A$3:A1587))","v":""},"","","","","","","","",{"$f":"IFERROR(SMALL($B$3:$B$2002,ROWS($A$3:A1587)),\"\")","v":""},"","",null,"","","",{"$f":"IF(O1587=\"\",\"\",CONCATENATE(\"*11....+\",VLOOKUP(16-(LEN(N1587)),'1'!$A$1:$B$16,2,TRUE),N1587,\" 81..40+\",VLOOKUP(16-(LEN(O1587)),'1'!$A$1:$B$16,2,TRUE),O1587,\" 82..40+\",VLOOKUP(16-(LEN(O1587)),'1'!$A$1:$B$16,2,TRUE),P1587,\" 71....+0000000000000000 \"))","v":""},null,""]
[null,{"$f":"IF(I1588=\"\",\"\",ROWS($A$3:A1588))","v":""},"","","","","","","","",{"$f":"IFERROR(SMALL($B$3:$B$2002,ROWS($A$3:A1588)),\"\")","v":""},"","",null,"","","",{"$f":"IF(O1588=\"\",\"\",CONCATENATE(\"*11....+\",VLOOKUP(16-(LEN(N1588)),'1'!$A$1:$B$16,2,TRUE),N1588,\" 81..40+\",VLOOKUP(16-(LEN(O1588)),'1'!$A$1:$B$16,2,TRUE),O1588,\" 82..40+\",VLOOKUP(16-(LEN(O1588)),'1'!$A$1:$B$16,2,TRUE),P1588,\" 71....+0000000000000000 \"))","v":""},null,""]
[null,{"$f":"IF(I1589=\"\",\"\",ROWS($A$3:A1589))","v":""},"","","","","","","","",{"$f":"IFERROR(SMALL($B$3:$B$2002,ROWS($A$3:A1589)),\"\")","v":""},"","",null,"","","",{"$f":"IF(O1589=\"\",\"\",CONCATENATE(\"*11....+\",VLOOKUP(16-(LEN(N1589)),'1'!$A$1:$B$16,2,TRUE),N1589,\" 81..40+\",VLOOKUP(16-(LEN(O1589)),'1'!$A$1:$B$16,2,TRUE),O1589,\" 82..40+\",VLOOKUP(16-(LEN(O1589)),'1'!$A$1:$B$16,2,TRUE),P1589,\" 71....+0000000000000000 \"))","v":""},null,""]
[null,{"$f":"IF(I1590=\"\",\"\",ROWS($A$3:A1590))","v":""},"","","","","","","","",{"$f":"IFERROR(SMALL($B$3:$B$2002,ROWS($A$3:A1590)),\"\")","v":""},"","",null,"","","",{"$f":"IF(O1590=\"\",\"\",CONCATENATE(\"*11....+\",VLOOKUP(16-(LEN(N1590)),'1'!$A$1:$B$16,2,TRUE),N1590,\" 81..40+\",VLOOKUP(16-(LEN(O1590)),'1'!$A$1:$B$16,2,TRUE),O1590,\" 82..40+\",VLOOKUP(16-(LEN(O1590)),'1'!$A$1:$B$16,2,TRUE),P1590,\" 71....+0000000000000000 \"))","v":""},null,""]
[null,{"$f":"IF(I1591=\"\",\"\",ROWS($A$3:A1591))","v":""},"","","","","","","","",{"$f":"IFERROR(SMALL($B$3:$B$2002,ROWS($A$3:A1591)),\"\")","v":""},"","",null,"","","",{"$f":"IF(O1591=\"\",\"\",CONCATENATE(\"*11....+\",VLOOKUP(16-(LEN(N1591)),'1'!$A$1:$B$16,2,TRUE),N1591,\" 81..40+\",VLOOKUP(16-(LEN(O1591)),'1'!$A$1:$B$16,2,TRUE),O1591,\" 82..40+\",VLOOKUP(16-(LEN(O1591)),'1'!$A$1:$B$16,2,TRUE),P1591,\" 71....+0000000000000000 \"))","v":""},null,""]
[null,{"$f":"IF(I1592=\"\",\"\",ROWS($A$3:A1592))","v":""},"","","","","","","","",{"$f":"IFERROR(SMALL($B$3:$B$2002,ROWS($A$3:A1592)),\"\")","v":""},"","",null,"","","",{"$f":"IF(O1592=\"\",\"\",CONCATENATE(\"*11....+\",VLOOKUP(16-(LEN(N1592)),'1'!$A$1:$B$16,2,TRUE),N1592,\" 81..40+\",VLOOKUP(16-(LEN(O1592)),'1'!$A$1:$B$16,2,TRUE),O1592,\" 82..40+\",VLOOKUP(16-(LEN(O1592)),'1'!$A$1:$B$16,2,TRUE),P1592,\" 71....+0000000000000000 \"))","v":""},null,""]
[null,{"$f":"IF(I1593=\"\",\"\",ROWS($A$3:A1593))","v":""},"","","","","","","","",{"$f":"IFERROR(SMALL($B$3:$B$2002,ROWS($A$3:A1593)),\"\")","v":""},"","",null,"","","",{"$f":"IF(O1593=\"\",\"\",CONCATENATE(\"*11....+\",VLOOKUP(16-(LEN(N1593)),'1'!$A$1:$B$16,2,TRUE),N1593,\" 81..40+\",VLOOKUP(16-(LEN(O1593)),'1'!$A$1:$B$16,2,TRUE),O1593,\" 82..40+\",VLOOKUP(16-(LEN(O1593)),'1'!$A$1:$B$16,2,TRUE),P1593,\" 71....+0000000000000000 \"))","v":""},null,""]
[null,{"$f":"IF(I1594=\"\",\"\",ROWS($A$3:A1594))","v":""},"","","","","","","","",{"$f":"IFERROR(SMALL($B$3:$B$2002,ROWS($A$3:A1594)),\"\")","v":""},"","",null,"","","",{"$f":"IF(O1594=\"\",\"\",CONCATENATE(\"*11....+\",VLOOKUP(16-(LEN(N1594)),'1'!$A$1:$B$16,2,TRUE),N1594,\" 81..40+\",VLOOKUP(16-(LEN(O1594)),'1'!$A$1:$B$16,2,TRUE),O1594,\" 82..40+\",VLOOKUP(16-(LEN(O1594)),'1'!$A$1:$B$16,2,TRUE),P1594,\" 71....+0000000000000000 \"))","v":""},null,""]
[null,{"$f":"IF(I1595=\"\",\"\",ROWS($A$3:A1595))","v":""},"","","","","","","","",{"$f":"IFERROR(SMALL($B$3:$B$2002,ROWS($A$3:A1595)),\"\")","v":""},"","",null,"","","",{"$f":"IF(O1595=\"\",\"\",CONCATENATE(\"*11....+\",VLOOKUP(16-(LEN(N1595)),'1'!$A$1:$B$16,2,TRUE),N1595,\" 81..40+\",VLOOKUP(16-(LEN(O1595)),'1'!$A$1:$B$16,2,TRUE),O1595,\" 82..40+\",VLOOKUP(16-(LEN(O1595)),'1'!$A$1:$B$16,2,TRUE),P1595,\" 71....+0000000000000000 \"))","v":""},null,""]
[null,{"$f":"IF(I1596=\"\",\"\",ROWS($A$3:A1596))","v":""},"","","","","","","","",{"$f":"IFERROR(SMALL($B$3:$B$2002,ROWS($A$3:A1596)),\"\")","v":""},"","",null,"","","",{"$f":"IF(O1596=\"\",\"\",CONCATENATE(\"*11....+\",VLOOKUP(16-(LEN(N1596)),'1'!$A$1:$B$16,2,TRUE),N1596,\" 81..40+\",VLOOKUP(16-(LEN(O1596)),'1'!$A$1:$B$16,2,TRUE),O1596,\" 82..40+\",VLOOKUP(16-(LEN(O1596)),'1'!$A$1:$B$16,2,TRUE),P1596,\" 71....+0000000000000000 \"))","v":""},null,""]
[null,{"$f":"IF(I1597=\"\",\"\",ROWS($A$3:A1597))","v":""},"","","","","","","","",{"$f":"IFERROR(SMALL($B$3:$B$2002,ROWS($A$3:A1597)),\"\")","v":""},"","",null,"","","",{"$f":"IF(O1597=\"\",\"\",CONCATENATE(\"*11....+\",VLOOKUP(16-(LEN(N1597)),'1'!$A$1:$B$16,2,TRUE),N1597,\" 81..40+\",VLOOKUP(16-(LEN(O1597)),'1'!$A$1:$B$16,2,TRUE),O1597,\" 82..40+\",VLOOKUP(16-(LEN(O1597)),'1'!$A$1:$B$16,2,TRUE),P1597,\" 71....+0000000000000000 \"))","v":""},null,""]
[null,{"$f":"IF(I1598=\"\",\"\",ROWS($A$3:A1598))","v":""},"","","","","","","","",{"$f":"IFERROR(SMALL($B$3:$B$2002,ROWS($A$3:A1598)),\"\")","v":""},"","",null,"","","",{"$f":"IF(O1598=\"\",\"\",CONCATENATE(\"*11....+\",VLOOKUP(16-(LEN(N1598)),'1'!$A$1:$B$16,2,TRUE),N1598,\" 81..40+\",VLOOKUP(16-(LEN(O1598)),'1'!$A$1:$B$16,2,TRUE),O1598,\" 82..40+\",VLOOKUP(16-(LEN(O1598)),'1'!$A$1:$B$16,2,TRUE),P1598,\" 71....+0000000000000000 \"))","v":""},null,""]
[null,{"$f":"IF(I1599=\"\",\"\",ROWS($A$3:A1599))","v":""},"","","","","","","","",{"$f":"IFERROR(SMALL($B$3:$B$2002,ROWS($A$3:A1599)),\"\")","v":""},"","",null,"","","",{"$f":"IF(O1599=\"\",\"\",CONCATENATE(\"*11....+\",VLOOKUP(16-(LEN(N1599)),'1'!$A$1:$B$16,2,TRUE),N1599,\" 81..40+\",VLOOKUP(16-(LEN(O1599)),'1'!$A$1:$B$16,2,TRUE),O1599,\" 82..40+\",VLOOKUP(16-(LEN(O1599)),'1'!$A$1:$B$16,2,TRUE),P1599,\" 71....+0000000000000000 \"))","v":""},null,""]
[null,{"$f":"IF(I1600=\"\",\"\",ROWS($A$3:A1600))","v":""},"","","","","","","","",{"$f":"IFERROR(SMALL($B$3:$B$2002,ROWS($A$3:A1600)),\"\")","v":""},"","",null,"","","",{"$f":"IF(O1600=\"\",\"\",CONCATENATE(\"*11....+\",VLOOKUP(16-(LEN(N1600)),'1'!$A$1:$B$16,2,TRUE),N1600,\" 81..40+\",VLOOKUP(16-(LEN(O1600)),'1'!$A$1:$B$16,2,TRUE),O1600,\" 82..40+\",VLOOKUP(16-(LEN(O1600)),'1'!$A$1:$B$16,2,TRUE),P1600,\" 71....+0000000000000000 \"))","v":""},null,""]
[null,{"$f":"IF(I1601=\"\",\"\",ROWS($A$3:A1601))","v":""},"","","","","","","","",{"$f":"IFERROR(SMALL($B$3:$B$2002,ROWS($A$3:A1601)),\"\")","v":""},"","",null,"","","",{"$f":"IF(O1601=\"\",\"\",CONCATENATE(\"*11....+\",VLOOKUP(16-(LEN(N1601)),'1'!$A$1:$B$16,2,TRUE),N1601,\" 81..40+\",VLOOKUP(16-(LEN(O1601)),'1'!$A$1:$B$16,2,TRUE),O1601,\" 82..40+\",VLOOKUP(16-(LEN(O1601)),'1'!$A$1:$B$16,2,TRUE),P1601,\" 71....+0000000000000000 \"))","v":""},null,""]
[null,{"$f":"IF(I1602=\"\",\"\",ROWS($A$3:A1602))","v":""},"","","","","","","","",{"$f":"IFERROR(SMALL($B$3:$B$2002,ROWS($A$3:A1602)),\"\")","v":""},"","",null,"","","",{"$f":"IF(O1602=\"\",\"\",CONCATENATE(\"*11....+\",VLOOKUP(16-(LEN(N1602)),'1'!$A$1:$B$16,2,TRUE),N1602,\" 81..40+\",VLOOKUP(16-(LEN(O1602)),'1'!$A$1:$B$16,2,TRUE),O1602,\" 82..40+\",VLOOKUP(16-(LEN(O1602)),'1'!$A$1:$B$16,2,TRUE),P1602,\" 71....+0000000000000000 \"))","v":""},null,""]
[null,{"$f":"IF(I1603=\"\",\"\",ROWS($A$3:A1603))","v":""},"","","","","","","","",{"$f":"IFERROR(SMALL($B$3:$B$2002,ROWS($A$3:A1603)),\"\")","v":""},"","",null,"","","",{"$f":"IF(O1603=\"\",\"\",CONCATENATE(\"*11....+\",VLOOKUP(16-(LEN(N1603)),'1'!$A$1:$B$16,2,TRUE),N1603,\" 81..40+\",VLOOKUP(16-(LEN(O1603)),'1'!$A$1:$B$16,2,TRUE),O1603,\" 82..40+\",VLOOKUP(16-(LEN(O1603)),'1'!$A$1:$B$16,2,TRUE),P1603,\" 71....+0000000000000000 \"))","v":""},null,""]
[null,{"$f":"IF(I1604=\"\",\"\",ROWS($A$3:A1604))","v":""},{"$f":"IF(LEN(A1604)=59,ROUND(VALUE(MID(A1604,23,9)),3),\"\")","v":""},{"$f":"IF(LEN(A1604)=24,\"\",\"\")","v":""},{"$f":"IF(LEN(A1604)=63,ROUND(VALUE(MID(A1604,23,12)),3),\"\")","v":""},{"$f":"IF(LEN(A1604)=59,ROUND(VALUE(MID(A1604,37,9)),3),\"\")","v":""},{"$f":"IF(LEN(A1604)=24,\"\",\"\")","v":""},{"$f":"IF(LEN(A1604)=63,ROUND(VALUE(MID(A1604,39,12)),3),\"\")","v":""},{"$f":"IF(AND(C1604=\"\",D1604=\"\",E1604=\"\"),\"\",ROUND(CONCATENATE(C1604,D1604,E1604),3))","v":""},{"$f":"IF(AND(C1604=\"\",D1604=\"\",E1604=\"\"),\"\",ROUND(CONCATENATE(F1604,G1604,H1604),3))","v":""},{"$f":"IFERROR(SMALL($B$3:$B$2002,ROWS($A$3:A1604)),\"\")","v":""},{"$f":"IF(K1604=\"\",\"\",ROUND(VALUE(VLOOKUP(K1604,$B$3:$J$2002,8,TRUE)),3))","v":""},{"$f":"IF(K1604=\"\",\"\",ROUND(VALUE(VLOOKUP(K1604,$B$3:$J$2002,9,TRUE)),3))","v":""},null,{"$f":"IF(L1604=\"\",\"\",L1604/0.001)","v":""},"",{"$f":"IF(O1604=\"\",\"\",16-LEN(N1604))","v":""},{"$f":"IF(O1604=\"\",\"\",CONCATENATE(\"*11....+\",VLOOKUP(16-(LEN(N1604)),'1'!$A$1:$B$16,2,TRUE),N1604,\" 81..40+\",VLOOKUP(16-(LEN(O1604)),'1'!$A$1:$B$16,2,TRUE),O1604,\" 82..40+\",VLOOKUP(16-(LEN(O1604)),'1'!$A$1:$B$16,2,TRUE),P1604,\" 71....+0000000000000000 \"))","v":""},null,{"$f":"IF(O1604=\"\",\"\",CONCATENATE(N1604,\",\",L1604,\",\",M1604))","v":""}]
[null,{"$f":"IF(I1605=\"\",\"\",ROWS($A$3:A1605))","v":""},"","","","","","","","",{"$f":"IFERROR(SMALL($B$3:$B$2002,ROWS($A$3:A1605)),\"\")","v":""},"","",null,"","","",{"$f":"IF(O1605=\"\",\"\",CONCATENATE(\"*11....+\",VLOOKUP(16-(LEN(N1605)),'1'!$A$1:$B$16,2,TRUE),N1605,\" 81..40+\",VLOOKUP(16-(LEN(O1605)),'1'!$A$1:$B$16,2,TRUE),O1605,\" 82..40+\",VLOOKUP(16-(LEN(O1605)),'1'!$A$1:$B$16,2,TRUE),P1605,\" 71....+0000000000000000 \"))","v":""},null,""]
[null,{"$f":"IF(I1606=\"\",\"\",ROWS($A$3:A1606))","v":""},"","","","","","","","",{"$f":"IFERROR(SMALL($B$3:$B$2002,ROWS($A$3:A1606)),\"\")","v":""},"","",null,"","","",{"$f":"IF(O1606=\"\",\"\",CONCATENATE(\"*11....+\",VLOOKUP(16-(LEN(N1606)),'1'!$A$1:$B$16,2,TRUE),N1606,\" 81..40+\",VLOOKUP(16-(LEN(O1606)),'1'!$A$1:$B$16,2,TRUE),O1606,\" 82..40+\",VLOOKUP(16-(LEN(O1606)),'1'!$A$1:$B$16,2,TRUE),P1606,\" 71....+0000000000000000 \"))","v":""},null,""]
[null,{"$f":"IF(I1607=\"\",\"\",ROWS($A$3:A1607))","v":""},"","","","","","","","",{"$f":"IFERROR(SMALL($B$3:$B$2002,ROWS($A$3:A1607)),\"\")","v":""},"","",null,"","","",{"$f":"IF(O1607=\"\",\"\",CONCATENATE(\"*11....+\",VLOOKUP(16-(LEN(N1607)),'1'!$A$1:$B$16,2,TRUE),N1607,\" 81..40+\",VLOOKUP(16-(LEN(O1607)),'1'!$A$1:$B$16,2,TRUE),O1607,\" 82..40+\",VLOOKUP(16-(LEN(O1607)),'1'!$A$1:$B$16,2,TRUE),P1607,\" 71....+0000000000000000 \"))","v":""},null,""]
[null,{"$f":"IF(I1608=\"\",\"\",ROWS($A$3:A1608))","v":""},"","","","","","","","",{"$f":"IFERROR(SMALL($B$3:$B$2002,ROWS($A$3:A1608)),\"\")","v":""},"","",null,"","","",{"$f":"IF(O1608=\"\",\"\",CONCATENATE(\"*11....+\",VLOOKUP(16-(LEN(N1608)),'1'!$A$1:$B$16,2,TRUE),N1608,\" 81..40+\",VLOOKUP(16-(LEN(O1608)),'1'!$A$1:$B$16,2,TRUE),O1608,\" 82..40+\",VLOOKUP(16-(LEN(O1608)),'1'!$A$1:$B$16,2,TRUE),P1608,\" 71....+0000000000000000 \"))","v":""},null,""]
[null,{"$f":"IF(I1609=\"\",\"\",ROWS($A$3:A1609))","v":""},"","","","","","","","",{"$f":"IFERROR(SMALL($B$3:$B$2002,ROWS($A$3:A1609)),\"\")","v":""},"","",null,"","","",{"$f":"IF(O1609=\"\",\"\",CONCATENATE(\"*11....+\",VLOOKUP(16-(LEN(N1609)),'1'!$A$1:$B$16,2,TRUE),N1609,\" 81..40+\",VLOOKUP(16-(LEN(O1609)),'1'!$A$1:$B$16,2,TRUE),O1609,\" 82..40+\",VLOOKUP(16-(LEN(O1609)),'1'!$A$1:$B$16,2,TRUE),P1609,\" 71....+0000000000000000 \"))","v":""},null,""]
[null,{"$f":"IF(I1610=\"\",\"\",ROWS($A$3:A1610))","v":""},"","","","","","","","",{"$f":"IFERROR(SMALL($B$3:$B$2002,ROWS($A$3:A1610)),\"\")","v":""},"","",null,"","","",{"$f":"IF(O1610=\"\",\"\",CONCATENATE(\"*11....+\",VLOOKUP(16-(LEN(N1610)),'1'!$A$1:$B$16,2,TRUE),N1610,\" 81..40+\",VLOOKUP(16-(LEN(O1610)),'1'!$A$1:$B$16,2,TRUE),O1610,\" 82..40+\",VLOOKUP(16-(LEN(O1610)),'1'!$A$1:$B$16,2,TRUE),P1610,\" 71....+0000000000000000 \"))","v":""},null,""]
[null,{"$f":"IF(I1611=\"\",\"\",ROWS($A$3:A1611))","v":""},"","","","","","","","",{"$f":"IFERROR(SMALL($B$3:$B$2002,ROWS($A$3:A1611)),\"\")","v":""},"","",null,"","","",{"$f":"IF(O1611=\"\",\"\",CONCATENATE(\"*11....+\",VLOOKUP(16-(LEN(N1611)),'1'!$A$1:$B$16,2,TRUE),N1611,\" 81..40+\",VLOOKUP(16-(LEN(O1611)),'1'!$A$1:$B$16,2,TRUE),O1611,\" 82..40+\",VLOOKUP(16-(LEN(O1611)),'1'!$A$1:$B$16,2,TRUE),P1611,\" 71....+0000000000000000 \"))","v":""},null,""]
[null,{"$f":"IF(I1612=\"\",\"\",ROWS($A$3:A1612))","v":""},"","","","","","","","",{"$f":"IFERROR(SMALL($B$3:$B$2002,ROWS($A$3:A1612)),\"\")","v":""},"","",null,"","","",{"$f":"IF(O1612=\"\",\"\",CONCATENATE(\"*11....+\",VLOOKUP(16-(LEN(N1612)),'1'!$A$1:$B$16,2,TRUE),N1612,\" 81..40+\",VLOOKUP(16-(LEN(O1612)),'1'!$A$1:$B$16,2,TRUE),O1612,\" 82..40+\",VLOOKUP(16-(LEN(O1612)),'1'!$A$1:$B$16,2,TRUE),P1612,\" 71....+0000000000000000 \"))","v":""},null,""]
[null,{"$f":"IF(I1613=\"\",\"\",ROWS($A$3:A1613))","v":""},"","","","","","","","",{"$f":"IFERROR(SMALL($B$3:$B$2002,ROWS($A$3:A1613)),\"\")","v":""},"","",null,"","","",{"$f":"IF(O1613=\"\",\"\",CONCATENATE(\"*11....+\",VLOOKUP(16-(LEN(N1613)),'1'!$A$1:$B$16,2,TRUE),N1613,\" 81..40+\",VLOOKUP(16-(LEN(O1613)),'1'!$A$1:$B$16,2,TRUE),O1613,\" 82..40+\",VLOOKUP(16-(LEN(O1613)),'1'!$A$1:$B$16,2,TRUE),P1613,\" 71....+0000000000000000 \"))","v":""},null,""]
[null,{"$f":"IF(I1614=\"\",\"\",ROWS($A$3:A1614))","v":""},"","","","","","","","",{"$f":"IFERROR(SMALL($B$3:$B$2002,ROWS($A$3:A1614)),\"\")","v":""},"","",null,"","","",{"$f":"IF(O1614=\"\",\"\",CONCATENATE(\"*11....+\",VLOOKUP(16-(LEN(N1614)),'1'!$A$1:$B$16,2,TRUE),N1614,\" 81..40+\",VLOOKUP(16-(LEN(O1614)),'1'!$A$1:$B$16,2,TRUE),O1614,\" 82..40+\",VLOOKUP(16-(LEN(O1614)),'1'!$A$1:$B$16,2,TRUE),P1614,\" 71....+0000000000000000 \"))","v":""},null,""]
[null,{"$f":"IF(I1615=\"\",\"\",ROWS($A$3:A1615))","v":""},"","","","","","","","",{"$f":"IFERROR(SMALL($B$3:$B$2002,ROWS($A$3:A1615)),\"\")","v":""},"","",null,"","","",{"$f":"IF(O1615=\"\",\"\",CONCATENATE(\"*11....+\",VLOOKUP(16-(LEN(N1615)),'1'!$A$1:$B$16,2,TRUE),N1615,\" 81..40+\",VLOOKUP(16-(LEN(O1615)),'1'!$A$1:$B$16,2,TRUE),O1615,\" 82..40+\",VLOOKUP(16-(LEN(O1615)),'1'!$A$1:$B$16,2,TRUE),P1615,\" 71....+0000000000000000 \"))","v":""},null,""]
[null,{"$f":"IF(I1616=\"\",\"\",ROWS($A$3:A1616))","v":""},"","","","","","","","",{"$f":"IFERROR(SMALL($B$3:$B$2002,ROWS($A$3:A1616)),\"\")","v":""},"","",null,"","","",{"$f":"IF(O1616=\"\",\"\",CONCATENATE(\"*11....+\",VLOOKUP(16-(LEN(N1616)),'1'!$A$1:$B$16,2,TRUE),N1616,\" 81..40+\",VLOOKUP(16-(LEN(O1616)),'1'!$A$1:$B$16,2,TRUE),O1616,\" 82..40+\",VLOOKUP(16-(LEN(O1616)),'1'!$A$1:$B$16,2,TRUE),P1616,\" 71....+0000000000000000 \"))","v":""},null,""]
[null,{"$f":"IF(I1617=\"\",\"\",ROWS($A$3:A1617))","v":""},"","","","","","","","",{"$f":"IFERROR(SMALL($B$3:$B$2002,ROWS($A$3:A1617)),\"\")","v":""},"","",null,"","","",{"$f":"IF(O1617=\"\",\"\",CONCATENATE(\"*11....+\",VLOOKUP(16-(LEN(N1617)),'1'!$A$1:$B$16,2,TRUE),N1617,\" 81..40+\",VLOOKUP(16-(LEN(O1617)),'1'!$A$1:$B$16,2,TRUE),O1617,\" 82..40+\",VLOOKUP(16-(LEN(O1617)),'1'!$A$1:$B$16,2,TRUE),P1617,\" 71....+0000000000000000 \"))","v":""},null,""]
[null,{"$f":"IF(I1618=\"\",\"\",ROWS($A$3:A1618))","v":""},"","","","","","","","",{"$f":"IFERROR(SMALL($B$3:$B$2002,ROWS($A$3:A1618)),\"\")","v":""},"","",null,"","","",{"$f":"IF(O1618=\"\",\"\",CONCATENATE(\"*11....+\",VLOOKUP(16-(LEN(N1618)),'1'!$A$1:$B$16,2,TRUE),N1618,\" 81..40+\",VLOOKUP(16-(LEN(O1618)),'1'!$A$1:$B$16,2,TRUE),O1618,\" 82..40+\",VLOOKUP(16-(LEN(O1618)),'1'!$A$1:$B$16,2,TRUE),P1618,\" 71....+0000000000000000 \"))","v":""},null,""]
[null,{"$f":"IF(I1619=\"\",\"\",ROWS($A$3:A1619))","v":""},"","","","","","","","",{"$f":"IFERROR(SMALL($B$3:$B$2002,ROWS($A$3:A1619)),\"\")","v":""},"","",null,"","","",{"$f":"IF(O1619=\"\",\"\",CONCATENATE(\"*11....+\",VLOOKUP(16-(LEN(N1619)),'1'!$A$1:$B$16,2,TRUE),N1619,\" 81..40+\",VLOOKUP(16-(LEN(O1619)),'1'!$A$1:$B$16,2,TRUE),O1619,\" 82..40+\",VLOOKUP(16-(LEN(O1619)),'1'!$A$1:$B$16,2,TRUE),P1619,\" 71....+0000000000000000 \"))","v":""},null,""]
[null,{"$f":"IF(I1620=\"\",\"\",ROWS($A$3:A1620))","v":""},"","","","","","","","",{"$f":"IFERROR(SMALL($B$3:$B$2002,ROWS($A$3:A1620)),\"\")","v":""},"","",null,"","","",{"$f":"IF(O1620=\"\",\"\",CONCATENATE(\"*11....+\",VLOOKUP(16-(LEN(N1620)),'1'!$A$1:$B$16,2,TRUE),N1620,\" 81..40+\",VLOOKUP(16-(LEN(O1620)),'1'!$A$1:$B$16,2,TRUE),O1620,\" 82..40+\",VLOOKUP(16-(LEN(O1620)),'1'!$A$1:$B$16,2,TRUE),P1620,\" 71....+0000000000000000 \"))","v":""},null,""]
[null,{"$f":"IF(I1621=\"\",\"\",ROWS($A$3:A1621))","v":""},"","","","","","","","",{"$f":"IFERROR(SMALL($B$3:$B$2002,ROWS($A$3:A1621)),\"\")","v":""},"","",null,"","","",{"$f":"IF(O1621=\"\",\"\",CONCATENATE(\"*11....+\",VLOOKUP(16-(LEN(N1621)),'1'!$A$1:$B$16,2,TRUE),N1621,\" 81..40+\",VLOOKUP(16-(LEN(O1621)),'1'!$A$1:$B$16,2,TRUE),O1621,\" 82..40+\",VLOOKUP(16-(LEN(O1621)),'1'!$A$1:$B$16,2,TRUE),P1621,\" 71....+0000000000000000 \"))","v":""},null,""]
[null,{"$f":"IF(I1622=\"\",\"\",ROWS($A$3:A1622))","v":""},"","","","","","","","",{"$f":"IFERROR(SMALL($B$3:$B$2002,ROWS($A$3:A1622)),\"\")","v":""},"","",null,"","","",{"$f":"IF(O1622=\"\",\"\",CONCATENATE(\"*11....+\",VLOOKUP(16-(LEN(N1622)),'1'!$A$1:$B$16,2,TRUE),N1622,\" 81..40+\",VLOOKUP(16-(LEN(O1622)),'1'!$A$1:$B$16,2,TRUE),O1622,\" 82..40+\",VLOOKUP(16-(LEN(O1622)),'1'!$A$1:$B$16,2,TRUE),P1622,\" 71....+0000000000000000 \"))","v":""},null,""]
[null,{"$f":"IF(I1623=\"\",\"\",ROWS($A$3:A1623))","v":""},"","","","","","","","",{"$f":"IFERROR(SMALL($B$3:$B$2002,ROWS($A$3:A1623)),\"\")","v":""},"","",null,"","","",{"$f":"IF(O1623=\"\",\"\",CONCATENATE(\"*11....+\",VLOOKUP(16-(LEN(N1623)),'1'!$A$1:$B$16,2,TRUE),N1623,\" 81..40+\",VLOOKUP(16-(LEN(O1623)),'1'!$A$1:$B$16,2,TRUE),O1623,\" 82..40+\",VLOOKUP(16-(LEN(O1623)),'1'!$A$1:$B$16,2,TRUE),P1623,\" 71....+0000000000000000 \"))","v":""},null,""]
[null,{"$f":"IF(I1624=\"\",\"\",ROWS($A$3:A1624))","v":""},"","","","","","","","",{"$f":"IFERROR(SMALL($B$3:$B$2002,ROWS($A$3:A1624)),\"\")","v":""},"","",null,"","","",{"$f":"IF(O1624=\"\",\"\",CONCATENATE(\"*11....+\",VLOOKUP(16-(LEN(N1624)),'1'!$A$1:$B$16,2,TRUE),N1624,\" 81..40+\",VLOOKUP(16-(LEN(O1624)),'1'!$A$1:$B$16,2,TRUE),O1624,\" 82..40+\",VLOOKUP(16-(LEN(O1624)),'1'!$A$1:$B$16,2,TRUE),P1624,\" 71....+0000000000000000 \"))","v":""},null,""]
[null,{"$f":"IF(I1625=\"\",\"\",ROWS($A$3:A1625))","v":""},"","","","","","","","",{"$f":"IFERROR(SMALL($B$3:$B$2002,ROWS($A$3:A1625)),\"\")","v":""},"","",null,"","","",{"$f":"IF(O1625=\"\",\"\",CONCATENATE(\"*11....+\",VLOOKUP(16-(LEN(N1625)),'1'!$A$1:$B$16,2,TRUE),N1625,\" 81..40+\",VLOOKUP(16-(LEN(O1625)),'1'!$A$1:$B$16,2,TRUE),O1625,\" 82..40+\",VLOOKUP(16-(LEN(O1625)),'1'!$A$1:$B$16,2,TRUE),P1625,\" 71....+0000000000000000 \"))","v":""},null,""]
[null,{"$f":"IF(I1626=\"\",\"\",ROWS($A$3:A1626))","v":""},"","","","","","","","",{"$f":"IFERROR(SMALL($B$3:$B$2002,ROWS($A$3:A1626)),\"\")","v":""},"","",null,"","","",{"$f":"IF(O1626=\"\",\"\",CONCATENATE(\"*11....+\",VLOOKUP(16-(LEN(N1626)),'1'!$A$1:$B$16,2,TRUE),N1626,\" 81..40+\",VLOOKUP(16-(LEN(O1626)),'1'!$A$1:$B$16,2,TRUE),O1626,\" 82..40+\",VLOOKUP(16-(LEN(O1626)),'1'!$A$1:$B$16,2,TRUE),P1626,\" 71....+0000000000000000 \"))","v":""},null,""]
[null,{"$f":"IF(I1627=\"\",\"\",ROWS($A$3:A1627))","v":""},"","","","","","","","",{"$f":"IFERROR(SMALL($B$3:$B$2002,ROWS($A$3:A1627)),\"\")","v":""},"","",null,"","","",{"$f":"IF(O1627=\"\",\"\",CONCATENATE(\"*11....+\",VLOOKUP(16-(LEN(N1627)),'1'!$A$1:$B$16,2,TRUE),N1627,\" 81..40+\",VLOOKUP(16-(LEN(O1627)),'1'!$A$1:$B$16,2,TRUE),O1627,\" 82..40+\",VLOOKUP(16-(LEN(O1627)),'1'!$A$1:$B$16,2,TRUE),P1627,\" 71....+0000000000000000 \"))","v":""},null,""]
[null,{"$f":"IF(I1628=\"\",\"\",ROWS($A$3:A1628))","v":""},"","","","","","","","",{"$f":"IFERROR(SMALL($B$3:$B$2002,ROWS($A$3:A1628)),\"\")","v":""},"","",null,"","","",{"$f":"IF(O1628=\"\",\"\",CONCATENATE(\"*11....+\",VLOOKUP(16-(LEN(N1628)),'1'!$A$1:$B$16,2,TRUE),N1628,\" 81..40+\",VLOOKUP(16-(LEN(O1628)),'1'!$A$1:$B$16,2,TRUE),O1628,\" 82..40+\",VLOOKUP(16-(LEN(O1628)),'1'!$A$1:$B$16,2,TRUE),P1628,\" 71....+0000000000000000 \"))","v":""},null,""]
[null,{"$f":"IF(I1629=\"\",\"\",ROWS($A$3:A1629))","v":""},"","","","","","","","",{"$f":"IFERROR(SMALL($B$3:$B$2002,ROWS($A$3:A1629)),\"\")","v":""},"","",null,"","","",{"$f":"IF(O1629=\"\",\"\",CONCATENATE(\"*11....+\",VLOOKUP(16-(LEN(N1629)),'1'!$A$1:$B$16,2,TRUE),N1629,\" 81..40+\",VLOOKUP(16-(LEN(O1629)),'1'!$A$1:$B$16,2,TRUE),O1629,\" 82..40+\",VLOOKUP(16-(LEN(O1629)),'1'!$A$1:$B$16,2,TRUE),P1629,\" 71....+0000000000000000 \"))","v":""},null,""]
[null,{"$f":"IF(I1630=\"\",\"\",ROWS($A$3:A1630))","v":""},"","","","","","","","",{"$f":"IFERROR(SMALL($B$3:$B$2002,ROWS($A$3:A1630)),\"\")","v":""},"","",null,"","","",{"$f":"IF(O1630=\"\",\"\",CONCATENATE(\"*11....+\",VLOOKUP(16-(LEN(N1630)),'1'!$A$1:$B$16,2,TRUE),N1630,\" 81..40+\",VLOOKUP(16-(LEN(O1630)),'1'!$A$1:$B$16,2,TRUE),O1630,\" 82..40+\",VLOOKUP(16-(LEN(O1630)),'1'!$A$1:$B$16,2,TRUE),P1630,\" 71....+0000000000000000 \"))","v":""},null,""]
[null,{"$f":"IF(I1631=\"\",\"\",ROWS($A$3:A1631))","v":""},"","","","","","","","",{"$f":"IFERROR(SMALL($B$3:$B$2002,ROWS($A$3:A1631)),\"\")","v":""},"","",null,"","","",{"$f":"IF(O1631=\"\",\"\",CONCATENATE(\"*11....+\",VLOOKUP(16-(LEN(N1631)),'1'!$A$1:$B$16,2,TRUE),N1631,\" 81..40+\",VLOOKUP(16-(LEN(O1631)),'1'!$A$1:$B$16,2,TRUE),O1631,\" 82..40+\",VLOOKUP(16-(LEN(O1631)),'1'!$A$1:$B$16,2,TRUE),P1631,\" 71....+0000000000000000 \"))","v":""},null,""]
[null,{"$f":"IF(I1632=\"\",\"\",ROWS($A$3:A1632))","v":""},"","","","","","","","",{"$f":"IFERROR(SMALL($B$3:$B$2002,ROWS($A$3:A1632)),\"\")","v":""},"","",null,"","","",{"$f":"IF(O1632=\"\",\"\",CONCATENATE(\"*11....+\",VLOOKUP(16-(LEN(N1632)),'1'!$A$1:$B$16,2,TRUE),N1632,\" 81..40+\",VLOOKUP(16-(LEN(O1632)),'1'!$A$1:$B$16,2,TRUE),O1632,\" 82..40+\",VLOOKUP(16-(LEN(O1632)),'1'!$A$1:$B$16,2,TRUE),P1632,\" 71....+0000000000000000 \"))","v":""},null,""]
[null,{"$f":"IF(I1633=\"\",\"\",ROWS($A$3:A1633))","v":""},"","","","","","","","",{"$f":"IFERROR(SMALL($B$3:$B$2002,ROWS($A$3:A1633)),\"\")","v":""},"","",null,"","","",{"$f":"IF(O1633=\"\",\"\",CONCATENATE(\"*11....+\",VLOOKUP(16-(LEN(N1633)),'1'!$A$1:$B$16,2,TRUE),N1633,\" 81..40+\",VLOOKUP(16-(LEN(O1633)),'1'!$A$1:$B$16,2,TRUE),O1633,\" 82..40+\",VLOOKUP(16-(LEN(O1633)),'1'!$A$1:$B$16,2,TRUE),P1633,\" 71....+0000000000000000 \"))","v":""},null,""]
[null,{"$f":"IF(I1634=\"\",\"\",ROWS($A$3:A1634))","v":""},"","","","","","","","",{"$f":"IFERROR(SMALL($B$3:$B$2002,ROWS($A$3:A1634)),\"\")","v":""},"","",null,"","","",{"$f":"IF(O1634=\"\",\"\",CONCATENATE(\"*11....+\",VLOOKUP(16-(LEN(N1634)),'1'!$A$1:$B$16,2,TRUE),N1634,\" 81..40+\",VLOOKUP(16-(LEN(O1634)),'1'!$A$1:$B$16,2,TRUE),O1634,\" 82..40+\",VLOOKUP(16-(LEN(O1634)),'1'!$A$1:$B$16,2,TRUE),P1634,\" 71....+0000000000000000 \"))","v":""},null,""]
[null,{"$f":"IF(I1635=\"\",\"\",ROWS($A$3:A1635))","v":""},"","","","","","","","",{"$f":"IFERROR(SMALL($B$3:$B$2002,ROWS($A$3:A1635)),\"\")","v":""},"","",null,"","","",{"$f":"IF(O1635=\"\",\"\",CONCATENATE(\"*11....+\",VLOOKUP(16-(LEN(N1635)),'1'!$A$1:$B$16,2,TRUE),N1635,\" 81..40+\",VLOOKUP(16-(LEN(O1635)),'1'!$A$1:$B$16,2,TRUE),O1635,\" 82..40+\",VLOOKUP(16-(LEN(O1635)),'1'!$A$1:$B$16,2,TRUE),P1635,\" 71....+0000000000000000 \"))","v":""},null,""]
[null,{"$f":"IF(I1636=\"\",\"\",ROWS($A$3:A1636))","v":""},"","","","","","","","",{"$f":"IFERROR(SMALL($B$3:$B$2002,ROWS($A$3:A1636)),\"\")","v":""},"","",null,"","","",{"$f":"IF(O1636=\"\",\"\",CONCATENATE(\"*11....+\",VLOOKUP(16-(LEN(N1636)),'1'!$A$1:$B$16,2,TRUE),N1636,\" 81..40+\",VLOOKUP(16-(LEN(O1636)),'1'!$A$1:$B$16,2,TRUE),O1636,\" 82..40+\",VLOOKUP(16-(LEN(O1636)),'1'!$A$1:$B$16,2,TRUE),P1636,\" 71....+0000000000000000 \"))","v":""},null,""]
[null,{"$f":"IF(I1637=\"\",\"\",ROWS($A$3:A1637))","v":""},"","","","","","","","",{"$f":"IFERROR(SMALL($B$3:$B$2002,ROWS($A$3:A1637)),\"\")","v":""},"","",null,"","","",{"$f":"IF(O1637=\"\",\"\",CONCATENATE(\"*11....+\",VLOOKUP(16-(LEN(N1637)),'1'!$A$1:$B$16,2,TRUE),N1637,\" 81..40+\",VLOOKUP(16-(LEN(O1637)),'1'!$A$1:$B$16,2,TRUE),O1637,\" 82..40+\",VLOOKUP(16-(LEN(O1637)),'1'!$A$1:$B$16,2,TRUE),P1637,\" 71....+0000000000000000 \"))","v":""},null,""]
[null,{"$f":"IF(I1638=\"\",\"\",ROWS($A$3:A1638))","v":""},"","","","","","","","",{"$f":"IFERROR(SMALL($B$3:$B$2002,ROWS($A$3:A1638)),\"\")","v":""},"","",null,"","","",{"$f":"IF(O1638=\"\",\"\",CONCATENATE(\"*11....+\",VLOOKUP(16-(LEN(N1638)),'1'!$A$1:$B$16,2,TRUE),N1638,\" 81..40+\",VLOOKUP(16-(LEN(O1638)),'1'!$A$1:$B$16,2,TRUE),O1638,\" 82..40+\",VLOOKUP(16-(LEN(O1638)),'1'!$A$1:$B$16,2,TRUE),P1638,\" 71....+0000000000000000 \"))","v":""},null,""]
[null,{"$f":"IF(I1639=\"\",\"\",ROWS($A$3:A1639))","v":""},"","","","","","","","",{"$f":"IFERROR(SMALL($B$3:$B$2002,ROWS($A$3:A1639)),\"\")","v":""},"","",null,"","","",{"$f":"IF(O1639=\"\",\"\",CONCATENATE(\"*11....+\",VLOOKUP(16-(LEN(N1639)),'1'!$A$1:$B$16,2,TRUE),N1639,\" 81..40+\",VLOOKUP(16-(LEN(O1639)),'1'!$A$1:$B$16,2,TRUE),O1639,\" 82..40+\",VLOOKUP(16-(LEN(O1639)),'1'!$A$1:$B$16,2,TRUE),P1639,\" 71....+0000000000000000 \"))","v":""},null,""]
[null,{"$f":"IF(I1640=\"\",\"\",ROWS($A$3:A1640))","v":""},"","","","","","","","",{"$f":"IFERROR(SMALL($B$3:$B$2002,ROWS($A$3:A1640)),\"\")","v":""},"","",null,"","","",{"$f":"IF(O1640=\"\",\"\",CONCATENATE(\"*11....+\",VLOOKUP(16-(LEN(N1640)),'1'!$A$1:$B$16,2,TRUE),N1640,\" 81..40+\",VLOOKUP(16-(LEN(O1640)),'1'!$A$1:$B$16,2,TRUE),O1640,\" 82..40+\",VLOOKUP(16-(LEN(O1640)),'1'!$A$1:$B$16,2,TRUE),P1640,\" 71....+0000000000000000 \"))","v":""},null,""]
[null,{"$f":"IF(I1641=\"\",\"\",ROWS($A$3:A1641))","v":""},"","","","","","","","",{"$f":"IFERROR(SMALL($B$3:$B$2002,ROWS($A$3:A1641)),\"\")","v":""},"","",null,"","","",{"$f":"IF(O1641=\"\",\"\",CONCATENATE(\"*11....+\",VLOOKUP(16-(LEN(N1641)),'1'!$A$1:$B$16,2,TRUE),N1641,\" 81..40+\",VLOOKUP(16-(LEN(O1641)),'1'!$A$1:$B$16,2,TRUE),O1641,\" 82..40+\",VLOOKUP(16-(LEN(O1641)),'1'!$A$1:$B$16,2,TRUE),P1641,\" 71....+0000000000000000 \"))","v":""},null,""]
[null,{"$f":"IF(I1642=\"\",\"\",ROWS($A$3:A1642))","v":""},"","","","","","","","",{"$f":"IFERROR(SMALL($B$3:$B$2002,ROWS($A$3:A1642)),\"\")","v":""},"","",null,"","","",{"$f":"IF(O1642=\"\",\"\",CONCATENATE(\"*11....+\",VLOOKUP(16-(LEN(N1642)),'1'!$A$1:$B$16,2,TRUE),N1642,\" 81..40+\",VLOOKUP(16-(LEN(O1642)),'1'!$A$1:$B$16,2,TRUE),O1642,\" 82..40+\",VLOOKUP(16-(LEN(O1642)),'1'!$A$1:$B$16,2,TRUE),P1642,\" 71....+0000000000000000 \"))","v":""},null,""]
[null,{"$f":"IF(I1643=\"\",\"\",ROWS($A$3:A1643))","v":""},"","","","","","","","",{"$f":"IFERROR(SMALL($B$3:$B$2002,ROWS($A$3:A1643)),\"\")","v":""},"","",null,"","","",{"$f":"IF(O1643=\"\",\"\",CONCATENATE(\"*11....+\",VLOOKUP(16-(LEN(N1643)),'1'!$A$1:$B$16,2,TRUE),N1643,\" 81..40+\",VLOOKUP(16-(LEN(O1643)),'1'!$A$1:$B$16,2,TRUE),O1643,\" 82..40+\",VLOOKUP(16-(LEN(O1643)),'1'!$A$1:$B$16,2,TRUE),P1643,\" 71....+0000000000000000 \"))","v":""},null,""]
[null,{"$f":"IF(I1644=\"\",\"\",ROWS($A$3:A1644))","v":""},"","","","","","","","",{"$f":"IFERROR(SMALL($B$3:$B$2002,ROWS($A$3:A1644)),\"\")","v":""},"","",null,"","","",{"$f":"IF(O1644=\"\",\"\",CONCATENATE(\"*11....+\",VLOOKUP(16-(LEN(N1644)),'1'!$A$1:$B$16,2,TRUE),N1644,\" 81..40+\",VLOOKUP(16-(LEN(O1644)),'1'!$A$1:$B$16,2,TRUE),O1644,\" 82..40+\",VLOOKUP(16-(LEN(O1644)),'1'!$A$1:$B$16,2,TRUE),P1644,\" 71....+0000000000000000 \"))","v":""},null,""]
[null,{"$f":"IF(I1645=\"\",\"\",ROWS($A$3:A1645))","v":""},"","","","","","","","",{"$f":"IFERROR(SMALL($B$3:$B$2002,ROWS($A$3:A1645)),\"\")","v":""},"","",null,"","","",{"$f":"IF(O1645=\"\",\"\",CONCATENATE(\"*11....+\",VLOOKUP(16-(LEN(N1645)),'1'!$A$1:$B$16,2,TRUE),N1645,\" 81..40+\",VLOOKUP(16-(LEN(O1645)),'1'!$A$1:$B$16,2,TRUE),O1645,\" 82..40+\",VLOOKUP(16-(LEN(O1645)),'1'!$A$1:$B$16,2,TRUE),P1645,\" 71....+0000000000000000 \"))","v":""},null,""]
[null,{"$f":"IF(I1646=\"\",\"\",ROWS($A$3:A1646))","v":""},"","","","","","","","",{"$f":"IFERROR(SMALL($B$3:$B$2002,ROWS($A$3:A1646)),\"\")","v":""},"","",null,"","","",{"$f":"IF(O1646=\"\",\"\",CONCATENATE(\"*11....+\",VLOOKUP(16-(LEN(N1646)),'1'!$A$1:$B$16,2,TRUE),N1646,\" 81..40+\",VLOOKUP(16-(LEN(O1646)),'1'!$A$1:$B$16,2,TRUE),O1646,\" 82..40+\",VLOOKUP(16-(LEN(O1646)),'1'!$A$1:$B$16,2,TRUE),P1646,\" 71....+0000000000000000 \"))","v":""},null,""]
[null,{"$f":"IF(I1647=\"\",\"\",ROWS($A$3:A1647))","v":""},"","","","","","","","",{"$f":"IFERROR(SMALL($B$3:$B$2002,ROWS($A$3:A1647)),\"\")","v":""},"","",null,"","","",{"$f":"IF(O1647=\"\",\"\",CONCATENATE(\"*11....+\",VLOOKUP(16-(LEN(N1647)),'1'!$A$1:$B$16,2,TRUE),N1647,\" 81..40+\",VLOOKUP(16-(LEN(O1647)),'1'!$A$1:$B$16,2,TRUE),O1647,\" 82..40+\",VLOOKUP(16-(LEN(O1647)),'1'!$A$1:$B$16,2,TRUE),P1647,\" 71....+0000000000000000 \"))","v":""},null,""]
[null,{"$f":"IF(I1648=\"\",\"\",ROWS($A$3:A1648))","v":""},"","","","","","","","",{"$f":"IFERROR(SMALL($B$3:$B$2002,ROWS($A$3:A1648)),\"\")","v":""},"","",null,"","","",{"$f":"IF(O1648=\"\",\"\",CONCATENATE(\"*11....+\",VLOOKUP(16-(LEN(N1648)),'1'!$A$1:$B$16,2,TRUE),N1648,\" 81..40+\",VLOOKUP(16-(LEN(O1648)),'1'!$A$1:$B$16,2,TRUE),O1648,\" 82..40+\",VLOOKUP(16-(LEN(O1648)),'1'!$A$1:$B$16,2,TRUE),P1648,\" 71....+0000000000000000 \"))","v":""},null,""]
[null,{"$f":"IF(I1649=\"\",\"\",ROWS($A$3:A1649))","v":""},"","","","","","","","",{"$f":"IFERROR(SMALL($B$3:$B$2002,ROWS($A$3:A1649)),\"\")","v":""},"","",null,"","","",{"$f":"IF(O1649=\"\",\"\",CONCATENATE(\"*11....+\",VLOOKUP(16-(LEN(N1649)),'1'!$A$1:$B$16,2,TRUE),N1649,\" 81..40+\",VLOOKUP(16-(LEN(O1649)),'1'!$A$1:$B$16,2,TRUE),O1649,\" 82..40+\",VLOOKUP(16-(LEN(O1649)),'1'!$A$1:$B$16,2,TRUE),P1649,\" 71....+0000000000000000 \"))","v":""},null,""]
[null,{"$f":"IF(I1650=\"\",\"\",ROWS($A$3:A1650))","v":""},"","","","","","","","",{"$f":"IFERROR(SMALL($B$3:$B$2002,ROWS($A$3:A1650)),\"\")","v":""},"","",null,"","","",{"$f":"IF(O1650=\"\",\"\",CONCATENATE(\"*11....+\",VLOOKUP(16-(LEN(N1650)),'1'!$A$1:$B$16,2,TRUE),N1650,\" 81..40+\",VLOOKUP(16-(LEN(O1650)),'1'!$A$1:$B$16,2,TRUE),O1650,\" 82..40+\",VLOOKUP(16-(LEN(O1650)),'1'!$A$1:$B$16,2,TRUE),P1650,\" 71....+0000000000000000 \"))","v":""},null,""]
[null,{"$f":"IF(I1651=\"\",\"\",ROWS($A$3:A1651))","v":""},"","","","","","","","",{"$f":"IFERROR(SMALL($B$3:$B$2002,ROWS($A$3:A1651)),\"\")","v":""},"","",null,"","","",{"$f":"IF(O1651=\"\",\"\",CONCATENATE(\"*11....+\",VLOOKUP(16-(LEN(N1651)),'1'!$A$1:$B$16,2,TRUE),N1651,\" 81..40+\",VLOOKUP(16-(LEN(O1651)),'1'!$A$1:$B$16,2,TRUE),O1651,\" 82..40+\",VLOOKUP(16-(LEN(O1651)),'1'!$A$1:$B$16,2,TRUE),P1651,\" 71....+0000000000000000 \"))","v":""},null,""]
[null,{"$f":"IF(I1652=\"\",\"\",ROWS($A$3:A1652))","v":""},"","","","","","","","",{"$f":"IFERROR(SMALL($B$3:$B$2002,ROWS($A$3:A1652)),\"\")","v":""},"","",null,"","","",{"$f":"IF(O1652=\"\",\"\",CONCATENATE(\"*11....+\",VLOOKUP(16-(LEN(N1652)),'1'!$A$1:$B$16,2,TRUE),N1652,\" 81..40+\",VLOOKUP(16-(LEN(O1652)),'1'!$A$1:$B$16,2,TRUE),O1652,\" 82..40+\",VLOOKUP(16-(LEN(O1652)),'1'!$A$1:$B$16,2,TRUE),P1652,\" 71....+0000000000000000 \"))","v":""},null,""]
[null,{"$f":"IF(I1653=\"\",\"\",ROWS($A$3:A1653))","v":""},"","","","","","","","",{"$f":"IFERROR(SMALL($B$3:$B$2002,ROWS($A$3:A1653)),\"\")","v":""},"","",null,"","","",{"$f":"IF(O1653=\"\",\"\",CONCATENATE(\"*11....+\",VLOOKUP(16-(LEN(N1653)),'1'!$A$1:$B$16,2,TRUE),N1653,\" 81..40+\",VLOOKUP(16-(LEN(O1653)),'1'!$A$1:$B$16,2,TRUE),O1653,\" 82..40+\",VLOOKUP(16-(LEN(O1653)),'1'!$A$1:$B$16,2,TRUE),P1653,\" 71....+0000000000000000 \"))","v":""},null,""]
[null,{"$f":"IF(I1654=\"\",\"\",ROWS($A$3:A1654))","v":""},"","","","","","","","",{"$f":"IFERROR(SMALL($B$3:$B$2002,ROWS($A$3:A1654)),\"\")","v":""},"","",null,"","","",{"$f":"IF(O1654=\"\",\"\",CONCATENATE(\"*11....+\",VLOOKUP(16-(LEN(N1654)),'1'!$A$1:$B$16,2,TRUE),N1654,\" 81..40+\",VLOOKUP(16-(LEN(O1654)),'1'!$A$1:$B$16,2,TRUE),O1654,\" 82..40+\",VLOOKUP(16-(LEN(O1654)),'1'!$A$1:$B$16,2,TRUE),P1654,\" 71....+0000000000000000 \"))","v":""},null,""]
[null,{"$f":"IF(I1655=\"\",\"\",ROWS($A$3:A1655))","v":""},"","","","","","","","",{"$f":"IFERROR(SMALL($B$3:$B$2002,ROWS($A$3:A1655)),\"\")","v":""},"","",null,"","","",{"$f":"IF(O1655=\"\",\"\",CONCATENATE(\"*11....+\",VLOOKUP(16-(LEN(N1655)),'1'!$A$1:$B$16,2,TRUE),N1655,\" 81..40+\",VLOOKUP(16-(LEN(O1655)),'1'!$A$1:$B$16,2,TRUE),O1655,\" 82..40+\",VLOOKUP(16-(LEN(O1655)),'1'!$A$1:$B$16,2,TRUE),P1655,\" 71....+0000000000000000 \"))","v":""},null,""]
[null,{"$f":"IF(I1656=\"\",\"\",ROWS($A$3:A1656))","v":""},"","","","","","","","",{"$f":"IFERROR(SMALL($B$3:$B$2002,ROWS($A$3:A1656)),\"\")","v":""},"","",null,"","","",{"$f":"IF(O1656=\"\",\"\",CONCATENATE(\"*11....+\",VLOOKUP(16-(LEN(N1656)),'1'!$A$1:$B$16,2,TRUE),N1656,\" 81..40+\",VLOOKUP(16-(LEN(O1656)),'1'!$A$1:$B$16,2,TRUE),O1656,\" 82..40+\",VLOOKUP(16-(LEN(O1656)),'1'!$A$1:$B$16,2,TRUE),P1656,\" 71....+0000000000000000 \"))","v":""},null,""]
[null,{"$f":"IF(I1657=\"\",\"\",ROWS($A$3:A1657))","v":""},"","","","","","","","",{"$f":"IFERROR(SMALL($B$3:$B$2002,ROWS($A$3:A1657)),\"\")","v":""},"","",null,"","","",{"$f":"IF(O1657=\"\",\"\",CONCATENATE(\"*11....+\",VLOOKUP(16-(LEN(N1657)),'1'!$A$1:$B$16,2,TRUE),N1657,\" 81..40+\",VLOOKUP(16-(LEN(O1657)),'1'!$A$1:$B$16,2,TRUE),O1657,\" 82..40+\",VLOOKUP(16-(LEN(O1657)),'1'!$A$1:$B$16,2,TRUE),P1657,\" 71....+0000000000000000 \"))","v":""},null,""]
[null,{"$f":"IF(I1658=\"\",\"\",ROWS($A$3:A1658))","v":""},"","","","","","","","",{"$f":"IFERROR(SMALL($B$3:$B$2002,ROWS($A$3:A1658)),\"\")","v":""},"","",null,"","","",{"$f":"IF(O1658=\"\",\"\",CONCATENATE(\"*11....+\",VLOOKUP(16-(LEN(N1658)),'1'!$A$1:$B$16,2,TRUE),N1658,\" 81..40+\",VLOOKUP(16-(LEN(O1658)),'1'!$A$1:$B$16,2,TRUE),O1658,\" 82..40+\",VLOOKUP(16-(LEN(O1658)),'1'!$A$1:$B$16,2,TRUE),P1658,\" 71....+0000000000000000 \"))","v":""},null,""]
[null,{"$f":"IF(I1659=\"\",\"\",ROWS($A$3:A1659))","v":""},"","","","","","","","",{"$f":"IFERROR(SMALL($B$3:$B$2002,ROWS($A$3:A1659)),\"\")","v":""},"","",null,"","","",{"$f":"IF(O1659=\"\",\"\",CONCATENATE(\"*11....+\",VLOOKUP(16-(LEN(N1659)),'1'!$A$1:$B$16,2,TRUE),N1659,\" 81..40+\",VLOOKUP(16-(LEN(O1659)),'1'!$A$1:$B$16,2,TRUE),O1659,\" 82..40+\",VLOOKUP(16-(LEN(O1659)),'1'!$A$1:$B$16,2,TRUE),P1659,\" 71....+0000000000000000 \"))","v":""},null,""]
[null,{"$f":"IF(I1660=\"\",\"\",ROWS($A$3:A1660))","v":""},"","","","","","","","",{"$f":"IFERROR(SMALL($B$3:$B$2002,ROWS($A$3:A1660)),\"\")","v":""},"","",null,"","","",{"$f":"IF(O1660=\"\",\"\",CONCATENATE(\"*11....+\",VLOOKUP(16-(LEN(N1660)),'1'!$A$1:$B$16,2,TRUE),N1660,\" 81..40+\",VLOOKUP(16-(LEN(O1660)),'1'!$A$1:$B$16,2,TRUE),O1660,\" 82..40+\",VLOOKUP(16-(LEN(O1660)),'1'!$A$1:$B$16,2,TRUE),P1660,\" 71....+0000000000000000 \"))","v":""},null,""]
[null,{"$f":"IF(I1661=\"\",\"\",ROWS($A$3:A1661))","v":""},"","","","","","","","",{"$f":"IFERROR(SMALL($B$3:$B$2002,ROWS($A$3:A1661)),\"\")","v":""},"","",null,"","","",{"$f":"IF(O1661=\"\",\"\",CONCATENATE(\"*11....+\",VLOOKUP(16-(LEN(N1661)),'1'!$A$1:$B$16,2,TRUE),N1661,\" 81..40+\",VLOOKUP(16-(LEN(O1661)),'1'!$A$1:$B$16,2,TRUE),O1661,\" 82..40+\",VLOOKUP(16-(LEN(O1661)),'1'!$A$1:$B$16,2,TRUE),P1661,\" 71....+0000000000000000 \"))","v":""},null,""]
[null,{"$f":"IF(I1662=\"\",\"\",ROWS($A$3:A1662))","v":""},"","","","","","","","",{"$f":"IFERROR(SMALL($B$3:$B$2002,ROWS($A$3:A1662)),\"\")","v":""},"","",null,"","","",{"$f":"IF(O1662=\"\",\"\",CONCATENATE(\"*11....+\",VLOOKUP(16-(LEN(N1662)),'1'!$A$1:$B$16,2,TRUE),N1662,\" 81..40+\",VLOOKUP(16-(LEN(O1662)),'1'!$A$1:$B$16,2,TRUE),O1662,\" 82..40+\",VLOOKUP(16-(LEN(O1662)),'1'!$A$1:$B$16,2,TRUE),P1662,\" 71....+0000000000000000 \"))","v":""},null,""]
[null,{"$f":"IF(I1663=\"\",\"\",ROWS($A$3:A1663))","v":""},"","","","","","","","",{"$f":"IFERROR(SMALL($B$3:$B$2002,ROWS($A$3:A1663)),\"\")","v":""},"","",null,"","","",{"$f":"IF(O1663=\"\",\"\",CONCATENATE(\"*11....+\",VLOOKUP(16-(LEN(N1663)),'1'!$A$1:$B$16,2,TRUE),N1663,\" 81..40+\",VLOOKUP(16-(LEN(O1663)),'1'!$A$1:$B$16,2,TRUE),O1663,\" 82..40+\",VLOOKUP(16-(LEN(O1663)),'1'!$A$1:$B$16,2,TRUE),P1663,\" 71....+0000000000000000 \"))","v":""},null,""]
[null,{"$f":"IF(I1664=\"\",\"\",ROWS($A$3:A1664))","v":""},"","","","","","","","",{"$f":"IFERROR(SMALL($B$3:$B$2002,ROWS($A$3:A1664)),\"\")","v":""},"","",null,"","","",{"$f":"IF(O1664=\"\",\"\",CONCATENATE(\"*11....+\",VLOOKUP(16-(LEN(N1664)),'1'!$A$1:$B$16,2,TRUE),N1664,\" 81..40+\",VLOOKUP(16-(LEN(O1664)),'1'!$A$1:$B$16,2,TRUE),O1664,\" 82..40+\",VLOOKUP(16-(LEN(O1664)),'1'!$A$1:$B$16,2,TRUE),P1664,\" 71....+0000000000000000 \"))","v":""},null,""]
[null,{"$f":"IF(I1665=\"\",\"\",ROWS($A$3:A1665))","v":""},"","","","","","","","",{"$f":"IFERROR(SMALL($B$3:$B$2002,ROWS($A$3:A1665)),\"\")","v":""},"","",null,"","","",{"$f":"IF(O1665=\"\",\"\",CONCATENATE(\"*11....+\",VLOOKUP(16-(LEN(N1665)),'1'!$A$1:$B$16,2,TRUE),N1665,\" 81..40+\",VLOOKUP(16-(LEN(O1665)),'1'!$A$1:$B$16,2,TRUE),O1665,\" 82..40+\",VLOOKUP(16-(LEN(O1665)),'1'!$A$1:$B$16,2,TRUE),P1665,\" 71....+0000000000000000 \"))","v":""},null,""]
[null,{"$f":"IF(I1666=\"\",\"\",ROWS($A$3:A1666))","v":""},"","","","","","","","",{"$f":"IFERROR(SMALL($B$3:$B$2002,ROWS($A$3:A1666)),\"\")","v":""},"","",null,"","","",{"$f":"IF(O1666=\"\",\"\",CONCATENATE(\"*11....+\",VLOOKUP(16-(LEN(N1666)),'1'!$A$1:$B$16,2,TRUE),N1666,\" 81..40+\",VLOOKUP(16-(LEN(O1666)),'1'!$A$1:$B$16,2,TRUE),O1666,\" 82..40+\",VLOOKUP(16-(LEN(O1666)),'1'!$A$1:$B$16,2,TRUE),P1666,\" 71....+0000000000000000 \"))","v":""},null,""]
[null,{"$f":"IF(I1667=\"\",\"\",ROWS($A$3:A1667))","v":""},"","","","","","","","",{"$f":"IFERROR(SMALL($B$3:$B$2002,ROWS($A$3:A1667)),\"\")","v":""},"","",null,"","","",{"$f":"IF(O1667=\"\",\"\",CONCATENATE(\"*11....+\",VLOOKUP(16-(LEN(N1667)),'1'!$A$1:$B$16,2,TRUE),N1667,\" 81..40+\",VLOOKUP(16-(LEN(O1667)),'1'!$A$1:$B$16,2,TRUE),O1667,\" 82..40+\",VLOOKUP(16-(LEN(O1667)),'1'!$A$1:$B$16,2,TRUE),P1667,\" 71....+0000000000000000 \"))","v":""},null,""]
[null,{"$f":"IF(I1668=\"\",\"\",ROWS($A$3:A1668))","v":""},{"$f":"IF(LEN(A1668)=59,ROUND(VALUE(MID(A1668,23,9)),3),\"\")","v":""},{"$f":"IF(LEN(A1668)=24,\"\",\"\")","v":""},{"$f":"IF(LEN(A1668)=63,ROUND(VALUE(MID(A1668,23,12)),3),\"\")","v":""},{"$f":"IF(LEN(A1668)=59,ROUND(VALUE(MID(A1668,37,9)),3),\"\")","v":""},{"$f":"IF(LEN(A1668)=24,\"\",\"\")","v":""},{"$f":"IF(LEN(A1668)=63,ROUND(VALUE(MID(A1668,39,12)),3),\"\")","v":""},{"$f":"IF(AND(C1668=\"\",D1668=\"\",E1668=\"\"),\"\",ROUND(CONCATENATE(C1668,D1668,E1668),3))","v":""},{"$f":"IF(AND(C1668=\"\",D1668=\"\",E1668=\"\"),\"\",ROUND(CONCATENATE(F1668,G1668,H1668),3))","v":""},{"$f":"IFERROR(SMALL($B$3:$B$2002,ROWS($A$3:A1668)),\"\")","v":""},{"$f":"IF(K1668=\"\",\"\",ROUND(VALUE(VLOOKUP(K1668,$B$3:$J$2002,8,TRUE)),3))","v":""},{"$f":"IF(K1668=\"\",\"\",ROUND(VALUE(VLOOKUP(K1668,$B$3:$J$2002,9,TRUE)),3))","v":""},null,{"$f":"IF(L1668=\"\",\"\",L1668/0.001)","v":""},"",{"$f":"IF(O1668=\"\",\"\",16-LEN(N1668))","v":""},{"$f":"IF(O1668=\"\",\"\",CONCATENATE(\"*11....+\",VLOOKUP(16-(LEN(N1668)),'1'!$A$1:$B$16,2,TRUE),N1668,\" 81..40+\",VLOOKUP(16-(LEN(O1668)),'1'!$A$1:$B$16,2,TRUE),O1668,\" 82..40+\",VLOOKUP(16-(LEN(O1668)),'1'!$A$1:$B$16,2,TRUE),P1668,\" 71....+0000000000000000 \"))","v":""},null,{"$f":"IF(O1668=\"\",\"\",CONCATENATE(N1668,\",\",L1668,\",\",M1668))","v":""}]
[null,{"$f":"IF(I1669=\"\",\"\",ROWS($A$3:A1669))","v":""},"","","","","","","","",{"$f":"IFERROR(SMALL($B$3:$B$2002,ROWS($A$3:A1669)),\"\")","v":""},"","",null,"","","",{"$f":"IF(O1669=\"\",\"\",CONCATENATE(\"*11....+\",VLOOKUP(16-(LEN(N1669)),'1'!$A$1:$B$16,2,TRUE),N1669,\" 81..40+\",VLOOKUP(16-(LEN(O1669)),'1'!$A$1:$B$16,2,TRUE),O1669,\" 82..40+\",VLOOKUP(16-(LEN(O1669)),'1'!$A$1:$B$16,2,TRUE),P1669,\" 71....+0000000000000000 \"))","v":""},null,""]
[null,{"$f":"IF(I1670=\"\",\"\",ROWS($A$3:A1670))","v":""},"","","","","","","","",{"$f":"IFERROR(SMALL($B$3:$B$2002,ROWS($A$3:A1670)),\"\")","v":""},"","",null,"","","",{"$f":"IF(O1670=\"\",\"\",CONCATENATE(\"*11....+\",VLOOKUP(16-(LEN(N1670)),'1'!$A$1:$B$16,2,TRUE),N1670,\" 81..40+\",VLOOKUP(16-(LEN(O1670)),'1'!$A$1:$B$16,2,TRUE),O1670,\" 82..40+\",VLOOKUP(16-(LEN(O1670)),'1'!$A$1:$B$16,2,TRUE),P1670,\" 71....+0000000000000000 \"))","v":""},null,""]
[null,{"$f":"IF(I1671=\"\",\"\",ROWS($A$3:A1671))","v":""},"","","","","","","","",{"$f":"IFERROR(SMALL($B$3:$B$2002,ROWS($A$3:A1671)),\"\")","v":""},"","",null,"","","",{"$f":"IF(O1671=\"\",\"\",CONCATENATE(\"*11....+\",VLOOKUP(16-(LEN(N1671)),'1'!$A$1:$B$16,2,TRUE),N1671,\" 81..40+\",VLOOKUP(16-(LEN(O1671)),'1'!$A$1:$B$16,2,TRUE),O1671,\" 82..40+\",VLOOKUP(16-(LEN(O1671)),'1'!$A$1:$B$16,2,TRUE),P1671,\" 71....+0000000000000000 \"))","v":""},null,""]
[null,{"$f":"IF(I1672=\"\",\"\",ROWS($A$3:A1672))","v":""},"","","","","","","","",{"$f":"IFERROR(SMALL($B$3:$B$2002,ROWS($A$3:A1672)),\"\")","v":""},"","",null,"","","",{"$f":"IF(O1672=\"\",\"\",CONCATENATE(\"*11....+\",VLOOKUP(16-(LEN(N1672)),'1'!$A$1:$B$16,2,TRUE),N1672,\" 81..40+\",VLOOKUP(16-(LEN(O1672)),'1'!$A$1:$B$16,2,TRUE),O1672,\" 82..40+\",VLOOKUP(16-(LEN(O1672)),'1'!$A$1:$B$16,2,TRUE),P1672,\" 71....+0000000000000000 \"))","v":""},null,""]
[null,{"$f":"IF(I1673=\"\",\"\",ROWS($A$3:A1673))","v":""},"","","","","","","","",{"$f":"IFERROR(SMALL($B$3:$B$2002,ROWS($A$3:A1673)),\"\")","v":""},"","",null,"","","",{"$f":"IF(O1673=\"\",\"\",CONCATENATE(\"*11....+\",VLOOKUP(16-(LEN(N1673)),'1'!$A$1:$B$16,2,TRUE),N1673,\" 81..40+\",VLOOKUP(16-(LEN(O1673)),'1'!$A$1:$B$16,2,TRUE),O1673,\" 82..40+\",VLOOKUP(16-(LEN(O1673)),'1'!$A$1:$B$16,2,TRUE),P1673,\" 71....+0000000000000000 \"))","v":""},null,""]
[null,{"$f":"IF(I1674=\"\",\"\",ROWS($A$3:A1674))","v":""},"","","","","","","","",{"$f":"IFERROR(SMALL($B$3:$B$2002,ROWS($A$3:A1674)),\"\")","v":""},"","",null,"","","",{"$f":"IF(O1674=\"\",\"\",CONCATENATE(\"*11....+\",VLOOKUP(16-(LEN(N1674)),'1'!$A$1:$B$16,2,TRUE),N1674,\" 81..40+\",VLOOKUP(16-(LEN(O1674)),'1'!$A$1:$B$16,2,TRUE),O1674,\" 82..40+\",VLOOKUP(16-(LEN(O1674)),'1'!$A$1:$B$16,2,TRUE),P1674,\" 71....+0000000000000000 \"))","v":""},null,""]
[null,{"$f":"IF(I1675=\"\",\"\",ROWS($A$3:A1675))","v":""},"","","","","","","","",{"$f":"IFERROR(SMALL($B$3:$B$2002,ROWS($A$3:A1675)),\"\")","v":""},"","",null,"","","",{"$f":"IF(O1675=\"\",\"\",CONCATENATE(\"*11....+\",VLOOKUP(16-(LEN(N1675)),'1'!$A$1:$B$16,2,TRUE),N1675,\" 81..40+\",VLOOKUP(16-(LEN(O1675)),'1'!$A$1:$B$16,2,TRUE),O1675,\" 82..40+\",VLOOKUP(16-(LEN(O1675)),'1'!$A$1:$B$16,2,TRUE),P1675,\" 71....+0000000000000000 \"))","v":""},null,""]
[null,{"$f":"IF(I1676=\"\",\"\",ROWS($A$3:A1676))","v":""},"","","","","","","","",{"$f":"IFERROR(SMALL($B$3:$B$2002,ROWS($A$3:A1676)),\"\")","v":""},"","",null,"","","",{"$f":"IF(O1676=\"\",\"\",CONCATENATE(\"*11....+\",VLOOKUP(16-(LEN(N1676)),'1'!$A$1:$B$16,2,TRUE),N1676,\" 81..40+\",VLOOKUP(16-(LEN(O1676)),'1'!$A$1:$B$16,2,TRUE),O1676,\" 82..40+\",VLOOKUP(16-(LEN(O1676)),'1'!$A$1:$B$16,2,TRUE),P1676,\" 71....+0000000000000000 \"))","v":""},null,""]
[null,{"$f":"IF(I1677=\"\",\"\",ROWS($A$3:A1677))","v":""},"","","","","","","","",{"$f":"IFERROR(SMALL($B$3:$B$2002,ROWS($A$3:A1677)),\"\")","v":""},"","",null,"","","",{"$f":"IF(O1677=\"\",\"\",CONCATENATE(\"*11....+\",VLOOKUP(16-(LEN(N1677)),'1'!$A$1:$B$16,2,TRUE),N1677,\" 81..40+\",VLOOKUP(16-(LEN(O1677)),'1'!$A$1:$B$16,2,TRUE),O1677,\" 82..40+\",VLOOKUP(16-(LEN(O1677)),'1'!$A$1:$B$16,2,TRUE),P1677,\" 71....+0000000000000000 \"))","v":""},null,""]
[null,{"$f":"IF(I1678=\"\",\"\",ROWS($A$3:A1678))","v":""},"","","","","","","","",{"$f":"IFERROR(SMALL($B$3:$B$2002,ROWS($A$3:A1678)),\"\")","v":""},"","",null,"","","",{"$f":"IF(O1678=\"\",\"\",CONCATENATE(\"*11....+\",VLOOKUP(16-(LEN(N1678)),'1'!$A$1:$B$16,2,TRUE),N1678,\" 81..40+\",VLOOKUP(16-(LEN(O1678)),'1'!$A$1:$B$16,2,TRUE),O1678,\" 82..40+\",VLOOKUP(16-(LEN(O1678)),'1'!$A$1:$B$16,2,TRUE),P1678,\" 71....+0000000000000000 \"))","v":""},null,""]
[null,{"$f":"IF(I1679=\"\",\"\",ROWS($A$3:A1679))","v":""},"","","","","","","","",{"$f":"IFERROR(SMALL($B$3:$B$2002,ROWS($A$3:A1679)),\"\")","v":""},"","",null,"","","",{"$f":"IF(O1679=\"\",\"\",CONCATENATE(\"*11....+\",VLOOKUP(16-(LEN(N1679)),'1'!$A$1:$B$16,2,TRUE),N1679,\" 81..40+\",VLOOKUP(16-(LEN(O1679)),'1'!$A$1:$B$16,2,TRUE),O1679,\" 82..40+\",VLOOKUP(16-(LEN(O1679)),'1'!$A$1:$B$16,2,TRUE),P1679,\" 71....+0000000000000000 \"))","v":""},null,""]
[null,{"$f":"IF(I1680=\"\",\"\",ROWS($A$3:A1680))","v":""},"","","","","","","","",{"$f":"IFERROR(SMALL($B$3:$B$2002,ROWS($A$3:A1680)),\"\")","v":""},"","",null,"","","",{"$f":"IF(O1680=\"\",\"\",CONCATENATE(\"*11....+\",VLOOKUP(16-(LEN(N1680)),'1'!$A$1:$B$16,2,TRUE),N1680,\" 81..40+\",VLOOKUP(16-(LEN(O1680)),'1'!$A$1:$B$16,2,TRUE),O1680,\" 82..40+\",VLOOKUP(16-(LEN(O1680)),'1'!$A$1:$B$16,2,TRUE),P1680,\" 71....+0000000000000000 \"))","v":""},null,""]
[null,{"$f":"IF(I1681=\"\",\"\",ROWS($A$3:A1681))","v":""},"","","","","","","","",{"$f":"IFERROR(SMALL($B$3:$B$2002,ROWS($A$3:A1681)),\"\")","v":""},"","",null,"","","",{"$f":"IF(O1681=\"\",\"\",CONCATENATE(\"*11....+\",VLOOKUP(16-(LEN(N1681)),'1'!$A$1:$B$16,2,TRUE),N1681,\" 81..40+\",VLOOKUP(16-(LEN(O1681)),'1'!$A$1:$B$16,2,TRUE),O1681,\" 82..40+\",VLOOKUP(16-(LEN(O1681)),'1'!$A$1:$B$16,2,TRUE),P1681,\" 71....+0000000000000000 \"))","v":""},null,""]
[null,{"$f":"IF(I1682=\"\",\"\",ROWS($A$3:A1682))","v":""},"","","","","","","","",{"$f":"IFERROR(SMALL($B$3:$B$2002,ROWS($A$3:A1682)),\"\")","v":""},"","",null,"","","",{"$f":"IF(O1682=\"\",\"\",CONCATENATE(\"*11....+\",VLOOKUP(16-(LEN(N1682)),'1'!$A$1:$B$16,2,TRUE),N1682,\" 81..40+\",VLOOKUP(16-(LEN(O1682)),'1'!$A$1:$B$16,2,TRUE),O1682,\" 82..40+\",VLOOKUP(16-(LEN(O1682)),'1'!$A$1:$B$16,2,TRUE),P1682,\" 71....+0000000000000000 \"))","v":""},null,""]
[null,{"$f":"IF(I1683=\"\",\"\",ROWS($A$3:A1683))","v":""},"","","","","","","","",{"$f":"IFERROR(SMALL($B$3:$B$2002,ROWS($A$3:A1683)),\"\")","v":""},"","",null,"","","",{"$f":"IF(O1683=\"\",\"\",CONCATENATE(\"*11....+\",VLOOKUP(16-(LEN(N1683)),'1'!$A$1:$B$16,2,TRUE),N1683,\" 81..40+\",VLOOKUP(16-(LEN(O1683)),'1'!$A$1:$B$16,2,TRUE),O1683,\" 82..40+\",VLOOKUP(16-(LEN(O1683)),'1'!$A$1:$B$16,2,TRUE),P1683,\" 71....+0000000000000000 \"))","v":""},null,""]
[null,{"$f":"IF(I1684=\"\",\"\",ROWS($A$3:A1684))","v":""},"","","","","","","","",{"$f":"IFERROR(SMALL($B$3:$B$2002,ROWS($A$3:A1684)),\"\")","v":""},"","",null,"","","",{"$f":"IF(O1684=\"\",\"\",CONCATENATE(\"*11....+\",VLOOKUP(16-(LEN(N1684)),'1'!$A$1:$B$16,2,TRUE),N1684,\" 81..40+\",VLOOKUP(16-(LEN(O1684)),'1'!$A$1:$B$16,2,TRUE),O1684,\" 82..40+\",VLOOKUP(16-(LEN(O1684)),'1'!$A$1:$B$16,2,TRUE),P1684,\" 71....+0000000000000000 \"))","v":""},null,""]
[null,{"$f":"IF(I1685=\"\",\"\",ROWS($A$3:A1685))","v":""},"","","","","","","","",{"$f":"IFERROR(SMALL($B$3:$B$2002,ROWS($A$3:A1685)),\"\")","v":""},"","",null,"","","",{"$f":"IF(O1685=\"\",\"\",CONCATENATE(\"*11....+\",VLOOKUP(16-(LEN(N1685)),'1'!$A$1:$B$16,2,TRUE),N1685,\" 81..40+\",VLOOKUP(16-(LEN(O1685)),'1'!$A$1:$B$16,2,TRUE),O1685,\" 82..40+\",VLOOKUP(16-(LEN(O1685)),'1'!$A$1:$B$16,2,TRUE),P1685,\" 71....+0000000000000000 \"))","v":""},null,""]
[null,{"$f":"IF(I1686=\"\",\"\",ROWS($A$3:A1686))","v":""},"","","","","","","","",{"$f":"IFERROR(SMALL($B$3:$B$2002,ROWS($A$3:A1686)),\"\")","v":""},"","",null,"","","",{"$f":"IF(O1686=\"\",\"\",CONCATENATE(\"*11....+\",VLOOKUP(16-(LEN(N1686)),'1'!$A$1:$B$16,2,TRUE),N1686,\" 81..40+\",VLOOKUP(16-(LEN(O1686)),'1'!$A$1:$B$16,2,TRUE),O1686,\" 82..40+\",VLOOKUP(16-(LEN(O1686)),'1'!$A$1:$B$16,2,TRUE),P1686,\" 71....+0000000000000000 \"))","v":""},null,""]
[null,{"$f":"IF(I1687=\"\",\"\",ROWS($A$3:A1687))","v":""},"","","","","","","","",{"$f":"IFERROR(SMALL($B$3:$B$2002,ROWS($A$3:A1687)),\"\")","v":""},"","",null,"","","",{"$f":"IF(O1687=\"\",\"\",CONCATENATE(\"*11....+\",VLOOKUP(16-(LEN(N1687)),'1'!$A$1:$B$16,2,TRUE),N1687,\" 81..40+\",VLOOKUP(16-(LEN(O1687)),'1'!$A$1:$B$16,2,TRUE),O1687,\" 82..40+\",VLOOKUP(16-(LEN(O1687)),'1'!$A$1:$B$16,2,TRUE),P1687,\" 71....+0000000000000000 \"))","v":""},null,""]
[null,{"$f":"IF(I1688=\"\",\"\",ROWS($A$3:A1688))","v":""},"","","","","","","","",{"$f":"IFERROR(SMALL($B$3:$B$2002,ROWS($A$3:A1688)),\"\")","v":""},"","",null,"","","",{"$f":"IF(O1688=\"\",\"\",CONCATENATE(\"*11....+\",VLOOKUP(16-(LEN(N1688)),'1'!$A$1:$B$16,2,TRUE),N1688,\" 81..40+\",VLOOKUP(16-(LEN(O1688)),'1'!$A$1:$B$16,2,TRUE),O1688,\" 82..40+\",VLOOKUP(16-(LEN(O1688)),'1'!$A$1:$B$16,2,TRUE),P1688,\" 71....+0000000000000000 \"))","v":""},null,""]
[null,{"$f":"IF(I1689=\"\",\"\",ROWS($A$3:A1689))","v":""},"","","","","","","","",{"$f":"IFERROR(SMALL($B$3:$B$2002,ROWS($A$3:A1689)),\"\")","v":""},"","",null,"","","",{"$f":"IF(O1689=\"\",\"\",CONCATENATE(\"*11....+\",VLOOKUP(16-(LEN(N1689)),'1'!$A$1:$B$16,2,TRUE),N1689,\" 81..40+\",VLOOKUP(16-(LEN(O1689)),'1'!$A$1:$B$16,2,TRUE),O1689,\" 82..40+\",VLOOKUP(16-(LEN(O1689)),'1'!$A$1:$B$16,2,TRUE),P1689,\" 71....+0000000000000000 \"))","v":""},null,""]
[null,{"$f":"IF(I1690=\"\",\"\",ROWS($A$3:A1690))","v":""},"","","","","","","","",{"$f":"IFERROR(SMALL($B$3:$B$2002,ROWS($A$3:A1690)),\"\")","v":""},"","",null,"","","",{"$f":"IF(O1690=\"\",\"\",CONCATENATE(\"*11....+\",VLOOKUP(16-(LEN(N1690)),'1'!$A$1:$B$16,2,TRUE),N1690,\" 81..40+\",VLOOKUP(16-(LEN(O1690)),'1'!$A$1:$B$16,2,TRUE),O1690,\" 82..40+\",VLOOKUP(16-(LEN(O1690)),'1'!$A$1:$B$16,2,TRUE),P1690,\" 71....+0000000000000000 \"))","v":""},null,""]
[null,{"$f":"IF(I1691=\"\",\"\",ROWS($A$3:A1691))","v":""},"","","","","","","","",{"$f":"IFERROR(SMALL($B$3:$B$2002,ROWS($A$3:A1691)),\"\")","v":""},"","",null,"","","",{"$f":"IF(O1691=\"\",\"\",CONCATENATE(\"*11....+\",VLOOKUP(16-(LEN(N1691)),'1'!$A$1:$B$16,2,TRUE),N1691,\" 81..40+\",VLOOKUP(16-(LEN(O1691)),'1'!$A$1:$B$16,2,TRUE),O1691,\" 82..40+\",VLOOKUP(16-(LEN(O1691)),'1'!$A$1:$B$16,2,TRUE),P1691,\" 71....+0000000000000000 \"))","v":""},null,""]
[null,{"$f":"IF(I1692=\"\",\"\",ROWS($A$3:A1692))","v":""},"","","","","","","","",{"$f":"IFERROR(SMALL($B$3:$B$2002,ROWS($A$3:A1692)),\"\")","v":""},"","",null,"","","",{"$f":"IF(O1692=\"\",\"\",CONCATENATE(\"*11....+\",VLOOKUP(16-(LEN(N1692)),'1'!$A$1:$B$16,2,TRUE),N1692,\" 81..40+\",VLOOKUP(16-(LEN(O1692)),'1'!$A$1:$B$16,2,TRUE),O1692,\" 82..40+\",VLOOKUP(16-(LEN(O1692)),'1'!$A$1:$B$16,2,TRUE),P1692,\" 71....+0000000000000000 \"))","v":""},null,""]
[null,{"$f":"IF(I1693=\"\",\"\",ROWS($A$3:A1693))","v":""},"","","","","","","","",{"$f":"IFERROR(SMALL($B$3:$B$2002,ROWS($A$3:A1693)),\"\")","v":""},"","",null,"","","",{"$f":"IF(O1693=\"\",\"\",CONCATENATE(\"*11....+\",VLOOKUP(16-(LEN(N1693)),'1'!$A$1:$B$16,2,TRUE),N1693,\" 81..40+\",VLOOKUP(16-(LEN(O1693)),'1'!$A$1:$B$16,2,TRUE),O1693,\" 82..40+\",VLOOKUP(16-(LEN(O1693)),'1'!$A$1:$B$16,2,TRUE),P1693,\" 71....+0000000000000000 \"))","v":""},null,""]
[null,{"$f":"IF(I1694=\"\",\"\",ROWS($A$3:A1694))","v":""},"","","","","","","","",{"$f":"IFERROR(SMALL($B$3:$B$2002,ROWS($A$3:A1694)),\"\")","v":""},"","",null,"","","",{"$f":"IF(O1694=\"\",\"\",CONCATENATE(\"*11....+\",VLOOKUP(16-(LEN(N1694)),'1'!$A$1:$B$16,2,TRUE),N1694,\" 81..40+\",VLOOKUP(16-(LEN(O1694)),'1'!$A$1:$B$16,2,TRUE),O1694,\" 82..40+\",VLOOKUP(16-(LEN(O1694)),'1'!$A$1:$B$16,2,TRUE),P1694,\" 71....+0000000000000000 \"))","v":""},null,""]
[null,{"$f":"IF(I1695=\"\",\"\",ROWS($A$3:A1695))","v":""},"","","","","","","","",{"$f":"IFERROR(SMALL($B$3:$B$2002,ROWS($A$3:A1695)),\"\")","v":""},"","",null,"","","",{"$f":"IF(O1695=\"\",\"\",CONCATENATE(\"*11....+\",VLOOKUP(16-(LEN(N1695)),'1'!$A$1:$B$16,2,TRUE),N1695,\" 81..40+\",VLOOKUP(16-(LEN(O1695)),'1'!$A$1:$B$16,2,TRUE),O1695,\" 82..40+\",VLOOKUP(16-(LEN(O1695)),'1'!$A$1:$B$16,2,TRUE),P1695,\" 71....+0000000000000000 \"))","v":""},null,""]
[null,{"$f":"IF(I1696=\"\",\"\",ROWS($A$3:A1696))","v":""},"","","","","","","","",{"$f":"IFERROR(SMALL($B$3:$B$2002,ROWS($A$3:A1696)),\"\")","v":""},"","",null,"","","",{"$f":"IF(O1696=\"\",\"\",CONCATENATE(\"*11....+\",VLOOKUP(16-(LEN(N1696)),'1'!$A$1:$B$16,2,TRUE),N1696,\" 81..40+\",VLOOKUP(16-(LEN(O1696)),'1'!$A$1:$B$16,2,TRUE),O1696,\" 82..40+\",VLOOKUP(16-(LEN(O1696)),'1'!$A$1:$B$16,2,TRUE),P1696,\" 71....+0000000000000000 \"))","v":""},null,""]
[null,{"$f":"IF(I1697=\"\",\"\",ROWS($A$3:A1697))","v":""},"","","","","","","","",{"$f":"IFERROR(SMALL($B$3:$B$2002,ROWS($A$3:A1697)),\"\")","v":""},"","",null,"","","",{"$f":"IF(O1697=\"\",\"\",CONCATENATE(\"*11....+\",VLOOKUP(16-(LEN(N1697)),'1'!$A$1:$B$16,2,TRUE),N1697,\" 81..40+\",VLOOKUP(16-(LEN(O1697)),'1'!$A$1:$B$16,2,TRUE),O1697,\" 82..40+\",VLOOKUP(16-(LEN(O1697)),'1'!$A$1:$B$16,2,TRUE),P1697,\" 71....+0000000000000000 \"))","v":""},null,""]
[null,{"$f":"IF(I1698=\"\",\"\",ROWS($A$3:A1698))","v":""},"","","","","","","","",{"$f":"IFERROR(SMALL($B$3:$B$2002,ROWS($A$3:A1698)),\"\")","v":""},"","",null,"","","",{"$f":"IF(O1698=\"\",\"\",CONCATENATE(\"*11....+\",VLOOKUP(16-(LEN(N1698)),'1'!$A$1:$B$16,2,TRUE),N1698,\" 81..40+\",VLOOKUP(16-(LEN(O1698)),'1'!$A$1:$B$16,2,TRUE),O1698,\" 82..40+\",VLOOKUP(16-(LEN(O1698)),'1'!$A$1:$B$16,2,TRUE),P1698,\" 71....+0000000000000000 \"))","v":""},null,""]
[null,{"$f":"IF(I1699=\"\",\"\",ROWS($A$3:A1699))","v":""},"","","","","","","","",{"$f":"IFERROR(SMALL($B$3:$B$2002,ROWS($A$3:A1699)),\"\")","v":""},"","",null,"","","",{"$f":"IF(O1699=\"\",\"\",CONCATENATE(\"*11....+\",VLOOKUP(16-(LEN(N1699)),'1'!$A$1:$B$16,2,TRUE),N1699,\" 81..40+\",VLOOKUP(16-(LEN(O1699)),'1'!$A$1:$B$16,2,TRUE),O1699,\" 82..40+\",VLOOKUP(16-(LEN(O1699)),'1'!$A$1:$B$16,2,TRUE),P1699,\" 71....+0000000000000000 \"))","v":""},null,""]
[null,{"$f":"IF(I1700=\"\",\"\",ROWS($A$3:A1700))","v":""},"","","","","","","","",{"$f":"IFERROR(SMALL($B$3:$B$2002,ROWS($A$3:A1700)),\"\")","v":""},"","",null,"","","",{"$f":"IF(O1700=\"\",\"\",CONCATENATE(\"*11....+\",VLOOKUP(16-(LEN(N1700)),'1'!$A$1:$B$16,2,TRUE),N1700,\" 81..40+\",VLOOKUP(16-(LEN(O1700)),'1'!$A$1:$B$16,2,TRUE),O1700,\" 82..40+\",VLOOKUP(16-(LEN(O1700)),'1'!$A$1:$B$16,2,TRUE),P1700,\" 71....+0000000000000000 \"))","v":""},null,""]
[null,{"$f":"IF(I1701=\"\",\"\",ROWS($A$3:A1701))","v":""},"","","","","","","","",{"$f":"IFERROR(SMALL($B$3:$B$2002,ROWS($A$3:A1701)),\"\")","v":""},"","",null,"","","",{"$f":"IF(O1701=\"\",\"\",CONCATENATE(\"*11....+\",VLOOKUP(16-(LEN(N1701)),'1'!$A$1:$B$16,2,TRUE),N1701,\" 81..40+\",VLOOKUP(16-(LEN(O1701)),'1'!$A$1:$B$16,2,TRUE),O1701,\" 82..40+\",VLOOKUP(16-(LEN(O1701)),'1'!$A$1:$B$16,2,TRUE),P1701,\" 71....+0000000000000000 \"))","v":""},null,""]
[null,{"$f":"IF(I1702=\"\",\"\",ROWS($A$3:A1702))","v":""},"","","","","","","","",{"$f":"IFERROR(SMALL($B$3:$B$2002,ROWS($A$3:A1702)),\"\")","v":""},"","",null,"","","",{"$f":"IF(O1702=\"\",\"\",CONCATENATE(\"*11....+\",VLOOKUP(16-(LEN(N1702)),'1'!$A$1:$B$16,2,TRUE),N1702,\" 81..40+\",VLOOKUP(16-(LEN(O1702)),'1'!$A$1:$B$16,2,TRUE),O1702,\" 82..40+\",VLOOKUP(16-(LEN(O1702)),'1'!$A$1:$B$16,2,TRUE),P1702,\" 71....+0000000000000000 \"))","v":""},null,""]
[null,{"$f":"IF(I1703=\"\",\"\",ROWS($A$3:A1703))","v":""},"","","","","","","","",{"$f":"IFERROR(SMALL($B$3:$B$2002,ROWS($A$3:A1703)),\"\")","v":""},"","",null,"","","",{"$f":"IF(O1703=\"\",\"\",CONCATENATE(\"*11....+\",VLOOKUP(16-(LEN(N1703)),'1'!$A$1:$B$16,2,TRUE),N1703,\" 81..40+\",VLOOKUP(16-(LEN(O1703)),'1'!$A$1:$B$16,2,TRUE),O1703,\" 82..40+\",VLOOKUP(16-(LEN(O1703)),'1'!$A$1:$B$16,2,TRUE),P1703,\" 71....+0000000000000000 \"))","v":""},null,""]
[null,{"$f":"IF(I1704=\"\",\"\",ROWS($A$3:A1704))","v":""},"","","","","","","","",{"$f":"IFERROR(SMALL($B$3:$B$2002,ROWS($A$3:A1704)),\"\")","v":""},"","",null,"","","",{"$f":"IF(O1704=\"\",\"\",CONCATENATE(\"*11....+\",VLOOKUP(16-(LEN(N1704)),'1'!$A$1:$B$16,2,TRUE),N1704,\" 81..40+\",VLOOKUP(16-(LEN(O1704)),'1'!$A$1:$B$16,2,TRUE),O1704,\" 82..40+\",VLOOKUP(16-(LEN(O1704)),'1'!$A$1:$B$16,2,TRUE),P1704,\" 71....+0000000000000000 \"))","v":""},null,""]
[null,{"$f":"IF(I1705=\"\",\"\",ROWS($A$3:A1705))","v":""},"","","","","","","","",{"$f":"IFERROR(SMALL($B$3:$B$2002,ROWS($A$3:A1705)),\"\")","v":""},"","",null,"","","",{"$f":"IF(O1705=\"\",\"\",CONCATENATE(\"*11....+\",VLOOKUP(16-(LEN(N1705)),'1'!$A$1:$B$16,2,TRUE),N1705,\" 81..40+\",VLOOKUP(16-(LEN(O1705)),'1'!$A$1:$B$16,2,TRUE),O1705,\" 82..40+\",VLOOKUP(16-(LEN(O1705)),'1'!$A$1:$B$16,2,TRUE),P1705,\" 71....+0000000000000000 \"))","v":""},null,""]
[null,{"$f":"IF(I1706=\"\",\"\",ROWS($A$3:A1706))","v":""},"","","","","","","","",{"$f":"IFERROR(SMALL($B$3:$B$2002,ROWS($A$3:A1706)),\"\")","v":""},"","",null,"","","",{"$f":"IF(O1706=\"\",\"\",CONCATENATE(\"*11....+\",VLOOKUP(16-(LEN(N1706)),'1'!$A$1:$B$16,2,TRUE),N1706,\" 81..40+\",VLOOKUP(16-(LEN(O1706)),'1'!$A$1:$B$16,2,TRUE),O1706,\" 82..40+\",VLOOKUP(16-(LEN(O1706)),'1'!$A$1:$B$16,2,TRUE),P1706,\" 71....+0000000000000000 \"))","v":""},null,""]
[null,{"$f":"IF(I1707=\"\",\"\",ROWS($A$3:A1707))","v":""},"","","","","","","","",{"$f":"IFERROR(SMALL($B$3:$B$2002,ROWS($A$3:A1707)),\"\")","v":""},"","",null,"","","",{"$f":"IF(O1707=\"\",\"\",CONCATENATE(\"*11....+\",VLOOKUP(16-(LEN(N1707)),'1'!$A$1:$B$16,2,TRUE),N1707,\" 81..40+\",VLOOKUP(16-(LEN(O1707)),'1'!$A$1:$B$16,2,TRUE),O1707,\" 82..40+\",VLOOKUP(16-(LEN(O1707)),'1'!$A$1:$B$16,2,TRUE),P1707,\" 71....+0000000000000000 \"))","v":""},null,""]
[null,{"$f":"IF(I1708=\"\",\"\",ROWS($A$3:A1708))","v":""},"","","","","","","","",{"$f":"IFERROR(SMALL($B$3:$B$2002,ROWS($A$3:A1708)),\"\")","v":""},"","",null,"","","",{"$f":"IF(O1708=\"\",\"\",CONCATENATE(\"*11....+\",VLOOKUP(16-(LEN(N1708)),'1'!$A$1:$B$16,2,TRUE),N1708,\" 81..40+\",VLOOKUP(16-(LEN(O1708)),'1'!$A$1:$B$16,2,TRUE),O1708,\" 82..40+\",VLOOKUP(16-(LEN(O1708)),'1'!$A$1:$B$16,2,TRUE),P1708,\" 71....+0000000000000000 \"))","v":""},null,""]
[null,{"$f":"IF(I1709=\"\",\"\",ROWS($A$3:A1709))","v":""},"","","","","","","","",{"$f":"IFERROR(SMALL($B$3:$B$2002,ROWS($A$3:A1709)),\"\")","v":""},"","",null,"","","",{"$f":"IF(O1709=\"\",\"\",CONCATENATE(\"*11....+\",VLOOKUP(16-(LEN(N1709)),'1'!$A$1:$B$16,2,TRUE),N1709,\" 81..40+\",VLOOKUP(16-(LEN(O1709)),'1'!$A$1:$B$16,2,TRUE),O1709,\" 82..40+\",VLOOKUP(16-(LEN(O1709)),'1'!$A$1:$B$16,2,TRUE),P1709,\" 71....+0000000000000000 \"))","v":""},null,""]
[null,{"$f":"IF(I1710=\"\",\"\",ROWS($A$3:A1710))","v":""},"","","","","","","","",{"$f":"IFERROR(SMALL($B$3:$B$2002,ROWS($A$3:A1710)),\"\")","v":""},"","",null,"","","",{"$f":"IF(O1710=\"\",\"\",CONCATENATE(\"*11....+\",VLOOKUP(16-(LEN(N1710)),'1'!$A$1:$B$16,2,TRUE),N1710,\" 81..40+\",VLOOKUP(16-(LEN(O1710)),'1'!$A$1:$B$16,2,TRUE),O1710,\" 82..40+\",VLOOKUP(16-(LEN(O1710)),'1'!$A$1:$B$16,2,TRUE),P1710,\" 71....+0000000000000000 \"))","v":""},null,""]
[null,{"$f":"IF(I1711=\"\",\"\",ROWS($A$3:A1711))","v":""},"","","","","","","","",{"$f":"IFERROR(SMALL($B$3:$B$2002,ROWS($A$3:A1711)),\"\")","v":""},"","",null,"","","",{"$f":"IF(O1711=\"\",\"\",CONCATENATE(\"*11....+\",VLOOKUP(16-(LEN(N1711)),'1'!$A$1:$B$16,2,TRUE),N1711,\" 81..40+\",VLOOKUP(16-(LEN(O1711)),'1'!$A$1:$B$16,2,TRUE),O1711,\" 82..40+\",VLOOKUP(16-(LEN(O1711)),'1'!$A$1:$B$16,2,TRUE),P1711,\" 71....+0000000000000000 \"))","v":""},null,""]
[null,{"$f":"IF(I1712=\"\",\"\",ROWS($A$3:A1712))","v":""},"","","","","","","","",{"$f":"IFERROR(SMALL($B$3:$B$2002,ROWS($A$3:A1712)),\"\")","v":""},"","",null,"","","",{"$f":"IF(O1712=\"\",\"\",CONCATENATE(\"*11....+\",VLOOKUP(16-(LEN(N1712)),'1'!$A$1:$B$16,2,TRUE),N1712,\" 81..40+\",VLOOKUP(16-(LEN(O1712)),'1'!$A$1:$B$16,2,TRUE),O1712,\" 82..40+\",VLOOKUP(16-(LEN(O1712)),'1'!$A$1:$B$16,2,TRUE),P1712,\" 71....+0000000000000000 \"))","v":""},null,""]
[null,{"$f":"IF(I1713=\"\",\"\",ROWS($A$3:A1713))","v":""},"","","","","","","","",{"$f":"IFERROR(SMALL($B$3:$B$2002,ROWS($A$3:A1713)),\"\")","v":""},"","",null,"","","",{"$f":"IF(O1713=\"\",\"\",CONCATENATE(\"*11....+\",VLOOKUP(16-(LEN(N1713)),'1'!$A$1:$B$16,2,TRUE),N1713,\" 81..40+\",VLOOKUP(16-(LEN(O1713)),'1'!$A$1:$B$16,2,TRUE),O1713,\" 82..40+\",VLOOKUP(16-(LEN(O1713)),'1'!$A$1:$B$16,2,TRUE),P1713,\" 71....+0000000000000000 \"))","v":""},null,""]
[null,{"$f":"IF(I1714=\"\",\"\",ROWS($A$3:A1714))","v":""},"","","","","","","","",{"$f":"IFERROR(SMALL($B$3:$B$2002,ROWS($A$3:A1714)),\"\")","v":""},"","",null,"","","",{"$f":"IF(O1714=\"\",\"\",CONCATENATE(\"*11....+\",VLOOKUP(16-(LEN(N1714)),'1'!$A$1:$B$16,2,TRUE),N1714,\" 81..40+\",VLOOKUP(16-(LEN(O1714)),'1'!$A$1:$B$16,2,TRUE),O1714,\" 82..40+\",VLOOKUP(16-(LEN(O1714)),'1'!$A$1:$B$16,2,TRUE),P1714,\" 71....+0000000000000000 \"))","v":""},null,""]
[null,{"$f":"IF(I1715=\"\",\"\",ROWS($A$3:A1715))","v":""},"","","","","","","","",{"$f":"IFERROR(SMALL($B$3:$B$2002,ROWS($A$3:A1715)),\"\")","v":""},"","",null,"","","",{"$f":"IF(O1715=\"\",\"\",CONCATENATE(\"*11....+\",VLOOKUP(16-(LEN(N1715)),'1'!$A$1:$B$16,2,TRUE),N1715,\" 81..40+\",VLOOKUP(16-(LEN(O1715)),'1'!$A$1:$B$16,2,TRUE),O1715,\" 82..40+\",VLOOKUP(16-(LEN(O1715)),'1'!$A$1:$B$16,2,TRUE),P1715,\" 71....+0000000000000000 \"))","v":""},null,""]
[null,{"$f":"IF(I1716=\"\",\"\",ROWS($A$3:A1716))","v":""},"","","","","","","","",{"$f":"IFERROR(SMALL($B$3:$B$2002,ROWS($A$3:A1716)),\"\")","v":""},"","",null,"","","",{"$f":"IF(O1716=\"\",\"\",CONCATENATE(\"*11....+\",VLOOKUP(16-(LEN(N1716)),'1'!$A$1:$B$16,2,TRUE),N1716,\" 81..40+\",VLOOKUP(16-(LEN(O1716)),'1'!$A$1:$B$16,2,TRUE),O1716,\" 82..40+\",VLOOKUP(16-(LEN(O1716)),'1'!$A$1:$B$16,2,TRUE),P1716,\" 71....+0000000000000000 \"))","v":""},null,""]
[null,{"$f":"IF(I1717=\"\",\"\",ROWS($A$3:A1717))","v":""},"","","","","","","","",{"$f":"IFERROR(SMALL($B$3:$B$2002,ROWS($A$3:A1717)),\"\")","v":""},"","",null,"","","",{"$f":"IF(O1717=\"\",\"\",CONCATENATE(\"*11....+\",VLOOKUP(16-(LEN(N1717)),'1'!$A$1:$B$16,2,TRUE),N1717,\" 81..40+\",VLOOKUP(16-(LEN(O1717)),'1'!$A$1:$B$16,2,TRUE),O1717,\" 82..40+\",VLOOKUP(16-(LEN(O1717)),'1'!$A$1:$B$16,2,TRUE),P1717,\" 71....+0000000000000000 \"))","v":""},null,""]
[null,{"$f":"IF(I1718=\"\",\"\",ROWS($A$3:A1718))","v":""},"","","","","","","","",{"$f":"IFERROR(SMALL($B$3:$B$2002,ROWS($A$3:A1718)),\"\")","v":""},"","",null,"","","",{"$f":"IF(O1718=\"\",\"\",CONCATENATE(\"*11....+\",VLOOKUP(16-(LEN(N1718)),'1'!$A$1:$B$16,2,TRUE),N1718,\" 81..40+\",VLOOKUP(16-(LEN(O1718)),'1'!$A$1:$B$16,2,TRUE),O1718,\" 82..40+\",VLOOKUP(16-(LEN(O1718)),'1'!$A$1:$B$16,2,TRUE),P1718,\" 71....+0000000000000000 \"))","v":""},null,""]
[null,{"$f":"IF(I1719=\"\",\"\",ROWS($A$3:A1719))","v":""},"","","","","","","","",{"$f":"IFERROR(SMALL($B$3:$B$2002,ROWS($A$3:A1719)),\"\")","v":""},"","",null,"","","",{"$f":"IF(O1719=\"\",\"\",CONCATENATE(\"*11....+\",VLOOKUP(16-(LEN(N1719)),'1'!$A$1:$B$16,2,TRUE),N1719,\" 81..40+\",VLOOKUP(16-(LEN(O1719)),'1'!$A$1:$B$16,2,TRUE),O1719,\" 82..40+\",VLOOKUP(16-(LEN(O1719)),'1'!$A$1:$B$16,2,TRUE),P1719,\" 71....+0000000000000000 \"))","v":""},null,""]
[null,{"$f":"IF(I1720=\"\",\"\",ROWS($A$3:A1720))","v":""},"","","","","","","","",{"$f":"IFERROR(SMALL($B$3:$B$2002,ROWS($A$3:A1720)),\"\")","v":""},"","",null,"","","",{"$f":"IF(O1720=\"\",\"\",CONCATENATE(\"*11....+\",VLOOKUP(16-(LEN(N1720)),'1'!$A$1:$B$16,2,TRUE),N1720,\" 81..40+\",VLOOKUP(16-(LEN(O1720)),'1'!$A$1:$B$16,2,TRUE),O1720,\" 82..40+\",VLOOKUP(16-(LEN(O1720)),'1'!$A$1:$B$16,2,TRUE),P1720,\" 71....+0000000000000000 \"))","v":""},null,""]
[null,{"$f":"IF(I1721=\"\",\"\",ROWS($A$3:A1721))","v":""},"","","","","","","","",{"$f":"IFERROR(SMALL($B$3:$B$2002,ROWS($A$3:A1721)),\"\")","v":""},"","",null,"","","",{"$f":"IF(O1721=\"\",\"\",CONCATENATE(\"*11....+\",VLOOKUP(16-(LEN(N1721)),'1'!$A$1:$B$16,2,TRUE),N1721,\" 81..40+\",VLOOKUP(16-(LEN(O1721)),'1'!$A$1:$B$16,2,TRUE),O1721,\" 82..40+\",VLOOKUP(16-(LEN(O1721)),'1'!$A$1:$B$16,2,TRUE),P1721,\" 71....+0000000000000000 \"))","v":""},null,""]
[null,{"$f":"IF(I1722=\"\",\"\",ROWS($A$3:A1722))","v":""},"","","","","","","","",{"$f":"IFERROR(SMALL($B$3:$B$2002,ROWS($A$3:A1722)),\"\")","v":""},"","",null,"","","",{"$f":"IF(O1722=\"\",\"\",CONCATENATE(\"*11....+\",VLOOKUP(16-(LEN(N1722)),'1'!$A$1:$B$16,2,TRUE),N1722,\" 81..40+\",VLOOKUP(16-(LEN(O1722)),'1'!$A$1:$B$16,2,TRUE),O1722,\" 82..40+\",VLOOKUP(16-(LEN(O1722)),'1'!$A$1:$B$16,2,TRUE),P1722,\" 71....+0000000000000000 \"))","v":""},null,""]
[null,{"$f":"IF(I1723=\"\",\"\",ROWS($A$3:A1723))","v":""},"","","","","","","","",{"$f":"IFERROR(SMALL($B$3:$B$2002,ROWS($A$3:A1723)),\"\")","v":""},"","",null,"","","",{"$f":"IF(O1723=\"\",\"\",CONCATENATE(\"*11....+\",VLOOKUP(16-(LEN(N1723)),'1'!$A$1:$B$16,2,TRUE),N1723,\" 81..40+\",VLOOKUP(16-(LEN(O1723)),'1'!$A$1:$B$16,2,TRUE),O1723,\" 82..40+\",VLOOKUP(16-(LEN(O1723)),'1'!$A$1:$B$16,2,TRUE),P1723,\" 71....+0000000000000000 \"))","v":""},null,""]
[null,{"$f":"IF(I1724=\"\",\"\",ROWS($A$3:A1724))","v":""},"","","","","","","","",{"$f":"IFERROR(SMALL($B$3:$B$2002,ROWS($A$3:A1724)),\"\")","v":""},"","",null,"","","",{"$f":"IF(O1724=\"\",\"\",CONCATENATE(\"*11....+\",VLOOKUP(16-(LEN(N1724)),'1'!$A$1:$B$16,2,TRUE),N1724,\" 81..40+\",VLOOKUP(16-(LEN(O1724)),'1'!$A$1:$B$16,2,TRUE),O1724,\" 82..40+\",VLOOKUP(16-(LEN(O1724)),'1'!$A$1:$B$16,2,TRUE),P1724,\" 71....+0000000000000000 \"))","v":""},null,""]
[null,{"$f":"IF(I1725=\"\",\"\",ROWS($A$3:A1725))","v":""},"","","","","","","","",{"$f":"IFERROR(SMALL($B$3:$B$2002,ROWS($A$3:A1725)),\"\")","v":""},"","",null,"","","",{"$f":"IF(O1725=\"\",\"\",CONCATENATE(\"*11....+\",VLOOKUP(16-(LEN(N1725)),'1'!$A$1:$B$16,2,TRUE),N1725,\" 81..40+\",VLOOKUP(16-(LEN(O1725)),'1'!$A$1:$B$16,2,TRUE),O1725,\" 82..40+\",VLOOKUP(16-(LEN(O1725)),'1'!$A$1:$B$16,2,TRUE),P1725,\" 71....+0000000000000000 \"))","v":""},null,""]
[null,{"$f":"IF(I1726=\"\",\"\",ROWS($A$3:A1726))","v":""},"","","","","","","","",{"$f":"IFERROR(SMALL($B$3:$B$2002,ROWS($A$3:A1726)),\"\")","v":""},"","",null,"","","",{"$f":"IF(O1726=\"\",\"\",CONCATENATE(\"*11....+\",VLOOKUP(16-(LEN(N1726)),'1'!$A$1:$B$16,2,TRUE),N1726,\" 81..40+\",VLOOKUP(16-(LEN(O1726)),'1'!$A$1:$B$16,2,TRUE),O1726,\" 82..40+\",VLOOKUP(16-(LEN(O1726)),'1'!$A$1:$B$16,2,TRUE),P1726,\" 71....+0000000000000000 \"))","v":""},null,""]
[null,{"$f":"IF(I1727=\"\",\"\",ROWS($A$3:A1727))","v":""},"","","","","","","","",{"$f":"IFERROR(SMALL($B$3:$B$2002,ROWS($A$3:A1727)),\"\")","v":""},"","",null,"","","",{"$f":"IF(O1727=\"\",\"\",CONCATENATE(\"*11....+\",VLOOKUP(16-(LEN(N1727)),'1'!$A$1:$B$16,2,TRUE),N1727,\" 81..40+\",VLOOKUP(16-(LEN(O1727)),'1'!$A$1:$B$16,2,TRUE),O1727,\" 82..40+\",VLOOKUP(16-(LEN(O1727)),'1'!$A$1:$B$16,2,TRUE),P1727,\" 71....+0000000000000000 \"))","v":""},null,""]
[null,{"$f":"IF(I1728=\"\",\"\",ROWS($A$3:A1728))","v":""},"","","","","","","","",{"$f":"IFERROR(SMALL($B$3:$B$2002,ROWS($A$3:A1728)),\"\")","v":""},"","",null,"","","",{"$f":"IF(O1728=\"\",\"\",CONCATENATE(\"*11....+\",VLOOKUP(16-(LEN(N1728)),'1'!$A$1:$B$16,2,TRUE),N1728,\" 81..40+\",VLOOKUP(16-(LEN(O1728)),'1'!$A$1:$B$16,2,TRUE),O1728,\" 82..40+\",VLOOKUP(16-(LEN(O1728)),'1'!$A$1:$B$16,2,TRUE),P1728,\" 71....+0000000000000000 \"))","v":""},null,""]
[null,{"$f":"IF(I1729=\"\",\"\",ROWS($A$3:A1729))","v":""},"","","","","","","","",{"$f":"IFERROR(SMALL($B$3:$B$2002,ROWS($A$3:A1729)),\"\")","v":""},"","",null,"","","",{"$f":"IF(O1729=\"\",\"\",CONCATENATE(\"*11....+\",VLOOKUP(16-(LEN(N1729)),'1'!$A$1:$B$16,2,TRUE),N1729,\" 81..40+\",VLOOKUP(16-(LEN(O1729)),'1'!$A$1:$B$16,2,TRUE),O1729,\" 82..40+\",VLOOKUP(16-(LEN(O1729)),'1'!$A$1:$B$16,2,TRUE),P1729,\" 71....+0000000000000000 \"))","v":""},null,""]
[null,{"$f":"IF(I1730=\"\",\"\",ROWS($A$3:A1730))","v":""},"","","","","","","","",{"$f":"IFERROR(SMALL($B$3:$B$2002,ROWS($A$3:A1730)),\"\")","v":""},"","",null,"","","",{"$f":"IF(O1730=\"\",\"\",CONCATENATE(\"*11....+\",VLOOKUP(16-(LEN(N1730)),'1'!$A$1:$B$16,2,TRUE),N1730,\" 81..40+\",VLOOKUP(16-(LEN(O1730)),'1'!$A$1:$B$16,2,TRUE),O1730,\" 82..40+\",VLOOKUP(16-(LEN(O1730)),'1'!$A$1:$B$16,2,TRUE),P1730,\" 71....+0000000000000000 \"))","v":""},null,""]
[null,{"$f":"IF(I1731=\"\",\"\",ROWS($A$3:A1731))","v":""},"","","","","","","","",{"$f":"IFERROR(SMALL($B$3:$B$2002,ROWS($A$3:A1731)),\"\")","v":""},"","",null,"","","",{"$f":"IF(O1731=\"\",\"\",CONCATENATE(\"*11....+\",VLOOKUP(16-(LEN(N1731)),'1'!$A$1:$B$16,2,TRUE),N1731,\" 81..40+\",VLOOKUP(16-(LEN(O1731)),'1'!$A$1:$B$16,2,TRUE),O1731,\" 82..40+\",VLOOKUP(16-(LEN(O1731)),'1'!$A$1:$B$16,2,TRUE),P1731,\" 71....+0000000000000000 \"))","v":""},null,""]
[null,{"$f":"IF(I1732=\"\",\"\",ROWS($A$3:A1732))","v":""},{"$f":"IF(LEN(A1732)=59,ROUND(VALUE(MID(A1732,23,9)),3),\"\")","v":""},{"$f":"IF(LEN(A1732)=24,\"\",\"\")","v":""},{"$f":"IF(LEN(A1732)=63,ROUND(VALUE(MID(A1732,23,12)),3),\"\")","v":""},{"$f":"IF(LEN(A1732)=59,ROUND(VALUE(MID(A1732,37,9)),3),\"\")","v":""},{"$f":"IF(LEN(A1732)=24,\"\",\"\")","v":""},{"$f":"IF(LEN(A1732)=63,ROUND(VALUE(MID(A1732,39,12)),3),\"\")","v":""},{"$f":"IF(AND(C1732=\"\",D1732=\"\",E1732=\"\"),\"\",ROUND(CONCATENATE(C1732,D1732,E1732),3))","v":""},{"$f":"IF(AND(C1732=\"\",D1732=\"\",E1732=\"\"),\"\",ROUND(CONCATENATE(F1732,G1732,H1732),3))","v":""},{"$f":"IFERROR(SMALL($B$3:$B$2002,ROWS($A$3:A1732)),\"\")","v":""},{"$f":"IF(K1732=\"\",\"\",ROUND(VALUE(VLOOKUP(K1732,$B$3:$J$2002,8,TRUE)),3))","v":""},{"$f":"IF(K1732=\"\",\"\",ROUND(VALUE(VLOOKUP(K1732,$B$3:$J$2002,9,TRUE)),3))","v":""},null,{"$f":"IF(L1732=\"\",\"\",L1732/0.001)","v":""},"",{"$f":"IF(O1732=\"\",\"\",16-LEN(N1732))","v":""},{"$f":"IF(O1732=\"\",\"\",CONCATENATE(\"*11....+\",VLOOKUP(16-(LEN(N1732)),'1'!$A$1:$B$16,2,TRUE),N1732,\" 81..40+\",VLOOKUP(16-(LEN(O1732)),'1'!$A$1:$B$16,2,TRUE),O1732,\" 82..40+\",VLOOKUP(16-(LEN(O1732)),'1'!$A$1:$B$16,2,TRUE),P1732,\" 71....+0000000000000000 \"))","v":""},null,{"$f":"IF(O1732=\"\",\"\",CONCATENATE(N1732,\",\",L1732,\",\",M1732))","v":""}]
[null,{"$f":"IF(I1733=\"\",\"\",ROWS($A$3:A1733))","v":""},"","","","","","","","",{"$f":"IFERROR(SMALL($B$3:$B$2002,ROWS($A$3:A1733)),\"\")","v":""},"","",null,"","","",{"$f":"IF(O1733=\"\",\"\",CONCATENATE(\"*11....+\",VLOOKUP(16-(LEN(N1733)),'1'!$A$1:$B$16,2,TRUE),N1733,\" 81..40+\",VLOOKUP(16-(LEN(O1733)),'1'!$A$1:$B$16,2,TRUE),O1733,\" 82..40+\",VLOOKUP(16-(LEN(O1733)),'1'!$A$1:$B$16,2,TRUE),P1733,\" 71....+0000000000000000 \"))","v":""},null,""]
[null,{"$f":"IF(I1734=\"\",\"\",ROWS($A$3:A1734))","v":""},"","","","","","","","",{"$f":"IFERROR(SMALL($B$3:$B$2002,ROWS($A$3:A1734)),\"\")","v":""},"","",null,"","","",{"$f":"IF(O1734=\"\",\"\",CONCATENATE(\"*11....+\",VLOOKUP(16-(LEN(N1734)),'1'!$A$1:$B$16,2,TRUE),N1734,\" 81..40+\",VLOOKUP(16-(LEN(O1734)),'1'!$A$1:$B$16,2,TRUE),O1734,\" 82..40+\",VLOOKUP(16-(LEN(O1734)),'1'!$A$1:$B$16,2,TRUE),P1734,\" 71....+0000000000000000 \"))","v":""},null,""]
[null,{"$f":"IF(I1735=\"\",\"\",ROWS($A$3:A1735))","v":""},"","","","","","","","",{"$f":"IFERROR(SMALL($B$3:$B$2002,ROWS($A$3:A1735)),\"\")","v":""},"","",null,"","","",{"$f":"IF(O1735=\"\",\"\",CONCATENATE(\"*11....+\",VLOOKUP(16-(LEN(N1735)),'1'!$A$1:$B$16,2,TRUE),N1735,\" 81..40+\",VLOOKUP(16-(LEN(O1735)),'1'!$A$1:$B$16,2,TRUE),O1735,\" 82..40+\",VLOOKUP(16-(LEN(O1735)),'1'!$A$1:$B$16,2,TRUE),P1735,\" 71....+0000000000000000 \"))","v":""},null,""]
[null,{"$f":"IF(I1736=\"\",\"\",ROWS($A$3:A1736))","v":""},"","","","","","","","",{"$f":"IFERROR(SMALL($B$3:$B$2002,ROWS($A$3:A1736)),\"\")","v":""},"","",null,"","","",{"$f":"IF(O1736=\"\",\"\",CONCATENATE(\"*11....+\",VLOOKUP(16-(LEN(N1736)),'1'!$A$1:$B$16,2,TRUE),N1736,\" 81..40+\",VLOOKUP(16-(LEN(O1736)),'1'!$A$1:$B$16,2,TRUE),O1736,\" 82..40+\",VLOOKUP(16-(LEN(O1736)),'1'!$A$1:$B$16,2,TRUE),P1736,\" 71....+0000000000000000 \"))","v":""},null,""]
[null,{"$f":"IF(I1737=\"\",\"\",ROWS($A$3:A1737))","v":""},"","","","","","","","",{"$f":"IFERROR(SMALL($B$3:$B$2002,ROWS($A$3:A1737)),\"\")","v":""},"","",null,"","","",{"$f":"IF(O1737=\"\",\"\",CONCATENATE(\"*11....+\",VLOOKUP(16-(LEN(N1737)),'1'!$A$1:$B$16,2,TRUE),N1737,\" 81..40+\",VLOOKUP(16-(LEN(O1737)),'1'!$A$1:$B$16,2,TRUE),O1737,\" 82..40+\",VLOOKUP(16-(LEN(O1737)),'1'!$A$1:$B$16,2,TRUE),P1737,\" 71....+0000000000000000 \"))","v":""},null,""]
[null,{"$f":"IF(I1738=\"\",\"\",ROWS($A$3:A1738))","v":""},"","","","","","","","",{"$f":"IFERROR(SMALL($B$3:$B$2002,ROWS($A$3:A1738)),\"\")","v":""},"","",null,"","","",{"$f":"IF(O1738=\"\",\"\",CONCATENATE(\"*11....+\",VLOOKUP(16-(LEN(N1738)),'1'!$A$1:$B$16,2,TRUE),N1738,\" 81..40+\",VLOOKUP(16-(LEN(O1738)),'1'!$A$1:$B$16,2,TRUE),O1738,\" 82..40+\",VLOOKUP(16-(LEN(O1738)),'1'!$A$1:$B$16,2,TRUE),P1738,\" 71....+0000000000000000 \"))","v":""},null,""]
[null,{"$f":"IF(I1739=\"\",\"\",ROWS($A$3:A1739))","v":""},"","","","","","","","",{"$f":"IFERROR(SMALL($B$3:$B$2002,ROWS($A$3:A1739)),\"\")","v":""},"","",null,"","","",{"$f":"IF(O1739=\"\",\"\",CONCATENATE(\"*11....+\",VLOOKUP(16-(LEN(N1739)),'1'!$A$1:$B$16,2,TRUE),N1739,\" 81..40+\",VLOOKUP(16-(LEN(O1739)),'1'!$A$1:$B$16,2,TRUE),O1739,\" 82..40+\",VLOOKUP(16-(LEN(O1739)),'1'!$A$1:$B$16,2,TRUE),P1739,\" 71....+0000000000000000 \"))","v":""},null,""]
[null,{"$f":"IF(I1740=\"\",\"\",ROWS($A$3:A1740))","v":""},"","","","","","","","",{"$f":"IFERROR(SMALL($B$3:$B$2002,ROWS($A$3:A1740)),\"\")","v":""},"","",null,"","","",{"$f":"IF(O1740=\"\",\"\",CONCATENATE(\"*11....+\",VLOOKUP(16-(LEN(N1740)),'1'!$A$1:$B$16,2,TRUE),N1740,\" 81..40+\",VLOOKUP(16-(LEN(O1740)),'1'!$A$1:$B$16,2,TRUE),O1740,\" 82..40+\",VLOOKUP(16-(LEN(O1740)),'1'!$A$1:$B$16,2,TRUE),P1740,\" 71....+0000000000000000 \"))","v":""},null,""]
[null,{"$f":"IF(I1741=\"\",\"\",ROWS($A$3:A1741))","v":""},"","","","","","","","",{"$f":"IFERROR(SMALL($B$3:$B$2002,ROWS($A$3:A1741)),\"\")","v":""},"","",null,"","","",{"$f":"IF(O1741=\"\",\"\",CONCATENATE(\"*11....+\",VLOOKUP(16-(LEN(N1741)),'1'!$A$1:$B$16,2,TRUE),N1741,\" 81..40+\",VLOOKUP(16-(LEN(O1741)),'1'!$A$1:$B$16,2,TRUE),O1741,\" 82..40+\",VLOOKUP(16-(LEN(O1741)),'1'!$A$1:$B$16,2,TRUE),P1741,\" 71....+0000000000000000 \"))","v":""},null,""]
[null,{"$f":"IF(I1742=\"\",\"\",ROWS($A$3:A1742))","v":""},"","","","","","","","",{"$f":"IFERROR(SMALL($B$3:$B$2002,ROWS($A$3:A1742)),\"\")","v":""},"","",null,"","","",{"$f":"IF(O1742=\"\",\"\",CONCATENATE(\"*11....+\",VLOOKUP(16-(LEN(N1742)),'1'!$A$1:$B$16,2,TRUE),N1742,\" 81..40+\",VLOOKUP(16-(LEN(O1742)),'1'!$A$1:$B$16,2,TRUE),O1742,\" 82..40+\",VLOOKUP(16-(LEN(O1742)),'1'!$A$1:$B$16,2,TRUE),P1742,\" 71....+0000000000000000 \"))","v":""},null,""]
[null,{"$f":"IF(I1743=\"\",\"\",ROWS($A$3:A1743))","v":""},"","","","","","","","",{"$f":"IFERROR(SMALL($B$3:$B$2002,ROWS($A$3:A1743)),\"\")","v":""},"","",null,"","","",{"$f":"IF(O1743=\"\",\"\",CONCATENATE(\"*11....+\",VLOOKUP(16-(LEN(N1743)),'1'!$A$1:$B$16,2,TRUE),N1743,\" 81..40+\",VLOOKUP(16-(LEN(O1743)),'1'!$A$1:$B$16,2,TRUE),O1743,\" 82..40+\",VLOOKUP(16-(LEN(O1743)),'1'!$A$1:$B$16,2,TRUE),P1743,\" 71....+0000000000000000 \"))","v":""},null,""]
[null,{"$f":"IF(I1744=\"\",\"\",ROWS($A$3:A1744))","v":""},"","","","","","","","",{"$f":"IFERROR(SMALL($B$3:$B$2002,ROWS($A$3:A1744)),\"\")","v":""},"","",null,"","","",{"$f":"IF(O1744=\"\",\"\",CONCATENATE(\"*11....+\",VLOOKUP(16-(LEN(N1744)),'1'!$A$1:$B$16,2,TRUE),N1744,\" 81..40+\",VLOOKUP(16-(LEN(O1744)),'1'!$A$1:$B$16,2,TRUE),O1744,\" 82..40+\",VLOOKUP(16-(LEN(O1744)),'1'!$A$1:$B$16,2,TRUE),P1744,\" 71....+0000000000000000 \"))","v":""},null,""]
[null,{"$f":"IF(I1745=\"\",\"\",ROWS($A$3:A1745))","v":""},"","","","","","","","",{"$f":"IFERROR(SMALL($B$3:$B$2002,ROWS($A$3:A1745)),\"\")","v":""},"","",null,"","","",{"$f":"IF(O1745=\"\",\"\",CONCATENATE(\"*11....+\",VLOOKUP(16-(LEN(N1745)),'1'!$A$1:$B$16,2,TRUE),N1745,\" 81..40+\",VLOOKUP(16-(LEN(O1745)),'1'!$A$1:$B$16,2,TRUE),O1745,\" 82..40+\",VLOOKUP(16-(LEN(O1745)),'1'!$A$1:$B$16,2,TRUE),P1745,\" 71....+0000000000000000 \"))","v":""},null,""]
[null,{"$f":"IF(I1746=\"\",\"\",ROWS($A$3:A1746))","v":""},"","","","","","","","",{"$f":"IFERROR(SMALL($B$3:$B$2002,ROWS($A$3:A1746)),\"\")","v":""},"","",null,"","","",{"$f":"IF(O1746=\"\",\"\",CONCATENATE(\"*11....+\",VLOOKUP(16-(LEN(N1746)),'1'!$A$1:$B$16,2,TRUE),N1746,\" 81..40+\",VLOOKUP(16-(LEN(O1746)),'1'!$A$1:$B$16,2,TRUE),O1746,\" 82..40+\",VLOOKUP(16-(LEN(O1746)),'1'!$A$1:$B$16,2,TRUE),P1746,\" 71....+0000000000000000 \"))","v":""},null,""]
[null,{"$f":"IF(I1747=\"\",\"\",ROWS($A$3:A1747))","v":""},"","","","","","","","",{"$f":"IFERROR(SMALL($B$3:$B$2002,ROWS($A$3:A1747)),\"\")","v":""},"","",null,"","","",{"$f":"IF(O1747=\"\",\"\",CONCATENATE(\"*11....+\",VLOOKUP(16-(LEN(N1747)),'1'!$A$1:$B$16,2,TRUE),N1747,\" 81..40+\",VLOOKUP(16-(LEN(O1747)),'1'!$A$1:$B$16,2,TRUE),O1747,\" 82..40+\",VLOOKUP(16-(LEN(O1747)),'1'!$A$1:$B$16,2,TRUE),P1747,\" 71....+0000000000000000 \"))","v":""},null,""]
[null,{"$f":"IF(I1748=\"\",\"\",ROWS($A$3:A1748))","v":""},"","","","","","","","",{"$f":"IFERROR(SMALL($B$3:$B$2002,ROWS($A$3:A1748)),\"\")","v":""},"","",null,"","","",{"$f":"IF(O1748=\"\",\"\",CONCATENATE(\"*11....+\",VLOOKUP(16-(LEN(N1748)),'1'!$A$1:$B$16,2,TRUE),N1748,\" 81..40+\",VLOOKUP(16-(LEN(O1748)),'1'!$A$1:$B$16,2,TRUE),O1748,\" 82..40+\",VLOOKUP(16-(LEN(O1748)),'1'!$A$1:$B$16,2,TRUE),P1748,\" 71....+0000000000000000 \"))","v":""},null,""]
[null,{"$f":"IF(I1749=\"\",\"\",ROWS($A$3:A1749))","v":""},"","","","","","","","",{"$f":"IFERROR(SMALL($B$3:$B$2002,ROWS($A$3:A1749)),\"\")","v":""},"","",null,"","","",{"$f":"IF(O1749=\"\",\"\",CONCATENATE(\"*11....+\",VLOOKUP(16-(LEN(N1749)),'1'!$A$1:$B$16,2,TRUE),N1749,\" 81..40+\",VLOOKUP(16-(LEN(O1749)),'1'!$A$1:$B$16,2,TRUE),O1749,\" 82..40+\",VLOOKUP(16-(LEN(O1749)),'1'!$A$1:$B$16,2,TRUE),P1749,\" 71....+0000000000000000 \"))","v":""},null,""]
[null,{"$f":"IF(I1750=\"\",\"\",ROWS($A$3:A1750))","v":""},"","","","","","","","",{"$f":"IFERROR(SMALL($B$3:$B$2002,ROWS($A$3:A1750)),\"\")","v":""},"","",null,"","","",{"$f":"IF(O1750=\"\",\"\",CONCATENATE(\"*11....+\",VLOOKUP(16-(LEN(N1750)),'1'!$A$1:$B$16,2,TRUE),N1750,\" 81..40+\",VLOOKUP(16-(LEN(O1750)),'1'!$A$1:$B$16,2,TRUE),O1750,\" 82..40+\",VLOOKUP(16-(LEN(O1750)),'1'!$A$1:$B$16,2,TRUE),P1750,\" 71....+0000000000000000 \"))","v":""},null,""]
[null,{"$f":"IF(I1751=\"\",\"\",ROWS($A$3:A1751))","v":""},"","","","","","","","",{"$f":"IFERROR(SMALL($B$3:$B$2002,ROWS($A$3:A1751)),\"\")","v":""},"","",null,"","","",{"$f":"IF(O1751=\"\",\"\",CONCATENATE(\"*11....+\",VLOOKUP(16-(LEN(N1751)),'1'!$A$1:$B$16,2,TRUE),N1751,\" 81..40+\",VLOOKUP(16-(LEN(O1751)),'1'!$A$1:$B$16,2,TRUE),O1751,\" 82..40+\",VLOOKUP(16-(LEN(O1751)),'1'!$A$1:$B$16,2,TRUE),P1751,\" 71....+0000000000000000 \"))","v":""},null,""]
[null,{"$f":"IF(I1752=\"\",\"\",ROWS($A$3:A1752))","v":""},"","","","","","","","",{"$f":"IFERROR(SMALL($B$3:$B$2002,ROWS($A$3:A1752)),\"\")","v":""},"","",null,"","","",{"$f":"IF(O1752=\"\",\"\",CONCATENATE(\"*11....+\",VLOOKUP(16-(LEN(N1752)),'1'!$A$1:$B$16,2,TRUE),N1752,\" 81..40+\",VLOOKUP(16-(LEN(O1752)),'1'!$A$1:$B$16,2,TRUE),O1752,\" 82..40+\",VLOOKUP(16-(LEN(O1752)),'1'!$A$1:$B$16,2,TRUE),P1752,\" 71....+0000000000000000 \"))","v":""},null,""]
[null,{"$f":"IF(I1753=\"\",\"\",ROWS($A$3:A1753))","v":""},"","","","","","","","",{"$f":"IFERROR(SMALL($B$3:$B$2002,ROWS($A$3:A1753)),\"\")","v":""},"","",null,"","","",{"$f":"IF(O1753=\"\",\"\",CONCATENATE(\"*11....+\",VLOOKUP(16-(LEN(N1753)),'1'!$A$1:$B$16,2,TRUE),N1753,\" 81..40+\",VLOOKUP(16-(LEN(O1753)),'1'!$A$1:$B$16,2,TRUE),O1753,\" 82..40+\",VLOOKUP(16-(LEN(O1753)),'1'!$A$1:$B$16,2,TRUE),P1753,\" 71....+0000000000000000 \"))","v":""},null,""]
[null,{"$f":"IF(I1754=\"\",\"\",ROWS($A$3:A1754))","v":""},"","","","","","","","",{"$f":"IFERROR(SMALL($B$3:$B$2002,ROWS($A$3:A1754)),\"\")","v":""},"","",null,"","","",{"$f":"IF(O1754=\"\",\"\",CONCATENATE(\"*11....+\",VLOOKUP(16-(LEN(N1754)),'1'!$A$1:$B$16,2,TRUE),N1754,\" 81..40+\",VLOOKUP(16-(LEN(O1754)),'1'!$A$1:$B$16,2,TRUE),O1754,\" 82..40+\",VLOOKUP(16-(LEN(O1754)),'1'!$A$1:$B$16,2,TRUE),P1754,\" 71....+0000000000000000 \"))","v":""},null,""]
[null,{"$f":"IF(I1755=\"\",\"\",ROWS($A$3:A1755))","v":""},"","","","","","","","",{"$f":"IFERROR(SMALL($B$3:$B$2002,ROWS($A$3:A1755)),\"\")","v":""},"","",null,"","","",{"$f":"IF(O1755=\"\",\"\",CONCATENATE(\"*11....+\",VLOOKUP(16-(LEN(N1755)),'1'!$A$1:$B$16,2,TRUE),N1755,\" 81..40+\",VLOOKUP(16-(LEN(O1755)),'1'!$A$1:$B$16,2,TRUE),O1755,\" 82..40+\",VLOOKUP(16-(LEN(O1755)),'1'!$A$1:$B$16,2,TRUE),P1755,\" 71....+0000000000000000 \"))","v":""},null,""]
[null,{"$f":"IF(I1756=\"\",\"\",ROWS($A$3:A1756))","v":""},"","","","","","","","",{"$f":"IFERROR(SMALL($B$3:$B$2002,ROWS($A$3:A1756)),\"\")","v":""},"","",null,"","","",{"$f":"IF(O1756=\"\",\"\",CONCATENATE(\"*11....+\",VLOOKUP(16-(LEN(N1756)),'1'!$A$1:$B$16,2,TRUE),N1756,\" 81..40+\",VLOOKUP(16-(LEN(O1756)),'1'!$A$1:$B$16,2,TRUE),O1756,\" 82..40+\",VLOOKUP(16-(LEN(O1756)),'1'!$A$1:$B$16,2,TRUE),P1756,\" 71....+0000000000000000 \"))","v":""},null,""]
[null,{"$f":"IF(I1757=\"\",\"\",ROWS($A$3:A1757))","v":""},"","","","","","","","",{"$f":"IFERROR(SMALL($B$3:$B$2002,ROWS($A$3:A1757)),\"\")","v":""},"","",null,"","","",{"$f":"IF(O1757=\"\",\"\",CONCATENATE(\"*11....+\",VLOOKUP(16-(LEN(N1757)),'1'!$A$1:$B$16,2,TRUE),N1757,\" 81..40+\",VLOOKUP(16-(LEN(O1757)),'1'!$A$1:$B$16,2,TRUE),O1757,\" 82..40+\",VLOOKUP(16-(LEN(O1757)),'1'!$A$1:$B$16,2,TRUE),P1757,\" 71....+0000000000000000 \"))","v":""},null,""]
[null,{"$f":"IF(I1758=\"\",\"\",ROWS($A$3:A1758))","v":""},"","","","","","","","",{"$f":"IFERROR(SMALL($B$3:$B$2002,ROWS($A$3:A1758)),\"\")","v":""},"","",null,"","","",{"$f":"IF(O1758=\"\",\"\",CONCATENATE(\"*11....+\",VLOOKUP(16-(LEN(N1758)),'1'!$A$1:$B$16,2,TRUE),N1758,\" 81..40+\",VLOOKUP(16-(LEN(O1758)),'1'!$A$1:$B$16,2,TRUE),O1758,\" 82..40+\",VLOOKUP(16-(LEN(O1758)),'1'!$A$1:$B$16,2,TRUE),P1758,\" 71....+0000000000000000 \"))","v":""},null,""]
[null,{"$f":"IF(I1759=\"\",\"\",ROWS($A$3:A1759))","v":""},"","","","","","","","",{"$f":"IFERROR(SMALL($B$3:$B$2002,ROWS($A$3:A1759)),\"\")","v":""},"","",null,"","","",{"$f":"IF(O1759=\"\",\"\",CONCATENATE(\"*11....+\",VLOOKUP(16-(LEN(N1759)),'1'!$A$1:$B$16,2,TRUE),N1759,\" 81..40+\",VLOOKUP(16-(LEN(O1759)),'1'!$A$1:$B$16,2,TRUE),O1759,\" 82..40+\",VLOOKUP(16-(LEN(O1759)),'1'!$A$1:$B$16,2,TRUE),P1759,\" 71....+0000000000000000 \"))","v":""},null,""]
[null,{"$f":"IF(I1760=\"\",\"\",ROWS($A$3:A1760))","v":""},"","","","","","","","",{"$f":"IFERROR(SMALL($B$3:$B$2002,ROWS($A$3:A1760)),\"\")","v":""},"","",null,"","","",{"$f":"IF(O1760=\"\",\"\",CONCATENATE(\"*11....+\",VLOOKUP(16-(LEN(N1760)),'1'!$A$1:$B$16,2,TRUE),N1760,\" 81..40+\",VLOOKUP(16-(LEN(O1760)),'1'!$A$1:$B$16,2,TRUE),O1760,\" 82..40+\",VLOOKUP(16-(LEN(O1760)),'1'!$A$1:$B$16,2,TRUE),P1760,\" 71....+0000000000000000 \"))","v":""},null,""]
[null,{"$f":"IF(I1761=\"\",\"\",ROWS($A$3:A1761))","v":""},"","","","","","","","",{"$f":"IFERROR(SMALL($B$3:$B$2002,ROWS($A$3:A1761)),\"\")","v":""},"","",null,"","","",{"$f":"IF(O1761=\"\",\"\",CONCATENATE(\"*11....+\",VLOOKUP(16-(LEN(N1761)),'1'!$A$1:$B$16,2,TRUE),N1761,\" 81..40+\",VLOOKUP(16-(LEN(O1761)),'1'!$A$1:$B$16,2,TRUE),O1761,\" 82..40+\",VLOOKUP(16-(LEN(O1761)),'1'!$A$1:$B$16,2,TRUE),P1761,\" 71....+0000000000000000 \"))","v":""},null,""]
[null,{"$f":"IF(I1762=\"\",\"\",ROWS($A$3:A1762))","v":""},"","","","","","","","",{"$f":"IFERROR(SMALL($B$3:$B$2002,ROWS($A$3:A1762)),\"\")","v":""},"","",null,"","","",{"$f":"IF(O1762=\"\",\"\",CONCATENATE(\"*11....+\",VLOOKUP(16-(LEN(N1762)),'1'!$A$1:$B$16,2,TRUE),N1762,\" 81..40+\",VLOOKUP(16-(LEN(O1762)),'1'!$A$1:$B$16,2,TRUE),O1762,\" 82..40+\",VLOOKUP(16-(LEN(O1762)),'1'!$A$1:$B$16,2,TRUE),P1762,\" 71....+0000000000000000 \"))","v":""},null,""]
[null,{"$f":"IF(I1763=\"\",\"\",ROWS($A$3:A1763))","v":""},"","","","","","","","",{"$f":"IFERROR(SMALL($B$3:$B$2002,ROWS($A$3:A1763)),\"\")","v":""},"","",null,"","","",{"$f":"IF(O1763=\"\",\"\",CONCATENATE(\"*11....+\",VLOOKUP(16-(LEN(N1763)),'1'!$A$1:$B$16,2,TRUE),N1763,\" 81..40+\",VLOOKUP(16-(LEN(O1763)),'1'!$A$1:$B$16,2,TRUE),O1763,\" 82..40+\",VLOOKUP(16-(LEN(O1763)),'1'!$A$1:$B$16,2,TRUE),P1763,\" 71....+0000000000000000 \"))","v":""},null,""]
[null,{"$f":"IF(I1764=\"\",\"\",ROWS($A$3:A1764))","v":""},"","","","","","","","",{"$f":"IFERROR(SMALL($B$3:$B$2002,ROWS($A$3:A1764)),\"\")","v":""},"","",null,"","","",{"$f":"IF(O1764=\"\",\"\",CONCATENATE(\"*11....+\",VLOOKUP(16-(LEN(N1764)),'1'!$A$1:$B$16,2,TRUE),N1764,\" 81..40+\",VLOOKUP(16-(LEN(O1764)),'1'!$A$1:$B$16,2,TRUE),O1764,\" 82..40+\",VLOOKUP(16-(LEN(O1764)),'1'!$A$1:$B$16,2,TRUE),P1764,\" 71....+0000000000000000 \"))","v":""},null,""]
[null,{"$f":"IF(I1765=\"\",\"\",ROWS($A$3:A1765))","v":""},"","","","","","","","",{"$f":"IFERROR(SMALL($B$3:$B$2002,ROWS($A$3:A1765)),\"\")","v":""},"","",null,"","","",{"$f":"IF(O1765=\"\",\"\",CONCATENATE(\"*11....+\",VLOOKUP(16-(LEN(N1765)),'1'!$A$1:$B$16,2,TRUE),N1765,\" 81..40+\",VLOOKUP(16-(LEN(O1765)),'1'!$A$1:$B$16,2,TRUE),O1765,\" 82..40+\",VLOOKUP(16-(LEN(O1765)),'1'!$A$1:$B$16,2,TRUE),P1765,\" 71....+0000000000000000 \"))","v":""},null,""]
[null,{"$f":"IF(I1766=\"\",\"\",ROWS($A$3:A1766))","v":""},"","","","","","","","",{"$f":"IFERROR(SMALL($B$3:$B$2002,ROWS($A$3:A1766)),\"\")","v":""},"","",null,"","","",{"$f":"IF(O1766=\"\",\"\",CONCATENATE(\"*11....+\",VLOOKUP(16-(LEN(N1766)),'1'!$A$1:$B$16,2,TRUE),N1766,\" 81..40+\",VLOOKUP(16-(LEN(O1766)),'1'!$A$1:$B$16,2,TRUE),O1766,\" 82..40+\",VLOOKUP(16-(LEN(O1766)),'1'!$A$1:$B$16,2,TRUE),P1766,\" 71....+0000000000000000 \"))","v":""},null,""]
[null,{"$f":"IF(I1767=\"\",\"\",ROWS($A$3:A1767))","v":""},"","","","","","","","",{"$f":"IFERROR(SMALL($B$3:$B$2002,ROWS($A$3:A1767)),\"\")","v":""},"","",null,"","","",{"$f":"IF(O1767=\"\",\"\",CONCATENATE(\"*11....+\",VLOOKUP(16-(LEN(N1767)),'1'!$A$1:$B$16,2,TRUE),N1767,\" 81..40+\",VLOOKUP(16-(LEN(O1767)),'1'!$A$1:$B$16,2,TRUE),O1767,\" 82..40+\",VLOOKUP(16-(LEN(O1767)),'1'!$A$1:$B$16,2,TRUE),P1767,\" 71....+0000000000000000 \"))","v":""},null,""]
[null,{"$f":"IF(I1768=\"\",\"\",ROWS($A$3:A1768))","v":""},"","","","","","","","",{"$f":"IFERROR(SMALL($B$3:$B$2002,ROWS($A$3:A1768)),\"\")","v":""},"","",null,"","","",{"$f":"IF(O1768=\"\",\"\",CONCATENATE(\"*11....+\",VLOOKUP(16-(LEN(N1768)),'1'!$A$1:$B$16,2,TRUE),N1768,\" 81..40+\",VLOOKUP(16-(LEN(O1768)),'1'!$A$1:$B$16,2,TRUE),O1768,\" 82..40+\",VLOOKUP(16-(LEN(O1768)),'1'!$A$1:$B$16,2,TRUE),P1768,\" 71....+0000000000000000 \"))","v":""},null,""]
[null,{"$f":"IF(I1769=\"\",\"\",ROWS($A$3:A1769))","v":""},"","","","","","","","",{"$f":"IFERROR(SMALL($B$3:$B$2002,ROWS($A$3:A1769)),\"\")","v":""},"","",null,"","","",{"$f":"IF(O1769=\"\",\"\",CONCATENATE(\"*11....+\",VLOOKUP(16-(LEN(N1769)),'1'!$A$1:$B$16,2,TRUE),N1769,\" 81..40+\",VLOOKUP(16-(LEN(O1769)),'1'!$A$1:$B$16,2,TRUE),O1769,\" 82..40+\",VLOOKUP(16-(LEN(O1769)),'1'!$A$1:$B$16,2,TRUE),P1769,\" 71....+0000000000000000 \"))","v":""},null,""]
[null,{"$f":"IF(I1770=\"\",\"\",ROWS($A$3:A1770))","v":""},"","","","","","","","",{"$f":"IFERROR(SMALL($B$3:$B$2002,ROWS($A$3:A1770)),\"\")","v":""},"","",null,"","","",{"$f":"IF(O1770=\"\",\"\",CONCATENATE(\"*11....+\",VLOOKUP(16-(LEN(N1770)),'1'!$A$1:$B$16,2,TRUE),N1770,\" 81..40+\",VLOOKUP(16-(LEN(O1770)),'1'!$A$1:$B$16,2,TRUE),O1770,\" 82..40+\",VLOOKUP(16-(LEN(O1770)),'1'!$A$1:$B$16,2,TRUE),P1770,\" 71....+0000000000000000 \"))","v":""},null,""]
[null,{"$f":"IF(I1771=\"\",\"\",ROWS($A$3:A1771))","v":""},"","","","","","","","",{"$f":"IFERROR(SMALL($B$3:$B$2002,ROWS($A$3:A1771)),\"\")","v":""},"","",null,"","","",{"$f":"IF(O1771=\"\",\"\",CONCATENATE(\"*11....+\",VLOOKUP(16-(LEN(N1771)),'1'!$A$1:$B$16,2,TRUE),N1771,\" 81..40+\",VLOOKUP(16-(LEN(O1771)),'1'!$A$1:$B$16,2,TRUE),O1771,\" 82..40+\",VLOOKUP(16-(LEN(O1771)),'1'!$A$1:$B$16,2,TRUE),P1771,\" 71....+0000000000000000 \"))","v":""},null,""]
[null,{"$f":"IF(I1772=\"\",\"\",ROWS($A$3:A1772))","v":""},"","","","","","","","",{"$f":"IFERROR(SMALL($B$3:$B$2002,ROWS($A$3:A1772)),\"\")","v":""},"","",null,"","","",{"$f":"IF(O1772=\"\",\"\",CONCATENATE(\"*11....+\",VLOOKUP(16-(LEN(N1772)),'1'!$A$1:$B$16,2,TRUE),N1772,\" 81..40+\",VLOOKUP(16-(LEN(O1772)),'1'!$A$1:$B$16,2,TRUE),O1772,\" 82..40+\",VLOOKUP(16-(LEN(O1772)),'1'!$A$1:$B$16,2,TRUE),P1772,\" 71....+0000000000000000 \"))","v":""},null,""]
[null,{"$f":"IF(I1773=\"\",\"\",ROWS($A$3:A1773))","v":""},"","","","","","","","",{"$f":"IFERROR(SMALL($B$3:$B$2002,ROWS($A$3:A1773)),\"\")","v":""},"","",null,"","","",{"$f":"IF(O1773=\"\",\"\",CONCATENATE(\"*11....+\",VLOOKUP(16-(LEN(N1773)),'1'!$A$1:$B$16,2,TRUE),N1773,\" 81..40+\",VLOOKUP(16-(LEN(O1773)),'1'!$A$1:$B$16,2,TRUE),O1773,\" 82..40+\",VLOOKUP(16-(LEN(O1773)),'1'!$A$1:$B$16,2,TRUE),P1773,\" 71....+0000000000000000 \"))","v":""},null,""]
[null,{"$f":"IF(I1774=\"\",\"\",ROWS($A$3:A1774))","v":""},"","","","","","","","",{"$f":"IFERROR(SMALL($B$3:$B$2002,ROWS($A$3:A1774)),\"\")","v":""},"","",null,"","","",{"$f":"IF(O1774=\"\",\"\",CONCATENATE(\"*11....+\",VLOOKUP(16-(LEN(N1774)),'1'!$A$1:$B$16,2,TRUE),N1774,\" 81..40+\",VLOOKUP(16-(LEN(O1774)),'1'!$A$1:$B$16,2,TRUE),O1774,\" 82..40+\",VLOOKUP(16-(LEN(O1774)),'1'!$A$1:$B$16,2,TRUE),P1774,\" 71....+0000000000000000 \"))","v":""},null,""]
[null,{"$f":"IF(I1775=\"\",\"\",ROWS($A$3:A1775))","v":""},"","","","","","","","",{"$f":"IFERROR(SMALL($B$3:$B$2002,ROWS($A$3:A1775)),\"\")","v":""},"","",null,"","","",{"$f":"IF(O1775=\"\",\"\",CONCATENATE(\"*11....+\",VLOOKUP(16-(LEN(N1775)),'1'!$A$1:$B$16,2,TRUE),N1775,\" 81..40+\",VLOOKUP(16-(LEN(O1775)),'1'!$A$1:$B$16,2,TRUE),O1775,\" 82..40+\",VLOOKUP(16-(LEN(O1775)),'1'!$A$1:$B$16,2,TRUE),P1775,\" 71....+0000000000000000 \"))","v":""},null,""]
[null,{"$f":"IF(I1776=\"\",\"\",ROWS($A$3:A1776))","v":""},"","","","","","","","",{"$f":"IFERROR(SMALL($B$3:$B$2002,ROWS($A$3:A1776)),\"\")","v":""},"","",null,"","","",{"$f":"IF(O1776=\"\",\"\",CONCATENATE(\"*11....+\",VLOOKUP(16-(LEN(N1776)),'1'!$A$1:$B$16,2,TRUE),N1776,\" 81..40+\",VLOOKUP(16-(LEN(O1776)),'1'!$A$1:$B$16,2,TRUE),O1776,\" 82..40+\",VLOOKUP(16-(LEN(O1776)),'1'!$A$1:$B$16,2,TRUE),P1776,\" 71....+0000000000000000 \"))","v":""},null,""]
[null,{"$f":"IF(I1777=\"\",\"\",ROWS($A$3:A1777))","v":""},"","","","","","","","",{"$f":"IFERROR(SMALL($B$3:$B$2002,ROWS($A$3:A1777)),\"\")","v":""},"","",null,"","","",{"$f":"IF(O1777=\"\",\"\",CONCATENATE(\"*11....+\",VLOOKUP(16-(LEN(N1777)),'1'!$A$1:$B$16,2,TRUE),N1777,\" 81..40+\",VLOOKUP(16-(LEN(O1777)),'1'!$A$1:$B$16,2,TRUE),O1777,\" 82..40+\",VLOOKUP(16-(LEN(O1777)),'1'!$A$1:$B$16,2,TRUE),P1777,\" 71....+0000000000000000 \"))","v":""},null,""]
[null,{"$f":"IF(I1778=\"\",\"\",ROWS($A$3:A1778))","v":""},"","","","","","","","",{"$f":"IFERROR(SMALL($B$3:$B$2002,ROWS($A$3:A1778)),\"\")","v":""},"","",null,"","","",{"$f":"IF(O1778=\"\",\"\",CONCATENATE(\"*11....+\",VLOOKUP(16-(LEN(N1778)),'1'!$A$1:$B$16,2,TRUE),N1778,\" 81..40+\",VLOOKUP(16-(LEN(O1778)),'1'!$A$1:$B$16,2,TRUE),O1778,\" 82..40+\",VLOOKUP(16-(LEN(O1778)),'1'!$A$1:$B$16,2,TRUE),P1778,\" 71....+0000000000000000 \"))","v":""},null,""]
[null,{"$f":"IF(I1779=\"\",\"\",ROWS($A$3:A1779))","v":""},"","","","","","","","",{"$f":"IFERROR(SMALL($B$3:$B$2002,ROWS($A$3:A1779)),\"\")","v":""},"","",null,"","","",{"$f":"IF(O1779=\"\",\"\",CONCATENATE(\"*11....+\",VLOOKUP(16-(LEN(N1779)),'1'!$A$1:$B$16,2,TRUE),N1779,\" 81..40+\",VLOOKUP(16-(LEN(O1779)),'1'!$A$1:$B$16,2,TRUE),O1779,\" 82..40+\",VLOOKUP(16-(LEN(O1779)),'1'!$A$1:$B$16,2,TRUE),P1779,\" 71....+0000000000000000 \"))","v":""},null,""]
[null,{"$f":"IF(I1780=\"\",\"\",ROWS($A$3:A1780))","v":""},"","","","","","","","",{"$f":"IFERROR(SMALL($B$3:$B$2002,ROWS($A$3:A1780)),\"\")","v":""},"","",null,"","","",{"$f":"IF(O1780=\"\",\"\",CONCATENATE(\"*11....+\",VLOOKUP(16-(LEN(N1780)),'1'!$A$1:$B$16,2,TRUE),N1780,\" 81..40+\",VLOOKUP(16-(LEN(O1780)),'1'!$A$1:$B$16,2,TRUE),O1780,\" 82..40+\",VLOOKUP(16-(LEN(O1780)),'1'!$A$1:$B$16,2,TRUE),P1780,\" 71....+0000000000000000 \"))","v":""},null,""]
[null,{"$f":"IF(I1781=\"\",\"\",ROWS($A$3:A1781))","v":""},"","","","","","","","",{"$f":"IFERROR(SMALL($B$3:$B$2002,ROWS($A$3:A1781)),\"\")","v":""},"","",null,"","","",{"$f":"IF(O1781=\"\",\"\",CONCATENATE(\"*11....+\",VLOOKUP(16-(LEN(N1781)),'1'!$A$1:$B$16,2,TRUE),N1781,\" 81..40+\",VLOOKUP(16-(LEN(O1781)),'1'!$A$1:$B$16,2,TRUE),O1781,\" 82..40+\",VLOOKUP(16-(LEN(O1781)),'1'!$A$1:$B$16,2,TRUE),P1781,\" 71....+0000000000000000 \"))","v":""},null,""]
[null,{"$f":"IF(I1782=\"\",\"\",ROWS($A$3:A1782))","v":""},"","","","","","","","",{"$f":"IFERROR(SMALL($B$3:$B$2002,ROWS($A$3:A1782)),\"\")","v":""},"","",null,"","","",{"$f":"IF(O1782=\"\",\"\",CONCATENATE(\"*11....+\",VLOOKUP(16-(LEN(N1782)),'1'!$A$1:$B$16,2,TRUE),N1782,\" 81..40+\",VLOOKUP(16-(LEN(O1782)),'1'!$A$1:$B$16,2,TRUE),O1782,\" 82..40+\",VLOOKUP(16-(LEN(O1782)),'1'!$A$1:$B$16,2,TRUE),P1782,\" 71....+0000000000000000 \"))","v":""},null,""]
[null,{"$f":"IF(I1783=\"\",\"\",ROWS($A$3:A1783))","v":""},"","","","","","","","",{"$f":"IFERROR(SMALL($B$3:$B$2002,ROWS($A$3:A1783)),\"\")","v":""},"","",null,"","","",{"$f":"IF(O1783=\"\",\"\",CONCATENATE(\"*11....+\",VLOOKUP(16-(LEN(N1783)),'1'!$A$1:$B$16,2,TRUE),N1783,\" 81..40+\",VLOOKUP(16-(LEN(O1783)),'1'!$A$1:$B$16,2,TRUE),O1783,\" 82..40+\",VLOOKUP(16-(LEN(O1783)),'1'!$A$1:$B$16,2,TRUE),P1783,\" 71....+0000000000000000 \"))","v":""},null,""]
[null,{"$f":"IF(I1784=\"\",\"\",ROWS($A$3:A1784))","v":""},"","","","","","","","",{"$f":"IFERROR(SMALL($B$3:$B$2002,ROWS($A$3:A1784)),\"\")","v":""},"","",null,"","","",{"$f":"IF(O1784=\"\",\"\",CONCATENATE(\"*11....+\",VLOOKUP(16-(LEN(N1784)),'1'!$A$1:$B$16,2,TRUE),N1784,\" 81..40+\",VLOOKUP(16-(LEN(O1784)),'1'!$A$1:$B$16,2,TRUE),O1784,\" 82..40+\",VLOOKUP(16-(LEN(O1784)),'1'!$A$1:$B$16,2,TRUE),P1784,\" 71....+0000000000000000 \"))","v":""},null,""]
[null,{"$f":"IF(I1785=\"\",\"\",ROWS($A$3:A1785))","v":""},"","","","","","","","",{"$f":"IFERROR(SMALL($B$3:$B$2002,ROWS($A$3:A1785)),\"\")","v":""},"","",null,"","","",{"$f":"IF(O1785=\"\",\"\",CONCATENATE(\"*11....+\",VLOOKUP(16-(LEN(N1785)),'1'!$A$1:$B$16,2,TRUE),N1785,\" 81..40+\",VLOOKUP(16-(LEN(O1785)),'1'!$A$1:$B$16,2,TRUE),O1785,\" 82..40+\",VLOOKUP(16-(LEN(O1785)),'1'!$A$1:$B$16,2,TRUE),P1785,\" 71....+0000000000000000 \"))","v":""},null,""]
[null,{"$f":"IF(I1786=\"\",\"\",ROWS($A$3:A1786))","v":""},"","","","","","","","",{"$f":"IFERROR(SMALL($B$3:$B$2002,ROWS($A$3:A1786)),\"\")","v":""},"","",null,"","","",{"$f":"IF(O1786=\"\",\"\",CONCATENATE(\"*11....+\",VLOOKUP(16-(LEN(N1786)),'1'!$A$1:$B$16,2,TRUE),N1786,\" 81..40+\",VLOOKUP(16-(LEN(O1786)),'1'!$A$1:$B$16,2,TRUE),O1786,\" 82..40+\",VLOOKUP(16-(LEN(O1786)),'1'!$A$1:$B$16,2,TRUE),P1786,\" 71....+0000000000000000 \"))","v":""},null,""]
[null,{"$f":"IF(I1787=\"\",\"\",ROWS($A$3:A1787))","v":""},"","","","","","","","",{"$f":"IFERROR(SMALL($B$3:$B$2002,ROWS($A$3:A1787)),\"\")","v":""},"","",null,"","","",{"$f":"IF(O1787=\"\",\"\",CONCATENATE(\"*11....+\",VLOOKUP(16-(LEN(N1787)),'1'!$A$1:$B$16,2,TRUE),N1787,\" 81..40+\",VLOOKUP(16-(LEN(O1787)),'1'!$A$1:$B$16,2,TRUE),O1787,\" 82..40+\",VLOOKUP(16-(LEN(O1787)),'1'!$A$1:$B$16,2,TRUE),P1787,\" 71....+0000000000000000 \"))","v":""},null,""]
[null,{"$f":"IF(I1788=\"\",\"\",ROWS($A$3:A1788))","v":""},"","","","","","","","",{"$f":"IFERROR(SMALL($B$3:$B$2002,ROWS($A$3:A1788)),\"\")","v":""},"","",null,"","","",{"$f":"IF(O1788=\"\",\"\",CONCATENATE(\"*11....+\",VLOOKUP(16-(LEN(N1788)),'1'!$A$1:$B$16,2,TRUE),N1788,\" 81..40+\",VLOOKUP(16-(LEN(O1788)),'1'!$A$1:$B$16,2,TRUE),O1788,\" 82..40+\",VLOOKUP(16-(LEN(O1788)),'1'!$A$1:$B$16,2,TRUE),P1788,\" 71....+0000000000000000 \"))","v":""},null,""]
[null,{"$f":"IF(I1789=\"\",\"\",ROWS($A$3:A1789))","v":""},"","","","","","","","",{"$f":"IFERROR(SMALL($B$3:$B$2002,ROWS($A$3:A1789)),\"\")","v":""},"","",null,"","","",{"$f":"IF(O1789=\"\",\"\",CONCATENATE(\"*11....+\",VLOOKUP(16-(LEN(N1789)),'1'!$A$1:$B$16,2,TRUE),N1789,\" 81..40+\",VLOOKUP(16-(LEN(O1789)),'1'!$A$1:$B$16,2,TRUE),O1789,\" 82..40+\",VLOOKUP(16-(LEN(O1789)),'1'!$A$1:$B$16,2,TRUE),P1789,\" 71....+0000000000000000 \"))","v":""},null,""]
[null,{"$f":"IF(I1790=\"\",\"\",ROWS($A$3:A1790))","v":""},"","","","","","","","",{"$f":"IFERROR(SMALL($B$3:$B$2002,ROWS($A$3:A1790)),\"\")","v":""},"","",null,"","","",{"$f":"IF(O1790=\"\",\"\",CONCATENATE(\"*11....+\",VLOOKUP(16-(LEN(N1790)),'1'!$A$1:$B$16,2,TRUE),N1790,\" 81..40+\",VLOOKUP(16-(LEN(O1790)),'1'!$A$1:$B$16,2,TRUE),O1790,\" 82..40+\",VLOOKUP(16-(LEN(O1790)),'1'!$A$1:$B$16,2,TRUE),P1790,\" 71....+0000000000000000 \"))","v":""},null,""]
[null,{"$f":"IF(I1791=\"\",\"\",ROWS($A$3:A1791))","v":""},"","","","","","","","",{"$f":"IFERROR(SMALL($B$3:$B$2002,ROWS($A$3:A1791)),\"\")","v":""},"","",null,"","","",{"$f":"IF(O1791=\"\",\"\",CONCATENATE(\"*11....+\",VLOOKUP(16-(LEN(N1791)),'1'!$A$1:$B$16,2,TRUE),N1791,\" 81..40+\",VLOOKUP(16-(LEN(O1791)),'1'!$A$1:$B$16,2,TRUE),O1791,\" 82..40+\",VLOOKUP(16-(LEN(O1791)),'1'!$A$1:$B$16,2,TRUE),P1791,\" 71....+0000000000000000 \"))","v":""},null,""]
[null,{"$f":"IF(I1792=\"\",\"\",ROWS($A$3:A1792))","v":""},"","","","","","","","",{"$f":"IFERROR(SMALL($B$3:$B$2002,ROWS($A$3:A1792)),\"\")","v":""},"","",null,"","","",{"$f":"IF(O1792=\"\",\"\",CONCATENATE(\"*11....+\",VLOOKUP(16-(LEN(N1792)),'1'!$A$1:$B$16,2,TRUE),N1792,\" 81..40+\",VLOOKUP(16-(LEN(O1792)),'1'!$A$1:$B$16,2,TRUE),O1792,\" 82..40+\",VLOOKUP(16-(LEN(O1792)),'1'!$A$1:$B$16,2,TRUE),P1792,\" 71....+0000000000000000 \"))","v":""},null,""]
[null,{"$f":"IF(I1793=\"\",\"\",ROWS($A$3:A1793))","v":""},"","","","","","","","",{"$f":"IFERROR(SMALL($B$3:$B$2002,ROWS($A$3:A1793)),\"\")","v":""},"","",null,"","","",{"$f":"IF(O1793=\"\",\"\",CONCATENATE(\"*11....+\",VLOOKUP(16-(LEN(N1793)),'1'!$A$1:$B$16,2,TRUE),N1793,\" 81..40+\",VLOOKUP(16-(LEN(O1793)),'1'!$A$1:$B$16,2,TRUE),O1793,\" 82..40+\",VLOOKUP(16-(LEN(O1793)),'1'!$A$1:$B$16,2,TRUE),P1793,\" 71....+0000000000000000 \"))","v":""},null,""]
[null,{"$f":"IF(I1794=\"\",\"\",ROWS($A$3:A1794))","v":""},"","","","","","","","",{"$f":"IFERROR(SMALL($B$3:$B$2002,ROWS($A$3:A1794)),\"\")","v":""},"","",null,"","","",{"$f":"IF(O1794=\"\",\"\",CONCATENATE(\"*11....+\",VLOOKUP(16-(LEN(N1794)),'1'!$A$1:$B$16,2,TRUE),N1794,\" 81..40+\",VLOOKUP(16-(LEN(O1794)),'1'!$A$1:$B$16,2,TRUE),O1794,\" 82..40+\",VLOOKUP(16-(LEN(O1794)),'1'!$A$1:$B$16,2,TRUE),P1794,\" 71....+0000000000000000 \"))","v":""},null,""]
[null,{"$f":"IF(I1795=\"\",\"\",ROWS($A$3:A1795))","v":""},"","","","","","","","",{"$f":"IFERROR(SMALL($B$3:$B$2002,ROWS($A$3:A1795)),\"\")","v":""},"","",null,"","","",{"$f":"IF(O1795=\"\",\"\",CONCATENATE(\"*11....+\",VLOOKUP(16-(LEN(N1795)),'1'!$A$1:$B$16,2,TRUE),N1795,\" 81..40+\",VLOOKUP(16-(LEN(O1795)),'1'!$A$1:$B$16,2,TRUE),O1795,\" 82..40+\",VLOOKUP(16-(LEN(O1795)),'1'!$A$1:$B$16,2,TRUE),P1795,\" 71....+0000000000000000 \"))","v":""},null,""]
[null,{"$f":"IF(I1796=\"\",\"\",ROWS($A$3:A1796))","v":""},{"$f":"IF(LEN(A1796)=59,ROUND(VALUE(MID(A1796,23,9)),3),\"\")","v":""},{"$f":"IF(LEN(A1796)=24,\"\",\"\")","v":""},{"$f":"IF(LEN(A1796)=63,ROUND(VALUE(MID(A1796,23,12)),3),\"\")","v":""},{"$f":"IF(LEN(A1796)=59,ROUND(VALUE(MID(A1796,37,9)),3),\"\")","v":""},{"$f":"IF(LEN(A1796)=24,\"\",\"\")","v":""},{"$f":"IF(LEN(A1796)=63,ROUND(VALUE(MID(A1796,39,12)),3),\"\")","v":""},{"$f":"IF(AND(C1796=\"\",D1796=\"\",E1796=\"\"),\"\",ROUND(CONCATENATE(C1796,D1796,E1796),3))","v":""},{"$f":"IF(AND(C1796=\"\",D1796=\"\",E1796=\"\"),\"\",ROUND(CONCATENATE(F1796,G1796,H1796),3))","v":""},{"$f":"IFERROR(SMALL($B$3:$B$2002,ROWS($A$3:A1796)),\"\")","v":""},{"$f":"IF(K1796=\"\",\"\",ROUND(VALUE(VLOOKUP(K1796,$B$3:$J$2002,8,TRUE)),3))","v":""},{"$f":"IF(K1796=\"\",\"\",ROUND(VALUE(VLOOKUP(K1796,$B$3:$J$2002,9,TRUE)),3))","v":""},null,{"$f":"IF(L1796=\"\",\"\",L1796/0.001)","v":""},"",{"$f":"IF(O1796=\"\",\"\",16-LEN(N1796))","v":""},{"$f":"IF(O1796=\"\",\"\",CONCATENATE(\"*11....+\",VLOOKUP(16-(LEN(N1796)),'1'!$A$1:$B$16,2,TRUE),N1796,\" 81..40+\",VLOOKUP(16-(LEN(O1796)),'1'!$A$1:$B$16,2,TRUE),O1796,\" 82..40+\",VLOOKUP(16-(LEN(O1796)),'1'!$A$1:$B$16,2,TRUE),P1796,\" 71....+0000000000000000 \"))","v":""},null,{"$f":"IF(O1796=\"\",\"\",CONCATENATE(N1796,\",\",L1796,\",\",M1796))","v":""}]
[null,{"$f":"IF(I1797=\"\",\"\",ROWS($A$3:A1797))","v":""},"","","","","","","","",{"$f":"IFERROR(SMALL($B$3:$B$2002,ROWS($A$3:A1797)),\"\")","v":""},"","",null,"","","",{"$f":"IF(O1797=\"\",\"\",CONCATENATE(\"*11....+\",VLOOKUP(16-(LEN(N1797)),'1'!$A$1:$B$16,2,TRUE),N1797,\" 81..40+\",VLOOKUP(16-(LEN(O1797)),'1'!$A$1:$B$16,2,TRUE),O1797,\" 82..40+\",VLOOKUP(16-(LEN(O1797)),'1'!$A$1:$B$16,2,TRUE),P1797,\" 71....+0000000000000000 \"))","v":""},null,""]
[null,{"$f":"IF(I1798=\"\",\"\",ROWS($A$3:A1798))","v":""},"","","","","","","","",{"$f":"IFERROR(SMALL($B$3:$B$2002,ROWS($A$3:A1798)),\"\")","v":""},"","",null,"","","",{"$f":"IF(O1798=\"\",\"\",CONCATENATE(\"*11....+\",VLOOKUP(16-(LEN(N1798)),'1'!$A$1:$B$16,2,TRUE),N1798,\" 81..40+\",VLOOKUP(16-(LEN(O1798)),'1'!$A$1:$B$16,2,TRUE),O1798,\" 82..40+\",VLOOKUP(16-(LEN(O1798)),'1'!$A$1:$B$16,2,TRUE),P1798,\" 71....+0000000000000000 \"))","v":""},null,""]
[null,{"$f":"IF(I1799=\"\",\"\",ROWS($A$3:A1799))","v":""},"","","","","","","","",{"$f":"IFERROR(SMALL($B$3:$B$2002,ROWS($A$3:A1799)),\"\")","v":""},"","",null,"","","",{"$f":"IF(O1799=\"\",\"\",CONCATENATE(\"*11....+\",VLOOKUP(16-(LEN(N1799)),'1'!$A$1:$B$16,2,TRUE),N1799,\" 81..40+\",VLOOKUP(16-(LEN(O1799)),'1'!$A$1:$B$16,2,TRUE),O1799,\" 82..40+\",VLOOKUP(16-(LEN(O1799)),'1'!$A$1:$B$16,2,TRUE),P1799,\" 71....+0000000000000000 \"))","v":""},null,""]
[null,{"$f":"IF(I1800=\"\",\"\",ROWS($A$3:A1800))","v":""},"","","","","","","","",{"$f":"IFERROR(SMALL($B$3:$B$2002,ROWS($A$3:A1800)),\"\")","v":""},"","",null,"","","",{"$f":"IF(O1800=\"\",\"\",CONCATENATE(\"*11....+\",VLOOKUP(16-(LEN(N1800)),'1'!$A$1:$B$16,2,TRUE),N1800,\" 81..40+\",VLOOKUP(16-(LEN(O1800)),'1'!$A$1:$B$16,2,TRUE),O1800,\" 82..40+\",VLOOKUP(16-(LEN(O1800)),'1'!$A$1:$B$16,2,TRUE),P1800,\" 71....+0000000000000000 \"))","v":""},null,""]
[null,{"$f":"IF(I1801=\"\",\"\",ROWS($A$3:A1801))","v":""},"","","","","","","","",{"$f":"IFERROR(SMALL($B$3:$B$2002,ROWS($A$3:A1801)),\"\")","v":""},"","",null,"","","",{"$f":"IF(O1801=\"\",\"\",CONCATENATE(\"*11....+\",VLOOKUP(16-(LEN(N1801)),'1'!$A$1:$B$16,2,TRUE),N1801,\" 81..40+\",VLOOKUP(16-(LEN(O1801)),'1'!$A$1:$B$16,2,TRUE),O1801,\" 82..40+\",VLOOKUP(16-(LEN(O1801)),'1'!$A$1:$B$16,2,TRUE),P1801,\" 71....+0000000000000000 \"))","v":""},null,""]
[null,{"$f":"IF(I1802=\"\",\"\",ROWS($A$3:A1802))","v":""},"","","","","","","","",{"$f":"IFERROR(SMALL($B$3:$B$2002,ROWS($A$3:A1802)),\"\")","v":""},"","",null,"","","",{"$f":"IF(O1802=\"\",\"\",CONCATENATE(\"*11....+\",VLOOKUP(16-(LEN(N1802)),'1'!$A$1:$B$16,2,TRUE),N1802,\" 81..40+\",VLOOKUP(16-(LEN(O1802)),'1'!$A$1:$B$16,2,TRUE),O1802,\" 82..40+\",VLOOKUP(16-(LEN(O1802)),'1'!$A$1:$B$16,2,TRUE),P1802,\" 71....+0000000000000000 \"))","v":""},null,""]
[null,{"$f":"IF(I1803=\"\",\"\",ROWS($A$3:A1803))","v":""},"","","","","","","","",{"$f":"IFERROR(SMALL($B$3:$B$2002,ROWS($A$3:A1803)),\"\")","v":""},"","",null,"","","",{"$f":"IF(O1803=\"\",\"\",CONCATENATE(\"*11....+\",VLOOKUP(16-(LEN(N1803)),'1'!$A$1:$B$16,2,TRUE),N1803,\" 81..40+\",VLOOKUP(16-(LEN(O1803)),'1'!$A$1:$B$16,2,TRUE),O1803,\" 82..40+\",VLOOKUP(16-(LEN(O1803)),'1'!$A$1:$B$16,2,TRUE),P1803,\" 71....+0000000000000000 \"))","v":""},null,""]
[null,{"$f":"IF(I1804=\"\",\"\",ROWS($A$3:A1804))","v":""},"","","","","","","","",{"$f":"IFERROR(SMALL($B$3:$B$2002,ROWS($A$3:A1804)),\"\")","v":""},"","",null,"","","",{"$f":"IF(O1804=\"\",\"\",CONCATENATE(\"*11....+\",VLOOKUP(16-(LEN(N1804)),'1'!$A$1:$B$16,2,TRUE),N1804,\" 81..40+\",VLOOKUP(16-(LEN(O1804)),'1'!$A$1:$B$16,2,TRUE),O1804,\" 82..40+\",VLOOKUP(16-(LEN(O1804)),'1'!$A$1:$B$16,2,TRUE),P1804,\" 71....+0000000000000000 \"))","v":""},null,""]
[null,{"$f":"IF(I1805=\"\",\"\",ROWS($A$3:A1805))","v":""},"","","","","","","","",{"$f":"IFERROR(SMALL($B$3:$B$2002,ROWS($A$3:A1805)),\"\")","v":""},"","",null,"","","",{"$f":"IF(O1805=\"\",\"\",CONCATENATE(\"*11....+\",VLOOKUP(16-(LEN(N1805)),'1'!$A$1:$B$16,2,TRUE),N1805,\" 81..40+\",VLOOKUP(16-(LEN(O1805)),'1'!$A$1:$B$16,2,TRUE),O1805,\" 82..40+\",VLOOKUP(16-(LEN(O1805)),'1'!$A$1:$B$16,2,TRUE),P1805,\" 71....+0000000000000000 \"))","v":""},null,""]
[null,{"$f":"IF(I1806=\"\",\"\",ROWS($A$3:A1806))","v":""},"","","","","","","","",{"$f":"IFERROR(SMALL($B$3:$B$2002,ROWS($A$3:A1806)),\"\")","v":""},"","",null,"","","",{"$f":"IF(O1806=\"\",\"\",CONCATENATE(\"*11....+\",VLOOKUP(16-(LEN(N1806)),'1'!$A$1:$B$16,2,TRUE),N1806,\" 81..40+\",VLOOKUP(16-(LEN(O1806)),'1'!$A$1:$B$16,2,TRUE),O1806,\" 82..40+\",VLOOKUP(16-(LEN(O1806)),'1'!$A$1:$B$16,2,TRUE),P1806,\" 71....+0000000000000000 \"))","v":""},null,""]
[null,{"$f":"IF(I1807=\"\",\"\",ROWS($A$3:A1807))","v":""},"","","","","","","","",{"$f":"IFERROR(SMALL($B$3:$B$2002,ROWS($A$3:A1807)),\"\")","v":""},"","",null,"","","",{"$f":"IF(O1807=\"\",\"\",CONCATENATE(\"*11....+\",VLOOKUP(16-(LEN(N1807)),'1'!$A$1:$B$16,2,TRUE),N1807,\" 81..40+\",VLOOKUP(16-(LEN(O1807)),'1'!$A$1:$B$16,2,TRUE),O1807,\" 82..40+\",VLOOKUP(16-(LEN(O1807)),'1'!$A$1:$B$16,2,TRUE),P1807,\" 71....+0000000000000000 \"))","v":""},null,""]
[null,{"$f":"IF(I1808=\"\",\"\",ROWS($A$3:A1808))","v":""},"","","","","","","","",{"$f":"IFERROR(SMALL($B$3:$B$2002,ROWS($A$3:A1808)),\"\")","v":""},"","",null,"","","",{"$f":"IF(O1808=\"\",\"\",CONCATENATE(\"*11....+\",VLOOKUP(16-(LEN(N1808)),'1'!$A$1:$B$16,2,TRUE),N1808,\" 81..40+\",VLOOKUP(16-(LEN(O1808)),'1'!$A$1:$B$16,2,TRUE),O1808,\" 82..40+\",VLOOKUP(16-(LEN(O1808)),'1'!$A$1:$B$16,2,TRUE),P1808,\" 71....+0000000000000000 \"))","v":""},null,""]
[null,{"$f":"IF(I1809=\"\",\"\",ROWS($A$3:A1809))","v":""},"","","","","","","","",{"$f":"IFERROR(SMALL($B$3:$B$2002,ROWS($A$3:A1809)),\"\")","v":""},"","",null,"","","",{"$f":"IF(O1809=\"\",\"\",CONCATENATE(\"*11....+\",VLOOKUP(16-(LEN(N1809)),'1'!$A$1:$B$16,2,TRUE),N1809,\" 81..40+\",VLOOKUP(16-(LEN(O1809)),'1'!$A$1:$B$16,2,TRUE),O1809,\" 82..40+\",VLOOKUP(16-(LEN(O1809)),'1'!$A$1:$B$16,2,TRUE),P1809,\" 71....+0000000000000000 \"))","v":""},null,""]
[null,{"$f":"IF(I1810=\"\",\"\",ROWS($A$3:A1810))","v":""},"","","","","","","","",{"$f":"IFERROR(SMALL($B$3:$B$2002,ROWS($A$3:A1810)),\"\")","v":""},"","",null,"","","",{"$f":"IF(O1810=\"\",\"\",CONCATENATE(\"*11....+\",VLOOKUP(16-(LEN(N1810)),'1'!$A$1:$B$16,2,TRUE),N1810,\" 81..40+\",VLOOKUP(16-(LEN(O1810)),'1'!$A$1:$B$16,2,TRUE),O1810,\" 82..40+\",VLOOKUP(16-(LEN(O1810)),'1'!$A$1:$B$16,2,TRUE),P1810,\" 71....+0000000000000000 \"))","v":""},null,""]
[null,{"$f":"IF(I1811=\"\",\"\",ROWS($A$3:A1811))","v":""},"","","","","","","","",{"$f":"IFERROR(SMALL($B$3:$B$2002,ROWS($A$3:A1811)),\"\")","v":""},"","",null,"","","",{"$f":"IF(O1811=\"\",\"\",CONCATENATE(\"*11....+\",VLOOKUP(16-(LEN(N1811)),'1'!$A$1:$B$16,2,TRUE),N1811,\" 81..40+\",VLOOKUP(16-(LEN(O1811)),'1'!$A$1:$B$16,2,TRUE),O1811,\" 82..40+\",VLOOKUP(16-(LEN(O1811)),'1'!$A$1:$B$16,2,TRUE),P1811,\" 71....+0000000000000000 \"))","v":""},null,""]
[null,{"$f":"IF(I1812=\"\",\"\",ROWS($A$3:A1812))","v":""},"","","","","","","","",{"$f":"IFERROR(SMALL($B$3:$B$2002,ROWS($A$3:A1812)),\"\")","v":""},"","",null,"","","",{"$f":"IF(O1812=\"\",\"\",CONCATENATE(\"*11....+\",VLOOKUP(16-(LEN(N1812)),'1'!$A$1:$B$16,2,TRUE),N1812,\" 81..40+\",VLOOKUP(16-(LEN(O1812)),'1'!$A$1:$B$16,2,TRUE),O1812,\" 82..40+\",VLOOKUP(16-(LEN(O1812)),'1'!$A$1:$B$16,2,TRUE),P1812,\" 71....+0000000000000000 \"))","v":""},null,""]
[null,{"$f":"IF(I1813=\"\",\"\",ROWS($A$3:A1813))","v":""},"","","","","","","","",{"$f":"IFERROR(SMALL($B$3:$B$2002,ROWS($A$3:A1813)),\"\")","v":""},"","",null,"","","",{"$f":"IF(O1813=\"\",\"\",CONCATENATE(\"*11....+\",VLOOKUP(16-(LEN(N1813)),'1'!$A$1:$B$16,2,TRUE),N1813,\" 81..40+\",VLOOKUP(16-(LEN(O1813)),'1'!$A$1:$B$16,2,TRUE),O1813,\" 82..40+\",VLOOKUP(16-(LEN(O1813)),'1'!$A$1:$B$16,2,TRUE),P1813,\" 71....+0000000000000000 \"))","v":""},null,""]
[null,{"$f":"IF(I1814=\"\",\"\",ROWS($A$3:A1814))","v":""},"","","","","","","","",{"$f":"IFERROR(SMALL($B$3:$B$2002,ROWS($A$3:A1814)),\"\")","v":""},"","",null,"","","",{"$f":"IF(O1814=\"\",\"\",CONCATENATE(\"*11....+\",VLOOKUP(16-(LEN(N1814)),'1'!$A$1:$B$16,2,TRUE),N1814,\" 81..40+\",VLOOKUP(16-(LEN(O1814)),'1'!$A$1:$B$16,2,TRUE),O1814,\" 82..40+\",VLOOKUP(16-(LEN(O1814)),'1'!$A$1:$B$16,2,TRUE),P1814,\" 71....+0000000000000000 \"))","v":""},null,""]
[null,{"$f":"IF(I1815=\"\",\"\",ROWS($A$3:A1815))","v":""},"","","","","","","","",{"$f":"IFERROR(SMALL($B$3:$B$2002,ROWS($A$3:A1815)),\"\")","v":""},"","",null,"","","",{"$f":"IF(O1815=\"\",\"\",CONCATENATE(\"*11....+\",VLOOKUP(16-(LEN(N1815)),'1'!$A$1:$B$16,2,TRUE),N1815,\" 81..40+\",VLOOKUP(16-(LEN(O1815)),'1'!$A$1:$B$16,2,TRUE),O1815,\" 82..40+\",VLOOKUP(16-(LEN(O1815)),'1'!$A$1:$B$16,2,TRUE),P1815,\" 71....+0000000000000000 \"))","v":""},null,""]
[null,{"$f":"IF(I1816=\"\",\"\",ROWS($A$3:A1816))","v":""},"","","","","","","","",{"$f":"IFERROR(SMALL($B$3:$B$2002,ROWS($A$3:A1816)),\"\")","v":""},"","",null,"","","",{"$f":"IF(O1816=\"\",\"\",CONCATENATE(\"*11....+\",VLOOKUP(16-(LEN(N1816)),'1'!$A$1:$B$16,2,TRUE),N1816,\" 81..40+\",VLOOKUP(16-(LEN(O1816)),'1'!$A$1:$B$16,2,TRUE),O1816,\" 82..40+\",VLOOKUP(16-(LEN(O1816)),'1'!$A$1:$B$16,2,TRUE),P1816,\" 71....+0000000000000000 \"))","v":""},null,""]
[null,{"$f":"IF(I1817=\"\",\"\",ROWS($A$3:A1817))","v":""},"","","","","","","","",{"$f":"IFERROR(SMALL($B$3:$B$2002,ROWS($A$3:A1817)),\"\")","v":""},"","",null,"","","",{"$f":"IF(O1817=\"\",\"\",CONCATENATE(\"*11....+\",VLOOKUP(16-(LEN(N1817)),'1'!$A$1:$B$16,2,TRUE),N1817,\" 81..40+\",VLOOKUP(16-(LEN(O1817)),'1'!$A$1:$B$16,2,TRUE),O1817,\" 82..40+\",VLOOKUP(16-(LEN(O1817)),'1'!$A$1:$B$16,2,TRUE),P1817,\" 71....+0000000000000000 \"))","v":""},null,""]
[null,{"$f":"IF(I1818=\"\",\"\",ROWS($A$3:A1818))","v":""},"","","","","","","","",{"$f":"IFERROR(SMALL($B$3:$B$2002,ROWS($A$3:A1818)),\"\")","v":""},"","",null,"","","",{"$f":"IF(O1818=\"\",\"\",CONCATENATE(\"*11....+\",VLOOKUP(16-(LEN(N1818)),'1'!$A$1:$B$16,2,TRUE),N1818,\" 81..40+\",VLOOKUP(16-(LEN(O1818)),'1'!$A$1:$B$16,2,TRUE),O1818,\" 82..40+\",VLOOKUP(16-(LEN(O1818)),'1'!$A$1:$B$16,2,TRUE),P1818,\" 71....+0000000000000000 \"))","v":""},null,""]
[null,{"$f":"IF(I1819=\"\",\"\",ROWS($A$3:A1819))","v":""},"","","","","","","","",{"$f":"IFERROR(SMALL($B$3:$B$2002,ROWS($A$3:A1819)),\"\")","v":""},"","",null,"","","",{"$f":"IF(O1819=\"\",\"\",CONCATENATE(\"*11....+\",VLOOKUP(16-(LEN(N1819)),'1'!$A$1:$B$16,2,TRUE),N1819,\" 81..40+\",VLOOKUP(16-(LEN(O1819)),'1'!$A$1:$B$16,2,TRUE),O1819,\" 82..40+\",VLOOKUP(16-(LEN(O1819)),'1'!$A$1:$B$16,2,TRUE),P1819,\" 71....+0000000000000000 \"))","v":""},null,""]
[null,{"$f":"IF(I1820=\"\",\"\",ROWS($A$3:A1820))","v":""},"","","","","","","","",{"$f":"IFERROR(SMALL($B$3:$B$2002,ROWS($A$3:A1820)),\"\")","v":""},"","",null,"","","",{"$f":"IF(O1820=\"\",\"\",CONCATENATE(\"*11....+\",VLOOKUP(16-(LEN(N1820)),'1'!$A$1:$B$16,2,TRUE),N1820,\" 81..40+\",VLOOKUP(16-(LEN(O1820)),'1'!$A$1:$B$16,2,TRUE),O1820,\" 82..40+\",VLOOKUP(16-(LEN(O1820)),'1'!$A$1:$B$16,2,TRUE),P1820,\" 71....+0000000000000000 \"))","v":""},null,""]
[null,{"$f":"IF(I1821=\"\",\"\",ROWS($A$3:A1821))","v":""},"","","","","","","","",{"$f":"IFERROR(SMALL($B$3:$B$2002,ROWS($A$3:A1821)),\"\")","v":""},"","",null,"","","",{"$f":"IF(O1821=\"\",\"\",CONCATENATE(\"*11....+\",VLOOKUP(16-(LEN(N1821)),'1'!$A$1:$B$16,2,TRUE),N1821,\" 81..40+\",VLOOKUP(16-(LEN(O1821)),'1'!$A$1:$B$16,2,TRUE),O1821,\" 82..40+\",VLOOKUP(16-(LEN(O1821)),'1'!$A$1:$B$16,2,TRUE),P1821,\" 71....+0000000000000000 \"))","v":""},null,""]
[null,{"$f":"IF(I1822=\"\",\"\",ROWS($A$3:A1822))","v":""},"","","","","","","","",{"$f":"IFERROR(SMALL($B$3:$B$2002,ROWS($A$3:A1822)),\"\")","v":""},"","",null,"","","",{"$f":"IF(O1822=\"\",\"\",CONCATENATE(\"*11....+\",VLOOKUP(16-(LEN(N1822)),'1'!$A$1:$B$16,2,TRUE),N1822,\" 81..40+\",VLOOKUP(16-(LEN(O1822)),'1'!$A$1:$B$16,2,TRUE),O1822,\" 82..40+\",VLOOKUP(16-(LEN(O1822)),'1'!$A$1:$B$16,2,TRUE),P1822,\" 71....+0000000000000000 \"))","v":""},null,""]
[null,{"$f":"IF(I1823=\"\",\"\",ROWS($A$3:A1823))","v":""},"","","","","","","","",{"$f":"IFERROR(SMALL($B$3:$B$2002,ROWS($A$3:A1823)),\"\")","v":""},"","",null,"","","",{"$f":"IF(O1823=\"\",\"\",CONCATENATE(\"*11....+\",VLOOKUP(16-(LEN(N1823)),'1'!$A$1:$B$16,2,TRUE),N1823,\" 81..40+\",VLOOKUP(16-(LEN(O1823)),'1'!$A$1:$B$16,2,TRUE),O1823,\" 82..40+\",VLOOKUP(16-(LEN(O1823)),'1'!$A$1:$B$16,2,TRUE),P1823,\" 71....+0000000000000000 \"))","v":""},null,""]
[null,{"$f":"IF(I1824=\"\",\"\",ROWS($A$3:A1824))","v":""},"","","","","","","","",{"$f":"IFERROR(SMALL($B$3:$B$2002,ROWS($A$3:A1824)),\"\")","v":""},"","",null,"","","",{"$f":"IF(O1824=\"\",\"\",CONCATENATE(\"*11....+\",VLOOKUP(16-(LEN(N1824)),'1'!$A$1:$B$16,2,TRUE),N1824,\" 81..40+\",VLOOKUP(16-(LEN(O1824)),'1'!$A$1:$B$16,2,TRUE),O1824,\" 82..40+\",VLOOKUP(16-(LEN(O1824)),'1'!$A$1:$B$16,2,TRUE),P1824,\" 71....+0000000000000000 \"))","v":""},null,""]
[null,{"$f":"IF(I1825=\"\",\"\",ROWS($A$3:A1825))","v":""},"","","","","","","","",{"$f":"IFERROR(SMALL($B$3:$B$2002,ROWS($A$3:A1825)),\"\")","v":""},"","",null,"","","",{"$f":"IF(O1825=\"\",\"\",CONCATENATE(\"*11....+\",VLOOKUP(16-(LEN(N1825)),'1'!$A$1:$B$16,2,TRUE),N1825,\" 81..40+\",VLOOKUP(16-(LEN(O1825)),'1'!$A$1:$B$16,2,TRUE),O1825,\" 82..40+\",VLOOKUP(16-(LEN(O1825)),'1'!$A$1:$B$16,2,TRUE),P1825,\" 71....+0000000000000000 \"))","v":""},null,""]
[null,{"$f":"IF(I1826=\"\",\"\",ROWS($A$3:A1826))","v":""},"","","","","","","","",{"$f":"IFERROR(SMALL($B$3:$B$2002,ROWS($A$3:A1826)),\"\")","v":""},"","",null,"","","",{"$f":"IF(O1826=\"\",\"\",CONCATENATE(\"*11....+\",VLOOKUP(16-(LEN(N1826)),'1'!$A$1:$B$16,2,TRUE),N1826,\" 81..40+\",VLOOKUP(16-(LEN(O1826)),'1'!$A$1:$B$16,2,TRUE),O1826,\" 82..40+\",VLOOKUP(16-(LEN(O1826)),'1'!$A$1:$B$16,2,TRUE),P1826,\" 71....+0000000000000000 \"))","v":""},null,""]
[null,{"$f":"IF(I1827=\"\",\"\",ROWS($A$3:A1827))","v":""},"","","","","","","","",{"$f":"IFERROR(SMALL($B$3:$B$2002,ROWS($A$3:A1827)),\"\")","v":""},"","",null,"","","",{"$f":"IF(O1827=\"\",\"\",CONCATENATE(\"*11....+\",VLOOKUP(16-(LEN(N1827)),'1'!$A$1:$B$16,2,TRUE),N1827,\" 81..40+\",VLOOKUP(16-(LEN(O1827)),'1'!$A$1:$B$16,2,TRUE),O1827,\" 82..40+\",VLOOKUP(16-(LEN(O1827)),'1'!$A$1:$B$16,2,TRUE),P1827,\" 71....+0000000000000000 \"))","v":""},null,""]
[null,{"$f":"IF(I1828=\"\",\"\",ROWS($A$3:A1828))","v":""},"","","","","","","","",{"$f":"IFERROR(SMALL($B$3:$B$2002,ROWS($A$3:A1828)),\"\")","v":""},"","",null,"","","",{"$f":"IF(O1828=\"\",\"\",CONCATENATE(\"*11....+\",VLOOKUP(16-(LEN(N1828)),'1'!$A$1:$B$16,2,TRUE),N1828,\" 81..40+\",VLOOKUP(16-(LEN(O1828)),'1'!$A$1:$B$16,2,TRUE),O1828,\" 82..40+\",VLOOKUP(16-(LEN(O1828)),'1'!$A$1:$B$16,2,TRUE),P1828,\" 71....+0000000000000000 \"))","v":""},null,""]
[null,{"$f":"IF(I1829=\"\",\"\",ROWS($A$3:A1829))","v":""},"","","","","","","","",{"$f":"IFERROR(SMALL($B$3:$B$2002,ROWS($A$3:A1829)),\"\")","v":""},"","",null,"","","",{"$f":"IF(O1829=\"\",\"\",CONCATENATE(\"*11....+\",VLOOKUP(16-(LEN(N1829)),'1'!$A$1:$B$16,2,TRUE),N1829,\" 81..40+\",VLOOKUP(16-(LEN(O1829)),'1'!$A$1:$B$16,2,TRUE),O1829,\" 82..40+\",VLOOKUP(16-(LEN(O1829)),'1'!$A$1:$B$16,2,TRUE),P1829,\" 71....+0000000000000000 \"))","v":""},null,""]
[null,{"$f":"IF(I1830=\"\",\"\",ROWS($A$3:A1830))","v":""},"","","","","","","","",{"$f":"IFERROR(SMALL($B$3:$B$2002,ROWS($A$3:A1830)),\"\")","v":""},"","",null,"","","",{"$f":"IF(O1830=\"\",\"\",CONCATENATE(\"*11....+\",VLOOKUP(16-(LEN(N1830)),'1'!$A$1:$B$16,2,TRUE),N1830,\" 81..40+\",VLOOKUP(16-(LEN(O1830)),'1'!$A$1:$B$16,2,TRUE),O1830,\" 82..40+\",VLOOKUP(16-(LEN(O1830)),'1'!$A$1:$B$16,2,TRUE),P1830,\" 71....+0000000000000000 \"))","v":""},null,""]
[null,{"$f":"IF(I1831=\"\",\"\",ROWS($A$3:A1831))","v":""},"","","","","","","","",{"$f":"IFERROR(SMALL($B$3:$B$2002,ROWS($A$3:A1831)),\"\")","v":""},"","",null,"","","",{"$f":"IF(O1831=\"\",\"\",CONCATENATE(\"*11....+\",VLOOKUP(16-(LEN(N1831)),'1'!$A$1:$B$16,2,TRUE),N1831,\" 81..40+\",VLOOKUP(16-(LEN(O1831)),'1'!$A$1:$B$16,2,TRUE),O1831,\" 82..40+\",VLOOKUP(16-(LEN(O1831)),'1'!$A$1:$B$16,2,TRUE),P1831,\" 71....+0000000000000000 \"))","v":""},null,""]
[null,{"$f":"IF(I1832=\"\",\"\",ROWS($A$3:A1832))","v":""},"","","","","","","","",{"$f":"IFERROR(SMALL($B$3:$B$2002,ROWS($A$3:A1832)),\"\")","v":""},"","",null,"","","",{"$f":"IF(O1832=\"\",\"\",CONCATENATE(\"*11....+\",VLOOKUP(16-(LEN(N1832)),'1'!$A$1:$B$16,2,TRUE),N1832,\" 81..40+\",VLOOKUP(16-(LEN(O1832)),'1'!$A$1:$B$16,2,TRUE),O1832,\" 82..40+\",VLOOKUP(16-(LEN(O1832)),'1'!$A$1:$B$16,2,TRUE),P1832,\" 71....+0000000000000000 \"))","v":""},null,""]
[null,{"$f":"IF(I1833=\"\",\"\",ROWS($A$3:A1833))","v":""},"","","","","","","","",{"$f":"IFERROR(SMALL($B$3:$B$2002,ROWS($A$3:A1833)),\"\")","v":""},"","",null,"","","",{"$f":"IF(O1833=\"\",\"\",CONCATENATE(\"*11....+\",VLOOKUP(16-(LEN(N1833)),'1'!$A$1:$B$16,2,TRUE),N1833,\" 81..40+\",VLOOKUP(16-(LEN(O1833)),'1'!$A$1:$B$16,2,TRUE),O1833,\" 82..40+\",VLOOKUP(16-(LEN(O1833)),'1'!$A$1:$B$16,2,TRUE),P1833,\" 71....+0000000000000000 \"))","v":""},null,""]
[null,{"$f":"IF(I1834=\"\",\"\",ROWS($A$3:A1834))","v":""},"","","","","","","","",{"$f":"IFERROR(SMALL($B$3:$B$2002,ROWS($A$3:A1834)),\"\")","v":""},"","",null,"","","",{"$f":"IF(O1834=\"\",\"\",CONCATENATE(\"*11....+\",VLOOKUP(16-(LEN(N1834)),'1'!$A$1:$B$16,2,TRUE),N1834,\" 81..40+\",VLOOKUP(16-(LEN(O1834)),'1'!$A$1:$B$16,2,TRUE),O1834,\" 82..40+\",VLOOKUP(16-(LEN(O1834)),'1'!$A$1:$B$16,2,TRUE),P1834,\" 71....+0000000000000000 \"))","v":""},null,""]
[null,{"$f":"IF(I1835=\"\",\"\",ROWS($A$3:A1835))","v":""},"","","","","","","","",{"$f":"IFERROR(SMALL($B$3:$B$2002,ROWS($A$3:A1835)),\"\")","v":""},"","",null,"","","",{"$f":"IF(O1835=\"\",\"\",CONCATENATE(\"*11....+\",VLOOKUP(16-(LEN(N1835)),'1'!$A$1:$B$16,2,TRUE),N1835,\" 81..40+\",VLOOKUP(16-(LEN(O1835)),'1'!$A$1:$B$16,2,TRUE),O1835,\" 82..40+\",VLOOKUP(16-(LEN(O1835)),'1'!$A$1:$B$16,2,TRUE),P1835,\" 71....+0000000000000000 \"))","v":""},null,""]
[null,{"$f":"IF(I1836=\"\",\"\",ROWS($A$3:A1836))","v":""},"","","","","","","","",{"$f":"IFERROR(SMALL($B$3:$B$2002,ROWS($A$3:A1836)),\"\")","v":""},"","",null,"","","",{"$f":"IF(O1836=\"\",\"\",CONCATENATE(\"*11....+\",VLOOKUP(16-(LEN(N1836)),'1'!$A$1:$B$16,2,TRUE),N1836,\" 81..40+\",VLOOKUP(16-(LEN(O1836)),'1'!$A$1:$B$16,2,TRUE),O1836,\" 82..40+\",VLOOKUP(16-(LEN(O1836)),'1'!$A$1:$B$16,2,TRUE),P1836,\" 71....+0000000000000000 \"))","v":""},null,""]
[null,{"$f":"IF(I1837=\"\",\"\",ROWS($A$3:A1837))","v":""},"","","","","","","","",{"$f":"IFERROR(SMALL($B$3:$B$2002,ROWS($A$3:A1837)),\"\")","v":""},"","",null,"","","",{"$f":"IF(O1837=\"\",\"\",CONCATENATE(\"*11....+\",VLOOKUP(16-(LEN(N1837)),'1'!$A$1:$B$16,2,TRUE),N1837,\" 81..40+\",VLOOKUP(16-(LEN(O1837)),'1'!$A$1:$B$16,2,TRUE),O1837,\" 82..40+\",VLOOKUP(16-(LEN(O1837)),'1'!$A$1:$B$16,2,TRUE),P1837,\" 71....+0000000000000000 \"))","v":""},null,""]
[null,{"$f":"IF(I1838=\"\",\"\",ROWS($A$3:A1838))","v":""},"","","","","","","","",{"$f":"IFERROR(SMALL($B$3:$B$2002,ROWS($A$3:A1838)),\"\")","v":""},"","",null,"","","",{"$f":"IF(O1838=\"\",\"\",CONCATENATE(\"*11....+\",VLOOKUP(16-(LEN(N1838)),'1'!$A$1:$B$16,2,TRUE),N1838,\" 81..40+\",VLOOKUP(16-(LEN(O1838)),'1'!$A$1:$B$16,2,TRUE),O1838,\" 82..40+\",VLOOKUP(16-(LEN(O1838)),'1'!$A$1:$B$16,2,TRUE),P1838,\" 71....+0000000000000000 \"))","v":""},null,""]
[null,{"$f":"IF(I1839=\"\",\"\",ROWS($A$3:A1839))","v":""},"","","","","","","","",{"$f":"IFERROR(SMALL($B$3:$B$2002,ROWS($A$3:A1839)),\"\")","v":""},"","",null,"","","",{"$f":"IF(O1839=\"\",\"\",CONCATENATE(\"*11....+\",VLOOKUP(16-(LEN(N1839)),'1'!$A$1:$B$16,2,TRUE),N1839,\" 81..40+\",VLOOKUP(16-(LEN(O1839)),'1'!$A$1:$B$16,2,TRUE),O1839,\" 82..40+\",VLOOKUP(16-(LEN(O1839)),'1'!$A$1:$B$16,2,TRUE),P1839,\" 71....+0000000000000000 \"))","v":""},null,""]
[null,{"$f":"IF(I1840=\"\",\"\",ROWS($A$3:A1840))","v":""},"","","","","","","","",{"$f":"IFERROR(SMALL($B$3:$B$2002,ROWS($A$3:A1840)),\"\")","v":""},"","",null,"","","",{"$f":"IF(O1840=\"\",\"\",CONCATENATE(\"*11....+\",VLOOKUP(16-(LEN(N1840)),'1'!$A$1:$B$16,2,TRUE),N1840,\" 81..40+\",VLOOKUP(16-(LEN(O1840)),'1'!$A$1:$B$16,2,TRUE),O1840,\" 82..40+\",VLOOKUP(16-(LEN(O1840)),'1'!$A$1:$B$16,2,TRUE),P1840,\" 71....+0000000000000000 \"))","v":""},null,""]
[null,{"$f":"IF(I1841=\"\",\"\",ROWS($A$3:A1841))","v":""},"","","","","","","","",{"$f":"IFERROR(SMALL($B$3:$B$2002,ROWS($A$3:A1841)),\"\")","v":""},"","",null,"","","",{"$f":"IF(O1841=\"\",\"\",CONCATENATE(\"*11....+\",VLOOKUP(16-(LEN(N1841)),'1'!$A$1:$B$16,2,TRUE),N1841,\" 81..40+\",VLOOKUP(16-(LEN(O1841)),'1'!$A$1:$B$16,2,TRUE),O1841,\" 82..40+\",VLOOKUP(16-(LEN(O1841)),'1'!$A$1:$B$16,2,TRUE),P1841,\" 71....+0000000000000000 \"))","v":""},null,""]
[null,{"$f":"IF(I1842=\"\",\"\",ROWS($A$3:A1842))","v":""},"","","","","","","","",{"$f":"IFERROR(SMALL($B$3:$B$2002,ROWS($A$3:A1842)),\"\")","v":""},"","",null,"","","",{"$f":"IF(O1842=\"\",\"\",CONCATENATE(\"*11....+\",VLOOKUP(16-(LEN(N1842)),'1'!$A$1:$B$16,2,TRUE),N1842,\" 81..40+\",VLOOKUP(16-(LEN(O1842)),'1'!$A$1:$B$16,2,TRUE),O1842,\" 82..40+\",VLOOKUP(16-(LEN(O1842)),'1'!$A$1:$B$16,2,TRUE),P1842,\" 71....+0000000000000000 \"))","v":""},null,""]
[null,{"$f":"IF(I1843=\"\",\"\",ROWS($A$3:A1843))","v":""},"","","","","","","","",{"$f":"IFERROR(SMALL($B$3:$B$2002,ROWS($A$3:A1843)),\"\")","v":""},"","",null,"","","",{"$f":"IF(O1843=\"\",\"\",CONCATENATE(\"*11....+\",VLOOKUP(16-(LEN(N1843)),'1'!$A$1:$B$16,2,TRUE),N1843,\" 81..40+\",VLOOKUP(16-(LEN(O1843)),'1'!$A$1:$B$16,2,TRUE),O1843,\" 82..40+\",VLOOKUP(16-(LEN(O1843)),'1'!$A$1:$B$16,2,TRUE),P1843,\" 71....+0000000000000000 \"))","v":""},null,""]
[null,{"$f":"IF(I1844=\"\",\"\",ROWS($A$3:A1844))","v":""},"","","","","","","","",{"$f":"IFERROR(SMALL($B$3:$B$2002,ROWS($A$3:A1844)),\"\")","v":""},"","",null,"","","",{"$f":"IF(O1844=\"\",\"\",CONCATENATE(\"*11....+\",VLOOKUP(16-(LEN(N1844)),'1'!$A$1:$B$16,2,TRUE),N1844,\" 81..40+\",VLOOKUP(16-(LEN(O1844)),'1'!$A$1:$B$16,2,TRUE),O1844,\" 82..40+\",VLOOKUP(16-(LEN(O1844)),'1'!$A$1:$B$16,2,TRUE),P1844,\" 71....+0000000000000000 \"))","v":""},null,""]
[null,{"$f":"IF(I1845=\"\",\"\",ROWS($A$3:A1845))","v":""},"","","","","","","","",{"$f":"IFERROR(SMALL($B$3:$B$2002,ROWS($A$3:A1845)),\"\")","v":""},"","",null,"","","",{"$f":"IF(O1845=\"\",\"\",CONCATENATE(\"*11....+\",VLOOKUP(16-(LEN(N1845)),'1'!$A$1:$B$16,2,TRUE),N1845,\" 81..40+\",VLOOKUP(16-(LEN(O1845)),'1'!$A$1:$B$16,2,TRUE),O1845,\" 82..40+\",VLOOKUP(16-(LEN(O1845)),'1'!$A$1:$B$16,2,TRUE),P1845,\" 71....+0000000000000000 \"))","v":""},null,""]
[null,{"$f":"IF(I1846=\"\",\"\",ROWS($A$3:A1846))","v":""},"","","","","","","","",{"$f":"IFERROR(SMALL($B$3:$B$2002,ROWS($A$3:A1846)),\"\")","v":""},"","",null,"","","",{"$f":"IF(O1846=\"\",\"\",CONCATENATE(\"*11....+\",VLOOKUP(16-(LEN(N1846)),'1'!$A$1:$B$16,2,TRUE),N1846,\" 81..40+\",VLOOKUP(16-(LEN(O1846)),'1'!$A$1:$B$16,2,TRUE),O1846,\" 82..40+\",VLOOKUP(16-(LEN(O1846)),'1'!$A$1:$B$16,2,TRUE),P1846,\" 71....+0000000000000000 \"))","v":""},null,""]
[null,{"$f":"IF(I1847=\"\",\"\",ROWS($A$3:A1847))","v":""},"","","","","","","","",{"$f":"IFERROR(SMALL($B$3:$B$2002,ROWS($A$3:A1847)),\"\")","v":""},"","",null,"","","",{"$f":"IF(O1847=\"\",\"\",CONCATENATE(\"*11....+\",VLOOKUP(16-(LEN(N1847)),'1'!$A$1:$B$16,2,TRUE),N1847,\" 81..40+\",VLOOKUP(16-(LEN(O1847)),'1'!$A$1:$B$16,2,TRUE),O1847,\" 82..40+\",VLOOKUP(16-(LEN(O1847)),'1'!$A$1:$B$16,2,TRUE),P1847,\" 71....+0000000000000000 \"))","v":""},null,""]
[null,{"$f":"IF(I1848=\"\",\"\",ROWS($A$3:A1848))","v":""},"","","","","","","","",{"$f":"IFERROR(SMALL($B$3:$B$2002,ROWS($A$3:A1848)),\"\")","v":""},"","",null,"","","",{"$f":"IF(O1848=\"\",\"\",CONCATENATE(\"*11....+\",VLOOKUP(16-(LEN(N1848)),'1'!$A$1:$B$16,2,TRUE),N1848,\" 81..40+\",VLOOKUP(16-(LEN(O1848)),'1'!$A$1:$B$16,2,TRUE),O1848,\" 82..40+\",VLOOKUP(16-(LEN(O1848)),'1'!$A$1:$B$16,2,TRUE),P1848,\" 71....+0000000000000000 \"))","v":""},null,""]
[null,{"$f":"IF(I1849=\"\",\"\",ROWS($A$3:A1849))","v":""},"","","","","","","","",{"$f":"IFERROR(SMALL($B$3:$B$2002,ROWS($A$3:A1849)),\"\")","v":""},"","",null,"","","",{"$f":"IF(O1849=\"\",\"\",CONCATENATE(\"*11....+\",VLOOKUP(16-(LEN(N1849)),'1'!$A$1:$B$16,2,TRUE),N1849,\" 81..40+\",VLOOKUP(16-(LEN(O1849)),'1'!$A$1:$B$16,2,TRUE),O1849,\" 82..40+\",VLOOKUP(16-(LEN(O1849)),'1'!$A$1:$B$16,2,TRUE),P1849,\" 71....+0000000000000000 \"))","v":""},null,""]
[null,{"$f":"IF(I1850=\"\",\"\",ROWS($A$3:A1850))","v":""},"","","","","","","","",{"$f":"IFERROR(SMALL($B$3:$B$2002,ROWS($A$3:A1850)),\"\")","v":""},"","",null,"","","",{"$f":"IF(O1850=\"\",\"\",CONCATENATE(\"*11....+\",VLOOKUP(16-(LEN(N1850)),'1'!$A$1:$B$16,2,TRUE),N1850,\" 81..40+\",VLOOKUP(16-(LEN(O1850)),'1'!$A$1:$B$16,2,TRUE),O1850,\" 82..40+\",VLOOKUP(16-(LEN(O1850)),'1'!$A$1:$B$16,2,TRUE),P1850,\" 71....+0000000000000000 \"))","v":""},null,""]
[null,{"$f":"IF(I1851=\"\",\"\",ROWS($A$3:A1851))","v":""},"","","","","","","","",{"$f":"IFERROR(SMALL($B$3:$B$2002,ROWS($A$3:A1851)),\"\")","v":""},"","",null,"","","",{"$f":"IF(O1851=\"\",\"\",CONCATENATE(\"*11....+\",VLOOKUP(16-(LEN(N1851)),'1'!$A$1:$B$16,2,TRUE),N1851,\" 81..40+\",VLOOKUP(16-(LEN(O1851)),'1'!$A$1:$B$16,2,TRUE),O1851,\" 82..40+\",VLOOKUP(16-(LEN(O1851)),'1'!$A$1:$B$16,2,TRUE),P1851,\" 71....+0000000000000000 \"))","v":""},null,""]
[null,{"$f":"IF(I1852=\"\",\"\",ROWS($A$3:A1852))","v":""},"","","","","","","","",{"$f":"IFERROR(SMALL($B$3:$B$2002,ROWS($A$3:A1852)),\"\")","v":""},"","",null,"","","",{"$f":"IF(O1852=\"\",\"\",CONCATENATE(\"*11....+\",VLOOKUP(16-(LEN(N1852)),'1'!$A$1:$B$16,2,TRUE),N1852,\" 81..40+\",VLOOKUP(16-(LEN(O1852)),'1'!$A$1:$B$16,2,TRUE),O1852,\" 82..40+\",VLOOKUP(16-(LEN(O1852)),'1'!$A$1:$B$16,2,TRUE),P1852,\" 71....+0000000000000000 \"))","v":""},null,""]
[null,{"$f":"IF(I1853=\"\",\"\",ROWS($A$3:A1853))","v":""},"","","","","","","","",{"$f":"IFERROR(SMALL($B$3:$B$2002,ROWS($A$3:A1853)),\"\")","v":""},"","",null,"","","",{"$f":"IF(O1853=\"\",\"\",CONCATENATE(\"*11....+\",VLOOKUP(16-(LEN(N1853)),'1'!$A$1:$B$16,2,TRUE),N1853,\" 81..40+\",VLOOKUP(16-(LEN(O1853)),'1'!$A$1:$B$16,2,TRUE),O1853,\" 82..40+\",VLOOKUP(16-(LEN(O1853)),'1'!$A$1:$B$16,2,TRUE),P1853,\" 71....+0000000000000000 \"))","v":""},null,""]
[null,{"$f":"IF(I1854=\"\",\"\",ROWS($A$3:A1854))","v":""},"","","","","","","","",{"$f":"IFERROR(SMALL($B$3:$B$2002,ROWS($A$3:A1854)),\"\")","v":""},"","",null,"","","",{"$f":"IF(O1854=\"\",\"\",CONCATENATE(\"*11....+\",VLOOKUP(16-(LEN(N1854)),'1'!$A$1:$B$16,2,TRUE),N1854,\" 81..40+\",VLOOKUP(16-(LEN(O1854)),'1'!$A$1:$B$16,2,TRUE),O1854,\" 82..40+\",VLOOKUP(16-(LEN(O1854)),'1'!$A$1:$B$16,2,TRUE),P1854,\" 71....+0000000000000000 \"))","v":""},null,""]
[null,{"$f":"IF(I1855=\"\",\"\",ROWS($A$3:A1855))","v":""},"","","","","","","","",{"$f":"IFERROR(SMALL($B$3:$B$2002,ROWS($A$3:A1855)),\"\")","v":""},"","",null,"","","",{"$f":"IF(O1855=\"\",\"\",CONCATENATE(\"*11....+\",VLOOKUP(16-(LEN(N1855)),'1'!$A$1:$B$16,2,TRUE),N1855,\" 81..40+\",VLOOKUP(16-(LEN(O1855)),'1'!$A$1:$B$16,2,TRUE),O1855,\" 82..40+\",VLOOKUP(16-(LEN(O1855)),'1'!$A$1:$B$16,2,TRUE),P1855,\" 71....+0000000000000000 \"))","v":""},null,""]
[null,{"$f":"IF(I1856=\"\",\"\",ROWS($A$3:A1856))","v":""},"","","","","","","","",{"$f":"IFERROR(SMALL($B$3:$B$2002,ROWS($A$3:A1856)),\"\")","v":""},"","",null,"","","",{"$f":"IF(O1856=\"\",\"\",CONCATENATE(\"*11....+\",VLOOKUP(16-(LEN(N1856)),'1'!$A$1:$B$16,2,TRUE),N1856,\" 81..40+\",VLOOKUP(16-(LEN(O1856)),'1'!$A$1:$B$16,2,TRUE),O1856,\" 82..40+\",VLOOKUP(16-(LEN(O1856)),'1'!$A$1:$B$16,2,TRUE),P1856,\" 71....+0000000000000000 \"))","v":""},null,""]
[null,{"$f":"IF(I1857=\"\",\"\",ROWS($A$3:A1857))","v":""},"","","","","","","","",{"$f":"IFERROR(SMALL($B$3:$B$2002,ROWS($A$3:A1857)),\"\")","v":""},"","",null,"","","",{"$f":"IF(O1857=\"\",\"\",CONCATENATE(\"*11....+\",VLOOKUP(16-(LEN(N1857)),'1'!$A$1:$B$16,2,TRUE),N1857,\" 81..40+\",VLOOKUP(16-(LEN(O1857)),'1'!$A$1:$B$16,2,TRUE),O1857,\" 82..40+\",VLOOKUP(16-(LEN(O1857)),'1'!$A$1:$B$16,2,TRUE),P1857,\" 71....+0000000000000000 \"))","v":""},null,""]
[null,{"$f":"IF(I1858=\"\",\"\",ROWS($A$3:A1858))","v":""},"","","","","","","","",{"$f":"IFERROR(SMALL($B$3:$B$2002,ROWS($A$3:A1858)),\"\")","v":""},"","",null,"","","",{"$f":"IF(O1858=\"\",\"\",CONCATENATE(\"*11....+\",VLOOKUP(16-(LEN(N1858)),'1'!$A$1:$B$16,2,TRUE),N1858,\" 81..40+\",VLOOKUP(16-(LEN(O1858)),'1'!$A$1:$B$16,2,TRUE),O1858,\" 82..40+\",VLOOKUP(16-(LEN(O1858)),'1'!$A$1:$B$16,2,TRUE),P1858,\" 71....+0000000000000000 \"))","v":""},null,""]
[null,{"$f":"IF(I1859=\"\",\"\",ROWS($A$3:A1859))","v":""},"","","","","","","","",{"$f":"IFERROR(SMALL($B$3:$B$2002,ROWS($A$3:A1859)),\"\")","v":""},"","",null,"","","",{"$f":"IF(O1859=\"\",\"\",CONCATENATE(\"*11....+\",VLOOKUP(16-(LEN(N1859)),'1'!$A$1:$B$16,2,TRUE),N1859,\" 81..40+\",VLOOKUP(16-(LEN(O1859)),'1'!$A$1:$B$16,2,TRUE),O1859,\" 82..40+\",VLOOKUP(16-(LEN(O1859)),'1'!$A$1:$B$16,2,TRUE),P1859,\" 71....+0000000000000000 \"))","v":""},null,""]
[null,{"$f":"IF(I1860=\"\",\"\",ROWS($A$3:A1860))","v":""},{"$f":"IF(LEN(A1860)=59,ROUND(VALUE(MID(A1860,23,9)),3),\"\")","v":""},{"$f":"IF(LEN(A1860)=24,\"\",\"\")","v":""},{"$f":"IF(LEN(A1860)=63,ROUND(VALUE(MID(A1860,23,12)),3),\"\")","v":""},{"$f":"IF(LEN(A1860)=59,ROUND(VALUE(MID(A1860,37,9)),3),\"\")","v":""},{"$f":"IF(LEN(A1860)=24,\"\",\"\")","v":""},{"$f":"IF(LEN(A1860)=63,ROUND(VALUE(MID(A1860,39,12)),3),\"\")","v":""},{"$f":"IF(AND(C1860=\"\",D1860=\"\",E1860=\"\"),\"\",ROUND(CONCATENATE(C1860,D1860,E1860),3))","v":""},{"$f":"IF(AND(C1860=\"\",D1860=\"\",E1860=\"\"),\"\",ROUND(CONCATENATE(F1860,G1860,H1860),3))","v":""},{"$f":"IFERROR(SMALL($B$3:$B$2002,ROWS($A$3:A1860)),\"\")","v":""},{"$f":"IF(K1860=\"\",\"\",ROUND(VALUE(VLOOKUP(K1860,$B$3:$J$2002,8,TRUE)),3))","v":""},{"$f":"IF(K1860=\"\",\"\",ROUND(VALUE(VLOOKUP(K1860,$B$3:$J$2002,9,TRUE)),3))","v":""},null,{"$f":"IF(L1860=\"\",\"\",L1860/0.001)","v":""},"",{"$f":"IF(O1860=\"\",\"\",16-LEN(N1860))","v":""},{"$f":"IF(O1860=\"\",\"\",CONCATENATE(\"*11....+\",VLOOKUP(16-(LEN(N1860)),'1'!$A$1:$B$16,2,TRUE),N1860,\" 81..40+\",VLOOKUP(16-(LEN(O1860)),'1'!$A$1:$B$16,2,TRUE),O1860,\" 82..40+\",VLOOKUP(16-(LEN(O1860)),'1'!$A$1:$B$16,2,TRUE),P1860,\" 71....+0000000000000000 \"))","v":""},null,{"$f":"IF(O1860=\"\",\"\",CONCATENATE(N1860,\",\",L1860,\",\",M1860))","v":""}]
[null,{"$f":"IF(I1861=\"\",\"\",ROWS($A$3:A1861))","v":""},"","","","","","","","",{"$f":"IFERROR(SMALL($B$3:$B$2002,ROWS($A$3:A1861)),\"\")","v":""},"","",null,"","","",{"$f":"IF(O1861=\"\",\"\",CONCATENATE(\"*11....+\",VLOOKUP(16-(LEN(N1861)),'1'!$A$1:$B$16,2,TRUE),N1861,\" 81..40+\",VLOOKUP(16-(LEN(O1861)),'1'!$A$1:$B$16,2,TRUE),O1861,\" 82..40+\",VLOOKUP(16-(LEN(O1861)),'1'!$A$1:$B$16,2,TRUE),P1861,\" 71....+0000000000000000 \"))","v":""},null,""]
[null,{"$f":"IF(I1862=\"\",\"\",ROWS($A$3:A1862))","v":""},"","","","","","","","",{"$f":"IFERROR(SMALL($B$3:$B$2002,ROWS($A$3:A1862)),\"\")","v":""},"","",null,"","","",{"$f":"IF(O1862=\"\",\"\",CONCATENATE(\"*11....+\",VLOOKUP(16-(LEN(N1862)),'1'!$A$1:$B$16,2,TRUE),N1862,\" 81..40+\",VLOOKUP(16-(LEN(O1862)),'1'!$A$1:$B$16,2,TRUE),O1862,\" 82..40+\",VLOOKUP(16-(LEN(O1862)),'1'!$A$1:$B$16,2,TRUE),P1862,\" 71....+0000000000000000 \"))","v":""},null,""]
[null,{"$f":"IF(I1863=\"\",\"\",ROWS($A$3:A1863))","v":""},"","","","","","","","",{"$f":"IFERROR(SMALL($B$3:$B$2002,ROWS($A$3:A1863)),\"\")","v":""},"","",null,"","","",{"$f":"IF(O1863=\"\",\"\",CONCATENATE(\"*11....+\",VLOOKUP(16-(LEN(N1863)),'1'!$A$1:$B$16,2,TRUE),N1863,\" 81..40+\",VLOOKUP(16-(LEN(O1863)),'1'!$A$1:$B$16,2,TRUE),O1863,\" 82..40+\",VLOOKUP(16-(LEN(O1863)),'1'!$A$1:$B$16,2,TRUE),P1863,\" 71....+0000000000000000 \"))","v":""},null,""]
[null,{"$f":"IF(I1864=\"\",\"\",ROWS($A$3:A1864))","v":""},"","","","","","","","",{"$f":"IFERROR(SMALL($B$3:$B$2002,ROWS($A$3:A1864)),\"\")","v":""},"","",null,"","","",{"$f":"IF(O1864=\"\",\"\",CONCATENATE(\"*11....+\",VLOOKUP(16-(LEN(N1864)),'1'!$A$1:$B$16,2,TRUE),N1864,\" 81..40+\",VLOOKUP(16-(LEN(O1864)),'1'!$A$1:$B$16,2,TRUE),O1864,\" 82..40+\",VLOOKUP(16-(LEN(O1864)),'1'!$A$1:$B$16,2,TRUE),P1864,\" 71....+0000000000000000 \"))","v":""},null,""]
[null,{"$f":"IF(I1865=\"\",\"\",ROWS($A$3:A1865))","v":""},"","","","","","","","",{"$f":"IFERROR(SMALL($B$3:$B$2002,ROWS($A$3:A1865)),\"\")","v":""},"","",null,"","","",{"$f":"IF(O1865=\"\",\"\",CONCATENATE(\"*11....+\",VLOOKUP(16-(LEN(N1865)),'1'!$A$1:$B$16,2,TRUE),N1865,\" 81..40+\",VLOOKUP(16-(LEN(O1865)),'1'!$A$1:$B$16,2,TRUE),O1865,\" 82..40+\",VLOOKUP(16-(LEN(O1865)),'1'!$A$1:$B$16,2,TRUE),P1865,\" 71....+0000000000000000 \"))","v":""},null,""]
[null,{"$f":"IF(I1866=\"\",\"\",ROWS($A$3:A1866))","v":""},"","","","","","","","",{"$f":"IFERROR(SMALL($B$3:$B$2002,ROWS($A$3:A1866)),\"\")","v":""},"","",null,"","","",{"$f":"IF(O1866=\"\",\"\",CONCATENATE(\"*11....+\",VLOOKUP(16-(LEN(N1866)),'1'!$A$1:$B$16,2,TRUE),N1866,\" 81..40+\",VLOOKUP(16-(LEN(O1866)),'1'!$A$1:$B$16,2,TRUE),O1866,\" 82..40+\",VLOOKUP(16-(LEN(O1866)),'1'!$A$1:$B$16,2,TRUE),P1866,\" 71....+0000000000000000 \"))","v":""},null,""]
[null,{"$f":"IF(I1867=\"\",\"\",ROWS($A$3:A1867))","v":""},"","","","","","","","",{"$f":"IFERROR(SMALL($B$3:$B$2002,ROWS($A$3:A1867)),\"\")","v":""},"","",null,"","","",{"$f":"IF(O1867=\"\",\"\",CONCATENATE(\"*11....+\",VLOOKUP(16-(LEN(N1867)),'1'!$A$1:$B$16,2,TRUE),N1867,\" 81..40+\",VLOOKUP(16-(LEN(O1867)),'1'!$A$1:$B$16,2,TRUE),O1867,\" 82..40+\",VLOOKUP(16-(LEN(O1867)),'1'!$A$1:$B$16,2,TRUE),P1867,\" 71....+0000000000000000 \"))","v":""},null,""]
[null,{"$f":"IF(I1868=\"\",\"\",ROWS($A$3:A1868))","v":""},"","","","","","","","",{"$f":"IFERROR(SMALL($B$3:$B$2002,ROWS($A$3:A1868)),\"\")","v":""},"","",null,"","","",{"$f":"IF(O1868=\"\",\"\",CONCATENATE(\"*11....+\",VLOOKUP(16-(LEN(N1868)),'1'!$A$1:$B$16,2,TRUE),N1868,\" 81..40+\",VLOOKUP(16-(LEN(O1868)),'1'!$A$1:$B$16,2,TRUE),O1868,\" 82..40+\",VLOOKUP(16-(LEN(O1868)),'1'!$A$1:$B$16,2,TRUE),P1868,\" 71....+0000000000000000 \"))","v":""},null,""]
[null,{"$f":"IF(I1869=\"\",\"\",ROWS($A$3:A1869))","v":""},"","","","","","","","",{"$f":"IFERROR(SMALL($B$3:$B$2002,ROWS($A$3:A1869)),\"\")","v":""},"","",null,"","","",{"$f":"IF(O1869=\"\",\"\",CONCATENATE(\"*11....+\",VLOOKUP(16-(LEN(N1869)),'1'!$A$1:$B$16,2,TRUE),N1869,\" 81..40+\",VLOOKUP(16-(LEN(O1869)),'1'!$A$1:$B$16,2,TRUE),O1869,\" 82..40+\",VLOOKUP(16-(LEN(O1869)),'1'!$A$1:$B$16,2,TRUE),P1869,\" 71....+0000000000000000 \"))","v":""},null,""]
[null,{"$f":"IF(I1870=\"\",\"\",ROWS($A$3:A1870))","v":""},"","","","","","","","",{"$f":"IFERROR(SMALL($B$3:$B$2002,ROWS($A$3:A1870)),\"\")","v":""},"","",null,"","","",{"$f":"IF(O1870=\"\",\"\",CONCATENATE(\"*11....+\",VLOOKUP(16-(LEN(N1870)),'1'!$A$1:$B$16,2,TRUE),N1870,\" 81..40+\",VLOOKUP(16-(LEN(O1870)),'1'!$A$1:$B$16,2,TRUE),O1870,\" 82..40+\",VLOOKUP(16-(LEN(O1870)),'1'!$A$1:$B$16,2,TRUE),P1870,\" 71....+0000000000000000 \"))","v":""},null,""]
[null,{"$f":"IF(I1871=\"\",\"\",ROWS($A$3:A1871))","v":""},"","","","","","","","",{"$f":"IFERROR(SMALL($B$3:$B$2002,ROWS($A$3:A1871)),\"\")","v":""},"","",null,"","","",{"$f":"IF(O1871=\"\",\"\",CONCATENATE(\"*11....+\",VLOOKUP(16-(LEN(N1871)),'1'!$A$1:$B$16,2,TRUE),N1871,\" 81..40+\",VLOOKUP(16-(LEN(O1871)),'1'!$A$1:$B$16,2,TRUE),O1871,\" 82..40+\",VLOOKUP(16-(LEN(O1871)),'1'!$A$1:$B$16,2,TRUE),P1871,\" 71....+0000000000000000 \"))","v":""},null,""]
[null,{"$f":"IF(I1872=\"\",\"\",ROWS($A$3:A1872))","v":""},"","","","","","","","",{"$f":"IFERROR(SMALL($B$3:$B$2002,ROWS($A$3:A1872)),\"\")","v":""},"","",null,"","","",{"$f":"IF(O1872=\"\",\"\",CONCATENATE(\"*11....+\",VLOOKUP(16-(LEN(N1872)),'1'!$A$1:$B$16,2,TRUE),N1872,\" 81..40+\",VLOOKUP(16-(LEN(O1872)),'1'!$A$1:$B$16,2,TRUE),O1872,\" 82..40+\",VLOOKUP(16-(LEN(O1872)),'1'!$A$1:$B$16,2,TRUE),P1872,\" 71....+0000000000000000 \"))","v":""},null,""]
[null,{"$f":"IF(I1873=\"\",\"\",ROWS($A$3:A1873))","v":""},"","","","","","","","",{"$f":"IFERROR(SMALL($B$3:$B$2002,ROWS($A$3:A1873)),\"\")","v":""},"","",null,"","","",{"$f":"IF(O1873=\"\",\"\",CONCATENATE(\"*11....+\",VLOOKUP(16-(LEN(N1873)),'1'!$A$1:$B$16,2,TRUE),N1873,\" 81..40+\",VLOOKUP(16-(LEN(O1873)),'1'!$A$1:$B$16,2,TRUE),O1873,\" 82..40+\",VLOOKUP(16-(LEN(O1873)),'1'!$A$1:$B$16,2,TRUE),P1873,\" 71....+0000000000000000 \"))","v":""},null,""]
[null,{"$f":"IF(I1874=\"\",\"\",ROWS($A$3:A1874))","v":""},"","","","","","","","",{"$f":"IFERROR(SMALL($B$3:$B$2002,ROWS($A$3:A1874)),\"\")","v":""},"","",null,"","","",{"$f":"IF(O1874=\"\",\"\",CONCATENATE(\"*11....+\",VLOOKUP(16-(LEN(N1874)),'1'!$A$1:$B$16,2,TRUE),N1874,\" 81..40+\",VLOOKUP(16-(LEN(O1874)),'1'!$A$1:$B$16,2,TRUE),O1874,\" 82..40+\",VLOOKUP(16-(LEN(O1874)),'1'!$A$1:$B$16,2,TRUE),P1874,\" 71....+0000000000000000 \"))","v":""},null,""]
[null,{"$f":"IF(I1875=\"\",\"\",ROWS($A$3:A1875))","v":""},"","","","","","","","",{"$f":"IFERROR(SMALL($B$3:$B$2002,ROWS($A$3:A1875)),\"\")","v":""},"","",null,"","","",{"$f":"IF(O1875=\"\",\"\",CONCATENATE(\"*11....+\",VLOOKUP(16-(LEN(N1875)),'1'!$A$1:$B$16,2,TRUE),N1875,\" 81..40+\",VLOOKUP(16-(LEN(O1875)),'1'!$A$1:$B$16,2,TRUE),O1875,\" 82..40+\",VLOOKUP(16-(LEN(O1875)),'1'!$A$1:$B$16,2,TRUE),P1875,\" 71....+0000000000000000 \"))","v":""},null,""]
[null,{"$f":"IF(I1876=\"\",\"\",ROWS($A$3:A1876))","v":""},"","","","","","","","",{"$f":"IFERROR(SMALL($B$3:$B$2002,ROWS($A$3:A1876)),\"\")","v":""},"","",null,"","","",{"$f":"IF(O1876=\"\",\"\",CONCATENATE(\"*11....+\",VLOOKUP(16-(LEN(N1876)),'1'!$A$1:$B$16,2,TRUE),N1876,\" 81..40+\",VLOOKUP(16-(LEN(O1876)),'1'!$A$1:$B$16,2,TRUE),O1876,\" 82..40+\",VLOOKUP(16-(LEN(O1876)),'1'!$A$1:$B$16,2,TRUE),P1876,\" 71....+0000000000000000 \"))","v":""},null,""]
[null,{"$f":"IF(I1877=\"\",\"\",ROWS($A$3:A1877))","v":""},"","","","","","","","",{"$f":"IFERROR(SMALL($B$3:$B$2002,ROWS($A$3:A1877)),\"\")","v":""},"","",null,"","","",{"$f":"IF(O1877=\"\",\"\",CONCATENATE(\"*11....+\",VLOOKUP(16-(LEN(N1877)),'1'!$A$1:$B$16,2,TRUE),N1877,\" 81..40+\",VLOOKUP(16-(LEN(O1877)),'1'!$A$1:$B$16,2,TRUE),O1877,\" 82..40+\",VLOOKUP(16-(LEN(O1877)),'1'!$A$1:$B$16,2,TRUE),P1877,\" 71....+0000000000000000 \"))","v":""},null,""]
[null,{"$f":"IF(I1878=\"\",\"\",ROWS($A$3:A1878))","v":""},"","","","","","","","",{"$f":"IFERROR(SMALL($B$3:$B$2002,ROWS($A$3:A1878)),\"\")","v":""},"","",null,"","","",{"$f":"IF(O1878=\"\",\"\",CONCATENATE(\"*11....+\",VLOOKUP(16-(LEN(N1878)),'1'!$A$1:$B$16,2,TRUE),N1878,\" 81..40+\",VLOOKUP(16-(LEN(O1878)),'1'!$A$1:$B$16,2,TRUE),O1878,\" 82..40+\",VLOOKUP(16-(LEN(O1878)),'1'!$A$1:$B$16,2,TRUE),P1878,\" 71....+0000000000000000 \"))","v":""},null,""]
[null,{"$f":"IF(I1879=\"\",\"\",ROWS($A$3:A1879))","v":""},"","","","","","","","",{"$f":"IFERROR(SMALL($B$3:$B$2002,ROWS($A$3:A1879)),\"\")","v":""},"","",null,"","","",{"$f":"IF(O1879=\"\",\"\",CONCATENATE(\"*11....+\",VLOOKUP(16-(LEN(N1879)),'1'!$A$1:$B$16,2,TRUE),N1879,\" 81..40+\",VLOOKUP(16-(LEN(O1879)),'1'!$A$1:$B$16,2,TRUE),O1879,\" 82..40+\",VLOOKUP(16-(LEN(O1879)),'1'!$A$1:$B$16,2,TRUE),P1879,\" 71....+0000000000000000 \"))","v":""},null,""]
[null,{"$f":"IF(I1880=\"\",\"\",ROWS($A$3:A1880))","v":""},"","","","","","","","",{"$f":"IFERROR(SMALL($B$3:$B$2002,ROWS($A$3:A1880)),\"\")","v":""},"","",null,"","","",{"$f":"IF(O1880=\"\",\"\",CONCATENATE(\"*11....+\",VLOOKUP(16-(LEN(N1880)),'1'!$A$1:$B$16,2,TRUE),N1880,\" 81..40+\",VLOOKUP(16-(LEN(O1880)),'1'!$A$1:$B$16,2,TRUE),O1880,\" 82..40+\",VLOOKUP(16-(LEN(O1880)),'1'!$A$1:$B$16,2,TRUE),P1880,\" 71....+0000000000000000 \"))","v":""},null,""]
[null,{"$f":"IF(I1881=\"\",\"\",ROWS($A$3:A1881))","v":""},"","","","","","","","",{"$f":"IFERROR(SMALL($B$3:$B$2002,ROWS($A$3:A1881)),\"\")","v":""},"","",null,"","","",{"$f":"IF(O1881=\"\",\"\",CONCATENATE(\"*11....+\",VLOOKUP(16-(LEN(N1881)),'1'!$A$1:$B$16,2,TRUE),N1881,\" 81..40+\",VLOOKUP(16-(LEN(O1881)),'1'!$A$1:$B$16,2,TRUE),O1881,\" 82..40+\",VLOOKUP(16-(LEN(O1881)),'1'!$A$1:$B$16,2,TRUE),P1881,\" 71....+0000000000000000 \"))","v":""},null,""]
[null,{"$f":"IF(I1882=\"\",\"\",ROWS($A$3:A1882))","v":""},"","","","","","","","",{"$f":"IFERROR(SMALL($B$3:$B$2002,ROWS($A$3:A1882)),\"\")","v":""},"","",null,"","","",{"$f":"IF(O1882=\"\",\"\",CONCATENATE(\"*11....+\",VLOOKUP(16-(LEN(N1882)),'1'!$A$1:$B$16,2,TRUE),N1882,\" 81..40+\",VLOOKUP(16-(LEN(O1882)),'1'!$A$1:$B$16,2,TRUE),O1882,\" 82..40+\",VLOOKUP(16-(LEN(O1882)),'1'!$A$1:$B$16,2,TRUE),P1882,\" 71....+0000000000000000 \"))","v":""},null,""]
[null,{"$f":"IF(I1883=\"\",\"\",ROWS($A$3:A1883))","v":""},"","","","","","","","",{"$f":"IFERROR(SMALL($B$3:$B$2002,ROWS($A$3:A1883)),\"\")","v":""},"","",null,"","","",{"$f":"IF(O1883=\"\",\"\",CONCATENATE(\"*11....+\",VLOOKUP(16-(LEN(N1883)),'1'!$A$1:$B$16,2,TRUE),N1883,\" 81..40+\",VLOOKUP(16-(LEN(O1883)),'1'!$A$1:$B$16,2,TRUE),O1883,\" 82..40+\",VLOOKUP(16-(LEN(O1883)),'1'!$A$1:$B$16,2,TRUE),P1883,\" 71....+0000000000000000 \"))","v":""},null,""]
[null,{"$f":"IF(I1884=\"\",\"\",ROWS($A$3:A1884))","v":""},"","","","","","","","",{"$f":"IFERROR(SMALL($B$3:$B$2002,ROWS($A$3:A1884)),\"\")","v":""},"","",null,"","","",{"$f":"IF(O1884=\"\",\"\",CONCATENATE(\"*11....+\",VLOOKUP(16-(LEN(N1884)),'1'!$A$1:$B$16,2,TRUE),N1884,\" 81..40+\",VLOOKUP(16-(LEN(O1884)),'1'!$A$1:$B$16,2,TRUE),O1884,\" 82..40+\",VLOOKUP(16-(LEN(O1884)),'1'!$A$1:$B$16,2,TRUE),P1884,\" 71....+0000000000000000 \"))","v":""},null,""]
[null,{"$f":"IF(I1885=\"\",\"\",ROWS($A$3:A1885))","v":""},"","","","","","","","",{"$f":"IFERROR(SMALL($B$3:$B$2002,ROWS($A$3:A1885)),\"\")","v":""},"","",null,"","","",{"$f":"IF(O1885=\"\",\"\",CONCATENATE(\"*11....+\",VLOOKUP(16-(LEN(N1885)),'1'!$A$1:$B$16,2,TRUE),N1885,\" 81..40+\",VLOOKUP(16-(LEN(O1885)),'1'!$A$1:$B$16,2,TRUE),O1885,\" 82..40+\",VLOOKUP(16-(LEN(O1885)),'1'!$A$1:$B$16,2,TRUE),P1885,\" 71....+0000000000000000 \"))","v":""},null,""]
[null,{"$f":"IF(I1886=\"\",\"\",ROWS($A$3:A1886))","v":""},"","","","","","","","",{"$f":"IFERROR(SMALL($B$3:$B$2002,ROWS($A$3:A1886)),\"\")","v":""},"","",null,"","","",{"$f":"IF(O1886=\"\",\"\",CONCATENATE(\"*11....+\",VLOOKUP(16-(LEN(N1886)),'1'!$A$1:$B$16,2,TRUE),N1886,\" 81..40+\",VLOOKUP(16-(LEN(O1886)),'1'!$A$1:$B$16,2,TRUE),O1886,\" 82..40+\",VLOOKUP(16-(LEN(O1886)),'1'!$A$1:$B$16,2,TRUE),P1886,\" 71....+0000000000000000 \"))","v":""},null,""]
[null,{"$f":"IF(I1887=\"\",\"\",ROWS($A$3:A1887))","v":""},"","","","","","","","",{"$f":"IFERROR(SMALL($B$3:$B$2002,ROWS($A$3:A1887)),\"\")","v":""},"","",null,"","","",{"$f":"IF(O1887=\"\",\"\",CONCATENATE(\"*11....+\",VLOOKUP(16-(LEN(N1887)),'1'!$A$1:$B$16,2,TRUE),N1887,\" 81..40+\",VLOOKUP(16-(LEN(O1887)),'1'!$A$1:$B$16,2,TRUE),O1887,\" 82..40+\",VLOOKUP(16-(LEN(O1887)),'1'!$A$1:$B$16,2,TRUE),P1887,\" 71....+0000000000000000 \"))","v":""},null,""]
[null,{"$f":"IF(I1888=\"\",\"\",ROWS($A$3:A1888))","v":""},"","","","","","","","",{"$f":"IFERROR(SMALL($B$3:$B$2002,ROWS($A$3:A1888)),\"\")","v":""},"","",null,"","","",{"$f":"IF(O1888=\"\",\"\",CONCATENATE(\"*11....+\",VLOOKUP(16-(LEN(N1888)),'1'!$A$1:$B$16,2,TRUE),N1888,\" 81..40+\",VLOOKUP(16-(LEN(O1888)),'1'!$A$1:$B$16,2,TRUE),O1888,\" 82..40+\",VLOOKUP(16-(LEN(O1888)),'1'!$A$1:$B$16,2,TRUE),P1888,\" 71....+0000000000000000 \"))","v":""},null,""]
[null,{"$f":"IF(I1889=\"\",\"\",ROWS($A$3:A1889))","v":""},"","","","","","","","",{"$f":"IFERROR(SMALL($B$3:$B$2002,ROWS($A$3:A1889)),\"\")","v":""},"","",null,"","","",{"$f":"IF(O1889=\"\",\"\",CONCATENATE(\"*11....+\",VLOOKUP(16-(LEN(N1889)),'1'!$A$1:$B$16,2,TRUE),N1889,\" 81..40+\",VLOOKUP(16-(LEN(O1889)),'1'!$A$1:$B$16,2,TRUE),O1889,\" 82..40+\",VLOOKUP(16-(LEN(O1889)),'1'!$A$1:$B$16,2,TRUE),P1889,\" 71....+0000000000000000 \"))","v":""},null,""]
[null,{"$f":"IF(I1890=\"\",\"\",ROWS($A$3:A1890))","v":""},"","","","","","","","",{"$f":"IFERROR(SMALL($B$3:$B$2002,ROWS($A$3:A1890)),\"\")","v":""},"","",null,"","","",{"$f":"IF(O1890=\"\",\"\",CONCATENATE(\"*11....+\",VLOOKUP(16-(LEN(N1890)),'1'!$A$1:$B$16,2,TRUE),N1890,\" 81..40+\",VLOOKUP(16-(LEN(O1890)),'1'!$A$1:$B$16,2,TRUE),O1890,\" 82..40+\",VLOOKUP(16-(LEN(O1890)),'1'!$A$1:$B$16,2,TRUE),P1890,\" 71....+0000000000000000 \"))","v":""},null,""]
[null,{"$f":"IF(I1891=\"\",\"\",ROWS($A$3:A1891))","v":""},"","","","","","","","",{"$f":"IFERROR(SMALL($B$3:$B$2002,ROWS($A$3:A1891)),\"\")","v":""},"","",null,"","","",{"$f":"IF(O1891=\"\",\"\",CONCATENATE(\"*11....+\",VLOOKUP(16-(LEN(N1891)),'1'!$A$1:$B$16,2,TRUE),N1891,\" 81..40+\",VLOOKUP(16-(LEN(O1891)),'1'!$A$1:$B$16,2,TRUE),O1891,\" 82..40+\",VLOOKUP(16-(LEN(O1891)),'1'!$A$1:$B$16,2,TRUE),P1891,\" 71....+0000000000000000 \"))","v":""},null,""]
[null,{"$f":"IF(I1892=\"\",\"\",ROWS($A$3:A1892))","v":""},"","","","","","","","",{"$f":"IFERROR(SMALL($B$3:$B$2002,ROWS($A$3:A1892)),\"\")","v":""},"","",null,"","","",{"$f":"IF(O1892=\"\",\"\",CONCATENATE(\"*11....+\",VLOOKUP(16-(LEN(N1892)),'1'!$A$1:$B$16,2,TRUE),N1892,\" 81..40+\",VLOOKUP(16-(LEN(O1892)),'1'!$A$1:$B$16,2,TRUE),O1892,\" 82..40+\",VLOOKUP(16-(LEN(O1892)),'1'!$A$1:$B$16,2,TRUE),P1892,\" 71....+0000000000000000 \"))","v":""},null,""]
[null,{"$f":"IF(I1893=\"\",\"\",ROWS($A$3:A1893))","v":""},"","","","","","","","",{"$f":"IFERROR(SMALL($B$3:$B$2002,ROWS($A$3:A1893)),\"\")","v":""},"","",null,"","","",{"$f":"IF(O1893=\"\",\"\",CONCATENATE(\"*11....+\",VLOOKUP(16-(LEN(N1893)),'1'!$A$1:$B$16,2,TRUE),N1893,\" 81..40+\",VLOOKUP(16-(LEN(O1893)),'1'!$A$1:$B$16,2,TRUE),O1893,\" 82..40+\",VLOOKUP(16-(LEN(O1893)),'1'!$A$1:$B$16,2,TRUE),P1893,\" 71....+0000000000000000 \"))","v":""},null,""]
[null,{"$f":"IF(I1894=\"\",\"\",ROWS($A$3:A1894))","v":""},"","","","","","","","",{"$f":"IFERROR(SMALL($B$3:$B$2002,ROWS($A$3:A1894)),\"\")","v":""},"","",null,"","","",{"$f":"IF(O1894=\"\",\"\",CONCATENATE(\"*11....+\",VLOOKUP(16-(LEN(N1894)),'1'!$A$1:$B$16,2,TRUE),N1894,\" 81..40+\",VLOOKUP(16-(LEN(O1894)),'1'!$A$1:$B$16,2,TRUE),O1894,\" 82..40+\",VLOOKUP(16-(LEN(O1894)),'1'!$A$1:$B$16,2,TRUE),P1894,\" 71....+0000000000000000 \"))","v":""},null,""]
[null,{"$f":"IF(I1895=\"\",\"\",ROWS($A$3:A1895))","v":""},"","","","","","","","",{"$f":"IFERROR(SMALL($B$3:$B$2002,ROWS($A$3:A1895)),\"\")","v":""},"","",null,"","","",{"$f":"IF(O1895=\"\",\"\",CONCATENATE(\"*11....+\",VLOOKUP(16-(LEN(N1895)),'1'!$A$1:$B$16,2,TRUE),N1895,\" 81..40+\",VLOOKUP(16-(LEN(O1895)),'1'!$A$1:$B$16,2,TRUE),O1895,\" 82..40+\",VLOOKUP(16-(LEN(O1895)),'1'!$A$1:$B$16,2,TRUE),P1895,\" 71....+0000000000000000 \"))","v":""},null,""]
[null,{"$f":"IF(I1896=\"\",\"\",ROWS($A$3:A1896))","v":""},"","","","","","","","",{"$f":"IFERROR(SMALL($B$3:$B$2002,ROWS($A$3:A1896)),\"\")","v":""},"","",null,"","","",{"$f":"IF(O1896=\"\",\"\",CONCATENATE(\"*11....+\",VLOOKUP(16-(LEN(N1896)),'1'!$A$1:$B$16,2,TRUE),N1896,\" 81..40+\",VLOOKUP(16-(LEN(O1896)),'1'!$A$1:$B$16,2,TRUE),O1896,\" 82..40+\",VLOOKUP(16-(LEN(O1896)),'1'!$A$1:$B$16,2,TRUE),P1896,\" 71....+0000000000000000 \"))","v":""},null,""]
[null,{"$f":"IF(I1897=\"\",\"\",ROWS($A$3:A1897))","v":""},"","","","","","","","",{"$f":"IFERROR(SMALL($B$3:$B$2002,ROWS($A$3:A1897)),\"\")","v":""},"","",null,"","","",{"$f":"IF(O1897=\"\",\"\",CONCATENATE(\"*11....+\",VLOOKUP(16-(LEN(N1897)),'1'!$A$1:$B$16,2,TRUE),N1897,\" 81..40+\",VLOOKUP(16-(LEN(O1897)),'1'!$A$1:$B$16,2,TRUE),O1897,\" 82..40+\",VLOOKUP(16-(LEN(O1897)),'1'!$A$1:$B$16,2,TRUE),P1897,\" 71....+0000000000000000 \"))","v":""},null,""]
[null,{"$f":"IF(I1898=\"\",\"\",ROWS($A$3:A1898))","v":""},"","","","","","","","",{"$f":"IFERROR(SMALL($B$3:$B$2002,ROWS($A$3:A1898)),\"\")","v":""},"","",null,"","","",{"$f":"IF(O1898=\"\",\"\",CONCATENATE(\"*11....+\",VLOOKUP(16-(LEN(N1898)),'1'!$A$1:$B$16,2,TRUE),N1898,\" 81..40+\",VLOOKUP(16-(LEN(O1898)),'1'!$A$1:$B$16,2,TRUE),O1898,\" 82..40+\",VLOOKUP(16-(LEN(O1898)),'1'!$A$1:$B$16,2,TRUE),P1898,\" 71....+0000000000000000 \"))","v":""},null,""]
[null,{"$f":"IF(I1899=\"\",\"\",ROWS($A$3:A1899))","v":""},"","","","","","","","",{"$f":"IFERROR(SMALL($B$3:$B$2002,ROWS($A$3:A1899)),\"\")","v":""},"","",null,"","","",{"$f":"IF(O1899=\"\",\"\",CONCATENATE(\"*11....+\",VLOOKUP(16-(LEN(N1899)),'1'!$A$1:$B$16,2,TRUE),N1899,\" 81..40+\",VLOOKUP(16-(LEN(O1899)),'1'!$A$1:$B$16,2,TRUE),O1899,\" 82..40+\",VLOOKUP(16-(LEN(O1899)),'1'!$A$1:$B$16,2,TRUE),P1899,\" 71....+0000000000000000 \"))","v":""},null,""]
[null,{"$f":"IF(I1900=\"\",\"\",ROWS($A$3:A1900))","v":""},"","","","","","","","",{"$f":"IFERROR(SMALL($B$3:$B$2002,ROWS($A$3:A1900)),\"\")","v":""},"","",null,"","","",{"$f":"IF(O1900=\"\",\"\",CONCATENATE(\"*11....+\",VLOOKUP(16-(LEN(N1900)),'1'!$A$1:$B$16,2,TRUE),N1900,\" 81..40+\",VLOOKUP(16-(LEN(O1900)),'1'!$A$1:$B$16,2,TRUE),O1900,\" 82..40+\",VLOOKUP(16-(LEN(O1900)),'1'!$A$1:$B$16,2,TRUE),P1900,\" 71....+0000000000000000 \"))","v":""},null,""]
[null,{"$f":"IF(I1901=\"\",\"\",ROWS($A$3:A1901))","v":""},"","","","","","","","",{"$f":"IFERROR(SMALL($B$3:$B$2002,ROWS($A$3:A1901)),\"\")","v":""},"","",null,"","","",{"$f":"IF(O1901=\"\",\"\",CONCATENATE(\"*11....+\",VLOOKUP(16-(LEN(N1901)),'1'!$A$1:$B$16,2,TRUE),N1901,\" 81..40+\",VLOOKUP(16-(LEN(O1901)),'1'!$A$1:$B$16,2,TRUE),O1901,\" 82..40+\",VLOOKUP(16-(LEN(O1901)),'1'!$A$1:$B$16,2,TRUE),P1901,\" 71....+0000000000000000 \"))","v":""},null,""]
[null,{"$f":"IF(I1902=\"\",\"\",ROWS($A$3:A1902))","v":""},"","","","","","","","",{"$f":"IFERROR(SMALL($B$3:$B$2002,ROWS($A$3:A1902)),\"\")","v":""},"","",null,"","","",{"$f":"IF(O1902=\"\",\"\",CONCATENATE(\"*11....+\",VLOOKUP(16-(LEN(N1902)),'1'!$A$1:$B$16,2,TRUE),N1902,\" 81..40+\",VLOOKUP(16-(LEN(O1902)),'1'!$A$1:$B$16,2,TRUE),O1902,\" 82..40+\",VLOOKUP(16-(LEN(O1902)),'1'!$A$1:$B$16,2,TRUE),P1902,\" 71....+0000000000000000 \"))","v":""},null,""]
[null,{"$f":"IF(I1903=\"\",\"\",ROWS($A$3:A1903))","v":""},"","","","","","","","",{"$f":"IFERROR(SMALL($B$3:$B$2002,ROWS($A$3:A1903)),\"\")","v":""},"","",null,"","","",{"$f":"IF(O1903=\"\",\"\",CONCATENATE(\"*11....+\",VLOOKUP(16-(LEN(N1903)),'1'!$A$1:$B$16,2,TRUE),N1903,\" 81..40+\",VLOOKUP(16-(LEN(O1903)),'1'!$A$1:$B$16,2,TRUE),O1903,\" 82..40+\",VLOOKUP(16-(LEN(O1903)),'1'!$A$1:$B$16,2,TRUE),P1903,\" 71....+0000000000000000 \"))","v":""},null,""]
[null,{"$f":"IF(I1904=\"\",\"\",ROWS($A$3:A1904))","v":""},"","","","","","","","",{"$f":"IFERROR(SMALL($B$3:$B$2002,ROWS($A$3:A1904)),\"\")","v":""},"","",null,"","","",{"$f":"IF(O1904=\"\",\"\",CONCATENATE(\"*11....+\",VLOOKUP(16-(LEN(N1904)),'1'!$A$1:$B$16,2,TRUE),N1904,\" 81..40+\",VLOOKUP(16-(LEN(O1904)),'1'!$A$1:$B$16,2,TRUE),O1904,\" 82..40+\",VLOOKUP(16-(LEN(O1904)),'1'!$A$1:$B$16,2,TRUE),P1904,\" 71....+0000000000000000 \"))","v":""},null,""]
[null,{"$f":"IF(I1905=\"\",\"\",ROWS($A$3:A1905))","v":""},"","","","","","","","",{"$f":"IFERROR(SMALL($B$3:$B$2002,ROWS($A$3:A1905)),\"\")","v":""},"","",null,"","","",{"$f":"IF(O1905=\"\",\"\",CONCATENATE(\"*11....+\",VLOOKUP(16-(LEN(N1905)),'1'!$A$1:$B$16,2,TRUE),N1905,\" 81..40+\",VLOOKUP(16-(LEN(O1905)),'1'!$A$1:$B$16,2,TRUE),O1905,\" 82..40+\",VLOOKUP(16-(LEN(O1905)),'1'!$A$1:$B$16,2,TRUE),P1905,\" 71....+0000000000000000 \"))","v":""},null,""]
[null,{"$f":"IF(I1906=\"\",\"\",ROWS($A$3:A1906))","v":""},"","","","","","","","",{"$f":"IFERROR(SMALL($B$3:$B$2002,ROWS($A$3:A1906)),\"\")","v":""},"","",null,"","","",{"$f":"IF(O1906=\"\",\"\",CONCATENATE(\"*11....+\",VLOOKUP(16-(LEN(N1906)),'1'!$A$1:$B$16,2,TRUE),N1906,\" 81..40+\",VLOOKUP(16-(LEN(O1906)),'1'!$A$1:$B$16,2,TRUE),O1906,\" 82..40+\",VLOOKUP(16-(LEN(O1906)),'1'!$A$1:$B$16,2,TRUE),P1906,\" 71....+0000000000000000 \"))","v":""},null,""]
[null,{"$f":"IF(I1907=\"\",\"\",ROWS($A$3:A1907))","v":""},"","","","","","","","",{"$f":"IFERROR(SMALL($B$3:$B$2002,ROWS($A$3:A1907)),\"\")","v":""},"","",null,"","","",{"$f":"IF(O1907=\"\",\"\",CONCATENATE(\"*11....+\",VLOOKUP(16-(LEN(N1907)),'1'!$A$1:$B$16,2,TRUE),N1907,\" 81..40+\",VLOOKUP(16-(LEN(O1907)),'1'!$A$1:$B$16,2,TRUE),O1907,\" 82..40+\",VLOOKUP(16-(LEN(O1907)),'1'!$A$1:$B$16,2,TRUE),P1907,\" 71....+0000000000000000 \"))","v":""},null,""]
[null,{"$f":"IF(I1908=\"\",\"\",ROWS($A$3:A1908))","v":""},"","","","","","","","",{"$f":"IFERROR(SMALL($B$3:$B$2002,ROWS($A$3:A1908)),\"\")","v":""},"","",null,"","","",{"$f":"IF(O1908=\"\",\"\",CONCATENATE(\"*11....+\",VLOOKUP(16-(LEN(N1908)),'1'!$A$1:$B$16,2,TRUE),N1908,\" 81..40+\",VLOOKUP(16-(LEN(O1908)),'1'!$A$1:$B$16,2,TRUE),O1908,\" 82..40+\",VLOOKUP(16-(LEN(O1908)),'1'!$A$1:$B$16,2,TRUE),P1908,\" 71....+0000000000000000 \"))","v":""},null,""]
[null,{"$f":"IF(I1909=\"\",\"\",ROWS($A$3:A1909))","v":""},"","","","","","","","",{"$f":"IFERROR(SMALL($B$3:$B$2002,ROWS($A$3:A1909)),\"\")","v":""},"","",null,"","","",{"$f":"IF(O1909=\"\",\"\",CONCATENATE(\"*11....+\",VLOOKUP(16-(LEN(N1909)),'1'!$A$1:$B$16,2,TRUE),N1909,\" 81..40+\",VLOOKUP(16-(LEN(O1909)),'1'!$A$1:$B$16,2,TRUE),O1909,\" 82..40+\",VLOOKUP(16-(LEN(O1909)),'1'!$A$1:$B$16,2,TRUE),P1909,\" 71....+0000000000000000 \"))","v":""},null,""]
[null,{"$f":"IF(I1910=\"\",\"\",ROWS($A$3:A1910))","v":""},"","","","","","","","",{"$f":"IFERROR(SMALL($B$3:$B$2002,ROWS($A$3:A1910)),\"\")","v":""},"","",null,"","","",{"$f":"IF(O1910=\"\",\"\",CONCATENATE(\"*11....+\",VLOOKUP(16-(LEN(N1910)),'1'!$A$1:$B$16,2,TRUE),N1910,\" 81..40+\",VLOOKUP(16-(LEN(O1910)),'1'!$A$1:$B$16,2,TRUE),O1910,\" 82..40+\",VLOOKUP(16-(LEN(O1910)),'1'!$A$1:$B$16,2,TRUE),P1910,\" 71....+0000000000000000 \"))","v":""},null,""]
[null,{"$f":"IF(I1911=\"\",\"\",ROWS($A$3:A1911))","v":""},"","","","","","","","",{"$f":"IFERROR(SMALL($B$3:$B$2002,ROWS($A$3:A1911)),\"\")","v":""},"","",null,"","","",{"$f":"IF(O1911=\"\",\"\",CONCATENATE(\"*11....+\",VLOOKUP(16-(LEN(N1911)),'1'!$A$1:$B$16,2,TRUE),N1911,\" 81..40+\",VLOOKUP(16-(LEN(O1911)),'1'!$A$1:$B$16,2,TRUE),O1911,\" 82..40+\",VLOOKUP(16-(LEN(O1911)),'1'!$A$1:$B$16,2,TRUE),P1911,\" 71....+0000000000000000 \"))","v":""},null,""]
[null,{"$f":"IF(I1912=\"\",\"\",ROWS($A$3:A1912))","v":""},"","","","","","","","",{"$f":"IFERROR(SMALL($B$3:$B$2002,ROWS($A$3:A1912)),\"\")","v":""},"","",null,"","","",{"$f":"IF(O1912=\"\",\"\",CONCATENATE(\"*11....+\",VLOOKUP(16-(LEN(N1912)),'1'!$A$1:$B$16,2,TRUE),N1912,\" 81..40+\",VLOOKUP(16-(LEN(O1912)),'1'!$A$1:$B$16,2,TRUE),O1912,\" 82..40+\",VLOOKUP(16-(LEN(O1912)),'1'!$A$1:$B$16,2,TRUE),P1912,\" 71....+0000000000000000 \"))","v":""},null,""]
[null,{"$f":"IF(I1913=\"\",\"\",ROWS($A$3:A1913))","v":""},"","","","","","","","",{"$f":"IFERROR(SMALL($B$3:$B$2002,ROWS($A$3:A1913)),\"\")","v":""},"","",null,"","","",{"$f":"IF(O1913=\"\",\"\",CONCATENATE(\"*11....+\",VLOOKUP(16-(LEN(N1913)),'1'!$A$1:$B$16,2,TRUE),N1913,\" 81..40+\",VLOOKUP(16-(LEN(O1913)),'1'!$A$1:$B$16,2,TRUE),O1913,\" 82..40+\",VLOOKUP(16-(LEN(O1913)),'1'!$A$1:$B$16,2,TRUE),P1913,\" 71....+0000000000000000 \"))","v":""},null,""]
[null,{"$f":"IF(I1914=\"\",\"\",ROWS($A$3:A1914))","v":""},"","","","","","","","",{"$f":"IFERROR(SMALL($B$3:$B$2002,ROWS($A$3:A1914)),\"\")","v":""},"","",null,"","","",{"$f":"IF(O1914=\"\",\"\",CONCATENATE(\"*11....+\",VLOOKUP(16-(LEN(N1914)),'1'!$A$1:$B$16,2,TRUE),N1914,\" 81..40+\",VLOOKUP(16-(LEN(O1914)),'1'!$A$1:$B$16,2,TRUE),O1914,\" 82..40+\",VLOOKUP(16-(LEN(O1914)),'1'!$A$1:$B$16,2,TRUE),P1914,\" 71....+0000000000000000 \"))","v":""},null,""]
[null,{"$f":"IF(I1915=\"\",\"\",ROWS($A$3:A1915))","v":""},"","","","","","","","",{"$f":"IFERROR(SMALL($B$3:$B$2002,ROWS($A$3:A1915)),\"\")","v":""},"","",null,"","","",{"$f":"IF(O1915=\"\",\"\",CONCATENATE(\"*11....+\",VLOOKUP(16-(LEN(N1915)),'1'!$A$1:$B$16,2,TRUE),N1915,\" 81..40+\",VLOOKUP(16-(LEN(O1915)),'1'!$A$1:$B$16,2,TRUE),O1915,\" 82..40+\",VLOOKUP(16-(LEN(O1915)),'1'!$A$1:$B$16,2,TRUE),P1915,\" 71....+0000000000000000 \"))","v":""},null,""]
[null,{"$f":"IF(I1916=\"\",\"\",ROWS($A$3:A1916))","v":""},"","","","","","","","",{"$f":"IFERROR(SMALL($B$3:$B$2002,ROWS($A$3:A1916)),\"\")","v":""},"","",null,"","","",{"$f":"IF(O1916=\"\",\"\",CONCATENATE(\"*11....+\",VLOOKUP(16-(LEN(N1916)),'1'!$A$1:$B$16,2,TRUE),N1916,\" 81..40+\",VLOOKUP(16-(LEN(O1916)),'1'!$A$1:$B$16,2,TRUE),O1916,\" 82..40+\",VLOOKUP(16-(LEN(O1916)),'1'!$A$1:$B$16,2,TRUE),P1916,\" 71....+0000000000000000 \"))","v":""},null,""]
[null,{"$f":"IF(I1917=\"\",\"\",ROWS($A$3:A1917))","v":""},"","","","","","","","",{"$f":"IFERROR(SMALL($B$3:$B$2002,ROWS($A$3:A1917)),\"\")","v":""},"","",null,"","","",{"$f":"IF(O1917=\"\",\"\",CONCATENATE(\"*11....+\",VLOOKUP(16-(LEN(N1917)),'1'!$A$1:$B$16,2,TRUE),N1917,\" 81..40+\",VLOOKUP(16-(LEN(O1917)),'1'!$A$1:$B$16,2,TRUE),O1917,\" 82..40+\",VLOOKUP(16-(LEN(O1917)),'1'!$A$1:$B$16,2,TRUE),P1917,\" 71....+0000000000000000 \"))","v":""},null,""]
[null,{"$f":"IF(I1918=\"\",\"\",ROWS($A$3:A1918))","v":""},"","","","","","","","",{"$f":"IFERROR(SMALL($B$3:$B$2002,ROWS($A$3:A1918)),\"\")","v":""},"","",null,"","","",{"$f":"IF(O1918=\"\",\"\",CONCATENATE(\"*11....+\",VLOOKUP(16-(LEN(N1918)),'1'!$A$1:$B$16,2,TRUE),N1918,\" 81..40+\",VLOOKUP(16-(LEN(O1918)),'1'!$A$1:$B$16,2,TRUE),O1918,\" 82..40+\",VLOOKUP(16-(LEN(O1918)),'1'!$A$1:$B$16,2,TRUE),P1918,\" 71....+0000000000000000 \"))","v":""},null,""]
[null,{"$f":"IF(I1919=\"\",\"\",ROWS($A$3:A1919))","v":""},"","","","","","","","",{"$f":"IFERROR(SMALL($B$3:$B$2002,ROWS($A$3:A1919)),\"\")","v":""},"","",null,"","","",{"$f":"IF(O1919=\"\",\"\",CONCATENATE(\"*11....+\",VLOOKUP(16-(LEN(N1919)),'1'!$A$1:$B$16,2,TRUE),N1919,\" 81..40+\",VLOOKUP(16-(LEN(O1919)),'1'!$A$1:$B$16,2,TRUE),O1919,\" 82..40+\",VLOOKUP(16-(LEN(O1919)),'1'!$A$1:$B$16,2,TRUE),P1919,\" 71....+0000000000000000 \"))","v":""},null,""]
[null,{"$f":"IF(I1920=\"\",\"\",ROWS($A$3:A1920))","v":""},"","","","","","","","",{"$f":"IFERROR(SMALL($B$3:$B$2002,ROWS($A$3:A1920)),\"\")","v":""},"","",null,"","","",{"$f":"IF(O1920=\"\",\"\",CONCATENATE(\"*11....+\",VLOOKUP(16-(LEN(N1920)),'1'!$A$1:$B$16,2,TRUE),N1920,\" 81..40+\",VLOOKUP(16-(LEN(O1920)),'1'!$A$1:$B$16,2,TRUE),O1920,\" 82..40+\",VLOOKUP(16-(LEN(O1920)),'1'!$A$1:$B$16,2,TRUE),P1920,\" 71....+0000000000000000 \"))","v":""},null,""]
[null,{"$f":"IF(I1921=\"\",\"\",ROWS($A$3:A1921))","v":""},"","","","","","","","",{"$f":"IFERROR(SMALL($B$3:$B$2002,ROWS($A$3:A1921)),\"\")","v":""},"","",null,"","","",{"$f":"IF(O1921=\"\",\"\",CONCATENATE(\"*11....+\",VLOOKUP(16-(LEN(N1921)),'1'!$A$1:$B$16,2,TRUE),N1921,\" 81..40+\",VLOOKUP(16-(LEN(O1921)),'1'!$A$1:$B$16,2,TRUE),O1921,\" 82..40+\",VLOOKUP(16-(LEN(O1921)),'1'!$A$1:$B$16,2,TRUE),P1921,\" 71....+0000000000000000 \"))","v":""},null,""]
[null,{"$f":"IF(I1922=\"\",\"\",ROWS($A$3:A1922))","v":""},"","","","","","","","",{"$f":"IFERROR(SMALL($B$3:$B$2002,ROWS($A$3:A1922)),\"\")","v":""},"","",null,"","","",{"$f":"IF(O1922=\"\",\"\",CONCATENATE(\"*11....+\",VLOOKUP(16-(LEN(N1922)),'1'!$A$1:$B$16,2,TRUE),N1922,\" 81..40+\",VLOOKUP(16-(LEN(O1922)),'1'!$A$1:$B$16,2,TRUE),O1922,\" 82..40+\",VLOOKUP(16-(LEN(O1922)),'1'!$A$1:$B$16,2,TRUE),P1922,\" 71....+0000000000000000 \"))","v":""},null,""]
[null,{"$f":"IF(I1923=\"\",\"\",ROWS($A$3:A1923))","v":""},"","","","","","","","",{"$f":"IFERROR(SMALL($B$3:$B$2002,ROWS($A$3:A1923)),\"\")","v":""},"","",null,"","","",{"$f":"IF(O1923=\"\",\"\",CONCATENATE(\"*11....+\",VLOOKUP(16-(LEN(N1923)),'1'!$A$1:$B$16,2,TRUE),N1923,\" 81..40+\",VLOOKUP(16-(LEN(O1923)),'1'!$A$1:$B$16,2,TRUE),O1923,\" 82..40+\",VLOOKUP(16-(LEN(O1923)),'1'!$A$1:$B$16,2,TRUE),P1923,\" 71....+0000000000000000 \"))","v":""},null,""]
[null,{"$f":"IF(I1924=\"\",\"\",ROWS($A$3:A1924))","v":""},{"$f":"IF(LEN(A1924)=59,ROUND(VALUE(MID(A1924,23,9)),3),\"\")","v":""},{"$f":"IF(LEN(A1924)=24,\"\",\"\")","v":""},{"$f":"IF(LEN(A1924)=63,ROUND(VALUE(MID(A1924,23,12)),3),\"\")","v":""},{"$f":"IF(LEN(A1924)=59,ROUND(VALUE(MID(A1924,37,9)),3),\"\")","v":""},{"$f":"IF(LEN(A1924)=24,\"\",\"\")","v":""},{"$f":"IF(LEN(A1924)=63,ROUND(VALUE(MID(A1924,39,12)),3),\"\")","v":""},{"$f":"IF(AND(C1924=\"\",D1924=\"\",E1924=\"\"),\"\",ROUND(CONCATENATE(C1924,D1924,E1924),3))","v":""},{"$f":"IF(AND(C1924=\"\",D1924=\"\",E1924=\"\"),\"\",ROUND(CONCATENATE(F1924,G1924,H1924),3))","v":""},{"$f":"IFERROR(SMALL($B$3:$B$2002,ROWS($A$3:A1924)),\"\")","v":""},{"$f":"IF(K1924=\"\",\"\",ROUND(VALUE(VLOOKUP(K1924,$B$3:$J$2002,8,TRUE)),3))","v":""},{"$f":"IF(K1924=\"\",\"\",ROUND(VALUE(VLOOKUP(K1924,$B$3:$J$2002,9,TRUE)),3))","v":""},null,{"$f":"IF(L1924=\"\",\"\",L1924/0.001)","v":""},"",{"$f":"IF(O1924=\"\",\"\",16-LEN(N1924))","v":""},{"$f":"IF(O1924=\"\",\"\",CONCATENATE(\"*11....+\",VLOOKUP(16-(LEN(N1924)),'1'!$A$1:$B$16,2,TRUE),N1924,\" 81..40+\",VLOOKUP(16-(LEN(O1924)),'1'!$A$1:$B$16,2,TRUE),O1924,\" 82..40+\",VLOOKUP(16-(LEN(O1924)),'1'!$A$1:$B$16,2,TRUE),P1924,\" 71....+0000000000000000 \"))","v":""},null,{"$f":"IF(O1924=\"\",\"\",CONCATENATE(N1924,\",\",L1924,\",\",M1924))","v":""}]
[null,{"$f":"IF(I1925=\"\",\"\",ROWS($A$3:A1925))","v":""},"","","","","","","","",{"$f":"IFERROR(SMALL($B$3:$B$2002,ROWS($A$3:A1925)),\"\")","v":""},"","",null,"","","",{"$f":"IF(O1925=\"\",\"\",CONCATENATE(\"*11....+\",VLOOKUP(16-(LEN(N1925)),'1'!$A$1:$B$16,2,TRUE),N1925,\" 81..40+\",VLOOKUP(16-(LEN(O1925)),'1'!$A$1:$B$16,2,TRUE),O1925,\" 82..40+\",VLOOKUP(16-(LEN(O1925)),'1'!$A$1:$B$16,2,TRUE),P1925,\" 71....+0000000000000000 \"))","v":""},null,""]
[null,{"$f":"IF(I1926=\"\",\"\",ROWS($A$3:A1926))","v":""},"","","","","","","","",{"$f":"IFERROR(SMALL($B$3:$B$2002,ROWS($A$3:A1926)),\"\")","v":""},"","",null,"","","",{"$f":"IF(O1926=\"\",\"\",CONCATENATE(\"*11....+\",VLOOKUP(16-(LEN(N1926)),'1'!$A$1:$B$16,2,TRUE),N1926,\" 81..40+\",VLOOKUP(16-(LEN(O1926)),'1'!$A$1:$B$16,2,TRUE),O1926,\" 82..40+\",VLOOKUP(16-(LEN(O1926)),'1'!$A$1:$B$16,2,TRUE),P1926,\" 71....+0000000000000000 \"))","v":""},null,""]
[null,{"$f":"IF(I1927=\"\",\"\",ROWS($A$3:A1927))","v":""},"","","","","","","","",{"$f":"IFERROR(SMALL($B$3:$B$2002,ROWS($A$3:A1927)),\"\")","v":""},"","",null,"","","",{"$f":"IF(O1927=\"\",\"\",CONCATENATE(\"*11....+\",VLOOKUP(16-(LEN(N1927)),'1'!$A$1:$B$16,2,TRUE),N1927,\" 81..40+\",VLOOKUP(16-(LEN(O1927)),'1'!$A$1:$B$16,2,TRUE),O1927,\" 82..40+\",VLOOKUP(16-(LEN(O1927)),'1'!$A$1:$B$16,2,TRUE),P1927,\" 71....+0000000000000000 \"))","v":""},null,""]
[null,{"$f":"IF(I1928=\"\",\"\",ROWS($A$3:A1928))","v":""},"","","","","","","","",{"$f":"IFERROR(SMALL($B$3:$B$2002,ROWS($A$3:A1928)),\"\")","v":""},"","",null,"","","",{"$f":"IF(O1928=\"\",\"\",CONCATENATE(\"*11....+\",VLOOKUP(16-(LEN(N1928)),'1'!$A$1:$B$16,2,TRUE),N1928,\" 81..40+\",VLOOKUP(16-(LEN(O1928)),'1'!$A$1:$B$16,2,TRUE),O1928,\" 82..40+\",VLOOKUP(16-(LEN(O1928)),'1'!$A$1:$B$16,2,TRUE),P1928,\" 71....+0000000000000000 \"))","v":""},null,""]
[null,{"$f":"IF(I1929=\"\",\"\",ROWS($A$3:A1929))","v":""},"","","","","","","","",{"$f":"IFERROR(SMALL($B$3:$B$2002,ROWS($A$3:A1929)),\"\")","v":""},"","",null,"","","",{"$f":"IF(O1929=\"\",\"\",CONCATENATE(\"*11....+\",VLOOKUP(16-(LEN(N1929)),'1'!$A$1:$B$16,2,TRUE),N1929,\" 81..40+\",VLOOKUP(16-(LEN(O1929)),'1'!$A$1:$B$16,2,TRUE),O1929,\" 82..40+\",VLOOKUP(16-(LEN(O1929)),'1'!$A$1:$B$16,2,TRUE),P1929,\" 71....+0000000000000000 \"))","v":""},null,""]
[null,{"$f":"IF(I1930=\"\",\"\",ROWS($A$3:A1930))","v":""},"","","","","","","","",{"$f":"IFERROR(SMALL($B$3:$B$2002,ROWS($A$3:A1930)),\"\")","v":""},"","",null,"","","",{"$f":"IF(O1930=\"\",\"\",CONCATENATE(\"*11....+\",VLOOKUP(16-(LEN(N1930)),'1'!$A$1:$B$16,2,TRUE),N1930,\" 81..40+\",VLOOKUP(16-(LEN(O1930)),'1'!$A$1:$B$16,2,TRUE),O1930,\" 82..40+\",VLOOKUP(16-(LEN(O1930)),'1'!$A$1:$B$16,2,TRUE),P1930,\" 71....+0000000000000000 \"))","v":""},null,""]
[null,{"$f":"IF(I1931=\"\",\"\",ROWS($A$3:A1931))","v":""},"","","","","","","","",{"$f":"IFERROR(SMALL($B$3:$B$2002,ROWS($A$3:A1931)),\"\")","v":""},"","",null,"","","",{"$f":"IF(O1931=\"\",\"\",CONCATENATE(\"*11....+\",VLOOKUP(16-(LEN(N1931)),'1'!$A$1:$B$16,2,TRUE),N1931,\" 81..40+\",VLOOKUP(16-(LEN(O1931)),'1'!$A$1:$B$16,2,TRUE),O1931,\" 82..40+\",VLOOKUP(16-(LEN(O1931)),'1'!$A$1:$B$16,2,TRUE),P1931,\" 71....+0000000000000000 \"))","v":""},null,""]
[null,{"$f":"IF(I1932=\"\",\"\",ROWS($A$3:A1932))","v":""},"","","","","","","","",{"$f":"IFERROR(SMALL($B$3:$B$2002,ROWS($A$3:A1932)),\"\")","v":""},"","",null,"","","",{"$f":"IF(O1932=\"\",\"\",CONCATENATE(\"*11....+\",VLOOKUP(16-(LEN(N1932)),'1'!$A$1:$B$16,2,TRUE),N1932,\" 81..40+\",VLOOKUP(16-(LEN(O1932)),'1'!$A$1:$B$16,2,TRUE),O1932,\" 82..40+\",VLOOKUP(16-(LEN(O1932)),'1'!$A$1:$B$16,2,TRUE),P1932,\" 71....+0000000000000000 \"))","v":""},null,""]
[null,{"$f":"IF(I1933=\"\",\"\",ROWS($A$3:A1933))","v":""},"","","","","","","","",{"$f":"IFERROR(SMALL($B$3:$B$2002,ROWS($A$3:A1933)),\"\")","v":""},"","",null,"","","",{"$f":"IF(O1933=\"\",\"\",CONCATENATE(\"*11....+\",VLOOKUP(16-(LEN(N1933)),'1'!$A$1:$B$16,2,TRUE),N1933,\" 81..40+\",VLOOKUP(16-(LEN(O1933)),'1'!$A$1:$B$16,2,TRUE),O1933,\" 82..40+\",VLOOKUP(16-(LEN(O1933)),'1'!$A$1:$B$16,2,TRUE),P1933,\" 71....+0000000000000000 \"))","v":""},null,""]
[null,{"$f":"IF(I1934=\"\",\"\",ROWS($A$3:A1934))","v":""},"","","","","","","","",{"$f":"IFERROR(SMALL($B$3:$B$2002,ROWS($A$3:A1934)),\"\")","v":""},"","",null,"","","",{"$f":"IF(O1934=\"\",\"\",CONCATENATE(\"*11....+\",VLOOKUP(16-(LEN(N1934)),'1'!$A$1:$B$16,2,TRUE),N1934,\" 81..40+\",VLOOKUP(16-(LEN(O1934)),'1'!$A$1:$B$16,2,TRUE),O1934,\" 82..40+\",VLOOKUP(16-(LEN(O1934)),'1'!$A$1:$B$16,2,TRUE),P1934,\" 71....+0000000000000000 \"))","v":""},null,""]
[null,{"$f":"IF(I1935=\"\",\"\",ROWS($A$3:A1935))","v":""},"","","","","","","","",{"$f":"IFERROR(SMALL($B$3:$B$2002,ROWS($A$3:A1935)),\"\")","v":""},"","",null,"","","",{"$f":"IF(O1935=\"\",\"\",CONCATENATE(\"*11....+\",VLOOKUP(16-(LEN(N1935)),'1'!$A$1:$B$16,2,TRUE),N1935,\" 81..40+\",VLOOKUP(16-(LEN(O1935)),'1'!$A$1:$B$16,2,TRUE),O1935,\" 82..40+\",VLOOKUP(16-(LEN(O1935)),'1'!$A$1:$B$16,2,TRUE),P1935,\" 71....+0000000000000000 \"))","v":""},null,""]
[null,{"$f":"IF(I1936=\"\",\"\",ROWS($A$3:A1936))","v":""},"","","","","","","","",{"$f":"IFERROR(SMALL($B$3:$B$2002,ROWS($A$3:A1936)),\"\")","v":""},"","",null,"","","",{"$f":"IF(O1936=\"\",\"\",CONCATENATE(\"*11....+\",VLOOKUP(16-(LEN(N1936)),'1'!$A$1:$B$16,2,TRUE),N1936,\" 81..40+\",VLOOKUP(16-(LEN(O1936)),'1'!$A$1:$B$16,2,TRUE),O1936,\" 82..40+\",VLOOKUP(16-(LEN(O1936)),'1'!$A$1:$B$16,2,TRUE),P1936,\" 71....+0000000000000000 \"))","v":""},null,""]
[null,{"$f":"IF(I1937=\"\",\"\",ROWS($A$3:A1937))","v":""},"","","","","","","","",{"$f":"IFERROR(SMALL($B$3:$B$2002,ROWS($A$3:A1937)),\"\")","v":""},"","",null,"","","",{"$f":"IF(O1937=\"\",\"\",CONCATENATE(\"*11....+\",VLOOKUP(16-(LEN(N1937)),'1'!$A$1:$B$16,2,TRUE),N1937,\" 81..40+\",VLOOKUP(16-(LEN(O1937)),'1'!$A$1:$B$16,2,TRUE),O1937,\" 82..40+\",VLOOKUP(16-(LEN(O1937)),'1'!$A$1:$B$16,2,TRUE),P1937,\" 71....+0000000000000000 \"))","v":""},null,""]
[null,{"$f":"IF(I1938=\"\",\"\",ROWS($A$3:A1938))","v":""},"","","","","","","","",{"$f":"IFERROR(SMALL($B$3:$B$2002,ROWS($A$3:A1938)),\"\")","v":""},"","",null,"","","",{"$f":"IF(O1938=\"\",\"\",CONCATENATE(\"*11....+\",VLOOKUP(16-(LEN(N1938)),'1'!$A$1:$B$16,2,TRUE),N1938,\" 81..40+\",VLOOKUP(16-(LEN(O1938)),'1'!$A$1:$B$16,2,TRUE),O1938,\" 82..40+\",VLOOKUP(16-(LEN(O1938)),'1'!$A$1:$B$16,2,TRUE),P1938,\" 71....+0000000000000000 \"))","v":""},null,""]
[null,{"$f":"IF(I1939=\"\",\"\",ROWS($A$3:A1939))","v":""},"","","","","","","","",{"$f":"IFERROR(SMALL($B$3:$B$2002,ROWS($A$3:A1939)),\"\")","v":""},"","",null,"","","",{"$f":"IF(O1939=\"\",\"\",CONCATENATE(\"*11....+\",VLOOKUP(16-(LEN(N1939)),'1'!$A$1:$B$16,2,TRUE),N1939,\" 81..40+\",VLOOKUP(16-(LEN(O1939)),'1'!$A$1:$B$16,2,TRUE),O1939,\" 82..40+\",VLOOKUP(16-(LEN(O1939)),'1'!$A$1:$B$16,2,TRUE),P1939,\" 71....+0000000000000000 \"))","v":""},null,""]
[null,{"$f":"IF(I1940=\"\",\"\",ROWS($A$3:A1940))","v":""},"","","","","","","","",{"$f":"IFERROR(SMALL($B$3:$B$2002,ROWS($A$3:A1940)),\"\")","v":""},"","",null,"","","",{"$f":"IF(O1940=\"\",\"\",CONCATENATE(\"*11....+\",VLOOKUP(16-(LEN(N1940)),'1'!$A$1:$B$16,2,TRUE),N1940,\" 81..40+\",VLOOKUP(16-(LEN(O1940)),'1'!$A$1:$B$16,2,TRUE),O1940,\" 82..40+\",VLOOKUP(16-(LEN(O1940)),'1'!$A$1:$B$16,2,TRUE),P1940,\" 71....+0000000000000000 \"))","v":""},null,""]
[null,{"$f":"IF(I1941=\"\",\"\",ROWS($A$3:A1941))","v":""},"","","","","","","","",{"$f":"IFERROR(SMALL($B$3:$B$2002,ROWS($A$3:A1941)),\"\")","v":""},"","",null,"","","",{"$f":"IF(O1941=\"\",\"\",CONCATENATE(\"*11....+\",VLOOKUP(16-(LEN(N1941)),'1'!$A$1:$B$16,2,TRUE),N1941,\" 81..40+\",VLOOKUP(16-(LEN(O1941)),'1'!$A$1:$B$16,2,TRUE),O1941,\" 82..40+\",VLOOKUP(16-(LEN(O1941)),'1'!$A$1:$B$16,2,TRUE),P1941,\" 71....+0000000000000000 \"))","v":""},null,""]
[null,{"$f":"IF(I1942=\"\",\"\",ROWS($A$3:A1942))","v":""},"","","","","","","","",{"$f":"IFERROR(SMALL($B$3:$B$2002,ROWS($A$3:A1942)),\"\")","v":""},"","",null,"","","",{"$f":"IF(O1942=\"\",\"\",CONCATENATE(\"*11....+\",VLOOKUP(16-(LEN(N1942)),'1'!$A$1:$B$16,2,TRUE),N1942,\" 81..40+\",VLOOKUP(16-(LEN(O1942)),'1'!$A$1:$B$16,2,TRUE),O1942,\" 82..40+\",VLOOKUP(16-(LEN(O1942)),'1'!$A$1:$B$16,2,TRUE),P1942,\" 71....+0000000000000000 \"))","v":""},null,""]
[null,{"$f":"IF(I1943=\"\",\"\",ROWS($A$3:A1943))","v":""},"","","","","","","","",{"$f":"IFERROR(SMALL($B$3:$B$2002,ROWS($A$3:A1943)),\"\")","v":""},"","",null,"","","",{"$f":"IF(O1943=\"\",\"\",CONCATENATE(\"*11....+\",VLOOKUP(16-(LEN(N1943)),'1'!$A$1:$B$16,2,TRUE),N1943,\" 81..40+\",VLOOKUP(16-(LEN(O1943)),'1'!$A$1:$B$16,2,TRUE),O1943,\" 82..40+\",VLOOKUP(16-(LEN(O1943)),'1'!$A$1:$B$16,2,TRUE),P1943,\" 71....+0000000000000000 \"))","v":""},null,""]
[null,{"$f":"IF(I1944=\"\",\"\",ROWS($A$3:A1944))","v":""},"","","","","","","","",{"$f":"IFERROR(SMALL($B$3:$B$2002,ROWS($A$3:A1944)),\"\")","v":""},"","",null,"","","",{"$f":"IF(O1944=\"\",\"\",CONCATENATE(\"*11....+\",VLOOKUP(16-(LEN(N1944)),'1'!$A$1:$B$16,2,TRUE),N1944,\" 81..40+\",VLOOKUP(16-(LEN(O1944)),'1'!$A$1:$B$16,2,TRUE),O1944,\" 82..40+\",VLOOKUP(16-(LEN(O1944)),'1'!$A$1:$B$16,2,TRUE),P1944,\" 71....+0000000000000000 \"))","v":""},null,""]
[null,{"$f":"IF(I1945=\"\",\"\",ROWS($A$3:A1945))","v":""},"","","","","","","","",{"$f":"IFERROR(SMALL($B$3:$B$2002,ROWS($A$3:A1945)),\"\")","v":""},"","",null,"","","",{"$f":"IF(O1945=\"\",\"\",CONCATENATE(\"*11....+\",VLOOKUP(16-(LEN(N1945)),'1'!$A$1:$B$16,2,TRUE),N1945,\" 81..40+\",VLOOKUP(16-(LEN(O1945)),'1'!$A$1:$B$16,2,TRUE),O1945,\" 82..40+\",VLOOKUP(16-(LEN(O1945)),'1'!$A$1:$B$16,2,TRUE),P1945,\" 71....+0000000000000000 \"))","v":""},null,""]
[null,{"$f":"IF(I1946=\"\",\"\",ROWS($A$3:A1946))","v":""},"","","","","","","","",{"$f":"IFERROR(SMALL($B$3:$B$2002,ROWS($A$3:A1946)),\"\")","v":""},"","",null,"","","",{"$f":"IF(O1946=\"\",\"\",CONCATENATE(\"*11....+\",VLOOKUP(16-(LEN(N1946)),'1'!$A$1:$B$16,2,TRUE),N1946,\" 81..40+\",VLOOKUP(16-(LEN(O1946)),'1'!$A$1:$B$16,2,TRUE),O1946,\" 82..40+\",VLOOKUP(16-(LEN(O1946)),'1'!$A$1:$B$16,2,TRUE),P1946,\" 71....+0000000000000000 \"))","v":""},null,""]
[null,{"$f":"IF(I1947=\"\",\"\",ROWS($A$3:A1947))","v":""},"","","","","","","","",{"$f":"IFERROR(SMALL($B$3:$B$2002,ROWS($A$3:A1947)),\"\")","v":""},"","",null,"","","",{"$f":"IF(O1947=\"\",\"\",CONCATENATE(\"*11....+\",VLOOKUP(16-(LEN(N1947)),'1'!$A$1:$B$16,2,TRUE),N1947,\" 81..40+\",VLOOKUP(16-(LEN(O1947)),'1'!$A$1:$B$16,2,TRUE),O1947,\" 82..40+\",VLOOKUP(16-(LEN(O1947)),'1'!$A$1:$B$16,2,TRUE),P1947,\" 71....+0000000000000000 \"))","v":""},null,""]
[null,{"$f":"IF(I1948=\"\",\"\",ROWS($A$3:A1948))","v":""},"","","","","","","","",{"$f":"IFERROR(SMALL($B$3:$B$2002,ROWS($A$3:A1948)),\"\")","v":""},"","",null,"","","",{"$f":"IF(O1948=\"\",\"\",CONCATENATE(\"*11....+\",VLOOKUP(16-(LEN(N1948)),'1'!$A$1:$B$16,2,TRUE),N1948,\" 81..40+\",VLOOKUP(16-(LEN(O1948)),'1'!$A$1:$B$16,2,TRUE),O1948,\" 82..40+\",VLOOKUP(16-(LEN(O1948)),'1'!$A$1:$B$16,2,TRUE),P1948,\" 71....+0000000000000000 \"))","v":""},null,""]
[null,{"$f":"IF(I1949=\"\",\"\",ROWS($A$3:A1949))","v":""},"","","","","","","","",{"$f":"IFERROR(SMALL($B$3:$B$2002,ROWS($A$3:A1949)),\"\")","v":""},"","",null,"","","",{"$f":"IF(O1949=\"\",\"\",CONCATENATE(\"*11....+\",VLOOKUP(16-(LEN(N1949)),'1'!$A$1:$B$16,2,TRUE),N1949,\" 81..40+\",VLOOKUP(16-(LEN(O1949)),'1'!$A$1:$B$16,2,TRUE),O1949,\" 82..40+\",VLOOKUP(16-(LEN(O1949)),'1'!$A$1:$B$16,2,TRUE),P1949,\" 71....+0000000000000000 \"))","v":""},null,""]
[null,{"$f":"IF(I1950=\"\",\"\",ROWS($A$3:A1950))","v":""},"","","","","","","","",{"$f":"IFERROR(SMALL($B$3:$B$2002,ROWS($A$3:A1950)),\"\")","v":""},"","",null,"","","",{"$f":"IF(O1950=\"\",\"\",CONCATENATE(\"*11....+\",VLOOKUP(16-(LEN(N1950)),'1'!$A$1:$B$16,2,TRUE),N1950,\" 81..40+\",VLOOKUP(16-(LEN(O1950)),'1'!$A$1:$B$16,2,TRUE),O1950,\" 82..40+\",VLOOKUP(16-(LEN(O1950)),'1'!$A$1:$B$16,2,TRUE),P1950,\" 71....+0000000000000000 \"))","v":""},null,""]
[null,{"$f":"IF(I1951=\"\",\"\",ROWS($A$3:A1951))","v":""},"","","","","","","","",{"$f":"IFERROR(SMALL($B$3:$B$2002,ROWS($A$3:A1951)),\"\")","v":""},"","",null,"","","",{"$f":"IF(O1951=\"\",\"\",CONCATENATE(\"*11....+\",VLOOKUP(16-(LEN(N1951)),'1'!$A$1:$B$16,2,TRUE),N1951,\" 81..40+\",VLOOKUP(16-(LEN(O1951)),'1'!$A$1:$B$16,2,TRUE),O1951,\" 82..40+\",VLOOKUP(16-(LEN(O1951)),'1'!$A$1:$B$16,2,TRUE),P1951,\" 71....+0000000000000000 \"))","v":""},null,""]
[null,{"$f":"IF(I1952=\"\",\"\",ROWS($A$3:A1952))","v":""},"","","","","","","","",{"$f":"IFERROR(SMALL($B$3:$B$2002,ROWS($A$3:A1952)),\"\")","v":""},"","",null,"","","",{"$f":"IF(O1952=\"\",\"\",CONCATENATE(\"*11....+\",VLOOKUP(16-(LEN(N1952)),'1'!$A$1:$B$16,2,TRUE),N1952,\" 81..40+\",VLOOKUP(16-(LEN(O1952)),'1'!$A$1:$B$16,2,TRUE),O1952,\" 82..40+\",VLOOKUP(16-(LEN(O1952)),'1'!$A$1:$B$16,2,TRUE),P1952,\" 71....+0000000000000000 \"))","v":""},null,""]
[null,{"$f":"IF(I1953=\"\",\"\",ROWS($A$3:A1953))","v":""},"","","","","","","","",{"$f":"IFERROR(SMALL($B$3:$B$2002,ROWS($A$3:A1953)),\"\")","v":""},"","",null,"","","",{"$f":"IF(O1953=\"\",\"\",CONCATENATE(\"*11....+\",VLOOKUP(16-(LEN(N1953)),'1'!$A$1:$B$16,2,TRUE),N1953,\" 81..40+\",VLOOKUP(16-(LEN(O1953)),'1'!$A$1:$B$16,2,TRUE),O1953,\" 82..40+\",VLOOKUP(16-(LEN(O1953)),'1'!$A$1:$B$16,2,TRUE),P1953,\" 71....+0000000000000000 \"))","v":""},null,""]
[null,{"$f":"IF(I1954=\"\",\"\",ROWS($A$3:A1954))","v":""},"","","","","","","","",{"$f":"IFERROR(SMALL($B$3:$B$2002,ROWS($A$3:A1954)),\"\")","v":""},"","",null,"","","",{"$f":"IF(O1954=\"\",\"\",CONCATENATE(\"*11....+\",VLOOKUP(16-(LEN(N1954)),'1'!$A$1:$B$16,2,TRUE),N1954,\" 81..40+\",VLOOKUP(16-(LEN(O1954)),'1'!$A$1:$B$16,2,TRUE),O1954,\" 82..40+\",VLOOKUP(16-(LEN(O1954)),'1'!$A$1:$B$16,2,TRUE),P1954,\" 71....+0000000000000000 \"))","v":""},null,""]
[null,{"$f":"IF(I1955=\"\",\"\",ROWS($A$3:A1955))","v":""},"","","","","","","","",{"$f":"IFERROR(SMALL($B$3:$B$2002,ROWS($A$3:A1955)),\"\")","v":""},"","",null,"","","",{"$f":"IF(O1955=\"\",\"\",CONCATENATE(\"*11....+\",VLOOKUP(16-(LEN(N1955)),'1'!$A$1:$B$16,2,TRUE),N1955,\" 81..40+\",VLOOKUP(16-(LEN(O1955)),'1'!$A$1:$B$16,2,TRUE),O1955,\" 82..40+\",VLOOKUP(16-(LEN(O1955)),'1'!$A$1:$B$16,2,TRUE),P1955,\" 71....+0000000000000000 \"))","v":""},null,""]
[null,{"$f":"IF(I1956=\"\",\"\",ROWS($A$3:A1956))","v":""},"","","","","","","","",{"$f":"IFERROR(SMALL($B$3:$B$2002,ROWS($A$3:A1956)),\"\")","v":""},"","",null,"","","",{"$f":"IF(O1956=\"\",\"\",CONCATENATE(\"*11....+\",VLOOKUP(16-(LEN(N1956)),'1'!$A$1:$B$16,2,TRUE),N1956,\" 81..40+\",VLOOKUP(16-(LEN(O1956)),'1'!$A$1:$B$16,2,TRUE),O1956,\" 82..40+\",VLOOKUP(16-(LEN(O1956)),'1'!$A$1:$B$16,2,TRUE),P1956,\" 71....+0000000000000000 \"))","v":""},null,""]
[null,{"$f":"IF(I1957=\"\",\"\",ROWS($A$3:A1957))","v":""},"","","","","","","","",{"$f":"IFERROR(SMALL($B$3:$B$2002,ROWS($A$3:A1957)),\"\")","v":""},"","",null,"","","",{"$f":"IF(O1957=\"\",\"\",CONCATENATE(\"*11....+\",VLOOKUP(16-(LEN(N1957)),'1'!$A$1:$B$16,2,TRUE),N1957,\" 81..40+\",VLOOKUP(16-(LEN(O1957)),'1'!$A$1:$B$16,2,TRUE),O1957,\" 82..40+\",VLOOKUP(16-(LEN(O1957)),'1'!$A$1:$B$16,2,TRUE),P1957,\" 71....+0000000000000000 \"))","v":""},null,""]
[null,{"$f":"IF(I1958=\"\",\"\",ROWS($A$3:A1958))","v":""},"","","","","","","","",{"$f":"IFERROR(SMALL($B$3:$B$2002,ROWS($A$3:A1958)),\"\")","v":""},"","",null,"","","",{"$f":"IF(O1958=\"\",\"\",CONCATENATE(\"*11....+\",VLOOKUP(16-(LEN(N1958)),'1'!$A$1:$B$16,2,TRUE),N1958,\" 81..40+\",VLOOKUP(16-(LEN(O1958)),'1'!$A$1:$B$16,2,TRUE),O1958,\" 82..40+\",VLOOKUP(16-(LEN(O1958)),'1'!$A$1:$B$16,2,TRUE),P1958,\" 71....+0000000000000000 \"))","v":""},null,""]
[null,{"$f":"IF(I1959=\"\",\"\",ROWS($A$3:A1959))","v":""},"","","","","","","","",{"$f":"IFERROR(SMALL($B$3:$B$2002,ROWS($A$3:A1959)),\"\")","v":""},"","",null,"","","",{"$f":"IF(O1959=\"\",\"\",CONCATENATE(\"*11....+\",VLOOKUP(16-(LEN(N1959)),'1'!$A$1:$B$16,2,TRUE),N1959,\" 81..40+\",VLOOKUP(16-(LEN(O1959)),'1'!$A$1:$B$16,2,TRUE),O1959,\" 82..40+\",VLOOKUP(16-(LEN(O1959)),'1'!$A$1:$B$16,2,TRUE),P1959,\" 71....+0000000000000000 \"))","v":""},null,""]
[null,{"$f":"IF(I1960=\"\",\"\",ROWS($A$3:A1960))","v":""},"","","","","","","","",{"$f":"IFERROR(SMALL($B$3:$B$2002,ROWS($A$3:A1960)),\"\")","v":""},"","",null,"","","",{"$f":"IF(O1960=\"\",\"\",CONCATENATE(\"*11....+\",VLOOKUP(16-(LEN(N1960)),'1'!$A$1:$B$16,2,TRUE),N1960,\" 81..40+\",VLOOKUP(16-(LEN(O1960)),'1'!$A$1:$B$16,2,TRUE),O1960,\" 82..40+\",VLOOKUP(16-(LEN(O1960)),'1'!$A$1:$B$16,2,TRUE),P1960,\" 71....+0000000000000000 \"))","v":""},null,""]
[null,{"$f":"IF(I1961=\"\",\"\",ROWS($A$3:A1961))","v":""},"","","","","","","","",{"$f":"IFERROR(SMALL($B$3:$B$2002,ROWS($A$3:A1961)),\"\")","v":""},"","",null,"","","",{"$f":"IF(O1961=\"\",\"\",CONCATENATE(\"*11....+\",VLOOKUP(16-(LEN(N1961)),'1'!$A$1:$B$16,2,TRUE),N1961,\" 81..40+\",VLOOKUP(16-(LEN(O1961)),'1'!$A$1:$B$16,2,TRUE),O1961,\" 82..40+\",VLOOKUP(16-(LEN(O1961)),'1'!$A$1:$B$16,2,TRUE),P1961,\" 71....+0000000000000000 \"))","v":""},null,""]
[null,{"$f":"IF(I1962=\"\",\"\",ROWS($A$3:A1962))","v":""},"","","","","","","","",{"$f":"IFERROR(SMALL($B$3:$B$2002,ROWS($A$3:A1962)),\"\")","v":""},"","",null,"","","",{"$f":"IF(O1962=\"\",\"\",CONCATENATE(\"*11....+\",VLOOKUP(16-(LEN(N1962)),'1'!$A$1:$B$16,2,TRUE),N1962,\" 81..40+\",VLOOKUP(16-(LEN(O1962)),'1'!$A$1:$B$16,2,TRUE),O1962,\" 82..40+\",VLOOKUP(16-(LEN(O1962)),'1'!$A$1:$B$16,2,TRUE),P1962,\" 71....+0000000000000000 \"))","v":""},null,""]
[null,{"$f":"IF(I1963=\"\",\"\",ROWS($A$3:A1963))","v":""},"","","","","","","","",{"$f":"IFERROR(SMALL($B$3:$B$2002,ROWS($A$3:A1963)),\"\")","v":""},"","",null,"","","",{"$f":"IF(O1963=\"\",\"\",CONCATENATE(\"*11....+\",VLOOKUP(16-(LEN(N1963)),'1'!$A$1:$B$16,2,TRUE),N1963,\" 81..40+\",VLOOKUP(16-(LEN(O1963)),'1'!$A$1:$B$16,2,TRUE),O1963,\" 82..40+\",VLOOKUP(16-(LEN(O1963)),'1'!$A$1:$B$16,2,TRUE),P1963,\" 71....+0000000000000000 \"))","v":""},null,""]
[null,{"$f":"IF(I1964=\"\",\"\",ROWS($A$3:A1964))","v":""},"","","","","","","","",{"$f":"IFERROR(SMALL($B$3:$B$2002,ROWS($A$3:A1964)),\"\")","v":""},"","",null,"","","",{"$f":"IF(O1964=\"\",\"\",CONCATENATE(\"*11....+\",VLOOKUP(16-(LEN(N1964)),'1'!$A$1:$B$16,2,TRUE),N1964,\" 81..40+\",VLOOKUP(16-(LEN(O1964)),'1'!$A$1:$B$16,2,TRUE),O1964,\" 82..40+\",VLOOKUP(16-(LEN(O1964)),'1'!$A$1:$B$16,2,TRUE),P1964,\" 71....+0000000000000000 \"))","v":""},null,""]
[null,{"$f":"IF(I1965=\"\",\"\",ROWS($A$3:A1965))","v":""},"","","","","","","","",{"$f":"IFERROR(SMALL($B$3:$B$2002,ROWS($A$3:A1965)),\"\")","v":""},"","",null,"","","",{"$f":"IF(O1965=\"\",\"\",CONCATENATE(\"*11....+\",VLOOKUP(16-(LEN(N1965)),'1'!$A$1:$B$16,2,TRUE),N1965,\" 81..40+\",VLOOKUP(16-(LEN(O1965)),'1'!$A$1:$B$16,2,TRUE),O1965,\" 82..40+\",VLOOKUP(16-(LEN(O1965)),'1'!$A$1:$B$16,2,TRUE),P1965,\" 71....+0000000000000000 \"))","v":""},null,""]
[null,{"$f":"IF(I1966=\"\",\"\",ROWS($A$3:A1966))","v":""},"","","","","","","","",{"$f":"IFERROR(SMALL($B$3:$B$2002,ROWS($A$3:A1966)),\"\")","v":""},"","",null,"","","",{"$f":"IF(O1966=\"\",\"\",CONCATENATE(\"*11....+\",VLOOKUP(16-(LEN(N1966)),'1'!$A$1:$B$16,2,TRUE),N1966,\" 81..40+\",VLOOKUP(16-(LEN(O1966)),'1'!$A$1:$B$16,2,TRUE),O1966,\" 82..40+\",VLOOKUP(16-(LEN(O1966)),'1'!$A$1:$B$16,2,TRUE),P1966,\" 71....+0000000000000000 \"))","v":""},null,""]
[null,{"$f":"IF(I1967=\"\",\"\",ROWS($A$3:A1967))","v":""},"","","","","","","","",{"$f":"IFERROR(SMALL($B$3:$B$2002,ROWS($A$3:A1967)),\"\")","v":""},"","",null,"","","",{"$f":"IF(O1967=\"\",\"\",CONCATENATE(\"*11....+\",VLOOKUP(16-(LEN(N1967)),'1'!$A$1:$B$16,2,TRUE),N1967,\" 81..40+\",VLOOKUP(16-(LEN(O1967)),'1'!$A$1:$B$16,2,TRUE),O1967,\" 82..40+\",VLOOKUP(16-(LEN(O1967)),'1'!$A$1:$B$16,2,TRUE),P1967,\" 71....+0000000000000000 \"))","v":""},null,""]
[null,{"$f":"IF(I1968=\"\",\"\",ROWS($A$3:A1968))","v":""},"","","","","","","","",{"$f":"IFERROR(SMALL($B$3:$B$2002,ROWS($A$3:A1968)),\"\")","v":""},"","",null,"","","",{"$f":"IF(O1968=\"\",\"\",CONCATENATE(\"*11....+\",VLOOKUP(16-(LEN(N1968)),'1'!$A$1:$B$16,2,TRUE),N1968,\" 81..40+\",VLOOKUP(16-(LEN(O1968)),'1'!$A$1:$B$16,2,TRUE),O1968,\" 82..40+\",VLOOKUP(16-(LEN(O1968)),'1'!$A$1:$B$16,2,TRUE),P1968,\" 71....+0000000000000000 \"))","v":""},null,""]
[null,{"$f":"IF(I1969=\"\",\"\",ROWS($A$3:A1969))","v":""},"","","","","","","","",{"$f":"IFERROR(SMALL($B$3:$B$2002,ROWS($A$3:A1969)),\"\")","v":""},"","",null,"","","",{"$f":"IF(O1969=\"\",\"\",CONCATENATE(\"*11....+\",VLOOKUP(16-(LEN(N1969)),'1'!$A$1:$B$16,2,TRUE),N1969,\" 81..40+\",VLOOKUP(16-(LEN(O1969)),'1'!$A$1:$B$16,2,TRUE),O1969,\" 82..40+\",VLOOKUP(16-(LEN(O1969)),'1'!$A$1:$B$16,2,TRUE),P1969,\" 71....+0000000000000000 \"))","v":""},null,""]
[null,{"$f":"IF(I1970=\"\",\"\",ROWS($A$3:A1970))","v":""},"","","","","","","","",{"$f":"IFERROR(SMALL($B$3:$B$2002,ROWS($A$3:A1970)),\"\")","v":""},"","",null,"","","",{"$f":"IF(O1970=\"\",\"\",CONCATENATE(\"*11....+\",VLOOKUP(16-(LEN(N1970)),'1'!$A$1:$B$16,2,TRUE),N1970,\" 81..40+\",VLOOKUP(16-(LEN(O1970)),'1'!$A$1:$B$16,2,TRUE),O1970,\" 82..40+\",VLOOKUP(16-(LEN(O1970)),'1'!$A$1:$B$16,2,TRUE),P1970,\" 71....+0000000000000000 \"))","v":""},null,""]
[null,{"$f":"IF(I1971=\"\",\"\",ROWS($A$3:A1971))","v":""},"","","","","","","","",{"$f":"IFERROR(SMALL($B$3:$B$2002,ROWS($A$3:A1971)),\"\")","v":""},"","",null,"","","",{"$f":"IF(O1971=\"\",\"\",CONCATENATE(\"*11....+\",VLOOKUP(16-(LEN(N1971)),'1'!$A$1:$B$16,2,TRUE),N1971,\" 81..40+\",VLOOKUP(16-(LEN(O1971)),'1'!$A$1:$B$16,2,TRUE),O1971,\" 82..40+\",VLOOKUP(16-(LEN(O1971)),'1'!$A$1:$B$16,2,TRUE),P1971,\" 71....+0000000000000000 \"))","v":""},null,""]
[null,{"$f":"IF(I1972=\"\",\"\",ROWS($A$3:A1972))","v":""},"","","","","","","","",{"$f":"IFERROR(SMALL($B$3:$B$2002,ROWS($A$3:A1972)),\"\")","v":""},"","",null,"","","",{"$f":"IF(O1972=\"\",\"\",CONCATENATE(\"*11....+\",VLOOKUP(16-(LEN(N1972)),'1'!$A$1:$B$16,2,TRUE),N1972,\" 81..40+\",VLOOKUP(16-(LEN(O1972)),'1'!$A$1:$B$16,2,TRUE),O1972,\" 82..40+\",VLOOKUP(16-(LEN(O1972)),'1'!$A$1:$B$16,2,TRUE),P1972,\" 71....+0000000000000000 \"))","v":""},null,""]
[null,{"$f":"IF(I1973=\"\",\"\",ROWS($A$3:A1973))","v":""},"","","","","","","","",{"$f":"IFERROR(SMALL($B$3:$B$2002,ROWS($A$3:A1973)),\"\")","v":""},"","",null,"","","",{"$f":"IF(O1973=\"\",\"\",CONCATENATE(\"*11....+\",VLOOKUP(16-(LEN(N1973)),'1'!$A$1:$B$16,2,TRUE),N1973,\" 81..40+\",VLOOKUP(16-(LEN(O1973)),'1'!$A$1:$B$16,2,TRUE),O1973,\" 82..40+\",VLOOKUP(16-(LEN(O1973)),'1'!$A$1:$B$16,2,TRUE),P1973,\" 71....+0000000000000000 \"))","v":""},null,""]
[null,{"$f":"IF(I1974=\"\",\"\",ROWS($A$3:A1974))","v":""},"","","","","","","","",{"$f":"IFERROR(SMALL($B$3:$B$2002,ROWS($A$3:A1974)),\"\")","v":""},"","",null,"","","",{"$f":"IF(O1974=\"\",\"\",CONCATENATE(\"*11....+\",VLOOKUP(16-(LEN(N1974)),'1'!$A$1:$B$16,2,TRUE),N1974,\" 81..40+\",VLOOKUP(16-(LEN(O1974)),'1'!$A$1:$B$16,2,TRUE),O1974,\" 82..40+\",VLOOKUP(16-(LEN(O1974)),'1'!$A$1:$B$16,2,TRUE),P1974,\" 71....+0000000000000000 \"))","v":""},null,""]
[null,{"$f":"IF(I1975=\"\",\"\",ROWS($A$3:A1975))","v":""},"","","","","","","","",{"$f":"IFERROR(SMALL($B$3:$B$2002,ROWS($A$3:A1975)),\"\")","v":""},"","",null,"","","",{"$f":"IF(O1975=\"\",\"\",CONCATENATE(\"*11....+\",VLOOKUP(16-(LEN(N1975)),'1'!$A$1:$B$16,2,TRUE),N1975,\" 81..40+\",VLOOKUP(16-(LEN(O1975)),'1'!$A$1:$B$16,2,TRUE),O1975,\" 82..40+\",VLOOKUP(16-(LEN(O1975)),'1'!$A$1:$B$16,2,TRUE),P1975,\" 71....+0000000000000000 \"))","v":""},null,""]
[null,{"$f":"IF(I1976=\"\",\"\",ROWS($A$3:A1976))","v":""},"","","","","","","","",{"$f":"IFERROR(SMALL($B$3:$B$2002,ROWS($A$3:A1976)),\"\")","v":""},"","",null,"","","",{"$f":"IF(O1976=\"\",\"\",CONCATENATE(\"*11....+\",VLOOKUP(16-(LEN(N1976)),'1'!$A$1:$B$16,2,TRUE),N1976,\" 81..40+\",VLOOKUP(16-(LEN(O1976)),'1'!$A$1:$B$16,2,TRUE),O1976,\" 82..40+\",VLOOKUP(16-(LEN(O1976)),'1'!$A$1:$B$16,2,TRUE),P1976,\" 71....+0000000000000000 \"))","v":""},null,""]
[null,{"$f":"IF(I1977=\"\",\"\",ROWS($A$3:A1977))","v":""},"","","","","","","","",{"$f":"IFERROR(SMALL($B$3:$B$2002,ROWS($A$3:A1977)),\"\")","v":""},"","",null,"","","",{"$f":"IF(O1977=\"\",\"\",CONCATENATE(\"*11....+\",VLOOKUP(16-(LEN(N1977)),'1'!$A$1:$B$16,2,TRUE),N1977,\" 81..40+\",VLOOKUP(16-(LEN(O1977)),'1'!$A$1:$B$16,2,TRUE),O1977,\" 82..40+\",VLOOKUP(16-(LEN(O1977)),'1'!$A$1:$B$16,2,TRUE),P1977,\" 71....+0000000000000000 \"))","v":""},null,""]
[null,{"$f":"IF(I1978=\"\",\"\",ROWS($A$3:A1978))","v":""},"","","","","","","","",{"$f":"IFERROR(SMALL($B$3:$B$2002,ROWS($A$3:A1978)),\"\")","v":""},"","",null,"","","",{"$f":"IF(O1978=\"\",\"\",CONCATENATE(\"*11....+\",VLOOKUP(16-(LEN(N1978)),'1'!$A$1:$B$16,2,TRUE),N1978,\" 81..40+\",VLOOKUP(16-(LEN(O1978)),'1'!$A$1:$B$16,2,TRUE),O1978,\" 82..40+\",VLOOKUP(16-(LEN(O1978)),'1'!$A$1:$B$16,2,TRUE),P1978,\" 71....+0000000000000000 \"))","v":""},null,""]
[null,{"$f":"IF(I1979=\"\",\"\",ROWS($A$3:A1979))","v":""},"","","","","","","","",{"$f":"IFERROR(SMALL($B$3:$B$2002,ROWS($A$3:A1979)),\"\")","v":""},"","",null,"","","",{"$f":"IF(O1979=\"\",\"\",CONCATENATE(\"*11....+\",VLOOKUP(16-(LEN(N1979)),'1'!$A$1:$B$16,2,TRUE),N1979,\" 81..40+\",VLOOKUP(16-(LEN(O1979)),'1'!$A$1:$B$16,2,TRUE),O1979,\" 82..40+\",VLOOKUP(16-(LEN(O1979)),'1'!$A$1:$B$16,2,TRUE),P1979,\" 71....+0000000000000000 \"))","v":""},null,""]
[null,{"$f":"IF(I1980=\"\",\"\",ROWS($A$3:A1980))","v":""},"","","","","","","","",{"$f":"IFERROR(SMALL($B$3:$B$2002,ROWS($A$3:A1980)),\"\")","v":""},"","",null,"","","",{"$f":"IF(O1980=\"\",\"\",CONCATENATE(\"*11....+\",VLOOKUP(16-(LEN(N1980)),'1'!$A$1:$B$16,2,TRUE),N1980,\" 81..40+\",VLOOKUP(16-(LEN(O1980)),'1'!$A$1:$B$16,2,TRUE),O1980,\" 82..40+\",VLOOKUP(16-(LEN(O1980)),'1'!$A$1:$B$16,2,TRUE),P1980,\" 71....+0000000000000000 \"))","v":""},null,""]
[null,{"$f":"IF(I1981=\"\",\"\",ROWS($A$3:A1981))","v":""},"","","","","","","","",{"$f":"IFERROR(SMALL($B$3:$B$2002,ROWS($A$3:A1981)),\"\")","v":""},"","",null,"","","",{"$f":"IF(O1981=\"\",\"\",CONCATENATE(\"*11....+\",VLOOKUP(16-(LEN(N1981)),'1'!$A$1:$B$16,2,TRUE),N1981,\" 81..40+\",VLOOKUP(16-(LEN(O1981)),'1'!$A$1:$B$16,2,TRUE),O1981,\" 82..40+\",VLOOKUP(16-(LEN(O1981)),'1'!$A$1:$B$16,2,TRUE),P1981,\" 71....+0000000000000000 \"))","v":""},null,""]
[null,{"$f":"IF(I1982=\"\",\"\",ROWS($A$3:A1982))","v":""},"","","","","","","","",{"$f":"IFERROR(SMALL($B$3:$B$2002,ROWS($A$3:A1982)),\"\")","v":""},"","",null,"","","",{"$f":"IF(O1982=\"\",\"\",CONCATENATE(\"*11....+\",VLOOKUP(16-(LEN(N1982)),'1'!$A$1:$B$16,2,TRUE),N1982,\" 81..40+\",VLOOKUP(16-(LEN(O1982)),'1'!$A$1:$B$16,2,TRUE),O1982,\" 82..40+\",VLOOKUP(16-(LEN(O1982)),'1'!$A$1:$B$16,2,TRUE),P1982,\" 71....+0000000000000000 \"))","v":""},null,""]
[null,{"$f":"IF(I1983=\"\",\"\",ROWS($A$3:A1983))","v":""},"","","","","","","","",{"$f":"IFERROR(SMALL($B$3:$B$2002,ROWS($A$3:A1983)),\"\")","v":""},"","",null,"","","",{"$f":"IF(O1983=\"\",\"\",CONCATENATE(\"*11....+\",VLOOKUP(16-(LEN(N1983)),'1'!$A$1:$B$16,2,TRUE),N1983,\" 81..40+\",VLOOKUP(16-(LEN(O1983)),'1'!$A$1:$B$16,2,TRUE),O1983,\" 82..40+\",VLOOKUP(16-(LEN(O1983)),'1'!$A$1:$B$16,2,TRUE),P1983,\" 71....+0000000000000000 \"))","v":""},null,""]
[null,{"$f":"IF(I1984=\"\",\"\",ROWS($A$3:A1984))","v":""},"","","","","","","","",{"$f":"IFERROR(SMALL($B$3:$B$2002,ROWS($A$3:A1984)),\"\")","v":""},"","",null,"","","",{"$f":"IF(O1984=\"\",\"\",CONCATENATE(\"*11....+\",VLOOKUP(16-(LEN(N1984)),'1'!$A$1:$B$16,2,TRUE),N1984,\" 81..40+\",VLOOKUP(16-(LEN(O1984)),'1'!$A$1:$B$16,2,TRUE),O1984,\" 82..40+\",VLOOKUP(16-(LEN(O1984)),'1'!$A$1:$B$16,2,TRUE),P1984,\" 71....+0000000000000000 \"))","v":""},null,""]
[null,{"$f":"IF(I1985=\"\",\"\",ROWS($A$3:A1985))","v":""},"","","","","","","","",{"$f":"IFERROR(SMALL($B$3:$B$2002,ROWS($A$3:A1985)),\"\")","v":""},"","",null,"","","",{"$f":"IF(O1985=\"\",\"\",CONCATENATE(\"*11....+\",VLOOKUP(16-(LEN(N1985)),'1'!$A$1:$B$16,2,TRUE),N1985,\" 81..40+\",VLOOKUP(16-(LEN(O1985)),'1'!$A$1:$B$16,2,TRUE),O1985,\" 82..40+\",VLOOKUP(16-(LEN(O1985)),'1'!$A$1:$B$16,2,TRUE),P1985,\" 71....+0000000000000000 \"))","v":""},null,""]
[null,{"$f":"IF(I1986=\"\",\"\",ROWS($A$3:A1986))","v":""},"","","","","","","","",{"$f":"IFERROR(SMALL($B$3:$B$2002,ROWS($A$3:A1986)),\"\")","v":""},"","",null,"","","",{"$f":"IF(O1986=\"\",\"\",CONCATENATE(\"*11....+\",VLOOKUP(16-(LEN(N1986)),'1'!$A$1:$B$16,2,TRUE),N1986,\" 81..40+\",VLOOKUP(16-(LEN(O1986)),'1'!$A$1:$B$16,2,TRUE),O1986,\" 82..40+\",VLOOKUP(16-(LEN(O1986)),'1'!$A$1:$B$16,2,TRUE),P1986,\" 71....+0000000000000000 \"))","v":""},null,""]
[null,{"$f":"IF(I1987=\"\",\"\",ROWS($A$3:A1987))","v":""},"","","","","","","","",{"$f":"IFERROR(SMALL($B$3:$B$2002,ROWS($A$3:A1987)),\"\")","v":""},"","",null,"","","",{"$f":"IF(O1987=\"\",\"\",CONCATENATE(\"*11....+\",VLOOKUP(16-(LEN(N1987)),'1'!$A$1:$B$16,2,TRUE),N1987,\" 81..40+\",VLOOKUP(16-(LEN(O1987)),'1'!$A$1:$B$16,2,TRUE),O1987,\" 82..40+\",VLOOKUP(16-(LEN(O1987)),'1'!$A$1:$B$16,2,TRUE),P1987,\" 71....+0000000000000000 \"))","v":""},null,""]
[null,{"$f":"IF(I1988=\"\",\"\",ROWS($A$3:A1988))","v":""},{"$f":"IF(LEN(A1988)=59,ROUND(VALUE(MID(A1988,23,9)),3),\"\")","v":""},{"$f":"IF(LEN(A1988)=24,\"\",\"\")","v":""},{"$f":"IF(LEN(A1988)=63,ROUND(VALUE(MID(A1988,23,12)),3),\"\")","v":""},{"$f":"IF(LEN(A1988)=59,ROUND(VALUE(MID(A1988,37,9)),3),\"\")","v":""},{"$f":"IF(LEN(A1988)=24,\"\",\"\")","v":""},{"$f":"IF(LEN(A1988)=63,ROUND(VALUE(MID(A1988,39,12)),3),\"\")","v":""},{"$f":"IF(AND(C1988=\"\",D1988=\"\",E1988=\"\"),\"\",ROUND(CONCATENATE(C1988,D1988,E1988),3))","v":""},{"$f":"IF(AND(C1988=\"\",D1988=\"\",E1988=\"\"),\"\",ROUND(CONCATENATE(F1988,G1988,H1988),3))","v":""},{"$f":"IFERROR(SMALL($B$3:$B$2002,ROWS($A$3:A1988)),\"\")","v":""},{"$f":"IF(K1988=\"\",\"\",ROUND(VALUE(VLOOKUP(K1988,$B$3:$J$2002,8,TRUE)),3))","v":""},{"$f":"IF(K1988=\"\",\"\",ROUND(VALUE(VLOOKUP(K1988,$B$3:$J$2002,9,TRUE)),3))","v":""},null,{"$f":"IF(L1988=\"\",\"\",L1988/0.001)","v":""},"",{"$f":"IF(O1988=\"\",\"\",16-LEN(N1988))","v":""},{"$f":"IF(O1988=\"\",\"\",CONCATENATE(\"*11....+\",VLOOKUP(16-(LEN(N1988)),'1'!$A$1:$B$16,2,TRUE),N1988,\" 81..40+\",VLOOKUP(16-(LEN(O1988)),'1'!$A$1:$B$16,2,TRUE),O1988,\" 82..40+\",VLOOKUP(16-(LEN(O1988)),'1'!$A$1:$B$16,2,TRUE),P1988,\" 71....+0000000000000000 \"))","v":""},null,{"$f":"IF(O1988=\"\",\"\",CONCATENATE(N1988,\",\",L1988,\",\",M1988))","v":""}]
[null,{"$f":"IF(I1989=\"\",\"\",ROWS($A$3:A1989))","v":""},"","","","","","","","",{"$f":"IFERROR(SMALL($B$3:$B$2002,ROWS($A$3:A1989)),\"\")","v":""},"","",null,"","","",{"$f":"IF(O1989=\"\",\"\",CONCATENATE(\"*11....+\",VLOOKUP(16-(LEN(N1989)),'1'!$A$1:$B$16,2,TRUE),N1989,\" 81..40+\",VLOOKUP(16-(LEN(O1989)),'1'!$A$1:$B$16,2,TRUE),O1989,\" 82..40+\",VLOOKUP(16-(LEN(O1989)),'1'!$A$1:$B$16,2,TRUE),P1989,\" 71....+0000000000000000 \"))","v":""},null,""]
[null,{"$f":"IF(I1990=\"\",\"\",ROWS($A$3:A1990))","v":""},"","","","","","","","",{"$f":"IFERROR(SMALL($B$3:$B$2002,ROWS($A$3:A1990)),\"\")","v":""},"","",null,"","","",{"$f":"IF(O1990=\"\",\"\",CONCATENATE(\"*11....+\",VLOOKUP(16-(LEN(N1990)),'1'!$A$1:$B$16,2,TRUE),N1990,\" 81..40+\",VLOOKUP(16-(LEN(O1990)),'1'!$A$1:$B$16,2,TRUE),O1990,\" 82..40+\",VLOOKUP(16-(LEN(O1990)),'1'!$A$1:$B$16,2,TRUE),P1990,\" 71....+0000000000000000 \"))","v":""},null,""]
[null,{"$f":"IF(I1991=\"\",\"\",ROWS($A$3:A1991))","v":""},"","","","","","","","",{"$f":"IFERROR(SMALL($B$3:$B$2002,ROWS($A$3:A1991)),\"\")","v":""},"","",null,"","","",{"$f":"IF(O1991=\"\",\"\",CONCATENATE(\"*11....+\",VLOOKUP(16-(LEN(N1991)),'1'!$A$1:$B$16,2,TRUE),N1991,\" 81..40+\",VLOOKUP(16-(LEN(O1991)),'1'!$A$1:$B$16,2,TRUE),O1991,\" 82..40+\",VLOOKUP(16-(LEN(O1991)),'1'!$A$1:$B$16,2,TRUE),P1991,\" 71....+0000000000000000 \"))","v":""},null,""]
[null,{"$f":"IF(I1992=\"\",\"\",ROWS($A$3:A1992))","v":""},"","","","","","","","",{"$f":"IFERROR(SMALL($B$3:$B$2002,ROWS($A$3:A1992)),\"\")","v":""},"","",null,"","","",{"$f":"IF(O1992=\"\",\"\",CONCATENATE(\"*11....+\",VLOOKUP(16-(LEN(N1992)),'1'!$A$1:$B$16,2,TRUE),N1992,\" 81..40+\",VLOOKUP(16-(LEN(O1992)),'1'!$A$1:$B$16,2,TRUE),O1992,\" 82..40+\",VLOOKUP(16-(LEN(O1992)),'1'!$A$1:$B$16,2,TRUE),P1992,\" 71....+0000000000000000 \"))","v":""},null,""]
[null,{"$f":"IF(I1993=\"\",\"\",ROWS($A$3:A1993))","v":""},"","","","","","","","",{"$f":"IFERROR(SMALL($B$3:$B$2002,ROWS($A$3:A1993)),\"\")","v":""},"","",null,"","","",{"$f":"IF(O1993=\"\",\"\",CONCATENATE(\"*11....+\",VLOOKUP(16-(LEN(N1993)),'1'!$A$1:$B$16,2,TRUE),N1993,\" 81..40+\",VLOOKUP(16-(LEN(O1993)),'1'!$A$1:$B$16,2,TRUE),O1993,\" 82..40+\",VLOOKUP(16-(LEN(O1993)),'1'!$A$1:$B$16,2,TRUE),P1993,\" 71....+0000000000000000 \"))","v":""},null,""]
[null,{"$f":"IF(I1994=\"\",\"\",ROWS($A$3:A1994))","v":""},"","","","","","","","",{"$f":"IFERROR(SMALL($B$3:$B$2002,ROWS($A$3:A1994)),\"\")","v":""},"","",null,"","","",{"$f":"IF(O1994=\"\",\"\",CONCATENATE(\"*11....+\",VLOOKUP(16-(LEN(N1994)),'1'!$A$1:$B$16,2,TRUE),N1994,\" 81..40+\",VLOOKUP(16-(LEN(O1994)),'1'!$A$1:$B$16,2,TRUE),O1994,\" 82..40+\",VLOOKUP(16-(LEN(O1994)),'1'!$A$1:$B$16,2,TRUE),P1994,\" 71....+0000000000000000 \"))","v":""},null,""]
[null,{"$f":"IF(I1995=\"\",\"\",ROWS($A$3:A1995))","v":""},"","","","","","","","",{"$f":"IFERROR(SMALL($B$3:$B$2002,ROWS($A$3:A1995)),\"\")","v":""},"","",null,"","","",{"$f":"IF(O1995=\"\",\"\",CONCATENATE(\"*11....+\",VLOOKUP(16-(LEN(N1995)),'1'!$A$1:$B$16,2,TRUE),N1995,\" 81..40+\",VLOOKUP(16-(LEN(O1995)),'1'!$A$1:$B$16,2,TRUE),O1995,\" 82..40+\",VLOOKUP(16-(LEN(O1995)),'1'!$A$1:$B$16,2,TRUE),P1995,\" 71....+0000000000000000 \"))","v":""},null,""]
[null,{"$f":"IF(I1996=\"\",\"\",ROWS($A$3:A1996))","v":""},"","","","","","","","",{"$f":"IFERROR(SMALL($B$3:$B$2002,ROWS($A$3:A1996)),\"\")","v":""},"","",null,"","","",{"$f":"IF(O1996=\"\",\"\",CONCATENATE(\"*11....+\",VLOOKUP(16-(LEN(N1996)),'1'!$A$1:$B$16,2,TRUE),N1996,\" 81..40+\",VLOOKUP(16-(LEN(O1996)),'1'!$A$1:$B$16,2,TRUE),O1996,\" 82..40+\",VLOOKUP(16-(LEN(O1996)),'1'!$A$1:$B$16,2,TRUE),P1996,\" 71....+0000000000000000 \"))","v":""},null,""]
[null,{"$f":"IF(I1997=\"\",\"\",ROWS($A$3:A1997))","v":""},"","","","","","","","",{"$f":"IFERROR(SMALL($B$3:$B$2002,ROWS($A$3:A1997)),\"\")","v":""},"","",null,"","","",{"$f":"IF(O1997=\"\",\"\",CONCATENATE(\"*11....+\",VLOOKUP(16-(LEN(N1997)),'1'!$A$1:$B$16,2,TRUE),N1997,\" 81..40+\",VLOOKUP(16-(LEN(O1997)),'1'!$A$1:$B$16,2,TRUE),O1997,\" 82..40+\",VLOOKUP(16-(LEN(O1997)),'1'!$A$1:$B$16,2,TRUE),P1997,\" 71....+0000000000000000 \"))","v":""},null,""]
[null,{"$f":"IF(I1998=\"\",\"\",ROWS($A$3:A1998))","v":""},"","","","","","","","",{"$f":"IFERROR(SMALL($B$3:$B$2002,ROWS($A$3:A1998)),\"\")","v":""},"","",null,"","","",{"$f":"IF(O1998=\"\",\"\",CONCATENATE(\"*11....+\",VLOOKUP(16-(LEN(N1998)),'1'!$A$1:$B$16,2,TRUE),N1998,\" 81..40+\",VLOOKUP(16-(LEN(O1998)),'1'!$A$1:$B$16,2,TRUE),O1998,\" 82..40+\",VLOOKUP(16-(LEN(O1998)),'1'!$A$1:$B$16,2,TRUE),P1998,\" 71....+0000000000000000 \"))","v":""},null,""]
[null,{"$f":"IF(I1999=\"\",\"\",ROWS($A$3:A1999))","v":""},"","","","","","","","",{"$f":"IFERROR(SMALL($B$3:$B$2002,ROWS($A$3:A1999)),\"\")","v":""},"","",null,"","","",{"$f":"IF(O1999=\"\",\"\",CONCATENATE(\"*11....+\",VLOOKUP(16-(LEN(N1999)),'1'!$A$1:$B$16,2,TRUE),N1999,\" 81..40+\",VLOOKUP(16-(LEN(O1999)),'1'!$A$1:$B$16,2,TRUE),O1999,\" 82..40+\",VLOOKUP(16-(LEN(O1999)),'1'!$A$1:$B$16,2,TRUE),P1999,\" 71....+0000000000000000 \"))","v":""},null,""]
[null,{"$f":"IF(I2000=\"\",\"\",ROWS($A$3:A2000))","v":""},"","","","","","","","",{"$f":"IFERROR(SMALL($B$3:$B$2002,ROWS($A$3:A2000)),\"\")","v":""},"","",null,"","","",{"$f":"IF(O2000=\"\",\"\",CONCATENATE(\"*11....+\",VLOOKUP(16-(LEN(N2000)),'1'!$A$1:$B$16,2,TRUE),N2000,\" 81..40+\",VLOOKUP(16-(LEN(O2000)),'1'!$A$1:$B$16,2,TRUE),O2000,\" 82..40+\",VLOOKUP(16-(LEN(O2000)),'1'!$A$1:$B$16,2,TRUE),P2000,\" 71....+0000000000000000 \"))","v":""},null,""]
[null,{"$f":"IF(I2001=\"\",\"\",ROWS($A$3:A2001))","v":""},"","","","","","","","",{"$f":"IFERROR(SMALL($B$3:$B$2002,ROWS($A$3:A2001)),\"\")","v":""},"","",null,"","","",{"$f":"IF(O2001=\"\",\"\",CONCATENATE(\"*11....+\",VLOOKUP(16-(LEN(N2001)),'1'!$A$1:$B$16,2,TRUE),N2001,\" 81..40+\",VLOOKUP(16-(LEN(O2001)),'1'!$A$1:$B$16,2,TRUE),O2001,\" 82..40+\",VLOOKUP(16-(LEN(O2001)),'1'!$A$1:$B$16,2,TRUE),P2001,\" 71....+0000000000000000 \"))","v":""},null,""]
[null,{"$f":"IF(I2002=\"\",\"\",ROWS($A$3:A2002))","v":""},"","","","","","","","",{"$f":"IFERROR(SMALL($B$3:$B$2002,ROWS($A$3:A2002)),\"\")","v":""},"","",null,"","","",{"$f":"IF(O2002=\"\",\"\",CONCATENATE(\"*11....+\",VLOOKUP(16-(LEN(N2002)),'1'!$A$1:$B$16,2,TRUE),N2002,\" 81..40+\",VLOOKUP(16-(LEN(O2002)),'1'!$A$1:$B$16,2,TRUE),O2002,\" 82..40+\",VLOOKUP(16-(LEN(O2002)),'1'!$A$1:$B$16,2,TRUE),P2002,\" 71....+0000000000000000 \"))","v":""},null,""]
[null,null,"","","","","","","","",null,"","",null,null,null,"",{"$f":"IF(O2003=\"\",\"\",CONCATENATE(\"*11....+\",VLOOKUP(16-(LEN(N2003)),'1'!$A$1:$B$16,2,TRUE),N2003,\" 81..40+\",VLOOKUP(16-(LEN(O2003)),'1'!$A$1:$B$16,2,TRUE),O2003,\" 82..40+\",VLOOKUP(16-(LEN(O2003)),'1'!$A$1:$B$16,2,TRUE),P2003,\" 71....+0000000000000000 \"))","v":""},null,""]
[null,null,"","","","","","","","",null,"","",null,null,null,"",{"$f":"IF(O2004=\"\",\"\",CONCATENATE(\"*11....+\",VLOOKUP(16-(LEN(N2004)),'1'!$A$1:$B$16,2,TRUE),N2004,\" 81..40+\",VLOOKUP(16-(LEN(O2004)),'1'!$A$1:$B$16,2,TRUE),O2004,\" 82..40+\",VLOOKUP(16-(LEN(O2004)),'1'!$A$1:$B$16,2,TRUE),P2004,\" 71....+0000000000000000 \"))","v":""},null,""]
[null,null,"","","","","","","","",null,"","",null,null,null,"",{"$f":"IF(O2005=\"\",\"\",CONCATENATE(\"*11....+\",VLOOKUP(16-(LEN(N2005)),'1'!$A$1:$B$16,2,TRUE),N2005,\" 81..40+\",VLOOKUP(16-(LEN(O2005)),'1'!$A$1:$B$16,2,TRUE),O2005,\" 82..40+\",VLOOKUP(16-(LEN(O2005)),'1'!$A$1:$B$16,2,TRUE),P2005,\" 71....+0000000000000000 \"))","v":""},null,""]
[null,null,"","","","","","","","",null,"","",null,null,null,"",{"$f":"IF(O2006=\"\",\"\",CONCATENATE(\"*11....+\",VLOOKUP(16-(LEN(N2006)),'1'!$A$1:$B$16,2,TRUE),N2006,\" 81..40+\",VLOOKUP(16-(LEN(O2006)),'1'!$A$1:$B$16,2,TRUE),O2006,\" 82..40+\",VLOOKUP(16-(LEN(O2006)),'1'!$A$1:$B$16,2,TRUE),P2006,\" 71....+0000000000000000 \"))","v":""},null,""]
[null,null,"","","","","","","","",null,"","",null,null,null,"",{"$f":"IF(O2007=\"\",\"\",CONCATENATE(\"*11....+\",VLOOKUP(16-(LEN(N2007)),'1'!$A$1:$B$16,2,TRUE),N2007,\" 81..40+\",VLOOKUP(16-(LEN(O2007)),'1'!$A$1:$B$16,2,TRUE),O2007,\" 82..40+\",VLOOKUP(16-(LEN(O2007)),'1'!$A$1:$B$16,2,TRUE),P2007,\" 71....+0000000000000000 \"))","v":""},null,""]
[null,null,"","","","","","","","",null,"","",null,null,null,"",{"$f":"IF(O2008=\"\",\"\",CONCATENATE(\"*11....+\",VLOOKUP(16-(LEN(N2008)),'1'!$A$1:$B$16,2,TRUE),N2008,\" 81..40+\",VLOOKUP(16-(LEN(O2008)),'1'!$A$1:$B$16,2,TRUE),O2008,\" 82..40+\",VLOOKUP(16-(LEN(O2008)),'1'!$A$1:$B$16,2,TRUE),P2008,\" 71....+0000000000000000 \"))","v":""},null,""]
[null,null,"","","","","","","","",null,"","",null,null,null,"",{"$f":"IF(O2009=\"\",\"\",CONCATENATE(\"*11....+\",VLOOKUP(16-(LEN(N2009)),'1'!$A$1:$B$16,2,TRUE),N2009,\" 81..40+\",VLOOKUP(16-(LEN(O2009)),'1'!$A$1:$B$16,2,TRUE),O2009,\" 82..40+\",VLOOKUP(16-(LEN(O2009)),'1'!$A$1:$B$16,2,TRUE),P2009,\" 71....+0000000000000000 \"))","v":""},null,""]
[null,null,"","","","","","","","",null,"","",null,null,null,"",{"$f":"IF(O2010=\"\",\"\",CONCATENATE(\"*11....+\",VLOOKUP(16-(LEN(N2010)),'1'!$A$1:$B$16,2,TRUE),N2010,\" 81..40+\",VLOOKUP(16-(LEN(O2010)),'1'!$A$1:$B$16,2,TRUE),O2010,\" 82..40+\",VLOOKUP(16-(LEN(O2010)),'1'!$A$1:$B$16,2,TRUE),P2010,\" 71....+0000000000000000 \"))","v":""},null,""]
[null,null,"","","","","","","","",null,"","",null,null,null,"",{"$f":"IF(O2011=\"\",\"\",CONCATENATE(\"*11....+\",VLOOKUP(16-(LEN(N2011)),'1'!$A$1:$B$16,2,TRUE),N2011,\" 81..40+\",VLOOKUP(16-(LEN(O2011)),'1'!$A$1:$B$16,2,TRUE),O2011,\" 82..40+\",VLOOKUP(16-(LEN(O2011)),'1'!$A$1:$B$16,2,TRUE),P2011,\" 71....+0000000000000000 \"))","v":""},null,""]
[null,null,"","","","","","","","",null,"","",null,null,null,"",{"$f":"IF(O2012=\"\",\"\",CONCATENATE(\"*11....+\",VLOOKUP(16-(LEN(N2012)),'1'!$A$1:$B$16,2,TRUE),N2012,\" 81..40+\",VLOOKUP(16-(LEN(O2012)),'1'!$A$1:$B$16,2,TRUE),O2012,\" 82..40+\",VLOOKUP(16-(LEN(O2012)),'1'!$A$1:$B$16,2,TRUE),P2012,\" 71....+0000000000000000 \"))","v":""},null,""]
[null,null,"","","","","","","","",null,"","",null,null,null,"",{"$f":"IF(O2013=\"\",\"\",CONCATENATE(\"*11....+\",VLOOKUP(16-(LEN(N2013)),'1'!$A$1:$B$16,2,TRUE),N2013,\" 81..40+\",VLOOKUP(16-(LEN(O2013)),'1'!$A$1:$B$16,2,TRUE),O2013,\" 82..40+\",VLOOKUP(16-(LEN(O2013)),'1'!$A$1:$B$16,2,TRUE),P2013,\" 71....+0000000000000000 \"))","v":""},null,""]
[null,null,"","","","","","","","",null,"","",null,null,null,"",{"$f":"IF(O2014=\"\",\"\",CONCATENATE(\"*11....+\",VLOOKUP(16-(LEN(N2014)),'1'!$A$1:$B$16,2,TRUE),N2014,\" 81..40+\",VLOOKUP(16-(LEN(O2014)),'1'!$A$1:$B$16,2,TRUE),O2014,\" 82..40+\",VLOOKUP(16-(LEN(O2014)),'1'!$A$1:$B$16,2,TRUE),P2014,\" 71....+0000000000000000 \"))","v":""},null,""]
[null,null,"","","","","","","","",null,"","",null,null,null,"",{"$f":"IF(O2015=\"\",\"\",CONCATENATE(\"*11....+\",VLOOKUP(16-(LEN(N2015)),'1'!$A$1:$B$16,2,TRUE),N2015,\" 81..40+\",VLOOKUP(16-(LEN(O2015)),'1'!$A$1:$B$16,2,TRUE),O2015,\" 82..40+\",VLOOKUP(16-(LEN(O2015)),'1'!$A$1:$B$16,2,TRUE),P2015,\" 71....+0000000000000000 \"))","v":""},null,""]
[null,null,"","","","","","","","",null,"","",null,null,null,"",{"$f":"IF(O2016=\"\",\"\",CONCATENATE(\"*11....+\",VLOOKUP(16-(LEN(N2016)),'1'!$A$1:$B$16,2,TRUE),N2016,\" 81..40+\",VLOOKUP(16-(LEN(O2016)),'1'!$A$1:$B$16,2,TRUE),O2016,\" 82..40+\",VLOOKUP(16-(LEN(O2016)),'1'!$A$1:$B$16,2,TRUE),P2016,\" 71....+0000000000000000 \"))","v":""},null,""]
[null,null,"","","","","","","","",null,"","",null,null,null,"",{"$f":"IF(O2017=\"\",\"\",CONCATENATE(\"*11....+\",VLOOKUP(16-(LEN(N2017)),'1'!$A$1:$B$16,2,TRUE),N2017,\" 81..40+\",VLOOKUP(16-(LEN(O2017)),'1'!$A$1:$B$16,2,TRUE),O2017,\" 82..40+\",VLOOKUP(16-(LEN(O2017)),'1'!$A$1:$B$16,2,TRUE),P2017,\" 71....+0000000000000000 \"))","v":""},null,""]
[null,null,"","","","","","","","",null,"","",null,null,null,"",{"$f":"IF(O2018=\"\",\"\",CONCATENATE(\"*11....+\",VLOOKUP(16-(LEN(N2018)),'1'!$A$1:$B$16,2,TRUE),N2018,\" 81..40+\",VLOOKUP(16-(LEN(O2018)),'1'!$A$1:$B$16,2,TRUE),O2018,\" 82..40+\",VLOOKUP(16-(LEN(O2018)),'1'!$A$1:$B$16,2,TRUE),P2018,\" 71....+0000000000000000 \"))","v":""},null,""]
[null,null,"","","","","","","","",null,"","",null,null,null,"",{"$f":"IF(O2019=\"\",\"\",CONCATENATE(\"*11....+\",VLOOKUP(16-(LEN(N2019)),'1'!$A$1:$B$16,2,TRUE),N2019,\" 81..40+\",VLOOKUP(16-(LEN(O2019)),'1'!$A$1:$B$16,2,TRUE),O2019,\" 82..40+\",VLOOKUP(16-(LEN(O2019)),'1'!$A$1:$B$16,2,TRUE),P2019,\" 71....+0000000000000000 \"))","v":""},null,""]
[null,null,"","","","","","","","",null,"","",null,null,null,"",{"$f":"IF(O2020=\"\",\"\",CONCATENATE(\"*11....+\",VLOOKUP(16-(LEN(N2020)),'1'!$A$1:$B$16,2,TRUE),N2020,\" 81..40+\",VLOOKUP(16-(LEN(O2020)),'1'!$A$1:$B$16,2,TRUE),O2020,\" 82..40+\",VLOOKUP(16-(LEN(O2020)),'1'!$A$1:$B$16,2,TRUE),P2020,\" 71....+0000000000000000 \"))","v":""},null,""]
[null,null,"","","","","","","","",null,"","",null,null,null,"",{"$f":"IF(O2021=\"\",\"\",CONCATENATE(\"*11....+\",VLOOKUP(16-(LEN(N2021)),'1'!$A$1:$B$16,2,TRUE),N2021,\" 81..40+\",VLOOKUP(16-(LEN(O2021)),'1'!$A$1:$B$16,2,TRUE),O2021,\" 82..40+\",VLOOKUP(16-(LEN(O2021)),'1'!$A$1:$B$16,2,TRUE),P2021,\" 71....+0000000000000000 \"))","v":""},null,""]
[null,null,"","","","","","","","",null,"","",null,null,null,"",{"$f":"IF(O2022=\"\",\"\",CONCATENATE(\"*11....+\",VLOOKUP(16-(LEN(N2022)),'1'!$A$1:$B$16,2,TRUE),N2022,\" 81..40+\",VLOOKUP(16-(LEN(O2022)),'1'!$A$1:$B$16,2,TRUE),O2022,\" 82..40+\",VLOOKUP(16-(LEN(O2022)),'1'!$A$1:$B$16,2,TRUE),P2022,\" 71....+0000000000000000 \"))","v":""},null,""]
[null,null,"","","","","","","","",null,"","",null,null,null,"",{"$f":"IF(O2023=\"\",\"\",CONCATENATE(\"*11....+\",VLOOKUP(16-(LEN(N2023)),'1'!$A$1:$B$16,2,TRUE),N2023,\" 81..40+\",VLOOKUP(16-(LEN(O2023)),'1'!$A$1:$B$16,2,TRUE),O2023,\" 82..40+\",VLOOKUP(16-(LEN(O2023)),'1'!$A$1:$B$16,2,TRUE),P2023,\" 71....+0000000000000000 \"))","v":""},null,""]
[null,null,"","","","","","","","",null,"","",null,null,null,"",{"$f":"IF(O2024=\"\",\"\",CONCATENATE(\"*11....+\",VLOOKUP(16-(LEN(N2024)),'1'!$A$1:$B$16,2,TRUE),N2024,\" 81..40+\",VLOOKUP(16-(LEN(O2024)),'1'!$A$1:$B$16,2,TRUE),O2024,\" 82..40+\",VLOOKUP(16-(LEN(O2024)),'1'!$A$1:$B$16,2,TRUE),P2024,\" 71....+0000000000000000 \"))","v":""},null,""]
[null,null,"","","","","","","","",null,"","",null,null,null,"",{"$f":"IF(O2025=\"\",\"\",CONCATENATE(\"*11....+\",VLOOKUP(16-(LEN(N2025)),'1'!$A$1:$B$16,2,TRUE),N2025,\" 81..40+\",VLOOKUP(16-(LEN(O2025)),'1'!$A$1:$B$16,2,TRUE),O2025,\" 82..40+\",VLOOKUP(16-(LEN(O2025)),'1'!$A$1:$B$16,2,TRUE),P2025,\" 71....+0000000000000000 \"))","v":""},null,""]
[null,null,"","","","","","","","",null,"","",null,null,null,"",{"$f":"IF(O2026=\"\",\"\",CONCATENATE(\"*11....+\",VLOOKUP(16-(LEN(N2026)),'1'!$A$1:$B$16,2,TRUE),N2026,\" 81..40+\",VLOOKUP(16-(LEN(O2026)),'1'!$A$1:$B$16,2,TRUE),O2026,\" 82..40+\",VLOOKUP(16-(LEN(O2026)),'1'!$A$1:$B$16,2,TRUE),P2026,\" 71....+0000000000000000 \"))","v":""},null,""]
[null,null,"","","","","","","","",null,"","",null,null,null,"",{"$f":"IF(O2027=\"\",\"\",CONCATENATE(\"*11....+\",VLOOKUP(16-(LEN(N2027)),'1'!$A$1:$B$16,2,TRUE),N2027,\" 81..40+\",VLOOKUP(16-(LEN(O2027)),'1'!$A$1:$B$16,2,TRUE),O2027,\" 82..40+\",VLOOKUP(16-(LEN(O2027)),'1'!$A$1:$B$16,2,TRUE),P2027,\" 71....+0000000000000000 \"))","v":""},null,""]
[null,null,"","","","","","","","",null,"","",null,null,null,"",{"$f":"IF(O2028=\"\",\"\",CONCATENATE(\"*11....+\",VLOOKUP(16-(LEN(N2028)),'1'!$A$1:$B$16,2,TRUE),N2028,\" 81..40+\",VLOOKUP(16-(LEN(O2028)),'1'!$A$1:$B$16,2,TRUE),O2028,\" 82..40+\",VLOOKUP(16-(LEN(O2028)),'1'!$A$1:$B$16,2,TRUE),P2028,\" 71....+0000000000000000 \"))","v":""},null,""]
[null,null,"","","","","","","","",null,"","",null,null,null,"",{"$f":"IF(O2029=\"\",\"\",CONCATENATE(\"*11....+\",VLOOKUP(16-(LEN(N2029)),'1'!$A$1:$B$16,2,TRUE),N2029,\" 81..40+\",VLOOKUP(16-(LEN(O2029)),'1'!$A$1:$B$16,2,TRUE),O2029,\" 82..40+\",VLOOKUP(16-(LEN(O2029)),'1'!$A$1:$B$16,2,TRUE),P2029,\" 71....+0000000000000000 \"))","v":""},null,""]
[null,null,"","","","","","","","",null,"","",null,null,null,null,{"$f":"IF(O2030=\"\",\"\",CONCATENATE(\"*11....+\",VLOOKUP(16-(LEN(N2030)),'1'!$A$1:$B$16,2,TRUE),N2030,\" 81..40+\",VLOOKUP(16-(LEN(O2030)),'1'!$A$1:$B$16,2,TRUE),O2030,\" 82..40+\",VLOOKUP(16-(LEN(O2030)),'1'!$A$1:$B$16,2,TRUE),P2030,\" 71....+0000000000000000 \"))","v":""},null,""]
[null,null,"","","","","","","","",null,"","",null,null,null,null,{"$f":"IF(O2031=\"\",\"\",CONCATENATE(\"*11....+\",VLOOKUP(16-(LEN(N2031)),'1'!$A$1:$B$16,2,TRUE),N2031,\" 81..40+\",VLOOKUP(16-(LEN(O2031)),'1'!$A$1:$B$16,2,TRUE),O2031,\" 82..40+\",VLOOKUP(16-(LEN(O2031)),'1'!$A$1:$B$16,2,TRUE),P2031,\" 71....+0000000000000000 \"))","v":""},null,""]
[null,null,"","","","","","","","",null,"","",null,null,null,null,{"$f":"IF(O2032=\"\",\"\",CONCATENATE(\"*11....+\",VLOOKUP(16-(LEN(N2032)),'1'!$A$1:$B$16,2,TRUE),N2032,\" 81..40+\",VLOOKUP(16-(LEN(O2032)),'1'!$A$1:$B$16,2,TRUE),O2032,\" 82..40+\",VLOOKUP(16-(LEN(O2032)),'1'!$A$1:$B$16,2,TRUE),P2032,\" 71....+0000000000000000 \"))","v":""},null,""]
[null,null,"","","","","","","","",null,"","",null,null,null,null,{"$f":"IF(O2033=\"\",\"\",CONCATENATE(\"*11....+\",VLOOKUP(16-(LEN(N2033)),'1'!$A$1:$B$16,2,TRUE),N2033,\" 81..40+\",VLOOKUP(16-(LEN(O2033)),'1'!$A$1:$B$16,2,TRUE),O2033,\" 82..40+\",VLOOKUP(16-(LEN(O2033)),'1'!$A$1:$B$16,2,TRUE),P2033,\" 71....+0000000000000000 \"))","v":""},null,""]
[null,null,"","","","","","","","",null,"","",null,null,null,null,{"$f":"IF(O2034=\"\",\"\",CONCATENATE(\"*11....+\",VLOOKUP(16-(LEN(N2034)),'1'!$A$1:$B$16,2,TRUE),N2034,\" 81..40+\",VLOOKUP(16-(LEN(O2034)),'1'!$A$1:$B$16,2,TRUE),O2034,\" 82..40+\",VLOOKUP(16-(LEN(O2034)),'1'!$A$1:$B$16,2,TRUE),P2034,\" 71....+0000000000000000 \"))","v":""},null,""]
[null,null,"","","","","","","","",null,"","",null,null,null,null,{"$f":"IF(O2035=\"\",\"\",CONCATENATE(\"*11....+\",VLOOKUP(16-(LEN(N2035)),'1'!$A$1:$B$16,2,TRUE),N2035,\" 81..40+\",VLOOKUP(16-(LEN(O2035)),'1'!$A$1:$B$16,2,TRUE),O2035,\" 82..40+\",VLOOKUP(16-(LEN(O2035)),'1'!$A$1:$B$16,2,TRUE),P2035,\" 71....+0000000000000000 \"))","v":""},null,""]
[null,null,"","","","","","","","",null,"","",null,null,null,null,{"$f":"IF(O2036=\"\",\"\",CONCATENATE(\"*11....+\",VLOOKUP(16-(LEN(N2036)),'1'!$A$1:$B$16,2,TRUE),N2036,\" 81..40+\",VLOOKUP(16-(LEN(O2036)),'1'!$A$1:$B$16,2,TRUE),O2036,\" 82..40+\",VLOOKUP(16-(LEN(O2036)),'1'!$A$1:$B$16,2,TRUE),P2036,\" 71....+0000000000000000 \"))","v":""},null,""]
[null,null,"","","","","","","","",null,"","",null,null,null,null,{"$f":"IF(O2037=\"\",\"\",CONCATENATE(\"*11....+\",VLOOKUP(16-(LEN(N2037)),'1'!$A$1:$B$16,2,TRUE),N2037,\" 81..40+\",VLOOKUP(16-(LEN(O2037)),'1'!$A$1:$B$16,2,TRUE),O2037,\" 82..40+\",VLOOKUP(16-(LEN(O2037)),'1'!$A$1:$B$16,2,TRUE),P2037,\" 71....+0000000000000000 \"))","v":""},null,""]
[null,null,"","","","","","","","",null,"","",null,null,null,null,{"$f":"IF(O2038=\"\",\"\",CONCATENATE(\"*11....+\",VLOOKUP(16-(LEN(N2038)),'1'!$A$1:$B$16,2,TRUE),N2038,\" 81..40+\",VLOOKUP(16-(LEN(O2038)),'1'!$A$1:$B$16,2,TRUE),O2038,\" 82..40+\",VLOOKUP(16-(LEN(O2038)),'1'!$A$1:$B$16,2,TRUE),P2038,\" 71....+0000000000000000 \"))","v":""},null,""]
[null,null,"","","","","","","","",null,"","",null,null,null,null,{"$f":"IF(O2039=\"\",\"\",CONCATENATE(\"*11....+\",VLOOKUP(16-(LEN(N2039)),'1'!$A$1:$B$16,2,TRUE),N2039,\" 81..40+\",VLOOKUP(16-(LEN(O2039)),'1'!$A$1:$B$16,2,TRUE),O2039,\" 82..40+\",VLOOKUP(16-(LEN(O2039)),'1'!$A$1:$B$16,2,TRUE),P2039,\" 71....+0000000000000000 \"))","v":""},null,""]
[null,null,"","","","","","","","",null,"","",null,null,null,null,{"$f":"IF(O2040=\"\",\"\",CONCATENATE(\"*11....+\",VLOOKUP(16-(LEN(N2040)),'1'!$A$1:$B$16,2,TRUE),N2040,\" 81..40+\",VLOOKUP(16-(LEN(O2040)),'1'!$A$1:$B$16,2,TRUE),O2040,\" 82..40+\",VLOOKUP(16-(LEN(O2040)),'1'!$A$1:$B$16,2,TRUE),P2040,\" 71....+0000000000000000 \"))","v":""},null,""]
[null,null,"","","","","","","","",null,"","",null,null,null,null,{"$f":"IF(O2041=\"\",\"\",CONCATENATE(\"*11....+\",VLOOKUP(16-(LEN(N2041)),'1'!$A$1:$B$16,2,TRUE),N2041,\" 81..40+\",VLOOKUP(16-(LEN(O2041)),'1'!$A$1:$B$16,2,TRUE),O2041,\" 82..40+\",VLOOKUP(16-(LEN(O2041)),'1'!$A$1:$B$16,2,TRUE),P2041,\" 71....+0000000000000000 \"))","v":""},null,""]
[null,null,"","","","","","","","",null,"","",null,null,null,null,{"$f":"IF(O2042=\"\",\"\",CONCATENATE(\"*11....+\",VLOOKUP(16-(LEN(N2042)),'1'!$A$1:$B$16,2,TRUE),N2042,\" 81..40+\",VLOOKUP(16-(LEN(O2042)),'1'!$A$1:$B$16,2,TRUE),O2042,\" 82..40+\",VLOOKUP(16-(LEN(O2042)),'1'!$A$1:$B$16,2,TRUE),P2042,\" 71....+0000000000000000 \"))","v":""},null,""]
[null,null,"","","","","","","","",null,"","",null,null,null,null,{"$f":"IF(O2043=\"\",\"\",CONCATENATE(\"*11....+\",VLOOKUP(16-(LEN(N2043)),'1'!$A$1:$B$16,2,TRUE),N2043,\" 81..40+\",VLOOKUP(16-(LEN(O2043)),'1'!$A$1:$B$16,2,TRUE),O2043,\" 82..40+\",VLOOKUP(16-(LEN(O2043)),'1'!$A$1:$B$16,2,TRUE),P2043,\" 71....+0000000000000000 \"))","v":""},null,""]
[null,null,"","","","","","","","",null,"","",null,null,null,null,{"$f":"IF(O2044=\"\",\"\",CONCATENATE(\"*11....+\",VLOOKUP(16-(LEN(N2044)),'1'!$A$1:$B$16,2,TRUE),N2044,\" 81..40+\",VLOOKUP(16-(LEN(O2044)),'1'!$A$1:$B$16,2,TRUE),O2044,\" 82..40+\",VLOOKUP(16-(LEN(O2044)),'1'!$A$1:$B$16,2,TRUE),P2044,\" 71....+0000000000000000 \"))","v":""},null,""]
[null,null,"","","","","","","","",null,"","",null,null,null,null,{"$f":"IF(O2045=\"\",\"\",CONCATENATE(\"*11....+\",VLOOKUP(16-(LEN(N2045)),'1'!$A$1:$B$16,2,TRUE),N2045,\" 81..40+\",VLOOKUP(16-(LEN(O2045)),'1'!$A$1:$B$16,2,TRUE),O2045,\" 82..40+\",VLOOKUP(16-(LEN(O2045)),'1'!$A$1:$B$16,2,TRUE),P2045,\" 71....+0000000000000000 \"))","v":""},null,""]
[null,null,"","","","","","","","",null,"","",null,null,null,null,{"$f":"IF(O2046=\"\",\"\",CONCATENATE(\"*11....+\",VLOOKUP(16-(LEN(N2046)),'1'!$A$1:$B$16,2,TRUE),N2046,\" 81..40+\",VLOOKUP(16-(LEN(O2046)),'1'!$A$1:$B$16,2,TRUE),O2046,\" 82..40+\",VLOOKUP(16-(LEN(O2046)),'1'!$A$1:$B$16,2,TRUE),P2046,\" 71....+0000000000000000 \"))","v":""},null,""]
[null,null,"","","","","","","","",null,"","",null,null,null,null,{"$f":"IF(O2047=\"\",\"\",CONCATENATE(\"*11....+\",VLOOKUP(16-(LEN(N2047)),'1'!$A$1:$B$16,2,TRUE),N2047,\" 81..40+\",VLOOKUP(16-(LEN(O2047)),'1'!$A$1:$B$16,2,TRUE),O2047,\" 82..40+\",VLOOKUP(16-(LEN(O2047)),'1'!$A$1:$B$16,2,TRUE),P2047,\" 71....+0000000000000000 \"))","v":""},null,""]
[null,null,"","","","","","","","",null,"","",null,null,null,null,{"$f":"IF(O2048=\"\",\"\",CONCATENATE(\"*11....+\",VLOOKUP(16-(LEN(N2048)),'1'!$A$1:$B$16,2,TRUE),N2048,\" 81..40+\",VLOOKUP(16-(LEN(O2048)),'1'!$A$1:$B$16,2,TRUE),O2048,\" 82..40+\",VLOOKUP(16-(LEN(O2048)),'1'!$A$1:$B$16,2,TRUE),P2048,\" 71....+0000000000000000 \"))","v":""},null,""]
[null,null,"","","","","","","","",null,"","",null,null,null,null,{"$f":"IF(O2049=\"\",\"\",CONCATENATE(\"*11....+\",VLOOKUP(16-(LEN(N2049)),'1'!$A$1:$B$16,2,TRUE),N2049,\" 81..40+\",VLOOKUP(16-(LEN(O2049)),'1'!$A$1:$B$16,2,TRUE),O2049,\" 82..40+\",VLOOKUP(16-(LEN(O2049)),'1'!$A$1:$B$16,2,TRUE),P2049,\" 71....+0000000000000000 \"))","v":""},null,""]
[null,null,"","","","","","","","",null,"","",null,null,null,null,{"$f":"IF(O2050=\"\",\"\",CONCATENATE(\"*11....+\",VLOOKUP(16-(LEN(N2050)),'1'!$A$1:$B$16,2,TRUE),N2050,\" 81..40+\",VLOOKUP(16-(LEN(O2050)),'1'!$A$1:$B$16,2,TRUE),O2050,\" 82..40+\",VLOOKUP(16-(LEN(O2050)),'1'!$A$1:$B$16,2,TRUE),P2050,\" 71....+0000000000000000 \"))","v":""},null,""]
[null,null,"","","","","","","","",null,"","",null,null,null,null,{"$f":"IF(O2051=\"\",\"\",CONCATENATE(\"*11....+\",VLOOKUP(16-(LEN(N2051)),'1'!$A$1:$B$16,2,TRUE),N2051,\" 81..40+\",VLOOKUP(16-(LEN(O2051)),'1'!$A$1:$B$16,2,TRUE),O2051,\" 82..40+\",VLOOKUP(16-(LEN(O2051)),'1'!$A$1:$B$16,2,TRUE),P2051,\" 71....+0000000000000000 \"))","v":""},null,""]
[null,null,{"$f":"IF(LEN(A2052)=59,ROUND(VALUE(MID(A2052,23,9)),3),\"\")","v":""},{"$f":"IF(LEN(A2052)=24,\"\",\"\")","v":""},{"$f":"IF(LEN(A2052)=63,ROUND(VALUE(MID(A2052,23,12)),3),\"\")","v":""},{"$f":"IF(LEN(A2052)=59,ROUND(VALUE(MID(A2052,37,9)),3),\"\")","v":""},{"$f":"IF(LEN(A2052)=24,\"\",\"\")","v":""},{"$f":"IF(LEN(A2052)=63,ROUND(VALUE(MID(A2052,39,12)),3),\"\")","v":""},{"$f":"IF(AND(C2052=\"\",D2052=\"\",E2052=\"\"),\"\",ROUND(CONCATENATE(C2052,D2052,E2052),3))","v":""},{"$f":"IF(AND(C2052=\"\",D2052=\"\",E2052=\"\"),\"\",ROUND(CONCATENATE(F2052,G2052,H2052),3))","v":""},null,{"$f":"IF(K2052=\"\",\"\",ROUND(VALUE(VLOOKUP(K2052,$B$3:$J$2002,8,TRUE)),3))","v":""},{"$f":"IF(K2052=\"\",\"\",ROUND(VALUE(VLOOKUP(K2052,$B$3:$J$2002,9,TRUE)),3))","v":""},null,null,null,null,{"$f":"IF(O2052=\"\",\"\",CONCATENATE(\"*11....+\",VLOOKUP(16-(LEN(N2052)),'1'!$A$1:$B$16,2,TRUE),N2052,\" 81..40+\",VLOOKUP(16-(LEN(O2052)),'1'!$A$1:$B$16,2,TRUE),O2052,\" 82..40+\",VLOOKUP(16-(LEN(O2052)),'1'!$A$1:$B$16,2,TRUE),P2052,\" 71....+0000000000000000 \"))","v":""},null,{"$f":"IF(O2052=\"\",\"\",CONCATENATE(N2052,\",\",L2052,\",\",M2052))","v":""}]
[null,null,"","","","","","","","",null,"","",null,null,null,null,{"$f":"IF(O2053=\"\",\"\",CONCATENATE(\"*11....+\",VLOOKUP(16-(LEN(N2053)),'1'!$A$1:$B$16,2,TRUE),N2053,\" 81..40+\",VLOOKUP(16-(LEN(O2053)),'1'!$A$1:$B$16,2,TRUE),O2053,\" 82..40+\",VLOOKUP(16-(LEN(O2053)),'1'!$A$1:$B$16,2,TRUE),P2053,\" 71....+0000000000000000 \"))","v":""},null,""]
[null,null,"","","","","","","","",null,"","",null,null,null,null,{"$f":"IF(O2054=\"\",\"\",CONCATENATE(\"*11....+\",VLOOKUP(16-(LEN(N2054)),'1'!$A$1:$B$16,2,TRUE),N2054,\" 81..40+\",VLOOKUP(16-(LEN(O2054)),'1'!$A$1:$B$16,2,TRUE),O2054,\" 82..40+\",VLOOKUP(16-(LEN(O2054)),'1'!$A$1:$B$16,2,TRUE),P2054,\" 71....+0000000000000000 \"))","v":""},null,""]
[null,null,"","","","","","","","",null,"","",null,null,null,null,{"$f":"IF(O2055=\"\",\"\",CONCATENATE(\"*11....+\",VLOOKUP(16-(LEN(N2055)),'1'!$A$1:$B$16,2,TRUE),N2055,\" 81..40+\",VLOOKUP(16-(LEN(O2055)),'1'!$A$1:$B$16,2,TRUE),O2055,\" 82..40+\",VLOOKUP(16-(LEN(O2055)),'1'!$A$1:$B$16,2,TRUE),P2055,\" 71....+0000000000000000 \"))","v":""},null,""]
[null,null,"","","","","","","","",null,"","",null,null,null,null,{"$f":"IF(O2056=\"\",\"\",CONCATENATE(\"*11....+\",VLOOKUP(16-(LEN(N2056)),'1'!$A$1:$B$16,2,TRUE),N2056,\" 81..40+\",VLOOKUP(16-(LEN(O2056)),'1'!$A$1:$B$16,2,TRUE),O2056,\" 82..40+\",VLOOKUP(16-(LEN(O2056)),'1'!$A$1:$B$16,2,TRUE),P2056,\" 71....+0000000000000000 \"))","v":""},null,""]
[null,null,"","","","","","","","",null,"","",null,null,null,null,{"$f":"IF(O2057=\"\",\"\",CONCATENATE(\"*11....+\",VLOOKUP(16-(LEN(N2057)),'1'!$A$1:$B$16,2,TRUE),N2057,\" 81..40+\",VLOOKUP(16-(LEN(O2057)),'1'!$A$1:$B$16,2,TRUE),O2057,\" 82..40+\",VLOOKUP(16-(LEN(O2057)),'1'!$A$1:$B$16,2,TRUE),P2057,\" 71....+0000000000000000 \"))","v":""},null,""]
[null,null,"","","","","","","","",null,"","",null,null,null,null,{"$f":"IF(O2058=\"\",\"\",CONCATENATE(\"*11....+\",VLOOKUP(16-(LEN(N2058)),'1'!$A$1:$B$16,2,TRUE),N2058,\" 81..40+\",VLOOKUP(16-(LEN(O2058)),'1'!$A$1:$B$16,2,TRUE),O2058,\" 82..40+\",VLOOKUP(16-(LEN(O2058)),'1'!$A$1:$B$16,2,TRUE),P2058,\" 71....+0000000000000000 \"))","v":""},null,""]
[null,null,"","","","","","","","",null,"","",null,null,null,null,{"$f":"IF(O2059=\"\",\"\",CONCATENATE(\"*11....+\",VLOOKUP(16-(LEN(N2059)),'1'!$A$1:$B$16,2,TRUE),N2059,\" 81..40+\",VLOOKUP(16-(LEN(O2059)),'1'!$A$1:$B$16,2,TRUE),O2059,\" 82..40+\",VLOOKUP(16-(LEN(O2059)),'1'!$A$1:$B$16,2,TRUE),P2059,\" 71....+0000000000000000 \"))","v":""},null,""]
[null,null,"","","","","","","","",null,"","",null,null,null,null,{"$f":"IF(O2060=\"\",\"\",CONCATENATE(\"*11....+\",VLOOKUP(16-(LEN(N2060)),'1'!$A$1:$B$16,2,TRUE),N2060,\" 81..40+\",VLOOKUP(16-(LEN(O2060)),'1'!$A$1:$B$16,2,TRUE),O2060,\" 82..40+\",VLOOKUP(16-(LEN(O2060)),'1'!$A$1:$B$16,2,TRUE),P2060,\" 71....+0000000000000000 \"))","v":""},null,""]
[null,null,"","","","","","","","",null,"","",null,null,null,null,{"$f":"IF(O2061=\"\",\"\",CONCATENATE(\"*11....+\",VLOOKUP(16-(LEN(N2061)),'1'!$A$1:$B$16,2,TRUE),N2061,\" 81..40+\",VLOOKUP(16-(LEN(O2061)),'1'!$A$1:$B$16,2,TRUE),O2061,\" 82..40+\",VLOOKUP(16-(LEN(O2061)),'1'!$A$1:$B$16,2,TRUE),P2061,\" 71....+0000000000000000 \"))","v":""},null,""]
[null,null,"","","","","","","","",null,"","",null,null,null,null,{"$f":"IF(O2062=\"\",\"\",CONCATENATE(\"*11....+\",VLOOKUP(16-(LEN(N2062)),'1'!$A$1:$B$16,2,TRUE),N2062,\" 81..40+\",VLOOKUP(16-(LEN(O2062)),'1'!$A$1:$B$16,2,TRUE),O2062,\" 82..40+\",VLOOKUP(16-(LEN(O2062)),'1'!$A$1:$B$16,2,TRUE),P2062,\" 71....+0000000000000000 \"))","v":""},null,""]
[null,null,"","","","","","","","",null,"","",null,null,null,null,{"$f":"IF(O2063=\"\",\"\",CONCATENATE(\"*11....+\",VLOOKUP(16-(LEN(N2063)),'1'!$A$1:$B$16,2,TRUE),N2063,\" 81..40+\",VLOOKUP(16-(LEN(O2063)),'1'!$A$1:$B$16,2,TRUE),O2063,\" 82..40+\",VLOOKUP(16-(LEN(O2063)),'1'!$A$1:$B$16,2,TRUE),P2063,\" 71....+0000000000000000 \"))","v":""},null,""]
[null,null,"","","","","","","","",null,"","",null,null,null,null,{"$f":"IF(O2064=\"\",\"\",CONCATENATE(\"*11....+\",VLOOKUP(16-(LEN(N2064)),'1'!$A$1:$B$16,2,TRUE),N2064,\" 81..40+\",VLOOKUP(16-(LEN(O2064)),'1'!$A$1:$B$16,2,TRUE),O2064,\" 82..40+\",VLOOKUP(16-(LEN(O2064)),'1'!$A$1:$B$16,2,TRUE),P2064,\" 71....+0000000000000000 \"))","v":""},null,""]
[null,null,"","","","","","","","",null,"","",null,null,null,null,{"$f":"IF(O2065=\"\",\"\",CONCATENATE(\"*11....+\",VLOOKUP(16-(LEN(N2065)),'1'!$A$1:$B$16,2,TRUE),N2065,\" 81..40+\",VLOOKUP(16-(LEN(O2065)),'1'!$A$1:$B$16,2,TRUE),O2065,\" 82..40+\",VLOOKUP(16-(LEN(O2065)),'1'!$A$1:$B$16,2,TRUE),P2065,\" 71....+0000000000000000 \"))","v":""},null,""]
[null,null,"","","","","","","","",null,"","",null,null,null,null,{"$f":"IF(O2066=\"\",\"\",CONCATENATE(\"*11....+\",VLOOKUP(16-(LEN(N2066)),'1'!$A$1:$B$16,2,TRUE),N2066,\" 81..40+\",VLOOKUP(16-(LEN(O2066)),'1'!$A$1:$B$16,2,TRUE),O2066,\" 82..40+\",VLOOKUP(16-(LEN(O2066)),'1'!$A$1:$B$16,2,TRUE),P2066,\" 71....+0000000000000000 \"))","v":""},null,""]
[null,null,"","","","","","","","",null,"","",null,null,null,null,{"$f":"IF(O2067=\"\",\"\",CONCATENATE(\"*11....+\",VLOOKUP(16-(LEN(N2067)),'1'!$A$1:$B$16,2,TRUE),N2067,\" 81..40+\",VLOOKUP(16-(LEN(O2067)),'1'!$A$1:$B$16,2,TRUE),O2067,\" 82..40+\",VLOOKUP(16-(LEN(O2067)),'1'!$A$1:$B$16,2,TRUE),P2067,\" 71....+0000000000000000 \"))","v":""},null,""]
[null,null,"","","","","","","","",null,"","",null,null,null,null,{"$f":"IF(O2068=\"\",\"\",CONCATENATE(\"*11....+\",VLOOKUP(16-(LEN(N2068)),'1'!$A$1:$B$16,2,TRUE),N2068,\" 81..40+\",VLOOKUP(16-(LEN(O2068)),'1'!$A$1:$B$16,2,TRUE),O2068,\" 82..40+\",VLOOKUP(16-(LEN(O2068)),'1'!$A$1:$B$16,2,TRUE),P2068,\" 71....+0000000000000000 \"))","v":""},null,""]
[null,null,"","","","","","","","",null,"","",null,null,null,null,{"$f":"IF(O2069=\"\",\"\",CONCATENATE(\"*11....+\",VLOOKUP(16-(LEN(N2069)),'1'!$A$1:$B$16,2,TRUE),N2069,\" 81..40+\",VLOOKUP(16-(LEN(O2069)),'1'!$A$1:$B$16,2,TRUE),O2069,\" 82..40+\",VLOOKUP(16-(LEN(O2069)),'1'!$A$1:$B$16,2,TRUE),P2069,\" 71....+0000000000000000 \"))","v":""},null,""]
[null,null,"","","","","","","","",null,"","",null,null,null,null,{"$f":"IF(O2070=\"\",\"\",CONCATENATE(\"*11....+\",VLOOKUP(16-(LEN(N2070)),'1'!$A$1:$B$16,2,TRUE),N2070,\" 81..40+\",VLOOKUP(16-(LEN(O2070)),'1'!$A$1:$B$16,2,TRUE),O2070,\" 82..40+\",VLOOKUP(16-(LEN(O2070)),'1'!$A$1:$B$16,2,TRUE),P2070,\" 71....+0000000000000000 \"))","v":""},null,""]
[null,null,"","","","","","","","",null,"","",null,null,null,null,{"$f":"IF(O2071=\"\",\"\",CONCATENATE(\"*11....+\",VLOOKUP(16-(LEN(N2071)),'1'!$A$1:$B$16,2,TRUE),N2071,\" 81..40+\",VLOOKUP(16-(LEN(O2071)),'1'!$A$1:$B$16,2,TRUE),O2071,\" 82..40+\",VLOOKUP(16-(LEN(O2071)),'1'!$A$1:$B$16,2,TRUE),P2071,\" 71....+0000000000000000 \"))","v":""},null,""]
[null,null,"","","","","","","","",null,"","",null,null,null,null,{"$f":"IF(O2072=\"\",\"\",CONCATENATE(\"*11....+\",VLOOKUP(16-(LEN(N2072)),'1'!$A$1:$B$16,2,TRUE),N2072,\" 81..40+\",VLOOKUP(16-(LEN(O2072)),'1'!$A$1:$B$16,2,TRUE),O2072,\" 82..40+\",VLOOKUP(16-(LEN(O2072)),'1'!$A$1:$B$16,2,TRUE),P2072,\" 71....+0000000000000000 \"))","v":""},null,""]
[null,null,"","","","","","","","",null,"","",null,null,null,null,{"$f":"IF(O2073=\"\",\"\",CONCATENATE(\"*11....+\",VLOOKUP(16-(LEN(N2073)),'1'!$A$1:$B$16,2,TRUE),N2073,\" 81..40+\",VLOOKUP(16-(LEN(O2073)),'1'!$A$1:$B$16,2,TRUE),O2073,\" 82..40+\",VLOOKUP(16-(LEN(O2073)),'1'!$A$1:$B$16,2,TRUE),P2073,\" 71....+0000000000000000 \"))","v":""},null,""]
[null,null,"","","","","","","","",null,"","",null,null,null,null,{"$f":"IF(O2074=\"\",\"\",CONCATENATE(\"*11....+\",VLOOKUP(16-(LEN(N2074)),'1'!$A$1:$B$16,2,TRUE),N2074,\" 81..40+\",VLOOKUP(16-(LEN(O2074)),'1'!$A$1:$B$16,2,TRUE),O2074,\" 82..40+\",VLOOKUP(16-(LEN(O2074)),'1'!$A$1:$B$16,2,TRUE),P2074,\" 71....+0000000000000000 \"))","v":""},null,""]
[null,null,"","","","","","","","",null,"","",null,null,null,null,{"$f":"IF(O2075=\"\",\"\",CONCATENATE(\"*11....+\",VLOOKUP(16-(LEN(N2075)),'1'!$A$1:$B$16,2,TRUE),N2075,\" 81..40+\",VLOOKUP(16-(LEN(O2075)),'1'!$A$1:$B$16,2,TRUE),O2075,\" 82..40+\",VLOOKUP(16-(LEN(O2075)),'1'!$A$1:$B$16,2,TRUE),P2075,\" 71....+0000000000000000 \"))","v":""},null,""]
[null,null,"","","","","","","","",null,"","",null,null,null,null,{"$f":"IF(O2076=\"\",\"\",CONCATENATE(\"*11....+\",VLOOKUP(16-(LEN(N2076)),'1'!$A$1:$B$16,2,TRUE),N2076,\" 81..40+\",VLOOKUP(16-(LEN(O2076)),'1'!$A$1:$B$16,2,TRUE),O2076,\" 82..40+\",VLOOKUP(16-(LEN(O2076)),'1'!$A$1:$B$16,2,TRUE),P2076,\" 71....+0000000000000000 \"))","v":""},null,""]
[null,null,"","","","","","","","",null,"","",null,null,null,null,{"$f":"IF(O2077=\"\",\"\",CONCATENATE(\"*11....+\",VLOOKUP(16-(LEN(N2077)),'1'!$A$1:$B$16,2,TRUE),N2077,\" 81..40+\",VLOOKUP(16-(LEN(O2077)),'1'!$A$1:$B$16,2,TRUE),O2077,\" 82..40+\",VLOOKUP(16-(LEN(O2077)),'1'!$A$1:$B$16,2,TRUE),P2077,\" 71....+0000000000000000 \"))","v":""},null,""]
[null,null,"","","","","","","","",null,"","",null,null,null,null,{"$f":"IF(O2078=\"\",\"\",CONCATENATE(\"*11....+\",VLOOKUP(16-(LEN(N2078)),'1'!$A$1:$B$16,2,TRUE),N2078,\" 81..40+\",VLOOKUP(16-(LEN(O2078)),'1'!$A$1:$B$16,2,TRUE),O2078,\" 82..40+\",VLOOKUP(16-(LEN(O2078)),'1'!$A$1:$B$16,2,TRUE),P2078,\" 71....+0000000000000000 \"))","v":""},null,""]
[null,null,"","","","","","","","",null,"","",null,null,null,null,{"$f":"IF(O2079=\"\",\"\",CONCATENATE(\"*11....+\",VLOOKUP(16-(LEN(N2079)),'1'!$A$1:$B$16,2,TRUE),N2079,\" 81..40+\",VLOOKUP(16-(LEN(O2079)),'1'!$A$1:$B$16,2,TRUE),O2079,\" 82..40+\",VLOOKUP(16-(LEN(O2079)),'1'!$A$1:$B$16,2,TRUE),P2079,\" 71....+0000000000000000 \"))","v":""},null,""]
[null,null,"","","","","","","","",null,"","",null,null,null,null,{"$f":"IF(O2080=\"\",\"\",CONCATENATE(\"*11....+\",VLOOKUP(16-(LEN(N2080)),'1'!$A$1:$B$16,2,TRUE),N2080,\" 81..40+\",VLOOKUP(16-(LEN(O2080)),'1'!$A$1:$B$16,2,TRUE),O2080,\" 82..40+\",VLOOKUP(16-(LEN(O2080)),'1'!$A$1:$B$16,2,TRUE),P2080,\" 71....+0000000000000000 \"))","v":""},null,""]
[null,null,"","","","","","","","",null,"","",null,null,null,null,{"$f":"IF(O2081=\"\",\"\",CONCATENATE(\"*11....+\",VLOOKUP(16-(LEN(N2081)),'1'!$A$1:$B$16,2,TRUE),N2081,\" 81..40+\",VLOOKUP(16-(LEN(O2081)),'1'!$A$1:$B$16,2,TRUE),O2081,\" 82..40+\",VLOOKUP(16-(LEN(O2081)),'1'!$A$1:$B$16,2,TRUE),P2081,\" 71....+0000000000000000 \"))","v":""},null,""]
[null,null,"","","","","","","","",null,"","",null,null,null,null,{"$f":"IF(O2082=\"\",\"\",CONCATENATE(\"*11....+\",VLOOKUP(16-(LEN(N2082)),'1'!$A$1:$B$16,2,TRUE),N2082,\" 81..40+\",VLOOKUP(16-(LEN(O2082)),'1'!$A$1:$B$16,2,TRUE),O2082,\" 82..40+\",VLOOKUP(16-(LEN(O2082)),'1'!$A$1:$B$16,2,TRUE),P2082,\" 71....+0000000000000000 \"))","v":""},null,""]
[null,null,"","","","","","","","",null,"","",null,null,null,null,{"$f":"IF(O2083=\"\",\"\",CONCATENATE(\"*11....+\",VLOOKUP(16-(LEN(N2083)),'1'!$A$1:$B$16,2,TRUE),N2083,\" 81..40+\",VLOOKUP(16-(LEN(O2083)),'1'!$A$1:$B$16,2,TRUE),O2083,\" 82..40+\",VLOOKUP(16-(LEN(O2083)),'1'!$A$1:$B$16,2,TRUE),P2083,\" 71....+0000000000000000 \"))","v":""},null,""]
[null,null,"","","","","","","","",null,"","",null,null,null,null,{"$f":"IF(O2084=\"\",\"\",CONCATENATE(\"*11....+\",VLOOKUP(16-(LEN(N2084)),'1'!$A$1:$B$16,2,TRUE),N2084,\" 81..40+\",VLOOKUP(16-(LEN(O2084)),'1'!$A$1:$B$16,2,TRUE),O2084,\" 82..40+\",VLOOKUP(16-(LEN(O2084)),'1'!$A$1:$B$16,2,TRUE),P2084,\" 71....+0000000000000000 \"))","v":""},null,""]
[null,null,"","","","","","","","",null,"","",null,null,null,null,{"$f":"IF(O2085=\"\",\"\",CONCATENATE(\"*11....+\",VLOOKUP(16-(LEN(N2085)),'1'!$A$1:$B$16,2,TRUE),N2085,\" 81..40+\",VLOOKUP(16-(LEN(O2085)),'1'!$A$1:$B$16,2,TRUE),O2085,\" 82..40+\",VLOOKUP(16-(LEN(O2085)),'1'!$A$1:$B$16,2,TRUE),P2085,\" 71....+0000000000000000 \"))","v":""},null,""]
[null,null,"","","","","","","","",null,"","",null,null,null,null,{"$f":"IF(O2086=\"\",\"\",CONCATENATE(\"*11....+\",VLOOKUP(16-(LEN(N2086)),'1'!$A$1:$B$16,2,TRUE),N2086,\" 81..40+\",VLOOKUP(16-(LEN(O2086)),'1'!$A$1:$B$16,2,TRUE),O2086,\" 82..40+\",VLOOKUP(16-(LEN(O2086)),'1'!$A$1:$B$16,2,TRUE),P2086,\" 71....+0000000000000000 \"))","v":""},null,""]
[null,null,"","","","","","","","",null,"","",null,null,null,null,{"$f":"IF(O2087=\"\",\"\",CONCATENATE(\"*11....+\",VLOOKUP(16-(LEN(N2087)),'1'!$A$1:$B$16,2,TRUE),N2087,\" 81..40+\",VLOOKUP(16-(LEN(O2087)),'1'!$A$1:$B$16,2,TRUE),O2087,\" 82..40+\",VLOOKUP(16-(LEN(O2087)),'1'!$A$1:$B$16,2,TRUE),P2087,\" 71....+0000000000000000 \"))","v":""},null,""]
[null,null,"","","","","","","","",null,"","",null,null,null,null,{"$f":"IF(O2088=\"\",\"\",CONCATENATE(\"*11....+\",VLOOKUP(16-(LEN(N2088)),'1'!$A$1:$B$16,2,TRUE),N2088,\" 81..40+\",VLOOKUP(16-(LEN(O2088)),'1'!$A$1:$B$16,2,TRUE),O2088,\" 82..40+\",VLOOKUP(16-(LEN(O2088)),'1'!$A$1:$B$16,2,TRUE),P2088,\" 71....+0000000000000000 \"))","v":""},null,""]
[null,null,"","","","","","","","",null,"","",null,null,null,null,{"$f":"IF(O2089=\"\",\"\",CONCATENATE(\"*11....+\",VLOOKUP(16-(LEN(N2089)),'1'!$A$1:$B$16,2,TRUE),N2089,\" 81..40+\",VLOOKUP(16-(LEN(O2089)),'1'!$A$1:$B$16,2,TRUE),O2089,\" 82..40+\",VLOOKUP(16-(LEN(O2089)),'1'!$A$1:$B$16,2,TRUE),P2089,\" 71....+0000000000000000 \"))","v":""},null,""]
[null,null,"","","","","","","","",null,"","",null,null,null,null,{"$f":"IF(O2090=\"\",\"\",CONCATENATE(\"*11....+\",VLOOKUP(16-(LEN(N2090)),'1'!$A$1:$B$16,2,TRUE),N2090,\" 81..40+\",VLOOKUP(16-(LEN(O2090)),'1'!$A$1:$B$16,2,TRUE),O2090,\" 82..40+\",VLOOKUP(16-(LEN(O2090)),'1'!$A$1:$B$16,2,TRUE),P2090,\" 71....+0000000000000000 \"))","v":""},null,""]
[null,null,"","","","","","","","",null,"","",null,null,null,null,{"$f":"IF(O2091=\"\",\"\",CONCATENATE(\"*11....+\",VLOOKUP(16-(LEN(N2091)),'1'!$A$1:$B$16,2,TRUE),N2091,\" 81..40+\",VLOOKUP(16-(LEN(O2091)),'1'!$A$1:$B$16,2,TRUE),O2091,\" 82..40+\",VLOOKUP(16-(LEN(O2091)),'1'!$A$1:$B$16,2,TRUE),P2091,\" 71....+0000000000000000 \"))","v":""},null,""]
[null,null,"","","","","","","","",null,"","",null,null,null,null,{"$f":"IF(O2092=\"\",\"\",CONCATENATE(\"*11....+\",VLOOKUP(16-(LEN(N2092)),'1'!$A$1:$B$16,2,TRUE),N2092,\" 81..40+\",VLOOKUP(16-(LEN(O2092)),'1'!$A$1:$B$16,2,TRUE),O2092,\" 82..40+\",VLOOKUP(16-(LEN(O2092)),'1'!$A$1:$B$16,2,TRUE),P2092,\" 71....+0000000000000000 \"))","v":""},null,""]
[null,null,"","","","","","","","",null,"","",null,null,null,null,{"$f":"IF(O2093=\"\",\"\",CONCATENATE(\"*11....+\",VLOOKUP(16-(LEN(N2093)),'1'!$A$1:$B$16,2,TRUE),N2093,\" 81..40+\",VLOOKUP(16-(LEN(O2093)),'1'!$A$1:$B$16,2,TRUE),O2093,\" 82..40+\",VLOOKUP(16-(LEN(O2093)),'1'!$A$1:$B$16,2,TRUE),P2093,\" 71....+0000000000000000 \"))","v":""},null,""]
[null,null,"","","","","","","","",null,"","",null,null,null,null,{"$f":"IF(O2094=\"\",\"\",CONCATENATE(\"*11....+\",VLOOKUP(16-(LEN(N2094)),'1'!$A$1:$B$16,2,TRUE),N2094,\" 81..40+\",VLOOKUP(16-(LEN(O2094)),'1'!$A$1:$B$16,2,TRUE),O2094,\" 82..40+\",VLOOKUP(16-(LEN(O2094)),'1'!$A$1:$B$16,2,TRUE),P2094,\" 71....+0000000000000000 \"))","v":""},null,""]
[null,null,"","","","","","","","",null,"","",null,null,null,null,{"$f":"IF(O2095=\"\",\"\",CONCATENATE(\"*11....+\",VLOOKUP(16-(LEN(N2095)),'1'!$A$1:$B$16,2,TRUE),N2095,\" 81..40+\",VLOOKUP(16-(LEN(O2095)),'1'!$A$1:$B$16,2,TRUE),O2095,\" 82..40+\",VLOOKUP(16-(LEN(O2095)),'1'!$A$1:$B$16,2,TRUE),P2095,\" 71....+0000000000000000 \"))","v":""},null,""]
[null,null,"","","","","","","","",null,"","",null,null,null,null,{"$f":"IF(O2096=\"\",\"\",CONCATENATE(\"*11....+\",VLOOKUP(16-(LEN(N2096)),'1'!$A$1:$B$16,2,TRUE),N2096,\" 81..40+\",VLOOKUP(16-(LEN(O2096)),'1'!$A$1:$B$16,2,TRUE),O2096,\" 82..40+\",VLOOKUP(16-(LEN(O2096)),'1'!$A$1:$B$16,2,TRUE),P2096,\" 71....+0000000000000000 \"))","v":""},null,""]
[null,null,"","","","","","","","",null,"","",null,null,null,null,{"$f":"IF(O2097=\"\",\"\",CONCATENATE(\"*11....+\",VLOOKUP(16-(LEN(N2097)),'1'!$A$1:$B$16,2,TRUE),N2097,\" 81..40+\",VLOOKUP(16-(LEN(O2097)),'1'!$A$1:$B$16,2,TRUE),O2097,\" 82..40+\",VLOOKUP(16-(LEN(O2097)),'1'!$A$1:$B$16,2,TRUE),P2097,\" 71....+0000000000000000 \"))","v":""},null,""]
[null,null,"","","","","","","","",null,"","",null,null,null,null,{"$f":"IF(O2098=\"\",\"\",CONCATENATE(\"*11....+\",VLOOKUP(16-(LEN(N2098)),'1'!$A$1:$B$16,2,TRUE),N2098,\" 81..40+\",VLOOKUP(16-(LEN(O2098)),'1'!$A$1:$B$16,2,TRUE),O2098,\" 82..40+\",VLOOKUP(16-(LEN(O2098)),'1'!$A$1:$B$16,2,TRUE),P2098,\" 71....+0000000000000000 \"))","v":""},null,""]
[null,null,"","","","","","","","",null,"","",null,null,null,null,{"$f":"IF(O2099=\"\",\"\",CONCATENATE(\"*11....+\",VLOOKUP(16-(LEN(N2099)),'1'!$A$1:$B$16,2,TRUE),N2099,\" 81..40+\",VLOOKUP(16-(LEN(O2099)),'1'!$A$1:$B$16,2,TRUE),O2099,\" 82..40+\",VLOOKUP(16-(LEN(O2099)),'1'!$A$1:$B$16,2,TRUE),P2099,\" 71....+0000000000000000 \"))","v":""},null,""]
[null,null,"","","","","","","","",null,"","",null,null,null,null,{"$f":"IF(O2100=\"\",\"\",CONCATENATE(\"*11....+\",VLOOKUP(16-(LEN(N2100)),'1'!$A$1:$B$16,2,TRUE),N2100,\" 81..40+\",VLOOKUP(16-(LEN(O2100)),'1'!$A$1:$B$16,2,TRUE),O2100,\" 82..40+\",VLOOKUP(16-(LEN(O2100)),'1'!$A$1:$B$16,2,TRUE),P2100,\" 71....+0000000000000000 \"))","v":""},null,""]
[null,null,"","","","","","","","",null,"","",null,null,null,null,{"$f":"IF(O2101=\"\",\"\",CONCATENATE(\"*11....+\",VLOOKUP(16-(LEN(N2101)),'1'!$A$1:$B$16,2,TRUE),N2101,\" 81..40+\",VLOOKUP(16-(LEN(O2101)),'1'!$A$1:$B$16,2,TRUE),O2101,\" 82..40+\",VLOOKUP(16-(LEN(O2101)),'1'!$A$1:$B$16,2,TRUE),P2101,\" 71....+0000000000000000 \"))","v":""},null,""]
[null,null,"","","","","","","","",null,"","",null,null,null,null,{"$f":"IF(O2102=\"\",\"\",CONCATENATE(\"*11....+\",VLOOKUP(16-(LEN(N2102)),'1'!$A$1:$B$16,2,TRUE),N2102,\" 81..40+\",VLOOKUP(16-(LEN(O2102)),'1'!$A$1:$B$16,2,TRUE),O2102,\" 82..40+\",VLOOKUP(16-(LEN(O2102)),'1'!$A$1:$B$16,2,TRUE),P2102,\" 71....+0000000000000000 \"))","v":""},null,""]
[null,null,"","","","","","","","",null,"","",null,null,null,null,{"$f":"IF(O2103=\"\",\"\",CONCATENATE(\"*11....+\",VLOOKUP(16-(LEN(N2103)),'1'!$A$1:$B$16,2,TRUE),N2103,\" 81..40+\",VLOOKUP(16-(LEN(O2103)),'1'!$A$1:$B$16,2,TRUE),O2103,\" 82..40+\",VLOOKUP(16-(LEN(O2103)),'1'!$A$1:$B$16,2,TRUE),P2103,\" 71....+0000000000000000 \"))","v":""},null,""]
[null,null,"","","","","","","","",null,"","",null,null,null,null,{"$f":"IF(O2104=\"\",\"\",CONCATENATE(\"*11....+\",VLOOKUP(16-(LEN(N2104)),'1'!$A$1:$B$16,2,TRUE),N2104,\" 81..40+\",VLOOKUP(16-(LEN(O2104)),'1'!$A$1:$B$16,2,TRUE),O2104,\" 82..40+\",VLOOKUP(16-(LEN(O2104)),'1'!$A$1:$B$16,2,TRUE),P2104,\" 71....+0000000000000000 \"))","v":""},null,""]
[null,null,"","","","","","","","",null,"","",null,null,null,null,{"$f":"IF(O2105=\"\",\"\",CONCATENATE(\"*11....+\",VLOOKUP(16-(LEN(N2105)),'1'!$A$1:$B$16,2,TRUE),N2105,\" 81..40+\",VLOOKUP(16-(LEN(O2105)),'1'!$A$1:$B$16,2,TRUE),O2105,\" 82..40+\",VLOOKUP(16-(LEN(O2105)),'1'!$A$1:$B$16,2,TRUE),P2105,\" 71....+0000000000000000 \"))","v":""},null,""]
[null,null,"","","","","","","","",null,"","",null,null,null,null,{"$f":"IF(O2106=\"\",\"\",CONCATENATE(\"*11....+\",VLOOKUP(16-(LEN(N2106)),'1'!$A$1:$B$16,2,TRUE),N2106,\" 81..40+\",VLOOKUP(16-(LEN(O2106)),'1'!$A$1:$B$16,2,TRUE),O2106,\" 82..40+\",VLOOKUP(16-(LEN(O2106)),'1'!$A$1:$B$16,2,TRUE),P2106,\" 71....+0000000000000000 \"))","v":""},null,""]
[null,null,"","","","","","","","",null,"","",null,null,null,null,{"$f":"IF(O2107=\"\",\"\",CONCATENATE(\"*11....+\",VLOOKUP(16-(LEN(N2107)),'1'!$A$1:$B$16,2,TRUE),N2107,\" 81..40+\",VLOOKUP(16-(LEN(O2107)),'1'!$A$1:$B$16,2,TRUE),O2107,\" 82..40+\",VLOOKUP(16-(LEN(O2107)),'1'!$A$1:$B$16,2,TRUE),P2107,\" 71....+0000000000000000 \"))","v":""},null,""]
[null,null,"","","","","","","","",null,"","",null,null,null,null,{"$f":"IF(O2108=\"\",\"\",CONCATENATE(\"*11....+\",VLOOKUP(16-(LEN(N2108)),'1'!$A$1:$B$16,2,TRUE),N2108,\" 81..40+\",VLOOKUP(16-(LEN(O2108)),'1'!$A$1:$B$16,2,TRUE),O2108,\" 82..40+\",VLOOKUP(16-(LEN(O2108)),'1'!$A$1:$B$16,2,TRUE),P2108,\" 71....+0000000000000000 \"))","v":""},null,""]
[null,null,"","","","","","","","",null,"","",null,null,null,null,{"$f":"IF(O2109=\"\",\"\",CONCATENATE(\"*11....+\",VLOOKUP(16-(LEN(N2109)),'1'!$A$1:$B$16,2,TRUE),N2109,\" 81..40+\",VLOOKUP(16-(LEN(O2109)),'1'!$A$1:$B$16,2,TRUE),O2109,\" 82..40+\",VLOOKUP(16-(LEN(O2109)),'1'!$A$1:$B$16,2,TRUE),P2109,\" 71....+0000000000000000 \"))","v":""},null,""]
[null,null,"","","","","","","","",null,"","",null,null,null,null,{"$f":"IF(O2110=\"\",\"\",CONCATENATE(\"*11....+\",VLOOKUP(16-(LEN(N2110)),'1'!$A$1:$B$16,2,TRUE),N2110,\" 81..40+\",VLOOKUP(16-(LEN(O2110)),'1'!$A$1:$B$16,2,TRUE),O2110,\" 82..40+\",VLOOKUP(16-(LEN(O2110)),'1'!$A$1:$B$16,2,TRUE),P2110,\" 71....+0000000000000000 \"))","v":""},null,""]
[null,null,"","","","","","","","",null,"","",null,null,null,null,{"$f":"IF(O2111=\"\",\"\",CONCATENATE(\"*11....+\",VLOOKUP(16-(LEN(N2111)),'1'!$A$1:$B$16,2,TRUE),N2111,\" 81..40+\",VLOOKUP(16-(LEN(O2111)),'1'!$A$1:$B$16,2,TRUE),O2111,\" 82..40+\",VLOOKUP(16-(LEN(O2111)),'1'!$A$1:$B$16,2,TRUE),P2111,\" 71....+0000000000000000 \"))","v":""},null,""]
[null,null,"","","","","","","","",null,"","",null,null,null,null,{"$f":"IF(O2112=\"\",\"\",CONCATENATE(\"*11....+\",VLOOKUP(16-(LEN(N2112)),'1'!$A$1:$B$16,2,TRUE),N2112,\" 81..40+\",VLOOKUP(16-(LEN(O2112)),'1'!$A$1:$B$16,2,TRUE),O2112,\" 82..40+\",VLOOKUP(16-(LEN(O2112)),'1'!$A$1:$B$16,2,TRUE),P2112,\" 71....+0000000000000000 \"))","v":""},null,""]
[null,null,"","","","","","","","",null,"","",null,null,null,null,{"$f":"IF(O2113=\"\",\"\",CONCATENATE(\"*11....+\",VLOOKUP(16-(LEN(N2113)),'1'!$A$1:$B$16,2,TRUE),N2113,\" 81..40+\",VLOOKUP(16-(LEN(O2113)),'1'!$A$1:$B$16,2,TRUE),O2113,\" 82..40+\",VLOOKUP(16-(LEN(O2113)),'1'!$A$1:$B$16,2,TRUE),P2113,\" 71....+0000000000000000 \"))","v":""},null,""]
[null,null,"","","","","","","","",null,"","",null,null,null,null,{"$f":"IF(O2114=\"\",\"\",CONCATENATE(\"*11....+\",VLOOKUP(16-(LEN(N2114)),'1'!$A$1:$B$16,2,TRUE),N2114,\" 81..40+\",VLOOKUP(16-(LEN(O2114)),'1'!$A$1:$B$16,2,TRUE),O2114,\" 82..40+\",VLOOKUP(16-(LEN(O2114)),'1'!$A$1:$B$16,2,TRUE),P2114,\" 71....+0000000000000000 \"))","v":""},null,""]
[null,null,"","","","","","","","",null,"","",null,null,null,null,{"$f":"IF(O2115=\"\",\"\",CONCATENATE(\"*11....+\",VLOOKUP(16-(LEN(N2115)),'1'!$A$1:$B$16,2,TRUE),N2115,\" 81..40+\",VLOOKUP(16-(LEN(O2115)),'1'!$A$1:$B$16,2,TRUE),O2115,\" 82..40+\",VLOOKUP(16-(LEN(O2115)),'1'!$A$1:$B$16,2,TRUE),P2115,\" 71....+0000000000000000 \"))","v":""},null,""]
[null,null,{"$f":"IF(LEN(A2116)=59,ROUND(VALUE(MID(A2116,23,9)),3),\"\")","v":""},{"$f":"IF(LEN(A2116)=24,\"\",\"\")","v":""},{"$f":"IF(LEN(A2116)=63,ROUND(VALUE(MID(A2116,23,12)),3),\"\")","v":""},{"$f":"IF(LEN(A2116)=59,ROUND(VALUE(MID(A2116,37,9)),3),\"\")","v":""},{"$f":"IF(LEN(A2116)=24,\"\",\"\")","v":""},{"$f":"IF(LEN(A2116)=63,ROUND(VALUE(MID(A2116,39,12)),3),\"\")","v":""},{"$f":"IF(AND(C2116=\"\",D2116=\"\",E2116=\"\"),\"\",ROUND(CONCATENATE(C2116,D2116,E2116),3))","v":""},{"$f":"IF(AND(C2116=\"\",D2116=\"\",E2116=\"\"),\"\",ROUND(CONCATENATE(F2116,G2116,H2116),3))","v":""},null,{"$f":"IF(K2116=\"\",\"\",ROUND(VALUE(VLOOKUP(K2116,$B$3:$J$2002,8,TRUE)),3))","v":""},{"$f":"IF(K2116=\"\",\"\",ROUND(VALUE(VLOOKUP(K2116,$B$3:$J$2002,9,TRUE)),3))","v":""},null,null,null,null,{"$f":"IF(O2116=\"\",\"\",CONCATENATE(\"*11....+\",VLOOKUP(16-(LEN(N2116)),'1'!$A$1:$B$16,2,TRUE),N2116,\" 81..40+\",VLOOKUP(16-(LEN(O2116)),'1'!$A$1:$B$16,2,TRUE),O2116,\" 82..40+\",VLOOKUP(16-(LEN(O2116)),'1'!$A$1:$B$16,2,TRUE),P2116,\" 71....+0000000000000000 \"))","v":""},null,{"$f":"IF(O2116=\"\",\"\",CONCATENATE(N2116,\",\",L2116,\",\",M2116))","v":""}]
[null,null,"","","","","","","","",null,"","",null,null,null,null,{"$f":"IF(O2117=\"\",\"\",CONCATENATE(\"*11....+\",VLOOKUP(16-(LEN(N2117)),'1'!$A$1:$B$16,2,TRUE),N2117,\" 81..40+\",VLOOKUP(16-(LEN(O2117)),'1'!$A$1:$B$16,2,TRUE),O2117,\" 82..40+\",VLOOKUP(16-(LEN(O2117)),'1'!$A$1:$B$16,2,TRUE),P2117,\" 71....+0000000000000000 \"))","v":""},null,""]
[null,null,"","","","","","","","",null,"","",null,null,null,null,{"$f":"IF(O2118=\"\",\"\",CONCATENATE(\"*11....+\",VLOOKUP(16-(LEN(N2118)),'1'!$A$1:$B$16,2,TRUE),N2118,\" 81..40+\",VLOOKUP(16-(LEN(O2118)),'1'!$A$1:$B$16,2,TRUE),O2118,\" 82..40+\",VLOOKUP(16-(LEN(O2118)),'1'!$A$1:$B$16,2,TRUE),P2118,\" 71....+0000000000000000 \"))","v":""},null,""]
[null,null,"","","","","","","","",null,"","",null,null,null,null,{"$f":"IF(O2119=\"\",\"\",CONCATENATE(\"*11....+\",VLOOKUP(16-(LEN(N2119)),'1'!$A$1:$B$16,2,TRUE),N2119,\" 81..40+\",VLOOKUP(16-(LEN(O2119)),'1'!$A$1:$B$16,2,TRUE),O2119,\" 82..40+\",VLOOKUP(16-(LEN(O2119)),'1'!$A$1:$B$16,2,TRUE),P2119,\" 71....+0000000000000000 \"))","v":""},null,""]
[null,null,"","","","","","","","",null,"","",null,null,null,null,{"$f":"IF(O2120=\"\",\"\",CONCATENATE(\"*11....+\",VLOOKUP(16-(LEN(N2120)),'1'!$A$1:$B$16,2,TRUE),N2120,\" 81..40+\",VLOOKUP(16-(LEN(O2120)),'1'!$A$1:$B$16,2,TRUE),O2120,\" 82..40+\",VLOOKUP(16-(LEN(O2120)),'1'!$A$1:$B$16,2,TRUE),P2120,\" 71....+0000000000000000 \"))","v":""},null,""]
[null,null,"","","","","","","","",null,"","",null,null,null,null,{"$f":"IF(O2121=\"\",\"\",CONCATENATE(\"*11....+\",VLOOKUP(16-(LEN(N2121)),'1'!$A$1:$B$16,2,TRUE),N2121,\" 81..40+\",VLOOKUP(16-(LEN(O2121)),'1'!$A$1:$B$16,2,TRUE),O2121,\" 82..40+\",VLOOKUP(16-(LEN(O2121)),'1'!$A$1:$B$16,2,TRUE),P2121,\" 71....+0000000000000000 \"))","v":""},null,""]
[null,null,"","","","","","","","",null,"","",null,null,null,null,{"$f":"IF(O2122=\"\",\"\",CONCATENATE(\"*11....+\",VLOOKUP(16-(LEN(N2122)),'1'!$A$1:$B$16,2,TRUE),N2122,\" 81..40+\",VLOOKUP(16-(LEN(O2122)),'1'!$A$1:$B$16,2,TRUE),O2122,\" 82..40+\",VLOOKUP(16-(LEN(O2122)),'1'!$A$1:$B$16,2,TRUE),P2122,\" 71....+0000000000000000 \"))","v":""},null,""]
[null,null,"","","","","","","","",null,"","",null,null,null,null,{"$f":"IF(O2123=\"\",\"\",CONCATENATE(\"*11....+\",VLOOKUP(16-(LEN(N2123)),'1'!$A$1:$B$16,2,TRUE),N2123,\" 81..40+\",VLOOKUP(16-(LEN(O2123)),'1'!$A$1:$B$16,2,TRUE),O2123,\" 82..40+\",VLOOKUP(16-(LEN(O2123)),'1'!$A$1:$B$16,2,TRUE),P2123,\" 71....+0000000000000000 \"))","v":""},null,""]
[null,null,"","","","","","","","",null,"","",null,null,null,null,{"$f":"IF(O2124=\"\",\"\",CONCATENATE(\"*11....+\",VLOOKUP(16-(LEN(N2124)),'1'!$A$1:$B$16,2,TRUE),N2124,\" 81..40+\",VLOOKUP(16-(LEN(O2124)),'1'!$A$1:$B$16,2,TRUE),O2124,\" 82..40+\",VLOOKUP(16-(LEN(O2124)),'1'!$A$1:$B$16,2,TRUE),P2124,\" 71....+0000000000000000 \"))","v":""},null,""]
[null,null,"","","","","","","","",null,"","",null,null,null,null,{"$f":"IF(O2125=\"\",\"\",CONCATENATE(\"*11....+\",VLOOKUP(16-(LEN(N2125)),'1'!$A$1:$B$16,2,TRUE),N2125,\" 81..40+\",VLOOKUP(16-(LEN(O2125)),'1'!$A$1:$B$16,2,TRUE),O2125,\" 82..40+\",VLOOKUP(16-(LEN(O2125)),'1'!$A$1:$B$16,2,TRUE),P2125,\" 71....+0000000000000000 \"))","v":""},null,""]
[null,null,"","","","","","","","",null,"","",null,null,null,null,{"$f":"IF(O2126=\"\",\"\",CONCATENATE(\"*11....+\",VLOOKUP(16-(LEN(N2126)),'1'!$A$1:$B$16,2,TRUE),N2126,\" 81..40+\",VLOOKUP(16-(LEN(O2126)),'1'!$A$1:$B$16,2,TRUE),O2126,\" 82..40+\",VLOOKUP(16-(LEN(O2126)),'1'!$A$1:$B$16,2,TRUE),P2126,\" 71....+0000000000000000 \"))","v":""},null,""]
[null,null,"","","","","","","","",null,"","",null,null,null,null,{"$f":"IF(O2127=\"\",\"\",CONCATENATE(\"*11....+\",VLOOKUP(16-(LEN(N2127)),'1'!$A$1:$B$16,2,TRUE),N2127,\" 81..40+\",VLOOKUP(16-(LEN(O2127)),'1'!$A$1:$B$16,2,TRUE),O2127,\" 82..40+\",VLOOKUP(16-(LEN(O2127)),'1'!$A$1:$B$16,2,TRUE),P2127,\" 71....+0000000000000000 \"))","v":""},null,""]
[null,null,"","","","","","","","",null,"","",null,null,null,null,{"$f":"IF(O2128=\"\",\"\",CONCATENATE(\"*11....+\",VLOOKUP(16-(LEN(N2128)),'1'!$A$1:$B$16,2,TRUE),N2128,\" 81..40+\",VLOOKUP(16-(LEN(O2128)),'1'!$A$1:$B$16,2,TRUE),O2128,\" 82..40+\",VLOOKUP(16-(LEN(O2128)),'1'!$A$1:$B$16,2,TRUE),P2128,\" 71....+0000000000000000 \"))","v":""},null,""]
[null,null,"","","","","","","","",null,"","",null,null,null,null,{"$f":"IF(O2129=\"\",\"\",CONCATENATE(\"*11....+\",VLOOKUP(16-(LEN(N2129)),'1'!$A$1:$B$16,2,TRUE),N2129,\" 81..40+\",VLOOKUP(16-(LEN(O2129)),'1'!$A$1:$B$16,2,TRUE),O2129,\" 82..40+\",VLOOKUP(16-(LEN(O2129)),'1'!$A$1:$B$16,2,TRUE),P2129,\" 71....+0000000000000000 \"))","v":""},null,""]
[null,null,"","","","","","","","",null,"","",null,null,null,null,{"$f":"IF(O2130=\"\",\"\",CONCATENATE(\"*11....+\",VLOOKUP(16-(LEN(N2130)),'1'!$A$1:$B$16,2,TRUE),N2130,\" 81..40+\",VLOOKUP(16-(LEN(O2130)),'1'!$A$1:$B$16,2,TRUE),O2130,\" 82..40+\",VLOOKUP(16-(LEN(O2130)),'1'!$A$1:$B$16,2,TRUE),P2130,\" 71....+0000000000000000 \"))","v":""},null,""]
[null,null,"","","","","","","","",null,"","",null,null,null,null,{"$f":"IF(O2131=\"\",\"\",CONCATENATE(\"*11....+\",VLOOKUP(16-(LEN(N2131)),'1'!$A$1:$B$16,2,TRUE),N2131,\" 81..40+\",VLOOKUP(16-(LEN(O2131)),'1'!$A$1:$B$16,2,TRUE),O2131,\" 82..40+\",VLOOKUP(16-(LEN(O2131)),'1'!$A$1:$B$16,2,TRUE),P2131,\" 71....+0000000000000000 \"))","v":""},null,""]
[null,null,"","","","","","","","",null,"","",null,null,null,null,{"$f":"IF(O2132=\"\",\"\",CONCATENATE(\"*11....+\",VLOOKUP(16-(LEN(N2132)),'1'!$A$1:$B$16,2,TRUE),N2132,\" 81..40+\",VLOOKUP(16-(LEN(O2132)),'1'!$A$1:$B$16,2,TRUE),O2132,\" 82..40+\",VLOOKUP(16-(LEN(O2132)),'1'!$A$1:$B$16,2,TRUE),P2132,\" 71....+0000000000000000 \"))","v":""},null,""]
[null,null,"","","","","","","","",null,"","",null,null,null,null,{"$f":"IF(O2133=\"\",\"\",CONCATENATE(\"*11....+\",VLOOKUP(16-(LEN(N2133)),'1'!$A$1:$B$16,2,TRUE),N2133,\" 81..40+\",VLOOKUP(16-(LEN(O2133)),'1'!$A$1:$B$16,2,TRUE),O2133,\" 82..40+\",VLOOKUP(16-(LEN(O2133)),'1'!$A$1:$B$16,2,TRUE),P2133,\" 71....+0000000000000000 \"))","v":""},null,""]
[null,null,"","","","","","","","",null,"","",null,null,null,null,{"$f":"IF(O2134=\"\",\"\",CONCATENATE(\"*11....+\",VLOOKUP(16-(LEN(N2134)),'1'!$A$1:$B$16,2,TRUE),N2134,\" 81..40+\",VLOOKUP(16-(LEN(O2134)),'1'!$A$1:$B$16,2,TRUE),O2134,\" 82..40+\",VLOOKUP(16-(LEN(O2134)),'1'!$A$1:$B$16,2,TRUE),P2134,\" 71....+0000000000000000 \"))","v":""},null,""]
[null,null,"","","","","","","","",null,"","",null,null,null,null,{"$f":"IF(O2135=\"\",\"\",CONCATENATE(\"*11....+\",VLOOKUP(16-(LEN(N2135)),'1'!$A$1:$B$16,2,TRUE),N2135,\" 81..40+\",VLOOKUP(16-(LEN(O2135)),'1'!$A$1:$B$16,2,TRUE),O2135,\" 82..40+\",VLOOKUP(16-(LEN(O2135)),'1'!$A$1:$B$16,2,TRUE),P2135,\" 71....+0000000000000000 \"))","v":""},null,""]
[null,null,"","","","","","","","",null,"","",null,null,null,null,{"$f":"IF(O2136=\"\",\"\",CONCATENATE(\"*11....+\",VLOOKUP(16-(LEN(N2136)),'1'!$A$1:$B$16,2,TRUE),N2136,\" 81..40+\",VLOOKUP(16-(LEN(O2136)),'1'!$A$1:$B$16,2,TRUE),O2136,\" 82..40+\",VLOOKUP(16-(LEN(O2136)),'1'!$A$1:$B$16,2,TRUE),P2136,\" 71....+0000000000000000 \"))","v":""},null,""]
[null,null,"","","","","","","","",null,"","",null,null,null,null,{"$f":"IF(O2137=\"\",\"\",CONCATENATE(\"*11....+\",VLOOKUP(16-(LEN(N2137)),'1'!$A$1:$B$16,2,TRUE),N2137,\" 81..40+\",VLOOKUP(16-(LEN(O2137)),'1'!$A$1:$B$16,2,TRUE),O2137,\" 82..40+\",VLOOKUP(16-(LEN(O2137)),'1'!$A$1:$B$16,2,TRUE),P2137,\" 71....+0000000000000000 \"))","v":""},null,""]
[null,null,"","","","","","","","",null,"","",null,null,null,null,{"$f":"IF(O2138=\"\",\"\",CONCATENATE(\"*11....+\",VLOOKUP(16-(LEN(N2138)),'1'!$A$1:$B$16,2,TRUE),N2138,\" 81..40+\",VLOOKUP(16-(LEN(O2138)),'1'!$A$1:$B$16,2,TRUE),O2138,\" 82..40+\",VLOOKUP(16-(LEN(O2138)),'1'!$A$1:$B$16,2,TRUE),P2138,\" 71....+0000000000000000 \"))","v":""},null,""]
[null,null,"","","","","","","","",null,"","",null,null,null,null,{"$f":"IF(O2139=\"\",\"\",CONCATENATE(\"*11....+\",VLOOKUP(16-(LEN(N2139)),'1'!$A$1:$B$16,2,TRUE),N2139,\" 81..40+\",VLOOKUP(16-(LEN(O2139)),'1'!$A$1:$B$16,2,TRUE),O2139,\" 82..40+\",VLOOKUP(16-(LEN(O2139)),'1'!$A$1:$B$16,2,TRUE),P2139,\" 71....+0000000000000000 \"))","v":""},null,""]
[null,null,"","","","","","","","",null,"","",null,null,null,null,{"$f":"IF(O2140=\"\",\"\",CONCATENATE(\"*11....+\",VLOOKUP(16-(LEN(N2140)),'1'!$A$1:$B$16,2,TRUE),N2140,\" 81..40+\",VLOOKUP(16-(LEN(O2140)),'1'!$A$1:$B$16,2,TRUE),O2140,\" 82..40+\",VLOOKUP(16-(LEN(O2140)),'1'!$A$1:$B$16,2,TRUE),P2140,\" 71....+0000000000000000 \"))","v":""},null,""]
[null,null,"","","","","","","","",null,"","",null,null,null,null,{"$f":"IF(O2141=\"\",\"\",CONCATENATE(\"*11....+\",VLOOKUP(16-(LEN(N2141)),'1'!$A$1:$B$16,2,TRUE),N2141,\" 81..40+\",VLOOKUP(16-(LEN(O2141)),'1'!$A$1:$B$16,2,TRUE),O2141,\" 82..40+\",VLOOKUP(16-(LEN(O2141)),'1'!$A$1:$B$16,2,TRUE),P2141,\" 71....+0000000000000000 \"))","v":""},null,""]
[null,null,"","","","","","","","",null,"","",null,null,null,null,{"$f":"IF(O2142=\"\",\"\",CONCATENATE(\"*11....+\",VLOOKUP(16-(LEN(N2142)),'1'!$A$1:$B$16,2,TRUE),N2142,\" 81..40+\",VLOOKUP(16-(LEN(O2142)),'1'!$A$1:$B$16,2,TRUE),O2142,\" 82..40+\",VLOOKUP(16-(LEN(O2142)),'1'!$A$1:$B$16,2,TRUE),P2142,\" 71....+0000000000000000 \"))","v":""},null,""]
[null,null,"","","","","","","","",null,"","",null,null,null,null,{"$f":"IF(O2143=\"\",\"\",CONCATENATE(\"*11....+\",VLOOKUP(16-(LEN(N2143)),'1'!$A$1:$B$16,2,TRUE),N2143,\" 81..40+\",VLOOKUP(16-(LEN(O2143)),'1'!$A$1:$B$16,2,TRUE),O2143,\" 82..40+\",VLOOKUP(16-(LEN(O2143)),'1'!$A$1:$B$16,2,TRUE),P2143,\" 71....+0000000000000000 \"))","v":""},null,""]
[null,null,"","","","","","","","",null,"","",null,null,null,null,{"$f":"IF(O2144=\"\",\"\",CONCATENATE(\"*11....+\",VLOOKUP(16-(LEN(N2144)),'1'!$A$1:$B$16,2,TRUE),N2144,\" 81..40+\",VLOOKUP(16-(LEN(O2144)),'1'!$A$1:$B$16,2,TRUE),O2144,\" 82..40+\",VLOOKUP(16-(LEN(O2144)),'1'!$A$1:$B$16,2,TRUE),P2144,\" 71....+0000000000000000 \"))","v":""},null,""]
[null,null,"","","","","","","","",null,"","",null,null,null,null,{"$f":"IF(O2145=\"\",\"\",CONCATENATE(\"*11....+\",VLOOKUP(16-(LEN(N2145)),'1'!$A$1:$B$16,2,TRUE),N2145,\" 81..40+\",VLOOKUP(16-(LEN(O2145)),'1'!$A$1:$B$16,2,TRUE),O2145,\" 82..40+\",VLOOKUP(16-(LEN(O2145)),'1'!$A$1:$B$16,2,TRUE),P2145,\" 71....+0000000000000000 \"))","v":""},null,""]
[null,null,"","","","","","","","",null,"","",null,null,null,null,{"$f":"IF(O2146=\"\",\"\",CONCATENATE(\"*11....+\",VLOOKUP(16-(LEN(N2146)),'1'!$A$1:$B$16,2,TRUE),N2146,\" 81..40+\",VLOOKUP(16-(LEN(O2146)),'1'!$A$1:$B$16,2,TRUE),O2146,\" 82..40+\",VLOOKUP(16-(LEN(O2146)),'1'!$A$1:$B$16,2,TRUE),P2146,\" 71....+0000000000000000 \"))","v":""},null,""]
[null,null,"","","","","","","","",null,"","",null,null,null,null,{"$f":"IF(O2147=\"\",\"\",CONCATENATE(\"*11....+\",VLOOKUP(16-(LEN(N2147)),'1'!$A$1:$B$16,2,TRUE),N2147,\" 81..40+\",VLOOKUP(16-(LEN(O2147)),'1'!$A$1:$B$16,2,TRUE),O2147,\" 82..40+\",VLOOKUP(16-(LEN(O2147)),'1'!$A$1:$B$16,2,TRUE),P2147,\" 71....+0000000000000000 \"))","v":""},null,""]
[null,null,"","","","","","","","",null,"","",null,null,null,null,{"$f":"IF(O2148=\"\",\"\",CONCATENATE(\"*11....+\",VLOOKUP(16-(LEN(N2148)),'1'!$A$1:$B$16,2,TRUE),N2148,\" 81..40+\",VLOOKUP(16-(LEN(O2148)),'1'!$A$1:$B$16,2,TRUE),O2148,\" 82..40+\",VLOOKUP(16-(LEN(O2148)),'1'!$A$1:$B$16,2,TRUE),P2148,\" 71....+0000000000000000 \"))","v":""},null,""]
[null,null,"","","","","","","","",null,"","",null,null,null,null,{"$f":"IF(O2149=\"\",\"\",CONCATENATE(\"*11....+\",VLOOKUP(16-(LEN(N2149)),'1'!$A$1:$B$16,2,TRUE),N2149,\" 81..40+\",VLOOKUP(16-(LEN(O2149)),'1'!$A$1:$B$16,2,TRUE),O2149,\" 82..40+\",VLOOKUP(16-(LEN(O2149)),'1'!$A$1:$B$16,2,TRUE),P2149,\" 71....+0000000000000000 \"))","v":""},null,""]
[null,null,"","","","","","","","",null,"","",null,null,null,null,{"$f":"IF(O2150=\"\",\"\",CONCATENATE(\"*11....+\",VLOOKUP(16-(LEN(N2150)),'1'!$A$1:$B$16,2,TRUE),N2150,\" 81..40+\",VLOOKUP(16-(LEN(O2150)),'1'!$A$1:$B$16,2,TRUE),O2150,\" 82..40+\",VLOOKUP(16-(LEN(O2150)),'1'!$A$1:$B$16,2,TRUE),P2150,\" 71....+0000000000000000 \"))","v":""},null,""]
[null,null,"","","","","","","","",null,"","",null,null,null,null,{"$f":"IF(O2151=\"\",\"\",CONCATENATE(\"*11....+\",VLOOKUP(16-(LEN(N2151)),'1'!$A$1:$B$16,2,TRUE),N2151,\" 81..40+\",VLOOKUP(16-(LEN(O2151)),'1'!$A$1:$B$16,2,TRUE),O2151,\" 82..40+\",VLOOKUP(16-(LEN(O2151)),'1'!$A$1:$B$16,2,TRUE),P2151,\" 71....+0000000000000000 \"))","v":""},null,""]
[null,null,"","","","","","","","",null,"","",null,null,null,null,{"$f":"IF(O2152=\"\",\"\",CONCATENATE(\"*11....+\",VLOOKUP(16-(LEN(N2152)),'1'!$A$1:$B$16,2,TRUE),N2152,\" 81..40+\",VLOOKUP(16-(LEN(O2152)),'1'!$A$1:$B$16,2,TRUE),O2152,\" 82..40+\",VLOOKUP(16-(LEN(O2152)),'1'!$A$1:$B$16,2,TRUE),P2152,\" 71....+0000000000000000 \"))","v":""},null,""]
[null,null,"","","","","","","","",null,"","",null,null,null,null,{"$f":"IF(O2153=\"\",\"\",CONCATENATE(\"*11....+\",VLOOKUP(16-(LEN(N2153)),'1'!$A$1:$B$16,2,TRUE),N2153,\" 81..40+\",VLOOKUP(16-(LEN(O2153)),'1'!$A$1:$B$16,2,TRUE),O2153,\" 82..40+\",VLOOKUP(16-(LEN(O2153)),'1'!$A$1:$B$16,2,TRUE),P2153,\" 71....+0000000000000000 \"))","v":""},null,""]
[null,null,"","","","","","","","",null,"","",null,null,null,null,{"$f":"IF(O2154=\"\",\"\",CONCATENATE(\"*11....+\",VLOOKUP(16-(LEN(N2154)),'1'!$A$1:$B$16,2,TRUE),N2154,\" 81..40+\",VLOOKUP(16-(LEN(O2154)),'1'!$A$1:$B$16,2,TRUE),O2154,\" 82..40+\",VLOOKUP(16-(LEN(O2154)),'1'!$A$1:$B$16,2,TRUE),P2154,\" 71....+0000000000000000 \"))","v":""},null,""]
[null,null,"","","","","","","","",null,"","",null,null,null,null,{"$f":"IF(O2155=\"\",\"\",CONCATENATE(\"*11....+\",VLOOKUP(16-(LEN(N2155)),'1'!$A$1:$B$16,2,TRUE),N2155,\" 81..40+\",VLOOKUP(16-(LEN(O2155)),'1'!$A$1:$B$16,2,TRUE),O2155,\" 82..40+\",VLOOKUP(16-(LEN(O2155)),'1'!$A$1:$B$16,2,TRUE),P2155,\" 71....+0000000000000000 \"))","v":""},null,""]
[null,null,"","","","","","","","",null,"","",null,null,null,null,{"$f":"IF(O2156=\"\",\"\",CONCATENATE(\"*11....+\",VLOOKUP(16-(LEN(N2156)),'1'!$A$1:$B$16,2,TRUE),N2156,\" 81..40+\",VLOOKUP(16-(LEN(O2156)),'1'!$A$1:$B$16,2,TRUE),O2156,\" 82..40+\",VLOOKUP(16-(LEN(O2156)),'1'!$A$1:$B$16,2,TRUE),P2156,\" 71....+0000000000000000 \"))","v":""},null,""]
[null,null,"","","","","","","","",null,"","",null,null,null,null,{"$f":"IF(O2157=\"\",\"\",CONCATENATE(\"*11....+\",VLOOKUP(16-(LEN(N2157)),'1'!$A$1:$B$16,2,TRUE),N2157,\" 81..40+\",VLOOKUP(16-(LEN(O2157)),'1'!$A$1:$B$16,2,TRUE),O2157,\" 82..40+\",VLOOKUP(16-(LEN(O2157)),'1'!$A$1:$B$16,2,TRUE),P2157,\" 71....+0000000000000000 \"))","v":""},null,""]
[null,null,"","","","","","","","",null,"","",null,null,null,null,{"$f":"IF(O2158=\"\",\"\",CONCATENATE(\"*11....+\",VLOOKUP(16-(LEN(N2158)),'1'!$A$1:$B$16,2,TRUE),N2158,\" 81..40+\",VLOOKUP(16-(LEN(O2158)),'1'!$A$1:$B$16,2,TRUE),O2158,\" 82..40+\",VLOOKUP(16-(LEN(O2158)),'1'!$A$1:$B$16,2,TRUE),P2158,\" 71....+0000000000000000 \"))","v":""},null,""]
[null,null,"","","","","","","","",null,"","",null,null,null,null,{"$f":"IF(O2159=\"\",\"\",CONCATENATE(\"*11....+\",VLOOKUP(16-(LEN(N2159)),'1'!$A$1:$B$16,2,TRUE),N2159,\" 81..40+\",VLOOKUP(16-(LEN(O2159)),'1'!$A$1:$B$16,2,TRUE),O2159,\" 82..40+\",VLOOKUP(16-(LEN(O2159)),'1'!$A$1:$B$16,2,TRUE),P2159,\" 71....+0000000000000000 \"))","v":""},null,""]
[null,null,"","","","","","","","",null,"","",null,null,null,null,{"$f":"IF(O2160=\"\",\"\",CONCATENATE(\"*11....+\",VLOOKUP(16-(LEN(N2160)),'1'!$A$1:$B$16,2,TRUE),N2160,\" 81..40+\",VLOOKUP(16-(LEN(O2160)),'1'!$A$1:$B$16,2,TRUE),O2160,\" 82..40+\",VLOOKUP(16-(LEN(O2160)),'1'!$A$1:$B$16,2,TRUE),P2160,\" 71....+0000000000000000 \"))","v":""},null,""]
[null,null,"","","","","","","","",null,"","",null,null,null,null,{"$f":"IF(O2161=\"\",\"\",CONCATENATE(\"*11....+\",VLOOKUP(16-(LEN(N2161)),'1'!$A$1:$B$16,2,TRUE),N2161,\" 81..40+\",VLOOKUP(16-(LEN(O2161)),'1'!$A$1:$B$16,2,TRUE),O2161,\" 82..40+\",VLOOKUP(16-(LEN(O2161)),'1'!$A$1:$B$16,2,TRUE),P2161,\" 71....+0000000000000000 \"))","v":""},null,""]
[null,null,"","","","","","","","",null,"","",null,null,null,null,{"$f":"IF(O2162=\"\",\"\",CONCATENATE(\"*11....+\",VLOOKUP(16-(LEN(N2162)),'1'!$A$1:$B$16,2,TRUE),N2162,\" 81..40+\",VLOOKUP(16-(LEN(O2162)),'1'!$A$1:$B$16,2,TRUE),O2162,\" 82..40+\",VLOOKUP(16-(LEN(O2162)),'1'!$A$1:$B$16,2,TRUE),P2162,\" 71....+0000000000000000 \"))","v":""},null,""]
[null,null,"","","","","","","","",null,"","",null,null,null,null,{"$f":"IF(O2163=\"\",\"\",CONCATENATE(\"*11....+\",VLOOKUP(16-(LEN(N2163)),'1'!$A$1:$B$16,2,TRUE),N2163,\" 81..40+\",VLOOKUP(16-(LEN(O2163)),'1'!$A$1:$B$16,2,TRUE),O2163,\" 82..40+\",VLOOKUP(16-(LEN(O2163)),'1'!$A$1:$B$16,2,TRUE),P2163,\" 71....+0000000000000000 \"))","v":""},null,""]
[null,null,"","","","","","","","",null,"","",null,null,null,null,{"$f":"IF(O2164=\"\",\"\",CONCATENATE(\"*11....+\",VLOOKUP(16-(LEN(N2164)),'1'!$A$1:$B$16,2,TRUE),N2164,\" 81..40+\",VLOOKUP(16-(LEN(O2164)),'1'!$A$1:$B$16,2,TRUE),O2164,\" 82..40+\",VLOOKUP(16-(LEN(O2164)),'1'!$A$1:$B$16,2,TRUE),P2164,\" 71....+0000000000000000 \"))","v":""},null,""]
[null,null,"","","","","","","","",null,"","",null,null,null,null,{"$f":"IF(O2165=\"\",\"\",CONCATENATE(\"*11....+\",VLOOKUP(16-(LEN(N2165)),'1'!$A$1:$B$16,2,TRUE),N2165,\" 81..40+\",VLOOKUP(16-(LEN(O2165)),'1'!$A$1:$B$16,2,TRUE),O2165,\" 82..40+\",VLOOKUP(16-(LEN(O2165)),'1'!$A$1:$B$16,2,TRUE),P2165,\" 71....+0000000000000000 \"))","v":""},null,""]
[null,null,"","","","","","","","",null,"","",null,null,null,null,{"$f":"IF(O2166=\"\",\"\",CONCATENATE(\"*11....+\",VLOOKUP(16-(LEN(N2166)),'1'!$A$1:$B$16,2,TRUE),N2166,\" 81..40+\",VLOOKUP(16-(LEN(O2166)),'1'!$A$1:$B$16,2,TRUE),O2166,\" 82..40+\",VLOOKUP(16-(LEN(O2166)),'1'!$A$1:$B$16,2,TRUE),P2166,\" 71....+0000000000000000 \"))","v":""},null,""]
[null,null,"","","","","","","","",null,"","",null,null,null,null,{"$f":"IF(O2167=\"\",\"\",CONCATENATE(\"*11....+\",VLOOKUP(16-(LEN(N2167)),'1'!$A$1:$B$16,2,TRUE),N2167,\" 81..40+\",VLOOKUP(16-(LEN(O2167)),'1'!$A$1:$B$16,2,TRUE),O2167,\" 82..40+\",VLOOKUP(16-(LEN(O2167)),'1'!$A$1:$B$16,2,TRUE),P2167,\" 71....+0000000000000000 \"))","v":""},null,""]
[null,null,"","","","","","","","",null,"","",null,null,null,null,{"$f":"IF(O2168=\"\",\"\",CONCATENATE(\"*11....+\",VLOOKUP(16-(LEN(N2168)),'1'!$A$1:$B$16,2,TRUE),N2168,\" 81..40+\",VLOOKUP(16-(LEN(O2168)),'1'!$A$1:$B$16,2,TRUE),O2168,\" 82..40+\",VLOOKUP(16-(LEN(O2168)),'1'!$A$1:$B$16,2,TRUE),P2168,\" 71....+0000000000000000 \"))","v":""},null,""]
[null,null,"","","","","","","","",null,"","",null,null,null,null,{"$f":"IF(O2169=\"\",\"\",CONCATENATE(\"*11....+\",VLOOKUP(16-(LEN(N2169)),'1'!$A$1:$B$16,2,TRUE),N2169,\" 81..40+\",VLOOKUP(16-(LEN(O2169)),'1'!$A$1:$B$16,2,TRUE),O2169,\" 82..40+\",VLOOKUP(16-(LEN(O2169)),'1'!$A$1:$B$16,2,TRUE),P2169,\" 71....+0000000000000000 \"))","v":""},null,""]
[null,null,"","","","","","","","",null,"","",null,null,null,null,{"$f":"IF(O2170=\"\",\"\",CONCATENATE(\"*11....+\",VLOOKUP(16-(LEN(N2170)),'1'!$A$1:$B$16,2,TRUE),N2170,\" 81..40+\",VLOOKUP(16-(LEN(O2170)),'1'!$A$1:$B$16,2,TRUE),O2170,\" 82..40+\",VLOOKUP(16-(LEN(O2170)),'1'!$A$1:$B$16,2,TRUE),P2170,\" 71....+0000000000000000 \"))","v":""},null,""]
[null,null,"","","","","","","","",null,"","",null,null,null,null,{"$f":"IF(O2171=\"\",\"\",CONCATENATE(\"*11....+\",VLOOKUP(16-(LEN(N2171)),'1'!$A$1:$B$16,2,TRUE),N2171,\" 81..40+\",VLOOKUP(16-(LEN(O2171)),'1'!$A$1:$B$16,2,TRUE),O2171,\" 82..40+\",VLOOKUP(16-(LEN(O2171)),'1'!$A$1:$B$16,2,TRUE),P2171,\" 71....+0000000000000000 \"))","v":""},null,""]
[null,null,"","","","","","","","",null,"","",null,null,null,null,{"$f":"IF(O2172=\"\",\"\",CONCATENATE(\"*11....+\",VLOOKUP(16-(LEN(N2172)),'1'!$A$1:$B$16,2,TRUE),N2172,\" 81..40+\",VLOOKUP(16-(LEN(O2172)),'1'!$A$1:$B$16,2,TRUE),O2172,\" 82..40+\",VLOOKUP(16-(LEN(O2172)),'1'!$A$1:$B$16,2,TRUE),P2172,\" 71....+0000000000000000 \"))","v":""},null,""]
[null,null,"","","","","","","","",null,"","",null,null,null,null,{"$f":"IF(O2173=\"\",\"\",CONCATENATE(\"*11....+\",VLOOKUP(16-(LEN(N2173)),'1'!$A$1:$B$16,2,TRUE),N2173,\" 81..40+\",VLOOKUP(16-(LEN(O2173)),'1'!$A$1:$B$16,2,TRUE),O2173,\" 82..40+\",VLOOKUP(16-(LEN(O2173)),'1'!$A$1:$B$16,2,TRUE),P2173,\" 71....+0000000000000000 \"))","v":""},null,""]
[null,null,"","","","","","","","",null,"","",null,null,null,null,{"$f":"IF(O2174=\"\",\"\",CONCATENATE(\"*11....+\",VLOOKUP(16-(LEN(N2174)),'1'!$A$1:$B$16,2,TRUE),N2174,\" 81..40+\",VLOOKUP(16-(LEN(O2174)),'1'!$A$1:$B$16,2,TRUE),O2174,\" 82..40+\",VLOOKUP(16-(LEN(O2174)),'1'!$A$1:$B$16,2,TRUE),P2174,\" 71....+0000000000000000 \"))","v":""},null,""]
[null,null,"","","","","","","","",null,"","",null,null,null,null,{"$f":"IF(O2175=\"\",\"\",CONCATENATE(\"*11....+\",VLOOKUP(16-(LEN(N2175)),'1'!$A$1:$B$16,2,TRUE),N2175,\" 81..40+\",VLOOKUP(16-(LEN(O2175)),'1'!$A$1:$B$16,2,TRUE),O2175,\" 82..40+\",VLOOKUP(16-(LEN(O2175)),'1'!$A$1:$B$16,2,TRUE),P2175,\" 71....+0000000000000000 \"))","v":""},null,""]
[null,null,"","","","","","","","",null,"","",null,null,null,null,{"$f":"IF(O2176=\"\",\"\",CONCATENATE(\"*11....+\",VLOOKUP(16-(LEN(N2176)),'1'!$A$1:$B$16,2,TRUE),N2176,\" 81..40+\",VLOOKUP(16-(LEN(O2176)),'1'!$A$1:$B$16,2,TRUE),O2176,\" 82..40+\",VLOOKUP(16-(LEN(O2176)),'1'!$A$1:$B$16,2,TRUE),P2176,\" 71....+0000000000000000 \"))","v":""},null,""]
[null,null,"","","","","","","","",null,"","",null,null,null,null,{"$f":"IF(O2177=\"\",\"\",CONCATENATE(\"*11....+\",VLOOKUP(16-(LEN(N2177)),'1'!$A$1:$B$16,2,TRUE),N2177,\" 81..40+\",VLOOKUP(16-(LEN(O2177)),'1'!$A$1:$B$16,2,TRUE),O2177,\" 82..40+\",VLOOKUP(16-(LEN(O2177)),'1'!$A$1:$B$16,2,TRUE),P2177,\" 71....+0000000000000000 \"))","v":""},null,""]
[null,null,"","","","","","","","",null,"","",null,null,null,null,{"$f":"IF(O2178=\"\",\"\",CONCATENATE(\"*11....+\",VLOOKUP(16-(LEN(N2178)),'1'!$A$1:$B$16,2,TRUE),N2178,\" 81..40+\",VLOOKUP(16-(LEN(O2178)),'1'!$A$1:$B$16,2,TRUE),O2178,\" 82..40+\",VLOOKUP(16-(LEN(O2178)),'1'!$A$1:$B$16,2,TRUE),P2178,\" 71....+0000000000000000 \"))","v":""},null,""]
[null,null,"","","","","","","","",null,"","",null,null,null,null,{"$f":"IF(O2179=\"\",\"\",CONCATENATE(\"*11....+\",VLOOKUP(16-(LEN(N2179)),'1'!$A$1:$B$16,2,TRUE),N2179,\" 81..40+\",VLOOKUP(16-(LEN(O2179)),'1'!$A$1:$B$16,2,TRUE),O2179,\" 82..40+\",VLOOKUP(16-(LEN(O2179)),'1'!$A$1:$B$16,2,TRUE),P2179,\" 71....+0000000000000000 \"))","v":""},null,""]
[null,null,{"$f":"IF(LEN(A2180)=59,ROUND(VALUE(MID(A2180,23,9)),3),\"\")","v":""},{"$f":"IF(LEN(A2180)=24,\"\",\"\")","v":""},{"$f":"IF(LEN(A2180)=63,ROUND(VALUE(MID(A2180,23,12)),3),\"\")","v":""},{"$f":"IF(LEN(A2180)=59,ROUND(VALUE(MID(A2180,37,9)),3),\"\")","v":""},{"$f":"IF(LEN(A2180)=24,\"\",\"\")","v":""},{"$f":"IF(LEN(A2180)=63,ROUND(VALUE(MID(A2180,39,12)),3),\"\")","v":""},{"$f":"IF(AND(C2180=\"\",D2180=\"\",E2180=\"\"),\"\",ROUND(CONCATENATE(C2180,D2180,E2180),3))","v":""},{"$f":"IF(AND(C2180=\"\",D2180=\"\",E2180=\"\"),\"\",ROUND(CONCATENATE(F2180,G2180,H2180),3))","v":""},null,{"$f":"IF(K2180=\"\",\"\",ROUND(VALUE(VLOOKUP(K2180,$B$3:$J$2002,8,TRUE)),3))","v":""},{"$f":"IF(K2180=\"\",\"\",ROUND(VALUE(VLOOKUP(K2180,$B$3:$J$2002,9,TRUE)),3))","v":""},null,null,null,null,{"$f":"IF(O2180=\"\",\"\",CONCATENATE(\"*11....+\",VLOOKUP(16-(LEN(N2180)),'1'!$A$1:$B$16,2,TRUE),N2180,\" 81..40+\",VLOOKUP(16-(LEN(O2180)),'1'!$A$1:$B$16,2,TRUE),O2180,\" 82..40+\",VLOOKUP(16-(LEN(O2180)),'1'!$A$1:$B$16,2,TRUE),P2180,\" 71....+0000000000000000 \"))","v":""},null,{"$f":"IF(O2180=\"\",\"\",CONCATENATE(N2180,\",\",L2180,\",\",M2180))","v":""}]
[null,null,"","","","","","","","",null,"","",null,null,null,null,{"$f":"IF(O2181=\"\",\"\",CONCATENATE(\"*11....+\",VLOOKUP(16-(LEN(N2181)),'1'!$A$1:$B$16,2,TRUE),N2181,\" 81..40+\",VLOOKUP(16-(LEN(O2181)),'1'!$A$1:$B$16,2,TRUE),O2181,\" 82..40+\",VLOOKUP(16-(LEN(O2181)),'1'!$A$1:$B$16,2,TRUE),P2181,\" 71....+0000000000000000 \"))","v":""},null,""]
[null,null,"","","","","","","","",null,"","",null,null,null,null,{"$f":"IF(O2182=\"\",\"\",CONCATENATE(\"*11....+\",VLOOKUP(16-(LEN(N2182)),'1'!$A$1:$B$16,2,TRUE),N2182,\" 81..40+\",VLOOKUP(16-(LEN(O2182)),'1'!$A$1:$B$16,2,TRUE),O2182,\" 82..40+\",VLOOKUP(16-(LEN(O2182)),'1'!$A$1:$B$16,2,TRUE),P2182,\" 71....+0000000000000000 \"))","v":""},null,""]
[null,null,"","","","","","","","",null,"","",null,null,null,null,{"$f":"IF(O2183=\"\",\"\",CONCATENATE(\"*11....+\",VLOOKUP(16-(LEN(N2183)),'1'!$A$1:$B$16,2,TRUE),N2183,\" 81..40+\",VLOOKUP(16-(LEN(O2183)),'1'!$A$1:$B$16,2,TRUE),O2183,\" 82..40+\",VLOOKUP(16-(LEN(O2183)),'1'!$A$1:$B$16,2,TRUE),P2183,\" 71....+0000000000000000 \"))","v":""},null,""]
[null,null,"","","","","","","","",null,"","",null,null,null,null,{"$f":"IF(O2184=\"\",\"\",CONCATENATE(\"*11....+\",VLOOKUP(16-(LEN(N2184)),'1'!$A$1:$B$16,2,TRUE),N2184,\" 81..40+\",VLOOKUP(16-(LEN(O2184)),'1'!$A$1:$B$16,2,TRUE),O2184,\" 82..40+\",VLOOKUP(16-(LEN(O2184)),'1'!$A$1:$B$16,2,TRUE),P2184,\" 71....+0000000000000000 \"))","v":""},null,""]
[null,null,"","","","","","","","",null,"","",null,null,null,null,{"$f":"IF(O2185=\"\",\"\",CONCATENATE(\"*11....+\",VLOOKUP(16-(LEN(N2185)),'1'!$A$1:$B$16,2,TRUE),N2185,\" 81..40+\",VLOOKUP(16-(LEN(O2185)),'1'!$A$1:$B$16,2,TRUE),O2185,\" 82..40+\",VLOOKUP(16-(LEN(O2185)),'1'!$A$1:$B$16,2,TRUE),P2185,\" 71....+0000000000000000 \"))","v":""},null,""]
[null,null,"","","","","","","","",null,"","",null,null,null,null,{"$f":"IF(O2186=\"\",\"\",CONCATENATE(\"*11....+\",VLOOKUP(16-(LEN(N2186)),'1'!$A$1:$B$16,2,TRUE),N2186,\" 81..40+\",VLOOKUP(16-(LEN(O2186)),'1'!$A$1:$B$16,2,TRUE),O2186,\" 82..40+\",VLOOKUP(16-(LEN(O2186)),'1'!$A$1:$B$16,2,TRUE),P2186,\" 71....+0000000000000000 \"))","v":""},null,""]
[null,null,"","","","","","","","",null,"","",null,null,null,null,{"$f":"IF(O2187=\"\",\"\",CONCATENATE(\"*11....+\",VLOOKUP(16-(LEN(N2187)),'1'!$A$1:$B$16,2,TRUE),N2187,\" 81..40+\",VLOOKUP(16-(LEN(O2187)),'1'!$A$1:$B$16,2,TRUE),O2187,\" 82..40+\",VLOOKUP(16-(LEN(O2187)),'1'!$A$1:$B$16,2,TRUE),P2187,\" 71....+0000000000000000 \"))","v":""},null,""]
[null,null,"","","","","","","","",null,"","",null,null,null,null,{"$f":"IF(O2188=\"\",\"\",CONCATENATE(\"*11....+\",VLOOKUP(16-(LEN(N2188)),'1'!$A$1:$B$16,2,TRUE),N2188,\" 81..40+\",VLOOKUP(16-(LEN(O2188)),'1'!$A$1:$B$16,2,TRUE),O2188,\" 82..40+\",VLOOKUP(16-(LEN(O2188)),'1'!$A$1:$B$16,2,TRUE),P2188,\" 71....+0000000000000000 \"))","v":""},null,""]
[null,null,"","","","","","","","",null,"","",null,null,null,null,{"$f":"IF(O2189=\"\",\"\",CONCATENATE(\"*11....+\",VLOOKUP(16-(LEN(N2189)),'1'!$A$1:$B$16,2,TRUE),N2189,\" 81..40+\",VLOOKUP(16-(LEN(O2189)),'1'!$A$1:$B$16,2,TRUE),O2189,\" 82..40+\",VLOOKUP(16-(LEN(O2189)),'1'!$A$1:$B$16,2,TRUE),P2189,\" 71....+0000000000000000 \"))","v":""},null,""]
[null,null,"","","","","","","","",null,"","",null,null,null,null,{"$f":"IF(O2190=\"\",\"\",CONCATENATE(\"*11....+\",VLOOKUP(16-(LEN(N2190)),'1'!$A$1:$B$16,2,TRUE),N2190,\" 81..40+\",VLOOKUP(16-(LEN(O2190)),'1'!$A$1:$B$16,2,TRUE),O2190,\" 82..40+\",VLOOKUP(16-(LEN(O2190)),'1'!$A$1:$B$16,2,TRUE),P2190,\" 71....+0000000000000000 \"))","v":""},null,""]
[null,null,"","","","","","","","",null,"","",null,null,null,null,{"$f":"IF(O2191=\"\",\"\",CONCATENATE(\"*11....+\",VLOOKUP(16-(LEN(N2191)),'1'!$A$1:$B$16,2,TRUE),N2191,\" 81..40+\",VLOOKUP(16-(LEN(O2191)),'1'!$A$1:$B$16,2,TRUE),O2191,\" 82..40+\",VLOOKUP(16-(LEN(O2191)),'1'!$A$1:$B$16,2,TRUE),P2191,\" 71....+0000000000000000 \"))","v":""},null,""]
[null,null,"","","","","","","","",null,"","",null,null,null,null,{"$f":"IF(O2192=\"\",\"\",CONCATENATE(\"*11....+\",VLOOKUP(16-(LEN(N2192)),'1'!$A$1:$B$16,2,TRUE),N2192,\" 81..40+\",VLOOKUP(16-(LEN(O2192)),'1'!$A$1:$B$16,2,TRUE),O2192,\" 82..40+\",VLOOKUP(16-(LEN(O2192)),'1'!$A$1:$B$16,2,TRUE),P2192,\" 71....+0000000000000000 \"))","v":""},null,""]
[null,null,"","","","","","","","",null,"","",null,null,null,null,{"$f":"IF(O2193=\"\",\"\",CONCATENATE(\"*11....+\",VLOOKUP(16-(LEN(N2193)),'1'!$A$1:$B$16,2,TRUE),N2193,\" 81..40+\",VLOOKUP(16-(LEN(O2193)),'1'!$A$1:$B$16,2,TRUE),O2193,\" 82..40+\",VLOOKUP(16-(LEN(O2193)),'1'!$A$1:$B$16,2,TRUE),P2193,\" 71....+0000000000000000 \"))","v":""},null,""]
[null,null,"","","","","","","","",null,"","",null,null,null,null,{"$f":"IF(O2194=\"\",\"\",CONCATENATE(\"*11....+\",VLOOKUP(16-(LEN(N2194)),'1'!$A$1:$B$16,2,TRUE),N2194,\" 81..40+\",VLOOKUP(16-(LEN(O2194)),'1'!$A$1:$B$16,2,TRUE),O2194,\" 82..40+\",VLOOKUP(16-(LEN(O2194)),'1'!$A$1:$B$16,2,TRUE),P2194,\" 71....+0000000000000000 \"))","v":""},null,""]
[null,null,"","","","","","","","",null,"","",null,null,null,null,{"$f":"IF(O2195=\"\",\"\",CONCATENATE(\"*11....+\",VLOOKUP(16-(LEN(N2195)),'1'!$A$1:$B$16,2,TRUE),N2195,\" 81..40+\",VLOOKUP(16-(LEN(O2195)),'1'!$A$1:$B$16,2,TRUE),O2195,\" 82..40+\",VLOOKUP(16-(LEN(O2195)),'1'!$A$1:$B$16,2,TRUE),P2195,\" 71....+0000000000000000 \"))","v":""},null,""]
[null,null,"","","","","","","","",null,"","",null,null,null,null,{"$f":"IF(O2196=\"\",\"\",CONCATENATE(\"*11....+\",VLOOKUP(16-(LEN(N2196)),'1'!$A$1:$B$16,2,TRUE),N2196,\" 81..40+\",VLOOKUP(16-(LEN(O2196)),'1'!$A$1:$B$16,2,TRUE),O2196,\" 82..40+\",VLOOKUP(16-(LEN(O2196)),'1'!$A$1:$B$16,2,TRUE),P2196,\" 71....+0000000000000000 \"))","v":""},null,""]
[null,null,"","","","","","","","",null,"","",null,null,null,null,{"$f":"IF(O2197=\"\",\"\",CONCATENATE(\"*11....+\",VLOOKUP(16-(LEN(N2197)),'1'!$A$1:$B$16,2,TRUE),N2197,\" 81..40+\",VLOOKUP(16-(LEN(O2197)),'1'!$A$1:$B$16,2,TRUE),O2197,\" 82..40+\",VLOOKUP(16-(LEN(O2197)),'1'!$A$1:$B$16,2,TRUE),P2197,\" 71....+0000000000000000 \"))","v":""},null,""]
[null,null,"","","","","","","","",null,"","",null,null,null,null,{"$f":"IF(O2198=\"\",\"\",CONCATENATE(\"*11....+\",VLOOKUP(16-(LEN(N2198)),'1'!$A$1:$B$16,2,TRUE),N2198,\" 81..40+\",VLOOKUP(16-(LEN(O2198)),'1'!$A$1:$B$16,2,TRUE),O2198,\" 82..40+\",VLOOKUP(16-(LEN(O2198)),'1'!$A$1:$B$16,2,TRUE),P2198,\" 71....+0000000000000000 \"))","v":""},null,""]
[null,null,"","","","","","","","",null,"","",null,null,null,null,{"$f":"IF(O2199=\"\",\"\",CONCATENATE(\"*11....+\",VLOOKUP(16-(LEN(N2199)),'1'!$A$1:$B$16,2,TRUE),N2199,\" 81..40+\",VLOOKUP(16-(LEN(O2199)),'1'!$A$1:$B$16,2,TRUE),O2199,\" 82..40+\",VLOOKUP(16-(LEN(O2199)),'1'!$A$1:$B$16,2,TRUE),P2199,\" 71....+0000000000000000 \"))","v":""},null,""]
[null,null,"","","","","","","","",null,"","",null,null,null,null,{"$f":"IF(O2200=\"\",\"\",CONCATENATE(\"*11....+\",VLOOKUP(16-(LEN(N2200)),'1'!$A$1:$B$16,2,TRUE),N2200,\" 81..40+\",VLOOKUP(16-(LEN(O2200)),'1'!$A$1:$B$16,2,TRUE),O2200,\" 82..40+\",VLOOKUP(16-(LEN(O2200)),'1'!$A$1:$B$16,2,TRUE),P2200,\" 71....+0000000000000000 \"))","v":""},null,""]
[null,null,"","","","","","","","",null,"","",null,null,null,null,{"$f":"IF(O2201=\"\",\"\",CONCATENATE(\"*11....+\",VLOOKUP(16-(LEN(N2201)),'1'!$A$1:$B$16,2,TRUE),N2201,\" 81..40+\",VLOOKUP(16-(LEN(O2201)),'1'!$A$1:$B$16,2,TRUE),O2201,\" 82..40+\",VLOOKUP(16-(LEN(O2201)),'1'!$A$1:$B$16,2,TRUE),P2201,\" 71....+0000000000000000 \"))","v":""},null,""]
[null,null,"","","","","","","","",null,"","",null,null,null,null,{"$f":"IF(O2202=\"\",\"\",CONCATENATE(\"*11....+\",VLOOKUP(16-(LEN(N2202)),'1'!$A$1:$B$16,2,TRUE),N2202,\" 81..40+\",VLOOKUP(16-(LEN(O2202)),'1'!$A$1:$B$16,2,TRUE),O2202,\" 82..40+\",VLOOKUP(16-(LEN(O2202)),'1'!$A$1:$B$16,2,TRUE),P2202,\" 71....+0000000000000000 \"))","v":""},null,""]
[null,null,"","","","","","","","",null,"","",null,null,null,null,{"$f":"IF(O2203=\"\",\"\",CONCATENATE(\"*11....+\",VLOOKUP(16-(LEN(N2203)),'1'!$A$1:$B$16,2,TRUE),N2203,\" 81..40+\",VLOOKUP(16-(LEN(O2203)),'1'!$A$1:$B$16,2,TRUE),O2203,\" 82..40+\",VLOOKUP(16-(LEN(O2203)),'1'!$A$1:$B$16,2,TRUE),P2203,\" 71....+0000000000000000 \"))","v":""},null,""]
[null,null,"","","","","","","","",null,"","",null,null,null,null,{"$f":"IF(O2204=\"\",\"\",CONCATENATE(\"*11....+\",VLOOKUP(16-(LEN(N2204)),'1'!$A$1:$B$16,2,TRUE),N2204,\" 81..40+\",VLOOKUP(16-(LEN(O2204)),'1'!$A$1:$B$16,2,TRUE),O2204,\" 82..40+\",VLOOKUP(16-(LEN(O2204)),'1'!$A$1:$B$16,2,TRUE),P2204,\" 71....+0000000000000000 \"))","v":""},null,""]
[null,null,"","","","","","","","",null,"","",null,null,null,null,{"$f":"IF(O2205=\"\",\"\",CONCATENATE(\"*11....+\",VLOOKUP(16-(LEN(N2205)),'1'!$A$1:$B$16,2,TRUE),N2205,\" 81..40+\",VLOOKUP(16-(LEN(O2205)),'1'!$A$1:$B$16,2,TRUE),O2205,\" 82..40+\",VLOOKUP(16-(LEN(O2205)),'1'!$A$1:$B$16,2,TRUE),P2205,\" 71....+0000000000000000 \"))","v":""},null,""]
[null,null,"","","","","","","","",null,"","",null,null,null,null,{"$f":"IF(O2206=\"\",\"\",CONCATENATE(\"*11....+\",VLOOKUP(16-(LEN(N2206)),'1'!$A$1:$B$16,2,TRUE),N2206,\" 81..40+\",VLOOKUP(16-(LEN(O2206)),'1'!$A$1:$B$16,2,TRUE),O2206,\" 82..40+\",VLOOKUP(16-(LEN(O2206)),'1'!$A$1:$B$16,2,TRUE),P2206,\" 71....+0000000000000000 \"))","v":""},null,""]
[null,null,"","","","","","","","",null,"","",null,null,null,null,{"$f":"IF(O2207=\"\",\"\",CONCATENATE(\"*11....+\",VLOOKUP(16-(LEN(N2207)),'1'!$A$1:$B$16,2,TRUE),N2207,\" 81..40+\",VLOOKUP(16-(LEN(O2207)),'1'!$A$1:$B$16,2,TRUE),O2207,\" 82..40+\",VLOOKUP(16-(LEN(O2207)),'1'!$A$1:$B$16,2,TRUE),P2207,\" 71....+0000000000000000 \"))","v":""},null,""]
[null,null,"","","","","","","","",null,"","",null,null,null,null,{"$f":"IF(O2208=\"\",\"\",CONCATENATE(\"*11....+\",VLOOKUP(16-(LEN(N2208)),'1'!$A$1:$B$16,2,TRUE),N2208,\" 81..40+\",VLOOKUP(16-(LEN(O2208)),'1'!$A$1:$B$16,2,TRUE),O2208,\" 82..40+\",VLOOKUP(16-(LEN(O2208)),'1'!$A$1:$B$16,2,TRUE),P2208,\" 71....+0000000000000000 \"))","v":""},null,""]
[null,null,"","","","","","","","",null,"","",null,null,null,null,{"$f":"IF(O2209=\"\",\"\",CONCATENATE(\"*11....+\",VLOOKUP(16-(LEN(N2209)),'1'!$A$1:$B$16,2,TRUE),N2209,\" 81..40+\",VLOOKUP(16-(LEN(O2209)),'1'!$A$1:$B$16,2,TRUE),O2209,\" 82..40+\",VLOOKUP(16-(LEN(O2209)),'1'!$A$1:$B$16,2,TRUE),P2209,\" 71....+0000000000000000 \"))","v":""},null,""]
[null,null,"","","","","","","","",null,"","",null,null,null,null,{"$f":"IF(O2210=\"\",\"\",CONCATENATE(\"*11....+\",VLOOKUP(16-(LEN(N2210)),'1'!$A$1:$B$16,2,TRUE),N2210,\" 81..40+\",VLOOKUP(16-(LEN(O2210)),'1'!$A$1:$B$16,2,TRUE),O2210,\" 82..40+\",VLOOKUP(16-(LEN(O2210)),'1'!$A$1:$B$16,2,TRUE),P2210,\" 71....+0000000000000000 \"))","v":""},null,""]
[null,null,"","","","","","","","",null,"","",null,null,null,null,{"$f":"IF(O2211=\"\",\"\",CONCATENATE(\"*11....+\",VLOOKUP(16-(LEN(N2211)),'1'!$A$1:$B$16,2,TRUE),N2211,\" 81..40+\",VLOOKUP(16-(LEN(O2211)),'1'!$A$1:$B$16,2,TRUE),O2211,\" 82..40+\",VLOOKUP(16-(LEN(O2211)),'1'!$A$1:$B$16,2,TRUE),P2211,\" 71....+0000000000000000 \"))","v":""},null,""]
[null,null,"","","","","","","","",null,"","",null,null,null,null,{"$f":"IF(O2212=\"\",\"\",CONCATENATE(\"*11....+\",VLOOKUP(16-(LEN(N2212)),'1'!$A$1:$B$16,2,TRUE),N2212,\" 81..40+\",VLOOKUP(16-(LEN(O2212)),'1'!$A$1:$B$16,2,TRUE),O2212,\" 82..40+\",VLOOKUP(16-(LEN(O2212)),'1'!$A$1:$B$16,2,TRUE),P2212,\" 71....+0000000000000000 \"))","v":""},null,""]
[null,null,"","","","","","","","",null,"","",null,null,null,null,{"$f":"IF(O2213=\"\",\"\",CONCATENATE(\"*11....+\",VLOOKUP(16-(LEN(N2213)),'1'!$A$1:$B$16,2,TRUE),N2213,\" 81..40+\",VLOOKUP(16-(LEN(O2213)),'1'!$A$1:$B$16,2,TRUE),O2213,\" 82..40+\",VLOOKUP(16-(LEN(O2213)),'1'!$A$1:$B$16,2,TRUE),P2213,\" 71....+0000000000000000 \"))","v":""},null,""]
[null,null,"","","","","","","","",null,"","",null,null,null,null,{"$f":"IF(O2214=\"\",\"\",CONCATENATE(\"*11....+\",VLOOKUP(16-(LEN(N2214)),'1'!$A$1:$B$16,2,TRUE),N2214,\" 81..40+\",VLOOKUP(16-(LEN(O2214)),'1'!$A$1:$B$16,2,TRUE),O2214,\" 82..40+\",VLOOKUP(16-(LEN(O2214)),'1'!$A$1:$B$16,2,TRUE),P2214,\" 71....+0000000000000000 \"))","v":""},null,""]
[null,null,"","","","","","","","",null,"","",null,null,null,null,{"$f":"IF(O2215=\"\",\"\",CONCATENATE(\"*11....+\",VLOOKUP(16-(LEN(N2215)),'1'!$A$1:$B$16,2,TRUE),N2215,\" 81..40+\",VLOOKUP(16-(LEN(O2215)),'1'!$A$1:$B$16,2,TRUE),O2215,\" 82..40+\",VLOOKUP(16-(LEN(O2215)),'1'!$A$1:$B$16,2,TRUE),P2215,\" 71....+0000000000000000 \"))","v":""},null,""]
[null,null,"","","","","","","","",null,"","",null,null,null,null,{"$f":"IF(O2216=\"\",\"\",CONCATENATE(\"*11....+\",VLOOKUP(16-(LEN(N2216)),'1'!$A$1:$B$16,2,TRUE),N2216,\" 81..40+\",VLOOKUP(16-(LEN(O2216)),'1'!$A$1:$B$16,2,TRUE),O2216,\" 82..40+\",VLOOKUP(16-(LEN(O2216)),'1'!$A$1:$B$16,2,TRUE),P2216,\" 71....+0000000000000000 \"))","v":""},null,""]
[null,null,"","","","","","","","",null,"","",null,null,null,null,{"$f":"IF(O2217=\"\",\"\",CONCATENATE(\"*11....+\",VLOOKUP(16-(LEN(N2217)),'1'!$A$1:$B$16,2,TRUE),N2217,\" 81..40+\",VLOOKUP(16-(LEN(O2217)),'1'!$A$1:$B$16,2,TRUE),O2217,\" 82..40+\",VLOOKUP(16-(LEN(O2217)),'1'!$A$1:$B$16,2,TRUE),P2217,\" 71....+0000000000000000 \"))","v":""},null,""]
[null,null,"","","","","","","","",null,"","",null,null,null,null,{"$f":"IF(O2218=\"\",\"\",CONCATENATE(\"*11....+\",VLOOKUP(16-(LEN(N2218)),'1'!$A$1:$B$16,2,TRUE),N2218,\" 81..40+\",VLOOKUP(16-(LEN(O2218)),'1'!$A$1:$B$16,2,TRUE),O2218,\" 82..40+\",VLOOKUP(16-(LEN(O2218)),'1'!$A$1:$B$16,2,TRUE),P2218,\" 71....+0000000000000000 \"))","v":""},null,""]
[null,null,"","","","","","","","",null,"","",null,null,null,null,{"$f":"IF(O2219=\"\",\"\",CONCATENATE(\"*11....+\",VLOOKUP(16-(LEN(N2219)),'1'!$A$1:$B$16,2,TRUE),N2219,\" 81..40+\",VLOOKUP(16-(LEN(O2219)),'1'!$A$1:$B$16,2,TRUE),O2219,\" 82..40+\",VLOOKUP(16-(LEN(O2219)),'1'!$A$1:$B$16,2,TRUE),P2219,\" 71....+0000000000000000 \"))","v":""},null,""]
[null,null,"","","","","","","","",null,"","",null,null,null,null,{"$f":"IF(O2220=\"\",\"\",CONCATENATE(\"*11....+\",VLOOKUP(16-(LEN(N2220)),'1'!$A$1:$B$16,2,TRUE),N2220,\" 81..40+\",VLOOKUP(16-(LEN(O2220)),'1'!$A$1:$B$16,2,TRUE),O2220,\" 82..40+\",VLOOKUP(16-(LEN(O2220)),'1'!$A$1:$B$16,2,TRUE),P2220,\" 71....+0000000000000000 \"))","v":""},null,""]
[null,null,"","","","","","","","",null,"","",null,null,null,null,{"$f":"IF(O2221=\"\",\"\",CONCATENATE(\"*11....+\",VLOOKUP(16-(LEN(N2221)),'1'!$A$1:$B$16,2,TRUE),N2221,\" 81..40+\",VLOOKUP(16-(LEN(O2221)),'1'!$A$1:$B$16,2,TRUE),O2221,\" 82..40+\",VLOOKUP(16-(LEN(O2221)),'1'!$A$1:$B$16,2,TRUE),P2221,\" 71....+0000000000000000 \"))","v":""},null,""]
[null,null,"","","","","","","","",null,"","",null,null,null,null,{"$f":"IF(O2222=\"\",\"\",CONCATENATE(\"*11....+\",VLOOKUP(16-(LEN(N2222)),'1'!$A$1:$B$16,2,TRUE),N2222,\" 81..40+\",VLOOKUP(16-(LEN(O2222)),'1'!$A$1:$B$16,2,TRUE),O2222,\" 82..40+\",VLOOKUP(16-(LEN(O2222)),'1'!$A$1:$B$16,2,TRUE),P2222,\" 71....+0000000000000000 \"))","v":""},null,""]
[null,null,"","","","","","","","",null,"","",null,null,null,null,{"$f":"IF(O2223=\"\",\"\",CONCATENATE(\"*11....+\",VLOOKUP(16-(LEN(N2223)),'1'!$A$1:$B$16,2,TRUE),N2223,\" 81..40+\",VLOOKUP(16-(LEN(O2223)),'1'!$A$1:$B$16,2,TRUE),O2223,\" 82..40+\",VLOOKUP(16-(LEN(O2223)),'1'!$A$1:$B$16,2,TRUE),P2223,\" 71....+0000000000000000 \"))","v":""},null,""]
[null,null,"","","","","","","","",null,"","",null,null,null,null,{"$f":"IF(O2224=\"\",\"\",CONCATENATE(\"*11....+\",VLOOKUP(16-(LEN(N2224)),'1'!$A$1:$B$16,2,TRUE),N2224,\" 81..40+\",VLOOKUP(16-(LEN(O2224)),'1'!$A$1:$B$16,2,TRUE),O2224,\" 82..40+\",VLOOKUP(16-(LEN(O2224)),'1'!$A$1:$B$16,2,TRUE),P2224,\" 71....+0000000000000000 \"))","v":""},null,""]
[null,null,"","","","","","","","",null,"","",null,null,null,null,{"$f":"IF(O2225=\"\",\"\",CONCATENATE(\"*11....+\",VLOOKUP(16-(LEN(N2225)),'1'!$A$1:$B$16,2,TRUE),N2225,\" 81..40+\",VLOOKUP(16-(LEN(O2225)),'1'!$A$1:$B$16,2,TRUE),O2225,\" 82..40+\",VLOOKUP(16-(LEN(O2225)),'1'!$A$1:$B$16,2,TRUE),P2225,\" 71....+0000000000000000 \"))","v":""},null,""]
[null,null,"","","","","","","","",null,"","",null,null,null,null,{"$f":"IF(O2226=\"\",\"\",CONCATENATE(\"*11....+\",VLOOKUP(16-(LEN(N2226)),'1'!$A$1:$B$16,2,TRUE),N2226,\" 81..40+\",VLOOKUP(16-(LEN(O2226)),'1'!$A$1:$B$16,2,TRUE),O2226,\" 82..40+\",VLOOKUP(16-(LEN(O2226)),'1'!$A$1:$B$16,2,TRUE),P2226,\" 71....+0000000000000000 \"))","v":""},null,""]
[null,null,"","","","","","","","",null,"","",null,null,null,null,{"$f":"IF(O2227=\"\",\"\",CONCATENATE(\"*11....+\",VLOOKUP(16-(LEN(N2227)),'1'!$A$1:$B$16,2,TRUE),N2227,\" 81..40+\",VLOOKUP(16-(LEN(O2227)),'1'!$A$1:$B$16,2,TRUE),O2227,\" 82..40+\",VLOOKUP(16-(LEN(O2227)),'1'!$A$1:$B$16,2,TRUE),P2227,\" 71....+0000000000000000 \"))","v":""},null,""]
[null,null,"","","","","","","","",null,"","",null,null,null,null,{"$f":"IF(O2228=\"\",\"\",CONCATENATE(\"*11....+\",VLOOKUP(16-(LEN(N2228)),'1'!$A$1:$B$16,2,TRUE),N2228,\" 81..40+\",VLOOKUP(16-(LEN(O2228)),'1'!$A$1:$B$16,2,TRUE),O2228,\" 82..40+\",VLOOKUP(16-(LEN(O2228)),'1'!$A$1:$B$16,2,TRUE),P2228,\" 71....+0000000000000000 \"))","v":""},null,""]
[null,null,"","","","","","","","",null,"","",null,null,null,null,{"$f":"IF(O2229=\"\",\"\",CONCATENATE(\"*11....+\",VLOOKUP(16-(LEN(N2229)),'1'!$A$1:$B$16,2,TRUE),N2229,\" 81..40+\",VLOOKUP(16-(LEN(O2229)),'1'!$A$1:$B$16,2,TRUE),O2229,\" 82..40+\",VLOOKUP(16-(LEN(O2229)),'1'!$A$1:$B$16,2,TRUE),P2229,\" 71....+0000000000000000 \"))","v":""},null,""]
[null,null,"","","","","","","","",null,"","",null,null,null,null,{"$f":"IF(O2230=\"\",\"\",CONCATENATE(\"*11....+\",VLOOKUP(16-(LEN(N2230)),'1'!$A$1:$B$16,2,TRUE),N2230,\" 81..40+\",VLOOKUP(16-(LEN(O2230)),'1'!$A$1:$B$16,2,TRUE),O2230,\" 82..40+\",VLOOKUP(16-(LEN(O2230)),'1'!$A$1:$B$16,2,TRUE),P2230,\" 71....+0000000000000000 \"))","v":""},null,""]
[null,null,"","","","","","","","",null,"","",null,null,null,null,{"$f":"IF(O2231=\"\",\"\",CONCATENATE(\"*11....+\",VLOOKUP(16-(LEN(N2231)),'1'!$A$1:$B$16,2,TRUE),N2231,\" 81..40+\",VLOOKUP(16-(LEN(O2231)),'1'!$A$1:$B$16,2,TRUE),O2231,\" 82..40+\",VLOOKUP(16-(LEN(O2231)),'1'!$A$1:$B$16,2,TRUE),P2231,\" 71....+0000000000000000 \"))","v":""},null,""]
[null,null,"","","","","","","","",null,"","",null,null,null,null,{"$f":"IF(O2232=\"\",\"\",CONCATENATE(\"*11....+\",VLOOKUP(16-(LEN(N2232)),'1'!$A$1:$B$16,2,TRUE),N2232,\" 81..40+\",VLOOKUP(16-(LEN(O2232)),'1'!$A$1:$B$16,2,TRUE),O2232,\" 82..40+\",VLOOKUP(16-(LEN(O2232)),'1'!$A$1:$B$16,2,TRUE),P2232,\" 71....+0000000000000000 \"))","v":""},null,""]
[null,null,"","","","","","","","",null,"","",null,null,null,null,{"$f":"IF(O2233=\"\",\"\",CONCATENATE(\"*11....+\",VLOOKUP(16-(LEN(N2233)),'1'!$A$1:$B$16,2,TRUE),N2233,\" 81..40+\",VLOOKUP(16-(LEN(O2233)),'1'!$A$1:$B$16,2,TRUE),O2233,\" 82..40+\",VLOOKUP(16-(LEN(O2233)),'1'!$A$1:$B$16,2,TRUE),P2233,\" 71....+0000000000000000 \"))","v":""},null,""]
[null,null,"","","","","","","","",null,"","",null,null,null,null,{"$f":"IF(O2234=\"\",\"\",CONCATENATE(\"*11....+\",VLOOKUP(16-(LEN(N2234)),'1'!$A$1:$B$16,2,TRUE),N2234,\" 81..40+\",VLOOKUP(16-(LEN(O2234)),'1'!$A$1:$B$16,2,TRUE),O2234,\" 82..40+\",VLOOKUP(16-(LEN(O2234)),'1'!$A$1:$B$16,2,TRUE),P2234,\" 71....+0000000000000000 \"))","v":""},null,""]
[null,null,"","","","","","","","",null,"","",null,null,null,null,{"$f":"IF(O2235=\"\",\"\",CONCATENATE(\"*11....+\",VLOOKUP(16-(LEN(N2235)),'1'!$A$1:$B$16,2,TRUE),N2235,\" 81..40+\",VLOOKUP(16-(LEN(O2235)),'1'!$A$1:$B$16,2,TRUE),O2235,\" 82..40+\",VLOOKUP(16-(LEN(O2235)),'1'!$A$1:$B$16,2,TRUE),P2235,\" 71....+0000000000000000 \"))","v":""},null,""]
[null,null,"","","","","","","","",null,"","",null,null,null,null,{"$f":"IF(O2236=\"\",\"\",CONCATENATE(\"*11....+\",VLOOKUP(16-(LEN(N2236)),'1'!$A$1:$B$16,2,TRUE),N2236,\" 81..40+\",VLOOKUP(16-(LEN(O2236)),'1'!$A$1:$B$16,2,TRUE),O2236,\" 82..40+\",VLOOKUP(16-(LEN(O2236)),'1'!$A$1:$B$16,2,TRUE),P2236,\" 71....+0000000000000000 \"))","v":""},null,""]
[null,null,"","","","","","","","",null,"","",null,null,null,null,{"$f":"IF(O2237=\"\",\"\",CONCATENATE(\"*11....+\",VLOOKUP(16-(LEN(N2237)),'1'!$A$1:$B$16,2,TRUE),N2237,\" 81..40+\",VLOOKUP(16-(LEN(O2237)),'1'!$A$1:$B$16,2,TRUE),O2237,\" 82..40+\",VLOOKUP(16-(LEN(O2237)),'1'!$A$1:$B$16,2,TRUE),P2237,\" 71....+0000000000000000 \"))","v":""},null,""]
[null,null,"","","","","","","","",null,"","",null,null,null,null,{"$f":"IF(O2238=\"\",\"\",CONCATENATE(\"*11....+\",VLOOKUP(16-(LEN(N2238)),'1'!$A$1:$B$16,2,TRUE),N2238,\" 81..40+\",VLOOKUP(16-(LEN(O2238)),'1'!$A$1:$B$16,2,TRUE),O2238,\" 82..40+\",VLOOKUP(16-(LEN(O2238)),'1'!$A$1:$B$16,2,TRUE),P2238,\" 71....+0000000000000000 \"))","v":""},null,""]
[null,null,"","","","","","","","",null,"","",null,null,null,null,{"$f":"IF(O2239=\"\",\"\",CONCATENATE(\"*11....+\",VLOOKUP(16-(LEN(N2239)),'1'!$A$1:$B$16,2,TRUE),N2239,\" 81..40+\",VLOOKUP(16-(LEN(O2239)),'1'!$A$1:$B$16,2,TRUE),O2239,\" 82..40+\",VLOOKUP(16-(LEN(O2239)),'1'!$A$1:$B$16,2,TRUE),P2239,\" 71....+0000000000000000 \"))","v":""},null,""]
[null,null,"","","","","","","","",null,"","",null,null,null,null,{"$f":"IF(O2240=\"\",\"\",CONCATENATE(\"*11....+\",VLOOKUP(16-(LEN(N2240)),'1'!$A$1:$B$16,2,TRUE),N2240,\" 81..40+\",VLOOKUP(16-(LEN(O2240)),'1'!$A$1:$B$16,2,TRUE),O2240,\" 82..40+\",VLOOKUP(16-(LEN(O2240)),'1'!$A$1:$B$16,2,TRUE),P2240,\" 71....+0000000000000000 \"))","v":""},null,""]
[null,null,"","","","","","","","",null,"","",null,null,null,null,{"$f":"IF(O2241=\"\",\"\",CONCATENATE(\"*11....+\",VLOOKUP(16-(LEN(N2241)),'1'!$A$1:$B$16,2,TRUE),N2241,\" 81..40+\",VLOOKUP(16-(LEN(O2241)),'1'!$A$1:$B$16,2,TRUE),O2241,\" 82..40+\",VLOOKUP(16-(LEN(O2241)),'1'!$A$1:$B$16,2,TRUE),P2241,\" 71....+0000000000000000 \"))","v":""},null,""]
[null,null,"","","","","","","","",null,"","",null,null,null,null,{"$f":"IF(O2242=\"\",\"\",CONCATENATE(\"*11....+\",VLOOKUP(16-(LEN(N2242)),'1'!$A$1:$B$16,2,TRUE),N2242,\" 81..40+\",VLOOKUP(16-(LEN(O2242)),'1'!$A$1:$B$16,2,TRUE),O2242,\" 82..40+\",VLOOKUP(16-(LEN(O2242)),'1'!$A$1:$B$16,2,TRUE),P2242,\" 71....+0000000000000000 \"))","v":""},null,""]
[null,null,"","","","","","","","",null,"","",null,null,null,null,{"$f":"IF(O2243=\"\",\"\",CONCATENATE(\"*11....+\",VLOOKUP(16-(LEN(N2243)),'1'!$A$1:$B$16,2,TRUE),N2243,\" 81..40+\",VLOOKUP(16-(LEN(O2243)),'1'!$A$1:$B$16,2,TRUE),O2243,\" 82..40+\",VLOOKUP(16-(LEN(O2243)),'1'!$A$1:$B$16,2,TRUE),P2243,\" 71....+0000000000000000 \"))","v":""},null,""]
[null,null,{"$f":"IF(LEN(A2244)=59,ROUND(VALUE(MID(A2244,23,9)),3),\"\")","v":""},{"$f":"IF(LEN(A2244)=24,\"\",\"\")","v":""},{"$f":"IF(LEN(A2244)=63,ROUND(VALUE(MID(A2244,23,12)),3),\"\")","v":""},{"$f":"IF(LEN(A2244)=59,ROUND(VALUE(MID(A2244,37,9)),3),\"\")","v":""},{"$f":"IF(LEN(A2244)=24,\"\",\"\")","v":""},{"$f":"IF(LEN(A2244)=63,ROUND(VALUE(MID(A2244,39,12)),3),\"\")","v":""},{"$f":"IF(AND(C2244=\"\",D2244=\"\",E2244=\"\"),\"\",ROUND(CONCATENATE(C2244,D2244,E2244),3))","v":""},{"$f":"IF(AND(C2244=\"\",D2244=\"\",E2244=\"\"),\"\",ROUND(CONCATENATE(F2244,G2244,H2244),3))","v":""},null,{"$f":"IF(K2244=\"\",\"\",ROUND(VALUE(VLOOKUP(K2244,$B$3:$J$2002,8,TRUE)),3))","v":""},{"$f":"IF(K2244=\"\",\"\",ROUND(VALUE(VLOOKUP(K2244,$B$3:$J$2002,9,TRUE)),3))","v":""},null,null,null,null,{"$f":"IF(O2244=\"\",\"\",CONCATENATE(\"*11....+\",VLOOKUP(16-(LEN(N2244)),'1'!$A$1:$B$16,2,TRUE),N2244,\" 81..40+\",VLOOKUP(16-(LEN(O2244)),'1'!$A$1:$B$16,2,TRUE),O2244,\" 82..40+\",VLOOKUP(16-(LEN(O2244)),'1'!$A$1:$B$16,2,TRUE),P2244,\" 71....+0000000000000000 \"))","v":""},null,{"$f":"IF(O2244=\"\",\"\",CONCATENATE(N2244,\",\",L2244,\",\",M2244))","v":""}]
[null,null,"","","","","","","","",null,"","",null,null,null,null,{"$f":"IF(O2245=\"\",\"\",CONCATENATE(\"*11....+\",VLOOKUP(16-(LEN(N2245)),'1'!$A$1:$B$16,2,TRUE),N2245,\" 81..40+\",VLOOKUP(16-(LEN(O2245)),'1'!$A$1:$B$16,2,TRUE),O2245,\" 82..40+\",VLOOKUP(16-(LEN(O2245)),'1'!$A$1:$B$16,2,TRUE),P2245,\" 71....+0000000000000000 \"))","v":""},null,""]
[null,null,"","","","","","","","",null,"","",null,null,null,null,{"$f":"IF(O2246=\"\",\"\",CONCATENATE(\"*11....+\",VLOOKUP(16-(LEN(N2246)),'1'!$A$1:$B$16,2,TRUE),N2246,\" 81..40+\",VLOOKUP(16-(LEN(O2246)),'1'!$A$1:$B$16,2,TRUE),O2246,\" 82..40+\",VLOOKUP(16-(LEN(O2246)),'1'!$A$1:$B$16,2,TRUE),P2246,\" 71....+0000000000000000 \"))","v":""},null,""]
[null,null,"","","","","","","","",null,"","",null,null,null,null,{"$f":"IF(O2247=\"\",\"\",CONCATENATE(\"*11....+\",VLOOKUP(16-(LEN(N2247)),'1'!$A$1:$B$16,2,TRUE),N2247,\" 81..40+\",VLOOKUP(16-(LEN(O2247)),'1'!$A$1:$B$16,2,TRUE),O2247,\" 82..40+\",VLOOKUP(16-(LEN(O2247)),'1'!$A$1:$B$16,2,TRUE),P2247,\" 71....+0000000000000000 \"))","v":""},null,""]
[null,null,"","","","","","","","",null,"","",null,null,null,null,{"$f":"IF(O2248=\"\",\"\",CONCATENATE(\"*11....+\",VLOOKUP(16-(LEN(N2248)),'1'!$A$1:$B$16,2,TRUE),N2248,\" 81..40+\",VLOOKUP(16-(LEN(O2248)),'1'!$A$1:$B$16,2,TRUE),O2248,\" 82..40+\",VLOOKUP(16-(LEN(O2248)),'1'!$A$1:$B$16,2,TRUE),P2248,\" 71....+0000000000000000 \"))","v":""},null,""]
[null,null,"","","","","","","","",null,"","",null,null,null,null,{"$f":"IF(O2249=\"\",\"\",CONCATENATE(\"*11....+\",VLOOKUP(16-(LEN(N2249)),'1'!$A$1:$B$16,2,TRUE),N2249,\" 81..40+\",VLOOKUP(16-(LEN(O2249)),'1'!$A$1:$B$16,2,TRUE),O2249,\" 82..40+\",VLOOKUP(16-(LEN(O2249)),'1'!$A$1:$B$16,2,TRUE),P2249,\" 71....+0000000000000000 \"))","v":""},null,""]
[null,null,"","","","","","","","",null,"","",null,null,null,null,{"$f":"IF(O2250=\"\",\"\",CONCATENATE(\"*11....+\",VLOOKUP(16-(LEN(N2250)),'1'!$A$1:$B$16,2,TRUE),N2250,\" 81..40+\",VLOOKUP(16-(LEN(O2250)),'1'!$A$1:$B$16,2,TRUE),O2250,\" 82..40+\",VLOOKUP(16-(LEN(O2250)),'1'!$A$1:$B$16,2,TRUE),P2250,\" 71....+0000000000000000 \"))","v":""},null,""]
[null,null,"","","","","","","","",null,"","",null,null,null,null,{"$f":"IF(O2251=\"\",\"\",CONCATENATE(\"*11....+\",VLOOKUP(16-(LEN(N2251)),'1'!$A$1:$B$16,2,TRUE),N2251,\" 81..40+\",VLOOKUP(16-(LEN(O2251)),'1'!$A$1:$B$16,2,TRUE),O2251,\" 82..40+\",VLOOKUP(16-(LEN(O2251)),'1'!$A$1:$B$16,2,TRUE),P2251,\" 71....+0000000000000000 \"))","v":""},null,""]
[null,null,"","","","","","","","",null,"","",null,null,null,null,{"$f":"IF(O2252=\"\",\"\",CONCATENATE(\"*11....+\",VLOOKUP(16-(LEN(N2252)),'1'!$A$1:$B$16,2,TRUE),N2252,\" 81..40+\",VLOOKUP(16-(LEN(O2252)),'1'!$A$1:$B$16,2,TRUE),O2252,\" 82..40+\",VLOOKUP(16-(LEN(O2252)),'1'!$A$1:$B$16,2,TRUE),P2252,\" 71....+0000000000000000 \"))","v":""},null,""]
[null,null,"","","","","","","","",null,"","",null,null,null,null,{"$f":"IF(O2253=\"\",\"\",CONCATENATE(\"*11....+\",VLOOKUP(16-(LEN(N2253)),'1'!$A$1:$B$16,2,TRUE),N2253,\" 81..40+\",VLOOKUP(16-(LEN(O2253)),'1'!$A$1:$B$16,2,TRUE),O2253,\" 82..40+\",VLOOKUP(16-(LEN(O2253)),'1'!$A$1:$B$16,2,TRUE),P2253,\" 71....+0000000000000000 \"))","v":""},null,""]
[null,null,"","","","","","","","",null,"","",null,null,null,null,{"$f":"IF(O2254=\"\",\"\",CONCATENATE(\"*11....+\",VLOOKUP(16-(LEN(N2254)),'1'!$A$1:$B$16,2,TRUE),N2254,\" 81..40+\",VLOOKUP(16-(LEN(O2254)),'1'!$A$1:$B$16,2,TRUE),O2254,\" 82..40+\",VLOOKUP(16-(LEN(O2254)),'1'!$A$1:$B$16,2,TRUE),P2254,\" 71....+0000000000000000 \"))","v":""},null,""]
[null,null,"","","","","","","","",null,"","",null,null,null,null,{"$f":"IF(O2255=\"\",\"\",CONCATENATE(\"*11....+\",VLOOKUP(16-(LEN(N2255)),'1'!$A$1:$B$16,2,TRUE),N2255,\" 81..40+\",VLOOKUP(16-(LEN(O2255)),'1'!$A$1:$B$16,2,TRUE),O2255,\" 82..40+\",VLOOKUP(16-(LEN(O2255)),'1'!$A$1:$B$16,2,TRUE),P2255,\" 71....+0000000000000000 \"))","v":""},null,""]
[null,null,"","","","","","","","",null,"","",null,null,null,null,{"$f":"IF(O2256=\"\",\"\",CONCATENATE(\"*11....+\",VLOOKUP(16-(LEN(N2256)),'1'!$A$1:$B$16,2,TRUE),N2256,\" 81..40+\",VLOOKUP(16-(LEN(O2256)),'1'!$A$1:$B$16,2,TRUE),O2256,\" 82..40+\",VLOOKUP(16-(LEN(O2256)),'1'!$A$1:$B$16,2,TRUE),P2256,\" 71....+0000000000000000 \"))","v":""},null,""]
[null,null,"","","","","","","","",null,"","",null,null,null,null,{"$f":"IF(O2257=\"\",\"\",CONCATENATE(\"*11....+\",VLOOKUP(16-(LEN(N2257)),'1'!$A$1:$B$16,2,TRUE),N2257,\" 81..40+\",VLOOKUP(16-(LEN(O2257)),'1'!$A$1:$B$16,2,TRUE),O2257,\" 82..40+\",VLOOKUP(16-(LEN(O2257)),'1'!$A$1:$B$16,2,TRUE),P2257,\" 71....+0000000000000000 \"))","v":""},null,""]
[null,null,"","","","","","","","",null,"","",null,null,null,null,{"$f":"IF(O2258=\"\",\"\",CONCATENATE(\"*11....+\",VLOOKUP(16-(LEN(N2258)),'1'!$A$1:$B$16,2,TRUE),N2258,\" 81..40+\",VLOOKUP(16-(LEN(O2258)),'1'!$A$1:$B$16,2,TRUE),O2258,\" 82..40+\",VLOOKUP(16-(LEN(O2258)),'1'!$A$1:$B$16,2,TRUE),P2258,\" 71....+0000000000000000 \"))","v":""},null,""]
[null,null,"","","","","","","","",null,"","",null,null,null,null,{"$f":"IF(O2259=\"\",\"\",CONCATENATE(\"*11....+\",VLOOKUP(16-(LEN(N2259)),'1'!$A$1:$B$16,2,TRUE),N2259,\" 81..40+\",VLOOKUP(16-(LEN(O2259)),'1'!$A$1:$B$16,2,TRUE),O2259,\" 82..40+\",VLOOKUP(16-(LEN(O2259)),'1'!$A$1:$B$16,2,TRUE),P2259,\" 71....+0000000000000000 \"))","v":""},null,""]
[null,null,"","","","","","","","",null,"","",null,null,null,null,{"$f":"IF(O2260=\"\",\"\",CONCATENATE(\"*11....+\",VLOOKUP(16-(LEN(N2260)),'1'!$A$1:$B$16,2,TRUE),N2260,\" 81..40+\",VLOOKUP(16-(LEN(O2260)),'1'!$A$1:$B$16,2,TRUE),O2260,\" 82..40+\",VLOOKUP(16-(LEN(O2260)),'1'!$A$1:$B$16,2,TRUE),P2260,\" 71....+0000000000000000 \"))","v":""},null,""]
[null,null,"","","","","","","","",null,"","",null,null,null,null,{"$f":"IF(O2261=\"\",\"\",CONCATENATE(\"*11....+\",VLOOKUP(16-(LEN(N2261)),'1'!$A$1:$B$16,2,TRUE),N2261,\" 81..40+\",VLOOKUP(16-(LEN(O2261)),'1'!$A$1:$B$16,2,TRUE),O2261,\" 82..40+\",VLOOKUP(16-(LEN(O2261)),'1'!$A$1:$B$16,2,TRUE),P2261,\" 71....+0000000000000000 \"))","v":""},null,""]
[null,null,"","","","","","","","",null,"","",null,null,null,null,{"$f":"IF(O2262=\"\",\"\",CONCATENATE(\"*11....+\",VLOOKUP(16-(LEN(N2262)),'1'!$A$1:$B$16,2,TRUE),N2262,\" 81..40+\",VLOOKUP(16-(LEN(O2262)),'1'!$A$1:$B$16,2,TRUE),O2262,\" 82..40+\",VLOOKUP(16-(LEN(O2262)),'1'!$A$1:$B$16,2,TRUE),P2262,\" 71....+0000000000000000 \"))","v":""},null,""]
[null,null,"","","","","","","","",null,"","",null,null,null,null,{"$f":"IF(O2263=\"\",\"\",CONCATENATE(\"*11....+\",VLOOKUP(16-(LEN(N2263)),'1'!$A$1:$B$16,2,TRUE),N2263,\" 81..40+\",VLOOKUP(16-(LEN(O2263)),'1'!$A$1:$B$16,2,TRUE),O2263,\" 82..40+\",VLOOKUP(16-(LEN(O2263)),'1'!$A$1:$B$16,2,TRUE),P2263,\" 71....+0000000000000000 \"))","v":""},null,""]
[null,null,"","","","","","","","",null,"","",null,null,null,null,{"$f":"IF(O2264=\"\",\"\",CONCATENATE(\"*11....+\",VLOOKUP(16-(LEN(N2264)),'1'!$A$1:$B$16,2,TRUE),N2264,\" 81..40+\",VLOOKUP(16-(LEN(O2264)),'1'!$A$1:$B$16,2,TRUE),O2264,\" 82..40+\",VLOOKUP(16-(LEN(O2264)),'1'!$A$1:$B$16,2,TRUE),P2264,\" 71....+0000000000000000 \"))","v":""},null,""]
[null,null,"","","","","","","","",null,"","",null,null,null,null,{"$f":"IF(O2265=\"\",\"\",CONCATENATE(\"*11....+\",VLOOKUP(16-(LEN(N2265)),'1'!$A$1:$B$16,2,TRUE),N2265,\" 81..40+\",VLOOKUP(16-(LEN(O2265)),'1'!$A$1:$B$16,2,TRUE),O2265,\" 82..40+\",VLOOKUP(16-(LEN(O2265)),'1'!$A$1:$B$16,2,TRUE),P2265,\" 71....+0000000000000000 \"))","v":""},null,""]
[null,null,"","","","","","","","",null,"","",null,null,null,null,{"$f":"IF(O2266=\"\",\"\",CONCATENATE(\"*11....+\",VLOOKUP(16-(LEN(N2266)),'1'!$A$1:$B$16,2,TRUE),N2266,\" 81..40+\",VLOOKUP(16-(LEN(O2266)),'1'!$A$1:$B$16,2,TRUE),O2266,\" 82..40+\",VLOOKUP(16-(LEN(O2266)),'1'!$A$1:$B$16,2,TRUE),P2266,\" 71....+0000000000000000 \"))","v":""},null,""]
[null,null,"","","","","","","","",null,"","",null,null,null,null,{"$f":"IF(O2267=\"\",\"\",CONCATENATE(\"*11....+\",VLOOKUP(16-(LEN(N2267)),'1'!$A$1:$B$16,2,TRUE),N2267,\" 81..40+\",VLOOKUP(16-(LEN(O2267)),'1'!$A$1:$B$16,2,TRUE),O2267,\" 82..40+\",VLOOKUP(16-(LEN(O2267)),'1'!$A$1:$B$16,2,TRUE),P2267,\" 71....+0000000000000000 \"))","v":""},null,""]
[null,null,"","","","","","","","",null,"","",null,null,null,null,{"$f":"IF(O2268=\"\",\"\",CONCATENATE(\"*11....+\",VLOOKUP(16-(LEN(N2268)),'1'!$A$1:$B$16,2,TRUE),N2268,\" 81..40+\",VLOOKUP(16-(LEN(O2268)),'1'!$A$1:$B$16,2,TRUE),O2268,\" 82..40+\",VLOOKUP(16-(LEN(O2268)),'1'!$A$1:$B$16,2,TRUE),P2268,\" 71....+0000000000000000 \"))","v":""},null,""]
[null,null,"","","","","","","","",null,"","",null,null,null,null,{"$f":"IF(O2269=\"\",\"\",CONCATENATE(\"*11....+\",VLOOKUP(16-(LEN(N2269)),'1'!$A$1:$B$16,2,TRUE),N2269,\" 81..40+\",VLOOKUP(16-(LEN(O2269)),'1'!$A$1:$B$16,2,TRUE),O2269,\" 82..40+\",VLOOKUP(16-(LEN(O2269)),'1'!$A$1:$B$16,2,TRUE),P2269,\" 71....+0000000000000000 \"))","v":""},null,""]
[null,null,"","","","","","","","",null,"","",null,null,null,null,{"$f":"IF(O2270=\"\",\"\",CONCATENATE(\"*11....+\",VLOOKUP(16-(LEN(N2270)),'1'!$A$1:$B$16,2,TRUE),N2270,\" 81..40+\",VLOOKUP(16-(LEN(O2270)),'1'!$A$1:$B$16,2,TRUE),O2270,\" 82..40+\",VLOOKUP(16-(LEN(O2270)),'1'!$A$1:$B$16,2,TRUE),P2270,\" 71....+0000000000000000 \"))","v":""},null,""]
[null,null,"","","","","","","","",null,"","",null,null,null,null,{"$f":"IF(O2271=\"\",\"\",CONCATENATE(\"*11....+\",VLOOKUP(16-(LEN(N2271)),'1'!$A$1:$B$16,2,TRUE),N2271,\" 81..40+\",VLOOKUP(16-(LEN(O2271)),'1'!$A$1:$B$16,2,TRUE),O2271,\" 82..40+\",VLOOKUP(16-(LEN(O2271)),'1'!$A$1:$B$16,2,TRUE),P2271,\" 71....+0000000000000000 \"))","v":""},null,""]
[null,null,"","","","","","","","",null,"","",null,null,null,null,{"$f":"IF(O2272=\"\",\"\",CONCATENATE(\"*11....+\",VLOOKUP(16-(LEN(N2272)),'1'!$A$1:$B$16,2,TRUE),N2272,\" 81..40+\",VLOOKUP(16-(LEN(O2272)),'1'!$A$1:$B$16,2,TRUE),O2272,\" 82..40+\",VLOOKUP(16-(LEN(O2272)),'1'!$A$1:$B$16,2,TRUE),P2272,\" 71....+0000000000000000 \"))","v":""},null,""]
[null,null,"","","","","","","","",null,"","",null,null,null,null,{"$f":"IF(O2273=\"\",\"\",CONCATENATE(\"*11....+\",VLOOKUP(16-(LEN(N2273)),'1'!$A$1:$B$16,2,TRUE),N2273,\" 81..40+\",VLOOKUP(16-(LEN(O2273)),'1'!$A$1:$B$16,2,TRUE),O2273,\" 82..40+\",VLOOKUP(16-(LEN(O2273)),'1'!$A$1:$B$16,2,TRUE),P2273,\" 71....+0000000000000000 \"))","v":""},null,""]
[null,null,"","","","","","","","",null,"","",null,null,null,null,{"$f":"IF(O2274=\"\",\"\",CONCATENATE(\"*11....+\",VLOOKUP(16-(LEN(N2274)),'1'!$A$1:$B$16,2,TRUE),N2274,\" 81..40+\",VLOOKUP(16-(LEN(O2274)),'1'!$A$1:$B$16,2,TRUE),O2274,\" 82..40+\",VLOOKUP(16-(LEN(O2274)),'1'!$A$1:$B$16,2,TRUE),P2274,\" 71....+0000000000000000 \"))","v":""},null,""]
[null,null,"","","","","","","","",null,"","",null,null,null,null,{"$f":"IF(O2275=\"\",\"\",CONCATENATE(\"*11....+\",VLOOKUP(16-(LEN(N2275)),'1'!$A$1:$B$16,2,TRUE),N2275,\" 81..40+\",VLOOKUP(16-(LEN(O2275)),'1'!$A$1:$B$16,2,TRUE),O2275,\" 82..40+\",VLOOKUP(16-(LEN(O2275)),'1'!$A$1:$B$16,2,TRUE),P2275,\" 71....+0000000000000000 \"))","v":""},null,""]
[null,null,"","","","","","","","",null,"","",null,null,null,null,{"$f":"IF(O2276=\"\",\"\",CONCATENATE(\"*11....+\",VLOOKUP(16-(LEN(N2276)),'1'!$A$1:$B$16,2,TRUE),N2276,\" 81..40+\",VLOOKUP(16-(LEN(O2276)),'1'!$A$1:$B$16,2,TRUE),O2276,\" 82..40+\",VLOOKUP(16-(LEN(O2276)),'1'!$A$1:$B$16,2,TRUE),P2276,\" 71....+0000000000000000 \"))","v":""},null,""]
[null,null,"","","","","","","","",null,"","",null,null,null,null,{"$f":"IF(O2277=\"\",\"\",CONCATENATE(\"*11....+\",VLOOKUP(16-(LEN(N2277)),'1'!$A$1:$B$16,2,TRUE),N2277,\" 81..40+\",VLOOKUP(16-(LEN(O2277)),'1'!$A$1:$B$16,2,TRUE),O2277,\" 82..40+\",VLOOKUP(16-(LEN(O2277)),'1'!$A$1:$B$16,2,TRUE),P2277,\" 71....+0000000000000000 \"))","v":""},null,""]
[null,null,"","","","","","","","",null,"","",null,null,null,null,{"$f":"IF(O2278=\"\",\"\",CONCATENATE(\"*11....+\",VLOOKUP(16-(LEN(N2278)),'1'!$A$1:$B$16,2,TRUE),N2278,\" 81..40+\",VLOOKUP(16-(LEN(O2278)),'1'!$A$1:$B$16,2,TRUE),O2278,\" 82..40+\",VLOOKUP(16-(LEN(O2278)),'1'!$A$1:$B$16,2,TRUE),P2278,\" 71....+0000000000000000 \"))","v":""},null,""]
[null,null,"","","","","","","","",null,"","",null,null,null,null,{"$f":"IF(O2279=\"\",\"\",CONCATENATE(\"*11....+\",VLOOKUP(16-(LEN(N2279)),'1'!$A$1:$B$16,2,TRUE),N2279,\" 81..40+\",VLOOKUP(16-(LEN(O2279)),'1'!$A$1:$B$16,2,TRUE),O2279,\" 82..40+\",VLOOKUP(16-(LEN(O2279)),'1'!$A$1:$B$16,2,TRUE),P2279,\" 71....+0000000000000000 \"))","v":""},null,""]
[null,null,"","","","","","","","",null,"","",null,null,null,null,{"$f":"IF(O2280=\"\",\"\",CONCATENATE(\"*11....+\",VLOOKUP(16-(LEN(N2280)),'1'!$A$1:$B$16,2,TRUE),N2280,\" 81..40+\",VLOOKUP(16-(LEN(O2280)),'1'!$A$1:$B$16,2,TRUE),O2280,\" 82..40+\",VLOOKUP(16-(LEN(O2280)),'1'!$A$1:$B$16,2,TRUE),P2280,\" 71....+0000000000000000 \"))","v":""},null,""]
[null,null,"","","","","","","","",null,"","",null,null,null,null,{"$f":"IF(O2281=\"\",\"\",CONCATENATE(\"*11....+\",VLOOKUP(16-(LEN(N2281)),'1'!$A$1:$B$16,2,TRUE),N2281,\" 81..40+\",VLOOKUP(16-(LEN(O2281)),'1'!$A$1:$B$16,2,TRUE),O2281,\" 82..40+\",VLOOKUP(16-(LEN(O2281)),'1'!$A$1:$B$16,2,TRUE),P2281,\" 71....+0000000000000000 \"))","v":""},null,""]
[null,null,"","","","","","","","",null,"","",null,null,null,null,{"$f":"IF(O2282=\"\",\"\",CONCATENATE(\"*11....+\",VLOOKUP(16-(LEN(N2282)),'1'!$A$1:$B$16,2,TRUE),N2282,\" 81..40+\",VLOOKUP(16-(LEN(O2282)),'1'!$A$1:$B$16,2,TRUE),O2282,\" 82..40+\",VLOOKUP(16-(LEN(O2282)),'1'!$A$1:$B$16,2,TRUE),P2282,\" 71....+0000000000000000 \"))","v":""},null,""]
[null,null,"","","","","","","","",null,"","",null,null,null,null,{"$f":"IF(O2283=\"\",\"\",CONCATENATE(\"*11....+\",VLOOKUP(16-(LEN(N2283)),'1'!$A$1:$B$16,2,TRUE),N2283,\" 81..40+\",VLOOKUP(16-(LEN(O2283)),'1'!$A$1:$B$16,2,TRUE),O2283,\" 82..40+\",VLOOKUP(16-(LEN(O2283)),'1'!$A$1:$B$16,2,TRUE),P2283,\" 71....+0000000000000000 \"))","v":""},null,""]
[null,null,"","","","","","","","",null,"","",null,null,null,null,{"$f":"IF(O2284=\"\",\"\",CONCATENATE(\"*11....+\",VLOOKUP(16-(LEN(N2284)),'1'!$A$1:$B$16,2,TRUE),N2284,\" 81..40+\",VLOOKUP(16-(LEN(O2284)),'1'!$A$1:$B$16,2,TRUE),O2284,\" 82..40+\",VLOOKUP(16-(LEN(O2284)),'1'!$A$1:$B$16,2,TRUE),P2284,\" 71....+0000000000000000 \"))","v":""},null,""]
[null,null,"","","","","","","","",null,"","",null,null,null,null,{"$f":"IF(O2285=\"\",\"\",CONCATENATE(\"*11....+\",VLOOKUP(16-(LEN(N2285)),'1'!$A$1:$B$16,2,TRUE),N2285,\" 81..40+\",VLOOKUP(16-(LEN(O2285)),'1'!$A$1:$B$16,2,TRUE),O2285,\" 82..40+\",VLOOKUP(16-(LEN(O2285)),'1'!$A$1:$B$16,2,TRUE),P2285,\" 71....+0000000000000000 \"))","v":""},null,""]
[null,null,"","","","","","","","",null,"","",null,null,null,null,{"$f":"IF(O2286=\"\",\"\",CONCATENATE(\"*11....+\",VLOOKUP(16-(LEN(N2286)),'1'!$A$1:$B$16,2,TRUE),N2286,\" 81..40+\",VLOOKUP(16-(LEN(O2286)),'1'!$A$1:$B$16,2,TRUE),O2286,\" 82..40+\",VLOOKUP(16-(LEN(O2286)),'1'!$A$1:$B$16,2,TRUE),P2286,\" 71....+0000000000000000 \"))","v":""},null,""]
[null,null,"","","","","","","","",null,"","",null,null,null,null,{"$f":"IF(O2287=\"\",\"\",CONCATENATE(\"*11....+\",VLOOKUP(16-(LEN(N2287)),'1'!$A$1:$B$16,2,TRUE),N2287,\" 81..40+\",VLOOKUP(16-(LEN(O2287)),'1'!$A$1:$B$16,2,TRUE),O2287,\" 82..40+\",VLOOKUP(16-(LEN(O2287)),'1'!$A$1:$B$16,2,TRUE),P2287,\" 71....+0000000000000000 \"))","v":""},null,""]
[null,null,"","","","","","","","",null,"","",null,null,null,null,{"$f":"IF(O2288=\"\",\"\",CONCATENATE(\"*11....+\",VLOOKUP(16-(LEN(N2288)),'1'!$A$1:$B$16,2,TRUE),N2288,\" 81..40+\",VLOOKUP(16-(LEN(O2288)),'1'!$A$1:$B$16,2,TRUE),O2288,\" 82..40+\",VLOOKUP(16-(LEN(O2288)),'1'!$A$1:$B$16,2,TRUE),P2288,\" 71....+0000000000000000 \"))","v":""},null,""]
[null,null,"","","","","","","","",null,"","",null,null,null,null,{"$f":"IF(O2289=\"\",\"\",CONCATENATE(\"*11....+\",VLOOKUP(16-(LEN(N2289)),'1'!$A$1:$B$16,2,TRUE),N2289,\" 81..40+\",VLOOKUP(16-(LEN(O2289)),'1'!$A$1:$B$16,2,TRUE),O2289,\" 82..40+\",VLOOKUP(16-(LEN(O2289)),'1'!$A$1:$B$16,2,TRUE),P2289,\" 71....+0000000000000000 \"))","v":""},null,""]
[null,null,"","","","","","","","",null,"","",null,null,null,null,{"$f":"IF(O2290=\"\",\"\",CONCATENATE(\"*11....+\",VLOOKUP(16-(LEN(N2290)),'1'!$A$1:$B$16,2,TRUE),N2290,\" 81..40+\",VLOOKUP(16-(LEN(O2290)),'1'!$A$1:$B$16,2,TRUE),O2290,\" 82..40+\",VLOOKUP(16-(LEN(O2290)),'1'!$A$1:$B$16,2,TRUE),P2290,\" 71....+0000000000000000 \"))","v":""},null,""]
[null,null,"","","","","","","","",null,"","",null,null,null,null,{"$f":"IF(O2291=\"\",\"\",CONCATENATE(\"*11....+\",VLOOKUP(16-(LEN(N2291)),'1'!$A$1:$B$16,2,TRUE),N2291,\" 81..40+\",VLOOKUP(16-(LEN(O2291)),'1'!$A$1:$B$16,2,TRUE),O2291,\" 82..40+\",VLOOKUP(16-(LEN(O2291)),'1'!$A$1:$B$16,2,TRUE),P2291,\" 71....+0000000000000000 \"))","v":""},null,""]
[null,null,"","","","","","","","",null,"","",null,null,null,null,{"$f":"IF(O2292=\"\",\"\",CONCATENATE(\"*11....+\",VLOOKUP(16-(LEN(N2292)),'1'!$A$1:$B$16,2,TRUE),N2292,\" 81..40+\",VLOOKUP(16-(LEN(O2292)),'1'!$A$1:$B$16,2,TRUE),O2292,\" 82..40+\",VLOOKUP(16-(LEN(O2292)),'1'!$A$1:$B$16,2,TRUE),P2292,\" 71....+0000000000000000 \"))","v":""},null,""]
[null,null,"","","","","","","","",null,"","",null,null,null,null,{"$f":"IF(O2293=\"\",\"\",CONCATENATE(\"*11....+\",VLOOKUP(16-(LEN(N2293)),'1'!$A$1:$B$16,2,TRUE),N2293,\" 81..40+\",VLOOKUP(16-(LEN(O2293)),'1'!$A$1:$B$16,2,TRUE),O2293,\" 82..40+\",VLOOKUP(16-(LEN(O2293)),'1'!$A$1:$B$16,2,TRUE),P2293,\" 71....+0000000000000000 \"))","v":""},null,""]
[null,null,"","","","","","","","",null,"","",null,null,null,null,{"$f":"IF(O2294=\"\",\"\",CONCATENATE(\"*11....+\",VLOOKUP(16-(LEN(N2294)),'1'!$A$1:$B$16,2,TRUE),N2294,\" 81..40+\",VLOOKUP(16-(LEN(O2294)),'1'!$A$1:$B$16,2,TRUE),O2294,\" 82..40+\",VLOOKUP(16-(LEN(O2294)),'1'!$A$1:$B$16,2,TRUE),P2294,\" 71....+0000000000000000 \"))","v":""},null,""]
[null,null,"","","","","","","","",null,"","",null,null,null,null,{"$f":"IF(O2295=\"\",\"\",CONCATENATE(\"*11....+\",VLOOKUP(16-(LEN(N2295)),'1'!$A$1:$B$16,2,TRUE),N2295,\" 81..40+\",VLOOKUP(16-(LEN(O2295)),'1'!$A$1:$B$16,2,TRUE),O2295,\" 82..40+\",VLOOKUP(16-(LEN(O2295)),'1'!$A$1:$B$16,2,TRUE),P2295,\" 71....+0000000000000000 \"))","v":""},null,""]
[null,null,"","","","","","","","",null,"","",null,null,null,null,{"$f":"IF(O2296=\"\",\"\",CONCATENATE(\"*11....+\",VLOOKUP(16-(LEN(N2296)),'1'!$A$1:$B$16,2,TRUE),N2296,\" 81..40+\",VLOOKUP(16-(LEN(O2296)),'1'!$A$1:$B$16,2,TRUE),O2296,\" 82..40+\",VLOOKUP(16-(LEN(O2296)),'1'!$A$1:$B$16,2,TRUE),P2296,\" 71....+0000000000000000 \"))","v":""},null,""]
[null,null,"","","","","","","","",null,"","",null,null,null,null,{"$f":"IF(O2297=\"\",\"\",CONCATENATE(\"*11....+\",VLOOKUP(16-(LEN(N2297)),'1'!$A$1:$B$16,2,TRUE),N2297,\" 81..40+\",VLOOKUP(16-(LEN(O2297)),'1'!$A$1:$B$16,2,TRUE),O2297,\" 82..40+\",VLOOKUP(16-(LEN(O2297)),'1'!$A$1:$B$16,2,TRUE),P2297,\" 71....+0000000000000000 \"))","v":""},null,""]
[null,null,"","","","","","","","",null,"","",null,null,null,null,{"$f":"IF(O2298=\"\",\"\",CONCATENATE(\"*11....+\",VLOOKUP(16-(LEN(N2298)),'1'!$A$1:$B$16,2,TRUE),N2298,\" 81..40+\",VLOOKUP(16-(LEN(O2298)),'1'!$A$1:$B$16,2,TRUE),O2298,\" 82..40+\",VLOOKUP(16-(LEN(O2298)),'1'!$A$1:$B$16,2,TRUE),P2298,\" 71....+0000000000000000 \"))","v":""},null,""]
[null,null,"","","","","","","","",null,"","",null,null,null,null,{"$f":"IF(O2299=\"\",\"\",CONCATENATE(\"*11....+\",VLOOKUP(16-(LEN(N2299)),'1'!$A$1:$B$16,2,TRUE),N2299,\" 81..40+\",VLOOKUP(16-(LEN(O2299)),'1'!$A$1:$B$16,2,TRUE),O2299,\" 82..40+\",VLOOKUP(16-(LEN(O2299)),'1'!$A$1:$B$16,2,TRUE),P2299,\" 71....+0000000000000000 \"))","v":""},null,""]
[null,null,"","","","","","","","",null,"","",null,null,null,null,{"$f":"IF(O2300=\"\",\"\",CONCATENATE(\"*11....+\",VLOOKUP(16-(LEN(N2300)),'1'!$A$1:$B$16,2,TRUE),N2300,\" 81..40+\",VLOOKUP(16-(LEN(O2300)),'1'!$A$1:$B$16,2,TRUE),O2300,\" 82..40+\",VLOOKUP(16-(LEN(O2300)),'1'!$A$1:$B$16,2,TRUE),P2300,\" 71....+0000000000000000 \"))","v":""},null,""]
[null,null,"","","","","","","","",null,"","",null,null,null,null,{"$f":"IF(O2301=\"\",\"\",CONCATENATE(\"*11....+\",VLOOKUP(16-(LEN(N2301)),'1'!$A$1:$B$16,2,TRUE),N2301,\" 81..40+\",VLOOKUP(16-(LEN(O2301)),'1'!$A$1:$B$16,2,TRUE),O2301,\" 82..40+\",VLOOKUP(16-(LEN(O2301)),'1'!$A$1:$B$16,2,TRUE),P2301,\" 71....+0000000000000000 \"))","v":""},null,""]
[null,null,"","","","","","","","",null,"","",null,null,null,null,{"$f":"IF(O2302=\"\",\"\",CONCATENATE(\"*11....+\",VLOOKUP(16-(LEN(N2302)),'1'!$A$1:$B$16,2,TRUE),N2302,\" 81..40+\",VLOOKUP(16-(LEN(O2302)),'1'!$A$1:$B$16,2,TRUE),O2302,\" 82..40+\",VLOOKUP(16-(LEN(O2302)),'1'!$A$1:$B$16,2,TRUE),P2302,\" 71....+0000000000000000 \"))","v":""},null,""]
[null,null,"","","","","","","","",null,"","",null,null,null,null,{"$f":"IF(O2303=\"\",\"\",CONCATENATE(\"*11....+\",VLOOKUP(16-(LEN(N2303)),'1'!$A$1:$B$16,2,TRUE),N2303,\" 81..40+\",VLOOKUP(16-(LEN(O2303)),'1'!$A$1:$B$16,2,TRUE),O2303,\" 82..40+\",VLOOKUP(16-(LEN(O2303)),'1'!$A$1:$B$16,2,TRUE),P2303,\" 71....+0000000000000000 \"))","v":""},null,""]
[null,null,"","","","","","","","",null,"","",null,null,null,null,{"$f":"IF(O2304=\"\",\"\",CONCATENATE(\"*11....+\",VLOOKUP(16-(LEN(N2304)),'1'!$A$1:$B$16,2,TRUE),N2304,\" 81..40+\",VLOOKUP(16-(LEN(O2304)),'1'!$A$1:$B$16,2,TRUE),O2304,\" 82..40+\",VLOOKUP(16-(LEN(O2304)),'1'!$A$1:$B$16,2,TRUE),P2304,\" 71....+0000000000000000 \"))","v":""},null,""]
[null,null,"","","","","","","","",null,"","",null,null,null,null,{"$f":"IF(O2305=\"\",\"\",CONCATENATE(\"*11....+\",VLOOKUP(16-(LEN(N2305)),'1'!$A$1:$B$16,2,TRUE),N2305,\" 81..40+\",VLOOKUP(16-(LEN(O2305)),'1'!$A$1:$B$16,2,TRUE),O2305,\" 82..40+\",VLOOKUP(16-(LEN(O2305)),'1'!$A$1:$B$16,2,TRUE),P2305,\" 71....+0000000000000000 \"))","v":""},null,""]
[null,null,"","","","","","","","",null,"","",null,null,null,null,{"$f":"IF(O2306=\"\",\"\",CONCATENATE(\"*11....+\",VLOOKUP(16-(LEN(N2306)),'1'!$A$1:$B$16,2,TRUE),N2306,\" 81..40+\",VLOOKUP(16-(LEN(O2306)),'1'!$A$1:$B$16,2,TRUE),O2306,\" 82..40+\",VLOOKUP(16-(LEN(O2306)),'1'!$A$1:$B$16,2,TRUE),P2306,\" 71....+0000000000000000 \"))","v":""},null,""]
[null,null,"","","","","","","","",null,"","",null,null,null,null,{"$f":"IF(O2307=\"\",\"\",CONCATENATE(\"*11....+\",VLOOKUP(16-(LEN(N2307)),'1'!$A$1:$B$16,2,TRUE),N2307,\" 81..40+\",VLOOKUP(16-(LEN(O2307)),'1'!$A$1:$B$16,2,TRUE),O2307,\" 82..40+\",VLOOKUP(16-(LEN(O2307)),'1'!$A$1:$B$16,2,TRUE),P2307,\" 71....+0000000000000000 \"))","v":""},null,""]
[null,null,{"$f":"IF(LEN(A2308)=59,ROUND(VALUE(MID(A2308,23,9)),3),\"\")","v":""},{"$f":"IF(LEN(A2308)=24,\"\",\"\")","v":""},{"$f":"IF(LEN(A2308)=63,ROUND(VALUE(MID(A2308,23,12)),3),\"\")","v":""},{"$f":"IF(LEN(A2308)=59,ROUND(VALUE(MID(A2308,37,9)),3),\"\")","v":""},{"$f":"IF(LEN(A2308)=24,\"\",\"\")","v":""},{"$f":"IF(LEN(A2308)=63,ROUND(VALUE(MID(A2308,39,12)),3),\"\")","v":""},{"$f":"IF(AND(C2308=\"\",D2308=\"\",E2308=\"\"),\"\",ROUND(CONCATENATE(C2308,D2308,E2308),3))","v":""},{"$f":"IF(AND(C2308=\"\",D2308=\"\",E2308=\"\"),\"\",ROUND(CONCATENATE(F2308,G2308,H2308),3))","v":""},null,{"$f":"IF(K2308=\"\",\"\",ROUND(VALUE(VLOOKUP(K2308,$B$3:$J$2002,8,TRUE)),3))","v":""},{"$f":"IF(K2308=\"\",\"\",ROUND(VALUE(VLOOKUP(K2308,$B$3:$J$2002,9,TRUE)),3))","v":""},null,null,null,null,{"$f":"IF(O2308=\"\",\"\",CONCATENATE(\"*11....+\",VLOOKUP(16-(LEN(N2308)),'1'!$A$1:$B$16,2,TRUE),N2308,\" 81..40+\",VLOOKUP(16-(LEN(O2308)),'1'!$A$1:$B$16,2,TRUE),O2308,\" 82..40+\",VLOOKUP(16-(LEN(O2308)),'1'!$A$1:$B$16,2,TRUE),P2308,\" 71....+0000000000000000 \"))","v":""},null,{"$f":"IF(O2308=\"\",\"\",CONCATENATE(N2308,\",\",L2308,\",\",M2308))","v":""}]
[null,null,"","","","","","","","",null,"","",null,null,null,null,{"$f":"IF(O2309=\"\",\"\",CONCATENATE(\"*11....+\",VLOOKUP(16-(LEN(N2309)),'1'!$A$1:$B$16,2,TRUE),N2309,\" 81..40+\",VLOOKUP(16-(LEN(O2309)),'1'!$A$1:$B$16,2,TRUE),O2309,\" 82..40+\",VLOOKUP(16-(LEN(O2309)),'1'!$A$1:$B$16,2,TRUE),P2309,\" 71....+0000000000000000 \"))","v":""},null,""]
[null,null,"","","","","","","","",null,"","",null,null,null,null,{"$f":"IF(O2310=\"\",\"\",CONCATENATE(\"*11....+\",VLOOKUP(16-(LEN(N2310)),'1'!$A$1:$B$16,2,TRUE),N2310,\" 81..40+\",VLOOKUP(16-(LEN(O2310)),'1'!$A$1:$B$16,2,TRUE),O2310,\" 82..40+\",VLOOKUP(16-(LEN(O2310)),'1'!$A$1:$B$16,2,TRUE),P2310,\" 71....+0000000000000000 \"))","v":""},null,""]
[null,null,"","","","","","","","",null,"","",null,null,null,null,{"$f":"IF(O2311=\"\",\"\",CONCATENATE(\"*11....+\",VLOOKUP(16-(LEN(N2311)),'1'!$A$1:$B$16,2,TRUE),N2311,\" 81..40+\",VLOOKUP(16-(LEN(O2311)),'1'!$A$1:$B$16,2,TRUE),O2311,\" 82..40+\",VLOOKUP(16-(LEN(O2311)),'1'!$A$1:$B$16,2,TRUE),P2311,\" 71....+0000000000000000 \"))","v":""},null,""]
[null,null,"","","","","","","","",null,"","",null,null,null,null,{"$f":"IF(O2312=\"\",\"\",CONCATENATE(\"*11....+\",VLOOKUP(16-(LEN(N2312)),'1'!$A$1:$B$16,2,TRUE),N2312,\" 81..40+\",VLOOKUP(16-(LEN(O2312)),'1'!$A$1:$B$16,2,TRUE),O2312,\" 82..40+\",VLOOKUP(16-(LEN(O2312)),'1'!$A$1:$B$16,2,TRUE),P2312,\" 71....+0000000000000000 \"))","v":""},null,""]
[null,null,"","","","","","","","",null,"","",null,null,null,null,{"$f":"IF(O2313=\"\",\"\",CONCATENATE(\"*11....+\",VLOOKUP(16-(LEN(N2313)),'1'!$A$1:$B$16,2,TRUE),N2313,\" 81..40+\",VLOOKUP(16-(LEN(O2313)),'1'!$A$1:$B$16,2,TRUE),O2313,\" 82..40+\",VLOOKUP(16-(LEN(O2313)),'1'!$A$1:$B$16,2,TRUE),P2313,\" 71....+0000000000000000 \"))","v":""},null,""]
[null,null,"","","","","","","","",null,"","",null,null,null,null,{"$f":"IF(O2314=\"\",\"\",CONCATENATE(\"*11....+\",VLOOKUP(16-(LEN(N2314)),'1'!$A$1:$B$16,2,TRUE),N2314,\" 81..40+\",VLOOKUP(16-(LEN(O2314)),'1'!$A$1:$B$16,2,TRUE),O2314,\" 82..40+\",VLOOKUP(16-(LEN(O2314)),'1'!$A$1:$B$16,2,TRUE),P2314,\" 71....+0000000000000000 \"))","v":""},null,""]
[null,null,"","","","","","","","",null,"","",null,null,null,null,{"$f":"IF(O2315=\"\",\"\",CONCATENATE(\"*11....+\",VLOOKUP(16-(LEN(N2315)),'1'!$A$1:$B$16,2,TRUE),N2315,\" 81..40+\",VLOOKUP(16-(LEN(O2315)),'1'!$A$1:$B$16,2,TRUE),O2315,\" 82..40+\",VLOOKUP(16-(LEN(O2315)),'1'!$A$1:$B$16,2,TRUE),P2315,\" 71....+0000000000000000 \"))","v":""},null,""]
[null,null,"","","","","","","","",null,"","",null,null,null,null,{"$f":"IF(O2316=\"\",\"\",CONCATENATE(\"*11....+\",VLOOKUP(16-(LEN(N2316)),'1'!$A$1:$B$16,2,TRUE),N2316,\" 81..40+\",VLOOKUP(16-(LEN(O2316)),'1'!$A$1:$B$16,2,TRUE),O2316,\" 82..40+\",VLOOKUP(16-(LEN(O2316)),'1'!$A$1:$B$16,2,TRUE),P2316,\" 71....+0000000000000000 \"))","v":""},null,""]
[null,null,"","","","","","","","",null,"","",null,null,null,null,{"$f":"IF(O2317=\"\",\"\",CONCATENATE(\"*11....+\",VLOOKUP(16-(LEN(N2317)),'1'!$A$1:$B$16,2,TRUE),N2317,\" 81..40+\",VLOOKUP(16-(LEN(O2317)),'1'!$A$1:$B$16,2,TRUE),O2317,\" 82..40+\",VLOOKUP(16-(LEN(O2317)),'1'!$A$1:$B$16,2,TRUE),P2317,\" 71....+0000000000000000 \"))","v":""},null,""]
[null,null,"","","","","","","","",null,"","",null,null,null,null,{"$f":"IF(O2318=\"\",\"\",CONCATENATE(\"*11....+\",VLOOKUP(16-(LEN(N2318)),'1'!$A$1:$B$16,2,TRUE),N2318,\" 81..40+\",VLOOKUP(16-(LEN(O2318)),'1'!$A$1:$B$16,2,TRUE),O2318,\" 82..40+\",VLOOKUP(16-(LEN(O2318)),'1'!$A$1:$B$16,2,TRUE),P2318,\" 71....+0000000000000000 \"))","v":""},null,""]
[null,null,"","","","","","","","",null,"","",null,null,null,null,{"$f":"IF(O2319=\"\",\"\",CONCATENATE(\"*11....+\",VLOOKUP(16-(LEN(N2319)),'1'!$A$1:$B$16,2,TRUE),N2319,\" 81..40+\",VLOOKUP(16-(LEN(O2319)),'1'!$A$1:$B$16,2,TRUE),O2319,\" 82..40+\",VLOOKUP(16-(LEN(O2319)),'1'!$A$1:$B$16,2,TRUE),P2319,\" 71....+0000000000000000 \"))","v":""},null,""]
[null,null,"","","","","","","","",null,"","",null,null,null,null,{"$f":"IF(O2320=\"\",\"\",CONCATENATE(\"*11....+\",VLOOKUP(16-(LEN(N2320)),'1'!$A$1:$B$16,2,TRUE),N2320,\" 81..40+\",VLOOKUP(16-(LEN(O2320)),'1'!$A$1:$B$16,2,TRUE),O2320,\" 82..40+\",VLOOKUP(16-(LEN(O2320)),'1'!$A$1:$B$16,2,TRUE),P2320,\" 71....+0000000000000000 \"))","v":""},null,""]
[null,null,"","","","","","","","",null,"","",null,null,null,null,{"$f":"IF(O2321=\"\",\"\",CONCATENATE(\"*11....+\",VLOOKUP(16-(LEN(N2321)),'1'!$A$1:$B$16,2,TRUE),N2321,\" 81..40+\",VLOOKUP(16-(LEN(O2321)),'1'!$A$1:$B$16,2,TRUE),O2321,\" 82..40+\",VLOOKUP(16-(LEN(O2321)),'1'!$A$1:$B$16,2,TRUE),P2321,\" 71....+0000000000000000 \"))","v":""},null,""]
[null,null,"","","","","","","","",null,"","",null,null,null,null,{"$f":"IF(O2322=\"\",\"\",CONCATENATE(\"*11....+\",VLOOKUP(16-(LEN(N2322)),'1'!$A$1:$B$16,2,TRUE),N2322,\" 81..40+\",VLOOKUP(16-(LEN(O2322)),'1'!$A$1:$B$16,2,TRUE),O2322,\" 82..40+\",VLOOKUP(16-(LEN(O2322)),'1'!$A$1:$B$16,2,TRUE),P2322,\" 71....+0000000000000000 \"))","v":""},null,""]
[null,null,"","","","","","","","",null,"","",null,null,null,null,{"$f":"IF(O2323=\"\",\"\",CONCATENATE(\"*11....+\",VLOOKUP(16-(LEN(N2323)),'1'!$A$1:$B$16,2,TRUE),N2323,\" 81..40+\",VLOOKUP(16-(LEN(O2323)),'1'!$A$1:$B$16,2,TRUE),O2323,\" 82..40+\",VLOOKUP(16-(LEN(O2323)),'1'!$A$1:$B$16,2,TRUE),P2323,\" 71....+0000000000000000 \"))","v":""},null,""]
[null,null,"","","","","","","","",null,"","",null,null,null,null,{"$f":"IF(O2324=\"\",\"\",CONCATENATE(\"*11....+\",VLOOKUP(16-(LEN(N2324)),'1'!$A$1:$B$16,2,TRUE),N2324,\" 81..40+\",VLOOKUP(16-(LEN(O2324)),'1'!$A$1:$B$16,2,TRUE),O2324,\" 82..40+\",VLOOKUP(16-(LEN(O2324)),'1'!$A$1:$B$16,2,TRUE),P2324,\" 71....+0000000000000000 \"))","v":""},null,""]
[null,null,"","","","","","","","",null,"","",null,null,null,null,{"$f":"IF(O2325=\"\",\"\",CONCATENATE(\"*11....+\",VLOOKUP(16-(LEN(N2325)),'1'!$A$1:$B$16,2,TRUE),N2325,\" 81..40+\",VLOOKUP(16-(LEN(O2325)),'1'!$A$1:$B$16,2,TRUE),O2325,\" 82..40+\",VLOOKUP(16-(LEN(O2325)),'1'!$A$1:$B$16,2,TRUE),P2325,\" 71....+0000000000000000 \"))","v":""},null,""]
[null,null,"","","","","","","","",null,"","",null,null,null,null,{"$f":"IF(O2326=\"\",\"\",CONCATENATE(\"*11....+\",VLOOKUP(16-(LEN(N2326)),'1'!$A$1:$B$16,2,TRUE),N2326,\" 81..40+\",VLOOKUP(16-(LEN(O2326)),'1'!$A$1:$B$16,2,TRUE),O2326,\" 82..40+\",VLOOKUP(16-(LEN(O2326)),'1'!$A$1:$B$16,2,TRUE),P2326,\" 71....+0000000000000000 \"))","v":""},null,""]
[null,null,"","","","","","","","",null,"","",null,null,null,null,{"$f":"IF(O2327=\"\",\"\",CONCATENATE(\"*11....+\",VLOOKUP(16-(LEN(N2327)),'1'!$A$1:$B$16,2,TRUE),N2327,\" 81..40+\",VLOOKUP(16-(LEN(O2327)),'1'!$A$1:$B$16,2,TRUE),O2327,\" 82..40+\",VLOOKUP(16-(LEN(O2327)),'1'!$A$1:$B$16,2,TRUE),P2327,\" 71....+0000000000000000 \"))","v":""},null,""]
[null,null,"","","","","","","","",null,"","",null,null,null,null,{"$f":"IF(O2328=\"\",\"\",CONCATENATE(\"*11....+\",VLOOKUP(16-(LEN(N2328)),'1'!$A$1:$B$16,2,TRUE),N2328,\" 81..40+\",VLOOKUP(16-(LEN(O2328)),'1'!$A$1:$B$16,2,TRUE),O2328,\" 82..40+\",VLOOKUP(16-(LEN(O2328)),'1'!$A$1:$B$16,2,TRUE),P2328,\" 71....+0000000000000000 \"))","v":""},null,""]
[null,null,"","","","","","","","",null,"","",null,null,null,null,{"$f":"IF(O2329=\"\",\"\",CONCATENATE(\"*11....+\",VLOOKUP(16-(LEN(N2329)),'1'!$A$1:$B$16,2,TRUE),N2329,\" 81..40+\",VLOOKUP(16-(LEN(O2329)),'1'!$A$1:$B$16,2,TRUE),O2329,\" 82..40+\",VLOOKUP(16-(LEN(O2329)),'1'!$A$1:$B$16,2,TRUE),P2329,\" 71....+0000000000000000 \"))","v":""},null,""]
[null,null,"","","","","","","","",null,"","",null,null,null,null,{"$f":"IF(O2330=\"\",\"\",CONCATENATE(\"*11....+\",VLOOKUP(16-(LEN(N2330)),'1'!$A$1:$B$16,2,TRUE),N2330,\" 81..40+\",VLOOKUP(16-(LEN(O2330)),'1'!$A$1:$B$16,2,TRUE),O2330,\" 82..40+\",VLOOKUP(16-(LEN(O2330)),'1'!$A$1:$B$16,2,TRUE),P2330,\" 71....+0000000000000000 \"))","v":""},null,""]
[null,null,"","","","","","","","",null,"","",null,null,null,null,{"$f":"IF(O2331=\"\",\"\",CONCATENATE(\"*11....+\",VLOOKUP(16-(LEN(N2331)),'1'!$A$1:$B$16,2,TRUE),N2331,\" 81..40+\",VLOOKUP(16-(LEN(O2331)),'1'!$A$1:$B$16,2,TRUE),O2331,\" 82..40+\",VLOOKUP(16-(LEN(O2331)),'1'!$A$1:$B$16,2,TRUE),P2331,\" 71....+0000000000000000 \"))","v":""},null,""]
[null,null,"","","","","","","","",null,"","",null,null,null,null,{"$f":"IF(O2332=\"\",\"\",CONCATENATE(\"*11....+\",VLOOKUP(16-(LEN(N2332)),'1'!$A$1:$B$16,2,TRUE),N2332,\" 81..40+\",VLOOKUP(16-(LEN(O2332)),'1'!$A$1:$B$16,2,TRUE),O2332,\" 82..40+\",VLOOKUP(16-(LEN(O2332)),'1'!$A$1:$B$16,2,TRUE),P2332,\" 71....+0000000000000000 \"))","v":""},null,""]
[null,null,"","","","","","","","",null,"","",null,null,null,null,{"$f":"IF(O2333=\"\",\"\",CONCATENATE(\"*11....+\",VLOOKUP(16-(LEN(N2333)),'1'!$A$1:$B$16,2,TRUE),N2333,\" 81..40+\",VLOOKUP(16-(LEN(O2333)),'1'!$A$1:$B$16,2,TRUE),O2333,\" 82..40+\",VLOOKUP(16-(LEN(O2333)),'1'!$A$1:$B$16,2,TRUE),P2333,\" 71....+0000000000000000 \"))","v":""},null,""]
[null,null,"","","","","","","","",null,"","",null,null,null,null,{"$f":"IF(O2334=\"\",\"\",CONCATENATE(\"*11....+\",VLOOKUP(16-(LEN(N2334)),'1'!$A$1:$B$16,2,TRUE),N2334,\" 81..40+\",VLOOKUP(16-(LEN(O2334)),'1'!$A$1:$B$16,2,TRUE),O2334,\" 82..40+\",VLOOKUP(16-(LEN(O2334)),'1'!$A$1:$B$16,2,TRUE),P2334,\" 71....+0000000000000000 \"))","v":""},null,""]
[null,null,"","","","","","","","",null,"","",null,null,null,null,{"$f":"IF(O2335=\"\",\"\",CONCATENATE(\"*11....+\",VLOOKUP(16-(LEN(N2335)),'1'!$A$1:$B$16,2,TRUE),N2335,\" 81..40+\",VLOOKUP(16-(LEN(O2335)),'1'!$A$1:$B$16,2,TRUE),O2335,\" 82..40+\",VLOOKUP(16-(LEN(O2335)),'1'!$A$1:$B$16,2,TRUE),P2335,\" 71....+0000000000000000 \"))","v":""},null,""]
[null,null,"","","","","","","","",null,"","",null,null,null,null,{"$f":"IF(O2336=\"\",\"\",CONCATENATE(\"*11....+\",VLOOKUP(16-(LEN(N2336)),'1'!$A$1:$B$16,2,TRUE),N2336,\" 81..40+\",VLOOKUP(16-(LEN(O2336)),'1'!$A$1:$B$16,2,TRUE),O2336,\" 82..40+\",VLOOKUP(16-(LEN(O2336)),'1'!$A$1:$B$16,2,TRUE),P2336,\" 71....+0000000000000000 \"))","v":""},null,""]
[null,null,"","","","","","","","",null,"","",null,null,null,null,{"$f":"IF(O2337=\"\",\"\",CONCATENATE(\"*11....+\",VLOOKUP(16-(LEN(N2337)),'1'!$A$1:$B$16,2,TRUE),N2337,\" 81..40+\",VLOOKUP(16-(LEN(O2337)),'1'!$A$1:$B$16,2,TRUE),O2337,\" 82..40+\",VLOOKUP(16-(LEN(O2337)),'1'!$A$1:$B$16,2,TRUE),P2337,\" 71....+0000000000000000 \"))","v":""},null,""]
[null,null,"","","","","","","","",null,"","",null,null,null,null,{"$f":"IF(O2338=\"\",\"\",CONCATENATE(\"*11....+\",VLOOKUP(16-(LEN(N2338)),'1'!$A$1:$B$16,2,TRUE),N2338,\" 81..40+\",VLOOKUP(16-(LEN(O2338)),'1'!$A$1:$B$16,2,TRUE),O2338,\" 82..40+\",VLOOKUP(16-(LEN(O2338)),'1'!$A$1:$B$16,2,TRUE),P2338,\" 71....+0000000000000000 \"))","v":""},null,""]
[null,null,"","","","","","","","",null,"","",null,null,null,null,{"$f":"IF(O2339=\"\",\"\",CONCATENATE(\"*11....+\",VLOOKUP(16-(LEN(N2339)),'1'!$A$1:$B$16,2,TRUE),N2339,\" 81..40+\",VLOOKUP(16-(LEN(O2339)),'1'!$A$1:$B$16,2,TRUE),O2339,\" 82..40+\",VLOOKUP(16-(LEN(O2339)),'1'!$A$1:$B$16,2,TRUE),P2339,\" 71....+0000000000000000 \"))","v":""},null,""]
[null,null,"","","","","","","","",null,"","",null,null,null,null,{"$f":"IF(O2340=\"\",\"\",CONCATENATE(\"*11....+\",VLOOKUP(16-(LEN(N2340)),'1'!$A$1:$B$16,2,TRUE),N2340,\" 81..40+\",VLOOKUP(16-(LEN(O2340)),'1'!$A$1:$B$16,2,TRUE),O2340,\" 82..40+\",VLOOKUP(16-(LEN(O2340)),'1'!$A$1:$B$16,2,TRUE),P2340,\" 71....+0000000000000000 \"))","v":""},null,""]
[null,null,"","","","","","","","",null,"","",null,null,null,null,{"$f":"IF(O2341=\"\",\"\",CONCATENATE(\"*11....+\",VLOOKUP(16-(LEN(N2341)),'1'!$A$1:$B$16,2,TRUE),N2341,\" 81..40+\",VLOOKUP(16-(LEN(O2341)),'1'!$A$1:$B$16,2,TRUE),O2341,\" 82..40+\",VLOOKUP(16-(LEN(O2341)),'1'!$A$1:$B$16,2,TRUE),P2341,\" 71....+0000000000000000 \"))","v":""},null,""]
[null,null,"","","","","","","","",null,"","",null,null,null,null,{"$f":"IF(O2342=\"\",\"\",CONCATENATE(\"*11....+\",VLOOKUP(16-(LEN(N2342)),'1'!$A$1:$B$16,2,TRUE),N2342,\" 81..40+\",VLOOKUP(16-(LEN(O2342)),'1'!$A$1:$B$16,2,TRUE),O2342,\" 82..40+\",VLOOKUP(16-(LEN(O2342)),'1'!$A$1:$B$16,2,TRUE),P2342,\" 71....+0000000000000000 \"))","v":""},null,""]
[null,null,"","","","","","","","",null,"","",null,null,null,null,{"$f":"IF(O2343=\"\",\"\",CONCATENATE(\"*11....+\",VLOOKUP(16-(LEN(N2343)),'1'!$A$1:$B$16,2,TRUE),N2343,\" 81..40+\",VLOOKUP(16-(LEN(O2343)),'1'!$A$1:$B$16,2,TRUE),O2343,\" 82..40+\",VLOOKUP(16-(LEN(O2343)),'1'!$A$1:$B$16,2,TRUE),P2343,\" 71....+0000000000000000 \"))","v":""},null,""]
[null,null,"","","","","","","","",null,"","",null,null,null,null,{"$f":"IF(O2344=\"\",\"\",CONCATENATE(\"*11....+\",VLOOKUP(16-(LEN(N2344)),'1'!$A$1:$B$16,2,TRUE),N2344,\" 81..40+\",VLOOKUP(16-(LEN(O2344)),'1'!$A$1:$B$16,2,TRUE),O2344,\" 82..40+\",VLOOKUP(16-(LEN(O2344)),'1'!$A$1:$B$16,2,TRUE),P2344,\" 71....+0000000000000000 \"))","v":""},null,""]
[null,null,"","","","","","","","",null,"","",null,null,null,null,{"$f":"IF(O2345=\"\",\"\",CONCATENATE(\"*11....+\",VLOOKUP(16-(LEN(N2345)),'1'!$A$1:$B$16,2,TRUE),N2345,\" 81..40+\",VLOOKUP(16-(LEN(O2345)),'1'!$A$1:$B$16,2,TRUE),O2345,\" 82..40+\",VLOOKUP(16-(LEN(O2345)),'1'!$A$1:$B$16,2,TRUE),P2345,\" 71....+0000000000000000 \"))","v":""},null,""]
[null,null,"","","","","","","","",null,"","",null,null,null,null,{"$f":"IF(O2346=\"\",\"\",CONCATENATE(\"*11....+\",VLOOKUP(16-(LEN(N2346)),'1'!$A$1:$B$16,2,TRUE),N2346,\" 81..40+\",VLOOKUP(16-(LEN(O2346)),'1'!$A$1:$B$16,2,TRUE),O2346,\" 82..40+\",VLOOKUP(16-(LEN(O2346)),'1'!$A$1:$B$16,2,TRUE),P2346,\" 71....+0000000000000000 \"))","v":""},null,""]
[null,null,"","","","","","","","",null,"","",null,null,null,null,{"$f":"IF(O2347=\"\",\"\",CONCATENATE(\"*11....+\",VLOOKUP(16-(LEN(N2347)),'1'!$A$1:$B$16,2,TRUE),N2347,\" 81..40+\",VLOOKUP(16-(LEN(O2347)),'1'!$A$1:$B$16,2,TRUE),O2347,\" 82..40+\",VLOOKUP(16-(LEN(O2347)),'1'!$A$1:$B$16,2,TRUE),P2347,\" 71....+0000000000000000 \"))","v":""},null,""]
[null,null,"","","","","","","","",null,"","",null,null,null,null,{"$f":"IF(O2348=\"\",\"\",CONCATENATE(\"*11....+\",VLOOKUP(16-(LEN(N2348)),'1'!$A$1:$B$16,2,TRUE),N2348,\" 81..40+\",VLOOKUP(16-(LEN(O2348)),'1'!$A$1:$B$16,2,TRUE),O2348,\" 82..40+\",VLOOKUP(16-(LEN(O2348)),'1'!$A$1:$B$16,2,TRUE),P2348,\" 71....+0000000000000000 \"))","v":""},null,""]
[null,null,"","","","","","","","",null,"","",null,null,null,null,{"$f":"IF(O2349=\"\",\"\",CONCATENATE(\"*11....+\",VLOOKUP(16-(LEN(N2349)),'1'!$A$1:$B$16,2,TRUE),N2349,\" 81..40+\",VLOOKUP(16-(LEN(O2349)),'1'!$A$1:$B$16,2,TRUE),O2349,\" 82..40+\",VLOOKUP(16-(LEN(O2349)),'1'!$A$1:$B$16,2,TRUE),P2349,\" 71....+0000000000000000 \"))","v":""},null,""]
[null,null,"","","","","","","","",null,"","",null,null,null,null,{"$f":"IF(O2350=\"\",\"\",CONCATENATE(\"*11....+\",VLOOKUP(16-(LEN(N2350)),'1'!$A$1:$B$16,2,TRUE),N2350,\" 81..40+\",VLOOKUP(16-(LEN(O2350)),'1'!$A$1:$B$16,2,TRUE),O2350,\" 82..40+\",VLOOKUP(16-(LEN(O2350)),'1'!$A$1:$B$16,2,TRUE),P2350,\" 71....+0000000000000000 \"))","v":""},null,""]
[null,null,"","","","","","","","",null,"","",null,null,null,null,{"$f":"IF(O2351=\"\",\"\",CONCATENATE(\"*11....+\",VLOOKUP(16-(LEN(N2351)),'1'!$A$1:$B$16,2,TRUE),N2351,\" 81..40+\",VLOOKUP(16-(LEN(O2351)),'1'!$A$1:$B$16,2,TRUE),O2351,\" 82..40+\",VLOOKUP(16-(LEN(O2351)),'1'!$A$1:$B$16,2,TRUE),P2351,\" 71....+0000000000000000 \"))","v":""},null,""]
[null,null,"","","","","","","","",null,"","",null,null,null,null,{"$f":"IF(O2352=\"\",\"\",CONCATENATE(\"*11....+\",VLOOKUP(16-(LEN(N2352)),'1'!$A$1:$B$16,2,TRUE),N2352,\" 81..40+\",VLOOKUP(16-(LEN(O2352)),'1'!$A$1:$B$16,2,TRUE),O2352,\" 82..40+\",VLOOKUP(16-(LEN(O2352)),'1'!$A$1:$B$16,2,TRUE),P2352,\" 71....+0000000000000000 \"))","v":""},null,""]
[null,null,"","","","","","","","",null,"","",null,null,null,null,{"$f":"IF(O2353=\"\",\"\",CONCATENATE(\"*11....+\",VLOOKUP(16-(LEN(N2353)),'1'!$A$1:$B$16,2,TRUE),N2353,\" 81..40+\",VLOOKUP(16-(LEN(O2353)),'1'!$A$1:$B$16,2,TRUE),O2353,\" 82..40+\",VLOOKUP(16-(LEN(O2353)),'1'!$A$1:$B$16,2,TRUE),P2353,\" 71....+0000000000000000 \"))","v":""},null,""]
[null,null,"","","","","","","","",null,"","",null,null,null,null,{"$f":"IF(O2354=\"\",\"\",CONCATENATE(\"*11....+\",VLOOKUP(16-(LEN(N2354)),'1'!$A$1:$B$16,2,TRUE),N2354,\" 81..40+\",VLOOKUP(16-(LEN(O2354)),'1'!$A$1:$B$16,2,TRUE),O2354,\" 82..40+\",VLOOKUP(16-(LEN(O2354)),'1'!$A$1:$B$16,2,TRUE),P2354,\" 71....+0000000000000000 \"))","v":""},null,""]
[null,null,"","","","","","","","",null,"","",null,null,null,null,{"$f":"IF(O2355=\"\",\"\",CONCATENATE(\"*11....+\",VLOOKUP(16-(LEN(N2355)),'1'!$A$1:$B$16,2,TRUE),N2355,\" 81..40+\",VLOOKUP(16-(LEN(O2355)),'1'!$A$1:$B$16,2,TRUE),O2355,\" 82..40+\",VLOOKUP(16-(LEN(O2355)),'1'!$A$1:$B$16,2,TRUE),P2355,\" 71....+0000000000000000 \"))","v":""},null,""]
[null,null,"","","","","","","","",null,"","",null,null,null,null,{"$f":"IF(O2356=\"\",\"\",CONCATENATE(\"*11....+\",VLOOKUP(16-(LEN(N2356)),'1'!$A$1:$B$16,2,TRUE),N2356,\" 81..40+\",VLOOKUP(16-(LEN(O2356)),'1'!$A$1:$B$16,2,TRUE),O2356,\" 82..40+\",VLOOKUP(16-(LEN(O2356)),'1'!$A$1:$B$16,2,TRUE),P2356,\" 71....+0000000000000000 \"))","v":""},null,""]
[null,null,"","","","","","","","",null,"","",null,null,null,null,{"$f":"IF(O2357=\"\",\"\",CONCATENATE(\"*11....+\",VLOOKUP(16-(LEN(N2357)),'1'!$A$1:$B$16,2,TRUE),N2357,\" 81..40+\",VLOOKUP(16-(LEN(O2357)),'1'!$A$1:$B$16,2,TRUE),O2357,\" 82..40+\",VLOOKUP(16-(LEN(O2357)),'1'!$A$1:$B$16,2,TRUE),P2357,\" 71....+0000000000000000 \"))","v":""},null,""]
[null,null,"","","","","","","","",null,"","",null,null,null,null,{"$f":"IF(O2358=\"\",\"\",CONCATENATE(\"*11....+\",VLOOKUP(16-(LEN(N2358)),'1'!$A$1:$B$16,2,TRUE),N2358,\" 81..40+\",VLOOKUP(16-(LEN(O2358)),'1'!$A$1:$B$16,2,TRUE),O2358,\" 82..40+\",VLOOKUP(16-(LEN(O2358)),'1'!$A$1:$B$16,2,TRUE),P2358,\" 71....+0000000000000000 \"))","v":""},null,""]
[null,null,"","","","","","","","",null,"","",null,null,null,null,{"$f":"IF(O2359=\"\",\"\",CONCATENATE(\"*11....+\",VLOOKUP(16-(LEN(N2359)),'1'!$A$1:$B$16,2,TRUE),N2359,\" 81..40+\",VLOOKUP(16-(LEN(O2359)),'1'!$A$1:$B$16,2,TRUE),O2359,\" 82..40+\",VLOOKUP(16-(LEN(O2359)),'1'!$A$1:$B$16,2,TRUE),P2359,\" 71....+0000000000000000 \"))","v":""},null,""]
[null,null,"","","","","","","","",null,"","",null,null,null,null,{"$f":"IF(O2360=\"\",\"\",CONCATENATE(\"*11....+\",VLOOKUP(16-(LEN(N2360)),'1'!$A$1:$B$16,2,TRUE),N2360,\" 81..40+\",VLOOKUP(16-(LEN(O2360)),'1'!$A$1:$B$16,2,TRUE),O2360,\" 82..40+\",VLOOKUP(16-(LEN(O2360)),'1'!$A$1:$B$16,2,TRUE),P2360,\" 71....+0000000000000000 \"))","v":""},null,""]
[null,null,"","","","","","","","",null,"","",null,null,null,null,{"$f":"IF(O2361=\"\",\"\",CONCATENATE(\"*11....+\",VLOOKUP(16-(LEN(N2361)),'1'!$A$1:$B$16,2,TRUE),N2361,\" 81..40+\",VLOOKUP(16-(LEN(O2361)),'1'!$A$1:$B$16,2,TRUE),O2361,\" 82..40+\",VLOOKUP(16-(LEN(O2361)),'1'!$A$1:$B$16,2,TRUE),P2361,\" 71....+0000000000000000 \"))","v":""},null,""]
[null,null,"","","","","","","","",null,"","",null,null,null,null,{"$f":"IF(O2362=\"\",\"\",CONCATENATE(\"*11....+\",VLOOKUP(16-(LEN(N2362)),'1'!$A$1:$B$16,2,TRUE),N2362,\" 81..40+\",VLOOKUP(16-(LEN(O2362)),'1'!$A$1:$B$16,2,TRUE),O2362,\" 82..40+\",VLOOKUP(16-(LEN(O2362)),'1'!$A$1:$B$16,2,TRUE),P2362,\" 71....+0000000000000000 \"))","v":""},null,""]
[null,null,"","","","","","","","",null,"","",null,null,null,null,{"$f":"IF(O2363=\"\",\"\",CONCATENATE(\"*11....+\",VLOOKUP(16-(LEN(N2363)),'1'!$A$1:$B$16,2,TRUE),N2363,\" 81..40+\",VLOOKUP(16-(LEN(O2363)),'1'!$A$1:$B$16,2,TRUE),O2363,\" 82..40+\",VLOOKUP(16-(LEN(O2363)),'1'!$A$1:$B$16,2,TRUE),P2363,\" 71....+0000000000000000 \"))","v":""},null,""]
[null,null,"","","","","","","","",null,"","",null,null,null,null,{"$f":"IF(O2364=\"\",\"\",CONCATENATE(\"*11....+\",VLOOKUP(16-(LEN(N2364)),'1'!$A$1:$B$16,2,TRUE),N2364,\" 81..40+\",VLOOKUP(16-(LEN(O2364)),'1'!$A$1:$B$16,2,TRUE),O2364,\" 82..40+\",VLOOKUP(16-(LEN(O2364)),'1'!$A$1:$B$16,2,TRUE),P2364,\" 71....+0000000000000000 \"))","v":""},null,""]
[null,null,"","","","","","","","",null,"","",null,null,null,null,{"$f":"IF(O2365=\"\",\"\",CONCATENATE(\"*11....+\",VLOOKUP(16-(LEN(N2365)),'1'!$A$1:$B$16,2,TRUE),N2365,\" 81..40+\",VLOOKUP(16-(LEN(O2365)),'1'!$A$1:$B$16,2,TRUE),O2365,\" 82..40+\",VLOOKUP(16-(LEN(O2365)),'1'!$A$1:$B$16,2,TRUE),P2365,\" 71....+0000000000000000 \"))","v":""},null,""]
[null,null,"","","","","","","","",null,"","",null,null,null,null,{"$f":"IF(O2366=\"\",\"\",CONCATENATE(\"*11....+\",VLOOKUP(16-(LEN(N2366)),'1'!$A$1:$B$16,2,TRUE),N2366,\" 81..40+\",VLOOKUP(16-(LEN(O2366)),'1'!$A$1:$B$16,2,TRUE),O2366,\" 82..40+\",VLOOKUP(16-(LEN(O2366)),'1'!$A$1:$B$16,2,TRUE),P2366,\" 71....+0000000000000000 \"))","v":""},null,""]
[null,null,"","","","","","","","",null,"","",null,null,null,null,{"$f":"IF(O2367=\"\",\"\",CONCATENATE(\"*11....+\",VLOOKUP(16-(LEN(N2367)),'1'!$A$1:$B$16,2,TRUE),N2367,\" 81..40+\",VLOOKUP(16-(LEN(O2367)),'1'!$A$1:$B$16,2,TRUE),O2367,\" 82..40+\",VLOOKUP(16-(LEN(O2367)),'1'!$A$1:$B$16,2,TRUE),P2367,\" 71....+0000000000000000 \"))","v":""},null,""]
[null,null,"","","","","","","","",null,"","",null,null,null,null,{"$f":"IF(O2368=\"\",\"\",CONCATENATE(\"*11....+\",VLOOKUP(16-(LEN(N2368)),'1'!$A$1:$B$16,2,TRUE),N2368,\" 81..40+\",VLOOKUP(16-(LEN(O2368)),'1'!$A$1:$B$16,2,TRUE),O2368,\" 82..40+\",VLOOKUP(16-(LEN(O2368)),'1'!$A$1:$B$16,2,TRUE),P2368,\" 71....+0000000000000000 \"))","v":""},null,""]
[null,null,"","","","","","","","",null,"","",null,null,null,null,{"$f":"IF(O2369=\"\",\"\",CONCATENATE(\"*11....+\",VLOOKUP(16-(LEN(N2369)),'1'!$A$1:$B$16,2,TRUE),N2369,\" 81..40+\",VLOOKUP(16-(LEN(O2369)),'1'!$A$1:$B$16,2,TRUE),O2369,\" 82..40+\",VLOOKUP(16-(LEN(O2369)),'1'!$A$1:$B$16,2,TRUE),P2369,\" 71....+0000000000000000 \"))","v":""},null,""]
[null,null,"","","","","","","","",null,"","",null,null,null,null,{"$f":"IF(O2370=\"\",\"\",CONCATENATE(\"*11....+\",VLOOKUP(16-(LEN(N2370)),'1'!$A$1:$B$16,2,TRUE),N2370,\" 81..40+\",VLOOKUP(16-(LEN(O2370)),'1'!$A$1:$B$16,2,TRUE),O2370,\" 82..40+\",VLOOKUP(16-(LEN(O2370)),'1'!$A$1:$B$16,2,TRUE),P2370,\" 71....+0000000000000000 \"))","v":""},null,""]
[null,null,"","","","","","","","",null,"","",null,null,null,null,{"$f":"IF(O2371=\"\",\"\",CONCATENATE(\"*11....+\",VLOOKUP(16-(LEN(N2371)),'1'!$A$1:$B$16,2,TRUE),N2371,\" 81..40+\",VLOOKUP(16-(LEN(O2371)),'1'!$A$1:$B$16,2,TRUE),O2371,\" 82..40+\",VLOOKUP(16-(LEN(O2371)),'1'!$A$1:$B$16,2,TRUE),P2371,\" 71....+0000000000000000 \"))","v":""},null,""]
[null,null,{"$f":"IF(LEN(A2372)=59,ROUND(VALUE(MID(A2372,23,9)),3),\"\")","v":""},{"$f":"IF(LEN(A2372)=24,\"\",\"\")","v":""},{"$f":"IF(LEN(A2372)=63,ROUND(VALUE(MID(A2372,23,12)),3),\"\")","v":""},{"$f":"IF(LEN(A2372)=59,ROUND(VALUE(MID(A2372,37,9)),3),\"\")","v":""},{"$f":"IF(LEN(A2372)=24,\"\",\"\")","v":""},{"$f":"IF(LEN(A2372)=63,ROUND(VALUE(MID(A2372,39,12)),3),\"\")","v":""},{"$f":"IF(AND(C2372=\"\",D2372=\"\",E2372=\"\"),\"\",ROUND(CONCATENATE(C2372,D2372,E2372),3))","v":""},{"$f":"IF(AND(C2372=\"\",D2372=\"\",E2372=\"\"),\"\",ROUND(CONCATENATE(F2372,G2372,H2372),3))","v":""},null,{"$f":"IF(K2372=\"\",\"\",ROUND(VALUE(VLOOKUP(K2372,$B$3:$J$2002,8,TRUE)),3))","v":""},{"$f":"IF(K2372=\"\",\"\",ROUND(VALUE(VLOOKUP(K2372,$B$3:$J$2002,9,TRUE)),3))","v":""},null,null,null,null,{"$f":"IF(O2372=\"\",\"\",CONCATENATE(\"*11....+\",VLOOKUP(16-(LEN(N2372)),'1'!$A$1:$B$16,2,TRUE),N2372,\" 81..40+\",VLOOKUP(16-(LEN(O2372)),'1'!$A$1:$B$16,2,TRUE),O2372,\" 82..40+\",VLOOKUP(16-(LEN(O2372)),'1'!$A$1:$B$16,2,TRUE),P2372,\" 71....+0000000000000000 \"))","v":""},null,{"$f":"IF(O2372=\"\",\"\",CONCATENATE(N2372,\",\",L2372,\",\",M2372))","v":""}]
[null,null,"","","","","","","","",null,"","",null,null,null,null,{"$f":"IF(O2373=\"\",\"\",CONCATENATE(\"*11....+\",VLOOKUP(16-(LEN(N2373)),'1'!$A$1:$B$16,2,TRUE),N2373,\" 81..40+\",VLOOKUP(16-(LEN(O2373)),'1'!$A$1:$B$16,2,TRUE),O2373,\" 82..40+\",VLOOKUP(16-(LEN(O2373)),'1'!$A$1:$B$16,2,TRUE),P2373,\" 71....+0000000000000000 \"))","v":""},null,""]
[null,null,"","","","","","","","",null,"","",null,null,null,null,{"$f":"IF(O2374=\"\",\"\",CONCATENATE(\"*11....+\",VLOOKUP(16-(LEN(N2374)),'1'!$A$1:$B$16,2,TRUE),N2374,\" 81..40+\",VLOOKUP(16-(LEN(O2374)),'1'!$A$1:$B$16,2,TRUE),O2374,\" 82..40+\",VLOOKUP(16-(LEN(O2374)),'1'!$A$1:$B$16,2,TRUE),P2374,\" 71....+0000000000000000 \"))","v":""},null,""]
[null,null,"","","","","","","","",null,"","",null,null,null,null,{"$f":"IF(O2375=\"\",\"\",CONCATENATE(\"*11....+\",VLOOKUP(16-(LEN(N2375)),'1'!$A$1:$B$16,2,TRUE),N2375,\" 81..40+\",VLOOKUP(16-(LEN(O2375)),'1'!$A$1:$B$16,2,TRUE),O2375,\" 82..40+\",VLOOKUP(16-(LEN(O2375)),'1'!$A$1:$B$16,2,TRUE),P2375,\" 71....+0000000000000000 \"))","v":""},null,""]
[null,null,"","","","","","","","",null,"","",null,null,null,null,{"$f":"IF(O2376=\"\",\"\",CONCATENATE(\"*11....+\",VLOOKUP(16-(LEN(N2376)),'1'!$A$1:$B$16,2,TRUE),N2376,\" 81..40+\",VLOOKUP(16-(LEN(O2376)),'1'!$A$1:$B$16,2,TRUE),O2376,\" 82..40+\",VLOOKUP(16-(LEN(O2376)),'1'!$A$1:$B$16,2,TRUE),P2376,\" 71....+0000000000000000 \"))","v":""},null,""]
[null,null,"","","","","","","","",null,"","",null,null,null,null,{"$f":"IF(O2377=\"\",\"\",CONCATENATE(\"*11....+\",VLOOKUP(16-(LEN(N2377)),'1'!$A$1:$B$16,2,TRUE),N2377,\" 81..40+\",VLOOKUP(16-(LEN(O2377)),'1'!$A$1:$B$16,2,TRUE),O2377,\" 82..40+\",VLOOKUP(16-(LEN(O2377)),'1'!$A$1:$B$16,2,TRUE),P2377,\" 71....+0000000000000000 \"))","v":""},null,""]
[null,null,"","","","","","","","",null,"","",null,null,null,null,{"$f":"IF(O2378=\"\",\"\",CONCATENATE(\"*11....+\",VLOOKUP(16-(LEN(N2378)),'1'!$A$1:$B$16,2,TRUE),N2378,\" 81..40+\",VLOOKUP(16-(LEN(O2378)),'1'!$A$1:$B$16,2,TRUE),O2378,\" 82..40+\",VLOOKUP(16-(LEN(O2378)),'1'!$A$1:$B$16,2,TRUE),P2378,\" 71....+0000000000000000 \"))","v":""},null,""]
[null,null,"","","","","","","","",null,"","",null,null,null,null,{"$f":"IF(O2379=\"\",\"\",CONCATENATE(\"*11....+\",VLOOKUP(16-(LEN(N2379)),'1'!$A$1:$B$16,2,TRUE),N2379,\" 81..40+\",VLOOKUP(16-(LEN(O2379)),'1'!$A$1:$B$16,2,TRUE),O2379,\" 82..40+\",VLOOKUP(16-(LEN(O2379)),'1'!$A$1:$B$16,2,TRUE),P2379,\" 71....+0000000000000000 \"))","v":""},null,""]
[null,null,"","","","","","","","",null,"","",null,null,null,null,{"$f":"IF(O2380=\"\",\"\",CONCATENATE(\"*11....+\",VLOOKUP(16-(LEN(N2380)),'1'!$A$1:$B$16,2,TRUE),N2380,\" 81..40+\",VLOOKUP(16-(LEN(O2380)),'1'!$A$1:$B$16,2,TRUE),O2380,\" 82..40+\",VLOOKUP(16-(LEN(O2380)),'1'!$A$1:$B$16,2,TRUE),P2380,\" 71....+0000000000000000 \"))","v":""},null,""]
[null,null,"","","","","","","","",null,"","",null,null,null,null,{"$f":"IF(O2381=\"\",\"\",CONCATENATE(\"*11....+\",VLOOKUP(16-(LEN(N2381)),'1'!$A$1:$B$16,2,TRUE),N2381,\" 81..40+\",VLOOKUP(16-(LEN(O2381)),'1'!$A$1:$B$16,2,TRUE),O2381,\" 82..40+\",VLOOKUP(16-(LEN(O2381)),'1'!$A$1:$B$16,2,TRUE),P2381,\" 71....+0000000000000000 \"))","v":""},null,""]
[null,null,"","","","","","","","",null,"","",null,null,null,null,{"$f":"IF(O2382=\"\",\"\",CONCATENATE(\"*11....+\",VLOOKUP(16-(LEN(N2382)),'1'!$A$1:$B$16,2,TRUE),N2382,\" 81..40+\",VLOOKUP(16-(LEN(O2382)),'1'!$A$1:$B$16,2,TRUE),O2382,\" 82..40+\",VLOOKUP(16-(LEN(O2382)),'1'!$A$1:$B$16,2,TRUE),P2382,\" 71....+0000000000000000 \"))","v":""},null,""]
[null,null,"","","","","","","","",null,"","",null,null,null,null,{"$f":"IF(O2383=\"\",\"\",CONCATENATE(\"*11....+\",VLOOKUP(16-(LEN(N2383)),'1'!$A$1:$B$16,2,TRUE),N2383,\" 81..40+\",VLOOKUP(16-(LEN(O2383)),'1'!$A$1:$B$16,2,TRUE),O2383,\" 82..40+\",VLOOKUP(16-(LEN(O2383)),'1'!$A$1:$B$16,2,TRUE),P2383,\" 71....+0000000000000000 \"))","v":""},null,""]
[null,null,"","","","","","","","",null,"","",null,null,null,null,{"$f":"IF(O2384=\"\",\"\",CONCATENATE(\"*11....+\",VLOOKUP(16-(LEN(N2384)),'1'!$A$1:$B$16,2,TRUE),N2384,\" 81..40+\",VLOOKUP(16-(LEN(O2384)),'1'!$A$1:$B$16,2,TRUE),O2384,\" 82..40+\",VLOOKUP(16-(LEN(O2384)),'1'!$A$1:$B$16,2,TRUE),P2384,\" 71....+0000000000000000 \"))","v":""},null,""]
[null,null,"","","","","","","","",null,"","",null,null,null,null,{"$f":"IF(O2385=\"\",\"\",CONCATENATE(\"*11....+\",VLOOKUP(16-(LEN(N2385)),'1'!$A$1:$B$16,2,TRUE),N2385,\" 81..40+\",VLOOKUP(16-(LEN(O2385)),'1'!$A$1:$B$16,2,TRUE),O2385,\" 82..40+\",VLOOKUP(16-(LEN(O2385)),'1'!$A$1:$B$16,2,TRUE),P2385,\" 71....+0000000000000000 \"))","v":""},null,""]
[null,null,"","","","","","","","",null,"","",null,null,null,null,{"$f":"IF(O2386=\"\",\"\",CONCATENATE(\"*11....+\",VLOOKUP(16-(LEN(N2386)),'1'!$A$1:$B$16,2,TRUE),N2386,\" 81..40+\",VLOOKUP(16-(LEN(O2386)),'1'!$A$1:$B$16,2,TRUE),O2386,\" 82..40+\",VLOOKUP(16-(LEN(O2386)),'1'!$A$1:$B$16,2,TRUE),P2386,\" 71....+0000000000000000 \"))","v":""},null,""]
[null,null,"","","","","","","","",null,"","",null,null,null,null,{"$f":"IF(O2387=\"\",\"\",CONCATENATE(\"*11....+\",VLOOKUP(16-(LEN(N2387)),'1'!$A$1:$B$16,2,TRUE),N2387,\" 81..40+\",VLOOKUP(16-(LEN(O2387)),'1'!$A$1:$B$16,2,TRUE),O2387,\" 82..40+\",VLOOKUP(16-(LEN(O2387)),'1'!$A$1:$B$16,2,TRUE),P2387,\" 71....+0000000000000000 \"))","v":""},null,""]
[null,null,"","","","","","","","",null,"","",null,null,null,null,{"$f":"IF(O2388=\"\",\"\",CONCATENATE(\"*11....+\",VLOOKUP(16-(LEN(N2388)),'1'!$A$1:$B$16,2,TRUE),N2388,\" 81..40+\",VLOOKUP(16-(LEN(O2388)),'1'!$A$1:$B$16,2,TRUE),O2388,\" 82..40+\",VLOOKUP(16-(LEN(O2388)),'1'!$A$1:$B$16,2,TRUE),P2388,\" 71....+0000000000000000 \"))","v":""},null,""]
[null,null,"","","","","","","","",null,"","",null,null,null,null,{"$f":"IF(O2389=\"\",\"\",CONCATENATE(\"*11....+\",VLOOKUP(16-(LEN(N2389)),'1'!$A$1:$B$16,2,TRUE),N2389,\" 81..40+\",VLOOKUP(16-(LEN(O2389)),'1'!$A$1:$B$16,2,TRUE),O2389,\" 82..40+\",VLOOKUP(16-(LEN(O2389)),'1'!$A$1:$B$16,2,TRUE),P2389,\" 71....+0000000000000000 \"))","v":""},null,""]
[null,null,"","","","","","","","",null,"","",null,null,null,null,{"$f":"IF(O2390=\"\",\"\",CONCATENATE(\"*11....+\",VLOOKUP(16-(LEN(N2390)),'1'!$A$1:$B$16,2,TRUE),N2390,\" 81..40+\",VLOOKUP(16-(LEN(O2390)),'1'!$A$1:$B$16,2,TRUE),O2390,\" 82..40+\",VLOOKUP(16-(LEN(O2390)),'1'!$A$1:$B$16,2,TRUE),P2390,\" 71....+0000000000000000 \"))","v":""},null,""]
[null,null,"","","","","","","","",null,"","",null,null,null,null,{"$f":"IF(O2391=\"\",\"\",CONCATENATE(\"*11....+\",VLOOKUP(16-(LEN(N2391)),'1'!$A$1:$B$16,2,TRUE),N2391,\" 81..40+\",VLOOKUP(16-(LEN(O2391)),'1'!$A$1:$B$16,2,TRUE),O2391,\" 82..40+\",VLOOKUP(16-(LEN(O2391)),'1'!$A$1:$B$16,2,TRUE),P2391,\" 71....+0000000000000000 \"))","v":""},null,""]
[null,null,"","","","","","","","",null,"","",null,null,null,null,{"$f":"IF(O2392=\"\",\"\",CONCATENATE(\"*11....+\",VLOOKUP(16-(LEN(N2392)),'1'!$A$1:$B$16,2,TRUE),N2392,\" 81..40+\",VLOOKUP(16-(LEN(O2392)),'1'!$A$1:$B$16,2,TRUE),O2392,\" 82..40+\",VLOOKUP(16-(LEN(O2392)),'1'!$A$1:$B$16,2,TRUE),P2392,\" 71....+0000000000000000 \"))","v":""},null,""]
[null,null,"","","","","","","","",null,"","",null,null,null,null,{"$f":"IF(O2393=\"\",\"\",CONCATENATE(\"*11....+\",VLOOKUP(16-(LEN(N2393)),'1'!$A$1:$B$16,2,TRUE),N2393,\" 81..40+\",VLOOKUP(16-(LEN(O2393)),'1'!$A$1:$B$16,2,TRUE),O2393,\" 82..40+\",VLOOKUP(16-(LEN(O2393)),'1'!$A$1:$B$16,2,TRUE),P2393,\" 71....+0000000000000000 \"))","v":""},null,""]
[null,null,"","","","","","","","",null,"","",null,null,null,null,{"$f":"IF(O2394=\"\",\"\",CONCATENATE(\"*11....+\",VLOOKUP(16-(LEN(N2394)),'1'!$A$1:$B$16,2,TRUE),N2394,\" 81..40+\",VLOOKUP(16-(LEN(O2394)),'1'!$A$1:$B$16,2,TRUE),O2394,\" 82..40+\",VLOOKUP(16-(LEN(O2394)),'1'!$A$1:$B$16,2,TRUE),P2394,\" 71....+0000000000000000 \"))","v":""},null,""]
[null,null,"","","","","","","","",null,"","",null,null,null,null,{"$f":"IF(O2395=\"\",\"\",CONCATENATE(\"*11....+\",VLOOKUP(16-(LEN(N2395)),'1'!$A$1:$B$16,2,TRUE),N2395,\" 81..40+\",VLOOKUP(16-(LEN(O2395)),'1'!$A$1:$B$16,2,TRUE),O2395,\" 82..40+\",VLOOKUP(16-(LEN(O2395)),'1'!$A$1:$B$16,2,TRUE),P2395,\" 71....+0000000000000000 \"))","v":""},null,""]
[null,null,"","","","","","","","",null,"","",null,null,null,null,{"$f":"IF(O2396=\"\",\"\",CONCATENATE(\"*11....+\",VLOOKUP(16-(LEN(N2396)),'1'!$A$1:$B$16,2,TRUE),N2396,\" 81..40+\",VLOOKUP(16-(LEN(O2396)),'1'!$A$1:$B$16,2,TRUE),O2396,\" 82..40+\",VLOOKUP(16-(LEN(O2396)),'1'!$A$1:$B$16,2,TRUE),P2396,\" 71....+0000000000000000 \"))","v":""},null,""]
[null,null,"","","","","","","","",null,"","",null,null,null,null,{"$f":"IF(O2397=\"\",\"\",CONCATENATE(\"*11....+\",VLOOKUP(16-(LEN(N2397)),'1'!$A$1:$B$16,2,TRUE),N2397,\" 81..40+\",VLOOKUP(16-(LEN(O2397)),'1'!$A$1:$B$16,2,TRUE),O2397,\" 82..40+\",VLOOKUP(16-(LEN(O2397)),'1'!$A$1:$B$16,2,TRUE),P2397,\" 71....+0000000000000000 \"))","v":""},null,""]
[null,null,"","","","","","","","",null,"","",null,null,null,null,{"$f":"IF(O2398=\"\",\"\",CONCATENATE(\"*11....+\",VLOOKUP(16-(LEN(N2398)),'1'!$A$1:$B$16,2,TRUE),N2398,\" 81..40+\",VLOOKUP(16-(LEN(O2398)),'1'!$A$1:$B$16,2,TRUE),O2398,\" 82..40+\",VLOOKUP(16-(LEN(O2398)),'1'!$A$1:$B$16,2,TRUE),P2398,\" 71....+0000000000000000 \"))","v":""},null,""]
[null,null,"","","","","","","","",null,"","",null,null,null,null,{"$f":"IF(O2399=\"\",\"\",CONCATENATE(\"*11....+\",VLOOKUP(16-(LEN(N2399)),'1'!$A$1:$B$16,2,TRUE),N2399,\" 81..40+\",VLOOKUP(16-(LEN(O2399)),'1'!$A$1:$B$16,2,TRUE),O2399,\" 82..40+\",VLOOKUP(16-(LEN(O2399)),'1'!$A$1:$B$16,2,TRUE),P2399,\" 71....+0000000000000000 \"))","v":""},null,""]
[null,null,"","","","","","","","",null,"","",null,null,null,null,{"$f":"IF(O2400=\"\",\"\",CONCATENATE(\"*11....+\",VLOOKUP(16-(LEN(N2400)),'1'!$A$1:$B$16,2,TRUE),N2400,\" 81..40+\",VLOOKUP(16-(LEN(O2400)),'1'!$A$1:$B$16,2,TRUE),O2400,\" 82..40+\",VLOOKUP(16-(LEN(O2400)),'1'!$A$1:$B$16,2,TRUE),P2400,\" 71....+0000000000000000 \"))","v":""},null,""]
[null,null,"","","","","","","","",null,"","",null,null,null,null,{"$f":"IF(O2401=\"\",\"\",CONCATENATE(\"*11....+\",VLOOKUP(16-(LEN(N2401)),'1'!$A$1:$B$16,2,TRUE),N2401,\" 81..40+\",VLOOKUP(16-(LEN(O2401)),'1'!$A$1:$B$16,2,TRUE),O2401,\" 82..40+\",VLOOKUP(16-(LEN(O2401)),'1'!$A$1:$B$16,2,TRUE),P2401,\" 71....+0000000000000000 \"))","v":""},null,""]
[null,null,"","","","","","","","",null,"","",null,null,null,null,{"$f":"IF(O2402=\"\",\"\",CONCATENATE(\"*11....+\",VLOOKUP(16-(LEN(N2402)),'1'!$A$1:$B$16,2,TRUE),N2402,\" 81..40+\",VLOOKUP(16-(LEN(O2402)),'1'!$A$1:$B$16,2,TRUE),O2402,\" 82..40+\",VLOOKUP(16-(LEN(O2402)),'1'!$A$1:$B$16,2,TRUE),P2402,\" 71....+0000000000000000 \"))","v":""},null,""]
[null,null,"","","","","","","","",null,"","",null,null,null,null,{"$f":"IF(O2403=\"\",\"\",CONCATENATE(\"*11....+\",VLOOKUP(16-(LEN(N2403)),'1'!$A$1:$B$16,2,TRUE),N2403,\" 81..40+\",VLOOKUP(16-(LEN(O2403)),'1'!$A$1:$B$16,2,TRUE),O2403,\" 82..40+\",VLOOKUP(16-(LEN(O2403)),'1'!$A$1:$B$16,2,TRUE),P2403,\" 71....+0000000000000000 \"))","v":""},null,""]
[null,null,"","","","","","","","",null,"","",null,null,null,null,{"$f":"IF(O2404=\"\",\"\",CONCATENATE(\"*11....+\",VLOOKUP(16-(LEN(N2404)),'1'!$A$1:$B$16,2,TRUE),N2404,\" 81..40+\",VLOOKUP(16-(LEN(O2404)),'1'!$A$1:$B$16,2,TRUE),O2404,\" 82..40+\",VLOOKUP(16-(LEN(O2404)),'1'!$A$1:$B$16,2,TRUE),P2404,\" 71....+0000000000000000 \"))","v":""},null,""]
[null,null,"","","","","","","","",null,"","",null,null,null,null,{"$f":"IF(O2405=\"\",\"\",CONCATENATE(\"*11....+\",VLOOKUP(16-(LEN(N2405)),'1'!$A$1:$B$16,2,TRUE),N2405,\" 81..40+\",VLOOKUP(16-(LEN(O2405)),'1'!$A$1:$B$16,2,TRUE),O2405,\" 82..40+\",VLOOKUP(16-(LEN(O2405)),'1'!$A$1:$B$16,2,TRUE),P2405,\" 71....+0000000000000000 \"))","v":""},null,""]
[null,null,"","","","","","","","",null,"","",null,null,null,null,{"$f":"IF(O2406=\"\",\"\",CONCATENATE(\"*11....+\",VLOOKUP(16-(LEN(N2406)),'1'!$A$1:$B$16,2,TRUE),N2406,\" 81..40+\",VLOOKUP(16-(LEN(O2406)),'1'!$A$1:$B$16,2,TRUE),O2406,\" 82..40+\",VLOOKUP(16-(LEN(O2406)),'1'!$A$1:$B$16,2,TRUE),P2406,\" 71....+0000000000000000 \"))","v":""},null,""]
[null,null,"","","","","","","","",null,"","",null,null,null,null,{"$f":"IF(O2407=\"\",\"\",CONCATENATE(\"*11....+\",VLOOKUP(16-(LEN(N2407)),'1'!$A$1:$B$16,2,TRUE),N2407,\" 81..40+\",VLOOKUP(16-(LEN(O2407)),'1'!$A$1:$B$16,2,TRUE),O2407,\" 82..40+\",VLOOKUP(16-(LEN(O2407)),'1'!$A$1:$B$16,2,TRUE),P2407,\" 71....+0000000000000000 \"))","v":""},null,""]
[null,null,"","","","","","","","",null,"","",null,null,null,null,{"$f":"IF(O2408=\"\",\"\",CONCATENATE(\"*11....+\",VLOOKUP(16-(LEN(N2408)),'1'!$A$1:$B$16,2,TRUE),N2408,\" 81..40+\",VLOOKUP(16-(LEN(O2408)),'1'!$A$1:$B$16,2,TRUE),O2408,\" 82..40+\",VLOOKUP(16-(LEN(O2408)),'1'!$A$1:$B$16,2,TRUE),P2408,\" 71....+0000000000000000 \"))","v":""},null,""]
[null,null,"","","","","","","","",null,"","",null,null,null,null,{"$f":"IF(O2409=\"\",\"\",CONCATENATE(\"*11....+\",VLOOKUP(16-(LEN(N2409)),'1'!$A$1:$B$16,2,TRUE),N2409,\" 81..40+\",VLOOKUP(16-(LEN(O2409)),'1'!$A$1:$B$16,2,TRUE),O2409,\" 82..40+\",VLOOKUP(16-(LEN(O2409)),'1'!$A$1:$B$16,2,TRUE),P2409,\" 71....+0000000000000000 \"))","v":""},null,""]
[null,null,"","","","","","","","",null,"","",null,null,null,null,{"$f":"IF(O2410=\"\",\"\",CONCATENATE(\"*11....+\",VLOOKUP(16-(LEN(N2410)),'1'!$A$1:$B$16,2,TRUE),N2410,\" 81..40+\",VLOOKUP(16-(LEN(O2410)),'1'!$A$1:$B$16,2,TRUE),O2410,\" 82..40+\",VLOOKUP(16-(LEN(O2410)),'1'!$A$1:$B$16,2,TRUE),P2410,\" 71....+0000000000000000 \"))","v":""},null,""]
[null,null,"","","","","","","","",null,"","",null,null,null,null,{"$f":"IF(O2411=\"\",\"\",CONCATENATE(\"*11....+\",VLOOKUP(16-(LEN(N2411)),'1'!$A$1:$B$16,2,TRUE),N2411,\" 81..40+\",VLOOKUP(16-(LEN(O2411)),'1'!$A$1:$B$16,2,TRUE),O2411,\" 82..40+\",VLOOKUP(16-(LEN(O2411)),'1'!$A$1:$B$16,2,TRUE),P2411,\" 71....+0000000000000000 \"))","v":""},null,""]
[null,null,"","","","","","","","",null,"","",null,null,null,null,{"$f":"IF(O2412=\"\",\"\",CONCATENATE(\"*11....+\",VLOOKUP(16-(LEN(N2412)),'1'!$A$1:$B$16,2,TRUE),N2412,\" 81..40+\",VLOOKUP(16-(LEN(O2412)),'1'!$A$1:$B$16,2,TRUE),O2412,\" 82..40+\",VLOOKUP(16-(LEN(O2412)),'1'!$A$1:$B$16,2,TRUE),P2412,\" 71....+0000000000000000 \"))","v":""},null,""]
[null,null,"","","","","","","","",null,"","",null,null,null,null,{"$f":"IF(O2413=\"\",\"\",CONCATENATE(\"*11....+\",VLOOKUP(16-(LEN(N2413)),'1'!$A$1:$B$16,2,TRUE),N2413,\" 81..40+\",VLOOKUP(16-(LEN(O2413)),'1'!$A$1:$B$16,2,TRUE),O2413,\" 82..40+\",VLOOKUP(16-(LEN(O2413)),'1'!$A$1:$B$16,2,TRUE),P2413,\" 71....+0000000000000000 \"))","v":""},null,""]
[null,null,"","","","","","","","",null,"","",null,null,null,null,{"$f":"IF(O2414=\"\",\"\",CONCATENATE(\"*11....+\",VLOOKUP(16-(LEN(N2414)),'1'!$A$1:$B$16,2,TRUE),N2414,\" 81..40+\",VLOOKUP(16-(LEN(O2414)),'1'!$A$1:$B$16,2,TRUE),O2414,\" 82..40+\",VLOOKUP(16-(LEN(O2414)),'1'!$A$1:$B$16,2,TRUE),P2414,\" 71....+0000000000000000 \"))","v":""},null,""]
[null,null,"","","","","","","","",null,"","",null,null,null,null,{"$f":"IF(O2415=\"\",\"\",CONCATENATE(\"*11....+\",VLOOKUP(16-(LEN(N2415)),'1'!$A$1:$B$16,2,TRUE),N2415,\" 81..40+\",VLOOKUP(16-(LEN(O2415)),'1'!$A$1:$B$16,2,TRUE),O2415,\" 82..40+\",VLOOKUP(16-(LEN(O2415)),'1'!$A$1:$B$16,2,TRUE),P2415,\" 71....+0000000000000000 \"))","v":""},null,""]
[null,null,"","","","","","","","",null,"","",null,null,null,null,{"$f":"IF(O2416=\"\",\"\",CONCATENATE(\"*11....+\",VLOOKUP(16-(LEN(N2416)),'1'!$A$1:$B$16,2,TRUE),N2416,\" 81..40+\",VLOOKUP(16-(LEN(O2416)),'1'!$A$1:$B$16,2,TRUE),O2416,\" 82..40+\",VLOOKUP(16-(LEN(O2416)),'1'!$A$1:$B$16,2,TRUE),P2416,\" 71....+0000000000000000 \"))","v":""},null,""]
[null,null,"","","","","","","","",null,"","",null,null,null,null,{"$f":"IF(O2417=\"\",\"\",CONCATENATE(\"*11....+\",VLOOKUP(16-(LEN(N2417)),'1'!$A$1:$B$16,2,TRUE),N2417,\" 81..40+\",VLOOKUP(16-(LEN(O2417)),'1'!$A$1:$B$16,2,TRUE),O2417,\" 82..40+\",VLOOKUP(16-(LEN(O2417)),'1'!$A$1:$B$16,2,TRUE),P2417,\" 71....+0000000000000000 \"))","v":""},null,""]
[null,null,"","","","","","","","",null,"","",null,null,null,null,{"$f":"IF(O2418=\"\",\"\",CONCATENATE(\"*11....+\",VLOOKUP(16-(LEN(N2418)),'1'!$A$1:$B$16,2,TRUE),N2418,\" 81..40+\",VLOOKUP(16-(LEN(O2418)),'1'!$A$1:$B$16,2,TRUE),O2418,\" 82..40+\",VLOOKUP(16-(LEN(O2418)),'1'!$A$1:$B$16,2,TRUE),P2418,\" 71....+0000000000000000 \"))","v":""},null,""]
[null,null,"","","","","","","","",null,"","",null,null,null,null,{"$f":"IF(O2419=\"\",\"\",CONCATENATE(\"*11....+\",VLOOKUP(16-(LEN(N2419)),'1'!$A$1:$B$16,2,TRUE),N2419,\" 81..40+\",VLOOKUP(16-(LEN(O2419)),'1'!$A$1:$B$16,2,TRUE),O2419,\" 82..40+\",VLOOKUP(16-(LEN(O2419)),'1'!$A$1:$B$16,2,TRUE),P2419,\" 71....+0000000000000000 \"))","v":""},null,""]
[null,null,"","","","","","","","",null,"","",null,null,null,null,{"$f":"IF(O2420=\"\",\"\",CONCATENATE(\"*11....+\",VLOOKUP(16-(LEN(N2420)),'1'!$A$1:$B$16,2,TRUE),N2420,\" 81..40+\",VLOOKUP(16-(LEN(O2420)),'1'!$A$1:$B$16,2,TRUE),O2420,\" 82..40+\",VLOOKUP(16-(LEN(O2420)),'1'!$A$1:$B$16,2,TRUE),P2420,\" 71....+0000000000000000 \"))","v":""},null,""]
[null,null,"","","","","","","","",null,"","",null,null,null,null,{"$f":"IF(O2421=\"\",\"\",CONCATENATE(\"*11....+\",VLOOKUP(16-(LEN(N2421)),'1'!$A$1:$B$16,2,TRUE),N2421,\" 81..40+\",VLOOKUP(16-(LEN(O2421)),'1'!$A$1:$B$16,2,TRUE),O2421,\" 82..40+\",VLOOKUP(16-(LEN(O2421)),'1'!$A$1:$B$16,2,TRUE),P2421,\" 71....+0000000000000000 \"))","v":""},null,""]
[null,null,"","","","","","","","",null,"","",null,null,null,null,{"$f":"IF(O2422=\"\",\"\",CONCATENATE(\"*11....+\",VLOOKUP(16-(LEN(N2422)),'1'!$A$1:$B$16,2,TRUE),N2422,\" 81..40+\",VLOOKUP(16-(LEN(O2422)),'1'!$A$1:$B$16,2,TRUE),O2422,\" 82..40+\",VLOOKUP(16-(LEN(O2422)),'1'!$A$1:$B$16,2,TRUE),P2422,\" 71....+0000000000000000 \"))","v":""},null,""]
[null,null,"","","","","","","","",null,"","",null,null,null,null,{"$f":"IF(O2423=\"\",\"\",CONCATENATE(\"*11....+\",VLOOKUP(16-(LEN(N2423)),'1'!$A$1:$B$16,2,TRUE),N2423,\" 81..40+\",VLOOKUP(16-(LEN(O2423)),'1'!$A$1:$B$16,2,TRUE),O2423,\" 82..40+\",VLOOKUP(16-(LEN(O2423)),'1'!$A$1:$B$16,2,TRUE),P2423,\" 71....+0000000000000000 \"))","v":""},null,""]
[null,null,"","","","","","","","",null,"","",null,null,null,null,{"$f":"IF(O2424=\"\",\"\",CONCATENATE(\"*11....+\",VLOOKUP(16-(LEN(N2424)),'1'!$A$1:$B$16,2,TRUE),N2424,\" 81..40+\",VLOOKUP(16-(LEN(O2424)),'1'!$A$1:$B$16,2,TRUE),O2424,\" 82..40+\",VLOOKUP(16-(LEN(O2424)),'1'!$A$1:$B$16,2,TRUE),P2424,\" 71....+0000000000000000 \"))","v":""},null,""]
[null,null,"","","","","","",{"$f":"IF(MID(A2425,21,1)=\"X\",ROUND(VALUE(MID(A2425,23,9)),3),IF(MID(A2425,23,9)=\"n\",\"\",\"\"))","v":""},{"$f":"IF(MID(A2425,21,1)=\"X\",ROUND(VALUE(MID(A2425,37,9)),3),IF(MID(A2425,21,1)=\"n\",\"\",\"\"))","v":""},null,"","",null,null,null,null,{"$f":"IF(O2425=\"\",\"\",CONCATENATE(\"*11....+\",VLOOKUP(16-(LEN(N2425)),'1'!$A$1:$B$16,2,TRUE),N2425,\" 81..40+\",VLOOKUP(16-(LEN(O2425)),'1'!$A$1:$B$16,2,TRUE),O2425,\" 82..40+\",VLOOKUP(16-(LEN(O2425)),'1'!$A$1:$B$16,2,TRUE),P2425,\" 71....+0000000000000000 \"))","v":""},null,{"$f":"IF(O2425=\"\",\"\",CONCATENATE(\"*11....+\",VLOOKUP(Q2425,'1'!$A$1:$B$16,2,TRUE),N2425,\" 81..40+\",VLOOKUP(LEN(O2425),'1'!$A$1:$B$16,2,TRUE),O2425,\" 82..40+\",VLOOKUP(LEN(O2425),'1'!$A$1:$B$16,2,TRUE),P2425,\" 71....+0000000000000000 \"))","v":""}]
[null,null,"","","","","","","","",null,"","",null,null,null,null,{"$f":"IF(O2426=\"\",\"\",CONCATENATE(\"*11....+\",VLOOKUP(16-(LEN(N2426)),'1'!$A$1:$B$16,2,TRUE),N2426,\" 81..40+\",VLOOKUP(16-(LEN(O2426)),'1'!$A$1:$B$16,2,TRUE),O2426,\" 82..40+\",VLOOKUP(16-(LEN(O2426)),'1'!$A$1:$B$16,2,TRUE),P2426,\" 71....+0000000000000000 \"))","v":""},null,{"$f":"IF(O2426=\"\",\"\",CONCATENATE(\"*11....+\",VLOOKUP(Q2426,'1'!$A$1:$B$16,2,TRUE),N2426,\" 81..40+\",VLOOKUP(LEN(O2426),'1'!$A$1:$B$16,2,TRUE),O2426,\" 82..40+\",VLOOKUP(LEN(O2426),'1'!$A$1:$B$16,2,TRUE),P2426,\" 71....+0000000000000000 \"))","v":""}]
[null,null,"","","","","","","","",null,"","",null,null,null,null,{"$f":"IF(O2427=\"\",\"\",CONCATENATE(\"*11....+\",VLOOKUP(16-(LEN(N2427)),'1'!$A$1:$B$16,2,TRUE),N2427,\" 81..40+\",VLOOKUP(16-(LEN(O2427)),'1'!$A$1:$B$16,2,TRUE),O2427,\" 82..40+\",VLOOKUP(16-(LEN(O2427)),'1'!$A$1:$B$16,2,TRUE),P2427,\" 71....+0000000000000000 \"))","v":""},null,{"$f":"IF(O2427=\"\",\"\",CONCATENATE(\"*11....+\",VLOOKUP(Q2427,'1'!$A$1:$B$16,2,TRUE),N2427,\" 81..40+\",VLOOKUP(LEN(O2427),'1'!$A$1:$B$16,2,TRUE),O2427,\" 82..40+\",VLOOKUP(LEN(O2427),'1'!$A$1:$B$16,2,TRUE),P2427,\" 71....+0000000000000000 \"))","v":""}]
[null,null,"","","","","","","","",null,"","",null,null,null,null,{"$f":"IF(O2428=\"\",\"\",CONCATENATE(\"*11....+\",VLOOKUP(16-(LEN(N2428)),'1'!$A$1:$B$16,2,TRUE),N2428,\" 81..40+\",VLOOKUP(16-(LEN(O2428)),'1'!$A$1:$B$16,2,TRUE),O2428,\" 82..40+\",VLOOKUP(16-(LEN(O2428)),'1'!$A$1:$B$16,2,TRUE),P2428,\" 71....+0000000000000000 \"))","v":""},null,{"$f":"IF(O2428=\"\",\"\",CONCATENATE(\"*11....+\",VLOOKUP(Q2428,'1'!$A$1:$B$16,2,TRUE),N2428,\" 81..40+\",VLOOKUP(LEN(O2428),'1'!$A$1:$B$16,2,TRUE),O2428,\" 82..40+\",VLOOKUP(LEN(O2428),'1'!$A$1:$B$16,2,TRUE),P2428,\" 71....+0000000000000000 \"))","v":""}]
[null,null,"","","","","","","","",null,"","",null,null,null,null,{"$f":"IF(O2429=\"\",\"\",CONCATENATE(\"*11....+\",VLOOKUP(16-(LEN(N2429)),'1'!$A$1:$B$16,2,TRUE),N2429,\" 81..40+\",VLOOKUP(16-(LEN(O2429)),'1'!$A$1:$B$16,2,TRUE),O2429,\" 82..40+\",VLOOKUP(16-(LEN(O2429)),'1'!$A$1:$B$16,2,TRUE),P2429,\" 71....+0000000000000000 \"))","v":""},null,{"$f":"IF(O2429=\"\",\"\",CONCATENATE(\"*11....+\",VLOOKUP(Q2429,'1'!$A$1:$B$16,2,TRUE),N2429,\" 81..40+\",VLOOKUP(LEN(O2429),'1'!$A$1:$B$16,2,TRUE),O2429,\" 82..40+\",VLOOKUP(LEN(O2429),'1'!$A$1:$B$16,2,TRUE),P2429,\" 71....+0000000000000000 \"))","v":""}]
[null,null,"","","","","","","","",null,"","",null,null,null,null,{"$f":"IF(O2430=\"\",\"\",CONCATENATE(\"*11....+\",VLOOKUP(16-(LEN(N2430)),'1'!$A$1:$B$16,2,TRUE),N2430,\" 81..40+\",VLOOKUP(16-(LEN(O2430)),'1'!$A$1:$B$16,2,TRUE),O2430,\" 82..40+\",VLOOKUP(16-(LEN(O2430)),'1'!$A$1:$B$16,2,TRUE),P2430,\" 71....+0000000000000000 \"))","v":""},null,{"$f":"IF(O2430=\"\",\"\",CONCATENATE(\"*11....+\",VLOOKUP(Q2430,'1'!$A$1:$B$16,2,TRUE),N2430,\" 81..40+\",VLOOKUP(LEN(O2430),'1'!$A$1:$B$16,2,TRUE),O2430,\" 82..40+\",VLOOKUP(LEN(O2430),'1'!$A$1:$B$16,2,TRUE),P2430,\" 71....+0000000000000000 \"))","v":""}]
[null,null,"","","","","","","","",null,"","",null,null,null,null,{"$f":"IF(O2431=\"\",\"\",CONCATENATE(\"*11....+\",VLOOKUP(16-(LEN(N2431)),'1'!$A$1:$B$16,2,TRUE),N2431,\" 81..40+\",VLOOKUP(16-(LEN(O2431)),'1'!$A$1:$B$16,2,TRUE),O2431,\" 82..40+\",VLOOKUP(16-(LEN(O2431)),'1'!$A$1:$B$16,2,TRUE),P2431,\" 71....+0000000000000000 \"))","v":""},null,{"$f":"IF(O2431=\"\",\"\",CONCATENATE(\"*11....+\",VLOOKUP(Q2431,'1'!$A$1:$B$16,2,TRUE),N2431,\" 81..40+\",VLOOKUP(LEN(O2431),'1'!$A$1:$B$16,2,TRUE),O2431,\" 82..40+\",VLOOKUP(LEN(O2431),'1'!$A$1:$B$16,2,TRUE),P2431,\" 71....+0000000000000000 \"))","v":""}]
[null,null,"","","","","","","","",null,"","",null,null,null,null,{"$f":"IF(O2432=\"\",\"\",CONCATENATE(\"*11....+\",VLOOKUP(16-(LEN(N2432)),'1'!$A$1:$B$16,2,TRUE),N2432,\" 81..40+\",VLOOKUP(16-(LEN(O2432)),'1'!$A$1:$B$16,2,TRUE),O2432,\" 82..40+\",VLOOKUP(16-(LEN(O2432)),'1'!$A$1:$B$16,2,TRUE),P2432,\" 71....+0000000000000000 \"))","v":""},null,{"$f":"IF(O2432=\"\",\"\",CONCATENATE(\"*11....+\",VLOOKUP(Q2432,'1'!$A$1:$B$16,2,TRUE),N2432,\" 81..40+\",VLOOKUP(LEN(O2432),'1'!$A$1:$B$16,2,TRUE),O2432,\" 82..40+\",VLOOKUP(LEN(O2432),'1'!$A$1:$B$16,2,TRUE),P2432,\" 71....+0000000000000000 \"))","v":""}]
[null,null,"","","","","","",null,null,null,{"$f":"IF(K2433=\"\",\"\",ROUND(VALUE(VLOOKUP(K2433,$B$3:$J$2002,3,TRUE)),3))","v":""},{"$f":"IF(K2433=\"\",\"\",ROUND(VALUE(VLOOKUP(K2433,$B$3:$J$2002,4,TRUE)),3))","v":""},null,null,null,null,{"$f":"IF(O2433=\"\",\"\",CONCATENATE(\"*11....+\",VLOOKUP(16-(LEN(N2433)),'1'!$A$1:$B$16,2,TRUE),N2433,\" 81..40+\",VLOOKUP(16-(LEN(O2433)),'1'!$A$1:$B$16,2,TRUE),O2433,\" 82..40+\",VLOOKUP(16-(LEN(O2433)),'1'!$A$1:$B$16,2,TRUE),P2433,\" 71....+0000000000000000 \"))","v":""},null,{"$f":"IF(O2433=\"\",\"\",CONCATENATE(\"*11....+\",VLOOKUP(Q2433,'1'!$A$1:$B$16,2,TRUE),N2433,\" 81..40+\",VLOOKUP(LEN(O2433),'1'!$A$1:$B$16,2,TRUE),O2433,\" 82..40+\",VLOOKUP(LEN(O2433),'1'!$A$1:$B$16,2,TRUE),P2433,\" 71....+0000000000000000 \"))","v":""}]
[null,null,null,null,null,null,null,null,null,null,null,null,null,null,null,null,null,{"$f":"IF(O2434=\"\",\"\",CONCATENATE(\"*11....+\",VLOOKUP(16-(LEN(N2434)),'1'!$A$1:$B$16,2,TRUE),N2434,\" 81..40+\",VLOOKUP(16-(LEN(O2434)),'1'!$A$1:$B$16,2,TRUE),O2434,\" 82..40+\",VLOOKUP(16-(LEN(O2434)),'1'!$A$1:$B$16,2,TRUE),P2434,\" 71....+0000000000000000 \"))","v":""},null,{"$f":"IF(O2434=\"\",\"\",CONCATENATE(\"*11....+\",VLOOKUP(Q2434,'1'!$A$1:$B$16,2,TRUE),N2434,\" 81..40+\",VLOOKUP(LEN(O2434),'1'!$A$1:$B$16,2,TRUE),O2434,\" 82..40+\",VLOOKUP(LEN(O2434),'1'!$A$1:$B$16,2,TRUE),P2434,\" 71....+0000000000000000 \"))","v":""}]
[null,null,null,null,null,null,null,null,null,null,null,null,null,null,null,null,null,{"$f":"IF(O2435=\"\",\"\",CONCATENATE(\"*11....+\",VLOOKUP(16-(LEN(N2435)),'1'!$A$1:$B$16,2,TRUE),N2435,\" 81..40+\",VLOOKUP(16-(LEN(O2435)),'1'!$A$1:$B$16,2,TRUE),O2435,\" 82..40+\",VLOOKUP(16-(LEN(O2435)),'1'!$A$1:$B$16,2,TRUE),P2435,\" 71....+0000000000000000 \"))","v":""}]

{"sheet":"1","index":1,"n_rows":16,"n_cols":2,"rows_kept":16,"cut":false,"hidden":false,"merged":[]}
[1,"0"]
[2,"00"]
[3,"000"]
[4,"0000"]
[5,"00000"]
[6,"000000"]
[7,"0000000"]
[8,"00000000"]
[9,"000000000"]
[10,"0000000000"]
[11,"00000000000"]
[12,"000000000000"]
[13,"0000000000000"]
[14,"00000000000000"]
[15,"000000000000000"]
[16,"0000000000000000"]