{"text_format":"1","workbook":"xlsx","n_sheets":32,"sheets":["1","2","3","4","5","6","7","8","9","10","11","12","13","14","15","16","17","18","19","20","21","22","23","24","25","26","27","28","29","30","31","OEE mesec"],"not_rendered":{"charts":0,"images":0,"macros":1,"external_links":0,"defined_names":1,"comments":0,"pivot_tables":0},"unopened":[],"bounds":{"document_bytes":16777216,"sheet_cells":100000,"rows_first":2000,"rows_last":500,"rows_between":2000,"halvings":0,"cell_chars":16384,"cell_head_chars":4096},"cells_cut":0,"cells_raw":0,"read":"whole","date_system":"1900"}

{"sheet":"1","index":0,"n_rows":27,"n_cols":9,"rows_kept":27,"cut":false,"hidden":false,"merged":[[3,1,3,4],[3,8,3,9],[3,11,3,12],[0,1,1,4],[0,5,0,7],[0,8,1,9],[0,11,0,12],[1,11,1,12],[2,1,2,4],[2,8,2,9],[2,11,2,12],[4,1,4,4],[4,8,4,9],[4,11,4,12],[5,1,5,4],[5,8,5,9],[5,11,5,12],[6,1,6,4],[6,8,6,9],[6,11,6,12],[7,1,7,4],[7,8,7,9],[7,11,7,12],[12,1,12,4],[12,8,12,9],[8,1,8,4],[8,8,8,9],[8,11,8,12],[9,1,9,4],[9,8,9,9],[9,11,9,12],[10,1,10,4],[10,8,10,9],[10,11,10,12],[11,1,11,4],[11,8,11,9],[13,1,13,4],[13,8,13,9],[14,1,14,4],[14,8,14,9],[15,1,15,4],[15,8,15,9],[16,1,16,4],[16,8,16,9],[17,1,17,4],[17,8,17,9],[18,1,18,4],[18,8,18,9],[19,1,19,4],[19,8,19,9],[20,1,20,4],[20,8,20,9],[21,1,21,4],[21,8,21,9],[25,1,25,4],[25,8,25,9],[26,1,26,4],[26,8,26,9],[22,1,22,4],[22,8,22,9],[23,1,23,4],[23,8,23,9],[24,1,24,4],[24,8,24,9]]}
[null,"Zastoji",null,null,null,"vreme trajanja ",null,null,"napomena "]
[null,null,null,null,null,"III smena ","I   smena","II  smena"]
[1,"Prazno polje 1",null,null,null,20,30]
[2,"Prazno polje 2"]
[3,"Prazno polje 3"]
[4,"Prazno polje 4"]
[5,"Prazno polje 5"]
[6,"Prazno polje 6",null,null,null,50]
[7,"Prazno polje 7"]
[8,"Prazno polje 8"]
[9,"Prazno polje 9"]
[10,"Prazno polje 10"]
[11,"Prazno polje 11"]
[12,"Prazno polje 12"]
[13,"Prazno polje 13"]
[14,"Prazno polje 14"]
[15,"Prazno polje 15"]
[16,"Prazno polje 16"]
[17,"Prazno polje 17"]
[18,"Prazno polje 18"]
[19,"Prazno polje 19"]
[20,"Prazno polje 20"]
[21,"Prazno polje 21"]
[22,"Prazno polje 22"]
[23,"Prazno polje 23"]
[24,"Prazno polje 24"]
[null,"Ukupno ",null,null,null,{"$f":"SUM(F3:F26)","v":70},{"$f":"SUM(G3:G26)","v":30},0]

{"sheet":"2","index":1,"n_rows":27,"n_cols":9,"rows_kept":27,"cut":false,"hidden":false,"merged":[[26,1,26,4],[26,8,26,9],[23,1,23,4],[23,8,23,9],[24,1,24,4],[24,8,24,9],[25,1,25,4],[25,8,25,9],[20,1,20,4],[20,8,20,9],[21,1,21,4],[21,8,21,9],[22,1,22,4],[22,8,22,9],[17,1,17,4],[17,8,17,9],[18,1,18,4],[18,8,18,9],[19,1,19,4],[19,8,19,9],[14,1,14,4],[14,8,14,9],[15,1,15,4],[15,8,15,9],[16,1,16,4],[16,8,16,9],[11,1,11,4],[11,8,11,9],[12,1,12,4],[12,8,12,9],[13,1,13,4],[13,8,13,9],[9,1,9,4],[9,8,9,9],[9,11,9,12],[10,1,10,4],[10,8,10,9],[10,11,10,12],[7,1,7,4],[7,8,7,9],[7,11,7,12],[8,1,8,4],[8,8,8,9],[8,11,8,12],[5,1,5,4],[5,8,5,9],[5,11,5,12],[6,1,6,4],[6,8,6,9],[6,11,6,12],[3,1,3,4],[3,8,3,9],[3,11,3,12],[4,1,4,4],[4,8,4,9],[4,11,4,12],[0,1,1,4],[0,5,0,7],[0,8,1,9],[0,11,0,12],[1,11,1,12],[2,1,2,4],[2,8,2,9],[2,11,2,12]]}
[null,"Zastoji",null,null,null,"vreme trajanja ",null,null,"napomena "]
[null,null,null,null,null,"III smena ","I   smena","II  smena"]
[1,"Prazno polje 1",null,null,null,20,null,40]
[2,"Prazno polje 2"]
[3,"Prazno polje 3"]
[4,"Prazno polje 4"]
[5,"Prazno polje 5"]
[6,"Prazno polje 6"]
[7,"Prazno polje 7"]
[8,"Prazno polje 8"]
[9,"Prazno polje 9"]
[10,"Prazno polje 10"]
[11,"Prazno polje 11",null,null,null,50]
[12,"Prazno polje 12"]
[13,"Prazno polje 13"]
[14,"Prazno polje 14"]
[15,"Prazno polje 15"]
[16,"Prazno polje 16"]
[17,"Prazno polje 17"]
[18,"Prazno polje 18"]
[19,"Prazno polje 19"]
[20,"Prazno polje 20"]
[21,"Prazno polje 21"]
[22,"Prazno polje 22"]
[23,"Prazno polje 23"]
[24,"Prazno polje 24"]
[null,"Ukupno ",null,null,null,{"$f":"SUM(F3:F26)","v":70},{"$f":"SUM(G3:G26)","v":0},40]

{"sheet":"3","index":2,"n_rows":27,"n_cols":9,"rows_kept":27,"cut":false,"hidden":false,"merged":[[26,1,26,4],[26,8,26,9],[23,1,23,4],[23,8,23,9],[24,1,24,4],[24,8,24,9],[25,1,25,4],[25,8,25,9],[20,1,20,4],[20,8,20,9],[21,1,21,4],[21,8,21,9],[22,1,22,4],[22,8,22,9],[17,1,17,4],[17,8,17,9],[18,1,18,4],[18,8,18,9],[19,1,19,4],[19,8,19,9],[14,1,14,4],[14,8,14,9],[15,1,15,4],[15,8,15,9],[16,1,16,4],[16,8,16,9],[11,1,11,4],[11,8,11,9],[12,1,12,4],[12,8,12,9],[13,1,13,4],[13,8,13,9],[9,1,9,4],[9,8,9,9],[9,11,9,12],[10,1,10,4],[10,8,10,9],[10,11,10,12],[7,1,7,4],[7,8,7,9],[7,11,7,12],[8,1,8,4],[8,8,8,9],[8,11,8,12],[5,1,5,4],[5,8,5,9],[5,11,5,12],[6,1,6,4],[6,8,6,9],[6,11,6,12],[3,1,3,4],[3,8,3,9],[3,11,3,12],[4,1,4,4],[4,8,4,9],[4,11,4,12],[0,1,1,4],[0,5,0,7],[0,8,1,9],[0,11,0,12],[1,11,1,12],[2,1,2,4],[2,8,2,9],[2,11,2,12]]}
[null,"Zastoji",null,null,null,"vreme trajanja ",null,null,"napomena "]
[null,null,null,null,null,"III smena ","I   smena","II  smena"]
[1,"Prazno polje 1",null,null,null,null,30,40]
[2,"Prazno polje 2"]
[3,"Prazno polje 3"]
[4,"Prazno polje 4"]
[5,"Prazno polje 5"]
[6,"Prazno polje 6",null,null,null,50]
[7,"Prazno polje 7"]
[8,"Prazno polje 8"]
[9,"Prazno polje 9"]
[10,"Prazno polje 10"]
[11,"Prazno polje 11",null,null,null,50]
[12,"Prazno polje 12"]
[13,"Prazno polje 13"]
[14,"Prazno polje 14"]
[15,"Prazno polje 15"]
[16,"Prazno polje 16"]
[17,"Prazno polje 17"]
[18,"Prazno polje 18"]
[19,"Prazno polje 19"]
[20,"Prazno polje 20"]
[21,"Prazno polje 21"]
[22,"Prazno polje 22"]
[23,"Prazno polje 23"]
[24,"Prazno polje 24"]
[null,"Ukupno ",null,null,null,{"$f":"SUM(F3:F26)","v":100},{"$f":"SUM(G3:G26)","v":30},40]

{"sheet":"4","index":3,"n_rows":27,"n_cols":9,"rows_kept":27,"cut":false,"hidden":false,"merged":[[26,1,26,4],[26,8,26,9],[23,1,23,4],[23,8,23,9],[24,1,24,4],[24,8,24,9],[25,1,25,4],[25,8,25,9],[20,1,20,4],[20,8,20,9],[21,1,21,4],[21,8,21,9],[22,1,22,4],[22,8,22,9],[17,1,17,4],[17,8,17,9],[18,1,18,4],[18,8,18,9],[19,1,19,4],[19,8,19,9],[14,1,14,4],[14,8,14,9],[15,1,15,4],[15,8,15,9],[16,1,16,4],[16,8,16,9],[11,1,11,4],[11,8,11,9],[12,1,12,4],[12,8,12,9],[13,1,13,4],[13,8,13,9],[9,1,9,4],[9,8,9,9],[9,11,9,12],[10,1,10,4],[10,8,10,9],[10,11,10,12],[7,1,7,4],[7,8,7,9],[7,11,7,12],[8,1,8,4],[8,8,8,9],[8,11,8,12],[5,1,5,4],[5,8,5,9],[5,11,5,12],[6,1,6,4],[6,8,6,9],[6,11,6,12],[3,1,3,4],[3,8,3,9],[3,11,3,12],[4,1,4,4],[4,8,4,9],[4,11,4,12],[0,1,1,4],[0,5,0,7],[0,8,1,9],[0,11,0,12],[1,11,1,12],[2,1,2,4],[2,8,2,9],[2,11,2,12]]}
[null,"Zastoji",null,null,null,"vreme trajanja ",null,null,"napomena "]
[null,null,null,null,null,"III smena ","I   smena","II  smena"]
[1,"Prazno polje 1",null,null,null,20,30,40]
[2,"Prazno polje 2"]
[3,"Prazno polje 3"]
[4,"Prazno polje 4"]
[5,"Prazno polje 5"]
[6,"Prazno polje 6",null,null,null,50]
[7,"Prazno polje 7"]
[8,"Prazno polje 8"]
[9,"Prazno polje 9"]
[10,"Prazno polje 10"]
[11,"Prazno polje 11",null,null,null,50]
[12,"Prazno polje 12"]
[13,"Prazno polje 13"]
[14,"Prazno polje 14"]
[15,"Prazno polje 15"]
[16,"Prazno polje 16"]
[17,"Prazno polje 17"]
[18,"Prazno polje 18"]
[19,"Prazno polje 19"]
[20,"Prazno polje 20"]
[21,"Prazno polje 21"]
[22,"Prazno polje 22"]
[23,"Prazno polje 23"]
[24,"Prazno polje 24"]
[null,"Ukupno ",null,null,null,{"$f":"SUM(F3:F26)","v":120},{"$f":"SUM(G3:G26)","v":30},40]

{"sheet":"5","index":4,"n_rows":27,"n_cols":9,"rows_kept":27,"cut":false,"hidden":false,"merged":[[26,1,26,4],[26,8,26,9],[23,1,23,4],[23,8,23,9],[24,1,24,4],[24,8,24,9],[25,1,25,4],[25,8,25,9],[20,1,20,4],[20,8,20,9],[21,1,21,4],[21,8,21,9],[22,1,22,4],[22,8,22,9],[17,1,17,4],[17,8,17,9],[18,1,18,4],[18,8,18,9],[19,1,19,4],[19,8,19,9],[14,1,14,4],[14,8,14,9],[15,1,15,4],[15,8,15,9],[16,1,16,4],[16,8,16,9],[11,1,11,4],[11,8,11,9],[12,1,12,4],[12,8,12,9],[13,1,13,4],[13,8,13,9],[9,1,9,4],[9,8,9,9],[9,11,9,12],[10,1,10,4],[10,8,10,9],[10,11,10,12],[7,1,7,4],[7,8,7,9],[7,11,7,12],[8,1,8,4],[8,8,8,9],[8,11,8,12],[5,1,5,4],[5,8,5,9],[5,11,5,12],[6,1,6,4],[6,8,6,9],[6,11,6,12],[3,1,3,4],[3,8,3,9],[3,11,3,12],[4,1,4,4],[4,8,4,9],[4,11,4,12],[0,1,1,4],[0,5,0,7],[0,8,1,9],[0,11,0,12],[1,11,1,12],[2,1,2,4],[2,8,2,9],[2,11,2,12]]}
[null,"Zastoji",null,null,null,"vreme trajanja ",null,null,"napomena "]
[null,null,null,null,null,"III smena ","I   smena","II  smena"]
[1,"Prazno polje 1",null,null,null,20,30,40]
[2,"Prazno polje 2"]
[3,"Prazno polje 3"]
[4,"Prazno polje 4"]
[5,"Prazno polje 5"]
[6,"Prazno polje 6",null,null,null,50]
[7,"Prazno polje 7"]
[8,"Prazno polje 8"]
[9,"Prazno polje 9"]
[10,"Prazno polje 10"]
[11,"Prazno polje 11",null,null,null,50]
[12,"Prazno polje 12"]
[13,"Prazno polje 13"]
[14,"Prazno polje 14"]
[15,"Prazno polje 15"]
[16,"Prazno polje 16"]
[17,"Prazno polje 17"]
[18,"Prazno polje 18"]
[19,"Prazno polje 19"]
[20,"Prazno polje 20"]
[21,"Prazno polje 21"]
[22,"Prazno polje 22"]
[23,"Prazno polje 23"]
[24,"Prazno polje 24"]
[null,"Ukupno ",null,null,null,{"$f":"SUM(F3:F26)","v":120},{"$f":"SUM(G3:G26)","v":30},40]

{"sheet":"6","index":5,"n_rows":27,"n_cols":9,"rows_kept":27,"cut":false,"hidden":false,"merged":[[26,1,26,4],[26,8,26,9],[23,1,23,4],[23,8,23,9],[24,1,24,4],[24,8,24,9],[25,1,25,4],[25,8,25,9],[20,1,20,4],[20,8,20,9],[21,1,21,4],[21,8,21,9],[22,1,22,4],[22,8,22,9],[17,1,17,4],[17,8,17,9],[18,1,18,4],[18,8,18,9],[19,1,19,4],[19,8,19,9],[14,1,14,4],[14,8,14,9],[15,1,15,4],[15,8,15,9],[16,1,16,4],[16,8,16,9],[11,1,11,4],[11,8,11,9],[12,1,12,4],[12,8,12,9],[13,1,13,4],[13,8,13,9],[9,1,9,4],[9,8,9,9],[9,11,9,12],[10,1,10,4],[10,8,10,9],[10,11,10,12],[7,1,7,4],[7,8,7,9],[7,11,7,12],[8,1,8,4],[8,8,8,9],[8,11,8,12],[5,1,5,4],[5,8,5,9],[5,11,5,12],[6,1,6,4],[6,8,6,9],[6,11,6,12],[3,1,3,4],[3,8,3,9],[3,11,3,12],[4,1,4,4],[4,8,4,9],[4,11,4,12],[0,1,1,4],[0,5,0,7],[0,8,1,9],[0,11,0,12],[1,11,1,12],[2,1,2,4],[2,8,2,9],[2,11,2,12]]}
[null,"Zastoji",null,null,null,"vreme trajanja ",null,null,"napomena "]
[null,null,null,null,null,"III smena ","I   smena","II  smena"]
[1,"Prazno polje 1",null,null,null,20,30,40]
[2,"Prazno polje 2"]
[3,"Prazno polje 3"]
[4,"Prazno polje 4"]
[5,"Prazno polje 5"]
[6,"Prazno polje 6",null,null,null,50]
[7,"Prazno polje 7"]
[8,"Prazno polje 8"]
[9,"Prazno polje 9"]
[10,"Prazno polje 10"]
[11,"Prazno polje 11",null,null,null,50]
[12,"Prazno polje 12"]
[13,"Prazno polje 13"]
[14,"Prazno polje 14"]
[15,"Prazno polje 15"]
[16,"Prazno polje 16"]
[17,"Prazno polje 17"]
[18,"Prazno polje 18"]
[19,"Prazno polje 19"]
[20,"Prazno polje 20"]
[21,"Prazno polje 21"]
[22,"Prazno polje 22"]
[23,"Prazno polje 23"]
[24,"Prazno polje 24"]
[null,"Ukupno ",null,null,null,{"$f":"SUM(F3:F26)","v":120},{"$f":"SUM(G3:G26)","v":30},40]

{"sheet":"7","index":6,"n_rows":27,"n_cols":9,"rows_kept":27,"cut":false,"hidden":false,"merged":[[26,1,26,4],[26,8,26,9],[23,1,23,4],[23,8,23,9],[24,1,24,4],[24,8,24,9],[25,1,25,4],[25,8,25,9],[20,1,20,4],[20,8,20,9],[21,1,21,4],[21,8,21,9],[22,1,22,4],[22,8,22,9],[17,1,17,4],[17,8,17,9],[18,1,18,4],[18,8,18,9],[19,1,19,4],[19,8,19,9],[14,1,14,4],[14,8,14,9],[15,1,15,4],[15,8,15,9],[16,1,16,4],[16,8,16,9],[11,1,11,4],[11,8,11,9],[12,1,12,4],[12,8,12,9],[13,1,13,4],[13,8,13,9],[9,1,9,4],[9,8,9,9],[9,11,9,12],[10,1,10,4],[10,8,10,9],[10,11,10,12],[7,1,7,4],[7,8,7,9],[7,11,7,12],[8,1,8,4],[8,8,8,9],[8,11,8,12],[5,1,5,4],[5,8,5,9],[5,11,5,12],[6,1,6,4],[6,8,6,9],[6,11,6,12],[3,1,3,4],[3,8,3,9],[3,11,3,12],[4,1,4,4],[4,8,4,9],[4,11,4,12],[0,1,1,4],[0,5,0,7],[0,8,1,9],[0,11,0,12],[1,11,1,12],[2,1,2,4],[2,8,2,9],[2,11,2,12]]}
[null,"Zastoji",null,null,null,"vreme trajanja ",null,null,"napomena "]
[null,null,null,null,null,"III smena ","I   smena","II  smena"]
[1,"Prazno polje 1",null,null,null,20,30,40]
[2,"Prazno polje 2"]
[3,"Prazno polje 3"]
[4,"Prazno polje 4"]
[5,"Prazno polje 5"]
[6,"Prazno polje 6",null,null,null,50]
[7,"Prazno polje 7"]
[8,"Prazno polje 8"]
[9,"Prazno polje 9"]
[10,"Prazno polje 10"]
[11,"Prazno polje 11",null,null,null,50]
[12,"Prazno polje 12"]
[13,"Prazno polje 13",null,null,null,10]
[14,"Prazno polje 14"]
[15,"Prazno polje 15"]
[16,"Prazno polje 16"]
[17,"Prazno polje 17"]
[18,"Prazno polje 18"]
[19,"Prazno polje 19"]
[20,"Prazno polje 20"]
[21,"Prazno polje 21"]
[22,"Prazno polje 22"]
[23,"Prazno polje 23"]
[24,"Prazno polje 24"]
[null,"Ukupno ",null,null,null,{"$f":"SUM(F3:F26)","v":130},{"$f":"SUM(G3:G26)","v":30},40]

{"sheet":"8","index":7,"n_rows":27,"n_cols":9,"rows_kept":27,"cut":false,"hidden":false,"merged":[[26,1,26,4],[26,8,26,9],[23,1,23,4],[23,8,23,9],[24,1,24,4],[24,8,24,9],[25,1,25,4],[25,8,25,9],[20,1,20,4],[20,8,20,9],[21,1,21,4],[21,8,21,9],[22,1,22,4],[22,8,22,9],[17,1,17,4],[17,8,17,9],[18,1,18,4],[18,8,18,9],[19,1,19,4],[19,8,19,9],[14,1,14,4],[14,8,14,9],[15,1,15,4],[15,8,15,9],[16,1,16,4],[16,8,16,9],[11,1,11,4],[11,8,11,9],[12,1,12,4],[12,8,12,9],[13,1,13,4],[13,8,13,9],[9,1,9,4],[9,8,9,9],[9,11,9,12],[10,1,10,4],[10,8,10,9],[10,11,10,12],[7,1,7,4],[7,8,7,9],[7,11,7,12],[8,1,8,4],[8,8,8,9],[8,11,8,12],[5,1,5,4],[5,8,5,9],[5,11,5,12],[6,1,6,4],[6,8,6,9],[6,11,6,12],[3,1,3,4],[3,8,3,9],[3,11,3,12],[4,1,4,4],[4,8,4,9],[4,11,4,12],[0,1,1,4],[0,5,0,7],[0,8,1,9],[0,11,0,12],[1,11,1,12],[2,1,2,4],[2,8,2,9],[2,11,2,12]]}
[null,"Zastoji",null,null,null,"vreme trajanja ",null,null,"napomena "]
[null,null,null,null,null,"III smena ","I   smena","II  smena"]
[1,"Prazno polje 1",null,null,null,20,30,40]
[2,"Prazno polje 2"]
[3,"Prazno polje 3"]
[4,"Prazno polje 4"]
[5,"Prazno polje 5"]
[6,"Prazno polje 6",null,null,null,50]
[7,"Prazno polje 7"]
[8,"Prazno polje 8"]
[9,"Prazno polje 9"]
[10,"Prazno polje 10"]
[11,"Prazno polje 11",null,null,null,50]
[12,"Prazno polje 12"]
[13,"Prazno polje 13",null,null,null,20]
[14,"Prazno polje 14"]
[15,"Prazno polje 15"]
[16,"Prazno polje 16"]
[17,"Prazno polje 17"]
[18,"Prazno polje 18"]
[19,"Prazno polje 19"]
[20,"Prazno polje 20"]
[21,"Prazno polje 21"]
[22,"Prazno polje 22"]
[23,"Prazno polje 23"]
[24,"Prazno polje 24"]
[null,"Ukupno ",null,null,null,{"$f":"SUM(F3:F26)","v":140},{"$f":"SUM(G3:G26)","v":30},40]

{"sheet":"9","index":8,"n_rows":27,"n_cols":9,"rows_kept":27,"cut":false,"hidden":false,"merged":[[26,1,26,4],[26,8,26,9],[23,1,23,4],[23,8,23,9],[24,1,24,4],[24,8,24,9],[25,1,25,4],[25,8,25,9],[20,1,20,4],[20,8,20,9],[21,1,21,4],[21,8,21,9],[22,1,22,4],[22,8,22,9],[17,1,17,4],[17,8,17,9],[18,1,18,4],[18,8,18,9],[19,1,19,4],[19,8,19,9],[14,1,14,4],[14,8,14,9],[15,1,15,4],[15,8,15,9],[16,1,16,4],[16,8,16,9],[11,1,11,4],[11,8,11,9],[12,1,12,4],[12,8,12,9],[13,1,13,4],[13,8,13,9],[9,1,9,4],[9,8,9,9],[9,11,9,12],[10,1,10,4],[10,8,10,9],[10,11,10,12],[7,1,7,4],[7,8,7,9],[7,11,7,12],[8,1,8,4],[8,8,8,9],[8,11,8,12],[5,1,5,4],[5,8,5,9],[5,11,5,12],[6,1,6,4],[6,8,6,9],[6,11,6,12],[3,1,3,4],[3,8,3,9],[3,11,3,12],[4,1,4,4],[4,8,4,9],[4,11,4,12],[0,1,1,4],[0,5,0,7],[0,8,1,9],[0,11,0,12],[1,11,1,12],[2,1,2,4],[2,8,2,9],[2,11,2,12]]}
[null,"Zastoji",null,null,null,"vreme trajanja ",null,null,"napomena "]
[null,null,null,null,null,"III smena ","I   smena","II  smena"]
[1,"Prazno polje 1",null,null,null,20,30,40]
[2,"Prazno polje 2"]
[3,"Prazno polje 3"]
[4,"Prazno polje 4"]
[5,"Prazno polje 5"]
[6,"Prazno polje 6",null,null,null,50]
[7,"Prazno polje 7"]
[8,"Prazno polje 8"]
[9,"Prazno polje 9"]
[10,"Prazno polje 10"]
[11,"Prazno polje 11",null,null,null,50]
[12,"Prazno polje 12"]
[13,"Prazno polje 13"]
[14,"Prazno polje 14"]
[15,"Prazno polje 15"]
[16,"Prazno polje 16"]
[17,"Prazno polje 17"]
[18,"Prazno polje 18"]
[19,"Prazno polje 19"]
[20,"Prazno polje 20"]
[21,"Prazno polje 21"]
[22,"Prazno polje 22"]
[23,"Prazno polje 23"]
[24,"Prazno polje 24"]
[null,"Ukupno ",null,null,null,{"$f":"SUM(F3:F26)","v":120},{"$f":"SUM(G3:G26)","v":30},40]

{"sheet":"10","index":9,"n_rows":27,"n_cols":9,"rows_kept":27,"cut":false,"hidden":false,"merged":[[26,1,26,4],[26,8,26,9],[23,1,23,4],[23,8,23,9],[24,1,24,4],[24,8,24,9],[25,1,25,4],[25,8,25,9],[20,1,20,4],[20,8,20,9],[21,1,21,4],[21,8,21,9],[22,1,22,4],[22,8,22,9],[17,1,17,4],[17,8,17,9],[18,1,18,4],[18,8,18,9],[19,1,19,4],[19,8,19,9],[14,1,14,4],[14,8,14,9],[15,1,15,4],[15,8,15,9],[16,1,16,4],[16,8,16,9],[11,1,11,4],[11,8,11,9],[12,1,12,4],[12,8,12,9],[13,1,13,4],[13,8,13,9],[9,1,9,4],[9,8,9,9],[9,11,9,12],[10,1,10,4],[10,8,10,9],[10,11,10,12],[7,1,7,4],[7,8,7,9],[7,11,7,12],[8,1,8,4],[8,8,8,9],[8,11,8,12],[5,1,5,4],[5,8,5,9],[5,11,5,12],[6,1,6,4],[6,8,6,9],[6,11,6,12],[3,1,3,4],[3,8,3,9],[3,11,3,12],[4,1,4,4],[4,8,4,9],[4,11,4,12],[0,1,1,4],[0,5,0,7],[0,8,1,9],[0,11,0,12],[1,11,1,12],[2,1,2,4],[2,8,2,9],[2,11,2,12]]}
[null,"Zastoji",null,null,null,"vreme trajanja ",null,null,"napomena "]
[null,null,null,null,null,"III smena ","I   smena","II  smena"]
[1,"Prazno polje 1",null,null,null,20,30,40]
[2,"Prazno polje 2"]
[3,"Prazno polje 3"]
[4,"Prazno polje 4"]
[5,"Prazno polje 5"]
[6,"Prazno polje 6",null,null,null,50]
[7,"Prazno polje 7"]
[8,"Prazno polje 8"]
[9,"Prazno polje 9"]
[10,"Prazno polje 10"]
[11,"Prazno polje 11",null,null,null,50]
[12,"Prazno polje 12"]
[13,"Prazno polje 13"]
[14,"Prazno polje 14"]
[15,"Prazno polje 15"]
[16,"Prazno polje 16"]
[17,"Prazno polje 17"]
[18,"Prazno polje 18"]
[19,"Prazno polje 19"]
[20,"Prazno polje 20"]
[21,"Prazno polje 21"]
[22,"Prazno polje 22"]
[23,"Prazno polje 23"]
[24,"Prazno polje 24"]
[null,"Ukupno ",null,null,null,{"$f":"SUM(F3:F26)","v":120},{"$f":"SUM(G3:G26)","v":30},40]

{"sheet":"11","index":10,"n_rows":27,"n_cols":9,"rows_kept":27,"cut":false,"hidden":false,"merged":[[26,1,26,4],[26,8,26,9],[23,1,23,4],[23,8,23,9],[24,1,24,4],[24,8,24,9],[25,1,25,4],[25,8,25,9],[20,1,20,4],[20,8,20,9],[21,1,21,4],[21,8,21,9],[22,1,22,4],[22,8,22,9],[17,1,17,4],[17,8,17,9],[18,1,18,4],[18,8,18,9],[19,1,19,4],[19,8,19,9],[14,1,14,4],[14,8,14,9],[15,1,15,4],[15,8,15,9],[16,1,16,4],[16,8,16,9],[11,1,11,4],[11,8,11,9],[12,1,12,4],[12,8,12,9],[13,1,13,4],[13,8,13,9],[9,1,9,4],[9,8,9,9],[9,11,9,12],[10,1,10,4],[10,8,10,9],[10,11,10,12],[7,1,7,4],[7,8,7,9],[7,11,7,12],[8,1,8,4],[8,8,8,9],[8,11,8,12],[5,1,5,4],[5,8,5,9],[5,11,5,12],[6,1,6,4],[6,8,6,9],[6,11,6,12],[3,1,3,4],[3,8,3,9],[3,11,3,12],[4,1,4,4],[4,8,4,9],[4,11,4,12],[0,1,1,4],[0,5,0,7],[0,8,1,9],[0,11,0,12],[1,11,1,12],[2,1,2,4],[2,8,2,9],[2,11,2,12]]}
[null,"Zastoji",null,null,null,"vreme trajanja ",null,null,"napomena "]
[null,null,null,null,null,"III smena ","I   smena","II  smena"]
[1,"Prazno polje 1",null,null,null,20,30,40]
[2,"Prazno polje 2"]
[3,"Prazno polje 3"]
[4,"Prazno polje 4"]
[5,"Prazno polje 5"]
[6,"Prazno polje 6",null,null,null,50]
[7,"Prazno polje 7"]
[8,"Prazno polje 8"]
[9,"Prazno polje 9"]
[10,"Prazno polje 10"]
[11,"Prazno polje 11",null,null,null,50]
[12,"Prazno polje 12"]
[13,"Prazno polje 13"]
[14,"Prazno polje 14"]
[15,"Prazno polje 15"]
[16,"Prazno polje 16"]
[17,"Prazno polje 17"]
[18,"Prazno polje 18"]
[19,"Prazno polje 19"]
[20,"Prazno polje 20"]
[21,"Prazno polje 21"]
[22,"Prazno polje 22"]
[23,"Prazno polje 23"]
[24,"Prazno polje 24"]
[null,"Ukupno ",null,null,null,{"$f":"SUM(F3:F26)","v":120},{"$f":"SUM(G3:G26)","v":30},40]

{"sheet":"12","index":11,"n_rows":27,"n_cols":9,"rows_kept":27,"cut":false,"hidden":false,"merged":[[26,1,26,4],[26,8,26,9],[23,1,23,4],[23,8,23,9],[24,1,24,4],[24,8,24,9],[25,1,25,4],[25,8,25,9],[20,1,20,4],[20,8,20,9],[21,1,21,4],[21,8,21,9],[22,1,22,4],[22,8,22,9],[17,1,17,4],[17,8,17,9],[18,1,18,4],[18,8,18,9],[19,1,19,4],[19,8,19,9],[14,1,14,4],[14,8,14,9],[15,1,15,4],[15,8,15,9],[16,1,16,4],[16,8,16,9],[11,1,11,4],[11,8,11,9],[12,1,12,4],[12,8,12,9],[13,1,13,4],[13,8,13,9],[9,1,9,4],[9,8,9,9],[9,11,9,12],[10,1,10,4],[10,8,10,9],[10,11,10,12],[7,1,7,4],[7,8,7,9],[7,11,7,12],[8,1,8,4],[8,8,8,9],[8,11,8,12],[5,1,5,4],[5,8,5,9],[5,11,5,12],[6,1,6,4],[6,8,6,9],[6,11,6,12],[3,1,3,4],[3,8,3,9],[3,11,3,12],[4,1,4,4],[4,8,4,9],[4,11,4,12],[0,1,1,4],[0,5,0,7],[0,8,1,9],[0,11,0,12],[1,11,1,12],[2,1,2,4],[2,8,2,9],[2,11,2,12]]}
[null,"Zastoji",null,null,null,"vreme trajanja ",null,null,"napomena "]
[null,null,null,null,null,"III smena ","I   smena","II  smena"]
[1,"Prazno polje 1",null,null,null,20,30,40]
[2,"Prazno polje 2"]
[3,"Prazno polje 3"]
[4,"Prazno polje 4"]
[5,"Prazno polje 5"]
[6,"Prazno polje 6",null,null,null,50]
[7,"Prazno polje 7"]
[8,"Prazno polje 8"]
[9,"Prazno polje 9"]
[10,"Prazno polje 10"]
[11,"Prazno polje 11",null,null,null,50]
[12,"Prazno polje 12"]
[13,"Prazno polje 13"]
[14,"Prazno polje 14"]
[15,"Prazno polje 15"]
[16,"Prazno polje 16"]
[17,"Prazno polje 17"]
[18,"Prazno polje 18"]
[19,"Prazno polje 19"]
[20,"Prazno polje 20"]
[21,"Prazno polje 21"]
[22,"Prazno polje 22"]
[23,"Prazno polje 23"]
[24,"Prazno polje 24"]
[null,"Ukupno ",null,null,null,{"$f":"SUM(F3:F26)","v":120},{"$f":"SUM(G3:G26)","v":30},40]

{"sheet":"13","index":12,"n_rows":27,"n_cols":9,"rows_kept":27,"cut":false,"hidden":false,"merged":[[26,1,26,4],[26,8,26,9],[23,1,23,4],[23,8,23,9],[24,1,24,4],[24,8,24,9],[25,1,25,4],[25,8,25,9],[20,1,20,4],[20,8,20,9],[21,1,21,4],[21,8,21,9],[22,1,22,4],[22,8,22,9],[17,1,17,4],[17,8,17,9],[18,1,18,4],[18,8,18,9],[19,1,19,4],[19,8,19,9],[14,1,14,4],[14,8,14,9],[15,1,15,4],[15,8,15,9],[16,1,16,4],[16,8,16,9],[11,1,11,4],[11,8,11,9],[12,1,12,4],[12,8,12,9],[13,1,13,4],[13,8,13,9],[9,1,9,4],[9,8,9,9],[9,11,9,12],[10,1,10,4],[10,8,10,9],[10,11,10,12],[7,1,7,4],[7,8,7,9],[7,11,7,12],[8,1,8,4],[8,8,8,9],[8,11,8,12],[5,1,5,4],[5,8,5,9],[5,11,5,12],[6,1,6,4],[6,8,6,9],[6,11,6,12],[3,1,3,4],[3,8,3,9],[3,11,3,12],[4,1,4,4],[4,8,4,9],[4,11,4,12],[0,1,1,4],[0,5,0,7],[0,8,1,9],[0,11,0,12],[1,11,1,12],[2,1,2,4],[2,8,2,9],[2,11,2,12]]}
[null,"Zastoji",null,null,null,"vreme trajanja ",null,null,"napomena "]
[null,null,null,null,null,"III smena ","I   smena","II  smena"]
[1,"Prazno polje 1",null,null,null,20,30,40]
[2,"Prazno polje 2"]
[3,"Prazno polje 3"]
[4,"Prazno polje 4"]
[5,"Prazno polje 5"]
[6,"Prazno polje 6",null,null,null,50]
[7,"Prazno polje 7"]
[8,"Prazno polje 8"]
[9,"Prazno polje 9"]
[10,"Prazno polje 10"]
[11,"Prazno polje 11",null,null,null,50]
[12,"Prazno polje 12"]
[13,"Prazno polje 13"]
[14,"Prazno polje 14"]
[15,"Prazno polje 15"]
[16,"Prazno polje 16"]
[17,"Prazno polje 17"]
[18,"Prazno polje 18"]
[19,"Prazno polje 19"]
[20,"Prazno polje 20"]
[21,"Prazno polje 21"]
[22,"Prazno polje 22"]
[23,"Prazno polje 23"]
[24,"Prazno polje 24"]
[null,"Ukupno ",null,null,null,{"$f":"SUM(F3:F26)","v":120},{"$f":"SUM(G3:G26)","v":30},40]

{"sheet":"14","index":13,"n_rows":27,"n_cols":9,"rows_kept":27,"cut":false,"hidden":false,"merged":[[26,1,26,4],[26,8,26,9],[23,1,23,4],[23,8,23,9],[24,1,24,4],[24,8,24,9],[25,1,25,4],[25,8,25,9],[20,1,20,4],[20,8,20,9],[21,1,21,4],[21,8,21,9],[22,1,22,4],[22,8,22,9],[17,1,17,4],[17,8,17,9],[18,1,18,4],[18,8,18,9],[19,1,19,4],[19,8,19,9],[14,1,14,4],[14,8,14,9],[15,1,15,4],[15,8,15,9],[16,1,16,4],[16,8,16,9],[11,1,11,4],[11,8,11,9],[12,1,12,4],[12,8,12,9],[13,1,13,4],[13,8,13,9],[9,1,9,4],[9,8,9,9],[9,11,9,12],[10,1,10,4],[10,8,10,9],[10,11,10,12],[7,1,7,4],[7,8,7,9],[7,11,7,12],[8,1,8,4],[8,8,8,9],[8,11,8,12],[5,1,5,4],[5,8,5,9],[5,11,5,12],[6,1,6,4],[6,8,6,9],[6,11,6,12],[3,1,3,4],[3,8,3,9],[3,11,3,12],[4,1,4,4],[4,8,4,9],[4,11,4,12],[0,1,1,4],[0,5,0,7],[0,8,1,9],[0,11,0,12],[1,11,1,12],[2,1,2,4],[2,8,2,9],[2,11,2,12]]}
[null,"Zastoji",null,null,null,"vreme trajanja ",null,null,"napomena "]
[null,null,null,null,null,"III smena ","I   smena","II  smena"]
[1,"Prazno polje 1",null,null,null,20,30,40]
[2,"Prazno polje 2"]
[3,"Prazno polje 3"]
[4,"Prazno polje 4"]
[5,"Prazno polje 5"]
[6,"Prazno polje 6",null,null,null,50]
[7,"Prazno polje 7"]
[8,"Prazno polje 8"]
[9,"Prazno polje 9"]
[10,"Prazno polje 10"]
[11,"Prazno polje 11",null,null,null,50]
[12,"Prazno polje 12"]
[13,"Prazno polje 13"]
[14,"Prazno polje 14"]
[15,"Prazno polje 15"]
[16,"Prazno polje 16"]
[17,"Prazno polje 17"]
[18,"Prazno polje 18"]
[19,"Prazno polje 19"]
[20,"Prazno polje 20"]
[21,"Prazno polje 21"]
[22,"Prazno polje 22"]
[23,"Prazno polje 23"]
[24,"Prazno polje 24"]
[null,"Ukupno ",null,null,null,{"$f":"SUM(F3:F26)","v":120},{"$f":"SUM(G3:G26)","v":30},40]

{"sheet":"15","index":14,"n_rows":27,"n_cols":9,"rows_kept":27,"cut":false,"hidden":false,"merged":[[26,1,26,4],[26,8,26,9],[23,1,23,4],[23,8,23,9],[24,1,24,4],[24,8,24,9],[25,1,25,4],[25,8,25,9],[20,1,20,4],[20,8,20,9],[21,1,21,4],[21,8,21,9],[22,1,22,4],[22,8,22,9],[17,1,17,4],[17,8,17,9],[18,1,18,4],[18,8,18,9],[19,1,19,4],[19,8,19,9],[14,1,14,4],[14,8,14,9],[15,1,15,4],[15,8,15,9],[16,1,16,4],[16,8,16,9],[11,1,11,4],[11,8,11,9],[12,1,12,4],[12,8,12,9],[13,1,13,4],[13,8,13,9],[9,1,9,4],[9,8,9,9],[9,11,9,12],[10,1,10,4],[10,8,10,9],[10,11,10,12],[7,1,7,4],[7,8,7,9],[7,11,7,12],[8,1,8,4],[8,8,8,9],[8,11,8,12],[5,1,5,4],[5,8,5,9],[5,11,5,12],[6,1,6,4],[6,8,6,9],[6,11,6,12],[3,1,3,4],[3,8,3,9],[3,11,3,12],[4,1,4,4],[4,8,4,9],[4,11,4,12],[0,1,1,4],[0,5,0,7],[0,8,1,9],[0,11,0,12],[1,11,1,12],[2,1,2,4],[2,8,2,9],[2,11,2,12]]}
[null,"Zastoji",null,null,null,"vreme trajanja ",null,null,"napomena "]
[null,null,null,null,null,"III smena ","I   smena","II  smena"]
[1,"Prazno polje 1",null,null,null,20,30,40]
[2,"Prazno polje 2"]
[3,"Prazno polje 3"]
[4,"Prazno polje 4"]
[5,"Prazno polje 5"]
[6,"Prazno polje 6",null,null,null,50]
[7,"Prazno polje 7"]
[8,"Prazno polje 8"]
[9,"Prazno polje 9"]
[10,"Prazno polje 10"]
[11,"Prazno polje 11",null,null,null,50]
[12,"Prazno polje 12"]
[13,"Prazno polje 13"]
[14,"Prazno polje 14"]
[15,"Prazno polje 15"]
[16,"Prazno polje 16"]
[17,"Prazno polje 17"]
[18,"Prazno polje 18"]
[19,"Prazno polje 19"]
[20,"Prazno polje 20"]
[21,"Prazno polje 21"]
[22,"Prazno polje 22"]
[23,"Prazno polje 23"]
[24,"Prazno polje 24"]
[null,"Ukupno ",null,null,null,{"$f":"SUM(F3:F26)","v":120},{"$f":"SUM(G3:G26)","v":30},40]

{"sheet":"16","index":15,"n_rows":27,"n_cols":9,"rows_kept":27,"cut":false,"hidden":false,"merged":[[26,1,26,4],[26,8,26,9],[23,1,23,4],[23,8,23,9],[24,1,24,4],[24,8,24,9],[25,1,25,4],[25,8,25,9],[20,1,20,4],[20,8,20,9],[21,1,21,4],[21,8,21,9],[22,1,22,4],[22,8,22,9],[17,1,17,4],[17,8,17,9],[18,1,18,4],[18,8,18,9],[19,1,19,4],[19,8,19,9],[14,1,14,4],[14,8,14,9],[15,1,15,4],[15,8,15,9],[16,1,16,4],[16,8,16,9],[11,1,11,4],[11,8,11,9],[12,1,12,4],[12,8,12,9],[13,1,13,4],[13,8,13,9],[9,1,9,4],[9,8,9,9],[9,11,9,12],[10,1,10,4],[10,8,10,9],[10,11,10,12],[7,1,7,4],[7,8,7,9],[7,11,7,12],[8,1,8,4],[8,8,8,9],[8,11,8,12],[5,1,5,4],[5,8,5,9],[5,11,5,12],[6,1,6,4],[6,8,6,9],[6,11,6,12],[3,1,3,4],[3,8,3,9],[3,11,3,12],[4,1,4,4],[4,8,4,9],[4,11,4,12],[0,1,1,4],[0,5,0,7],[0,8,1,9],[0,11,0,12],[1,11,1,12],[2,1,2,4],[2,8,2,9],[2,11,2,12]]}
[null,"Zastoji",null,null,null,"vreme trajanja ",null,null,"napomena "]
[null,null,null,null,null,"III smena ","I   smena","II  smena"]
[1,"Prazno polje 1",null,null,null,20,30,40]
[2,"Prazno polje 2"]
[3,"Prazno polje 3"]
[4,"Prazno polje 4"]
[5,"Prazno polje 5"]
[6,"Prazno polje 6",null,null,null,50]
[7,"Prazno polje 7"]
[8,"Prazno polje 8"]
[9,"Prazno polje 9"]
[10,"Prazno polje 10"]
[11,"Prazno polje 11",null,null,null,50]
[12,"Prazno polje 12"]
[13,"Prazno polje 13"]
[14,"Prazno polje 14"]
[15,"Prazno polje 15"]
[16,"Prazno polje 16"]
[17,"Prazno polje 17"]
[18,"Prazno polje 18"]
[19,"Prazno polje 19"]
[20,"Prazno polje 20"]
[21,"Prazno polje 21"]
[22,"Prazno polje 22"]
[23,"Prazno polje 23"]
[24,"Prazno polje 24"]
[null,"Ukupno ",null,null,null,{"$f":"SUM(F3:F26)","v":120},{"$f":"SUM(G3:G26)","v":30},40]

{"sheet":"17","index":16,"n_rows":27,"n_cols":9,"rows_kept":27,"cut":false,"hidden":false,"merged":[[26,1,26,4],[26,8,26,9],[23,1,23,4],[23,8,23,9],[24,1,24,4],[24,8,24,9],[25,1,25,4],[25,8,25,9],[20,1,20,4],[20,8,20,9],[21,1,21,4],[21,8,21,9],[22,1,22,4],[22,8,22,9],[17,1,17,4],[17,8,17,9],[18,1,18,4],[18,8,18,9],[19,1,19,4],[19,8,19,9],[14,1,14,4],[14,8,14,9],[15,1,15,4],[15,8,15,9],[16,1,16,4],[16,8,16,9],[11,1,11,4],[11,8,11,9],[12,1,12,4],[12,8,12,9],[13,1,13,4],[13,8,13,9],[9,1,9,4],[9,8,9,9],[9,11,9,12],[10,1,10,4],[10,8,10,9],[10,11,10,12],[7,1,7,4],[7,8,7,9],[7,11,7,12],[8,1,8,4],[8,8,8,9],[8,11,8,12],[5,1,5,4],[5,8,5,9],[5,11,5,12],[6,1,6,4],[6,8,6,9],[6,11,6,12],[3,1,3,4],[3,8,3,9],[3,11,3,12],[4,1,4,4],[4,8,4,9],[4,11,4,12],[0,1,1,4],[0,5,0,7],[0,8,1,9],[0,11,0,12],[1,11,1,12],[2,1,2,4],[2,8,2,9],[2,11,2,12]]}
[null,"Zastoji",null,null,null,"vreme trajanja ",null,null,"napomena "]
[null,null,null,null,null,"III smena ","I   smena","II  smena"]
[1,"Prazno polje 1",null,null,null,20,30,40]
[2,"Prazno polje 2"]
[3,"Prazno polje 3"]
[4,"Prazno polje 4"]
[5,"Prazno polje 5"]
[6,"Prazno polje 6",null,null,null,50]
[7,"Prazno polje 7"]
[8,"Prazno polje 8"]
[9,"Prazno polje 9"]
[10,"Prazno polje 10"]
[11,"Prazno polje 11",null,null,null,50]
[12,"Prazno polje 12"]
[13,"Prazno polje 13"]
[14,"Prazno polje 14"]
[15,"Prazno polje 15"]
[16,"Prazno polje 16"]
[17,"Prazno polje 17"]
[18,"Prazno polje 18"]
[19,"Prazno polje 19"]
[20,"Prazno polje 20"]
[21,"Prazno polje 21"]
[22,"Prazno polje 22"]
[23,"Prazno polje 23"]
[24,"Prazno polje 24"]
[null,"Ukupno ",null,null,null,{"$f":"SUM(F3:F26)","v":120},{"$f":"SUM(G3:G26)","v":30},40]

{"sheet":"18","index":17,"n_rows":27,"n_cols":9,"rows_kept":27,"cut":false,"hidden":false,"merged":[[26,1,26,4],[26,8,26,9],[23,1,23,4],[23,8,23,9],[24,1,24,4],[24,8,24,9],[25,1,25,4],[25,8,25,9],[20,1,20,4],[20,8,20,9],[21,1,21,4],[21,8,21,9],[22,1,22,4],[22,8,22,9],[17,1,17,4],[17,8,17,9],[18,1,18,4],[18,8,18,9],[19,1,19,4],[19,8,19,9],[14,1,14,4],[14,8,14,9],[15,1,15,4],[15,8,15,9],[16,1,16,4],[16,8,16,9],[11,1,11,4],[11,8,11,9],[12,1,12,4],[12,8,12,9],[13,1,13,4],[13,8,13,9],[9,1,9,4],[9,8,9,9],[9,11,9,12],[10,1,10,4],[10,8,10,9],[10,11,10,12],[7,1,7,4],[7,8,7,9],[7,11,7,12],[8,1,8,4],[8,8,8,9],[8,11,8,12],[5,1,5,4],[5,8,5,9],[5,11,5,12],[6,1,6,4],[6,8,6,9],[6,11,6,12],[3,1,3,4],[3,8,3,9],[3,11,3,12],[4,1,4,4],[4,8,4,9],[4,11,4,12],[0,1,1,4],[0,5,0,7],[0,8,1,9],[0,11,0,12],[1,11,1,12],[2,1,2,4],[2,8,2,9],[2,11,2,12]]}
[null,"Zastoji",null,null,null,"vreme trajanja ",null,null,"napomena "]
[null,null,null,null,null,"III smena ","I   smena","II  smena"]
[1,"Prazno polje 1",null,null,null,20,30,40]
[2,"Prazno polje 2"]
[3,"Prazno polje 3"]
[4,"Prazno polje 4"]
[5,"Prazno polje 5"]
[6,"Prazno polje 6",null,null,null,50]
[7,"Prazno polje 7"]
[8,"Prazno polje 8"]
[9,"Prazno polje 9"]
[10,"Prazno polje 10"]
[11,"Prazno polje 11",null,null,null,50]
[12,"Prazno polje 12"]
[13,"Prazno polje 13"]
[14,"Prazno polje 14"]
[15,"Prazno polje 15"]
[16,"Prazno polje 16"]
[17,"Prazno polje 17"]
[18,"Prazno polje 18"]
[19,"Prazno polje 19"]
[20,"Prazno polje 20"]
[21,"Prazno polje 21"]
[22,"Prazno polje 22"]
[23,"Prazno polje 23"]
[24,"Prazno polje 24"]
[null,"Ukupno ",null,null,null,{"$f":"SUM(F3:F26)","v":120},{"$f":"SUM(G3:G26)","v":30},40]

{"sheet":"19","index":18,"n_rows":27,"n_cols":9,"rows_kept":27,"cut":false,"hidden":false,"merged":[[26,1,26,4],[26,8,26,9],[23,1,23,4],[23,8,23,9],[24,1,24,4],[24,8,24,9],[25,1,25,4],[25,8,25,9],[20,1,20,4],[20,8,20,9],[21,1,21,4],[21,8,21,9],[22,1,22,4],[22,8,22,9],[17,1,17,4],[17,8,17,9],[18,1,18,4],[18,8,18,9],[19,1,19,4],[19,8,19,9],[14,1,14,4],[14,8,14,9],[15,1,15,4],[15,8,15,9],[16,1,16,4],[16,8,16,9],[11,1,11,4],[11,8,11,9],[12,1,12,4],[12,8,12,9],[13,1,13,4],[13,8,13,9],[9,1,9,4],[9,8,9,9],[9,11,9,12],[10,1,10,4],[10,8,10,9],[10,11,10,12],[7,1,7,4],[7,8,7,9],[7,11,7,12],[8,1,8,4],[8,8,8,9],[8,11,8,12],[5,1,5,4],[5,8,5,9],[5,11,5,12],[6,1,6,4],[6,8,6,9],[6,11,6,12],[3,1,3,4],[3,8,3,9],[3,11,3,12],[4,1,4,4],[4,8,4,9],[4,11,4,12],[0,1,1,4],[0,5,0,7],[0,8,1,9],[0,11,0,12],[1,11,1,12],[2,1,2,4],[2,8,2,9],[2,11,2,12]]}
[null,"Zastoji",null,null,null,"vreme trajanja ",null,null,"napomena "]
[null,null,null,null,null,"III smena ","I   smena","II  smena"]
[1,"Prazno polje 1",null,null,null,20,30,40]
[2,"Prazno polje 2"]
[3,"Prazno polje 3"]
[4,"Prazno polje 4"]
[5,"Prazno polje 5"]
[6,"Prazno polje 6",null,null,null,50]
[7,"Prazno polje 7"]
[8,"Prazno polje 8"]
[9,"Prazno polje 9"]
[10,"Prazno polje 10"]
[11,"Prazno polje 11",null,null,null,50]
[12,"Prazno polje 12"]
[13,"Prazno polje 13"]
[14,"Prazno polje 14"]
[15,"Prazno polje 15"]
[16,"Prazno polje 16"]
[17,"Prazno polje 17"]
[18,"Prazno polje 18"]
[19,"Prazno polje 19"]
[20,"Prazno polje 20"]
[21,"Prazno polje 21"]
[22,"Prazno polje 22"]
[23,"Prazno polje 23"]
[24,"Prazno polje 24"]
[null,"Ukupno ",null,null,null,{"$f":"SUM(F3:F26)","v":120},{"$f":"SUM(G3:G26)","v":30},40]

{"sheet":"20","index":19,"n_rows":27,"n_cols":9,"rows_kept":27,"cut":false,"hidden":false,"merged":[[26,1,26,4],[26,8,26,9],[23,1,23,4],[23,8,23,9],[24,1,24,4],[24,8,24,9],[25,1,25,4],[25,8,25,9],[20,1,20,4],[20,8,20,9],[21,1,21,4],[21,8,21,9],[22,1,22,4],[22,8,22,9],[17,1,17,4],[17,8,17,9],[18,1,18,4],[18,8,18,9],[19,1,19,4],[19,8,19,9],[14,1,14,4],[14,8,14,9],[15,1,15,4],[15,8,15,9],[16,1,16,4],[16,8,16,9],[11,1,11,4],[11,8,11,9],[12,1,12,4],[12,8,12,9],[13,1,13,4],[13,8,13,9],[9,1,9,4],[9,8,9,9],[9,11,9,12],[10,1,10,4],[10,8,10,9],[10,11,10,12],[7,1,7,4],[7,8,7,9],[7,11,7,12],[8,1,8,4],[8,8,8,9],[8,11,8,12],[5,1,5,4],[5,8,5,9],[5,11,5,12],[6,1,6,4],[6,8,6,9],[6,11,6,12],[3,1,3,4],[3,8,3,9],[3,11,3,12],[4,1,4,4],[4,8,4,9],[4,11,4,12],[0,1,1,4],[0,5,0,7],[0,8,1,9],[0,11,0,12],[1,11,1,12],[2,1,2,4],[2,8,2,9],[2,11,2,12]]}
[null,"Zastoji",null,null,null,"vreme trajanja ",null,null,"napomena "]
[null,null,null,null,null,"III smena ","I   smena","II  smena"]
[1,"Prazno polje 1",null,null,null,20,30,40]
[2,"Prazno polje 2"]
[3,"Prazno polje 3"]
[4,"Prazno polje 4"]
[5,"Prazno polje 5"]
[6,"Prazno polje 6",null,null,null,50]
[7,"Prazno polje 7"]
[8,"Prazno polje 8"]
[9,"Prazno polje 9"]
[10,"Prazno polje 10"]
[11,"Prazno polje 11",null,null,null,50]
[12,"Prazno polje 12"]
[13,"Prazno polje 13"]
[14,"Prazno polje 14"]
[15,"Prazno polje 15"]
[16,"Prazno polje 16"]
[17,"Prazno polje 17"]
[18,"Prazno polje 18"]
[19,"Prazno polje 19"]
[20,"Prazno polje 20"]
[21,"Prazno polje 21"]
[22,"Prazno polje 22"]
[23,"Prazno polje 23"]
[24,"Prazno polje 24"]
[null,"Ukupno ",null,null,null,{"$f":"SUM(F3:F26)","v":120},{"$f":"SUM(G3:G26)","v":30},40]

{"sheet":"21","index":20,"n_rows":27,"n_cols":9,"rows_kept":27,"cut":false,"hidden":false,"merged":[[26,1,26,4],[26,8,26,9],[23,1,23,4],[23,8,23,9],[24,1,24,4],[24,8,24,9],[25,1,25,4],[25,8,25,9],[20,1,20,4],[20,8,20,9],[21,1,21,4],[21,8,21,9],[22,1,22,4],[22,8,22,9],[17,1,17,4],[17,8,17,9],[18,1,18,4],[18,8,18,9],[19,1,19,4],[19,8,19,9],[14,1,14,4],[14,8,14,9],[15,1,15,4],[15,8,15,9],[16,1,16,4],[16,8,16,9],[11,1,11,4],[11,8,11,9],[12,1,12,4],[12,8,12,9],[13,1,13,4],[13,8,13,9],[9,1,9,4],[9,8,9,9],[9,11,9,12],[10,1,10,4],[10,8,10,9],[10,11,10,12],[7,1,7,4],[7,8,7,9],[7,11,7,12],[8,1,8,4],[8,8,8,9],[8,11,8,12],[5,1,5,4],[5,8,5,9],[5,11,5,12],[6,1,6,4],[6,8,6,9],[6,11,6,12],[3,1,3,4],[3,8,3,9],[3,11,3,12],[4,1,4,4],[4,8,4,9],[4,11,4,12],[0,1,1,4],[0,5,0,7],[0,8,1,9],[0,11,0,12],[1,11,1,12],[2,1,2,4],[2,8,2,9],[2,11,2,12]]}
[null,"Zastoji",null,null,null,"vreme trajanja ",null,null,"napomena "]
[null,null,null,null,null,"III smena ","I   smena","II  smena"]
[1,"Prazno polje 1",null,null,null,20,30,40]
[2,"Prazno polje 2"]
[3,"Prazno polje 3"]
[4,"Prazno polje 4"]
[5,"Prazno polje 5"]
[6,"Prazno polje 6",null,null,null,50]
[7,"Prazno polje 7"]
[8,"Prazno polje 8"]
[9,"Prazno polje 9"]
[10,"Prazno polje 10"]
[11,"Prazno polje 11",null,null,null,50]
[12,"Prazno polje 12"]
[13,"Prazno polje 13"]
[14,"Prazno polje 14"]
[15,"Prazno polje 15"]
[16,"Prazno polje 16"]
[17,"Prazno polje 17"]
[18,"Prazno polje 18"]
[19,"Prazno polje 19"]
[20,"Prazno polje 20"]
[21,"Prazno polje 21"]
[22,"Prazno polje 22"]
[23,"Prazno polje 23"]
[24,"Prazno polje 24"]
[null,"Ukupno ",null,null,null,{"$f":"SUM(F3:F26)","v":120},{"$f":"SUM(G3:G26)","v":30},40]

{"sheet":"22","index":21,"n_rows":27,"n_cols":9,"rows_kept":27,"cut":false,"hidden":false,"merged":[[26,1,26,4],[26,8,26,9],[23,1,23,4],[23,8,23,9],[24,1,24,4],[24,8,24,9],[25,1,25,4],[25,8,25,9],[20,1,20,4],[20,8,20,9],[21,1,21,4],[21,8,21,9],[22,1,22,4],[22,8,22,9],[17,1,17,4],[17,8,17,9],[18,1,18,4],[18,8,18,9],[19,1,19,4],[19,8,19,9],[14,1,14,4],[14,8,14,9],[15,1,15,4],[15,8,15,9],[16,1,16,4],[16,8,16,9],[11,1,11,4],[11,8,11,9],[12,1,12,4],[12,8,12,9],[13,1,13,4],[13,8,13,9],[9,1,9,4],[9,8,9,9],[9,11,9,12],[10,1,10,4],[10,8,10,9],[10,11,10,12],[7,1,7,4],[7,8,7,9],[7,11,7,12],[8,1,8,4],[8,8,8,9],[8,11,8,12],[5,1,5,4],[5,8,5,9],[5,11,5,12],[6,1,6,4],[6,8,6,9],[6,11,6,12],[3,1,3,4],[3,8,3,9],[3,11,3,12],[4,1,4,4],[4,8,4,9],[4,11,4,12],[0,1,1,4],[0,5,0,7],[0,8,1,9],[0,11,0,12],[1,11,1,12],[2,1,2,4],[2,8,2,9],[2,11,2,12]]}
[null,"Zastoji",null,null,null,"vreme trajanja ",null,null,"napomena "]
[null,null,null,null,null,"III smena ","I   smena","II  smena"]
[1,"Prazno polje 1",null,null,null,20,30,40]
[2,"Prazno polje 2"]
[3,"Prazno polje 3"]
[4,"Prazno polje 4"]
[5,"Prazno polje 5"]
[6,"Prazno polje 6",null,null,null,50]
[7,"Prazno polje 7"]
[8,"Prazno polje 8"]
[9,"Prazno polje 9"]
[10,"Prazno polje 10"]
[11,"Prazno polje 11",null,null,null,50]
[12,"Prazno polje 12"]
[13,"Prazno polje 13"]
[14,"Prazno polje 14"]
[15,"Prazno polje 15"]
[16,"Prazno polje 16"]
[17,"Prazno polje 17"]
[18,"Prazno polje 18"]
[19,"Prazno polje 19"]
[20,"Prazno polje 20"]
[21,"Prazno polje 21"]
[22,"Prazno polje 22"]
[23,"Prazno polje 23"]
[24,"Prazno polje 24"]
[null,"Ukupno ",null,null,null,{"$f":"SUM(F3:F26)","v":120},{"$f":"SUM(G3:G26)","v":30},40]

{"sheet":"23","index":22,"n_rows":27,"n_cols":9,"rows_kept":27,"cut":false,"hidden":false,"merged":[[26,1,26,4],[26,8,26,9],[23,1,23,4],[23,8,23,9],[24,1,24,4],[24,8,24,9],[25,1,25,4],[25,8,25,9],[20,1,20,4],[20,8,20,9],[21,1,21,4],[21,8,21,9],[22,1,22,4],[22,8,22,9],[17,1,17,4],[17,8,17,9],[18,1,18,4],[18,8,18,9],[19,1,19,4],[19,8,19,9],[14,1,14,4],[14,8,14,9],[15,1,15,4],[15,8,15,9],[16,1,16,4],[16,8,16,9],[11,1,11,4],[11,8,11,9],[12,1,12,4],[12,8,12,9],[13,1,13,4],[13,8,13,9],[9,1,9,4],[9,8,9,9],[9,11,9,12],[10,1,10,4],[10,8,10,9],[10,11,10,12],[7,1,7,4],[7,8,7,9],[7,11,7,12],[8,1,8,4],[8,8,8,9],[8,11,8,12],[5,1,5,4],[5,8,5,9],[5,11,5,12],[6,1,6,4],[6,8,6,9],[6,11,6,12],[3,1,3,4],[3,8,3,9],[3,11,3,12],[4,1,4,4],[4,8,4,9],[4,11,4,12],[0,1,1,4],[0,5,0,7],[0,8,1,9],[0,11,0,12],[1,11,1,12],[2,1,2,4],[2,8,2,9],[2,11,2,12]]}
[null,"Zastoji",null,null,null,"vreme trajanja ",null,null,"napomena "]
[null,null,null,null,null,"III smena ","I   smena","II  smena"]
[1,"Prazno polje 1",null,null,null,20,30,40]
[2,"Prazno polje 2"]
[3,"Prazno polje 3"]
[4,"Prazno polje 4"]
[5,"Prazno polje 5"]
[6,"Prazno polje 6",null,null,null,50]
[7,"Prazno polje 7"]
[8,"Prazno polje 8"]
[9,"Prazno polje 9"]
[10,"Prazno polje 10"]
[11,"Prazno polje 11",null,null,null,50]
[12,"Prazno polje 12"]
[13,"Prazno polje 13"]
[14,"Prazno polje 14"]
[15,"Prazno polje 15"]
[16,"Prazno polje 16"]
[17,"Prazno polje 17"]
[18,"Prazno polje 18"]
[19,"Prazno polje 19"]
[20,"Prazno polje 20"]
[21,"Prazno polje 21"]
[22,"Prazno polje 22"]
[23,"Prazno polje 23"]
[24,"Prazno polje 24"]
[null,"Ukupno ",null,null,null,{"$f":"SUM(F3:F26)","v":120},{"$f":"SUM(G3:G26)","v":30},40]

{"sheet":"24","index":23,"n_rows":27,"n_cols":9,"rows_kept":27,"cut":false,"hidden":false,"merged":[[26,1,26,4],[26,8,26,9],[23,1,23,4],[23,8,23,9],[24,1,24,4],[24,8,24,9],[25,1,25,4],[25,8,25,9],[20,1,20,4],[20,8,20,9],[21,1,21,4],[21,8,21,9],[22,1,22,4],[22,8,22,9],[17,1,17,4],[17,8,17,9],[18,1,18,4],[18,8,18,9],[19,1,19,4],[19,8,19,9],[14,1,14,4],[14,8,14,9],[15,1,15,4],[15,8,15,9],[16,1,16,4],[16,8,16,9],[11,1,11,4],[11,8,11,9],[12,1,12,4],[12,8,12,9],[13,1,13,4],[13,8,13,9],[9,1,9,4],[9,8,9,9],[9,11,9,12],[10,1,10,4],[10,8,10,9],[10,11,10,12],[7,1,7,4],[7,8,7,9],[7,11,7,12],[8,1,8,4],[8,8,8,9],[8,11,8,12],[5,1,5,4],[5,8,5,9],[5,11,5,12],[6,1,6,4],[6,8,6,9],[6,11,6,12],[3,1,3,4],[3,8,3,9],[3,11,3,12],[4,1,4,4],[4,8,4,9],[4,11,4,12],[0,1,1,4],[0,5,0,7],[0,8,1,9],[0,11,0,12],[1,11,1,12],[2,1,2,4],[2,8,2,9],[2,11,2,12]]}
[null,"Zastoji",null,null,null,"vreme trajanja ",null,null,"napomena "]
[null,null,null,null,null,"III smena ","I   smena","II  smena"]
[1,"Prazno polje 1",null,null,null,20,30,40]
[2,"Prazno polje 2"]
[3,"Prazno polje 3"]
[4,"Prazno polje 4"]
[5,"Prazno polje 5"]
[6,"Prazno polje 6",null,null,null,50]
[7,"Prazno polje 7"]
[8,"Prazno polje 8"]
[9,"Prazno polje 9"]
[10,"Prazno polje 10"]
[11,"Prazno polje 11",null,null,null,50]
[12,"Prazno polje 12"]
[13,"Prazno polje 13"]
[14,"Prazno polje 14"]
[15,"Prazno polje 15"]
[16,"Prazno polje 16"]
[17,"Prazno polje 17"]
[18,"Prazno polje 18"]
[19,"Prazno polje 19"]
[20,"Prazno polje 20"]
[21,"Prazno polje 21"]
[22,"Prazno polje 22"]
[23,"Prazno polje 23"]
[24,"Prazno polje 24"]
[null,"Ukupno ",null,null,null,{"$f":"SUM(F3:F26)","v":120},{"$f":"SUM(G3:G26)","v":30},40]

{"sheet":"25","index":24,"n_rows":27,"n_cols":9,"rows_kept":27,"cut":false,"hidden":false,"merged":[[26,1,26,4],[26,8,26,9],[23,1,23,4],[23,8,23,9],[24,1,24,4],[24,8,24,9],[25,1,25,4],[25,8,25,9],[20,1,20,4],[20,8,20,9],[21,1,21,4],[21,8,21,9],[22,1,22,4],[22,8,22,9],[17,1,17,4],[17,8,17,9],[18,1,18,4],[18,8,18,9],[19,1,19,4],[19,8,19,9],[14,1,14,4],[14,8,14,9],[15,1,15,4],[15,8,15,9],[16,1,16,4],[16,8,16,9],[11,1,11,4],[11,8,11,9],[12,1,12,4],[12,8,12,9],[13,1,13,4],[13,8,13,9],[9,1,9,4],[9,8,9,9],[9,11,9,12],[10,1,10,4],[10,8,10,9],[10,11,10,12],[7,1,7,4],[7,8,7,9],[7,11,7,12],[8,1,8,4],[8,8,8,9],[8,11,8,12],[5,1,5,4],[5,8,5,9],[5,11,5,12],[6,1,6,4],[6,8,6,9],[6,11,6,12],[3,1,3,4],[3,8,3,9],[3,11,3,12],[4,1,4,4],[4,8,4,9],[4,11,4,12],[0,1,1,4],[0,5,0,7],[0,8,1,9],[0,11,0,12],[1,11,1,12],[2,1,2,4],[2,8,2,9],[2,11,2,12]]}
[null,"Zastoji",null,null,null,"vreme trajanja ",null,null,"napomena "]
[null,null,null,null,null,"III smena ","I   smena","II  smena"]
[1,"Prazno polje 1",null,null,null,20,30,40]
[2,"Prazno polje 2"]
[3,"Prazno polje 3"]
[4,"Prazno polje 4"]
[5,"Prazno polje 5"]
[6,"Prazno polje 6",null,null,null,50]
[7,"Prazno polje 7"]
[8,"Prazno polje 8"]
[9,"Prazno polje 9"]
[10,"Prazno polje 10"]
[11,"Prazno polje 11",null,null,null,50]
[12,"Prazno polje 12"]
[13,"Prazno polje 13"]
[14,"Prazno polje 14"]
[15,"Prazno polje 15"]
[16,"Prazno polje 16"]
[17,"Prazno polje 17"]
[18,"Prazno polje 18"]
[19,"Prazno polje 19"]
[20,"Prazno polje 20"]
[21,"Prazno polje 21"]
[22,"Prazno polje 22"]
[23,"Prazno polje 23"]
[24,"Prazno polje 24"]
[null,"Ukupno ",null,null,null,{"$f":"SUM(F3:F26)","v":120},{"$f":"SUM(G3:G26)","v":30},40]

{"sheet":"26","index":25,"n_rows":27,"n_cols":9,"rows_kept":27,"cut":false,"hidden":false,"merged":[[26,1,26,4],[26,8,26,9],[23,1,23,4],[23,8,23,9],[24,1,24,4],[24,8,24,9],[25,1,25,4],[25,8,25,9],[20,1,20,4],[20,8,20,9],[21,1,21,4],[21,8,21,9],[22,1,22,4],[22,8,22,9],[17,1,17,4],[17,8,17,9],[18,1,18,4],[18,8,18,9],[19,1,19,4],[19,8,19,9],[14,1,14,4],[14,8,14,9],[15,1,15,4],[15,8,15,9],[16,1,16,4],[16,8,16,9],[11,1,11,4],[11,8,11,9],[12,1,12,4],[12,8,12,9],[13,1,13,4],[13,8,13,9],[9,1,9,4],[9,8,9,9],[9,11,9,12],[10,1,10,4],[10,8,10,9],[10,11,10,12],[7,1,7,4],[7,8,7,9],[7,11,7,12],[8,1,8,4],[8,8,8,9],[8,11,8,12],[5,1,5,4],[5,8,5,9],[5,11,5,12],[6,1,6,4],[6,8,6,9],[6,11,6,12],[3,1,3,4],[3,8,3,9],[3,11,3,12],[4,1,4,4],[4,8,4,9],[4,11,4,12],[0,1,1,4],[0,5,0,7],[0,8,1,9],[0,11,0,12],[1,11,1,12],[2,1,2,4],[2,8,2,9],[2,11,2,12]]}
[null,"Zastoji",null,null,null,"vreme trajanja ",null,null,"napomena "]
[null,null,null,null,null,"III smena ","I   smena","II  smena"]
[1,"Prazno polje 1",null,null,null,20,30,40]
[2,"Prazno polje 2"]
[3,"Prazno polje 3"]
[4,"Prazno polje 4"]
[5,"Prazno polje 5"]
[6,"Prazno polje 6",null,null,null,50]
[7,"Prazno polje 7"]
[8,"Prazno polje 8"]
[9,"Prazno polje 9"]
[10,"Prazno polje 10"]
[11,"Prazno polje 11",null,null,null,50]
[12,"Prazno polje 12"]
[13,"Prazno polje 13"]
[14,"Prazno polje 14"]
[15,"Prazno polje 15"]
[16,"Prazno polje 16"]
[17,"Prazno polje 17"]
[18,"Prazno polje 18"]
[19,"Prazno polje 19"]
[20,"Prazno polje 20"]
[21,"Prazno polje 21"]
[22,"Prazno polje 22"]
[23,"Prazno polje 23"]
[24,"Prazno polje 24"]
[null,"Ukupno ",null,null,null,{"$f":"SUM(F3:F26)","v":120},{"$f":"SUM(G3:G26)","v":30},40]

{"sheet":"27","index":26,"n_rows":27,"n_cols":9,"rows_kept":27,"cut":false,"hidden":false,"merged":[[26,1,26,4],[26,8,26,9],[23,1,23,4],[23,8,23,9],[24,1,24,4],[24,8,24,9],[25,1,25,4],[25,8,25,9],[20,1,20,4],[20,8,20,9],[21,1,21,4],[21,8,21,9],[22,1,22,4],[22,8,22,9],[17,1,17,4],[17,8,17,9],[18,1,18,4],[18,8,18,9],[19,1,19,4],[19,8,19,9],[14,1,14,4],[14,8,14,9],[15,1,15,4],[15,8,15,9],[16,1,16,4],[16,8,16,9],[11,1,11,4],[11,8,11,9],[12,1,12,4],[12,8,12,9],[13,1,13,4],[13,8,13,9],[9,1,9,4],[9,8,9,9],[9,11,9,12],[10,1,10,4],[10,8,10,9],[10,11,10,12],[7,1,7,4],[7,8,7,9],[7,11,7,12],[8,1,8,4],[8,8,8,9],[8,11,8,12],[5,1,5,4],[5,8,5,9],[5,11,5,12],[6,1,6,4],[6,8,6,9],[6,11,6,12],[3,1,3,4],[3,8,3,9],[3,11,3,12],[4,1,4,4],[4,8,4,9],[4,11,4,12],[0,1,1,4],[0,5,0,7],[0,8,1,9],[0,11,0,12],[1,11,1,12],[2,1,2,4],[2,8,2,9],[2,11,2,12]]}
[2,"Zastoji",null,null,null,"vreme trajanja ",null,null,"napomena "]
[null,null,null,null,null,"III smena ","I   smena","II  smena"]
[1,"Prazno polje 1",null,null,null,20,30,40]
[2,"Prazno polje 2"]
[3,"Prazno polje 3"]
[4,"Prazno polje 4"]
[5,"Prazno polje 5"]
[6,"Prazno polje 6",null,null,null,50]
[7,"Prazno polje 7"]
[8,"Prazno polje 8"]
[9,"Prazno polje 9"]
[10,"Prazno polje 10"]
[11,"Prazno polje 11",null,null,null,50]
[12,"Prazno polje 12"]
[13,"Prazno polje 13"]
[14,"Prazno polje 14"]
[15,"Prazno polje 15"]
[16,"Prazno polje 16"]
[17,"Prazno polje 17"]
[18,"Prazno polje 18"]
[19,"Prazno polje 19"]
[20,"Prazno polje 20"]
[21,"Prazno polje 21"]
[22,"Prazno polje 22"]
[23,"Prazno polje 23"]
[24,"Prazno polje 24"]
[null,"Ukupno ",null,null,null,{"$f":"SUM(F3:F26)","v":120},{"$f":"SUM(G3:G26)","v":30},40]

{"sheet":"28","index":27,"n_rows":27,"n_cols":9,"rows_kept":27,"cut":false,"hidden":false,"merged":[[26,1,26,4],[26,8,26,9],[23,1,23,4],[23,8,23,9],[24,1,24,4],[24,8,24,9],[25,1,25,4],[25,8,25,9],[20,1,20,4],[20,8,20,9],[21,1,21,4],[21,8,21,9],[22,1,22,4],[22,8,22,9],[17,1,17,4],[17,8,17,9],[18,1,18,4],[18,8,18,9],[19,1,19,4],[19,8,19,9],[14,1,14,4],[14,8,14,9],[15,1,15,4],[15,8,15,9],[16,1,16,4],[16,8,16,9],[11,1,11,4],[11,8,11,9],[12,1,12,4],[12,8,12,9],[13,1,13,4],[13,8,13,9],[9,1,9,4],[9,8,9,9],[9,11,9,12],[10,1,10,4],[10,8,10,9],[10,11,10,12],[7,1,7,4],[7,8,7,9],[7,11,7,12],[8,1,8,4],[8,8,8,9],[8,11,8,12],[5,1,5,4],[5,8,5,9],[5,11,5,12],[6,1,6,4],[6,8,6,9],[6,11,6,12],[3,1,3,4],[3,8,3,9],[3,11,3,12],[4,1,4,4],[4,8,4,9],[4,11,4,12],[0,1,1,4],[0,5,0,7],[0,8,1,9],[0,11,0,12],[1,11,1,12],[2,1,2,4],[2,8,2,9],[2,11,2,12]]}
[null,"Zastoji",null,null,null,"vreme trajanja ",null,null,"napomena "]
[null,null,null,null,null,"III smena ","I   smena","II  smena"]
[1,"Prazno polje 1",null,null,null,20,30,40]
[2,"Prazno polje 2"]
[3,"Prazno polje 3"]
[4,"Prazno polje 4"]
[5,"Prazno polje 5"]
[6,"Prazno polje 6",null,null,null,50]
[7,"Prazno polje 7"]
[8,"Prazno polje 8"]
[9,"Prazno polje 9"]
[10,"Prazno polje 10"]
[11,"Prazno polje 11",null,null,null,50]
[12,"Prazno polje 12"]
[13,"Prazno polje 13"]
[14,"Prazno polje 14"]
[15,"Prazno polje 15"]
[16,"Prazno polje 16"]
[17,"Prazno polje 17"]
[18,"Prazno polje 18"]
[19,"Prazno polje 19"]
[20,"Prazno polje 20"]
[21,"Prazno polje 21"]
[22,"Prazno polje 22"]
[23,"Prazno polje 23"]
[24,"Prazno polje 24"]
[null,"Ukupno ",null,null,null,{"$f":"SUM(F3:F26)","v":120},{"$f":"SUM(G3:G26)","v":30},40]

{"sheet":"29","index":28,"n_rows":27,"n_cols":9,"rows_kept":27,"cut":false,"hidden":false,"merged":[[26,1,26,4],[26,8,26,9],[23,1,23,4],[23,8,23,9],[24,1,24,4],[24,8,24,9],[25,1,25,4],[25,8,25,9],[20,1,20,4],[20,8,20,9],[21,1,21,4],[21,8,21,9],[22,1,22,4],[22,8,22,9],[17,1,17,4],[17,8,17,9],[18,1,18,4],[18,8,18,9],[19,1,19,4],[19,8,19,9],[14,1,14,4],[14,8,14,9],[15,1,15,4],[15,8,15,9],[16,1,16,4],[16,8,16,9],[11,1,11,4],[11,8,11,9],[12,1,12,4],[12,8,12,9],[13,1,13,4],[13,8,13,9],[9,1,9,4],[9,8,9,9],[9,11,9,12],[10,1,10,4],[10,8,10,9],[10,11,10,12],[7,1,7,4],[7,8,7,9],[7,11,7,12],[8,1,8,4],[8,8,8,9],[8,11,8,12],[5,1,5,4],[5,8,5,9],[5,11,5,12],[6,1,6,4],[6,8,6,9],[6,11,6,12],[3,1,3,4],[3,8,3,9],[3,11,3,12],[4,1,4,4],[4,8,4,9],[4,11,4,12],[0,1,1,4],[0,5,0,7],[0,8,1,9],[0,11,0,12],[1,11,1,12],[2,1,2,4],[2,8,2,9],[2,11,2,12]]}
[null,"Zastoji",null,null,null,"vreme trajanja ",null,null,"napomena "]
[null,null,null,null,null,"III smena ","I   smena","II  smena"]
[1,"Prazno polje 1",null,null,null,20,30,40]
[2,"Prazno polje 2"]
[3,"Prazno polje 3"]
[4,"Prazno polje 4"]
[5,"Prazno polje 5"]
[6,"Prazno polje 6",null,null,null,50]
[7,"Prazno polje 7"]
[8,"Prazno polje 8"]
[9,"Prazno polje 9"]
[10,"Prazno polje 10"]
[11,"Prazno polje 11",null,null,null,50]
[12,"Prazno polje 12"]
[13,"Prazno polje 13"]
[14,"Prazno polje 14"]
[15,"Prazno polje 15"]
[16,"Prazno polje 16"]
[17,"Prazno polje 17"]
[18,"Prazno polje 18"]
[19,"Prazno polje 19"]
[20,"Prazno polje 20"]
[21,"Prazno polje 21"]
[22,"Prazno polje 22"]
[23,"Prazno polje 23"]
[24,"Prazno polje 24"]
[null,"Ukupno ",null,null,null,{"$f":"SUM(F3:F26)","v":120},{"$f":"SUM(G3:G26)","v":30},40]

{"sheet":"30","index":29,"n_rows":27,"n_cols":9,"rows_kept":27,"cut":false,"hidden":false,"merged":[[26,1,26,4],[26,8,26,9],[23,1,23,4],[23,8,23,9],[24,1,24,4],[24,8,24,9],[25,1,25,4],[25,8,25,9],[20,1,20,4],[20,8,20,9],[21,1,21,4],[21,8,21,9],[22,1,22,4],[22,8,22,9],[17,1,17,4],[17,8,17,9],[18,1,18,4],[18,8,18,9],[19,1,19,4],[19,8,19,9],[14,1,14,4],[14,8,14,9],[15,1,15,4],[15,8,15,9],[16,1,16,4],[16,8,16,9],[11,1,11,4],[11,8,11,9],[12,1,12,4],[12,8,12,9],[13,1,13,4],[13,8,13,9],[9,1,9,4],[9,8,9,9],[9,11,9,12],[10,1,10,4],[10,8,10,9],[10,11,10,12],[7,1,7,4],[7,8,7,9],[7,11,7,12],[8,1,8,4],[8,8,8,9],[8,11,8,12],[5,1,5,4],[5,8,5,9],[5,11,5,12],[6,1,6,4],[6,8,6,9],[6,11,6,12],[3,1,3,4],[3,8,3,9],[3,11,3,12],[4,1,4,4],[4,8,4,9],[4,11,4,12],[0,1,1,4],[0,5,0,7],[0,8,1,9],[0,11,0,12],[1,11,1,12],[2,1,2,4],[2,8,2,9],[2,11,2,12]]}
[null,"Zastoji",null,null,null,"vreme trajanja ",null,null,"napomena "]
[null,null,null,null,null,"III smena ","I   smena","II  smena"]
[1,"Prazno polje 1",null,null,null,20,30,40]
[2,"Prazno polje 2"]
[3,"Prazno polje 3"]
[4,"Prazno polje 4"]
[5,"Prazno polje 5"]
[6,"Prazno polje 6",null,null,null,50]
[7,"Prazno polje 7"]
[8,"Prazno polje 8"]
[9,"Prazno polje 9"]
[10,"Prazno polje 10"]
[11,"Prazno polje 11",null,null,null,50]
[12,"Prazno polje 12"]
[13,"Prazno polje 13",null,null,null,17]
[14,"Prazno polje 14"]
[15,"Prazno polje 15"]
[16,"Prazno polje 16"]
[17,"Prazno polje 17"]
[18,"Prazno polje 18"]
[19,"Prazno polje 19"]
[20,"Prazno polje 20"]
[21,"Prazno polje 21"]
[22,"Prazno polje 22"]
[23,"Prazno polje 23"]
[24,"Prazno polje 24"]
[null,"Ukupno ",null,null,null,{"$f":"SUM(F3:F26)","v":137},{"$f":"SUM(G3:G26)","v":30},40]

{"sheet":"31","index":30,"n_rows":27,"n_cols":9,"rows_kept":27,"cut":false,"hidden":false,"merged":[[26,1,26,4],[26,8,26,9],[23,1,23,4],[23,8,23,9],[24,1,24,4],[24,8,24,9],[25,1,25,4],[25,8,25,9],[20,1,20,4],[20,8,20,9],[21,1,21,4],[21,8,21,9],[22,1,22,4],[22,8,22,9],[17,1,17,4],[17,8,17,9],[18,1,18,4],[18,8,18,9],[19,1,19,4],[19,8,19,9],[14,1,14,4],[14,8,14,9],[15,1,15,4],[15,8,15,9],[16,1,16,4],[16,8,16,9],[11,1,11,4],[11,8,11,9],[12,1,12,4],[12,8,12,9],[13,1,13,4],[13,8,13,9],[9,1,9,4],[9,8,9,9],[9,11,9,12],[10,1,10,4],[10,8,10,9],[10,11,10,12],[7,1,7,4],[7,8,7,9],[7,11,7,12],[8,1,8,4],[8,8,8,9],[8,11,8,12],[5,1,5,4],[5,8,5,9],[5,11,5,12],[6,1,6,4],[6,8,6,9],[6,11,6,12],[3,1,3,4],[3,8,3,9],[3,11,3,12],[4,1,4,4],[4,8,4,9],[4,11,4,12],[0,1,1,4],[0,5,0,7],[0,8,1,9],[0,11,0,12],[1,11,1,12],[2,1,2,4],[2,8,2,9],[2,11,2,12]]}
[null,"Zastoji",null,null,null,"vreme trajanja ",null,null,"napomena "]
[null,null,null,null,null,"III smena ","I   smena","II  smena"]
[1,"Prazno polje 1",null,null,null,20,30,40]
[2,"Prazno polje 2"]
[3,"Prazno polje 3"]
[4,"Prazno polje 4"]
[5,"Prazno polje 5"]
[6,"Prazno polje 6",null,null,null,50]
[7,"Prazno polje 7"]
[8,"Prazno polje 8"]
[9,"Prazno polje 9"]
[10,"Prazno polje 10"]
[11,"Prazno polje 11",null,null,null,50]
[12,"Prazno polje 12"]
[13,"Prazno polje 13"]
[14,"Prazno polje 14"]
[15,"Prazno polje 15"]
[16,"Prazno polje 16"]
[17,"Prazno polje 17"]
[18,"Prazno polje 18"]
[19,"Prazno polje 19"]
[20,"Prazno polje 20"]
[21,"Prazno polje 21"]
[22,"Prazno polje 22"]
[23,"Prazno polje 23"]
[24,"Prazno polje 24"]
[null,"Ukupno ",null,null,null,{"$f":"SUM(F3:F26)","v":120},{"$f":"SUM(G3:G26)","v":30},40]

{"sheet":"OEE mesec","index":31,"n_rows":96,"n_cols":24,"rows_kept":96,"cut":false,"hidden":false,"merged":[]}
[null,"red.br.","Datum","izmena ","zastoj 1","zastoj 2","zastoj 3","UKUPNO",{"$f":"TRANSPOSE('1'!B3:B17)","v":"Prazno polje 1"},"Prazno polje 2","Prazno polje 3","Prazno polje 4","Prazno polje 5","Prazno polje 6","Prazno polje 7","Prazno polje 8","Prazno polje 9","Prazno polje 10","Prazno polje 11","Prazno polje 12","Prazno polje 13","Prazno polje 14","Prazno polje 15","UKUPNO"]
[null,null,null,null,"min","min","min","min","min","min","min","min","min","min","min","min","min","min","min","min","min","min","min","min"]
[null,1,1,3,30,10,10,{"$f":"SUM(E3:G3)","v":50},{"$f":"INDEX(INDIRECT(\"'\"&$C3&\"'\"&\"!\"&\"B3:H26\"),MATCH(I$1,INDIRECT(\"'\"&$C3&\"'\"&\"!\"&\"B3:B26\"),0),IF($D3=3,$D3+2,$D3+5))","v":20},{"$f":"INDEX(INDIRECT(\"'\"&$C3&\"'\"&\"!\"&\"B3:H26\"),MATCH(J$1,INDIRECT(\"'\"&$C3&\"'\"&\"!\"&\"B3:B26\"),0),IF($D3=3,$D3+2,$D3+5))","v":0},{"$f":"INDEX(INDIRECT(\"'\"&$C3&\"'\"&\"!\"&\"B3:H26\"),MATCH(K$1,INDIRECT(\"'\"&$C3&\"'\"&\"!\"&\"B3:B26\"),0),IF($D3=3,$D3+2,$D3+5))","v":0},{"$f":"INDEX(INDIRECT(\"'\"&$C3&\"'\"&\"!\"&\"B3:H26\"),MATCH(L$1,INDIRECT(\"'\"&$C3&\"'\"&\"!\"&\"B3:B26\"),0),IF($D3=3,$D3+2,$D3+5))","v":0},{"$f":"INDEX(INDIRECT(\"'\"&$C3&\"'\"&\"!\"&\"B3:H26\"),MATCH(M$1,INDIRECT(\"'\"&$C3&\"'\"&\"!\"&\"B3:B26\"),0),IF($D3=3,$D3+2,$D3+5))","v":0},{"$f":"INDEX(INDIRECT(\"'\"&$C3&\"'\"&\"!\"&\"B3:H26\"),MATCH(N$1,INDIRECT(\"'\"&$C3&\"'\"&\"!\"&\"B3:B26\"),0),IF($D3=3,$D3+2,$D3+5))","v":50},{"$f":"INDEX(INDIRECT(\"'\"&$C3&\"'\"&\"!\"&\"B3:H26\"),MATCH(O$1,INDIRECT(\"'\"&$C3&\"'\"&\"!\"&\"B3:B26\"),0),IF($D3=3,$D3+2,$D3+5))","v":0},{"$f":"INDEX(INDIRECT(\"'\"&$C3&\"'\"&\"!\"&\"B3:H26\"),MATCH(P$1,INDIRECT(\"'\"&$C3&\"'\"&\"!\"&\"B3:B26\"),0),IF($D3=3,$D3+2,$D3+5))","v":0},{"$f":"INDEX(INDIRECT(\"'\"&$C3&\"'\"&\"!\"&\"B3:H26\"),MATCH(Q$1,INDIRECT(\"'\"&$C3&\"'\"&\"!\"&\"B3:B26\"),0),IF($D3=3,$D3+2,$D3+5))","v":0},{"$f":"INDEX(INDIRECT(\"'\"&$C3&\"'\"&\"!\"&\"B3:H26\"),MATCH(R$1,INDIRECT(\"'\"&$C3&\"'\"&\"!\"&\"B3:B26\"),0),IF($D3=3,$D3+2,$D3+5))","v":0},{"$f":"INDEX(INDIRECT(\"'\"&$C3&\"'\"&\"!\"&\"B3:H26\"),MATCH(S$1,INDIRECT(\"'\"&$C3&\"'\"&\"!\"&\"B3:B26\"),0),IF($D3=3,$D3+2,$D3+5))","v":0},{"$f":"INDEX(INDIRECT(\"'\"&$C3&\"'\"&\"!\"&\"B3:H26\"),MATCH(T$1,INDIRECT(\"'\"&$C3&\"'\"&\"!\"&\"B3:B26\"),0),IF($D3=3,$D3+2,$D3+5))","v":0},{"$f":"INDEX(INDIRECT(\"'\"&$C3&\"'\"&\"!\"&\"B3:H26\"),MATCH(U$1,INDIRECT(\"'\"&$C3&\"'\"&\"!\"&\"B3:B26\"),0),IF($D3=3,$D3+2,$D3+5))","v":0},{"$f":"INDEX(INDIRECT(\"'\"&$C3&\"'\"&\"!\"&\"B3:H26\"),MATCH(V$1,INDIRECT(\"'\"&$C3&\"'\"&\"!\"&\"B3:B26\"),0),IF($D3=3,$D3+2,$D3+5))","v":0},{"$f":"INDEX(INDIRECT(\"'\"&$C3&\"'\"&\"!\"&\"B3:H26\"),MATCH(W$1,INDIRECT(\"'\"&$C3&\"'\"&\"!\"&\"B3:B26\"),0),IF($D3=3,$D3+2,$D3+5))","v":0},{"$f":"SUM(I3:W3)","v":70}]
[null,2,{"$f":"C3","v":1},1,30,10,10,{"$f":"SUM(E4:G4)","v":50},{"$f":"INDEX(INDIRECT(\"'\"&$C4&\"'\"&\"!\"&\"B3:H26\"),MATCH(I$1,INDIRECT(\"'\"&$C4&\"'\"&\"!\"&\"B3:B26\"),0),IF($D4=3,$D4+2,$D4+5))","v":30},{"$f":"INDEX(INDIRECT(\"'\"&$C4&\"'\"&\"!\"&\"B3:H26\"),MATCH(J$1,INDIRECT(\"'\"&$C4&\"'\"&\"!\"&\"B3:B26\"),0),IF($D4=3,$D4+2,$D4+5))","v":0},{"$f":"INDEX(INDIRECT(\"'\"&$C4&\"'\"&\"!\"&\"B3:H26\"),MATCH(K$1,INDIRECT(\"'\"&$C4&\"'\"&\"!\"&\"B3:B26\"),0),IF($D4=3,$D4+2,$D4+5))","v":0},{"$f":"INDEX(INDIRECT(\"'\"&$C4&\"'\"&\"!\"&\"B3:H26\"),MATCH(L$1,INDIRECT(\"'\"&$C4&\"'\"&\"!\"&\"B3:B26\"),0),IF($D4=3,$D4+2,$D4+5))","v":0},{"$f":"INDEX(INDIRECT(\"'\"&$C4&\"'\"&\"!\"&\"B3:H26\"),MATCH(M$1,INDIRECT(\"'\"&$C4&\"'\"&\"!\"&\"B3:B26\"),0),IF($D4=3,$D4+2,$D4+5))","v":0},{"$f":"INDEX(INDIRECT(\"'\"&$C4&\"'\"&\"!\"&\"B3:H26\"),MATCH(N$1,INDIRECT(\"'\"&$C4&\"'\"&\"!\"&\"B3:B26\"),0),IF($D4=3,$D4+2,$D4+5))","v":0},{"$f":"INDEX(INDIRECT(\"'\"&$C4&\"'\"&\"!\"&\"B3:H26\"),MATCH(O$1,INDIRECT(\"'\"&$C4&\"'\"&\"!\"&\"B3:B26\"),0),IF($D4=3,$D4+2,$D4+5))","v":0},{"$f":"INDEX(INDIRECT(\"'\"&$C4&\"'\"&\"!\"&\"B3:H26\"),MATCH(P$1,INDIRECT(\"'\"&$C4&\"'\"&\"!\"&\"B3:B26\"),0),IF($D4=3,$D4+2,$D4+5))","v":0},{"$f":"INDEX(INDIRECT(\"'\"&$C4&\"'\"&\"!\"&\"B3:H26\"),MATCH(Q$1,INDIRECT(\"'\"&$C4&\"'\"&\"!\"&\"B3:B26\"),0),IF($D4=3,$D4+2,$D4+5))","v":0},{"$f":"INDEX(INDIRECT(\"'\"&$C4&\"'\"&\"!\"&\"B3:H26\"),MATCH(R$1,INDIRECT(\"'\"&$C4&\"'\"&\"!\"&\"B3:B26\"),0),IF($D4=3,$D4+2,$D4+5))","v":0},{"$f":"INDEX(INDIRECT(\"'\"&$C4&\"'\"&\"!\"&\"B3:H26\"),MATCH(S$1,INDIRECT(\"'\"&$C4&\"'\"&\"!\"&\"B3:B26\"),0),IF($D4=3,$D4+2,$D4+5))","v":0},{"$f":"INDEX(INDIRECT(\"'\"&$C4&\"'\"&\"!\"&\"B3:H26\"),MATCH(T$1,INDIRECT(\"'\"&$C4&\"'\"&\"!\"&\"B3:B26\"),0),IF($D4=3,$D4+2,$D4+5))","v":0},{"$f":"INDEX(INDIRECT(\"'\"&$C4&\"'\"&\"!\"&\"B3:H26\"),MATCH(U$1,INDIRECT(\"'\"&$C4&\"'\"&\"!\"&\"B3:B26\"),0),IF($D4=3,$D4+2,$D4+5))","v":0},{"$f":"INDEX(INDIRECT(\"'\"&$C4&\"'\"&\"!\"&\"B3:H26\"),MATCH(V$1,INDIRECT(\"'\"&$C4&\"'\"&\"!\"&\"B3:B26\"),0),IF($D4=3,$D4+2,$D4+5))","v":0},{"$f":"INDEX(INDIRECT(\"'\"&$C4&\"'\"&\"!\"&\"B3:H26\"),MATCH(W$1,INDIRECT(\"'\"&$C4&\"'\"&\"!\"&\"B3:B26\"),0),IF($D4=3,$D4+2,$D4+5))","v":0},30]
[null,3,1,2,30,10,10,50,{"$f":"INDEX(INDIRECT(\"'\"&$C5&\"'\"&\"!\"&\"B3:H26\"),MATCH(I$1,INDIRECT(\"'\"&$C5&\"'\"&\"!\"&\"B3:B26\"),0),IF($D5=3,$D5+2,$D5+5))","v":0},{"$f":"INDEX(INDIRECT(\"'\"&$C5&\"'\"&\"!\"&\"B3:H26\"),MATCH(J$1,INDIRECT(\"'\"&$C5&\"'\"&\"!\"&\"B3:B26\"),0),IF($D5=3,$D5+2,$D5+5))","v":0},{"$f":"INDEX(INDIRECT(\"'\"&$C5&\"'\"&\"!\"&\"B3:H26\"),MATCH(K$1,INDIRECT(\"'\"&$C5&\"'\"&\"!\"&\"B3:B26\"),0),IF($D5=3,$D5+2,$D5+5))","v":0},{"$f":"INDEX(INDIRECT(\"'\"&$C5&\"'\"&\"!\"&\"B3:H26\"),MATCH(L$1,INDIRECT(\"'\"&$C5&\"'\"&\"!\"&\"B3:B26\"),0),IF($D5=3,$D5+2,$D5+5))","v":0},{"$f":"INDEX(INDIRECT(\"'\"&$C5&\"'\"&\"!\"&\"B3:H26\"),MATCH(M$1,INDIRECT(\"'\"&$C5&\"'\"&\"!\"&\"B3:B26\"),0),IF($D5=3,$D5+2,$D5+5))","v":0},{"$f":"INDEX(INDIRECT(\"'\"&$C5&\"'\"&\"!\"&\"B3:H26\"),MATCH(N$1,INDIRECT(\"'\"&$C5&\"'\"&\"!\"&\"B3:B26\"),0),IF($D5=3,$D5+2,$D5+5))","v":0},{"$f":"INDEX(INDIRECT(\"'\"&$C5&\"'\"&\"!\"&\"B3:H26\"),MATCH(O$1,INDIRECT(\"'\"&$C5&\"'\"&\"!\"&\"B3:B26\"),0),IF($D5=3,$D5+2,$D5+5))","v":0},{"$f":"INDEX(INDIRECT(\"'\"&$C5&\"'\"&\"!\"&\"B3:H26\"),MATCH(P$1,INDIRECT(\"'\"&$C5&\"'\"&\"!\"&\"B3:B26\"),0),IF($D5=3,$D5+2,$D5+5))","v":0},{"$f":"INDEX(INDIRECT(\"'\"&$C5&\"'\"&\"!\"&\"B3:H26\"),MATCH(Q$1,INDIRECT(\"'\"&$C5&\"'\"&\"!\"&\"B3:B26\"),0),IF($D5=3,$D5+2,$D5+5))","v":0},{"$f":"INDEX(INDIRECT(\"'\"&$C5&\"'\"&\"!\"&\"B3:H26\"),MATCH(R$1,INDIRECT(\"'\"&$C5&\"'\"&\"!\"&\"B3:B26\"),0),IF($D5=3,$D5+2,$D5+5))","v":0},{"$f":"INDEX(INDIRECT(\"'\"&$C5&\"'\"&\"!\"&\"B3:H26\"),MATCH(S$1,INDIRECT(\"'\"&$C5&\"'\"&\"!\"&\"B3:B26\"),0),IF($D5=3,$D5+2,$D5+5))","v":0},{"$f":"INDEX(INDIRECT(\"'\"&$C5&\"'\"&\"!\"&\"B3:H26\"),MATCH(T$1,INDIRECT(\"'\"&$C5&\"'\"&\"!\"&\"B3:B26\"),0),IF($D5=3,$D5+2,$D5+5))","v":0},{"$f":"INDEX(INDIRECT(\"'\"&$C5&\"'\"&\"!\"&\"B3:H26\"),MATCH(U$1,INDIRECT(\"'\"&$C5&\"'\"&\"!\"&\"B3:B26\"),0),IF($D5=3,$D5+2,$D5+5))","v":0},{"$f":"INDEX(INDIRECT(\"'\"&$C5&\"'\"&\"!\"&\"B3:H26\"),MATCH(V$1,INDIRECT(\"'\"&$C5&\"'\"&\"!\"&\"B3:B26\"),0),IF($D5=3,$D5+2,$D5+5))","v":0},{"$f":"INDEX(INDIRECT(\"'\"&$C5&\"'\"&\"!\"&\"B3:H26\"),MATCH(W$1,INDIRECT(\"'\"&$C5&\"'\"&\"!\"&\"B3:B26\"),0),IF($D5=3,$D5+2,$D5+5))","v":0},0]
[null,4,2,3,30,10,10,50,{"$f":"INDEX(INDIRECT(\"'\"&$C6&\"'\"&\"!\"&\"B3:H26\"),MATCH(I$1,INDIRECT(\"'\"&$C6&\"'\"&\"!\"&\"B3:B26\"),0),IF($D6=3,$D6+2,$D6+5))","v":20},{"$f":"INDEX(INDIRECT(\"'\"&$C6&\"'\"&\"!\"&\"B3:H26\"),MATCH(J$1,INDIRECT(\"'\"&$C6&\"'\"&\"!\"&\"B3:B26\"),0),IF($D6=3,$D6+2,$D6+5))","v":0},{"$f":"INDEX(INDIRECT(\"'\"&$C6&\"'\"&\"!\"&\"B3:H26\"),MATCH(K$1,INDIRECT(\"'\"&$C6&\"'\"&\"!\"&\"B3:B26\"),0),IF($D6=3,$D6+2,$D6+5))","v":0},{"$f":"INDEX(INDIRECT(\"'\"&$C6&\"'\"&\"!\"&\"B3:H26\"),MATCH(L$1,INDIRECT(\"'\"&$C6&\"'\"&\"!\"&\"B3:B26\"),0),IF($D6=3,$D6+2,$D6+5))","v":0},{"$f":"INDEX(INDIRECT(\"'\"&$C6&\"'\"&\"!\"&\"B3:H26\"),MATCH(M$1,INDIRECT(\"'\"&$C6&\"'\"&\"!\"&\"B3:B26\"),0),IF($D6=3,$D6+2,$D6+5))","v":0},{"$f":"INDEX(INDIRECT(\"'\"&$C6&\"'\"&\"!\"&\"B3:H26\"),MATCH(N$1,INDIRECT(\"'\"&$C6&\"'\"&\"!\"&\"B3:B26\"),0),IF($D6=3,$D6+2,$D6+5))","v":0},{"$f":"INDEX(INDIRECT(\"'\"&$C6&\"'\"&\"!\"&\"B3:H26\"),MATCH(O$1,INDIRECT(\"'\"&$C6&\"'\"&\"!\"&\"B3:B26\"),0),IF($D6=3,$D6+2,$D6+5))","v":0},{"$f":"INDEX(INDIRECT(\"'\"&$C6&\"'\"&\"!\"&\"B3:H26\"),MATCH(P$1,INDIRECT(\"'\"&$C6&\"'\"&\"!\"&\"B3:B26\"),0),IF($D6=3,$D6+2,$D6+5))","v":0},{"$f":"INDEX(INDIRECT(\"'\"&$C6&\"'\"&\"!\"&\"B3:H26\"),MATCH(Q$1,INDIRECT(\"'\"&$C6&\"'\"&\"!\"&\"B3:B26\"),0),IF($D6=3,$D6+2,$D6+5))","v":0},{"$f":"INDEX(INDIRECT(\"'\"&$C6&\"'\"&\"!\"&\"B3:H26\"),MATCH(R$1,INDIRECT(\"'\"&$C6&\"'\"&\"!\"&\"B3:B26\"),0),IF($D6=3,$D6+2,$D6+5))","v":0},{"$f":"INDEX(INDIRECT(\"'\"&$C6&\"'\"&\"!\"&\"B3:H26\"),MATCH(S$1,INDIRECT(\"'\"&$C6&\"'\"&\"!\"&\"B3:B26\"),0),IF($D6=3,$D6+2,$D6+5))","v":50},{"$f":"INDEX(INDIRECT(\"'\"&$C6&\"'\"&\"!\"&\"B3:H26\"),MATCH(T$1,INDIRECT(\"'\"&$C6&\"'\"&\"!\"&\"B3:B26\"),0),IF($D6=3,$D6+2,$D6+5))","v":0},{"$f":"INDEX(INDIRECT(\"'\"&$C6&\"'\"&\"!\"&\"B3:H26\"),MATCH(U$1,INDIRECT(\"'\"&$C6&\"'\"&\"!\"&\"B3:B26\"),0),IF($D6=3,$D6+2,$D6+5))","v":0},{"$f":"INDEX(INDIRECT(\"'\"&$C6&\"'\"&\"!\"&\"B3:H26\"),MATCH(V$1,INDIRECT(\"'\"&$C6&\"'\"&\"!\"&\"B3:B26\"),0),IF($D6=3,$D6+2,$D6+5))","v":0},{"$f":"INDEX(INDIRECT(\"'\"&$C6&\"'\"&\"!\"&\"B3:H26\"),MATCH(W$1,INDIRECT(\"'\"&$C6&\"'\"&\"!\"&\"B3:B26\"),0),IF($D6=3,$D6+2,$D6+5))","v":0},70]
[null,5,{"$f":"C6","v":2},1,30,10,10,50,{"$f":"INDEX(INDIRECT(\"'\"&$C7&\"'\"&\"!\"&\"B3:H26\"),MATCH(I$1,INDIRECT(\"'\"&$C7&\"'\"&\"!\"&\"B3:B26\"),0),IF($D7=3,$D7+2,$D7+5))","v":0},{"$f":"INDEX(INDIRECT(\"'\"&$C7&\"'\"&\"!\"&\"B3:H26\"),MATCH(J$1,INDIRECT(\"'\"&$C7&\"'\"&\"!\"&\"B3:B26\"),0),IF($D7=3,$D7+2,$D7+5))","v":0},{"$f":"INDEX(INDIRECT(\"'\"&$C7&\"'\"&\"!\"&\"B3:H26\"),MATCH(K$1,INDIRECT(\"'\"&$C7&\"'\"&\"!\"&\"B3:B26\"),0),IF($D7=3,$D7+2,$D7+5))","v":0},{"$f":"INDEX(INDIRECT(\"'\"&$C7&\"'\"&\"!\"&\"B3:H26\"),MATCH(L$1,INDIRECT(\"'\"&$C7&\"'\"&\"!\"&\"B3:B26\"),0),IF($D7=3,$D7+2,$D7+5))","v":0},{"$f":"INDEX(INDIRECT(\"'\"&$C7&\"'\"&\"!\"&\"B3:H26\"),MATCH(M$1,INDIRECT(\"'\"&$C7&\"'\"&\"!\"&\"B3:B26\"),0),IF($D7=3,$D7+2,$D7+5))","v":0},{"$f":"INDEX(INDIRECT(\"'\"&$C7&\"'\"&\"!\"&\"B3:H26\"),MATCH(N$1,INDIRECT(\"'\"&$C7&\"'\"&\"!\"&\"B3:B26\"),0),IF($D7=3,$D7+2,$D7+5))","v":0},{"$f":"INDEX(INDIRECT(\"'\"&$C7&\"'\"&\"!\"&\"B3:H26\"),MATCH(O$1,INDIRECT(\"'\"&$C7&\"'\"&\"!\"&\"B3:B26\"),0),IF($D7=3,$D7+2,$D7+5))","v":0},{"$f":"INDEX(INDIRECT(\"'\"&$C7&\"'\"&\"!\"&\"B3:H26\"),MATCH(P$1,INDIRECT(\"'\"&$C7&\"'\"&\"!\"&\"B3:B26\"),0),IF($D7=3,$D7+2,$D7+5))","v":0},{"$f":"INDEX(INDIRECT(\"'\"&$C7&\"'\"&\"!\"&\"B3:H26\"),MATCH(Q$1,INDIRECT(\"'\"&$C7&\"'\"&\"!\"&\"B3:B26\"),0),IF($D7=3,$D7+2,$D7+5))","v":0},{"$f":"INDEX(INDIRECT(\"'\"&$C7&\"'\"&\"!\"&\"B3:H26\"),MATCH(R$1,INDIRECT(\"'\"&$C7&\"'\"&\"!\"&\"B3:B26\"),0),IF($D7=3,$D7+2,$D7+5))","v":0},{"$f":"INDEX(INDIRECT(\"'\"&$C7&\"'\"&\"!\"&\"B3:H26\"),MATCH(S$1,INDIRECT(\"'\"&$C7&\"'\"&\"!\"&\"B3:B26\"),0),IF($D7=3,$D7+2,$D7+5))","v":0},{"$f":"INDEX(INDIRECT(\"'\"&$C7&\"'\"&\"!\"&\"B3:H26\"),MATCH(T$1,INDIRECT(\"'\"&$C7&\"'\"&\"!\"&\"B3:B26\"),0),IF($D7=3,$D7+2,$D7+5))","v":0},{"$f":"INDEX(INDIRECT(\"'\"&$C7&\"'\"&\"!\"&\"B3:H26\"),MATCH(U$1,INDIRECT(\"'\"&$C7&\"'\"&\"!\"&\"B3:B26\"),0),IF($D7=3,$D7+2,$D7+5))","v":0},{"$f":"INDEX(INDIRECT(\"'\"&$C7&\"'\"&\"!\"&\"B3:H26\"),MATCH(V$1,INDIRECT(\"'\"&$C7&\"'\"&\"!\"&\"B3:B26\"),0),IF($D7=3,$D7+2,$D7+5))","v":0},{"$f":"INDEX(INDIRECT(\"'\"&$C7&\"'\"&\"!\"&\"B3:H26\"),MATCH(W$1,INDIRECT(\"'\"&$C7&\"'\"&\"!\"&\"B3:B26\"),0),IF($D7=3,$D7+2,$D7+5))","v":0},0]
[null,6,2,2,30,10,10,50,{"$f":"INDEX(INDIRECT(\"'\"&$C8&\"'\"&\"!\"&\"B3:H26\"),MATCH(I$1,INDIRECT(\"'\"&$C8&\"'\"&\"!\"&\"B3:B26\"),0),IF($D8=3,$D8+2,$D8+5))","v":40},{"$f":"INDEX(INDIRECT(\"'\"&$C8&\"'\"&\"!\"&\"B3:H26\"),MATCH(J$1,INDIRECT(\"'\"&$C8&\"'\"&\"!\"&\"B3:B26\"),0),IF($D8=3,$D8+2,$D8+5))","v":0},{"$f":"INDEX(INDIRECT(\"'\"&$C8&\"'\"&\"!\"&\"B3:H26\"),MATCH(K$1,INDIRECT(\"'\"&$C8&\"'\"&\"!\"&\"B3:B26\"),0),IF($D8=3,$D8+2,$D8+5))","v":0},{"$f":"INDEX(INDIRECT(\"'\"&$C8&\"'\"&\"!\"&\"B3:H26\"),MATCH(L$1,INDIRECT(\"'\"&$C8&\"'\"&\"!\"&\"B3:B26\"),0),IF($D8=3,$D8+2,$D8+5))","v":0},{"$f":"INDEX(INDIRECT(\"'\"&$C8&\"'\"&\"!\"&\"B3:H26\"),MATCH(M$1,INDIRECT(\"'\"&$C8&\"'\"&\"!\"&\"B3:B26\"),0),IF($D8=3,$D8+2,$D8+5))","v":0},{"$f":"INDEX(INDIRECT(\"'\"&$C8&\"'\"&\"!\"&\"B3:H26\"),MATCH(N$1,INDIRECT(\"'\"&$C8&\"'\"&\"!\"&\"B3:B26\"),0),IF($D8=3,$D8+2,$D8+5))","v":0},{"$f":"INDEX(INDIRECT(\"'\"&$C8&\"'\"&\"!\"&\"B3:H26\"),MATCH(O$1,INDIRECT(\"'\"&$C8&\"'\"&\"!\"&\"B3:B26\"),0),IF($D8=3,$D8+2,$D8+5))","v":0},{"$f":"INDEX(INDIRECT(\"'\"&$C8&\"'\"&\"!\"&\"B3:H26\"),MATCH(P$1,INDIRECT(\"'\"&$C8&\"'\"&\"!\"&\"B3:B26\"),0),IF($D8=3,$D8+2,$D8+5))","v":0},{"$f":"INDEX(INDIRECT(\"'\"&$C8&\"'\"&\"!\"&\"B3:H26\"),MATCH(Q$1,INDIRECT(\"'\"&$C8&\"'\"&\"!\"&\"B3:B26\"),0),IF($D8=3,$D8+2,$D8+5))","v":0},{"$f":"INDEX(INDIRECT(\"'\"&$C8&\"'\"&\"!\"&\"B3:H26\"),MATCH(R$1,INDIRECT(\"'\"&$C8&\"'\"&\"!\"&\"B3:B26\"),0),IF($D8=3,$D8+2,$D8+5))","v":0},{"$f":"INDEX(INDIRECT(\"'\"&$C8&\"'\"&\"!\"&\"B3:H26\"),MATCH(S$1,INDIRECT(\"'\"&$C8&\"'\"&\"!\"&\"B3:B26\"),0),IF($D8=3,$D8+2,$D8+5))","v":0},{"$f":"INDEX(INDIRECT(\"'\"&$C8&\"'\"&\"!\"&\"B3:H26\"),MATCH(T$1,INDIRECT(\"'\"&$C8&\"'\"&\"!\"&\"B3:B26\"),0),IF($D8=3,$D8+2,$D8+5))","v":0},{"$f":"INDEX(INDIRECT(\"'\"&$C8&\"'\"&\"!\"&\"B3:H26\"),MATCH(U$1,INDIRECT(\"'\"&$C8&\"'\"&\"!\"&\"B3:B26\"),0),IF($D8=3,$D8+2,$D8+5))","v":0},{"$f":"INDEX(INDIRECT(\"'\"&$C8&\"'\"&\"!\"&\"B3:H26\"),MATCH(V$1,INDIRECT(\"'\"&$C8&\"'\"&\"!\"&\"B3:B26\"),0),IF($D8=3,$D8+2,$D8+5))","v":0},{"$f":"INDEX(INDIRECT(\"'\"&$C8&\"'\"&\"!\"&\"B3:H26\"),MATCH(W$1,INDIRECT(\"'\"&$C8&\"'\"&\"!\"&\"B3:B26\"),0),IF($D8=3,$D8+2,$D8+5))","v":0},40]
[null,7,3,3,30,10,10,50,{"$f":"INDEX(INDIRECT(\"'\"&$C9&\"'\"&\"!\"&\"B3:H26\"),MATCH(I$1,INDIRECT(\"'\"&$C9&\"'\"&\"!\"&\"B3:B26\"),0),IF($D9=3,$D9+2,$D9+5))","v":0},{"$f":"INDEX(INDIRECT(\"'\"&$C9&\"'\"&\"!\"&\"B3:H26\"),MATCH(J$1,INDIRECT(\"'\"&$C9&\"'\"&\"!\"&\"B3:B26\"),0),IF($D9=3,$D9+2,$D9+5))","v":0},{"$f":"INDEX(INDIRECT(\"'\"&$C9&\"'\"&\"!\"&\"B3:H26\"),MATCH(K$1,INDIRECT(\"'\"&$C9&\"'\"&\"!\"&\"B3:B26\"),0),IF($D9=3,$D9+2,$D9+5))","v":0},{"$f":"INDEX(INDIRECT(\"'\"&$C9&\"'\"&\"!\"&\"B3:H26\"),MATCH(L$1,INDIRECT(\"'\"&$C9&\"'\"&\"!\"&\"B3:B26\"),0),IF($D9=3,$D9+2,$D9+5))","v":0},{"$f":"INDEX(INDIRECT(\"'\"&$C9&\"'\"&\"!\"&\"B3:H26\"),MATCH(M$1,INDIRECT(\"'\"&$C9&\"'\"&\"!\"&\"B3:B26\"),0),IF($D9=3,$D9+2,$D9+5))","v":0},{"$f":"INDEX(INDIRECT(\"'\"&$C9&\"'\"&\"!\"&\"B3:H26\"),MATCH(N$1,INDIRECT(\"'\"&$C9&\"'\"&\"!\"&\"B3:B26\"),0),IF($D9=3,$D9+2,$D9+5))","v":50},{"$f":"INDEX(INDIRECT(\"'\"&$C9&\"'\"&\"!\"&\"B3:H26\"),MATCH(O$1,INDIRECT(\"'\"&$C9&\"'\"&\"!\"&\"B3:B26\"),0),IF($D9=3,$D9+2,$D9+5))","v":0},{"$f":"INDEX(INDIRECT(\"'\"&$C9&\"'\"&\"!\"&\"B3:H26\"),MATCH(P$1,INDIRECT(\"'\"&$C9&\"'\"&\"!\"&\"B3:B26\"),0),IF($D9=3,$D9+2,$D9+5))","v":0},{"$f":"INDEX(INDIRECT(\"'\"&$C9&\"'\"&\"!\"&\"B3:H26\"),MATCH(Q$1,INDIRECT(\"'\"&$C9&\"'\"&\"!\"&\"B3:B26\"),0),IF($D9=3,$D9+2,$D9+5))","v":0},{"$f":"INDEX(INDIRECT(\"'\"&$C9&\"'\"&\"!\"&\"B3:H26\"),MATCH(R$1,INDIRECT(\"'\"&$C9&\"'\"&\"!\"&\"B3:B26\"),0),IF($D9=3,$D9+2,$D9+5))","v":0},{"$f":"INDEX(INDIRECT(\"'\"&$C9&\"'\"&\"!\"&\"B3:H26\"),MATCH(S$1,INDIRECT(\"'\"&$C9&\"'\"&\"!\"&\"B3:B26\"),0),IF($D9=3,$D9+2,$D9+5))","v":50},{"$f":"INDEX(INDIRECT(\"'\"&$C9&\"'\"&\"!\"&\"B3:H26\"),MATCH(T$1,INDIRECT(\"'\"&$C9&\"'\"&\"!\"&\"B3:B26\"),0),IF($D9=3,$D9+2,$D9+5))","v":0},{"$f":"INDEX(INDIRECT(\"'\"&$C9&\"'\"&\"!\"&\"B3:H26\"),MATCH(U$1,INDIRECT(\"'\"&$C9&\"'\"&\"!\"&\"B3:B26\"),0),IF($D9=3,$D9+2,$D9+5))","v":0},{"$f":"INDEX(INDIRECT(\"'\"&$C9&\"'\"&\"!\"&\"B3:H26\"),MATCH(V$1,INDIRECT(\"'\"&$C9&\"'\"&\"!\"&\"B3:B26\"),0),IF($D9=3,$D9+2,$D9+5))","v":0},{"$f":"INDEX(INDIRECT(\"'\"&$C9&\"'\"&\"!\"&\"B3:H26\"),MATCH(W$1,INDIRECT(\"'\"&$C9&\"'\"&\"!\"&\"B3:B26\"),0),IF($D9=3,$D9+2,$D9+5))","v":0},100]
[null,8,{"$f":"C9","v":3},1,30,10,10,50,{"$f":"INDEX(INDIRECT(\"'\"&$C10&\"'\"&\"!\"&\"B3:H26\"),MATCH(I$1,INDIRECT(\"'\"&$C10&\"'\"&\"!\"&\"B3:B26\"),0),IF($D10=3,$D10+2,$D10+5))","v":30},{"$f":"INDEX(INDIRECT(\"'\"&$C10&\"'\"&\"!\"&\"B3:H26\"),MATCH(J$1,INDIRECT(\"'\"&$C10&\"'\"&\"!\"&\"B3:B26\"),0),IF($D10=3,$D10+2,$D10+5))","v":0},{"$f":"INDEX(INDIRECT(\"'\"&$C10&\"'\"&\"!\"&\"B3:H26\"),MATCH(K$1,INDIRECT(\"'\"&$C10&\"'\"&\"!\"&\"B3:B26\"),0),IF($D10=3,$D10+2,$D10+5))","v":0},{"$f":"INDEX(INDIRECT(\"'\"&$C10&\"'\"&\"!\"&\"B3:H26\"),MATCH(L$1,INDIRECT(\"'\"&$C10&\"'\"&\"!\"&\"B3:B26\"),0),IF($D10=3,$D10+2,$D10+5))","v":0},{"$f":"INDEX(INDIRECT(\"'\"&$C10&\"'\"&\"!\"&\"B3:H26\"),MATCH(M$1,INDIRECT(\"'\"&$C10&\"'\"&\"!\"&\"B3:B26\"),0),IF($D10=3,$D10+2,$D10+5))","v":0},{"$f":"INDEX(INDIRECT(\"'\"&$C10&\"'\"&\"!\"&\"B3:H26\"),MATCH(N$1,INDIRECT(\"'\"&$C10&\"'\"&\"!\"&\"B3:B26\"),0),IF($D10=3,$D10+2,$D10+5))","v":0},{"$f":"INDEX(INDIRECT(\"'\"&$C10&\"'\"&\"!\"&\"B3:H26\"),MATCH(O$1,INDIRECT(\"'\"&$C10&\"'\"&\"!\"&\"B3:B26\"),0),IF($D10=3,$D10+2,$D10+5))","v":0},{"$f":"INDEX(INDIRECT(\"'\"&$C10&\"'\"&\"!\"&\"B3:H26\"),MATCH(P$1,INDIRECT(\"'\"&$C10&\"'\"&\"!\"&\"B3:B26\"),0),IF($D10=3,$D10+2,$D10+5))","v":0},{"$f":"INDEX(INDIRECT(\"'\"&$C10&\"'\"&\"!\"&\"B3:H26\"),MATCH(Q$1,INDIRECT(\"'\"&$C10&\"'\"&\"!\"&\"B3:B26\"),0),IF($D10=3,$D10+2,$D10+5))","v":0},{"$f":"INDEX(INDIRECT(\"'\"&$C10&\"'\"&\"!\"&\"B3:H26\"),MATCH(R$1,INDIRECT(\"'\"&$C10&\"'\"&\"!\"&\"B3:B26\"),0),IF($D10=3,$D10+2,$D10+5))","v":0},{"$f":"INDEX(INDIRECT(\"'\"&$C10&\"'\"&\"!\"&\"B3:H26\"),MATCH(S$1,INDIRECT(\"'\"&$C10&\"'\"&\"!\"&\"B3:B26\"),0),IF($D10=3,$D10+2,$D10+5))","v":0},{"$f":"INDEX(INDIRECT(\"'\"&$C10&\"'\"&\"!\"&\"B3:H26\"),MATCH(T$1,INDIRECT(\"'\"&$C10&\"'\"&\"!\"&\"B3:B26\"),0),IF($D10=3,$D10+2,$D10+5))","v":0},{"$f":"INDEX(INDIRECT(\"'\"&$C10&\"'\"&\"!\"&\"B3:H26\"),MATCH(U$1,INDIRECT(\"'\"&$C10&\"'\"&\"!\"&\"B3:B26\"),0),IF($D10=3,$D10+2,$D10+5))","v":0},{"$f":"INDEX(INDIRECT(\"'\"&$C10&\"'\"&\"!\"&\"B3:H26\"),MATCH(V$1,INDIRECT(\"'\"&$C10&\"'\"&\"!\"&\"B3:B26\"),0),IF($D10=3,$D10+2,$D10+5))","v":0},{"$f":"INDEX(INDIRECT(\"'\"&$C10&\"'\"&\"!\"&\"B3:H26\"),MATCH(W$1,INDIRECT(\"'\"&$C10&\"'\"&\"!\"&\"B3:B26\"),0),IF($D10=3,$D10+2,$D10+5))","v":0},30]
[null,9,3,2,30,10,10,50,{"$f":"INDEX(INDIRECT(\"'\"&$C11&\"'\"&\"!\"&\"B3:H26\"),MATCH(I$1,INDIRECT(\"'\"&$C11&\"'\"&\"!\"&\"B3:B26\"),0),IF($D11=3,$D11+2,$D11+5))","v":40},{"$f":"INDEX(INDIRECT(\"'\"&$C11&\"'\"&\"!\"&\"B3:H26\"),MATCH(J$1,INDIRECT(\"'\"&$C11&\"'\"&\"!\"&\"B3:B26\"),0),IF($D11=3,$D11+2,$D11+5))","v":0},{"$f":"INDEX(INDIRECT(\"'\"&$C11&\"'\"&\"!\"&\"B3:H26\"),MATCH(K$1,INDIRECT(\"'\"&$C11&\"'\"&\"!\"&\"B3:B26\"),0),IF($D11=3,$D11+2,$D11+5))","v":0},{"$f":"INDEX(INDIRECT(\"'\"&$C11&\"'\"&\"!\"&\"B3:H26\"),MATCH(L$1,INDIRECT(\"'\"&$C11&\"'\"&\"!\"&\"B3:B26\"),0),IF($D11=3,$D11+2,$D11+5))","v":0},{"$f":"INDEX(INDIRECT(\"'\"&$C11&\"'\"&\"!\"&\"B3:H26\"),MATCH(M$1,INDIRECT(\"'\"&$C11&\"'\"&\"!\"&\"B3:B26\"),0),IF($D11=3,$D11+2,$D11+5))","v":0},{"$f":"INDEX(INDIRECT(\"'\"&$C11&\"'\"&\"!\"&\"B3:H26\"),MATCH(N$1,INDIRECT(\"'\"&$C11&\"'\"&\"!\"&\"B3:B26\"),0),IF($D11=3,$D11+2,$D11+5))","v":0},{"$f":"INDEX(INDIRECT(\"'\"&$C11&\"'\"&\"!\"&\"B3:H26\"),MATCH(O$1,INDIRECT(\"'\"&$C11&\"'\"&\"!\"&\"B3:B26\"),0),IF($D11=3,$D11+2,$D11+5))","v":0},{"$f":"INDEX(INDIRECT(\"'\"&$C11&\"'\"&\"!\"&\"B3:H26\"),MATCH(P$1,INDIRECT(\"'\"&$C11&\"'\"&\"!\"&\"B3:B26\"),0),IF($D11=3,$D11+2,$D11+5))","v":0},{"$f":"INDEX(INDIRECT(\"'\"&$C11&\"'\"&\"!\"&\"B3:H26\"),MATCH(Q$1,INDIRECT(\"'\"&$C11&\"'\"&\"!\"&\"B3:B26\"),0),IF($D11=3,$D11+2,$D11+5))","v":0},{"$f":"INDEX(INDIRECT(\"'\"&$C11&\"'\"&\"!\"&\"B3:H26\"),MATCH(R$1,INDIRECT(\"'\"&$C11&\"'\"&\"!\"&\"B3:B26\"),0),IF($D11=3,$D11+2,$D11+5))","v":0},{"$f":"INDEX(INDIRECT(\"'\"&$C11&\"'\"&\"!\"&\"B3:H26\"),MATCH(S$1,INDIRECT(\"'\"&$C11&\"'\"&\"!\"&\"B3:B26\"),0),IF($D11=3,$D11+2,$D11+5))","v":0},{"$f":"INDEX(INDIRECT(\"'\"&$C11&\"'\"&\"!\"&\"B3:H26\"),MATCH(T$1,INDIRECT(\"'\"&$C11&\"'\"&\"!\"&\"B3:B26\"),0),IF($D11=3,$D11+2,$D11+5))","v":0},{"$f":"INDEX(INDIRECT(\"'\"&$C11&\"'\"&\"!\"&\"B3:H26\"),MATCH(U$1,INDIRECT(\"'\"&$C11&\"'\"&\"!\"&\"B3:B26\"),0),IF($D11=3,$D11+2,$D11+5))","v":0},{"$f":"INDEX(INDIRECT(\"'\"&$C11&\"'\"&\"!\"&\"B3:H26\"),MATCH(V$1,INDIRECT(\"'\"&$C11&\"'\"&\"!\"&\"B3:B26\"),0),IF($D11=3,$D11+2,$D11+5))","v":0},{"$f":"INDEX(INDIRECT(\"'\"&$C11&\"'\"&\"!\"&\"B3:H26\"),MATCH(W$1,INDIRECT(\"'\"&$C11&\"'\"&\"!\"&\"B3:B26\"),0),IF($D11=3,$D11+2,$D11+5))","v":0},40]
[null,10,4,3,30,10,10,50,{"$f":"INDEX(INDIRECT(\"'\"&$C12&\"'\"&\"!\"&\"B3:H26\"),MATCH(I$1,INDIRECT(\"'\"&$C12&\"'\"&\"!\"&\"B3:B26\"),0),IF($D12=3,$D12+2,$D12+5))","v":20},{"$f":"INDEX(INDIRECT(\"'\"&$C12&\"'\"&\"!\"&\"B3:H26\"),MATCH(J$1,INDIRECT(\"'\"&$C12&\"'\"&\"!\"&\"B3:B26\"),0),IF($D12=3,$D12+2,$D12+5))","v":0},{"$f":"INDEX(INDIRECT(\"'\"&$C12&\"'\"&\"!\"&\"B3:H26\"),MATCH(K$1,INDIRECT(\"'\"&$C12&\"'\"&\"!\"&\"B3:B26\"),0),IF($D12=3,$D12+2,$D12+5))","v":0},{"$f":"INDEX(INDIRECT(\"'\"&$C12&\"'\"&\"!\"&\"B3:H26\"),MATCH(L$1,INDIRECT(\"'\"&$C12&\"'\"&\"!\"&\"B3:B26\"),0),IF($D12=3,$D12+2,$D12+5))","v":0},{"$f":"INDEX(INDIRECT(\"'\"&$C12&\"'\"&\"!\"&\"B3:H26\"),MATCH(M$1,INDIRECT(\"'\"&$C12&\"'\"&\"!\"&\"B3:B26\"),0),IF($D12=3,$D12+2,$D12+5))","v":0},{"$f":"INDEX(INDIRECT(\"'\"&$C12&\"'\"&\"!\"&\"B3:H26\"),MATCH(N$1,INDIRECT(\"'\"&$C12&\"'\"&\"!\"&\"B3:B26\"),0),IF($D12=3,$D12+2,$D12+5))","v":50},{"$f":"INDEX(INDIRECT(\"'\"&$C12&\"'\"&\"!\"&\"B3:H26\"),MATCH(O$1,INDIRECT(\"'\"&$C12&\"'\"&\"!\"&\"B3:B26\"),0),IF($D12=3,$D12+2,$D12+5))","v":0},{"$f":"INDEX(INDIRECT(\"'\"&$C12&\"'\"&\"!\"&\"B3:H26\"),MATCH(P$1,INDIRECT(\"'\"&$C12&\"'\"&\"!\"&\"B3:B26\"),0),IF($D12=3,$D12+2,$D12+5))","v":0},{"$f":"INDEX(INDIRECT(\"'\"&$C12&\"'\"&\"!\"&\"B3:H26\"),MATCH(Q$1,INDIRECT(\"'\"&$C12&\"'\"&\"!\"&\"B3:B26\"),0),IF($D12=3,$D12+2,$D12+5))","v":0},{"$f":"INDEX(INDIRECT(\"'\"&$C12&\"'\"&\"!\"&\"B3:H26\"),MATCH(R$1,INDIRECT(\"'\"&$C12&\"'\"&\"!\"&\"B3:B26\"),0),IF($D12=3,$D12+2,$D12+5))","v":0},{"$f":"INDEX(INDIRECT(\"'\"&$C12&\"'\"&\"!\"&\"B3:H26\"),MATCH(S$1,INDIRECT(\"'\"&$C12&\"'\"&\"!\"&\"B3:B26\"),0),IF($D12=3,$D12+2,$D12+5))","v":50},{"$f":"INDEX(INDIRECT(\"'\"&$C12&\"'\"&\"!\"&\"B3:H26\"),MATCH(T$1,INDIRECT(\"'\"&$C12&\"'\"&\"!\"&\"B3:B26\"),0),IF($D12=3,$D12+2,$D12+5))","v":0},{"$f":"INDEX(INDIRECT(\"'\"&$C12&\"'\"&\"!\"&\"B3:H26\"),MATCH(U$1,INDIRECT(\"'\"&$C12&\"'\"&\"!\"&\"B3:B26\"),0),IF($D12=3,$D12+2,$D12+5))","v":0},{"$f":"INDEX(INDIRECT(\"'\"&$C12&\"'\"&\"!\"&\"B3:H26\"),MATCH(V$1,INDIRECT(\"'\"&$C12&\"'\"&\"!\"&\"B3:B26\"),0),IF($D12=3,$D12+2,$D12+5))","v":0},{"$f":"INDEX(INDIRECT(\"'\"&$C12&\"'\"&\"!\"&\"B3:H26\"),MATCH(W$1,INDIRECT(\"'\"&$C12&\"'\"&\"!\"&\"B3:B26\"),0),IF($D12=3,$D12+2,$D12+5))","v":0},120]
[null,11,{"$f":"C12","v":4},1,30,10,10,50,{"$f":"INDEX(INDIRECT(\"'\"&$C13&\"'\"&\"!\"&\"B3:H26\"),MATCH(I$1,INDIRECT(\"'\"&$C13&\"'\"&\"!\"&\"B3:B26\"),0),IF($D13=3,$D13+2,$D13+5))","v":30},{"$f":"INDEX(INDIRECT(\"'\"&$C13&\"'\"&\"!\"&\"B3:H26\"),MATCH(J$1,INDIRECT(\"'\"&$C13&\"'\"&\"!\"&\"B3:B26\"),0),IF($D13=3,$D13+2,$D13+5))","v":0},{"$f":"INDEX(INDIRECT(\"'\"&$C13&\"'\"&\"!\"&\"B3:H26\"),MATCH(K$1,INDIRECT(\"'\"&$C13&\"'\"&\"!\"&\"B3:B26\"),0),IF($D13=3,$D13+2,$D13+5))","v":0},{"$f":"INDEX(INDIRECT(\"'\"&$C13&\"'\"&\"!\"&\"B3:H26\"),MATCH(L$1,INDIRECT(\"'\"&$C13&\"'\"&\"!\"&\"B3:B26\"),0),IF($D13=3,$D13+2,$D13+5))","v":0},{"$f":"INDEX(INDIRECT(\"'\"&$C13&\"'\"&\"!\"&\"B3:H26\"),MATCH(M$1,INDIRECT(\"'\"&$C13&\"'\"&\"!\"&\"B3:B26\"),0),IF($D13=3,$D13+2,$D13+5))","v":0},{"$f":"INDEX(INDIRECT(\"'\"&$C13&\"'\"&\"!\"&\"B3:H26\"),MATCH(N$1,INDIRECT(\"'\"&$C13&\"'\"&\"!\"&\"B3:B26\"),0),IF($D13=3,$D13+2,$D13+5))","v":0},{"$f":"INDEX(INDIRECT(\"'\"&$C13&\"'\"&\"!\"&\"B3:H26\"),MATCH(O$1,INDIRECT(\"'\"&$C13&\"'\"&\"!\"&\"B3:B26\"),0),IF($D13=3,$D13+2,$D13+5))","v":0},{"$f":"INDEX(INDIRECT(\"'\"&$C13&\"'\"&\"!\"&\"B3:H26\"),MATCH(P$1,INDIRECT(\"'\"&$C13&\"'\"&\"!\"&\"B3:B26\"),0),IF($D13=3,$D13+2,$D13+5))","v":0},{"$f":"INDEX(INDIRECT(\"'\"&$C13&\"'\"&\"!\"&\"B3:H26\"),MATCH(Q$1,INDIRECT(\"'\"&$C13&\"'\"&\"!\"&\"B3:B26\"),0),IF($D13=3,$D13+2,$D13+5))","v":0},{"$f":"INDEX(INDIRECT(\"'\"&$C13&\"'\"&\"!\"&\"B3:H26\"),MATCH(R$1,INDIRECT(\"'\"&$C13&\"'\"&\"!\"&\"B3:B26\"),0),IF($D13=3,$D13+2,$D13+5))","v":0},{"$f":"INDEX(INDIRECT(\"'\"&$C13&\"'\"&\"!\"&\"B3:H26\"),MATCH(S$1,INDIRECT(\"'\"&$C13&\"'\"&\"!\"&\"B3:B26\"),0),IF($D13=3,$D13+2,$D13+5))","v":0},{"$f":"INDEX(INDIRECT(\"'\"&$C13&\"'\"&\"!\"&\"B3:H26\"),MATCH(T$1,INDIRECT(\"'\"&$C13&\"'\"&\"!\"&\"B3:B26\"),0),IF($D13=3,$D13+2,$D13+5))","v":0},{"$f":"INDEX(INDIRECT(\"'\"&$C13&\"'\"&\"!\"&\"B3:H26\"),MATCH(U$1,INDIRECT(\"'\"&$C13&\"'\"&\"!\"&\"B3:B26\"),0),IF($D13=3,$D13+2,$D13+5))","v":0},{"$f":"INDEX(INDIRECT(\"'\"&$C13&\"'\"&\"!\"&\"B3:H26\"),MATCH(V$1,INDIRECT(\"'\"&$C13&\"'\"&\"!\"&\"B3:B26\"),0),IF($D13=3,$D13+2,$D13+5))","v":0},{"$f":"INDEX(INDIRECT(\"'\"&$C13&\"'\"&\"!\"&\"B3:H26\"),MATCH(W$1,INDIRECT(\"'\"&$C13&\"'\"&\"!\"&\"B3:B26\"),0),IF($D13=3,$D13+2,$D13+5))","v":0},30]
[null,12,4,2,30,10,10,50,{"$f":"INDEX(INDIRECT(\"'\"&$C14&\"'\"&\"!\"&\"B3:H26\"),MATCH(I$1,INDIRECT(\"'\"&$C14&\"'\"&\"!\"&\"B3:B26\"),0),IF($D14=3,$D14+2,$D14+5))","v":40},{"$f":"INDEX(INDIRECT(\"'\"&$C14&\"'\"&\"!\"&\"B3:H26\"),MATCH(J$1,INDIRECT(\"'\"&$C14&\"'\"&\"!\"&\"B3:B26\"),0),IF($D14=3,$D14+2,$D14+5))","v":0},{"$f":"INDEX(INDIRECT(\"'\"&$C14&\"'\"&\"!\"&\"B3:H26\"),MATCH(K$1,INDIRECT(\"'\"&$C14&\"'\"&\"!\"&\"B3:B26\"),0),IF($D14=3,$D14+2,$D14+5))","v":0},{"$f":"INDEX(INDIRECT(\"'\"&$C14&\"'\"&\"!\"&\"B3:H26\"),MATCH(L$1,INDIRECT(\"'\"&$C14&\"'\"&\"!\"&\"B3:B26\"),0),IF($D14=3,$D14+2,$D14+5))","v":0},{"$f":"INDEX(INDIRECT(\"'\"&$C14&\"'\"&\"!\"&\"B3:H26\"),MATCH(M$1,INDIRECT(\"'\"&$C14&\"'\"&\"!\"&\"B3:B26\"),0),IF($D14=3,$D14+2,$D14+5))","v":0},{"$f":"INDEX(INDIRECT(\"'\"&$C14&\"'\"&\"!\"&\"B3:H26\"),MATCH(N$1,INDIRECT(\"'\"&$C14&\"'\"&\"!\"&\"B3:B26\"),0),IF($D14=3,$D14+2,$D14+5))","v":0},{"$f":"INDEX(INDIRECT(\"'\"&$C14&\"'\"&\"!\"&\"B3:H26\"),MATCH(O$1,INDIRECT(\"'\"&$C14&\"'\"&\"!\"&\"B3:B26\"),0),IF($D14=3,$D14+2,$D14+5))","v":0},{"$f":"INDEX(INDIRECT(\"'\"&$C14&\"'\"&\"!\"&\"B3:H26\"),MATCH(P$1,INDIRECT(\"'\"&$C14&\"'\"&\"!\"&\"B3:B26\"),0),IF($D14=3,$D14+2,$D14+5))","v":0},{"$f":"INDEX(INDIRECT(\"'\"&$C14&\"'\"&\"!\"&\"B3:H26\"),MATCH(Q$1,INDIRECT(\"'\"&$C14&\"'\"&\"!\"&\"B3:B26\"),0),IF($D14=3,$D14+2,$D14+5))","v":0},{"$f":"INDEX(INDIRECT(\"'\"&$C14&\"'\"&\"!\"&\"B3:H26\"),MATCH(R$1,INDIRECT(\"'\"&$C14&\"'\"&\"!\"&\"B3:B26\"),0),IF($D14=3,$D14+2,$D14+5))","v":0},{"$f":"INDEX(INDIRECT(\"'\"&$C14&\"'\"&\"!\"&\"B3:H26\"),MATCH(S$1,INDIRECT(\"'\"&$C14&\"'\"&\"!\"&\"B3:B26\"),0),IF($D14=3,$D14+2,$D14+5))","v":0},{"$f":"INDEX(INDIRECT(\"'\"&$C14&\"'\"&\"!\"&\"B3:H26\"),MATCH(T$1,INDIRECT(\"'\"&$C14&\"'\"&\"!\"&\"B3:B26\"),0),IF($D14=3,$D14+2,$D14+5))","v":0},{"$f":"INDEX(INDIRECT(\"'\"&$C14&\"'\"&\"!\"&\"B3:H26\"),MATCH(U$1,INDIRECT(\"'\"&$C14&\"'\"&\"!\"&\"B3:B26\"),0),IF($D14=3,$D14+2,$D14+5))","v":0},{"$f":"INDEX(INDIRECT(\"'\"&$C14&\"'\"&\"!\"&\"B3:H26\"),MATCH(V$1,INDIRECT(\"'\"&$C14&\"'\"&\"!\"&\"B3:B26\"),0),IF($D14=3,$D14+2,$D14+5))","v":0},{"$f":"INDEX(INDIRECT(\"'\"&$C14&\"'\"&\"!\"&\"B3:H26\"),MATCH(W$1,INDIRECT(\"'\"&$C14&\"'\"&\"!\"&\"B3:B26\"),0),IF($D14=3,$D14+2,$D14+5))","v":0},40]
[null,13,5,3,30,10,10,50,{"$f":"INDEX(INDIRECT(\"'\"&$C15&\"'\"&\"!\"&\"B3:H26\"),MATCH(I$1,INDIRECT(\"'\"&$C15&\"'\"&\"!\"&\"B3:B26\"),0),IF($D15=3,$D15+2,$D15+5))","v":20},{"$f":"INDEX(INDIRECT(\"'\"&$C15&\"'\"&\"!\"&\"B3:H26\"),MATCH(J$1,INDIRECT(\"'\"&$C15&\"'\"&\"!\"&\"B3:B26\"),0),IF($D15=3,$D15+2,$D15+5))","v":0},{"$f":"INDEX(INDIRECT(\"'\"&$C15&\"'\"&\"!\"&\"B3:H26\"),MATCH(K$1,INDIRECT(\"'\"&$C15&\"'\"&\"!\"&\"B3:B26\"),0),IF($D15=3,$D15+2,$D15+5))","v":0},{"$f":"INDEX(INDIRECT(\"'\"&$C15&\"'\"&\"!\"&\"B3:H26\"),MATCH(L$1,INDIRECT(\"'\"&$C15&\"'\"&\"!\"&\"B3:B26\"),0),IF($D15=3,$D15+2,$D15+5))","v":0},{"$f":"INDEX(INDIRECT(\"'\"&$C15&\"'\"&\"!\"&\"B3:H26\"),MATCH(M$1,INDIRECT(\"'\"&$C15&\"'\"&\"!\"&\"B3:B26\"),0),IF($D15=3,$D15+2,$D15+5))","v":0},{"$f":"INDEX(INDIRECT(\"'\"&$C15&\"'\"&\"!\"&\"B3:H26\"),MATCH(N$1,INDIRECT(\"'\"&$C15&\"'\"&\"!\"&\"B3:B26\"),0),IF($D15=3,$D15+2,$D15+5))","v":50},{"$f":"INDEX(INDIRECT(\"'\"&$C15&\"'\"&\"!\"&\"B3:H26\"),MATCH(O$1,INDIRECT(\"'\"&$C15&\"'\"&\"!\"&\"B3:B26\"),0),IF($D15=3,$D15+2,$D15+5))","v":0},{"$f":"INDEX(INDIRECT(\"'\"&$C15&\"'\"&\"!\"&\"B3:H26\"),MATCH(P$1,INDIRECT(\"'\"&$C15&\"'\"&\"!\"&\"B3:B26\"),0),IF($D15=3,$D15+2,$D15+5))","v":0},{"$f":"INDEX(INDIRECT(\"'\"&$C15&\"'\"&\"!\"&\"B3:H26\"),MATCH(Q$1,INDIRECT(\"'\"&$C15&\"'\"&\"!\"&\"B3:B26\"),0),IF($D15=3,$D15+2,$D15+5))","v":0},{"$f":"INDEX(INDIRECT(\"'\"&$C15&\"'\"&\"!\"&\"B3:H26\"),MATCH(R$1,INDIRECT(\"'\"&$C15&\"'\"&\"!\"&\"B3:B26\"),0),IF($D15=3,$D15+2,$D15+5))","v":0},{"$f":"INDEX(INDIRECT(\"'\"&$C15&\"'\"&\"!\"&\"B3:H26\"),MATCH(S$1,INDIRECT(\"'\"&$C15&\"'\"&\"!\"&\"B3:B26\"),0),IF($D15=3,$D15+2,$D15+5))","v":50},{"$f":"INDEX(INDIRECT(\"'\"&$C15&\"'\"&\"!\"&\"B3:H26\"),MATCH(T$1,INDIRECT(\"'\"&$C15&\"'\"&\"!\"&\"B3:B26\"),0),IF($D15=3,$D15+2,$D15+5))","v":0},{"$f":"INDEX(INDIRECT(\"'\"&$C15&\"'\"&\"!\"&\"B3:H26\"),MATCH(U$1,INDIRECT(\"'\"&$C15&\"'\"&\"!\"&\"B3:B26\"),0),IF($D15=3,$D15+2,$D15+5))","v":0},{"$f":"INDEX(INDIRECT(\"'\"&$C15&\"'\"&\"!\"&\"B3:H26\"),MATCH(V$1,INDIRECT(\"'\"&$C15&\"'\"&\"!\"&\"B3:B26\"),0),IF($D15=3,$D15+2,$D15+5))","v":0},{"$f":"INDEX(INDIRECT(\"'\"&$C15&\"'\"&\"!\"&\"B3:H26\"),MATCH(W$1,INDIRECT(\"'\"&$C15&\"'\"&\"!\"&\"B3:B26\"),0),IF($D15=3,$D15+2,$D15+5))","v":0},120]
[null,14,{"$f":"C15","v":5},1,30,10,10,50,{"$f":"INDEX(INDIRECT(\"'\"&$C16&\"'\"&\"!\"&\"B3:H26\"),MATCH(I$1,INDIRECT(\"'\"&$C16&\"'\"&\"!\"&\"B3:B26\"),0),IF($D16=3,$D16+2,$D16+5))","v":30},{"$f":"INDEX(INDIRECT(\"'\"&$C16&\"'\"&\"!\"&\"B3:H26\"),MATCH(J$1,INDIRECT(\"'\"&$C16&\"'\"&\"!\"&\"B3:B26\"),0),IF($D16=3,$D16+2,$D16+5))","v":0},{"$f":"INDEX(INDIRECT(\"'\"&$C16&\"'\"&\"!\"&\"B3:H26\"),MATCH(K$1,INDIRECT(\"'\"&$C16&\"'\"&\"!\"&\"B3:B26\"),0),IF($D16=3,$D16+2,$D16+5))","v":0},{"$f":"INDEX(INDIRECT(\"'\"&$C16&\"'\"&\"!\"&\"B3:H26\"),MATCH(L$1,INDIRECT(\"'\"&$C16&\"'\"&\"!\"&\"B3:B26\"),0),IF($D16=3,$D16+2,$D16+5))","v":0},{"$f":"INDEX(INDIRECT(\"'\"&$C16&\"'\"&\"!\"&\"B3:H26\"),MATCH(M$1,INDIRECT(\"'\"&$C16&\"'\"&\"!\"&\"B3:B26\"),0),IF($D16=3,$D16+2,$D16+5))","v":0},{"$f":"INDEX(INDIRECT(\"'\"&$C16&\"'\"&\"!\"&\"B3:H26\"),MATCH(N$1,INDIRECT(\"'\"&$C16&\"'\"&\"!\"&\"B3:B26\"),0),IF($D16=3,$D16+2,$D16+5))","v":0},{"$f":"INDEX(INDIRECT(\"'\"&$C16&\"'\"&\"!\"&\"B3:H26\"),MATCH(O$1,INDIRECT(\"'\"&$C16&\"'\"&\"!\"&\"B3:B26\"),0),IF($D16=3,$D16+2,$D16+5))","v":0},{"$f":"INDEX(INDIRECT(\"'\"&$C16&\"'\"&\"!\"&\"B3:H26\"),MATCH(P$1,INDIRECT(\"'\"&$C16&\"'\"&\"!\"&\"B3:B26\"),0),IF($D16=3,$D16+2,$D16+5))","v":0},{"$f":"INDEX(INDIRECT(\"'\"&$C16&\"'\"&\"!\"&\"B3:H26\"),MATCH(Q$1,INDIRECT(\"'\"&$C16&\"'\"&\"!\"&\"B3:B26\"),0),IF($D16=3,$D16+2,$D16+5))","v":0},{"$f":"INDEX(INDIRECT(\"'\"&$C16&\"'\"&\"!\"&\"B3:H26\"),MATCH(R$1,INDIRECT(\"'\"&$C16&\"'\"&\"!\"&\"B3:B26\"),0),IF($D16=3,$D16+2,$D16+5))","v":0},{"$f":"INDEX(INDIRECT(\"'\"&$C16&\"'\"&\"!\"&\"B3:H26\"),MATCH(S$1,INDIRECT(\"'\"&$C16&\"'\"&\"!\"&\"B3:B26\"),0),IF($D16=3,$D16+2,$D16+5))","v":0},{"$f":"INDEX(INDIRECT(\"'\"&$C16&\"'\"&\"!\"&\"B3:H26\"),MATCH(T$1,INDIRECT(\"'\"&$C16&\"'\"&\"!\"&\"B3:B26\"),0),IF($D16=3,$D16+2,$D16+5))","v":0},{"$f":"INDEX(INDIRECT(\"'\"&$C16&\"'\"&\"!\"&\"B3:H26\"),MATCH(U$1,INDIRECT(\"'\"&$C16&\"'\"&\"!\"&\"B3:B26\"),0),IF($D16=3,$D16+2,$D16+5))","v":0},{"$f":"INDEX(INDIRECT(\"'\"&$C16&\"'\"&\"!\"&\"B3:H26\"),MATCH(V$1,INDIRECT(\"'\"&$C16&\"'\"&\"!\"&\"B3:B26\"),0),IF($D16=3,$D16+2,$D16+5))","v":0},{"$f":"INDEX(INDIRECT(\"'\"&$C16&\"'\"&\"!\"&\"B3:H26\"),MATCH(W$1,INDIRECT(\"'\"&$C16&\"'\"&\"!\"&\"B3:B26\"),0),IF($D16=3,$D16+2,$D16+5))","v":0},30]
[null,15,5,2,30,10,10,50,{"$f":"INDEX(INDIRECT(\"'\"&$C17&\"'\"&\"!\"&\"B3:H26\"),MATCH(I$1,INDIRECT(\"'\"&$C17&\"'\"&\"!\"&\"B3:B26\"),0),IF($D17=3,$D17+2,$D17+5))","v":40},{"$f":"INDEX(INDIRECT(\"'\"&$C17&\"'\"&\"!\"&\"B3:H26\"),MATCH(J$1,INDIRECT(\"'\"&$C17&\"'\"&\"!\"&\"B3:B26\"),0),IF($D17=3,$D17+2,$D17+5))","v":0},{"$f":"INDEX(INDIRECT(\"'\"&$C17&\"'\"&\"!\"&\"B3:H26\"),MATCH(K$1,INDIRECT(\"'\"&$C17&\"'\"&\"!\"&\"B3:B26\"),0),IF($D17=3,$D17+2,$D17+5))","v":0},{"$f":"INDEX(INDIRECT(\"'\"&$C17&\"'\"&\"!\"&\"B3:H26\"),MATCH(L$1,INDIRECT(\"'\"&$C17&\"'\"&\"!\"&\"B3:B26\"),0),IF($D17=3,$D17+2,$D17+5))","v":0},{"$f":"INDEX(INDIRECT(\"'\"&$C17&\"'\"&\"!\"&\"B3:H26\"),MATCH(M$1,INDIRECT(\"'\"&$C17&\"'\"&\"!\"&\"B3:B26\"),0),IF($D17=3,$D17+2,$D17+5))","v":0},{"$f":"INDEX(INDIRECT(\"'\"&$C17&\"'\"&\"!\"&\"B3:H26\"),MATCH(N$1,INDIRECT(\"'\"&$C17&\"'\"&\"!\"&\"B3:B26\"),0),IF($D17=3,$D17+2,$D17+5))","v":0},{"$f":"INDEX(INDIRECT(\"'\"&$C17&\"'\"&\"!\"&\"B3:H26\"),MATCH(O$1,INDIRECT(\"'\"&$C17&\"'\"&\"!\"&\"B3:B26\"),0),IF($D17=3,$D17+2,$D17+5))","v":0},{"$f":"INDEX(INDIRECT(\"'\"&$C17&\"'\"&\"!\"&\"B3:H26\"),MATCH(P$1,INDIRECT(\"'\"&$C17&\"'\"&\"!\"&\"B3:B26\"),0),IF($D17=3,$D17+2,$D17+5))","v":0},{"$f":"INDEX(INDIRECT(\"'\"&$C17&\"'\"&\"!\"&\"B3:H26\"),MATCH(Q$1,INDIRECT(\"'\"&$C17&\"'\"&\"!\"&\"B3:B26\"),0),IF($D17=3,$D17+2,$D17+5))","v":0},{"$f":"INDEX(INDIRECT(\"'\"&$C17&\"'\"&\"!\"&\"B3:H26\"),MATCH(R$1,INDIRECT(\"'\"&$C17&\"'\"&\"!\"&\"B3:B26\"),0),IF($D17=3,$D17+2,$D17+5))","v":0},{"$f":"INDEX(INDIRECT(\"'\"&$C17&\"'\"&\"!\"&\"B3:H26\"),MATCH(S$1,INDIRECT(\"'\"&$C17&\"'\"&\"!\"&\"B3:B26\"),0),IF($D17=3,$D17+2,$D17+5))","v":0},{"$f":"INDEX(INDIRECT(\"'\"&$C17&\"'\"&\"!\"&\"B3:H26\"),MATCH(T$1,INDIRECT(\"'\"&$C17&\"'\"&\"!\"&\"B3:B26\"),0),IF($D17=3,$D17+2,$D17+5))","v":0},{"$f":"INDEX(INDIRECT(\"'\"&$C17&\"'\"&\"!\"&\"B3:H26\"),MATCH(U$1,INDIRECT(\"'\"&$C17&\"'\"&\"!\"&\"B3:B26\"),0),IF($D17=3,$D17+2,$D17+5))","v":0},{"$f":"INDEX(INDIRECT(\"'\"&$C17&\"'\"&\"!\"&\"B3:H26\"),MATCH(V$1,INDIRECT(\"'\"&$C17&\"'\"&\"!\"&\"B3:B26\"),0),IF($D17=3,$D17+2,$D17+5))","v":0},{"$f":"INDEX(INDIRECT(\"'\"&$C17&\"'\"&\"!\"&\"B3:H26\"),MATCH(W$1,INDIRECT(\"'\"&$C17&\"'\"&\"!\"&\"B3:B26\"),0),IF($D17=3,$D17+2,$D17+5))","v":0},40]
[null,16,6,3,30,10,10,50,{"$f":"INDEX(INDIRECT(\"'\"&$C18&\"'\"&\"!\"&\"B3:H26\"),MATCH(I$1,INDIRECT(\"'\"&$C18&\"'\"&\"!\"&\"B3:B26\"),0),IF($D18=3,$D18+2,$D18+5))","v":20},{"$f":"INDEX(INDIRECT(\"'\"&$C18&\"'\"&\"!\"&\"B3:H26\"),MATCH(J$1,INDIRECT(\"'\"&$C18&\"'\"&\"!\"&\"B3:B26\"),0),IF($D18=3,$D18+2,$D18+5))","v":0},{"$f":"INDEX(INDIRECT(\"'\"&$C18&\"'\"&\"!\"&\"B3:H26\"),MATCH(K$1,INDIRECT(\"'\"&$C18&\"'\"&\"!\"&\"B3:B26\"),0),IF($D18=3,$D18+2,$D18+5))","v":0},{"$f":"INDEX(INDIRECT(\"'\"&$C18&\"'\"&\"!\"&\"B3:H26\"),MATCH(L$1,INDIRECT(\"'\"&$C18&\"'\"&\"!\"&\"B3:B26\"),0),IF($D18=3,$D18+2,$D18+5))","v":0},{"$f":"INDEX(INDIRECT(\"'\"&$C18&\"'\"&\"!\"&\"B3:H26\"),MATCH(M$1,INDIRECT(\"'\"&$C18&\"'\"&\"!\"&\"B3:B26\"),0),IF($D18=3,$D18+2,$D18+5))","v":0},{"$f":"INDEX(INDIRECT(\"'\"&$C18&\"'\"&\"!\"&\"B3:H26\"),MATCH(N$1,INDIRECT(\"'\"&$C18&\"'\"&\"!\"&\"B3:B26\"),0),IF($D18=3,$D18+2,$D18+5))","v":50},{"$f":"INDEX(INDIRECT(\"'\"&$C18&\"'\"&\"!\"&\"B3:H26\"),MATCH(O$1,INDIRECT(\"'\"&$C18&\"'\"&\"!\"&\"B3:B26\"),0),IF($D18=3,$D18+2,$D18+5))","v":0},{"$f":"INDEX(INDIRECT(\"'\"&$C18&\"'\"&\"!\"&\"B3:H26\"),MATCH(P$1,INDIRECT(\"'\"&$C18&\"'\"&\"!\"&\"B3:B26\"),0),IF($D18=3,$D18+2,$D18+5))","v":0},{"$f":"INDEX(INDIRECT(\"'\"&$C18&\"'\"&\"!\"&\"B3:H26\"),MATCH(Q$1,INDIRECT(\"'\"&$C18&\"'\"&\"!\"&\"B3:B26\"),0),IF($D18=3,$D18+2,$D18+5))","v":0},{"$f":"INDEX(INDIRECT(\"'\"&$C18&\"'\"&\"!\"&\"B3:H26\"),MATCH(R$1,INDIRECT(\"'\"&$C18&\"'\"&\"!\"&\"B3:B26\"),0),IF($D18=3,$D18+2,$D18+5))","v":0},{"$f":"INDEX(INDIRECT(\"'\"&$C18&\"'\"&\"!\"&\"B3:H26\"),MATCH(S$1,INDIRECT(\"'\"&$C18&\"'\"&\"!\"&\"B3:B26\"),0),IF($D18=3,$D18+2,$D18+5))","v":50},{"$f":"INDEX(INDIRECT(\"'\"&$C18&\"'\"&\"!\"&\"B3:H26\"),MATCH(T$1,INDIRECT(\"'\"&$C18&\"'\"&\"!\"&\"B3:B26\"),0),IF($D18=3,$D18+2,$D18+5))","v":0},{"$f":"INDEX(INDIRECT(\"'\"&$C18&\"'\"&\"!\"&\"B3:H26\"),MATCH(U$1,INDIRECT(\"'\"&$C18&\"'\"&\"!\"&\"B3:B26\"),0),IF($D18=3,$D18+2,$D18+5))","v":0},{"$f":"INDEX(INDIRECT(\"'\"&$C18&\"'\"&\"!\"&\"B3:H26\"),MATCH(V$1,INDIRECT(\"'\"&$C18&\"'\"&\"!\"&\"B3:B26\"),0),IF($D18=3,$D18+2,$D18+5))","v":0},{"$f":"INDEX(INDIRECT(\"'\"&$C18&\"'\"&\"!\"&\"B3:H26\"),MATCH(W$1,INDIRECT(\"'\"&$C18&\"'\"&\"!\"&\"B3:B26\"),0),IF($D18=3,$D18+2,$D18+5))","v":0},120]
[null,17,{"$f":"C18","v":6},1,30,10,10,50,{"$f":"INDEX(INDIRECT(\"'\"&$C19&\"'\"&\"!\"&\"B3:H26\"),MATCH(I$1,INDIRECT(\"'\"&$C19&\"'\"&\"!\"&\"B3:B26\"),0),IF($D19=3,$D19+2,$D19+5))","v":30},{"$f":"INDEX(INDIRECT(\"'\"&$C19&\"'\"&\"!\"&\"B3:H26\"),MATCH(J$1,INDIRECT(\"'\"&$C19&\"'\"&\"!\"&\"B3:B26\"),0),IF($D19=3,$D19+2,$D19+5))","v":0},{"$f":"INDEX(INDIRECT(\"'\"&$C19&\"'\"&\"!\"&\"B3:H26\"),MATCH(K$1,INDIRECT(\"'\"&$C19&\"'\"&\"!\"&\"B3:B26\"),0),IF($D19=3,$D19+2,$D19+5))","v":0},{"$f":"INDEX(INDIRECT(\"'\"&$C19&\"'\"&\"!\"&\"B3:H26\"),MATCH(L$1,INDIRECT(\"'\"&$C19&\"'\"&\"!\"&\"B3:B26\"),0),IF($D19=3,$D19+2,$D19+5))","v":0},{"$f":"INDEX(INDIRECT(\"'\"&$C19&\"'\"&\"!\"&\"B3:H26\"),MATCH(M$1,INDIRECT(\"'\"&$C19&\"'\"&\"!\"&\"B3:B26\"),0),IF($D19=3,$D19+2,$D19+5))","v":0},{"$f":"INDEX(INDIRECT(\"'\"&$C19&\"'\"&\"!\"&\"B3:H26\"),MATCH(N$1,INDIRECT(\"'\"&$C19&\"'\"&\"!\"&\"B3:B26\"),0),IF($D19=3,$D19+2,$D19+5))","v":0},{"$f":"INDEX(INDIRECT(\"'\"&$C19&\"'\"&\"!\"&\"B3:H26\"),MATCH(O$1,INDIRECT(\"'\"&$C19&\"'\"&\"!\"&\"B3:B26\"),0),IF($D19=3,$D19+2,$D19+5))","v":0},{"$f":"INDEX(INDIRECT(\"'\"&$C19&\"'\"&\"!\"&\"B3:H26\"),MATCH(P$1,INDIRECT(\"'\"&$C19&\"'\"&\"!\"&\"B3:B26\"),0),IF($D19=3,$D19+2,$D19+5))","v":0},{"$f":"INDEX(INDIRECT(\"'\"&$C19&\"'\"&\"!\"&\"B3:H26\"),MATCH(Q$1,INDIRECT(\"'\"&$C19&\"'\"&\"!\"&\"B3:B26\"),0),IF($D19=3,$D19+2,$D19+5))","v":0},{"$f":"INDEX(INDIRECT(\"'\"&$C19&\"'\"&\"!\"&\"B3:H26\"),MATCH(R$1,INDIRECT(\"'\"&$C19&\"'\"&\"!\"&\"B3:B26\"),0),IF($D19=3,$D19+2,$D19+5))","v":0},{"$f":"INDEX(INDIRECT(\"'\"&$C19&\"'\"&\"!\"&\"B3:H26\"),MATCH(S$1,INDIRECT(\"'\"&$C19&\"'\"&\"!\"&\"B3:B26\"),0),IF($D19=3,$D19+2,$D19+5))","v":0},{"$f":"INDEX(INDIRECT(\"'\"&$C19&\"'\"&\"!\"&\"B3:H26\"),MATCH(T$1,INDIRECT(\"'\"&$C19&\"'\"&\"!\"&\"B3:B26\"),0),IF($D19=3,$D19+2,$D19+5))","v":0},{"$f":"INDEX(INDIRECT(\"'\"&$C19&\"'\"&\"!\"&\"B3:H26\"),MATCH(U$1,INDIRECT(\"'\"&$C19&\"'\"&\"!\"&\"B3:B26\"),0),IF($D19=3,$D19+2,$D19+5))","v":0},{"$f":"INDEX(INDIRECT(\"'\"&$C19&\"'\"&\"!\"&\"B3:H26\"),MATCH(V$1,INDIRECT(\"'\"&$C19&\"'\"&\"!\"&\"B3:B26\"),0),IF($D19=3,$D19+2,$D19+5))","v":0},{"$f":"INDEX(INDIRECT(\"'\"&$C19&\"'\"&\"!\"&\"B3:H26\"),MATCH(W$1,INDIRECT(\"'\"&$C19&\"'\"&\"!\"&\"B3:B26\"),0),IF($D19=3,$D19+2,$D19+5))","v":0},30]
[null,18,6,2,30,10,10,50,{"$f":"INDEX(INDIRECT(\"'\"&$C20&\"'\"&\"!\"&\"B3:H26\"),MATCH(I$1,INDIRECT(\"'\"&$C20&\"'\"&\"!\"&\"B3:B26\"),0),IF($D20=3,$D20+2,$D20+5))","v":40},{"$f":"INDEX(INDIRECT(\"'\"&$C20&\"'\"&\"!\"&\"B3:H26\"),MATCH(J$1,INDIRECT(\"'\"&$C20&\"'\"&\"!\"&\"B3:B26\"),0),IF($D20=3,$D20+2,$D20+5))","v":0},{"$f":"INDEX(INDIRECT(\"'\"&$C20&\"'\"&\"!\"&\"B3:H26\"),MATCH(K$1,INDIRECT(\"'\"&$C20&\"'\"&\"!\"&\"B3:B26\"),0),IF($D20=3,$D20+2,$D20+5))","v":0},{"$f":"INDEX(INDIRECT(\"'\"&$C20&\"'\"&\"!\"&\"B3:H26\"),MATCH(L$1,INDIRECT(\"'\"&$C20&\"'\"&\"!\"&\"B3:B26\"),0),IF($D20=3,$D20+2,$D20+5))","v":0},{"$f":"INDEX(INDIRECT(\"'\"&$C20&\"'\"&\"!\"&\"B3:H26\"),MATCH(M$1,INDIRECT(\"'\"&$C20&\"'\"&\"!\"&\"B3:B26\"),0),IF($D20=3,$D20+2,$D20+5))","v":0},{"$f":"INDEX(INDIRECT(\"'\"&$C20&\"'\"&\"!\"&\"B3:H26\"),MATCH(N$1,INDIRECT(\"'\"&$C20&\"'\"&\"!\"&\"B3:B26\"),0),IF($D20=3,$D20+2,$D20+5))","v":0},{"$f":"INDEX(INDIRECT(\"'\"&$C20&\"'\"&\"!\"&\"B3:H26\"),MATCH(O$1,INDIRECT(\"'\"&$C20&\"'\"&\"!\"&\"B3:B26\"),0),IF($D20=3,$D20+2,$D20+5))","v":0},{"$f":"INDEX(INDIRECT(\"'\"&$C20&\"'\"&\"!\"&\"B3:H26\"),MATCH(P$1,INDIRECT(\"'\"&$C20&\"'\"&\"!\"&\"B3:B26\"),0),IF($D20=3,$D20+2,$D20+5))","v":0},{"$f":"INDEX(INDIRECT(\"'\"&$C20&\"'\"&\"!\"&\"B3:H26\"),MATCH(Q$1,INDIRECT(\"'\"&$C20&\"'\"&\"!\"&\"B3:B26\"),0),IF($D20=3,$D20+2,$D20+5))","v":0},{"$f":"INDEX(INDIRECT(\"'\"&$C20&\"'\"&\"!\"&\"B3:H26\"),MATCH(R$1,INDIRECT(\"'\"&$C20&\"'\"&\"!\"&\"B3:B26\"),0),IF($D20=3,$D20+2,$D20+5))","v":0},{"$f":"INDEX(INDIRECT(\"'\"&$C20&\"'\"&\"!\"&\"B3:H26\"),MATCH(S$1,INDIRECT(\"'\"&$C20&\"'\"&\"!\"&\"B3:B26\"),0),IF($D20=3,$D20+2,$D20+5))","v":0},{"$f":"INDEX(INDIRECT(\"'\"&$C20&\"'\"&\"!\"&\"B3:H26\"),MATCH(T$1,INDIRECT(\"'\"&$C20&\"'\"&\"!\"&\"B3:B26\"),0),IF($D20=3,$D20+2,$D20+5))","v":0},{"$f":"INDEX(INDIRECT(\"'\"&$C20&\"'\"&\"!\"&\"B3:H26\"),MATCH(U$1,INDIRECT(\"'\"&$C20&\"'\"&\"!\"&\"B3:B26\"),0),IF($D20=3,$D20+2,$D20+5))","v":0},{"$f":"INDEX(INDIRECT(\"'\"&$C20&\"'\"&\"!\"&\"B3:H26\"),MATCH(V$1,INDIRECT(\"'\"&$C20&\"'\"&\"!\"&\"B3:B26\"),0),IF($D20=3,$D20+2,$D20+5))","v":0},{"$f":"INDEX(INDIRECT(\"'\"&$C20&\"'\"&\"!\"&\"B3:H26\"),MATCH(W$1,INDIRECT(\"'\"&$C20&\"'\"&\"!\"&\"B3:B26\"),0),IF($D20=3,$D20+2,$D20+5))","v":0},40]
[null,19,7,3,30,10,10,50,{"$f":"INDEX(INDIRECT(\"'\"&$C21&\"'\"&\"!\"&\"B3:H26\"),MATCH(I$1,INDIRECT(\"'\"&$C21&\"'\"&\"!\"&\"B3:B26\"),0),IF($D21=3,$D21+2,$D21+5))","v":20},{"$f":"INDEX(INDIRECT(\"'\"&$C21&\"'\"&\"!\"&\"B3:H26\"),MATCH(J$1,INDIRECT(\"'\"&$C21&\"'\"&\"!\"&\"B3:B26\"),0),IF($D21=3,$D21+2,$D21+5))","v":0},{"$f":"INDEX(INDIRECT(\"'\"&$C21&\"'\"&\"!\"&\"B3:H26\"),MATCH(K$1,INDIRECT(\"'\"&$C21&\"'\"&\"!\"&\"B3:B26\"),0),IF($D21=3,$D21+2,$D21+5))","v":0},{"$f":"INDEX(INDIRECT(\"'\"&$C21&\"'\"&\"!\"&\"B3:H26\"),MATCH(L$1,INDIRECT(\"'\"&$C21&\"'\"&\"!\"&\"B3:B26\"),0),IF($D21=3,$D21+2,$D21+5))","v":0},{"$f":"INDEX(INDIRECT(\"'\"&$C21&\"'\"&\"!\"&\"B3:H26\"),MATCH(M$1,INDIRECT(\"'\"&$C21&\"'\"&\"!\"&\"B3:B26\"),0),IF($D21=3,$D21+2,$D21+5))","v":0},{"$f":"INDEX(INDIRECT(\"'\"&$C21&\"'\"&\"!\"&\"B3:H26\"),MATCH(N$1,INDIRECT(\"'\"&$C21&\"'\"&\"!\"&\"B3:B26\"),0),IF($D21=3,$D21+2,$D21+5))","v":50},{"$f":"INDEX(INDIRECT(\"'\"&$C21&\"'\"&\"!\"&\"B3:H26\"),MATCH(O$1,INDIRECT(\"'\"&$C21&\"'\"&\"!\"&\"B3:B26\"),0),IF($D21=3,$D21+2,$D21+5))","v":0},{"$f":"INDEX(INDIRECT(\"'\"&$C21&\"'\"&\"!\"&\"B3:H26\"),MATCH(P$1,INDIRECT(\"'\"&$C21&\"'\"&\"!\"&\"B3:B26\"),0),IF($D21=3,$D21+2,$D21+5))","v":0},{"$f":"INDEX(INDIRECT(\"'\"&$C21&\"'\"&\"!\"&\"B3:H26\"),MATCH(Q$1,INDIRECT(\"'\"&$C21&\"'\"&\"!\"&\"B3:B26\"),0),IF($D21=3,$D21+2,$D21+5))","v":0},{"$f":"INDEX(INDIRECT(\"'\"&$C21&\"'\"&\"!\"&\"B3:H26\"),MATCH(R$1,INDIRECT(\"'\"&$C21&\"'\"&\"!\"&\"B3:B26\"),0),IF($D21=3,$D21+2,$D21+5))","v":0},{"$f":"INDEX(INDIRECT(\"'\"&$C21&\"'\"&\"!\"&\"B3:H26\"),MATCH(S$1,INDIRECT(\"'\"&$C21&\"'\"&\"!\"&\"B3:B26\"),0),IF($D21=3,$D21+2,$D21+5))","v":50},{"$f":"INDEX(INDIRECT(\"'\"&$C21&\"'\"&\"!\"&\"B3:H26\"),MATCH(T$1,INDIRECT(\"'\"&$C21&\"'\"&\"!\"&\"B3:B26\"),0),IF($D21=3,$D21+2,$D21+5))","v":0},{"$f":"INDEX(INDIRECT(\"'\"&$C21&\"'\"&\"!\"&\"B3:H26\"),MATCH(U$1,INDIRECT(\"'\"&$C21&\"'\"&\"!\"&\"B3:B26\"),0),IF($D21=3,$D21+2,$D21+5))","v":10},{"$f":"INDEX(INDIRECT(\"'\"&$C21&\"'\"&\"!\"&\"B3:H26\"),MATCH(V$1,INDIRECT(\"'\"&$C21&\"'\"&\"!\"&\"B3:B26\"),0),IF($D21=3,$D21+2,$D21+5))","v":0},{"$f":"INDEX(INDIRECT(\"'\"&$C21&\"'\"&\"!\"&\"B3:H26\"),MATCH(W$1,INDIRECT(\"'\"&$C21&\"'\"&\"!\"&\"B3:B26\"),0),IF($D21=3,$D21+2,$D21+5))","v":0},130]
[null,20,{"$f":"C21","v":7},1,30,10,10,50,{"$f":"INDEX(INDIRECT(\"'\"&$C22&\"'\"&\"!\"&\"B3:H26\"),MATCH(I$1,INDIRECT(\"'\"&$C22&\"'\"&\"!\"&\"B3:B26\"),0),IF($D22=3,$D22+2,$D22+5))","v":30},{"$f":"INDEX(INDIRECT(\"'\"&$C22&\"'\"&\"!\"&\"B3:H26\"),MATCH(J$1,INDIRECT(\"'\"&$C22&\"'\"&\"!\"&\"B3:B26\"),0),IF($D22=3,$D22+2,$D22+5))","v":0},{"$f":"INDEX(INDIRECT(\"'\"&$C22&\"'\"&\"!\"&\"B3:H26\"),MATCH(K$1,INDIRECT(\"'\"&$C22&\"'\"&\"!\"&\"B3:B26\"),0),IF($D22=3,$D22+2,$D22+5))","v":0},{"$f":"INDEX(INDIRECT(\"'\"&$C22&\"'\"&\"!\"&\"B3:H26\"),MATCH(L$1,INDIRECT(\"'\"&$C22&\"'\"&\"!\"&\"B3:B26\"),0),IF($D22=3,$D22+2,$D22+5))","v":0},{"$f":"INDEX(INDIRECT(\"'\"&$C22&\"'\"&\"!\"&\"B3:H26\"),MATCH(M$1,INDIRECT(\"'\"&$C22&\"'\"&\"!\"&\"B3:B26\"),0),IF($D22=3,$D22+2,$D22+5))","v":0},{"$f":"INDEX(INDIRECT(\"'\"&$C22&\"'\"&\"!\"&\"B3:H26\"),MATCH(N$1,INDIRECT(\"'\"&$C22&\"'\"&\"!\"&\"B3:B26\"),0),IF($D22=3,$D22+2,$D22+5))","v":0},{"$f":"INDEX(INDIRECT(\"'\"&$C22&\"'\"&\"!\"&\"B3:H26\"),MATCH(O$1,INDIRECT(\"'\"&$C22&\"'\"&\"!\"&\"B3:B26\"),0),IF($D22=3,$D22+2,$D22+5))","v":0},{"$f":"INDEX(INDIRECT(\"'\"&$C22&\"'\"&\"!\"&\"B3:H26\"),MATCH(P$1,INDIRECT(\"'\"&$C22&\"'\"&\"!\"&\"B3:B26\"),0),IF($D22=3,$D22+2,$D22+5))","v":0},{"$f":"INDEX(INDIRECT(\"'\"&$C22&\"'\"&\"!\"&\"B3:H26\"),MATCH(Q$1,INDIRECT(\"'\"&$C22&\"'\"&\"!\"&\"B3:B26\"),0),IF($D22=3,$D22+2,$D22+5))","v":0},{"$f":"INDEX(INDIRECT(\"'\"&$C22&\"'\"&\"!\"&\"B3:H26\"),MATCH(R$1,INDIRECT(\"'\"&$C22&\"'\"&\"!\"&\"B3:B26\"),0),IF($D22=3,$D22+2,$D22+5))","v":0},{"$f":"INDEX(INDIRECT(\"'\"&$C22&\"'\"&\"!\"&\"B3:H26\"),MATCH(S$1,INDIRECT(\"'\"&$C22&\"'\"&\"!\"&\"B3:B26\"),0),IF($D22=3,$D22+2,$D22+5))","v":0},{"$f":"INDEX(INDIRECT(\"'\"&$C22&\"'\"&\"!\"&\"B3:H26\"),MATCH(T$1,INDIRECT(\"'\"&$C22&\"'\"&\"!\"&\"B3:B26\"),0),IF($D22=3,$D22+2,$D22+5))","v":0},{"$f":"INDEX(INDIRECT(\"'\"&$C22&\"'\"&\"!\"&\"B3:H26\"),MATCH(U$1,INDIRECT(\"'\"&$C22&\"'\"&\"!\"&\"B3:B26\"),0),IF($D22=3,$D22+2,$D22+5))","v":0},{"$f":"INDEX(INDIRECT(\"'\"&$C22&\"'\"&\"!\"&\"B3:H26\"),MATCH(V$1,INDIRECT(\"'\"&$C22&\"'\"&\"!\"&\"B3:B26\"),0),IF($D22=3,$D22+2,$D22+5))","v":0},{"$f":"INDEX(INDIRECT(\"'\"&$C22&\"'\"&\"!\"&\"B3:H26\"),MATCH(W$1,INDIRECT(\"'\"&$C22&\"'\"&\"!\"&\"B3:B26\"),0),IF($D22=3,$D22+2,$D22+5))","v":0},30]
[null,21,7,2,30,10,10,50,{"$f":"INDEX(INDIRECT(\"'\"&$C23&\"'\"&\"!\"&\"B3:H26\"),MATCH(I$1,INDIRECT(\"'\"&$C23&\"'\"&\"!\"&\"B3:B26\"),0),IF($D23=3,$D23+2,$D23+5))","v":40},{"$f":"INDEX(INDIRECT(\"'\"&$C23&\"'\"&\"!\"&\"B3:H26\"),MATCH(J$1,INDIRECT(\"'\"&$C23&\"'\"&\"!\"&\"B3:B26\"),0),IF($D23=3,$D23+2,$D23+5))","v":0},{"$f":"INDEX(INDIRECT(\"'\"&$C23&\"'\"&\"!\"&\"B3:H26\"),MATCH(K$1,INDIRECT(\"'\"&$C23&\"'\"&\"!\"&\"B3:B26\"),0),IF($D23=3,$D23+2,$D23+5))","v":0},{"$f":"INDEX(INDIRECT(\"'\"&$C23&\"'\"&\"!\"&\"B3:H26\"),MATCH(L$1,INDIRECT(\"'\"&$C23&\"'\"&\"!\"&\"B3:B26\"),0),IF($D23=3,$D23+2,$D23+5))","v":0},{"$f":"INDEX(INDIRECT(\"'\"&$C23&\"'\"&\"!\"&\"B3:H26\"),MATCH(M$1,INDIRECT(\"'\"&$C23&\"'\"&\"!\"&\"B3:B26\"),0),IF($D23=3,$D23+2,$D23+5))","v":0},{"$f":"INDEX(INDIRECT(\"'\"&$C23&\"'\"&\"!\"&\"B3:H26\"),MATCH(N$1,INDIRECT(\"'\"&$C23&\"'\"&\"!\"&\"B3:B26\"),0),IF($D23=3,$D23+2,$D23+5))","v":0},{"$f":"INDEX(INDIRECT(\"'\"&$C23&\"'\"&\"!\"&\"B3:H26\"),MATCH(O$1,INDIRECT(\"'\"&$C23&\"'\"&\"!\"&\"B3:B26\"),0),IF($D23=3,$D23+2,$D23+5))","v":0},{"$f":"INDEX(INDIRECT(\"'\"&$C23&\"'\"&\"!\"&\"B3:H26\"),MATCH(P$1,INDIRECT(\"'\"&$C23&\"'\"&\"!\"&\"B3:B26\"),0),IF($D23=3,$D23+2,$D23+5))","v":0},{"$f":"INDEX(INDIRECT(\"'\"&$C23&\"'\"&\"!\"&\"B3:H26\"),MATCH(Q$1,INDIRECT(\"'\"&$C23&\"'\"&\"!\"&\"B3:B26\"),0),IF($D23=3,$D23+2,$D23+5))","v":0},{"$f":"INDEX(INDIRECT(\"'\"&$C23&\"'\"&\"!\"&\"B3:H26\"),MATCH(R$1,INDIRECT(\"'\"&$C23&\"'\"&\"!\"&\"B3:B26\"),0),IF($D23=3,$D23+2,$D23+5))","v":0},{"$f":"INDEX(INDIRECT(\"'\"&$C23&\"'\"&\"!\"&\"B3:H26\"),MATCH(S$1,INDIRECT(\"'\"&$C23&\"'\"&\"!\"&\"B3:B26\"),0),IF($D23=3,$D23+2,$D23+5))","v":0},{"$f":"INDEX(INDIRECT(\"'\"&$C23&\"'\"&\"!\"&\"B3:H26\"),MATCH(T$1,INDIRECT(\"'\"&$C23&\"'\"&\"!\"&\"B3:B26\"),0),IF($D23=3,$D23+2,$D23+5))","v":0},{"$f":"INDEX(INDIRECT(\"'\"&$C23&\"'\"&\"!\"&\"B3:H26\"),MATCH(U$1,INDIRECT(\"'\"&$C23&\"'\"&\"!\"&\"B3:B26\"),0),IF($D23=3,$D23+2,$D23+5))","v":0},{"$f":"INDEX(INDIRECT(\"'\"&$C23&\"'\"&\"!\"&\"B3:H26\"),MATCH(V$1,INDIRECT(\"'\"&$C23&\"'\"&\"!\"&\"B3:B26\"),0),IF($D23=3,$D23+2,$D23+5))","v":0},{"$f":"INDEX(INDIRECT(\"'\"&$C23&\"'\"&\"!\"&\"B3:H26\"),MATCH(W$1,INDIRECT(\"'\"&$C23&\"'\"&\"!\"&\"B3:B26\"),0),IF($D23=3,$D23+2,$D23+5))","v":0},40]
[null,22,8,3,30,10,10,50,{"$f":"INDEX(INDIRECT(\"'\"&$C24&\"'\"&\"!\"&\"B3:H26\"),MATCH(I$1,INDIRECT(\"'\"&$C24&\"'\"&\"!\"&\"B3:B26\"),0),IF($D24=3,$D24+2,$D24+5))","v":20},{"$f":"INDEX(INDIRECT(\"'\"&$C24&\"'\"&\"!\"&\"B3:H26\"),MATCH(J$1,INDIRECT(\"'\"&$C24&\"'\"&\"!\"&\"B3:B26\"),0),IF($D24=3,$D24+2,$D24+5))","v":0},{"$f":"INDEX(INDIRECT(\"'\"&$C24&\"'\"&\"!\"&\"B3:H26\"),MATCH(K$1,INDIRECT(\"'\"&$C24&\"'\"&\"!\"&\"B3:B26\"),0),IF($D24=3,$D24+2,$D24+5))","v":0},{"$f":"INDEX(INDIRECT(\"'\"&$C24&\"'\"&\"!\"&\"B3:H26\"),MATCH(L$1,INDIRECT(\"'\"&$C24&\"'\"&\"!\"&\"B3:B26\"),0),IF($D24=3,$D24+2,$D24+5))","v":0},{"$f":"INDEX(INDIRECT(\"'\"&$C24&\"'\"&\"!\"&\"B3:H26\"),MATCH(M$1,INDIRECT(\"'\"&$C24&\"'\"&\"!\"&\"B3:B26\"),0),IF($D24=3,$D24+2,$D24+5))","v":0},{"$f":"INDEX(INDIRECT(\"'\"&$C24&\"'\"&\"!\"&\"B3:H26\"),MATCH(N$1,INDIRECT(\"'\"&$C24&\"'\"&\"!\"&\"B3:B26\"),0),IF($D24=3,$D24+2,$D24+5))","v":50},{"$f":"INDEX(INDIRECT(\"'\"&$C24&\"'\"&\"!\"&\"B3:H26\"),MATCH(O$1,INDIRECT(\"'\"&$C24&\"'\"&\"!\"&\"B3:B26\"),0),IF($D24=3,$D24+2,$D24+5))","v":0},{"$f":"INDEX(INDIRECT(\"'\"&$C24&\"'\"&\"!\"&\"B3:H26\"),MATCH(P$1,INDIRECT(\"'\"&$C24&\"'\"&\"!\"&\"B3:B26\"),0),IF($D24=3,$D24+2,$D24+5))","v":0},{"$f":"INDEX(INDIRECT(\"'\"&$C24&\"'\"&\"!\"&\"B3:H26\"),MATCH(Q$1,INDIRECT(\"'\"&$C24&\"'\"&\"!\"&\"B3:B26\"),0),IF($D24=3,$D24+2,$D24+5))","v":0},{"$f":"INDEX(INDIRECT(\"'\"&$C24&\"'\"&\"!\"&\"B3:H26\"),MATCH(R$1,INDIRECT(\"'\"&$C24&\"'\"&\"!\"&\"B3:B26\"),0),IF($D24=3,$D24+2,$D24+5))","v":0},{"$f":"INDEX(INDIRECT(\"'\"&$C24&\"'\"&\"!\"&\"B3:H26\"),MATCH(S$1,INDIRECT(\"'\"&$C24&\"'\"&\"!\"&\"B3:B26\"),0),IF($D24=3,$D24+2,$D24+5))","v":50},{"$f":"INDEX(INDIRECT(\"'\"&$C24&\"'\"&\"!\"&\"B3:H26\"),MATCH(T$1,INDIRECT(\"'\"&$C24&\"'\"&\"!\"&\"B3:B26\"),0),IF($D24=3,$D24+2,$D24+5))","v":0},{"$f":"INDEX(INDIRECT(\"'\"&$C24&\"'\"&\"!\"&\"B3:H26\"),MATCH(U$1,INDIRECT(\"'\"&$C24&\"'\"&\"!\"&\"B3:B26\"),0),IF($D24=3,$D24+2,$D24+5))","v":20},{"$f":"INDEX(INDIRECT(\"'\"&$C24&\"'\"&\"!\"&\"B3:H26\"),MATCH(V$1,INDIRECT(\"'\"&$C24&\"'\"&\"!\"&\"B3:B26\"),0),IF($D24=3,$D24+2,$D24+5))","v":0},{"$f":"INDEX(INDIRECT(\"'\"&$C24&\"'\"&\"!\"&\"B3:H26\"),MATCH(W$1,INDIRECT(\"'\"&$C24&\"'\"&\"!\"&\"B3:B26\"),0),IF($D24=3,$D24+2,$D24+5))","v":0},140]
[null,23,{"$f":"C24","v":8},1,30,10,10,50,{"$f":"INDEX(INDIRECT(\"'\"&$C25&\"'\"&\"!\"&\"B3:H26\"),MATCH(I$1,INDIRECT(\"'\"&$C25&\"'\"&\"!\"&\"B3:B26\"),0),IF($D25=3,$D25+2,$D25+5))","v":30},{"$f":"INDEX(INDIRECT(\"'\"&$C25&\"'\"&\"!\"&\"B3:H26\"),MATCH(J$1,INDIRECT(\"'\"&$C25&\"'\"&\"!\"&\"B3:B26\"),0),IF($D25=3,$D25+2,$D25+5))","v":0},{"$f":"INDEX(INDIRECT(\"'\"&$C25&\"'\"&\"!\"&\"B3:H26\"),MATCH(K$1,INDIRECT(\"'\"&$C25&\"'\"&\"!\"&\"B3:B26\"),0),IF($D25=3,$D25+2,$D25+5))","v":0},{"$f":"INDEX(INDIRECT(\"'\"&$C25&\"'\"&\"!\"&\"B3:H26\"),MATCH(L$1,INDIRECT(\"'\"&$C25&\"'\"&\"!\"&\"B3:B26\"),0),IF($D25=3,$D25+2,$D25+5))","v":0},{"$f":"INDEX(INDIRECT(\"'\"&$C25&\"'\"&\"!\"&\"B3:H26\"),MATCH(M$1,INDIRECT(\"'\"&$C25&\"'\"&\"!\"&\"B3:B26\"),0),IF($D25=3,$D25+2,$D25+5))","v":0},{"$f":"INDEX(INDIRECT(\"'\"&$C25&\"'\"&\"!\"&\"B3:H26\"),MATCH(N$1,INDIRECT(\"'\"&$C25&\"'\"&\"!\"&\"B3:B26\"),0),IF($D25=3,$D25+2,$D25+5))","v":0},{"$f":"INDEX(INDIRECT(\"'\"&$C25&\"'\"&\"!\"&\"B3:H26\"),MATCH(O$1,INDIRECT(\"'\"&$C25&\"'\"&\"!\"&\"B3:B26\"),0),IF($D25=3,$D25+2,$D25+5))","v":0},{"$f":"INDEX(INDIRECT(\"'\"&$C25&\"'\"&\"!\"&\"B3:H26\"),MATCH(P$1,INDIRECT(\"'\"&$C25&\"'\"&\"!\"&\"B3:B26\"),0),IF($D25=3,$D25+2,$D25+5))","v":0},{"$f":"INDEX(INDIRECT(\"'\"&$C25&\"'\"&\"!\"&\"B3:H26\"),MATCH(Q$1,INDIRECT(\"'\"&$C25&\"'\"&\"!\"&\"B3:B26\"),0),IF($D25=3,$D25+2,$D25+5))","v":0},{"$f":"INDEX(INDIRECT(\"'\"&$C25&\"'\"&\"!\"&\"B3:H26\"),MATCH(R$1,INDIRECT(\"'\"&$C25&\"'\"&\"!\"&\"B3:B26\"),0),IF($D25=3,$D25+2,$D25+5))","v":0},{"$f":"INDEX(INDIRECT(\"'\"&$C25&\"'\"&\"!\"&\"B3:H26\"),MATCH(S$1,INDIRECT(\"'\"&$C25&\"'\"&\"!\"&\"B3:B26\"),0),IF($D25=3,$D25+2,$D25+5))","v":0},{"$f":"INDEX(INDIRECT(\"'\"&$C25&\"'\"&\"!\"&\"B3:H26\"),MATCH(T$1,INDIRECT(\"'\"&$C25&\"'\"&\"!\"&\"B3:B26\"),0),IF($D25=3,$D25+2,$D25+5))","v":0},{"$f":"INDEX(INDIRECT(\"'\"&$C25&\"'\"&\"!\"&\"B3:H26\"),MATCH(U$1,INDIRECT(\"'\"&$C25&\"'\"&\"!\"&\"B3:B26\"),0),IF($D25=3,$D25+2,$D25+5))","v":0},{"$f":"INDEX(INDIRECT(\"'\"&$C25&\"'\"&\"!\"&\"B3:H26\"),MATCH(V$1,INDIRECT(\"'\"&$C25&\"'\"&\"!\"&\"B3:B26\"),0),IF($D25=3,$D25+2,$D25+5))","v":0},{"$f":"INDEX(INDIRECT(\"'\"&$C25&\"'\"&\"!\"&\"B3:H26\"),MATCH(W$1,INDIRECT(\"'\"&$C25&\"'\"&\"!\"&\"B3:B26\"),0),IF($D25=3,$D25+2,$D25+5))","v":0},30]
[null,24,8,2,30,10,10,50,{"$f":"INDEX(INDIRECT(\"'\"&$C26&\"'\"&\"!\"&\"B3:H26\"),MATCH(I$1,INDIRECT(\"'\"&$C26&\"'\"&\"!\"&\"B3:B26\"),0),IF($D26=3,$D26+2,$D26+5))","v":40},{"$f":"INDEX(INDIRECT(\"'\"&$C26&\"'\"&\"!\"&\"B3:H26\"),MATCH(J$1,INDIRECT(\"'\"&$C26&\"'\"&\"!\"&\"B3:B26\"),0),IF($D26=3,$D26+2,$D26+5))","v":0},{"$f":"INDEX(INDIRECT(\"'\"&$C26&\"'\"&\"!\"&\"B3:H26\"),MATCH(K$1,INDIRECT(\"'\"&$C26&\"'\"&\"!\"&\"B3:B26\"),0),IF($D26=3,$D26+2,$D26+5))","v":0},{"$f":"INDEX(INDIRECT(\"'\"&$C26&\"'\"&\"!\"&\"B3:H26\"),MATCH(L$1,INDIRECT(\"'\"&$C26&\"'\"&\"!\"&\"B3:B26\"),0),IF($D26=3,$D26+2,$D26+5))","v":0},{"$f":"INDEX(INDIRECT(\"'\"&$C26&\"'\"&\"!\"&\"B3:H26\"),MATCH(M$1,INDIRECT(\"'\"&$C26&\"'\"&\"!\"&\"B3:B26\"),0),IF($D26=3,$D26+2,$D26+5))","v":0},{"$f":"INDEX(INDIRECT(\"'\"&$C26&\"'\"&\"!\"&\"B3:H26\"),MATCH(N$1,INDIRECT(\"'\"&$C26&\"'\"&\"!\"&\"B3:B26\"),0),IF($D26=3,$D26+2,$D26+5))","v":0},{"$f":"INDEX(INDIRECT(\"'\"&$C26&\"'\"&\"!\"&\"B3:H26\"),MATCH(O$1,INDIRECT(\"'\"&$C26&\"'\"&\"!\"&\"B3:B26\"),0),IF($D26=3,$D26+2,$D26+5))","v":0},{"$f":"INDEX(INDIRECT(\"'\"&$C26&\"'\"&\"!\"&\"B3:H26\"),MATCH(P$1,INDIRECT(\"'\"&$C26&\"'\"&\"!\"&\"B3:B26\"),0),IF($D26=3,$D26+2,$D26+5))","v":0},{"$f":"INDEX(INDIRECT(\"'\"&$C26&\"'\"&\"!\"&\"B3:H26\"),MATCH(Q$1,INDIRECT(\"'\"&$C26&\"'\"&\"!\"&\"B3:B26\"),0),IF($D26=3,$D26+2,$D26+5))","v":0},{"$f":"INDEX(INDIRECT(\"'\"&$C26&\"'\"&\"!\"&\"B3:H26\"),MATCH(R$1,INDIRECT(\"'\"&$C26&\"'\"&\"!\"&\"B3:B26\"),0),IF($D26=3,$D26+2,$D26+5))","v":0},{"$f":"INDEX(INDIRECT(\"'\"&$C26&\"'\"&\"!\"&\"B3:H26\"),MATCH(S$1,INDIRECT(\"'\"&$C26&\"'\"&\"!\"&\"B3:B26\"),0),IF($D26=3,$D26+2,$D26+5))","v":0},{"$f":"INDEX(INDIRECT(\"'\"&$C26&\"'\"&\"!\"&\"B3:H26\"),MATCH(T$1,INDIRECT(\"'\"&$C26&\"'\"&\"!\"&\"B3:B26\"),0),IF($D26=3,$D26+2,$D26+5))","v":0},{"$f":"INDEX(INDIRECT(\"'\"&$C26&\"'\"&\"!\"&\"B3:H26\"),MATCH(U$1,INDIRECT(\"'\"&$C26&\"'\"&\"!\"&\"B3:B26\"),0),IF($D26=3,$D26+2,$D26+5))","v":0},{"$f":"INDEX(INDIRECT(\"'\"&$C26&\"'\"&\"!\"&\"B3:H26\"),MATCH(V$1,INDIRECT(\"'\"&$C26&\"'\"&\"!\"&\"B3:B26\"),0),IF($D26=3,$D26+2,$D26+5))","v":0},{"$f":"INDEX(INDIRECT(\"'\"&$C26&\"'\"&\"!\"&\"B3:H26\"),MATCH(W$1,INDIRECT(\"'\"&$C26&\"'\"&\"!\"&\"B3:B26\"),0),IF($D26=3,$D26+2,$D26+5))","v":0},40]
[null,25,9,3,30,10,10,50,{"$f":"INDEX(INDIRECT(\"'\"&$C27&\"'\"&\"!\"&\"B3:H26\"),MATCH(I$1,INDIRECT(\"'\"&$C27&\"'\"&\"!\"&\"B3:B26\"),0),IF($D27=3,$D27+2,$D27+5))","v":20},{"$f":"INDEX(INDIRECT(\"'\"&$C27&\"'\"&\"!\"&\"B3:H26\"),MATCH(J$1,INDIRECT(\"'\"&$C27&\"'\"&\"!\"&\"B3:B26\"),0),IF($D27=3,$D27+2,$D27+5))","v":0},{"$f":"INDEX(INDIRECT(\"'\"&$C27&\"'\"&\"!\"&\"B3:H26\"),MATCH(K$1,INDIRECT(\"'\"&$C27&\"'\"&\"!\"&\"B3:B26\"),0),IF($D27=3,$D27+2,$D27+5))","v":0},{"$f":"INDEX(INDIRECT(\"'\"&$C27&\"'\"&\"!\"&\"B3:H26\"),MATCH(L$1,INDIRECT(\"'\"&$C27&\"'\"&\"!\"&\"B3:B26\"),0),IF($D27=3,$D27+2,$D27+5))","v":0},{"$f":"INDEX(INDIRECT(\"'\"&$C27&\"'\"&\"!\"&\"B3:H26\"),MATCH(M$1,INDIRECT(\"'\"&$C27&\"'\"&\"!\"&\"B3:B26\"),0),IF($D27=3,$D27+2,$D27+5))","v":0},{"$f":"INDEX(INDIRECT(\"'\"&$C27&\"'\"&\"!\"&\"B3:H26\"),MATCH(N$1,INDIRECT(\"'\"&$C27&\"'\"&\"!\"&\"B3:B26\"),0),IF($D27=3,$D27+2,$D27+5))","v":50},{"$f":"INDEX(INDIRECT(\"'\"&$C27&\"'\"&\"!\"&\"B3:H26\"),MATCH(O$1,INDIRECT(\"'\"&$C27&\"'\"&\"!\"&\"B3:B26\"),0),IF($D27=3,$D27+2,$D27+5))","v":0},{"$f":"INDEX(INDIRECT(\"'\"&$C27&\"'\"&\"!\"&\"B3:H26\"),MATCH(P$1,INDIRECT(\"'\"&$C27&\"'\"&\"!\"&\"B3:B26\"),0),IF($D27=3,$D27+2,$D27+5))","v":0},{"$f":"INDEX(INDIRECT(\"'\"&$C27&\"'\"&\"!\"&\"B3:H26\"),MATCH(Q$1,INDIRECT(\"'\"&$C27&\"'\"&\"!\"&\"B3:B26\"),0),IF($D27=3,$D27+2,$D27+5))","v":0},{"$f":"INDEX(INDIRECT(\"'\"&$C27&\"'\"&\"!\"&\"B3:H26\"),MATCH(R$1,INDIRECT(\"'\"&$C27&\"'\"&\"!\"&\"B3:B26\"),0),IF($D27=3,$D27+2,$D27+5))","v":0},{"$f":"INDEX(INDIRECT(\"'\"&$C27&\"'\"&\"!\"&\"B3:H26\"),MATCH(S$1,INDIRECT(\"'\"&$C27&\"'\"&\"!\"&\"B3:B26\"),0),IF($D27=3,$D27+2,$D27+5))","v":50},{"$f":"INDEX(INDIRECT(\"'\"&$C27&\"'\"&\"!\"&\"B3:H26\"),MATCH(T$1,INDIRECT(\"'\"&$C27&\"'\"&\"!\"&\"B3:B26\"),0),IF($D27=3,$D27+2,$D27+5))","v":0},{"$f":"INDEX(INDIRECT(\"'\"&$C27&\"'\"&\"!\"&\"B3:H26\"),MATCH(U$1,INDIRECT(\"'\"&$C27&\"'\"&\"!\"&\"B3:B26\"),0),IF($D27=3,$D27+2,$D27+5))","v":0},{"$f":"INDEX(INDIRECT(\"'\"&$C27&\"'\"&\"!\"&\"B3:H26\"),MATCH(V$1,INDIRECT(\"'\"&$C27&\"'\"&\"!\"&\"B3:B26\"),0),IF($D27=3,$D27+2,$D27+5))","v":0},{"$f":"INDEX(INDIRECT(\"'\"&$C27&\"'\"&\"!\"&\"B3:H26\"),MATCH(W$1,INDIRECT(\"'\"&$C27&\"'\"&\"!\"&\"B3:B26\"),0),IF($D27=3,$D27+2,$D27+5))","v":0},120]
[null,26,{"$f":"C27","v":9},1,30,10,10,50,{"$f":"INDEX(INDIRECT(\"'\"&$C28&\"'\"&\"!\"&\"B3:H26\"),MATCH(I$1,INDIRECT(\"'\"&$C28&\"'\"&\"!\"&\"B3:B26\"),0),IF($D28=3,$D28+2,$D28+5))","v":30},{"$f":"INDEX(INDIRECT(\"'\"&$C28&\"'\"&\"!\"&\"B3:H26\"),MATCH(J$1,INDIRECT(\"'\"&$C28&\"'\"&\"!\"&\"B3:B26\"),0),IF($D28=3,$D28+2,$D28+5))","v":0},{"$f":"INDEX(INDIRECT(\"'\"&$C28&\"'\"&\"!\"&\"B3:H26\"),MATCH(K$1,INDIRECT(\"'\"&$C28&\"'\"&\"!\"&\"B3:B26\"),0),IF($D28=3,$D28+2,$D28+5))","v":0},{"$f":"INDEX(INDIRECT(\"'\"&$C28&\"'\"&\"!\"&\"B3:H26\"),MATCH(L$1,INDIRECT(\"'\"&$C28&\"'\"&\"!\"&\"B3:B26\"),0),IF($D28=3,$D28+2,$D28+5))","v":0},{"$f":"INDEX(INDIRECT(\"'\"&$C28&\"'\"&\"!\"&\"B3:H26\"),MATCH(M$1,INDIRECT(\"'\"&$C28&\"'\"&\"!\"&\"B3:B26\"),0),IF($D28=3,$D28+2,$D28+5))","v":0},{"$f":"INDEX(INDIRECT(\"'\"&$C28&\"'\"&\"!\"&\"B3:H26\"),MATCH(N$1,INDIRECT(\"'\"&$C28&\"'\"&\"!\"&\"B3:B26\"),0),IF($D28=3,$D28+2,$D28+5))","v":0},{"$f":"INDEX(INDIRECT(\"'\"&$C28&\"'\"&\"!\"&\"B3:H26\"),MATCH(O$1,INDIRECT(\"'\"&$C28&\"'\"&\"!\"&\"B3:B26\"),0),IF($D28=3,$D28+2,$D28+5))","v":0},{"$f":"INDEX(INDIRECT(\"'\"&$C28&\"'\"&\"!\"&\"B3:H26\"),MATCH(P$1,INDIRECT(\"'\"&$C28&\"'\"&\"!\"&\"B3:B26\"),0),IF($D28=3,$D28+2,$D28+5))","v":0},{"$f":"INDEX(INDIRECT(\"'\"&$C28&\"'\"&\"!\"&\"B3:H26\"),MATCH(Q$1,INDIRECT(\"'\"&$C28&\"'\"&\"!\"&\"B3:B26\"),0),IF($D28=3,$D28+2,$D28+5))","v":0},{"$f":"INDEX(INDIRECT(\"'\"&$C28&\"'\"&\"!\"&\"B3:H26\"),MATCH(R$1,INDIRECT(\"'\"&$C28&\"'\"&\"!\"&\"B3:B26\"),0),IF($D28=3,$D28+2,$D28+5))","v":0},{"$f":"INDEX(INDIRECT(\"'\"&$C28&\"'\"&\"!\"&\"B3:H26\"),MATCH(S$1,INDIRECT(\"'\"&$C28&\"'\"&\"!\"&\"B3:B26\"),0),IF($D28=3,$D28+2,$D28+5))","v":0},{"$f":"INDEX(INDIRECT(\"'\"&$C28&\"'\"&\"!\"&\"B3:H26\"),MATCH(T$1,INDIRECT(\"'\"&$C28&\"'\"&\"!\"&\"B3:B26\"),0),IF($D28=3,$D28+2,$D28+5))","v":0},{"$f":"INDEX(INDIRECT(\"'\"&$C28&\"'\"&\"!\"&\"B3:H26\"),MATCH(U$1,INDIRECT(\"'\"&$C28&\"'\"&\"!\"&\"B3:B26\"),0),IF($D28=3,$D28+2,$D28+5))","v":0},{"$f":"INDEX(INDIRECT(\"'\"&$C28&\"'\"&\"!\"&\"B3:H26\"),MATCH(V$1,INDIRECT(\"'\"&$C28&\"'\"&\"!\"&\"B3:B26\"),0),IF($D28=3,$D28+2,$D28+5))","v":0},{"$f":"INDEX(INDIRECT(\"'\"&$C28&\"'\"&\"!\"&\"B3:H26\"),MATCH(W$1,INDIRECT(\"'\"&$C28&\"'\"&\"!\"&\"B3:B26\"),0),IF($D28=3,$D28+2,$D28+5))","v":0},30]
[null,27,9,2,30,10,10,50,{"$f":"INDEX(INDIRECT(\"'\"&$C29&\"'\"&\"!\"&\"B3:H26\"),MATCH(I$1,INDIRECT(\"'\"&$C29&\"'\"&\"!\"&\"B3:B26\"),0),IF($D29=3,$D29+2,$D29+5))","v":40},{"$f":"INDEX(INDIRECT(\"'\"&$C29&\"'\"&\"!\"&\"B3:H26\"),MATCH(J$1,INDIRECT(\"'\"&$C29&\"'\"&\"!\"&\"B3:B26\"),0),IF($D29=3,$D29+2,$D29+5))","v":0},{"$f":"INDEX(INDIRECT(\"'\"&$C29&\"'\"&\"!\"&\"B3:H26\"),MATCH(K$1,INDIRECT(\"'\"&$C29&\"'\"&\"!\"&\"B3:B26\"),0),IF($D29=3,$D29+2,$D29+5))","v":0},{"$f":"INDEX(INDIRECT(\"'\"&$C29&\"'\"&\"!\"&\"B3:H26\"),MATCH(L$1,INDIRECT(\"'\"&$C29&\"'\"&\"!\"&\"B3:B26\"),0),IF($D29=3,$D29+2,$D29+5))","v":0},{"$f":"INDEX(INDIRECT(\"'\"&$C29&\"'\"&\"!\"&\"B3:H26\"),MATCH(M$1,INDIRECT(\"'\"&$C29&\"'\"&\"!\"&\"B3:B26\"),0),IF($D29=3,$D29+2,$D29+5))","v":0},{"$f":"INDEX(INDIRECT(\"'\"&$C29&\"'\"&\"!\"&\"B3:H26\"),MATCH(N$1,INDIRECT(\"'\"&$C29&\"'\"&\"!\"&\"B3:B26\"),0),IF($D29=3,$D29+2,$D29+5))","v":0},{"$f":"INDEX(INDIRECT(\"'\"&$C29&\"'\"&\"!\"&\"B3:H26\"),MATCH(O$1,INDIRECT(\"'\"&$C29&\"'\"&\"!\"&\"B3:B26\"),0),IF($D29=3,$D29+2,$D29+5))","v":0},{"$f":"INDEX(INDIRECT(\"'\"&$C29&\"'\"&\"!\"&\"B3:H26\"),MATCH(P$1,INDIRECT(\"'\"&$C29&\"'\"&\"!\"&\"B3:B26\"),0),IF($D29=3,$D29+2,$D29+5))","v":0},{"$f":"INDEX(INDIRECT(\"'\"&$C29&\"'\"&\"!\"&\"B3:H26\"),MATCH(Q$1,INDIRECT(\"'\"&$C29&\"'\"&\"!\"&\"B3:B26\"),0),IF($D29=3,$D29+2,$D29+5))","v":0},{"$f":"INDEX(INDIRECT(\"'\"&$C29&\"'\"&\"!\"&\"B3:H26\"),MATCH(R$1,INDIRECT(\"'\"&$C29&\"'\"&\"!\"&\"B3:B26\"),0),IF($D29=3,$D29+2,$D29+5))","v":0},{"$f":"INDEX(INDIRECT(\"'\"&$C29&\"'\"&\"!\"&\"B3:H26\"),MATCH(S$1,INDIRECT(\"'\"&$C29&\"'\"&\"!\"&\"B3:B26\"),0),IF($D29=3,$D29+2,$D29+5))","v":0},{"$f":"INDEX(INDIRECT(\"'\"&$C29&\"'\"&\"!\"&\"B3:H26\"),MATCH(T$1,INDIRECT(\"'\"&$C29&\"'\"&\"!\"&\"B3:B26\"),0),IF($D29=3,$D29+2,$D29+5))","v":0},{"$f":"INDEX(INDIRECT(\"'\"&$C29&\"'\"&\"!\"&\"B3:H26\"),MATCH(U$1,INDIRECT(\"'\"&$C29&\"'\"&\"!\"&\"B3:B26\"),0),IF($D29=3,$D29+2,$D29+5))","v":0},{"$f":"INDEX(INDIRECT(\"'\"&$C29&\"'\"&\"!\"&\"B3:H26\"),MATCH(V$1,INDIRECT(\"'\"&$C29&\"'\"&\"!\"&\"B3:B26\"),0),IF($D29=3,$D29+2,$D29+5))","v":0},{"$f":"INDEX(INDIRECT(\"'\"&$C29&\"'\"&\"!\"&\"B3:H26\"),MATCH(W$1,INDIRECT(\"'\"&$C29&\"'\"&\"!\"&\"B3:B26\"),0),IF($D29=3,$D29+2,$D29+5))","v":0},40]
[null,28,10,3,30,10,10,50,{"$f":"INDEX(INDIRECT(\"'\"&$C30&\"'\"&\"!\"&\"B3:H26\"),MATCH(I$1,INDIRECT(\"'\"&$C30&\"'\"&\"!\"&\"B3:B26\"),0),IF($D30=3,$D30+2,$D30+5))","v":20},{"$f":"INDEX(INDIRECT(\"'\"&$C30&\"'\"&\"!\"&\"B3:H26\"),MATCH(J$1,INDIRECT(\"'\"&$C30&\"'\"&\"!\"&\"B3:B26\"),0),IF($D30=3,$D30+2,$D30+5))","v":0},{"$f":"INDEX(INDIRECT(\"'\"&$C30&\"'\"&\"!\"&\"B3:H26\"),MATCH(K$1,INDIRECT(\"'\"&$C30&\"'\"&\"!\"&\"B3:B26\"),0),IF($D30=3,$D30+2,$D30+5))","v":0},{"$f":"INDEX(INDIRECT(\"'\"&$C30&\"'\"&\"!\"&\"B3:H26\"),MATCH(L$1,INDIRECT(\"'\"&$C30&\"'\"&\"!\"&\"B3:B26\"),0),IF($D30=3,$D30+2,$D30+5))","v":0},{"$f":"INDEX(INDIRECT(\"'\"&$C30&\"'\"&\"!\"&\"B3:H26\"),MATCH(M$1,INDIRECT(\"'\"&$C30&\"'\"&\"!\"&\"B3:B26\"),0),IF($D30=3,$D30+2,$D30+5))","v":0},{"$f":"INDEX(INDIRECT(\"'\"&$C30&\"'\"&\"!\"&\"B3:H26\"),MATCH(N$1,INDIRECT(\"'\"&$C30&\"'\"&\"!\"&\"B3:B26\"),0),IF($D30=3,$D30+2,$D30+5))","v":50},{"$f":"INDEX(INDIRECT(\"'\"&$C30&\"'\"&\"!\"&\"B3:H26\"),MATCH(O$1,INDIRECT(\"'\"&$C30&\"'\"&\"!\"&\"B3:B26\"),0),IF($D30=3,$D30+2,$D30+5))","v":0},{"$f":"INDEX(INDIRECT(\"'\"&$C30&\"'\"&\"!\"&\"B3:H26\"),MATCH(P$1,INDIRECT(\"'\"&$C30&\"'\"&\"!\"&\"B3:B26\"),0),IF($D30=3,$D30+2,$D30+5))","v":0},{"$f":"INDEX(INDIRECT(\"'\"&$C30&\"'\"&\"!\"&\"B3:H26\"),MATCH(Q$1,INDIRECT(\"'\"&$C30&\"'\"&\"!\"&\"B3:B26\"),0),IF($D30=3,$D30+2,$D30+5))","v":0},{"$f":"INDEX(INDIRECT(\"'\"&$C30&\"'\"&\"!\"&\"B3:H26\"),MATCH(R$1,INDIRECT(\"'\"&$C30&\"'\"&\"!\"&\"B3:B26\"),0),IF($D30=3,$D30+2,$D30+5))","v":0},{"$f":"INDEX(INDIRECT(\"'\"&$C30&\"'\"&\"!\"&\"B3:H26\"),MATCH(S$1,INDIRECT(\"'\"&$C30&\"'\"&\"!\"&\"B3:B26\"),0),IF($D30=3,$D30+2,$D30+5))","v":50},{"$f":"INDEX(INDIRECT(\"'\"&$C30&\"'\"&\"!\"&\"B3:H26\"),MATCH(T$1,INDIRECT(\"'\"&$C30&\"'\"&\"!\"&\"B3:B26\"),0),IF($D30=3,$D30+2,$D30+5))","v":0},{"$f":"INDEX(INDIRECT(\"'\"&$C30&\"'\"&\"!\"&\"B3:H26\"),MATCH(U$1,INDIRECT(\"'\"&$C30&\"'\"&\"!\"&\"B3:B26\"),0),IF($D30=3,$D30+2,$D30+5))","v":0},{"$f":"INDEX(INDIRECT(\"'\"&$C30&\"'\"&\"!\"&\"B3:H26\"),MATCH(V$1,INDIRECT(\"'\"&$C30&\"'\"&\"!\"&\"B3:B26\"),0),IF($D30=3,$D30+2,$D30+5))","v":0},{"$f":"INDEX(INDIRECT(\"'\"&$C30&\"'\"&\"!\"&\"B3:H26\"),MATCH(W$1,INDIRECT(\"'\"&$C30&\"'\"&\"!\"&\"B3:B26\"),0),IF($D30=3,$D30+2,$D30+5))","v":0},120]
[null,29,{"$f":"C30","v":10},1,30,10,10,50,{"$f":"INDEX(INDIRECT(\"'\"&$C31&\"'\"&\"!\"&\"B3:H26\"),MATCH(I$1,INDIRECT(\"'\"&$C31&\"'\"&\"!\"&\"B3:B26\"),0),IF($D31=3,$D31+2,$D31+5))","v":30},{"$f":"INDEX(INDIRECT(\"'\"&$C31&\"'\"&\"!\"&\"B3:H26\"),MATCH(J$1,INDIRECT(\"'\"&$C31&\"'\"&\"!\"&\"B3:B26\"),0),IF($D31=3,$D31+2,$D31+5))","v":0},{"$f":"INDEX(INDIRECT(\"'\"&$C31&\"'\"&\"!\"&\"B3:H26\"),MATCH(K$1,INDIRECT(\"'\"&$C31&\"'\"&\"!\"&\"B3:B26\"),0),IF($D31=3,$D31+2,$D31+5))","v":0},{"$f":"INDEX(INDIRECT(\"'\"&$C31&\"'\"&\"!\"&\"B3:H26\"),MATCH(L$1,INDIRECT(\"'\"&$C31&\"'\"&\"!\"&\"B3:B26\"),0),IF($D31=3,$D31+2,$D31+5))","v":0},{"$f":"INDEX(INDIRECT(\"'\"&$C31&\"'\"&\"!\"&\"B3:H26\"),MATCH(M$1,INDIRECT(\"'\"&$C31&\"'\"&\"!\"&\"B3:B26\"),0),IF($D31=3,$D31+2,$D31+5))","v":0},{"$f":"INDEX(INDIRECT(\"'\"&$C31&\"'\"&\"!\"&\"B3:H26\"),MATCH(N$1,INDIRECT(\"'\"&$C31&\"'\"&\"!\"&\"B3:B26\"),0),IF($D31=3,$D31+2,$D31+5))","v":0},{"$f":"INDEX(INDIRECT(\"'\"&$C31&\"'\"&\"!\"&\"B3:H26\"),MATCH(O$1,INDIRECT(\"'\"&$C31&\"'\"&\"!\"&\"B3:B26\"),0),IF($D31=3,$D31+2,$D31+5))","v":0},{"$f":"INDEX(INDIRECT(\"'\"&$C31&\"'\"&\"!\"&\"B3:H26\"),MATCH(P$1,INDIRECT(\"'\"&$C31&\"'\"&\"!\"&\"B3:B26\"),0),IF($D31=3,$D31+2,$D31+5))","v":0},{"$f":"INDEX(INDIRECT(\"'\"&$C31&\"'\"&\"!\"&\"B3:H26\"),MATCH(Q$1,INDIRECT(\"'\"&$C31&\"'\"&\"!\"&\"B3:B26\"),0),IF($D31=3,$D31+2,$D31+5))","v":0},{"$f":"INDEX(INDIRECT(\"'\"&$C31&\"'\"&\"!\"&\"B3:H26\"),MATCH(R$1,INDIRECT(\"'\"&$C31&\"'\"&\"!\"&\"B3:B26\"),0),IF($D31=3,$D31+2,$D31+5))","v":0},{"$f":"INDEX(INDIRECT(\"'\"&$C31&\"'\"&\"!\"&\"B3:H26\"),MATCH(S$1,INDIRECT(\"'\"&$C31&\"'\"&\"!\"&\"B3:B26\"),0),IF($D31=3,$D31+2,$D31+5))","v":0},{"$f":"INDEX(INDIRECT(\"'\"&$C31&\"'\"&\"!\"&\"B3:H26\"),MATCH(T$1,INDIRECT(\"'\"&$C31&\"'\"&\"!\"&\"B3:B26\"),0),IF($D31=3,$D31+2,$D31+5))","v":0},{"$f":"INDEX(INDIRECT(\"'\"&$C31&\"'\"&\"!\"&\"B3:H26\"),MATCH(U$1,INDIRECT(\"'\"&$C31&\"'\"&\"!\"&\"B3:B26\"),0),IF($D31=3,$D31+2,$D31+5))","v":0},{"$f":"INDEX(INDIRECT(\"'\"&$C31&\"'\"&\"!\"&\"B3:H26\"),MATCH(V$1,INDIRECT(\"'\"&$C31&\"'\"&\"!\"&\"B3:B26\"),0),IF($D31=3,$D31+2,$D31+5))","v":0},{"$f":"INDEX(INDIRECT(\"'\"&$C31&\"'\"&\"!\"&\"B3:H26\"),MATCH(W$1,INDIRECT(\"'\"&$C31&\"'\"&\"!\"&\"B3:B26\"),0),IF($D31=3,$D31+2,$D31+5))","v":0},{"$f":"SUM(I31:W31)","v":30}]
[null,30,10,2,30,10,10,50,{"$f":"INDEX(INDIRECT(\"'\"&$C32&\"'\"&\"!\"&\"B3:H26\"),MATCH(I$1,INDIRECT(\"'\"&$C32&\"'\"&\"!\"&\"B3:B26\"),0),IF($D32=3,$D32+2,$D32+5))","v":40},{"$f":"INDEX(INDIRECT(\"'\"&$C32&\"'\"&\"!\"&\"B3:H26\"),MATCH(J$1,INDIRECT(\"'\"&$C32&\"'\"&\"!\"&\"B3:B26\"),0),IF($D32=3,$D32+2,$D32+5))","v":0},{"$f":"INDEX(INDIRECT(\"'\"&$C32&\"'\"&\"!\"&\"B3:H26\"),MATCH(K$1,INDIRECT(\"'\"&$C32&\"'\"&\"!\"&\"B3:B26\"),0),IF($D32=3,$D32+2,$D32+5))","v":0},{"$f":"INDEX(INDIRECT(\"'\"&$C32&\"'\"&\"!\"&\"B3:H26\"),MATCH(L$1,INDIRECT(\"'\"&$C32&\"'\"&\"!\"&\"B3:B26\"),0),IF($D32=3,$D32+2,$D32+5))","v":0},{"$f":"INDEX(INDIRECT(\"'\"&$C32&\"'\"&\"!\"&\"B3:H26\"),MATCH(M$1,INDIRECT(\"'\"&$C32&\"'\"&\"!\"&\"B3:B26\"),0),IF($D32=3,$D32+2,$D32+5))","v":0},{"$f":"INDEX(INDIRECT(\"'\"&$C32&\"'\"&\"!\"&\"B3:H26\"),MATCH(N$1,INDIRECT(\"'\"&$C32&\"'\"&\"!\"&\"B3:B26\"),0),IF($D32=3,$D32+2,$D32+5))","v":0},{"$f":"INDEX(INDIRECT(\"'\"&$C32&\"'\"&\"!\"&\"B3:H26\"),MATCH(O$1,INDIRECT(\"'\"&$C32&\"'\"&\"!\"&\"B3:B26\"),0),IF($D32=3,$D32+2,$D32+5))","v":0},{"$f":"INDEX(INDIRECT(\"'\"&$C32&\"'\"&\"!\"&\"B3:H26\"),MATCH(P$1,INDIRECT(\"'\"&$C32&\"'\"&\"!\"&\"B3:B26\"),0),IF($D32=3,$D32+2,$D32+5))","v":0},{"$f":"INDEX(INDIRECT(\"'\"&$C32&\"'\"&\"!\"&\"B3:H26\"),MATCH(Q$1,INDIRECT(\"'\"&$C32&\"'\"&\"!\"&\"B3:B26\"),0),IF($D32=3,$D32+2,$D32+5))","v":0},{"$f":"INDEX(INDIRECT(\"'\"&$C32&\"'\"&\"!\"&\"B3:H26\"),MATCH(R$1,INDIRECT(\"'\"&$C32&\"'\"&\"!\"&\"B3:B26\"),0),IF($D32=3,$D32+2,$D32+5))","v":0},{"$f":"INDEX(INDIRECT(\"'\"&$C32&\"'\"&\"!\"&\"B3:H26\"),MATCH(S$1,INDIRECT(\"'\"&$C32&\"'\"&\"!\"&\"B3:B26\"),0),IF($D32=3,$D32+2,$D32+5))","v":0},{"$f":"INDEX(INDIRECT(\"'\"&$C32&\"'\"&\"!\"&\"B3:H26\"),MATCH(T$1,INDIRECT(\"'\"&$C32&\"'\"&\"!\"&\"B3:B26\"),0),IF($D32=3,$D32+2,$D32+5))","v":0},{"$f":"INDEX(INDIRECT(\"'\"&$C32&\"'\"&\"!\"&\"B3:H26\"),MATCH(U$1,INDIRECT(\"'\"&$C32&\"'\"&\"!\"&\"B3:B26\"),0),IF($D32=3,$D32+2,$D32+5))","v":0},{"$f":"INDEX(INDIRECT(\"'\"&$C32&\"'\"&\"!\"&\"B3:H26\"),MATCH(V$1,INDIRECT(\"'\"&$C32&\"'\"&\"!\"&\"B3:B26\"),0),IF($D32=3,$D32+2,$D32+5))","v":0},{"$f":"INDEX(INDIRECT(\"'\"&$C32&\"'\"&\"!\"&\"B3:H26\"),MATCH(W$1,INDIRECT(\"'\"&$C32&\"'\"&\"!\"&\"B3:B26\"),0),IF($D32=3,$D32+2,$D32+5))","v":0},40]
[null,31,11,3,30,10,10,50,{"$f":"INDEX(INDIRECT(\"'\"&$C33&\"'\"&\"!\"&\"B3:H26\"),MATCH(I$1,INDIRECT(\"'\"&$C33&\"'\"&\"!\"&\"B3:B26\"),0),IF($D33=3,$D33+2,$D33+5))","v":20},{"$f":"INDEX(INDIRECT(\"'\"&$C33&\"'\"&\"!\"&\"B3:H26\"),MATCH(J$1,INDIRECT(\"'\"&$C33&\"'\"&\"!\"&\"B3:B26\"),0),IF($D33=3,$D33+2,$D33+5))","v":0},{"$f":"INDEX(INDIRECT(\"'\"&$C33&\"'\"&\"!\"&\"B3:H26\"),MATCH(K$1,INDIRECT(\"'\"&$C33&\"'\"&\"!\"&\"B3:B26\"),0),IF($D33=3,$D33+2,$D33+5))","v":0},{"$f":"INDEX(INDIRECT(\"'\"&$C33&\"'\"&\"!\"&\"B3:H26\"),MATCH(L$1,INDIRECT(\"'\"&$C33&\"'\"&\"!\"&\"B3:B26\"),0),IF($D33=3,$D33+2,$D33+5))","v":0},{"$f":"INDEX(INDIRECT(\"'\"&$C33&\"'\"&\"!\"&\"B3:H26\"),MATCH(M$1,INDIRECT(\"'\"&$C33&\"'\"&\"!\"&\"B3:B26\"),0),IF($D33=3,$D33+2,$D33+5))","v":0},{"$f":"INDEX(INDIRECT(\"'\"&$C33&\"'\"&\"!\"&\"B3:H26\"),MATCH(N$1,INDIRECT(\"'\"&$C33&\"'\"&\"!\"&\"B3:B26\"),0),IF($D33=3,$D33+2,$D33+5))","v":50},{"$f":"INDEX(INDIRECT(\"'\"&$C33&\"'\"&\"!\"&\"B3:H26\"),MATCH(O$1,INDIRECT(\"'\"&$C33&\"'\"&\"!\"&\"B3:B26\"),0),IF($D33=3,$D33+2,$D33+5))","v":0},{"$f":"INDEX(INDIRECT(\"'\"&$C33&\"'\"&\"!\"&\"B3:H26\"),MATCH(P$1,INDIRECT(\"'\"&$C33&\"'\"&\"!\"&\"B3:B26\"),0),IF($D33=3,$D33+2,$D33+5))","v":0},{"$f":"INDEX(INDIRECT(\"'\"&$C33&\"'\"&\"!\"&\"B3:H26\"),MATCH(Q$1,INDIRECT(\"'\"&$C33&\"'\"&\"!\"&\"B3:B26\"),0),IF($D33=3,$D33+2,$D33+5))","v":0},{"$f":"INDEX(INDIRECT(\"'\"&$C33&\"'\"&\"!\"&\"B3:H26\"),MATCH(R$1,INDIRECT(\"'\"&$C33&\"'\"&\"!\"&\"B3:B26\"),0),IF($D33=3,$D33+2,$D33+5))","v":0},{"$f":"INDEX(INDIRECT(\"'\"&$C33&\"'\"&\"!\"&\"B3:H26\"),MATCH(S$1,INDIRECT(\"'\"&$C33&\"'\"&\"!\"&\"B3:B26\"),0),IF($D33=3,$D33+2,$D33+5))","v":50},{"$f":"INDEX(INDIRECT(\"'\"&$C33&\"'\"&\"!\"&\"B3:H26\"),MATCH(T$1,INDIRECT(\"'\"&$C33&\"'\"&\"!\"&\"B3:B26\"),0),IF($D33=3,$D33+2,$D33+5))","v":0},{"$f":"INDEX(INDIRECT(\"'\"&$C33&\"'\"&\"!\"&\"B3:H26\"),MATCH(U$1,INDIRECT(\"'\"&$C33&\"'\"&\"!\"&\"B3:B26\"),0),IF($D33=3,$D33+2,$D33+5))","v":0},{"$f":"INDEX(INDIRECT(\"'\"&$C33&\"'\"&\"!\"&\"B3:H26\"),MATCH(V$1,INDIRECT(\"'\"&$C33&\"'\"&\"!\"&\"B3:B26\"),0),IF($D33=3,$D33+2,$D33+5))","v":0},{"$f":"INDEX(INDIRECT(\"'\"&$C33&\"'\"&\"!\"&\"B3:H26\"),MATCH(W$1,INDIRECT(\"'\"&$C33&\"'\"&\"!\"&\"B3:B26\"),0),IF($D33=3,$D33+2,$D33+5))","v":0},120]
[null,32,{"$f":"C33","v":11},1,30,10,10,50,{"$f":"INDEX(INDIRECT(\"'\"&$C34&\"'\"&\"!\"&\"B3:H26\"),MATCH(I$1,INDIRECT(\"'\"&$C34&\"'\"&\"!\"&\"B3:B26\"),0),IF($D34=3,$D34+2,$D34+5))","v":30},{"$f":"INDEX(INDIRECT(\"'\"&$C34&\"'\"&\"!\"&\"B3:H26\"),MATCH(J$1,INDIRECT(\"'\"&$C34&\"'\"&\"!\"&\"B3:B26\"),0),IF($D34=3,$D34+2,$D34+5))","v":0},{"$f":"INDEX(INDIRECT(\"'\"&$C34&\"'\"&\"!\"&\"B3:H26\"),MATCH(K$1,INDIRECT(\"'\"&$C34&\"'\"&\"!\"&\"B3:B26\"),0),IF($D34=3,$D34+2,$D34+5))","v":0},{"$f":"INDEX(INDIRECT(\"'\"&$C34&\"'\"&\"!\"&\"B3:H26\"),MATCH(L$1,INDIRECT(\"'\"&$C34&\"'\"&\"!\"&\"B3:B26\"),0),IF($D34=3,$D34+2,$D34+5))","v":0},{"$f":"INDEX(INDIRECT(\"'\"&$C34&\"'\"&\"!\"&\"B3:H26\"),MATCH(M$1,INDIRECT(\"'\"&$C34&\"'\"&\"!\"&\"B3:B26\"),0),IF($D34=3,$D34+2,$D34+5))","v":0},{"$f":"INDEX(INDIRECT(\"'\"&$C34&\"'\"&\"!\"&\"B3:H26\"),MATCH(N$1,INDIRECT(\"'\"&$C34&\"'\"&\"!\"&\"B3:B26\"),0),IF($D34=3,$D34+2,$D34+5))","v":0},{"$f":"INDEX(INDIRECT(\"'\"&$C34&\"'\"&\"!\"&\"B3:H26\"),MATCH(O$1,INDIRECT(\"'\"&$C34&\"'\"&\"!\"&\"B3:B26\"),0),IF($D34=3,$D34+2,$D34+5))","v":0},{"$f":"INDEX(INDIRECT(\"'\"&$C34&\"'\"&\"!\"&\"B3:H26\"),MATCH(P$1,INDIRECT(\"'\"&$C34&\"'\"&\"!\"&\"B3:B26\"),0),IF($D34=3,$D34+2,$D34+5))","v":0},{"$f":"INDEX(INDIRECT(\"'\"&$C34&\"'\"&\"!\"&\"B3:H26\"),MATCH(Q$1,INDIRECT(\"'\"&$C34&\"'\"&\"!\"&\"B3:B26\"),0),IF($D34=3,$D34+2,$D34+5))","v":0},{"$f":"INDEX(INDIRECT(\"'\"&$C34&\"'\"&\"!\"&\"B3:H26\"),MATCH(R$1,INDIRECT(\"'\"&$C34&\"'\"&\"!\"&\"B3:B26\"),0),IF($D34=3,$D34+2,$D34+5))","v":0},{"$f":"INDEX(INDIRECT(\"'\"&$C34&\"'\"&\"!\"&\"B3:H26\"),MATCH(S$1,INDIRECT(\"'\"&$C34&\"'\"&\"!\"&\"B3:B26\"),0),IF($D34=3,$D34+2,$D34+5))","v":0},{"$f":"INDEX(INDIRECT(\"'\"&$C34&\"'\"&\"!\"&\"B3:H26\"),MATCH(T$1,INDIRECT(\"'\"&$C34&\"'\"&\"!\"&\"B3:B26\"),0),IF($D34=3,$D34+2,$D34+5))","v":0},{"$f":"INDEX(INDIRECT(\"'\"&$C34&\"'\"&\"!\"&\"B3:H26\"),MATCH(U$1,INDIRECT(\"'\"&$C34&\"'\"&\"!\"&\"B3:B26\"),0),IF($D34=3,$D34+2,$D34+5))","v":0},{"$f":"INDEX(INDIRECT(\"'\"&$C34&\"'\"&\"!\"&\"B3:H26\"),MATCH(V$1,INDIRECT(\"'\"&$C34&\"'\"&\"!\"&\"B3:B26\"),0),IF($D34=3,$D34+2,$D34+5))","v":0},{"$f":"INDEX(INDIRECT(\"'\"&$C34&\"'\"&\"!\"&\"B3:H26\"),MATCH(W$1,INDIRECT(\"'\"&$C34&\"'\"&\"!\"&\"B3:B26\"),0),IF($D34=3,$D34+2,$D34+5))","v":0},30]
[null,33,11,2,30,10,10,50,{"$f":"INDEX(INDIRECT(\"'\"&$C35&\"'\"&\"!\"&\"B3:H26\"),MATCH(I$1,INDIRECT(\"'\"&$C35&\"'\"&\"!\"&\"B3:B26\"),0),IF($D35=3,$D35+2,$D35+5))","v":40},{"$f":"INDEX(INDIRECT(\"'\"&$C35&\"'\"&\"!\"&\"B3:H26\"),MATCH(J$1,INDIRECT(\"'\"&$C35&\"'\"&\"!\"&\"B3:B26\"),0),IF($D35=3,$D35+2,$D35+5))","v":0},{"$f":"INDEX(INDIRECT(\"'\"&$C35&\"'\"&\"!\"&\"B3:H26\"),MATCH(K$1,INDIRECT(\"'\"&$C35&\"'\"&\"!\"&\"B3:B26\"),0),IF($D35=3,$D35+2,$D35+5))","v":0},{"$f":"INDEX(INDIRECT(\"'\"&$C35&\"'\"&\"!\"&\"B3:H26\"),MATCH(L$1,INDIRECT(\"'\"&$C35&\"'\"&\"!\"&\"B3:B26\"),0),IF($D35=3,$D35+2,$D35+5))","v":0},{"$f":"INDEX(INDIRECT(\"'\"&$C35&\"'\"&\"!\"&\"B3:H26\"),MATCH(M$1,INDIRECT(\"'\"&$C35&\"'\"&\"!\"&\"B3:B26\"),0),IF($D35=3,$D35+2,$D35+5))","v":0},{"$f":"INDEX(INDIRECT(\"'\"&$C35&\"'\"&\"!\"&\"B3:H26\"),MATCH(N$1,INDIRECT(\"'\"&$C35&\"'\"&\"!\"&\"B3:B26\"),0),IF($D35=3,$D35+2,$D35+5))","v":0},{"$f":"INDEX(INDIRECT(\"'\"&$C35&\"'\"&\"!\"&\"B3:H26\"),MATCH(O$1,INDIRECT(\"'\"&$C35&\"'\"&\"!\"&\"B3:B26\"),0),IF($D35=3,$D35+2,$D35+5))","v":0},{"$f":"INDEX(INDIRECT(\"'\"&$C35&\"'\"&\"!\"&\"B3:H26\"),MATCH(P$1,INDIRECT(\"'\"&$C35&\"'\"&\"!\"&\"B3:B26\"),0),IF($D35=3,$D35+2,$D35+5))","v":0},{"$f":"INDEX(INDIRECT(\"'\"&$C35&\"'\"&\"!\"&\"B3:H26\"),MATCH(Q$1,INDIRECT(\"'\"&$C35&\"'\"&\"!\"&\"B3:B26\"),0),IF($D35=3,$D35+2,$D35+5))","v":0},{"$f":"INDEX(INDIRECT(\"'\"&$C35&\"'\"&\"!\"&\"B3:H26\"),MATCH(R$1,INDIRECT(\"'\"&$C35&\"'\"&\"!\"&\"B3:B26\"),0),IF($D35=3,$D35+2,$D35+5))","v":0},{"$f":"INDEX(INDIRECT(\"'\"&$C35&\"'\"&\"!\"&\"B3:H26\"),MATCH(S$1,INDIRECT(\"'\"&$C35&\"'\"&\"!\"&\"B3:B26\"),0),IF($D35=3,$D35+2,$D35+5))","v":0},{"$f":"INDEX(INDIRECT(\"'\"&$C35&\"'\"&\"!\"&\"B3:H26\"),MATCH(T$1,INDIRECT(\"'\"&$C35&\"'\"&\"!\"&\"B3:B26\"),0),IF($D35=3,$D35+2,$D35+5))","v":0},{"$f":"INDEX(INDIRECT(\"'\"&$C35&\"'\"&\"!\"&\"B3:H26\"),MATCH(U$1,INDIRECT(\"'\"&$C35&\"'\"&\"!\"&\"B3:B26\"),0),IF($D35=3,$D35+2,$D35+5))","v":0},{"$f":"INDEX(INDIRECT(\"'\"&$C35&\"'\"&\"!\"&\"B3:H26\"),MATCH(V$1,INDIRECT(\"'\"&$C35&\"'\"&\"!\"&\"B3:B26\"),0),IF($D35=3,$D35+2,$D35+5))","v":0},{"$f":"INDEX(INDIRECT(\"'\"&$C35&\"'\"&\"!\"&\"B3:H26\"),MATCH(W$1,INDIRECT(\"'\"&$C35&\"'\"&\"!\"&\"B3:B26\"),0),IF($D35=3,$D35+2,$D35+5))","v":0},40]
[null,34,12,3,30,10,10,50,{"$f":"INDEX(INDIRECT(\"'\"&$C36&\"'\"&\"!\"&\"B3:H26\"),MATCH(I$1,INDIRECT(\"'\"&$C36&\"'\"&\"!\"&\"B3:B26\"),0),IF($D36=3,$D36+2,$D36+5))","v":20},{"$f":"INDEX(INDIRECT(\"'\"&$C36&\"'\"&\"!\"&\"B3:H26\"),MATCH(J$1,INDIRECT(\"'\"&$C36&\"'\"&\"!\"&\"B3:B26\"),0),IF($D36=3,$D36+2,$D36+5))","v":0},{"$f":"INDEX(INDIRECT(\"'\"&$C36&\"'\"&\"!\"&\"B3:H26\"),MATCH(K$1,INDIRECT(\"'\"&$C36&\"'\"&\"!\"&\"B3:B26\"),0),IF($D36=3,$D36+2,$D36+5))","v":0},{"$f":"INDEX(INDIRECT(\"'\"&$C36&\"'\"&\"!\"&\"B3:H26\"),MATCH(L$1,INDIRECT(\"'\"&$C36&\"'\"&\"!\"&\"B3:B26\"),0),IF($D36=3,$D36+2,$D36+5))","v":0},{"$f":"INDEX(INDIRECT(\"'\"&$C36&\"'\"&\"!\"&\"B3:H26\"),MATCH(M$1,INDIRECT(\"'\"&$C36&\"'\"&\"!\"&\"B3:B26\"),0),IF($D36=3,$D36+2,$D36+5))","v":0},{"$f":"INDEX(INDIRECT(\"'\"&$C36&\"'\"&\"!\"&\"B3:H26\"),MATCH(N$1,INDIRECT(\"'\"&$C36&\"'\"&\"!\"&\"B3:B26\"),0),IF($D36=3,$D36+2,$D36+5))","v":50},{"$f":"INDEX(INDIRECT(\"'\"&$C36&\"'\"&\"!\"&\"B3:H26\"),MATCH(O$1,INDIRECT(\"'\"&$C36&\"'\"&\"!\"&\"B3:B26\"),0),IF($D36=3,$D36+2,$D36+5))","v":0},{"$f":"INDEX(INDIRECT(\"'\"&$C36&\"'\"&\"!\"&\"B3:H26\"),MATCH(P$1,INDIRECT(\"'\"&$C36&\"'\"&\"!\"&\"B3:B26\"),0),IF($D36=3,$D36+2,$D36+5))","v":0},{"$f":"INDEX(INDIRECT(\"'\"&$C36&\"'\"&\"!\"&\"B3:H26\"),MATCH(Q$1,INDIRECT(\"'\"&$C36&\"'\"&\"!\"&\"B3:B26\"),0),IF($D36=3,$D36+2,$D36+5))","v":0},{"$f":"INDEX(INDIRECT(\"'\"&$C36&\"'\"&\"!\"&\"B3:H26\"),MATCH(R$1,INDIRECT(\"'\"&$C36&\"'\"&\"!\"&\"B3:B26\"),0),IF($D36=3,$D36+2,$D36+5))","v":0},{"$f":"INDEX(INDIRECT(\"'\"&$C36&\"'\"&\"!\"&\"B3:H26\"),MATCH(S$1,INDIRECT(\"'\"&$C36&\"'\"&\"!\"&\"B3:B26\"),0),IF($D36=3,$D36+2,$D36+5))","v":50},{"$f":"INDEX(INDIRECT(\"'\"&$C36&\"'\"&\"!\"&\"B3:H26\"),MATCH(T$1,INDIRECT(\"'\"&$C36&\"'\"&\"!\"&\"B3:B26\"),0),IF($D36=3,$D36+2,$D36+5))","v":0},{"$f":"INDEX(INDIRECT(\"'\"&$C36&\"'\"&\"!\"&\"B3:H26\"),MATCH(U$1,INDIRECT(\"'\"&$C36&\"'\"&\"!\"&\"B3:B26\"),0),IF($D36=3,$D36+2,$D36+5))","v":0},{"$f":"INDEX(INDIRECT(\"'\"&$C36&\"'\"&\"!\"&\"B3:H26\"),MATCH(V$1,INDIRECT(\"'\"&$C36&\"'\"&\"!\"&\"B3:B26\"),0),IF($D36=3,$D36+2,$D36+5))","v":0},{"$f":"INDEX(INDIRECT(\"'\"&$C36&\"'\"&\"!\"&\"B3:H26\"),MATCH(W$1,INDIRECT(\"'\"&$C36&\"'\"&\"!\"&\"B3:B26\"),0),IF($D36=3,$D36+2,$D36+5))","v":0},120]
[null,35,{"$f":"C36","v":12},1,30,10,10,50,{"$f":"INDEX(INDIRECT(\"'\"&$C37&\"'\"&\"!\"&\"B3:H26\"),MATCH(I$1,INDIRECT(\"'\"&$C37&\"'\"&\"!\"&\"B3:B26\"),0),IF($D37=3,$D37+2,$D37+5))","v":30},{"$f":"INDEX(INDIRECT(\"'\"&$C37&\"'\"&\"!\"&\"B3:H26\"),MATCH(J$1,INDIRECT(\"'\"&$C37&\"'\"&\"!\"&\"B3:B26\"),0),IF($D37=3,$D37+2,$D37+5))","v":0},{"$f":"INDEX(INDIRECT(\"'\"&$C37&\"'\"&\"!\"&\"B3:H26\"),MATCH(K$1,INDIRECT(\"'\"&$C37&\"'\"&\"!\"&\"B3:B26\"),0),IF($D37=3,$D37+2,$D37+5))","v":0},{"$f":"INDEX(INDIRECT(\"'\"&$C37&\"'\"&\"!\"&\"B3:H26\"),MATCH(L$1,INDIRECT(\"'\"&$C37&\"'\"&\"!\"&\"B3:B26\"),0),IF($D37=3,$D37+2,$D37+5))","v":0},{"$f":"INDEX(INDIRECT(\"'\"&$C37&\"'\"&\"!\"&\"B3:H26\"),MATCH(M$1,INDIRECT(\"'\"&$C37&\"'\"&\"!\"&\"B3:B26\"),0),IF($D37=3,$D37+2,$D37+5))","v":0},{"$f":"INDEX(INDIRECT(\"'\"&$C37&\"'\"&\"!\"&\"B3:H26\"),MATCH(N$1,INDIRECT(\"'\"&$C37&\"'\"&\"!\"&\"B3:B26\"),0),IF($D37=3,$D37+2,$D37+5))","v":0},{"$f":"INDEX(INDIRECT(\"'\"&$C37&\"'\"&\"!\"&\"B3:H26\"),MATCH(O$1,INDIRECT(\"'\"&$C37&\"'\"&\"!\"&\"B3:B26\"),0),IF($D37=3,$D37+2,$D37+5))","v":0},{"$f":"INDEX(INDIRECT(\"'\"&$C37&\"'\"&\"!\"&\"B3:H26\"),MATCH(P$1,INDIRECT(\"'\"&$C37&\"'\"&\"!\"&\"B3:B26\"),0),IF($D37=3,$D37+2,$D37+5))","v":0},{"$f":"INDEX(INDIRECT(\"'\"&$C37&\"'\"&\"!\"&\"B3:H26\"),MATCH(Q$1,INDIRECT(\"'\"&$C37&\"'\"&\"!\"&\"B3:B26\"),0),IF($D37=3,$D37+2,$D37+5))","v":0},{"$f":"INDEX(INDIRECT(\"'\"&$C37&\"'\"&\"!\"&\"B3:H26\"),MATCH(R$1,INDIRECT(\"'\"&$C37&\"'\"&\"!\"&\"B3:B26\"),0),IF($D37=3,$D37+2,$D37+5))","v":0},{"$f":"INDEX(INDIRECT(\"'\"&$C37&\"'\"&\"!\"&\"B3:H26\"),MATCH(S$1,INDIRECT(\"'\"&$C37&\"'\"&\"!\"&\"B3:B26\"),0),IF($D37=3,$D37+2,$D37+5))","v":0},{"$f":"INDEX(INDIRECT(\"'\"&$C37&\"'\"&\"!\"&\"B3:H26\"),MATCH(T$1,INDIRECT(\"'\"&$C37&\"'\"&\"!\"&\"B3:B26\"),0),IF($D37=3,$D37+2,$D37+5))","v":0},{"$f":"INDEX(INDIRECT(\"'\"&$C37&\"'\"&\"!\"&\"B3:H26\"),MATCH(U$1,INDIRECT(\"'\"&$C37&\"'\"&\"!\"&\"B3:B26\"),0),IF($D37=3,$D37+2,$D37+5))","v":0},{"$f":"INDEX(INDIRECT(\"'\"&$C37&\"'\"&\"!\"&\"B3:H26\"),MATCH(V$1,INDIRECT(\"'\"&$C37&\"'\"&\"!\"&\"B3:B26\"),0),IF($D37=3,$D37+2,$D37+5))","v":0},{"$f":"INDEX(INDIRECT(\"'\"&$C37&\"'\"&\"!\"&\"B3:H26\"),MATCH(W$1,INDIRECT(\"'\"&$C37&\"'\"&\"!\"&\"B3:B26\"),0),IF($D37=3,$D37+2,$D37+5))","v":0},30]
[null,36,12,2,30,10,10,50,{"$f":"INDEX(INDIRECT(\"'\"&$C38&\"'\"&\"!\"&\"B3:H26\"),MATCH(I$1,INDIRECT(\"'\"&$C38&\"'\"&\"!\"&\"B3:B26\"),0),IF($D38=3,$D38+2,$D38+5))","v":40},{"$f":"INDEX(INDIRECT(\"'\"&$C38&\"'\"&\"!\"&\"B3:H26\"),MATCH(J$1,INDIRECT(\"'\"&$C38&\"'\"&\"!\"&\"B3:B26\"),0),IF($D38=3,$D38+2,$D38+5))","v":0},{"$f":"INDEX(INDIRECT(\"'\"&$C38&\"'\"&\"!\"&\"B3:H26\"),MATCH(K$1,INDIRECT(\"'\"&$C38&\"'\"&\"!\"&\"B3:B26\"),0),IF($D38=3,$D38+2,$D38+5))","v":0},{"$f":"INDEX(INDIRECT(\"'\"&$C38&\"'\"&\"!\"&\"B3:H26\"),MATCH(L$1,INDIRECT(\"'\"&$C38&\"'\"&\"!\"&\"B3:B26\"),0),IF($D38=3,$D38+2,$D38+5))","v":0},{"$f":"INDEX(INDIRECT(\"'\"&$C38&\"'\"&\"!\"&\"B3:H26\"),MATCH(M$1,INDIRECT(\"'\"&$C38&\"'\"&\"!\"&\"B3:B26\"),0),IF($D38=3,$D38+2,$D38+5))","v":0},{"$f":"INDEX(INDIRECT(\"'\"&$C38&\"'\"&\"!\"&\"B3:H26\"),MATCH(N$1,INDIRECT(\"'\"&$C38&\"'\"&\"!\"&\"B3:B26\"),0),IF($D38=3,$D38+2,$D38+5))","v":0},{"$f":"INDEX(INDIRECT(\"'\"&$C38&\"'\"&\"!\"&\"B3:H26\"),MATCH(O$1,INDIRECT(\"'\"&$C38&\"'\"&\"!\"&\"B3:B26\"),0),IF($D38=3,$D38+2,$D38+5))","v":0},{"$f":"INDEX(INDIRECT(\"'\"&$C38&\"'\"&\"!\"&\"B3:H26\"),MATCH(P$1,INDIRECT(\"'\"&$C38&\"'\"&\"!\"&\"B3:B26\"),0),IF($D38=3,$D38+2,$D38+5))","v":0},{"$f":"INDEX(INDIRECT(\"'\"&$C38&\"'\"&\"!\"&\"B3:H26\"),MATCH(Q$1,INDIRECT(\"'\"&$C38&\"'\"&\"!\"&\"B3:B26\"),0),IF($D38=3,$D38+2,$D38+5))","v":0},{"$f":"INDEX(INDIRECT(\"'\"&$C38&\"'\"&\"!\"&\"B3:H26\"),MATCH(R$1,INDIRECT(\"'\"&$C38&\"'\"&\"!\"&\"B3:B26\"),0),IF($D38=3,$D38+2,$D38+5))","v":0},{"$f":"INDEX(INDIRECT(\"'\"&$C38&\"'\"&\"!\"&\"B3:H26\"),MATCH(S$1,INDIRECT(\"'\"&$C38&\"'\"&\"!\"&\"B3:B26\"),0),IF($D38=3,$D38+2,$D38+5))","v":0},{"$f":"INDEX(INDIRECT(\"'\"&$C38&\"'\"&\"!\"&\"B3:H26\"),MATCH(T$1,INDIRECT(\"'\"&$C38&\"'\"&\"!\"&\"B3:B26\"),0),IF($D38=3,$D38+2,$D38+5))","v":0},{"$f":"INDEX(INDIRECT(\"'\"&$C38&\"'\"&\"!\"&\"B3:H26\"),MATCH(U$1,INDIRECT(\"'\"&$C38&\"'\"&\"!\"&\"B3:B26\"),0),IF($D38=3,$D38+2,$D38+5))","v":0},{"$f":"INDEX(INDIRECT(\"'\"&$C38&\"'\"&\"!\"&\"B3:H26\"),MATCH(V$1,INDIRECT(\"'\"&$C38&\"'\"&\"!\"&\"B3:B26\"),0),IF($D38=3,$D38+2,$D38+5))","v":0},{"$f":"INDEX(INDIRECT(\"'\"&$C38&\"'\"&\"!\"&\"B3:H26\"),MATCH(W$1,INDIRECT(\"'\"&$C38&\"'\"&\"!\"&\"B3:B26\"),0),IF($D38=3,$D38+2,$D38+5))","v":0},40]
[null,37,13,3,30,10,10,50,{"$f":"INDEX(INDIRECT(\"'\"&$C39&\"'\"&\"!\"&\"B3:H26\"),MATCH(I$1,INDIRECT(\"'\"&$C39&\"'\"&\"!\"&\"B3:B26\"),0),IF($D39=3,$D39+2,$D39+5))","v":20},{"$f":"INDEX(INDIRECT(\"'\"&$C39&\"'\"&\"!\"&\"B3:H26\"),MATCH(J$1,INDIRECT(\"'\"&$C39&\"'\"&\"!\"&\"B3:B26\"),0),IF($D39=3,$D39+2,$D39+5))","v":0},{"$f":"INDEX(INDIRECT(\"'\"&$C39&\"'\"&\"!\"&\"B3:H26\"),MATCH(K$1,INDIRECT(\"'\"&$C39&\"'\"&\"!\"&\"B3:B26\"),0),IF($D39=3,$D39+2,$D39+5))","v":0},{"$f":"INDEX(INDIRECT(\"'\"&$C39&\"'\"&\"!\"&\"B3:H26\"),MATCH(L$1,INDIRECT(\"'\"&$C39&\"'\"&\"!\"&\"B3:B26\"),0),IF($D39=3,$D39+2,$D39+5))","v":0},{"$f":"INDEX(INDIRECT(\"'\"&$C39&\"'\"&\"!\"&\"B3:H26\"),MATCH(M$1,INDIRECT(\"'\"&$C39&\"'\"&\"!\"&\"B3:B26\"),0),IF($D39=3,$D39+2,$D39+5))","v":0},{"$f":"INDEX(INDIRECT(\"'\"&$C39&\"'\"&\"!\"&\"B3:H26\"),MATCH(N$1,INDIRECT(\"'\"&$C39&\"'\"&\"!\"&\"B3:B26\"),0),IF($D39=3,$D39+2,$D39+5))","v":50},{"$f":"INDEX(INDIRECT(\"'\"&$C39&\"'\"&\"!\"&\"B3:H26\"),MATCH(O$1,INDIRECT(\"'\"&$C39&\"'\"&\"!\"&\"B3:B26\"),0),IF($D39=3,$D39+2,$D39+5))","v":0},{"$f":"INDEX(INDIRECT(\"'\"&$C39&\"'\"&\"!\"&\"B3:H26\"),MATCH(P$1,INDIRECT(\"'\"&$C39&\"'\"&\"!\"&\"B3:B26\"),0),IF($D39=3,$D39+2,$D39+5))","v":0},{"$f":"INDEX(INDIRECT(\"'\"&$C39&\"'\"&\"!\"&\"B3:H26\"),MATCH(Q$1,INDIRECT(\"'\"&$C39&\"'\"&\"!\"&\"B3:B26\"),0),IF($D39=3,$D39+2,$D39+5))","v":0},{"$f":"INDEX(INDIRECT(\"'\"&$C39&\"'\"&\"!\"&\"B3:H26\"),MATCH(R$1,INDIRECT(\"'\"&$C39&\"'\"&\"!\"&\"B3:B26\"),0),IF($D39=3,$D39+2,$D39+5))","v":0},{"$f":"INDEX(INDIRECT(\"'\"&$C39&\"'\"&\"!\"&\"B3:H26\"),MATCH(S$1,INDIRECT(\"'\"&$C39&\"'\"&\"!\"&\"B3:B26\"),0),IF($D39=3,$D39+2,$D39+5))","v":50},{"$f":"INDEX(INDIRECT(\"'\"&$C39&\"'\"&\"!\"&\"B3:H26\"),MATCH(T$1,INDIRECT(\"'\"&$C39&\"'\"&\"!\"&\"B3:B26\"),0),IF($D39=3,$D39+2,$D39+5))","v":0},{"$f":"INDEX(INDIRECT(\"'\"&$C39&\"'\"&\"!\"&\"B3:H26\"),MATCH(U$1,INDIRECT(\"'\"&$C39&\"'\"&\"!\"&\"B3:B26\"),0),IF($D39=3,$D39+2,$D39+5))","v":0},{"$f":"INDEX(INDIRECT(\"'\"&$C39&\"'\"&\"!\"&\"B3:H26\"),MATCH(V$1,INDIRECT(\"'\"&$C39&\"'\"&\"!\"&\"B3:B26\"),0),IF($D39=3,$D39+2,$D39+5))","v":0},{"$f":"INDEX(INDIRECT(\"'\"&$C39&\"'\"&\"!\"&\"B3:H26\"),MATCH(W$1,INDIRECT(\"'\"&$C39&\"'\"&\"!\"&\"B3:B26\"),0),IF($D39=3,$D39+2,$D39+5))","v":0},120]
[null,38,{"$f":"C39","v":13},1,30,10,10,50,{"$f":"INDEX(INDIRECT(\"'\"&$C40&\"'\"&\"!\"&\"B3:H26\"),MATCH(I$1,INDIRECT(\"'\"&$C40&\"'\"&\"!\"&\"B3:B26\"),0),IF($D40=3,$D40+2,$D40+5))","v":30},{"$f":"INDEX(INDIRECT(\"'\"&$C40&\"'\"&\"!\"&\"B3:H26\"),MATCH(J$1,INDIRECT(\"'\"&$C40&\"'\"&\"!\"&\"B3:B26\"),0),IF($D40=3,$D40+2,$D40+5))","v":0},{"$f":"INDEX(INDIRECT(\"'\"&$C40&\"'\"&\"!\"&\"B3:H26\"),MATCH(K$1,INDIRECT(\"'\"&$C40&\"'\"&\"!\"&\"B3:B26\"),0),IF($D40=3,$D40+2,$D40+5))","v":0},{"$f":"INDEX(INDIRECT(\"'\"&$C40&\"'\"&\"!\"&\"B3:H26\"),MATCH(L$1,INDIRECT(\"'\"&$C40&\"'\"&\"!\"&\"B3:B26\"),0),IF($D40=3,$D40+2,$D40+5))","v":0},{"$f":"INDEX(INDIRECT(\"'\"&$C40&\"'\"&\"!\"&\"B3:H26\"),MATCH(M$1,INDIRECT(\"'\"&$C40&\"'\"&\"!\"&\"B3:B26\"),0),IF($D40=3,$D40+2,$D40+5))","v":0},{"$f":"INDEX(INDIRECT(\"'\"&$C40&\"'\"&\"!\"&\"B3:H26\"),MATCH(N$1,INDIRECT(\"'\"&$C40&\"'\"&\"!\"&\"B3:B26\"),0),IF($D40=3,$D40+2,$D40+5))","v":0},{"$f":"INDEX(INDIRECT(\"'\"&$C40&\"'\"&\"!\"&\"B3:H26\"),MATCH(O$1,INDIRECT(\"'\"&$C40&\"'\"&\"!\"&\"B3:B26\"),0),IF($D40=3,$D40+2,$D40+5))","v":0},{"$f":"INDEX(INDIRECT(\"'\"&$C40&\"'\"&\"!\"&\"B3:H26\"),MATCH(P$1,INDIRECT(\"'\"&$C40&\"'\"&\"!\"&\"B3:B26\"),0),IF($D40=3,$D40+2,$D40+5))","v":0},{"$f":"INDEX(INDIRECT(\"'\"&$C40&\"'\"&\"!\"&\"B3:H26\"),MATCH(Q$1,INDIRECT(\"'\"&$C40&\"'\"&\"!\"&\"B3:B26\"),0),IF($D40=3,$D40+2,$D40+5))","v":0},{"$f":"INDEX(INDIRECT(\"'\"&$C40&\"'\"&\"!\"&\"B3:H26\"),MATCH(R$1,INDIRECT(\"'\"&$C40&\"'\"&\"!\"&\"B3:B26\"),0),IF($D40=3,$D40+2,$D40+5))","v":0},{"$f":"INDEX(INDIRECT(\"'\"&$C40&\"'\"&\"!\"&\"B3:H26\"),MATCH(S$1,INDIRECT(\"'\"&$C40&\"'\"&\"!\"&\"B3:B26\"),0),IF($D40=3,$D40+2,$D40+5))","v":0},{"$f":"INDEX(INDIRECT(\"'\"&$C40&\"'\"&\"!\"&\"B3:H26\"),MATCH(T$1,INDIRECT(\"'\"&$C40&\"'\"&\"!\"&\"B3:B26\"),0),IF($D40=3,$D40+2,$D40+5))","v":0},{"$f":"INDEX(INDIRECT(\"'\"&$C40&\"'\"&\"!\"&\"B3:H26\"),MATCH(U$1,INDIRECT(\"'\"&$C40&\"'\"&\"!\"&\"B3:B26\"),0),IF($D40=3,$D40+2,$D40+5))","v":0},{"$f":"INDEX(INDIRECT(\"'\"&$C40&\"'\"&\"!\"&\"B3:H26\"),MATCH(V$1,INDIRECT(\"'\"&$C40&\"'\"&\"!\"&\"B3:B26\"),0),IF($D40=3,$D40+2,$D40+5))","v":0},{"$f":"INDEX(INDIRECT(\"'\"&$C40&\"'\"&\"!\"&\"B3:H26\"),MATCH(W$1,INDIRECT(\"'\"&$C40&\"'\"&\"!\"&\"B3:B26\"),0),IF($D40=3,$D40+2,$D40+5))","v":0},30]
[null,39,13,2,30,10,10,50,{"$f":"INDEX(INDIRECT(\"'\"&$C41&\"'\"&\"!\"&\"B3:H26\"),MATCH(I$1,INDIRECT(\"'\"&$C41&\"'\"&\"!\"&\"B3:B26\"),0),IF($D41=3,$D41+2,$D41+5))","v":40},{"$f":"INDEX(INDIRECT(\"'\"&$C41&\"'\"&\"!\"&\"B3:H26\"),MATCH(J$1,INDIRECT(\"'\"&$C41&\"'\"&\"!\"&\"B3:B26\"),0),IF($D41=3,$D41+2,$D41+5))","v":0},{"$f":"INDEX(INDIRECT(\"'\"&$C41&\"'\"&\"!\"&\"B3:H26\"),MATCH(K$1,INDIRECT(\"'\"&$C41&\"'\"&\"!\"&\"B3:B26\"),0),IF($D41=3,$D41+2,$D41+5))","v":0},{"$f":"INDEX(INDIRECT(\"'\"&$C41&\"'\"&\"!\"&\"B3:H26\"),MATCH(L$1,INDIRECT(\"'\"&$C41&\"'\"&\"!\"&\"B3:B26\"),0),IF($D41=3,$D41+2,$D41+5))","v":0},{"$f":"INDEX(INDIRECT(\"'\"&$C41&\"'\"&\"!\"&\"B3:H26\"),MATCH(M$1,INDIRECT(\"'\"&$C41&\"'\"&\"!\"&\"B3:B26\"),0),IF($D41=3,$D41+2,$D41+5))","v":0},{"$f":"INDEX(INDIRECT(\"'\"&$C41&\"'\"&\"!\"&\"B3:H26\"),MATCH(N$1,INDIRECT(\"'\"&$C41&\"'\"&\"!\"&\"B3:B26\"),0),IF($D41=3,$D41+2,$D41+5))","v":0},{"$f":"INDEX(INDIRECT(\"'\"&$C41&\"'\"&\"!\"&\"B3:H26\"),MATCH(O$1,INDIRECT(\"'\"&$C41&\"'\"&\"!\"&\"B3:B26\"),0),IF($D41=3,$D41+2,$D41+5))","v":0},{"$f":"INDEX(INDIRECT(\"'\"&$C41&\"'\"&\"!\"&\"B3:H26\"),MATCH(P$1,INDIRECT(\"'\"&$C41&\"'\"&\"!\"&\"B3:B26\"),0),IF($D41=3,$D41+2,$D41+5))","v":0},{"$f":"INDEX(INDIRECT(\"'\"&$C41&\"'\"&\"!\"&\"B3:H26\"),MATCH(Q$1,INDIRECT(\"'\"&$C41&\"'\"&\"!\"&\"B3:B26\"),0),IF($D41=3,$D41+2,$D41+5))","v":0},{"$f":"INDEX(INDIRECT(\"'\"&$C41&\"'\"&\"!\"&\"B3:H26\"),MATCH(R$1,INDIRECT(\"'\"&$C41&\"'\"&\"!\"&\"B3:B26\"),0),IF($D41=3,$D41+2,$D41+5))","v":0},{"$f":"INDEX(INDIRECT(\"'\"&$C41&\"'\"&\"!\"&\"B3:H26\"),MATCH(S$1,INDIRECT(\"'\"&$C41&\"'\"&\"!\"&\"B3:B26\"),0),IF($D41=3,$D41+2,$D41+5))","v":0},{"$f":"INDEX(INDIRECT(\"'\"&$C41&\"'\"&\"!\"&\"B3:H26\"),MATCH(T$1,INDIRECT(\"'\"&$C41&\"'\"&\"!\"&\"B3:B26\"),0),IF($D41=3,$D41+2,$D41+5))","v":0},{"$f":"INDEX(INDIRECT(\"'\"&$C41&\"'\"&\"!\"&\"B3:H26\"),MATCH(U$1,INDIRECT(\"'\"&$C41&\"'\"&\"!\"&\"B3:B26\"),0),IF($D41=3,$D41+2,$D41+5))","v":0},{"$f":"INDEX(INDIRECT(\"'\"&$C41&\"'\"&\"!\"&\"B3:H26\"),MATCH(V$1,INDIRECT(\"'\"&$C41&\"'\"&\"!\"&\"B3:B26\"),0),IF($D41=3,$D41+2,$D41+5))","v":0},{"$f":"INDEX(INDIRECT(\"'\"&$C41&\"'\"&\"!\"&\"B3:H26\"),MATCH(W$1,INDIRECT(\"'\"&$C41&\"'\"&\"!\"&\"B3:B26\"),0),IF($D41=3,$D41+2,$D41+5))","v":0},40]
[null,40,14,3,30,10,10,50,{"$f":"INDEX(INDIRECT(\"'\"&$C42&\"'\"&\"!\"&\"B3:H26\"),MATCH(I$1,INDIRECT(\"'\"&$C42&\"'\"&\"!\"&\"B3:B26\"),0),IF($D42=3,$D42+2,$D42+5))","v":20},{"$f":"INDEX(INDIRECT(\"'\"&$C42&\"'\"&\"!\"&\"B3:H26\"),MATCH(J$1,INDIRECT(\"'\"&$C42&\"'\"&\"!\"&\"B3:B26\"),0),IF($D42=3,$D42+2,$D42+5))","v":0},{"$f":"INDEX(INDIRECT(\"'\"&$C42&\"'\"&\"!\"&\"B3:H26\"),MATCH(K$1,INDIRECT(\"'\"&$C42&\"'\"&\"!\"&\"B3:B26\"),0),IF($D42=3,$D42+2,$D42+5))","v":0},{"$f":"INDEX(INDIRECT(\"'\"&$C42&\"'\"&\"!\"&\"B3:H26\"),MATCH(L$1,INDIRECT(\"'\"&$C42&\"'\"&\"!\"&\"B3:B26\"),0),IF($D42=3,$D42+2,$D42+5))","v":0},{"$f":"INDEX(INDIRECT(\"'\"&$C42&\"'\"&\"!\"&\"B3:H26\"),MATCH(M$1,INDIRECT(\"'\"&$C42&\"'\"&\"!\"&\"B3:B26\"),0),IF($D42=3,$D42+2,$D42+5))","v":0},{"$f":"INDEX(INDIRECT(\"'\"&$C42&\"'\"&\"!\"&\"B3:H26\"),MATCH(N$1,INDIRECT(\"'\"&$C42&\"'\"&\"!\"&\"B3:B26\"),0),IF($D42=3,$D42+2,$D42+5))","v":50},{"$f":"INDEX(INDIRECT(\"'\"&$C42&\"'\"&\"!\"&\"B3:H26\"),MATCH(O$1,INDIRECT(\"'\"&$C42&\"'\"&\"!\"&\"B3:B26\"),0),IF($D42=3,$D42+2,$D42+5))","v":0},{"$f":"INDEX(INDIRECT(\"'\"&$C42&\"'\"&\"!\"&\"B3:H26\"),MATCH(P$1,INDIRECT(\"'\"&$C42&\"'\"&\"!\"&\"B3:B26\"),0),IF($D42=3,$D42+2,$D42+5))","v":0},{"$f":"INDEX(INDIRECT(\"'\"&$C42&\"'\"&\"!\"&\"B3:H26\"),MATCH(Q$1,INDIRECT(\"'\"&$C42&\"'\"&\"!\"&\"B3:B26\"),0),IF($D42=3,$D42+2,$D42+5))","v":0},{"$f":"INDEX(INDIRECT(\"'\"&$C42&\"'\"&\"!\"&\"B3:H26\"),MATCH(R$1,INDIRECT(\"'\"&$C42&\"'\"&\"!\"&\"B3:B26\"),0),IF($D42=3,$D42+2,$D42+5))","v":0},{"$f":"INDEX(INDIRECT(\"'\"&$C42&\"'\"&\"!\"&\"B3:H26\"),MATCH(S$1,INDIRECT(\"'\"&$C42&\"'\"&\"!\"&\"B3:B26\"),0),IF($D42=3,$D42+2,$D42+5))","v":50},{"$f":"INDEX(INDIRECT(\"'\"&$C42&\"'\"&\"!\"&\"B3:H26\"),MATCH(T$1,INDIRECT(\"'\"&$C42&\"'\"&\"!\"&\"B3:B26\"),0),IF($D42=3,$D42+2,$D42+5))","v":0},{"$f":"INDEX(INDIRECT(\"'\"&$C42&\"'\"&\"!\"&\"B3:H26\"),MATCH(U$1,INDIRECT(\"'\"&$C42&\"'\"&\"!\"&\"B3:B26\"),0),IF($D42=3,$D42+2,$D42+5))","v":0},{"$f":"INDEX(INDIRECT(\"'\"&$C42&\"'\"&\"!\"&\"B3:H26\"),MATCH(V$1,INDIRECT(\"'\"&$C42&\"'\"&\"!\"&\"B3:B26\"),0),IF($D42=3,$D42+2,$D42+5))","v":0},{"$f":"INDEX(INDIRECT(\"'\"&$C42&\"'\"&\"!\"&\"B3:H26\"),MATCH(W$1,INDIRECT(\"'\"&$C42&\"'\"&\"!\"&\"B3:B26\"),0),IF($D42=3,$D42+2,$D42+5))","v":0},120]
[null,41,{"$f":"C42","v":14},1,30,10,10,50,{"$f":"INDEX(INDIRECT(\"'\"&$C43&\"'\"&\"!\"&\"B3:H26\"),MATCH(I$1,INDIRECT(\"'\"&$C43&\"'\"&\"!\"&\"B3:B26\"),0),IF($D43=3,$D43+2,$D43+5))","v":30},{"$f":"INDEX(INDIRECT(\"'\"&$C43&\"'\"&\"!\"&\"B3:H26\"),MATCH(J$1,INDIRECT(\"'\"&$C43&\"'\"&\"!\"&\"B3:B26\"),0),IF($D43=3,$D43+2,$D43+5))","v":0},{"$f":"INDEX(INDIRECT(\"'\"&$C43&\"'\"&\"!\"&\"B3:H26\"),MATCH(K$1,INDIRECT(\"'\"&$C43&\"'\"&\"!\"&\"B3:B26\"),0),IF($D43=3,$D43+2,$D43+5))","v":0},{"$f":"INDEX(INDIRECT(\"'\"&$C43&\"'\"&\"!\"&\"B3:H26\"),MATCH(L$1,INDIRECT(\"'\"&$C43&\"'\"&\"!\"&\"B3:B26\"),0),IF($D43=3,$D43+2,$D43+5))","v":0},{"$f":"INDEX(INDIRECT(\"'\"&$C43&\"'\"&\"!\"&\"B3:H26\"),MATCH(M$1,INDIRECT(\"'\"&$C43&\"'\"&\"!\"&\"B3:B26\"),0),IF($D43=3,$D43+2,$D43+5))","v":0},{"$f":"INDEX(INDIRECT(\"'\"&$C43&\"'\"&\"!\"&\"B3:H26\"),MATCH(N$1,INDIRECT(\"'\"&$C43&\"'\"&\"!\"&\"B3:B26\"),0),IF($D43=3,$D43+2,$D43+5))","v":0},{"$f":"INDEX(INDIRECT(\"'\"&$C43&\"'\"&\"!\"&\"B3:H26\"),MATCH(O$1,INDIRECT(\"'\"&$C43&\"'\"&\"!\"&\"B3:B26\"),0),IF($D43=3,$D43+2,$D43+5))","v":0},{"$f":"INDEX(INDIRECT(\"'\"&$C43&\"'\"&\"!\"&\"B3:H26\"),MATCH(P$1,INDIRECT(\"'\"&$C43&\"'\"&\"!\"&\"B3:B26\"),0),IF($D43=3,$D43+2,$D43+5))","v":0},{"$f":"INDEX(INDIRECT(\"'\"&$C43&\"'\"&\"!\"&\"B3:H26\"),MATCH(Q$1,INDIRECT(\"'\"&$C43&\"'\"&\"!\"&\"B3:B26\"),0),IF($D43=3,$D43+2,$D43+5))","v":0},{"$f":"INDEX(INDIRECT(\"'\"&$C43&\"'\"&\"!\"&\"B3:H26\"),MATCH(R$1,INDIRECT(\"'\"&$C43&\"'\"&\"!\"&\"B3:B26\"),0),IF($D43=3,$D43+2,$D43+5))","v":0},{"$f":"INDEX(INDIRECT(\"'\"&$C43&\"'\"&\"!\"&\"B3:H26\"),MATCH(S$1,INDIRECT(\"'\"&$C43&\"'\"&\"!\"&\"B3:B26\"),0),IF($D43=3,$D43+2,$D43+5))","v":0},{"$f":"INDEX(INDIRECT(\"'\"&$C43&\"'\"&\"!\"&\"B3:H26\"),MATCH(T$1,INDIRECT(\"'\"&$C43&\"'\"&\"!\"&\"B3:B26\"),0),IF($D43=3,$D43+2,$D43+5))","v":0},{"$f":"INDEX(INDIRECT(\"'\"&$C43&\"'\"&\"!\"&\"B3:H26\"),MATCH(U$1,INDIRECT(\"'\"&$C43&\"'\"&\"!\"&\"B3:B26\"),0),IF($D43=3,$D43+2,$D43+5))","v":0},{"$f":"INDEX(INDIRECT(\"'\"&$C43&\"'\"&\"!\"&\"B3:H26\"),MATCH(V$1,INDIRECT(\"'\"&$C43&\"'\"&\"!\"&\"B3:B26\"),0),IF($D43=3,$D43+2,$D43+5))","v":0},{"$f":"INDEX(INDIRECT(\"'\"&$C43&\"'\"&\"!\"&\"B3:H26\"),MATCH(W$1,INDIRECT(\"'\"&$C43&\"'\"&\"!\"&\"B3:B26\"),0),IF($D43=3,$D43+2,$D43+5))","v":0},30]
[null,42,14,2,30,10,10,50,{"$f":"INDEX(INDIRECT(\"'\"&$C44&\"'\"&\"!\"&\"B3:H26\"),MATCH(I$1,INDIRECT(\"'\"&$C44&\"'\"&\"!\"&\"B3:B26\"),0),IF($D44=3,$D44+2,$D44+5))","v":40},{"$f":"INDEX(INDIRECT(\"'\"&$C44&\"'\"&\"!\"&\"B3:H26\"),MATCH(J$1,INDIRECT(\"'\"&$C44&\"'\"&\"!\"&\"B3:B26\"),0),IF($D44=3,$D44+2,$D44+5))","v":0},{"$f":"INDEX(INDIRECT(\"'\"&$C44&\"'\"&\"!\"&\"B3:H26\"),MATCH(K$1,INDIRECT(\"'\"&$C44&\"'\"&\"!\"&\"B3:B26\"),0),IF($D44=3,$D44+2,$D44+5))","v":0},{"$f":"INDEX(INDIRECT(\"'\"&$C44&\"'\"&\"!\"&\"B3:H26\"),MATCH(L$1,INDIRECT(\"'\"&$C44&\"'\"&\"!\"&\"B3:B26\"),0),IF($D44=3,$D44+2,$D44+5))","v":0},{"$f":"INDEX(INDIRECT(\"'\"&$C44&\"'\"&\"!\"&\"B3:H26\"),MATCH(M$1,INDIRECT(\"'\"&$C44&\"'\"&\"!\"&\"B3:B26\"),0),IF($D44=3,$D44+2,$D44+5))","v":0},{"$f":"INDEX(INDIRECT(\"'\"&$C44&\"'\"&\"!\"&\"B3:H26\"),MATCH(N$1,INDIRECT(\"'\"&$C44&\"'\"&\"!\"&\"B3:B26\"),0),IF($D44=3,$D44+2,$D44+5))","v":0},{"$f":"INDEX(INDIRECT(\"'\"&$C44&\"'\"&\"!\"&\"B3:H26\"),MATCH(O$1,INDIRECT(\"'\"&$C44&\"'\"&\"!\"&\"B3:B26\"),0),IF($D44=3,$D44+2,$D44+5))","v":0},{"$f":"INDEX(INDIRECT(\"'\"&$C44&\"'\"&\"!\"&\"B3:H26\"),MATCH(P$1,INDIRECT(\"'\"&$C44&\"'\"&\"!\"&\"B3:B26\"),0),IF($D44=3,$D44+2,$D44+5))","v":0},{"$f":"INDEX(INDIRECT(\"'\"&$C44&\"'\"&\"!\"&\"B3:H26\"),MATCH(Q$1,INDIRECT(\"'\"&$C44&\"'\"&\"!\"&\"B3:B26\"),0),IF($D44=3,$D44+2,$D44+5))","v":0},{"$f":"INDEX(INDIRECT(\"'\"&$C44&\"'\"&\"!\"&\"B3:H26\"),MATCH(R$1,INDIRECT(\"'\"&$C44&\"'\"&\"!\"&\"B3:B26\"),0),IF($D44=3,$D44+2,$D44+5))","v":0},{"$f":"INDEX(INDIRECT(\"'\"&$C44&\"'\"&\"!\"&\"B3:H26\"),MATCH(S$1,INDIRECT(\"'\"&$C44&\"'\"&\"!\"&\"B3:B26\"),0),IF($D44=3,$D44+2,$D44+5))","v":0},{"$f":"INDEX(INDIRECT(\"'\"&$C44&\"'\"&\"!\"&\"B3:H26\"),MATCH(T$1,INDIRECT(\"'\"&$C44&\"'\"&\"!\"&\"B3:B26\"),0),IF($D44=3,$D44+2,$D44+5))","v":0},{"$f":"INDEX(INDIRECT(\"'\"&$C44&\"'\"&\"!\"&\"B3:H26\"),MATCH(U$1,INDIRECT(\"'\"&$C44&\"'\"&\"!\"&\"B3:B26\"),0),IF($D44=3,$D44+2,$D44+5))","v":0},{"$f":"INDEX(INDIRECT(\"'\"&$C44&\"'\"&\"!\"&\"B3:H26\"),MATCH(V$1,INDIRECT(\"'\"&$C44&\"'\"&\"!\"&\"B3:B26\"),0),IF($D44=3,$D44+2,$D44+5))","v":0},{"$f":"INDEX(INDIRECT(\"'\"&$C44&\"'\"&\"!\"&\"B3:H26\"),MATCH(W$1,INDIRECT(\"'\"&$C44&\"'\"&\"!\"&\"B3:B26\"),0),IF($D44=3,$D44+2,$D44+5))","v":0},40]
[null,43,15,3,30,10,10,50,{"$f":"INDEX(INDIRECT(\"'\"&$C45&\"'\"&\"!\"&\"B3:H26\"),MATCH(I$1,INDIRECT(\"'\"&$C45&\"'\"&\"!\"&\"B3:B26\"),0),IF($D45=3,$D45+2,$D45+5))","v":20},{"$f":"INDEX(INDIRECT(\"'\"&$C45&\"'\"&\"!\"&\"B3:H26\"),MATCH(J$1,INDIRECT(\"'\"&$C45&\"'\"&\"!\"&\"B3:B26\"),0),IF($D45=3,$D45+2,$D45+5))","v":0},{"$f":"INDEX(INDIRECT(\"'\"&$C45&\"'\"&\"!\"&\"B3:H26\"),MATCH(K$1,INDIRECT(\"'\"&$C45&\"'\"&\"!\"&\"B3:B26\"),0),IF($D45=3,$D45+2,$D45+5))","v":0},{"$f":"INDEX(INDIRECT(\"'\"&$C45&\"'\"&\"!\"&\"B3:H26\"),MATCH(L$1,INDIRECT(\"'\"&$C45&\"'\"&\"!\"&\"B3:B26\"),0),IF($D45=3,$D45+2,$D45+5))","v":0},{"$f":"INDEX(INDIRECT(\"'\"&$C45&\"'\"&\"!\"&\"B3:H26\"),MATCH(M$1,INDIRECT(\"'\"&$C45&\"'\"&\"!\"&\"B3:B26\"),0),IF($D45=3,$D45+2,$D45+5))","v":0},{"$f":"INDEX(INDIRECT(\"'\"&$C45&\"'\"&\"!\"&\"B3:H26\"),MATCH(N$1,INDIRECT(\"'\"&$C45&\"'\"&\"!\"&\"B3:B26\"),0),IF($D45=3,$D45+2,$D45+5))","v":50},{"$f":"INDEX(INDIRECT(\"'\"&$C45&\"'\"&\"!\"&\"B3:H26\"),MATCH(O$1,INDIRECT(\"'\"&$C45&\"'\"&\"!\"&\"B3:B26\"),0),IF($D45=3,$D45+2,$D45+5))","v":0},{"$f":"INDEX(INDIRECT(\"'\"&$C45&\"'\"&\"!\"&\"B3:H26\"),MATCH(P$1,INDIRECT(\"'\"&$C45&\"'\"&\"!\"&\"B3:B26\"),0),IF($D45=3,$D45+2,$D45+5))","v":0},{"$f":"INDEX(INDIRECT(\"'\"&$C45&\"'\"&\"!\"&\"B3:H26\"),MATCH(Q$1,INDIRECT(\"'\"&$C45&\"'\"&\"!\"&\"B3:B26\"),0),IF($D45=3,$D45+2,$D45+5))","v":0},{"$f":"INDEX(INDIRECT(\"'\"&$C45&\"'\"&\"!\"&\"B3:H26\"),MATCH(R$1,INDIRECT(\"'\"&$C45&\"'\"&\"!\"&\"B3:B26\"),0),IF($D45=3,$D45+2,$D45+5))","v":0},{"$f":"INDEX(INDIRECT(\"'\"&$C45&\"'\"&\"!\"&\"B3:H26\"),MATCH(S$1,INDIRECT(\"'\"&$C45&\"'\"&\"!\"&\"B3:B26\"),0),IF($D45=3,$D45+2,$D45+5))","v":50},{"$f":"INDEX(INDIRECT(\"'\"&$C45&\"'\"&\"!\"&\"B3:H26\"),MATCH(T$1,INDIRECT(\"'\"&$C45&\"'\"&\"!\"&\"B3:B26\"),0),IF($D45=3,$D45+2,$D45+5))","v":0},{"$f":"INDEX(INDIRECT(\"'\"&$C45&\"'\"&\"!\"&\"B3:H26\"),MATCH(U$1,INDIRECT(\"'\"&$C45&\"'\"&\"!\"&\"B3:B26\"),0),IF($D45=3,$D45+2,$D45+5))","v":0},{"$f":"INDEX(INDIRECT(\"'\"&$C45&\"'\"&\"!\"&\"B3:H26\"),MATCH(V$1,INDIRECT(\"'\"&$C45&\"'\"&\"!\"&\"B3:B26\"),0),IF($D45=3,$D45+2,$D45+5))","v":0},{"$f":"INDEX(INDIRECT(\"'\"&$C45&\"'\"&\"!\"&\"B3:H26\"),MATCH(W$1,INDIRECT(\"'\"&$C45&\"'\"&\"!\"&\"B3:B26\"),0),IF($D45=3,$D45+2,$D45+5))","v":0},120]
[null,44,{"$f":"C45","v":15},1,30,10,10,50,{"$f":"INDEX(INDIRECT(\"'\"&$C46&\"'\"&\"!\"&\"B3:H26\"),MATCH(I$1,INDIRECT(\"'\"&$C46&\"'\"&\"!\"&\"B3:B26\"),0),IF($D46=3,$D46+2,$D46+5))","v":30},{"$f":"INDEX(INDIRECT(\"'\"&$C46&\"'\"&\"!\"&\"B3:H26\"),MATCH(J$1,INDIRECT(\"'\"&$C46&\"'\"&\"!\"&\"B3:B26\"),0),IF($D46=3,$D46+2,$D46+5))","v":0},{"$f":"INDEX(INDIRECT(\"'\"&$C46&\"'\"&\"!\"&\"B3:H26\"),MATCH(K$1,INDIRECT(\"'\"&$C46&\"'\"&\"!\"&\"B3:B26\"),0),IF($D46=3,$D46+2,$D46+5))","v":0},{"$f":"INDEX(INDIRECT(\"'\"&$C46&\"'\"&\"!\"&\"B3:H26\"),MATCH(L$1,INDIRECT(\"'\"&$C46&\"'\"&\"!\"&\"B3:B26\"),0),IF($D46=3,$D46+2,$D46+5))","v":0},{"$f":"INDEX(INDIRECT(\"'\"&$C46&\"'\"&\"!\"&\"B3:H26\"),MATCH(M$1,INDIRECT(\"'\"&$C46&\"'\"&\"!\"&\"B3:B26\"),0),IF($D46=3,$D46+2,$D46+5))","v":0},{"$f":"INDEX(INDIRECT(\"'\"&$C46&\"'\"&\"!\"&\"B3:H26\"),MATCH(N$1,INDIRECT(\"'\"&$C46&\"'\"&\"!\"&\"B3:B26\"),0),IF($D46=3,$D46+2,$D46+5))","v":0},{"$f":"INDEX(INDIRECT(\"'\"&$C46&\"'\"&\"!\"&\"B3:H26\"),MATCH(O$1,INDIRECT(\"'\"&$C46&\"'\"&\"!\"&\"B3:B26\"),0),IF($D46=3,$D46+2,$D46+5))","v":0},{"$f":"INDEX(INDIRECT(\"'\"&$C46&\"'\"&\"!\"&\"B3:H26\"),MATCH(P$1,INDIRECT(\"'\"&$C46&\"'\"&\"!\"&\"B3:B26\"),0),IF($D46=3,$D46+2,$D46+5))","v":0},{"$f":"INDEX(INDIRECT(\"'\"&$C46&\"'\"&\"!\"&\"B3:H26\"),MATCH(Q$1,INDIRECT(\"'\"&$C46&\"'\"&\"!\"&\"B3:B26\"),0),IF($D46=3,$D46+2,$D46+5))","v":0},{"$f":"INDEX(INDIRECT(\"'\"&$C46&\"'\"&\"!\"&\"B3:H26\"),MATCH(R$1,INDIRECT(\"'\"&$C46&\"'\"&\"!\"&\"B3:B26\"),0),IF($D46=3,$D46+2,$D46+5))","v":0},{"$f":"INDEX(INDIRECT(\"'\"&$C46&\"'\"&\"!\"&\"B3:H26\"),MATCH(S$1,INDIRECT(\"'\"&$C46&\"'\"&\"!\"&\"B3:B26\"),0),IF($D46=3,$D46+2,$D46+5))","v":0},{"$f":"INDEX(INDIRECT(\"'\"&$C46&\"'\"&\"!\"&\"B3:H26\"),MATCH(T$1,INDIRECT(\"'\"&$C46&\"'\"&\"!\"&\"B3:B26\"),0),IF($D46=3,$D46+2,$D46+5))","v":0},{"$f":"INDEX(INDIRECT(\"'\"&$C46&\"'\"&\"!\"&\"B3:H26\"),MATCH(U$1,INDIRECT(\"'\"&$C46&\"'\"&\"!\"&\"B3:B26\"),0),IF($D46=3,$D46+2,$D46+5))","v":0},{"$f":"INDEX(INDIRECT(\"'\"&$C46&\"'\"&\"!\"&\"B3:H26\"),MATCH(V$1,INDIRECT(\"'\"&$C46&\"'\"&\"!\"&\"B3:B26\"),0),IF($D46=3,$D46+2,$D46+5))","v":0},{"$f":"INDEX(INDIRECT(\"'\"&$C46&\"'\"&\"!\"&\"B3:H26\"),MATCH(W$1,INDIRECT(\"'\"&$C46&\"'\"&\"!\"&\"B3:B26\"),0),IF($D46=3,$D46+2,$D46+5))","v":0},30]
[null,45,15,2,30,10,10,50,{"$f":"INDEX(INDIRECT(\"'\"&$C47&\"'\"&\"!\"&\"B3:H26\"),MATCH(I$1,INDIRECT(\"'\"&$C47&\"'\"&\"!\"&\"B3:B26\"),0),IF($D47=3,$D47+2,$D47+5))","v":40},{"$f":"INDEX(INDIRECT(\"'\"&$C47&\"'\"&\"!\"&\"B3:H26\"),MATCH(J$1,INDIRECT(\"'\"&$C47&\"'\"&\"!\"&\"B3:B26\"),0),IF($D47=3,$D47+2,$D47+5))","v":0},{"$f":"INDEX(INDIRECT(\"'\"&$C47&\"'\"&\"!\"&\"B3:H26\"),MATCH(K$1,INDIRECT(\"'\"&$C47&\"'\"&\"!\"&\"B3:B26\"),0),IF($D47=3,$D47+2,$D47+5))","v":0},{"$f":"INDEX(INDIRECT(\"'\"&$C47&\"'\"&\"!\"&\"B3:H26\"),MATCH(L$1,INDIRECT(\"'\"&$C47&\"'\"&\"!\"&\"B3:B26\"),0),IF($D47=3,$D47+2,$D47+5))","v":0},{"$f":"INDEX(INDIRECT(\"'\"&$C47&\"'\"&\"!\"&\"B3:H26\"),MATCH(M$1,INDIRECT(\"'\"&$C47&\"'\"&\"!\"&\"B3:B26\"),0),IF($D47=3,$D47+2,$D47+5))","v":0},{"$f":"INDEX(INDIRECT(\"'\"&$C47&\"'\"&\"!\"&\"B3:H26\"),MATCH(N$1,INDIRECT(\"'\"&$C47&\"'\"&\"!\"&\"B3:B26\"),0),IF($D47=3,$D47+2,$D47+5))","v":0},{"$f":"INDEX(INDIRECT(\"'\"&$C47&\"'\"&\"!\"&\"B3:H26\"),MATCH(O$1,INDIRECT(\"'\"&$C47&\"'\"&\"!\"&\"B3:B26\"),0),IF($D47=3,$D47+2,$D47+5))","v":0},{"$f":"INDEX(INDIRECT(\"'\"&$C47&\"'\"&\"!\"&\"B3:H26\"),MATCH(P$1,INDIRECT(\"'\"&$C47&\"'\"&\"!\"&\"B3:B26\"),0),IF($D47=3,$D47+2,$D47+5))","v":0},{"$f":"INDEX(INDIRECT(\"'\"&$C47&\"'\"&\"!\"&\"B3:H26\"),MATCH(Q$1,INDIRECT(\"'\"&$C47&\"'\"&\"!\"&\"B3:B26\"),0),IF($D47=3,$D47+2,$D47+5))","v":0},{"$f":"INDEX(INDIRECT(\"'\"&$C47&\"'\"&\"!\"&\"B3:H26\"),MATCH(R$1,INDIRECT(\"'\"&$C47&\"'\"&\"!\"&\"B3:B26\"),0),IF($D47=3,$D47+2,$D47+5))","v":0},{"$f":"INDEX(INDIRECT(\"'\"&$C47&\"'\"&\"!\"&\"B3:H26\"),MATCH(S$1,INDIRECT(\"'\"&$C47&\"'\"&\"!\"&\"B3:B26\"),0),IF($D47=3,$D47+2,$D47+5))","v":0},{"$f":"INDEX(INDIRECT(\"'\"&$C47&\"'\"&\"!\"&\"B3:H26\"),MATCH(T$1,INDIRECT(\"'\"&$C47&\"'\"&\"!\"&\"B3:B26\"),0),IF($D47=3,$D47+2,$D47+5))","v":0},{"$f":"INDEX(INDIRECT(\"'\"&$C47&\"'\"&\"!\"&\"B3:H26\"),MATCH(U$1,INDIRECT(\"'\"&$C47&\"'\"&\"!\"&\"B3:B26\"),0),IF($D47=3,$D47+2,$D47+5))","v":0},{"$f":"INDEX(INDIRECT(\"'\"&$C47&\"'\"&\"!\"&\"B3:H26\"),MATCH(V$1,INDIRECT(\"'\"&$C47&\"'\"&\"!\"&\"B3:B26\"),0),IF($D47=3,$D47+2,$D47+5))","v":0},{"$f":"INDEX(INDIRECT(\"'\"&$C47&\"'\"&\"!\"&\"B3:H26\"),MATCH(W$1,INDIRECT(\"'\"&$C47&\"'\"&\"!\"&\"B3:B26\"),0),IF($D47=3,$D47+2,$D47+5))","v":0},40]
[null,46,16,3,30,10,10,50,{"$f":"INDEX(INDIRECT(\"'\"&$C48&\"'\"&\"!\"&\"B3:H26\"),MATCH(I$1,INDIRECT(\"'\"&$C48&\"'\"&\"!\"&\"B3:B26\"),0),IF($D48=3,$D48+2,$D48+5))","v":20},{"$f":"INDEX(INDIRECT(\"'\"&$C48&\"'\"&\"!\"&\"B3:H26\"),MATCH(J$1,INDIRECT(\"'\"&$C48&\"'\"&\"!\"&\"B3:B26\"),0),IF($D48=3,$D48+2,$D48+5))","v":0},{"$f":"INDEX(INDIRECT(\"'\"&$C48&\"'\"&\"!\"&\"B3:H26\"),MATCH(K$1,INDIRECT(\"'\"&$C48&\"'\"&\"!\"&\"B3:B26\"),0),IF($D48=3,$D48+2,$D48+5))","v":0},{"$f":"INDEX(INDIRECT(\"'\"&$C48&\"'\"&\"!\"&\"B3:H26\"),MATCH(L$1,INDIRECT(\"'\"&$C48&\"'\"&\"!\"&\"B3:B26\"),0),IF($D48=3,$D48+2,$D48+5))","v":0},{"$f":"INDEX(INDIRECT(\"'\"&$C48&\"'\"&\"!\"&\"B3:H26\"),MATCH(M$1,INDIRECT(\"'\"&$C48&\"'\"&\"!\"&\"B3:B26\"),0),IF($D48=3,$D48+2,$D48+5))","v":0},{"$f":"INDEX(INDIRECT(\"'\"&$C48&\"'\"&\"!\"&\"B3:H26\"),MATCH(N$1,INDIRECT(\"'\"&$C48&\"'\"&\"!\"&\"B3:B26\"),0),IF($D48=3,$D48+2,$D48+5))","v":50},{"$f":"INDEX(INDIRECT(\"'\"&$C48&\"'\"&\"!\"&\"B3:H26\"),MATCH(O$1,INDIRECT(\"'\"&$C48&\"'\"&\"!\"&\"B3:B26\"),0),IF($D48=3,$D48+2,$D48+5))","v":0},{"$f":"INDEX(INDIRECT(\"'\"&$C48&\"'\"&\"!\"&\"B3:H26\"),MATCH(P$1,INDIRECT(\"'\"&$C48&\"'\"&\"!\"&\"B3:B26\"),0),IF($D48=3,$D48+2,$D48+5))","v":0},{"$f":"INDEX(INDIRECT(\"'\"&$C48&\"'\"&\"!\"&\"B3:H26\"),MATCH(Q$1,INDIRECT(\"'\"&$C48&\"'\"&\"!\"&\"B3:B26\"),0),IF($D48=3,$D48+2,$D48+5))","v":0},{"$f":"INDEX(INDIRECT(\"'\"&$C48&\"'\"&\"!\"&\"B3:H26\"),MATCH(R$1,INDIRECT(\"'\"&$C48&\"'\"&\"!\"&\"B3:B26\"),0),IF($D48=3,$D48+2,$D48+5))","v":0},{"$f":"INDEX(INDIRECT(\"'\"&$C48&\"'\"&\"!\"&\"B3:H26\"),MATCH(S$1,INDIRECT(\"'\"&$C48&\"'\"&\"!\"&\"B3:B26\"),0),IF($D48=3,$D48+2,$D48+5))","v":50},{"$f":"INDEX(INDIRECT(\"'\"&$C48&\"'\"&\"!\"&\"B3:H26\"),MATCH(T$1,INDIRECT(\"'\"&$C48&\"'\"&\"!\"&\"B3:B26\"),0),IF($D48=3,$D48+2,$D48+5))","v":0},{"$f":"INDEX(INDIRECT(\"'\"&$C48&\"'\"&\"!\"&\"B3:H26\"),MATCH(U$1,INDIRECT(\"'\"&$C48&\"'\"&\"!\"&\"B3:B26\"),0),IF($D48=3,$D48+2,$D48+5))","v":0},{"$f":"INDEX(INDIRECT(\"'\"&$C48&\"'\"&\"!\"&\"B3:H26\"),MATCH(V$1,INDIRECT(\"'\"&$C48&\"'\"&\"!\"&\"B3:B26\"),0),IF($D48=3,$D48+2,$D48+5))","v":0},{"$f":"INDEX(INDIRECT(\"'\"&$C48&\"'\"&\"!\"&\"B3:H26\"),MATCH(W$1,INDIRECT(\"'\"&$C48&\"'\"&\"!\"&\"B3:B26\"),0),IF($D48=3,$D48+2,$D48+5))","v":0},120]
[null,47,{"$f":"C48","v":16},1,30,10,10,50,{"$f":"INDEX(INDIRECT(\"'\"&$C49&\"'\"&\"!\"&\"B3:H26\"),MATCH(I$1,INDIRECT(\"'\"&$C49&\"'\"&\"!\"&\"B3:B26\"),0),IF($D49=3,$D49+2,$D49+5))","v":30},{"$f":"INDEX(INDIRECT(\"'\"&$C49&\"'\"&\"!\"&\"B3:H26\"),MATCH(J$1,INDIRECT(\"'\"&$C49&\"'\"&\"!\"&\"B3:B26\"),0),IF($D49=3,$D49+2,$D49+5))","v":0},{"$f":"INDEX(INDIRECT(\"'\"&$C49&\"'\"&\"!\"&\"B3:H26\"),MATCH(K$1,INDIRECT(\"'\"&$C49&\"'\"&\"!\"&\"B3:B26\"),0),IF($D49=3,$D49+2,$D49+5))","v":0},{"$f":"INDEX(INDIRECT(\"'\"&$C49&\"'\"&\"!\"&\"B3:H26\"),MATCH(L$1,INDIRECT(\"'\"&$C49&\"'\"&\"!\"&\"B3:B26\"),0),IF($D49=3,$D49+2,$D49+5))","v":0},{"$f":"INDEX(INDIRECT(\"'\"&$C49&\"'\"&\"!\"&\"B3:H26\"),MATCH(M$1,INDIRECT(\"'\"&$C49&\"'\"&\"!\"&\"B3:B26\"),0),IF($D49=3,$D49+2,$D49+5))","v":0},{"$f":"INDEX(INDIRECT(\"'\"&$C49&\"'\"&\"!\"&\"B3:H26\"),MATCH(N$1,INDIRECT(\"'\"&$C49&\"'\"&\"!\"&\"B3:B26\"),0),IF($D49=3,$D49+2,$D49+5))","v":0},{"$f":"INDEX(INDIRECT(\"'\"&$C49&\"'\"&\"!\"&\"B3:H26\"),MATCH(O$1,INDIRECT(\"'\"&$C49&\"'\"&\"!\"&\"B3:B26\"),0),IF($D49=3,$D49+2,$D49+5))","v":0},{"$f":"INDEX(INDIRECT(\"'\"&$C49&\"'\"&\"!\"&\"B3:H26\"),MATCH(P$1,INDIRECT(\"'\"&$C49&\"'\"&\"!\"&\"B3:B26\"),0),IF($D49=3,$D49+2,$D49+5))","v":0},{"$f":"INDEX(INDIRECT(\"'\"&$C49&\"'\"&\"!\"&\"B3:H26\"),MATCH(Q$1,INDIRECT(\"'\"&$C49&\"'\"&\"!\"&\"B3:B26\"),0),IF($D49=3,$D49+2,$D49+5))","v":0},{"$f":"INDEX(INDIRECT(\"'\"&$C49&\"'\"&\"!\"&\"B3:H26\"),MATCH(R$1,INDIRECT(\"'\"&$C49&\"'\"&\"!\"&\"B3:B26\"),0),IF($D49=3,$D49+2,$D49+5))","v":0},{"$f":"INDEX(INDIRECT(\"'\"&$C49&\"'\"&\"!\"&\"B3:H26\"),MATCH(S$1,INDIRECT(\"'\"&$C49&\"'\"&\"!\"&\"B3:B26\"),0),IF($D49=3,$D49+2,$D49+5))","v":0},{"$f":"INDEX(INDIRECT(\"'\"&$C49&\"'\"&\"!\"&\"B3:H26\"),MATCH(T$1,INDIRECT(\"'\"&$C49&\"'\"&\"!\"&\"B3:B26\"),0),IF($D49=3,$D49+2,$D49+5))","v":0},{"$f":"INDEX(INDIRECT(\"'\"&$C49&\"'\"&\"!\"&\"B3:H26\"),MATCH(U$1,INDIRECT(\"'\"&$C49&\"'\"&\"!\"&\"B3:B26\"),0),IF($D49=3,$D49+2,$D49+5))","v":0},{"$f":"INDEX(INDIRECT(\"'\"&$C49&\"'\"&\"!\"&\"B3:H26\"),MATCH(V$1,INDIRECT(\"'\"&$C49&\"'\"&\"!\"&\"B3:B26\"),0),IF($D49=3,$D49+2,$D49+5))","v":0},{"$f":"INDEX(INDIRECT(\"'\"&$C49&\"'\"&\"!\"&\"B3:H26\"),MATCH(W$1,INDIRECT(\"'\"&$C49&\"'\"&\"!\"&\"B3:B26\"),0),IF($D49=3,$D49+2,$D49+5))","v":0},30]
[null,48,16,2,30,10,10,50,{"$f":"INDEX(INDIRECT(\"'\"&$C50&\"'\"&\"!\"&\"B3:H26\"),MATCH(I$1,INDIRECT(\"'\"&$C50&\"'\"&\"!\"&\"B3:B26\"),0),IF($D50=3,$D50+2,$D50+5))","v":40},{"$f":"INDEX(INDIRECT(\"'\"&$C50&\"'\"&\"!\"&\"B3:H26\"),MATCH(J$1,INDIRECT(\"'\"&$C50&\"'\"&\"!\"&\"B3:B26\"),0),IF($D50=3,$D50+2,$D50+5))","v":0},{"$f":"INDEX(INDIRECT(\"'\"&$C50&\"'\"&\"!\"&\"B3:H26\"),MATCH(K$1,INDIRECT(\"'\"&$C50&\"'\"&\"!\"&\"B3:B26\"),0),IF($D50=3,$D50+2,$D50+5))","v":0},{"$f":"INDEX(INDIRECT(\"'\"&$C50&\"'\"&\"!\"&\"B3:H26\"),MATCH(L$1,INDIRECT(\"'\"&$C50&\"'\"&\"!\"&\"B3:B26\"),0),IF($D50=3,$D50+2,$D50+5))","v":0},{"$f":"INDEX(INDIRECT(\"'\"&$C50&\"'\"&\"!\"&\"B3:H26\"),MATCH(M$1,INDIRECT(\"'\"&$C50&\"'\"&\"!\"&\"B3:B26\"),0),IF($D50=3,$D50+2,$D50+5))","v":0},{"$f":"INDEX(INDIRECT(\"'\"&$C50&\"'\"&\"!\"&\"B3:H26\"),MATCH(N$1,INDIRECT(\"'\"&$C50&\"'\"&\"!\"&\"B3:B26\"),0),IF($D50=3,$D50+2,$D50+5))","v":0},{"$f":"INDEX(INDIRECT(\"'\"&$C50&\"'\"&\"!\"&\"B3:H26\"),MATCH(O$1,INDIRECT(\"'\"&$C50&\"'\"&\"!\"&\"B3:B26\"),0),IF($D50=3,$D50+2,$D50+5))","v":0},{"$f":"INDEX(INDIRECT(\"'\"&$C50&\"'\"&\"!\"&\"B3:H26\"),MATCH(P$1,INDIRECT(\"'\"&$C50&\"'\"&\"!\"&\"B3:B26\"),0),IF($D50=3,$D50+2,$D50+5))","v":0},{"$f":"INDEX(INDIRECT(\"'\"&$C50&\"'\"&\"!\"&\"B3:H26\"),MATCH(Q$1,INDIRECT(\"'\"&$C50&\"'\"&\"!\"&\"B3:B26\"),0),IF($D50=3,$D50+2,$D50+5))","v":0},{"$f":"INDEX(INDIRECT(\"'\"&$C50&\"'\"&\"!\"&\"B3:H26\"),MATCH(R$1,INDIRECT(\"'\"&$C50&\"'\"&\"!\"&\"B3:B26\"),0),IF($D50=3,$D50+2,$D50+5))","v":0},{"$f":"INDEX(INDIRECT(\"'\"&$C50&\"'\"&\"!\"&\"B3:H26\"),MATCH(S$1,INDIRECT(\"'\"&$C50&\"'\"&\"!\"&\"B3:B26\"),0),IF($D50=3,$D50+2,$D50+5))","v":0},{"$f":"INDEX(INDIRECT(\"'\"&$C50&\"'\"&\"!\"&\"B3:H26\"),MATCH(T$1,INDIRECT(\"'\"&$C50&\"'\"&\"!\"&\"B3:B26\"),0),IF($D50=3,$D50+2,$D50+5))","v":0},{"$f":"INDEX(INDIRECT(\"'\"&$C50&\"'\"&\"!\"&\"B3:H26\"),MATCH(U$1,INDIRECT(\"'\"&$C50&\"'\"&\"!\"&\"B3:B26\"),0),IF($D50=3,$D50+2,$D50+5))","v":0},{"$f":"INDEX(INDIRECT(\"'\"&$C50&\"'\"&\"!\"&\"B3:H26\"),MATCH(V$1,INDIRECT(\"'\"&$C50&\"'\"&\"!\"&\"B3:B26\"),0),IF($D50=3,$D50+2,$D50+5))","v":0},{"$f":"INDEX(INDIRECT(\"'\"&$C50&\"'\"&\"!\"&\"B3:H26\"),MATCH(W$1,INDIRECT(\"'\"&$C50&\"'\"&\"!\"&\"B3:B26\"),0),IF($D50=3,$D50+2,$D50+5))","v":0},40]
[null,49,17,3,30,10,10,50,{"$f":"INDEX(INDIRECT(\"'\"&$C51&\"'\"&\"!\"&\"B3:H26\"),MATCH(I$1,INDIRECT(\"'\"&$C51&\"'\"&\"!\"&\"B3:B26\"),0),IF($D51=3,$D51+2,$D51+5))","v":20},{"$f":"INDEX(INDIRECT(\"'\"&$C51&\"'\"&\"!\"&\"B3:H26\"),MATCH(J$1,INDIRECT(\"'\"&$C51&\"'\"&\"!\"&\"B3:B26\"),0),IF($D51=3,$D51+2,$D51+5))","v":0},{"$f":"INDEX(INDIRECT(\"'\"&$C51&\"'\"&\"!\"&\"B3:H26\"),MATCH(K$1,INDIRECT(\"'\"&$C51&\"'\"&\"!\"&\"B3:B26\"),0),IF($D51=3,$D51+2,$D51+5))","v":0},{"$f":"INDEX(INDIRECT(\"'\"&$C51&\"'\"&\"!\"&\"B3:H26\"),MATCH(L$1,INDIRECT(\"'\"&$C51&\"'\"&\"!\"&\"B3:B26\"),0),IF($D51=3,$D51+2,$D51+5))","v":0},{"$f":"INDEX(INDIRECT(\"'\"&$C51&\"'\"&\"!\"&\"B3:H26\"),MATCH(M$1,INDIRECT(\"'\"&$C51&\"'\"&\"!\"&\"B3:B26\"),0),IF($D51=3,$D51+2,$D51+5))","v":0},{"$f":"INDEX(INDIRECT(\"'\"&$C51&\"'\"&\"!\"&\"B3:H26\"),MATCH(N$1,INDIRECT(\"'\"&$C51&\"'\"&\"!\"&\"B3:B26\"),0),IF($D51=3,$D51+2,$D51+5))","v":50},{"$f":"INDEX(INDIRECT(\"'\"&$C51&\"'\"&\"!\"&\"B3:H26\"),MATCH(O$1,INDIRECT(\"'\"&$C51&\"'\"&\"!\"&\"B3:B26\"),0),IF($D51=3,$D51+2,$D51+5))","v":0},{"$f":"INDEX(INDIRECT(\"'\"&$C51&\"'\"&\"!\"&\"B3:H26\"),MATCH(P$1,INDIRECT(\"'\"&$C51&\"'\"&\"!\"&\"B3:B26\"),0),IF($D51=3,$D51+2,$D51+5))","v":0},{"$f":"INDEX(INDIRECT(\"'\"&$C51&\"'\"&\"!\"&\"B3:H26\"),MATCH(Q$1,INDIRECT(\"'\"&$C51&\"'\"&\"!\"&\"B3:B26\"),0),IF($D51=3,$D51+2,$D51+5))","v":0},{"$f":"INDEX(INDIRECT(\"'\"&$C51&\"'\"&\"!\"&\"B3:H26\"),MATCH(R$1,INDIRECT(\"'\"&$C51&\"'\"&\"!\"&\"B3:B26\"),0),IF($D51=3,$D51+2,$D51+5))","v":0},{"$f":"INDEX(INDIRECT(\"'\"&$C51&\"'\"&\"!\"&\"B3:H26\"),MATCH(S$1,INDIRECT(\"'\"&$C51&\"'\"&\"!\"&\"B3:B26\"),0),IF($D51=3,$D51+2,$D51+5))","v":50},{"$f":"INDEX(INDIRECT(\"'\"&$C51&\"'\"&\"!\"&\"B3:H26\"),MATCH(T$1,INDIRECT(\"'\"&$C51&\"'\"&\"!\"&\"B3:B26\"),0),IF($D51=3,$D51+2,$D51+5))","v":0},{"$f":"INDEX(INDIRECT(\"'\"&$C51&\"'\"&\"!\"&\"B3:H26\"),MATCH(U$1,INDIRECT(\"'\"&$C51&\"'\"&\"!\"&\"B3:B26\"),0),IF($D51=3,$D51+2,$D51+5))","v":0},{"$f":"INDEX(INDIRECT(\"'\"&$C51&\"'\"&\"!\"&\"B3:H26\"),MATCH(V$1,INDIRECT(\"'\"&$C51&\"'\"&\"!\"&\"B3:B26\"),0),IF($D51=3,$D51+2,$D51+5))","v":0},{"$f":"INDEX(INDIRECT(\"'\"&$C51&\"'\"&\"!\"&\"B3:H26\"),MATCH(W$1,INDIRECT(\"'\"&$C51&\"'\"&\"!\"&\"B3:B26\"),0),IF($D51=3,$D51+2,$D51+5))","v":0},120]
[null,50,{"$f":"C51","v":17},1,30,10,10,50,{"$f":"INDEX(INDIRECT(\"'\"&$C52&\"'\"&\"!\"&\"B3:H26\"),MATCH(I$1,INDIRECT(\"'\"&$C52&\"'\"&\"!\"&\"B3:B26\"),0),IF($D52=3,$D52+2,$D52+5))","v":30},{"$f":"INDEX(INDIRECT(\"'\"&$C52&\"'\"&\"!\"&\"B3:H26\"),MATCH(J$1,INDIRECT(\"'\"&$C52&\"'\"&\"!\"&\"B3:B26\"),0),IF($D52=3,$D52+2,$D52+5))","v":0},{"$f":"INDEX(INDIRECT(\"'\"&$C52&\"'\"&\"!\"&\"B3:H26\"),MATCH(K$1,INDIRECT(\"'\"&$C52&\"'\"&\"!\"&\"B3:B26\"),0),IF($D52=3,$D52+2,$D52+5))","v":0},{"$f":"INDEX(INDIRECT(\"'\"&$C52&\"'\"&\"!\"&\"B3:H26\"),MATCH(L$1,INDIRECT(\"'\"&$C52&\"'\"&\"!\"&\"B3:B26\"),0),IF($D52=3,$D52+2,$D52+5))","v":0},{"$f":"INDEX(INDIRECT(\"'\"&$C52&\"'\"&\"!\"&\"B3:H26\"),MATCH(M$1,INDIRECT(\"'\"&$C52&\"'\"&\"!\"&\"B3:B26\"),0),IF($D52=3,$D52+2,$D52+5))","v":0},{"$f":"INDEX(INDIRECT(\"'\"&$C52&\"'\"&\"!\"&\"B3:H26\"),MATCH(N$1,INDIRECT(\"'\"&$C52&\"'\"&\"!\"&\"B3:B26\"),0),IF($D52=3,$D52+2,$D52+5))","v":0},{"$f":"INDEX(INDIRECT(\"'\"&$C52&\"'\"&\"!\"&\"B3:H26\"),MATCH(O$1,INDIRECT(\"'\"&$C52&\"'\"&\"!\"&\"B3:B26\"),0),IF($D52=3,$D52+2,$D52+5))","v":0},{"$f":"INDEX(INDIRECT(\"'\"&$C52&\"'\"&\"!\"&\"B3:H26\"),MATCH(P$1,INDIRECT(\"'\"&$C52&\"'\"&\"!\"&\"B3:B26\"),0),IF($D52=3,$D52+2,$D52+5))","v":0},{"$f":"INDEX(INDIRECT(\"'\"&$C52&\"'\"&\"!\"&\"B3:H26\"),MATCH(Q$1,INDIRECT(\"'\"&$C52&\"'\"&\"!\"&\"B3:B26\"),0),IF($D52=3,$D52+2,$D52+5))","v":0},{"$f":"INDEX(INDIRECT(\"'\"&$C52&\"'\"&\"!\"&\"B3:H26\"),MATCH(R$1,INDIRECT(\"'\"&$C52&\"'\"&\"!\"&\"B3:B26\"),0),IF($D52=3,$D52+2,$D52+5))","v":0},{"$f":"INDEX(INDIRECT(\"'\"&$C52&\"'\"&\"!\"&\"B3:H26\"),MATCH(S$1,INDIRECT(\"'\"&$C52&\"'\"&\"!\"&\"B3:B26\"),0),IF($D52=3,$D52+2,$D52+5))","v":0},{"$f":"INDEX(INDIRECT(\"'\"&$C52&\"'\"&\"!\"&\"B3:H26\"),MATCH(T$1,INDIRECT(\"'\"&$C52&\"'\"&\"!\"&\"B3:B26\"),0),IF($D52=3,$D52+2,$D52+5))","v":0},{"$f":"INDEX(INDIRECT(\"'\"&$C52&\"'\"&\"!\"&\"B3:H26\"),MATCH(U$1,INDIRECT(\"'\"&$C52&\"'\"&\"!\"&\"B3:B26\"),0),IF($D52=3,$D52+2,$D52+5))","v":0},{"$f":"INDEX(INDIRECT(\"'\"&$C52&\"'\"&\"!\"&\"B3:H26\"),MATCH(V$1,INDIRECT(\"'\"&$C52&\"'\"&\"!\"&\"B3:B26\"),0),IF($D52=3,$D52+2,$D52+5))","v":0},{"$f":"INDEX(INDIRECT(\"'\"&$C52&\"'\"&\"!\"&\"B3:H26\"),MATCH(W$1,INDIRECT(\"'\"&$C52&\"'\"&\"!\"&\"B3:B26\"),0),IF($D52=3,$D52+2,$D52+5))","v":0},30]
[null,51,17,2,30,10,10,50,{"$f":"INDEX(INDIRECT(\"'\"&$C53&\"'\"&\"!\"&\"B3:H26\"),MATCH(I$1,INDIRECT(\"'\"&$C53&\"'\"&\"!\"&\"B3:B26\"),0),IF($D53=3,$D53+2,$D53+5))","v":40},{"$f":"INDEX(INDIRECT(\"'\"&$C53&\"'\"&\"!\"&\"B3:H26\"),MATCH(J$1,INDIRECT(\"'\"&$C53&\"'\"&\"!\"&\"B3:B26\"),0),IF($D53=3,$D53+2,$D53+5))","v":0},{"$f":"INDEX(INDIRECT(\"'\"&$C53&\"'\"&\"!\"&\"B3:H26\"),MATCH(K$1,INDIRECT(\"'\"&$C53&\"'\"&\"!\"&\"B3:B26\"),0),IF($D53=3,$D53+2,$D53+5))","v":0},{"$f":"INDEX(INDIRECT(\"'\"&$C53&\"'\"&\"!\"&\"B3:H26\"),MATCH(L$1,INDIRECT(\"'\"&$C53&\"'\"&\"!\"&\"B3:B26\"),0),IF($D53=3,$D53+2,$D53+5))","v":0},{"$f":"INDEX(INDIRECT(\"'\"&$C53&\"'\"&\"!\"&\"B3:H26\"),MATCH(M$1,INDIRECT(\"'\"&$C53&\"'\"&\"!\"&\"B3:B26\"),0),IF($D53=3,$D53+2,$D53+5))","v":0},{"$f":"INDEX(INDIRECT(\"'\"&$C53&\"'\"&\"!\"&\"B3:H26\"),MATCH(N$1,INDIRECT(\"'\"&$C53&\"'\"&\"!\"&\"B3:B26\"),0),IF($D53=3,$D53+2,$D53+5))","v":0},{"$f":"INDEX(INDIRECT(\"'\"&$C53&\"'\"&\"!\"&\"B3:H26\"),MATCH(O$1,INDIRECT(\"'\"&$C53&\"'\"&\"!\"&\"B3:B26\"),0),IF($D53=3,$D53+2,$D53+5))","v":0},{"$f":"INDEX(INDIRECT(\"'\"&$C53&\"'\"&\"!\"&\"B3:H26\"),MATCH(P$1,INDIRECT(\"'\"&$C53&\"'\"&\"!\"&\"B3:B26\"),0),IF($D53=3,$D53+2,$D53+5))","v":0},{"$f":"INDEX(INDIRECT(\"'\"&$C53&\"'\"&\"!\"&\"B3:H26\"),MATCH(Q$1,INDIRECT(\"'\"&$C53&\"'\"&\"!\"&\"B3:B26\"),0),IF($D53=3,$D53+2,$D53+5))","v":0},{"$f":"INDEX(INDIRECT(\"'\"&$C53&\"'\"&\"!\"&\"B3:H26\"),MATCH(R$1,INDIRECT(\"'\"&$C53&\"'\"&\"!\"&\"B3:B26\"),0),IF($D53=3,$D53+2,$D53+5))","v":0},{"$f":"INDEX(INDIRECT(\"'\"&$C53&\"'\"&\"!\"&\"B3:H26\"),MATCH(S$1,INDIRECT(\"'\"&$C53&\"'\"&\"!\"&\"B3:B26\"),0),IF($D53=3,$D53+2,$D53+5))","v":0},{"$f":"INDEX(INDIRECT(\"'\"&$C53&\"'\"&\"!\"&\"B3:H26\"),MATCH(T$1,INDIRECT(\"'\"&$C53&\"'\"&\"!\"&\"B3:B26\"),0),IF($D53=3,$D53+2,$D53+5))","v":0},{"$f":"INDEX(INDIRECT(\"'\"&$C53&\"'\"&\"!\"&\"B3:H26\"),MATCH(U$1,INDIRECT(\"'\"&$C53&\"'\"&\"!\"&\"B3:B26\"),0),IF($D53=3,$D53+2,$D53+5))","v":0},{"$f":"INDEX(INDIRECT(\"'\"&$C53&\"'\"&\"!\"&\"B3:H26\"),MATCH(V$1,INDIRECT(\"'\"&$C53&\"'\"&\"!\"&\"B3:B26\"),0),IF($D53=3,$D53+2,$D53+5))","v":0},{"$f":"INDEX(INDIRECT(\"'\"&$C53&\"'\"&\"!\"&\"B3:H26\"),MATCH(W$1,INDIRECT(\"'\"&$C53&\"'\"&\"!\"&\"B3:B26\"),0),IF($D53=3,$D53+2,$D53+5))","v":0},{"$f":"SUM(I53:W53)","v":40}]
[null,52,18,3,30,10,10,50,{"$f":"INDEX(INDIRECT(\"'\"&$C54&\"'\"&\"!\"&\"B3:H26\"),MATCH(I$1,INDIRECT(\"'\"&$C54&\"'\"&\"!\"&\"B3:B26\"),0),IF($D54=3,$D54+2,$D54+5))","v":20},{"$f":"INDEX(INDIRECT(\"'\"&$C54&\"'\"&\"!\"&\"B3:H26\"),MATCH(J$1,INDIRECT(\"'\"&$C54&\"'\"&\"!\"&\"B3:B26\"),0),IF($D54=3,$D54+2,$D54+5))","v":0},{"$f":"INDEX(INDIRECT(\"'\"&$C54&\"'\"&\"!\"&\"B3:H26\"),MATCH(K$1,INDIRECT(\"'\"&$C54&\"'\"&\"!\"&\"B3:B26\"),0),IF($D54=3,$D54+2,$D54+5))","v":0},{"$f":"INDEX(INDIRECT(\"'\"&$C54&\"'\"&\"!\"&\"B3:H26\"),MATCH(L$1,INDIRECT(\"'\"&$C54&\"'\"&\"!\"&\"B3:B26\"),0),IF($D54=3,$D54+2,$D54+5))","v":0},{"$f":"INDEX(INDIRECT(\"'\"&$C54&\"'\"&\"!\"&\"B3:H26\"),MATCH(M$1,INDIRECT(\"'\"&$C54&\"'\"&\"!\"&\"B3:B26\"),0),IF($D54=3,$D54+2,$D54+5))","v":0},{"$f":"INDEX(INDIRECT(\"'\"&$C54&\"'\"&\"!\"&\"B3:H26\"),MATCH(N$1,INDIRECT(\"'\"&$C54&\"'\"&\"!\"&\"B3:B26\"),0),IF($D54=3,$D54+2,$D54+5))","v":50},{"$f":"INDEX(INDIRECT(\"'\"&$C54&\"'\"&\"!\"&\"B3:H26\"),MATCH(O$1,INDIRECT(\"'\"&$C54&\"'\"&\"!\"&\"B3:B26\"),0),IF($D54=3,$D54+2,$D54+5))","v":0},{"$f":"INDEX(INDIRECT(\"'\"&$C54&\"'\"&\"!\"&\"B3:H26\"),MATCH(P$1,INDIRECT(\"'\"&$C54&\"'\"&\"!\"&\"B3:B26\"),0),IF($D54=3,$D54+2,$D54+5))","v":0},{"$f":"INDEX(INDIRECT(\"'\"&$C54&\"'\"&\"!\"&\"B3:H26\"),MATCH(Q$1,INDIRECT(\"'\"&$C54&\"'\"&\"!\"&\"B3:B26\"),0),IF($D54=3,$D54+2,$D54+5))","v":0},{"$f":"INDEX(INDIRECT(\"'\"&$C54&\"'\"&\"!\"&\"B3:H26\"),MATCH(R$1,INDIRECT(\"'\"&$C54&\"'\"&\"!\"&\"B3:B26\"),0),IF($D54=3,$D54+2,$D54+5))","v":0},{"$f":"INDEX(INDIRECT(\"'\"&$C54&\"'\"&\"!\"&\"B3:H26\"),MATCH(S$1,INDIRECT(\"'\"&$C54&\"'\"&\"!\"&\"B3:B26\"),0),IF($D54=3,$D54+2,$D54+5))","v":50},{"$f":"INDEX(INDIRECT(\"'\"&$C54&\"'\"&\"!\"&\"B3:H26\"),MATCH(T$1,INDIRECT(\"'\"&$C54&\"'\"&\"!\"&\"B3:B26\"),0),IF($D54=3,$D54+2,$D54+5))","v":0},{"$f":"INDEX(INDIRECT(\"'\"&$C54&\"'\"&\"!\"&\"B3:H26\"),MATCH(U$1,INDIRECT(\"'\"&$C54&\"'\"&\"!\"&\"B3:B26\"),0),IF($D54=3,$D54+2,$D54+5))","v":0},{"$f":"INDEX(INDIRECT(\"'\"&$C54&\"'\"&\"!\"&\"B3:H26\"),MATCH(V$1,INDIRECT(\"'\"&$C54&\"'\"&\"!\"&\"B3:B26\"),0),IF($D54=3,$D54+2,$D54+5))","v":0},{"$f":"INDEX(INDIRECT(\"'\"&$C54&\"'\"&\"!\"&\"B3:H26\"),MATCH(W$1,INDIRECT(\"'\"&$C54&\"'\"&\"!\"&\"B3:B26\"),0),IF($D54=3,$D54+2,$D54+5))","v":0},120]
[null,53,{"$f":"C54","v":18},1,30,10,10,50,{"$f":"INDEX(INDIRECT(\"'\"&$C55&\"'\"&\"!\"&\"B3:H26\"),MATCH(I$1,INDIRECT(\"'\"&$C55&\"'\"&\"!\"&\"B3:B26\"),0),IF($D55=3,$D55+2,$D55+5))","v":30},{"$f":"INDEX(INDIRECT(\"'\"&$C55&\"'\"&\"!\"&\"B3:H26\"),MATCH(J$1,INDIRECT(\"'\"&$C55&\"'\"&\"!\"&\"B3:B26\"),0),IF($D55=3,$D55+2,$D55+5))","v":0},{"$f":"INDEX(INDIRECT(\"'\"&$C55&\"'\"&\"!\"&\"B3:H26\"),MATCH(K$1,INDIRECT(\"'\"&$C55&\"'\"&\"!\"&\"B3:B26\"),0),IF($D55=3,$D55+2,$D55+5))","v":0},{"$f":"INDEX(INDIRECT(\"'\"&$C55&\"'\"&\"!\"&\"B3:H26\"),MATCH(L$1,INDIRECT(\"'\"&$C55&\"'\"&\"!\"&\"B3:B26\"),0),IF($D55=3,$D55+2,$D55+5))","v":0},{"$f":"INDEX(INDIRECT(\"'\"&$C55&\"'\"&\"!\"&\"B3:H26\"),MATCH(M$1,INDIRECT(\"'\"&$C55&\"'\"&\"!\"&\"B3:B26\"),0),IF($D55=3,$D55+2,$D55+5))","v":0},{"$f":"INDEX(INDIRECT(\"'\"&$C55&\"'\"&\"!\"&\"B3:H26\"),MATCH(N$1,INDIRECT(\"'\"&$C55&\"'\"&\"!\"&\"B3:B26\"),0),IF($D55=3,$D55+2,$D55+5))","v":0},{"$f":"INDEX(INDIRECT(\"'\"&$C55&\"'\"&\"!\"&\"B3:H26\"),MATCH(O$1,INDIRECT(\"'\"&$C55&\"'\"&\"!\"&\"B3:B26\"),0),IF($D55=3,$D55+2,$D55+5))","v":0},{"$f":"INDEX(INDIRECT(\"'\"&$C55&\"'\"&\"!\"&\"B3:H26\"),MATCH(P$1,INDIRECT(\"'\"&$C55&\"'\"&\"!\"&\"B3:B26\"),0),IF($D55=3,$D55+2,$D55+5))","v":0},{"$f":"INDEX(INDIRECT(\"'\"&$C55&\"'\"&\"!\"&\"B3:H26\"),MATCH(Q$1,INDIRECT(\"'\"&$C55&\"'\"&\"!\"&\"B3:B26\"),0),IF($D55=3,$D55+2,$D55+5))","v":0},{"$f":"INDEX(INDIRECT(\"'\"&$C55&\"'\"&\"!\"&\"B3:H26\"),MATCH(R$1,INDIRECT(\"'\"&$C55&\"'\"&\"!\"&\"B3:B26\"),0),IF($D55=3,$D55+2,$D55+5))","v":0},{"$f":"INDEX(INDIRECT(\"'\"&$C55&\"'\"&\"!\"&\"B3:H26\"),MATCH(S$1,INDIRECT(\"'\"&$C55&\"'\"&\"!\"&\"B3:B26\"),0),IF($D55=3,$D55+2,$D55+5))","v":0},{"$f":"INDEX(INDIRECT(\"'\"&$C55&\"'\"&\"!\"&\"B3:H26\"),MATCH(T$1,INDIRECT(\"'\"&$C55&\"'\"&\"!\"&\"B3:B26\"),0),IF($D55=3,$D55+2,$D55+5))","v":0},{"$f":"INDEX(INDIRECT(\"'\"&$C55&\"'\"&\"!\"&\"B3:H26\"),MATCH(U$1,INDIRECT(\"'\"&$C55&\"'\"&\"!\"&\"B3:B26\"),0),IF($D55=3,$D55+2,$D55+5))","v":0},{"$f":"INDEX(INDIRECT(\"'\"&$C55&\"'\"&\"!\"&\"B3:H26\"),MATCH(V$1,INDIRECT(\"'\"&$C55&\"'\"&\"!\"&\"B3:B26\"),0),IF($D55=3,$D55+2,$D55+5))","v":0},{"$f":"INDEX(INDIRECT(\"'\"&$C55&\"'\"&\"!\"&\"B3:H26\"),MATCH(W$1,INDIRECT(\"'\"&$C55&\"'\"&\"!\"&\"B3:B26\"),0),IF($D55=3,$D55+2,$D55+5))","v":0},30]
[null,54,18,2,30,10,10,50,{"$f":"INDEX(INDIRECT(\"'\"&$C56&\"'\"&\"!\"&\"B3:H26\"),MATCH(I$1,INDIRECT(\"'\"&$C56&\"'\"&\"!\"&\"B3:B26\"),0),IF($D56=3,$D56+2,$D56+5))","v":40},{"$f":"INDEX(INDIRECT(\"'\"&$C56&\"'\"&\"!\"&\"B3:H26\"),MATCH(J$1,INDIRECT(\"'\"&$C56&\"'\"&\"!\"&\"B3:B26\"),0),IF($D56=3,$D56+2,$D56+5))","v":0},{"$f":"INDEX(INDIRECT(\"'\"&$C56&\"'\"&\"!\"&\"B3:H26\"),MATCH(K$1,INDIRECT(\"'\"&$C56&\"'\"&\"!\"&\"B3:B26\"),0),IF($D56=3,$D56+2,$D56+5))","v":0},{"$f":"INDEX(INDIRECT(\"'\"&$C56&\"'\"&\"!\"&\"B3:H26\"),MATCH(L$1,INDIRECT(\"'\"&$C56&\"'\"&\"!\"&\"B3:B26\"),0),IF($D56=3,$D56+2,$D56+5))","v":0},{"$f":"INDEX(INDIRECT(\"'\"&$C56&\"'\"&\"!\"&\"B3:H26\"),MATCH(M$1,INDIRECT(\"'\"&$C56&\"'\"&\"!\"&\"B3:B26\"),0),IF($D56=3,$D56+2,$D56+5))","v":0},{"$f":"INDEX(INDIRECT(\"'\"&$C56&\"'\"&\"!\"&\"B3:H26\"),MATCH(N$1,INDIRECT(\"'\"&$C56&\"'\"&\"!\"&\"B3:B26\"),0),IF($D56=3,$D56+2,$D56+5))","v":0},{"$f":"INDEX(INDIRECT(\"'\"&$C56&\"'\"&\"!\"&\"B3:H26\"),MATCH(O$1,INDIRECT(\"'\"&$C56&\"'\"&\"!\"&\"B3:B26\"),0),IF($D56=3,$D56+2,$D56+5))","v":0},{"$f":"INDEX(INDIRECT(\"'\"&$C56&\"'\"&\"!\"&\"B3:H26\"),MATCH(P$1,INDIRECT(\"'\"&$C56&\"'\"&\"!\"&\"B3:B26\"),0),IF($D56=3,$D56+2,$D56+5))","v":0},{"$f":"INDEX(INDIRECT(\"'\"&$C56&\"'\"&\"!\"&\"B3:H26\"),MATCH(Q$1,INDIRECT(\"'\"&$C56&\"'\"&\"!\"&\"B3:B26\"),0),IF($D56=3,$D56+2,$D56+5))","v":0},{"$f":"INDEX(INDIRECT(\"'\"&$C56&\"'\"&\"!\"&\"B3:H26\"),MATCH(R$1,INDIRECT(\"'\"&$C56&\"'\"&\"!\"&\"B3:B26\"),0),IF($D56=3,$D56+2,$D56+5))","v":0},{"$f":"INDEX(INDIRECT(\"'\"&$C56&\"'\"&\"!\"&\"B3:H26\"),MATCH(S$1,INDIRECT(\"'\"&$C56&\"'\"&\"!\"&\"B3:B26\"),0),IF($D56=3,$D56+2,$D56+5))","v":0},{"$f":"INDEX(INDIRECT(\"'\"&$C56&\"'\"&\"!\"&\"B3:H26\"),MATCH(T$1,INDIRECT(\"'\"&$C56&\"'\"&\"!\"&\"B3:B26\"),0),IF($D56=3,$D56+2,$D56+5))","v":0},{"$f":"INDEX(INDIRECT(\"'\"&$C56&\"'\"&\"!\"&\"B3:H26\"),MATCH(U$1,INDIRECT(\"'\"&$C56&\"'\"&\"!\"&\"B3:B26\"),0),IF($D56=3,$D56+2,$D56+5))","v":0},{"$f":"INDEX(INDIRECT(\"'\"&$C56&\"'\"&\"!\"&\"B3:H26\"),MATCH(V$1,INDIRECT(\"'\"&$C56&\"'\"&\"!\"&\"B3:B26\"),0),IF($D56=3,$D56+2,$D56+5))","v":0},{"$f":"INDEX(INDIRECT(\"'\"&$C56&\"'\"&\"!\"&\"B3:H26\"),MATCH(W$1,INDIRECT(\"'\"&$C56&\"'\"&\"!\"&\"B3:B26\"),0),IF($D56=3,$D56+2,$D56+5))","v":0},40]
[null,55,19,3,30,10,10,50,{"$f":"INDEX(INDIRECT(\"'\"&$C57&\"'\"&\"!\"&\"B3:H26\"),MATCH(I$1,INDIRECT(\"'\"&$C57&\"'\"&\"!\"&\"B3:B26\"),0),IF($D57=3,$D57+2,$D57+5))","v":20},{"$f":"INDEX(INDIRECT(\"'\"&$C57&\"'\"&\"!\"&\"B3:H26\"),MATCH(J$1,INDIRECT(\"'\"&$C57&\"'\"&\"!\"&\"B3:B26\"),0),IF($D57=3,$D57+2,$D57+5))","v":0},{"$f":"INDEX(INDIRECT(\"'\"&$C57&\"'\"&\"!\"&\"B3:H26\"),MATCH(K$1,INDIRECT(\"'\"&$C57&\"'\"&\"!\"&\"B3:B26\"),0),IF($D57=3,$D57+2,$D57+5))","v":0},{"$f":"INDEX(INDIRECT(\"'\"&$C57&\"'\"&\"!\"&\"B3:H26\"),MATCH(L$1,INDIRECT(\"'\"&$C57&\"'\"&\"!\"&\"B3:B26\"),0),IF($D57=3,$D57+2,$D57+5))","v":0},{"$f":"INDEX(INDIRECT(\"'\"&$C57&\"'\"&\"!\"&\"B3:H26\"),MATCH(M$1,INDIRECT(\"'\"&$C57&\"'\"&\"!\"&\"B3:B26\"),0),IF($D57=3,$D57+2,$D57+5))","v":0},{"$f":"INDEX(INDIRECT(\"'\"&$C57&\"'\"&\"!\"&\"B3:H26\"),MATCH(N$1,INDIRECT(\"'\"&$C57&\"'\"&\"!\"&\"B3:B26\"),0),IF($D57=3,$D57+2,$D57+5))","v":50},{"$f":"INDEX(INDIRECT(\"'\"&$C57&\"'\"&\"!\"&\"B3:H26\"),MATCH(O$1,INDIRECT(\"'\"&$C57&\"'\"&\"!\"&\"B3:B26\"),0),IF($D57=3,$D57+2,$D57+5))","v":0},{"$f":"INDEX(INDIRECT(\"'\"&$C57&\"'\"&\"!\"&\"B3:H26\"),MATCH(P$1,INDIRECT(\"'\"&$C57&\"'\"&\"!\"&\"B3:B26\"),0),IF($D57=3,$D57+2,$D57+5))","v":0},{"$f":"INDEX(INDIRECT(\"'\"&$C57&\"'\"&\"!\"&\"B3:H26\"),MATCH(Q$1,INDIRECT(\"'\"&$C57&\"'\"&\"!\"&\"B3:B26\"),0),IF($D57=3,$D57+2,$D57+5))","v":0},{"$f":"INDEX(INDIRECT(\"'\"&$C57&\"'\"&\"!\"&\"B3:H26\"),MATCH(R$1,INDIRECT(\"'\"&$C57&\"'\"&\"!\"&\"B3:B26\"),0),IF($D57=3,$D57+2,$D57+5))","v":0},{"$f":"INDEX(INDIRECT(\"'\"&$C57&\"'\"&\"!\"&\"B3:H26\"),MATCH(S$1,INDIRECT(\"'\"&$C57&\"'\"&\"!\"&\"B3:B26\"),0),IF($D57=3,$D57+2,$D57+5))","v":50},{"$f":"INDEX(INDIRECT(\"'\"&$C57&\"'\"&\"!\"&\"B3:H26\"),MATCH(T$1,INDIRECT(\"'\"&$C57&\"'\"&\"!\"&\"B3:B26\"),0),IF($D57=3,$D57+2,$D57+5))","v":0},{"$f":"INDEX(INDIRECT(\"'\"&$C57&\"'\"&\"!\"&\"B3:H26\"),MATCH(U$1,INDIRECT(\"'\"&$C57&\"'\"&\"!\"&\"B3:B26\"),0),IF($D57=3,$D57+2,$D57+5))","v":0},{"$f":"INDEX(INDIRECT(\"'\"&$C57&\"'\"&\"!\"&\"B3:H26\"),MATCH(V$1,INDIRECT(\"'\"&$C57&\"'\"&\"!\"&\"B3:B26\"),0),IF($D57=3,$D57+2,$D57+5))","v":0},{"$f":"INDEX(INDIRECT(\"'\"&$C57&\"'\"&\"!\"&\"B3:H26\"),MATCH(W$1,INDIRECT(\"'\"&$C57&\"'\"&\"!\"&\"B3:B26\"),0),IF($D57=3,$D57+2,$D57+5))","v":0},120]
[null,56,{"$f":"C57","v":19},1,30,10,10,50,{"$f":"INDEX(INDIRECT(\"'\"&$C58&\"'\"&\"!\"&\"B3:H26\"),MATCH(I$1,INDIRECT(\"'\"&$C58&\"'\"&\"!\"&\"B3:B26\"),0),IF($D58=3,$D58+2,$D58+5))","v":30},{"$f":"INDEX(INDIRECT(\"'\"&$C58&\"'\"&\"!\"&\"B3:H26\"),MATCH(J$1,INDIRECT(\"'\"&$C58&\"'\"&\"!\"&\"B3:B26\"),0),IF($D58=3,$D58+2,$D58+5))","v":0},{"$f":"INDEX(INDIRECT(\"'\"&$C58&\"'\"&\"!\"&\"B3:H26\"),MATCH(K$1,INDIRECT(\"'\"&$C58&\"'\"&\"!\"&\"B3:B26\"),0),IF($D58=3,$D58+2,$D58+5))","v":0},{"$f":"INDEX(INDIRECT(\"'\"&$C58&\"'\"&\"!\"&\"B3:H26\"),MATCH(L$1,INDIRECT(\"'\"&$C58&\"'\"&\"!\"&\"B3:B26\"),0),IF($D58=3,$D58+2,$D58+5))","v":0},{"$f":"INDEX(INDIRECT(\"'\"&$C58&\"'\"&\"!\"&\"B3:H26\"),MATCH(M$1,INDIRECT(\"'\"&$C58&\"'\"&\"!\"&\"B3:B26\"),0),IF($D58=3,$D58+2,$D58+5))","v":0},{"$f":"INDEX(INDIRECT(\"'\"&$C58&\"'\"&\"!\"&\"B3:H26\"),MATCH(N$1,INDIRECT(\"'\"&$C58&\"'\"&\"!\"&\"B3:B26\"),0),IF($D58=3,$D58+2,$D58+5))","v":0},{"$f":"INDEX(INDIRECT(\"'\"&$C58&\"'\"&\"!\"&\"B3:H26\"),MATCH(O$1,INDIRECT(\"'\"&$C58&\"'\"&\"!\"&\"B3:B26\"),0),IF($D58=3,$D58+2,$D58+5))","v":0},{"$f":"INDEX(INDIRECT(\"'\"&$C58&\"'\"&\"!\"&\"B3:H26\"),MATCH(P$1,INDIRECT(\"'\"&$C58&\"'\"&\"!\"&\"B3:B26\"),0),IF($D58=3,$D58+2,$D58+5))","v":0},{"$f":"INDEX(INDIRECT(\"'\"&$C58&\"'\"&\"!\"&\"B3:H26\"),MATCH(Q$1,INDIRECT(\"'\"&$C58&\"'\"&\"!\"&\"B3:B26\"),0),IF($D58=3,$D58+2,$D58+5))","v":0},{"$f":"INDEX(INDIRECT(\"'\"&$C58&\"'\"&\"!\"&\"B3:H26\"),MATCH(R$1,INDIRECT(\"'\"&$C58&\"'\"&\"!\"&\"B3:B26\"),0),IF($D58=3,$D58+2,$D58+5))","v":0},{"$f":"INDEX(INDIRECT(\"'\"&$C58&\"'\"&\"!\"&\"B3:H26\"),MATCH(S$1,INDIRECT(\"'\"&$C58&\"'\"&\"!\"&\"B3:B26\"),0),IF($D58=3,$D58+2,$D58+5))","v":0},{"$f":"INDEX(INDIRECT(\"'\"&$C58&\"'\"&\"!\"&\"B3:H26\"),MATCH(T$1,INDIRECT(\"'\"&$C58&\"'\"&\"!\"&\"B3:B26\"),0),IF($D58=3,$D58+2,$D58+5))","v":0},{"$f":"INDEX(INDIRECT(\"'\"&$C58&\"'\"&\"!\"&\"B3:H26\"),MATCH(U$1,INDIRECT(\"'\"&$C58&\"'\"&\"!\"&\"B3:B26\"),0),IF($D58=3,$D58+2,$D58+5))","v":0},{"$f":"INDEX(INDIRECT(\"'\"&$C58&\"'\"&\"!\"&\"B3:H26\"),MATCH(V$1,INDIRECT(\"'\"&$C58&\"'\"&\"!\"&\"B3:B26\"),0),IF($D58=3,$D58+2,$D58+5))","v":0},{"$f":"INDEX(INDIRECT(\"'\"&$C58&\"'\"&\"!\"&\"B3:H26\"),MATCH(W$1,INDIRECT(\"'\"&$C58&\"'\"&\"!\"&\"B3:B26\"),0),IF($D58=3,$D58+2,$D58+5))","v":0},30]
[null,57,19,2,30,10,10,50,{"$f":"INDEX(INDIRECT(\"'\"&$C59&\"'\"&\"!\"&\"B3:H26\"),MATCH(I$1,INDIRECT(\"'\"&$C59&\"'\"&\"!\"&\"B3:B26\"),0),IF($D59=3,$D59+2,$D59+5))","v":40},{"$f":"INDEX(INDIRECT(\"'\"&$C59&\"'\"&\"!\"&\"B3:H26\"),MATCH(J$1,INDIRECT(\"'\"&$C59&\"'\"&\"!\"&\"B3:B26\"),0),IF($D59=3,$D59+2,$D59+5))","v":0},{"$f":"INDEX(INDIRECT(\"'\"&$C59&\"'\"&\"!\"&\"B3:H26\"),MATCH(K$1,INDIRECT(\"'\"&$C59&\"'\"&\"!\"&\"B3:B26\"),0),IF($D59=3,$D59+2,$D59+5))","v":0},{"$f":"INDEX(INDIRECT(\"'\"&$C59&\"'\"&\"!\"&\"B3:H26\"),MATCH(L$1,INDIRECT(\"'\"&$C59&\"'\"&\"!\"&\"B3:B26\"),0),IF($D59=3,$D59+2,$D59+5))","v":0},{"$f":"INDEX(INDIRECT(\"'\"&$C59&\"'\"&\"!\"&\"B3:H26\"),MATCH(M$1,INDIRECT(\"'\"&$C59&\"'\"&\"!\"&\"B3:B26\"),0),IF($D59=3,$D59+2,$D59+5))","v":0},{"$f":"INDEX(INDIRECT(\"'\"&$C59&\"'\"&\"!\"&\"B3:H26\"),MATCH(N$1,INDIRECT(\"'\"&$C59&\"'\"&\"!\"&\"B3:B26\"),0),IF($D59=3,$D59+2,$D59+5))","v":0},{"$f":"INDEX(INDIRECT(\"'\"&$C59&\"'\"&\"!\"&\"B3:H26\"),MATCH(O$1,INDIRECT(\"'\"&$C59&\"'\"&\"!\"&\"B3:B26\"),0),IF($D59=3,$D59+2,$D59+5))","v":0},{"$f":"INDEX(INDIRECT(\"'\"&$C59&\"'\"&\"!\"&\"B3:H26\"),MATCH(P$1,INDIRECT(\"'\"&$C59&\"'\"&\"!\"&\"B3:B26\"),0),IF($D59=3,$D59+2,$D59+5))","v":0},{"$f":"INDEX(INDIRECT(\"'\"&$C59&\"'\"&\"!\"&\"B3:H26\"),MATCH(Q$1,INDIRECT(\"'\"&$C59&\"'\"&\"!\"&\"B3:B26\"),0),IF($D59=3,$D59+2,$D59+5))","v":0},{"$f":"INDEX(INDIRECT(\"'\"&$C59&\"'\"&\"!\"&\"B3:H26\"),MATCH(R$1,INDIRECT(\"'\"&$C59&\"'\"&\"!\"&\"B3:B26\"),0),IF($D59=3,$D59+2,$D59+5))","v":0},{"$f":"INDEX(INDIRECT(\"'\"&$C59&\"'\"&\"!\"&\"B3:H26\"),MATCH(S$1,INDIRECT(\"'\"&$C59&\"'\"&\"!\"&\"B3:B26\"),0),IF($D59=3,$D59+2,$D59+5))","v":0},{"$f":"INDEX(INDIRECT(\"'\"&$C59&\"'\"&\"!\"&\"B3:H26\"),MATCH(T$1,INDIRECT(\"'\"&$C59&\"'\"&\"!\"&\"B3:B26\"),0),IF($D59=3,$D59+2,$D59+5))","v":0},{"$f":"INDEX(INDIRECT(\"'\"&$C59&\"'\"&\"!\"&\"B3:H26\"),MATCH(U$1,INDIRECT(\"'\"&$C59&\"'\"&\"!\"&\"B3:B26\"),0),IF($D59=3,$D59+2,$D59+5))","v":0},{"$f":"INDEX(INDIRECT(\"'\"&$C59&\"'\"&\"!\"&\"B3:H26\"),MATCH(V$1,INDIRECT(\"'\"&$C59&\"'\"&\"!\"&\"B3:B26\"),0),IF($D59=3,$D59+2,$D59+5))","v":0},{"$f":"INDEX(INDIRECT(\"'\"&$C59&\"'\"&\"!\"&\"B3:H26\"),MATCH(W$1,INDIRECT(\"'\"&$C59&\"'\"&\"!\"&\"B3:B26\"),0),IF($D59=3,$D59+2,$D59+5))","v":0},40]
[null,58,20,3,30,10,10,50,{"$f":"INDEX(INDIRECT(\"'\"&$C60&\"'\"&\"!\"&\"B3:H26\"),MATCH(I$1,INDIRECT(\"'\"&$C60&\"'\"&\"!\"&\"B3:B26\"),0),IF($D60=3,$D60+2,$D60+5))","v":20},{"$f":"INDEX(INDIRECT(\"'\"&$C60&\"'\"&\"!\"&\"B3:H26\"),MATCH(J$1,INDIRECT(\"'\"&$C60&\"'\"&\"!\"&\"B3:B26\"),0),IF($D60=3,$D60+2,$D60+5))","v":0},{"$f":"INDEX(INDIRECT(\"'\"&$C60&\"'\"&\"!\"&\"B3:H26\"),MATCH(K$1,INDIRECT(\"'\"&$C60&\"'\"&\"!\"&\"B3:B26\"),0),IF($D60=3,$D60+2,$D60+5))","v":0},{"$f":"INDEX(INDIRECT(\"'\"&$C60&\"'\"&\"!\"&\"B3:H26\"),MATCH(L$1,INDIRECT(\"'\"&$C60&\"'\"&\"!\"&\"B3:B26\"),0),IF($D60=3,$D60+2,$D60+5))","v":0},{"$f":"INDEX(INDIRECT(\"'\"&$C60&\"'\"&\"!\"&\"B3:H26\"),MATCH(M$1,INDIRECT(\"'\"&$C60&\"'\"&\"!\"&\"B3:B26\"),0),IF($D60=3,$D60+2,$D60+5))","v":0},{"$f":"INDEX(INDIRECT(\"'\"&$C60&\"'\"&\"!\"&\"B3:H26\"),MATCH(N$1,INDIRECT(\"'\"&$C60&\"'\"&\"!\"&\"B3:B26\"),0),IF($D60=3,$D60+2,$D60+5))","v":50},{"$f":"INDEX(INDIRECT(\"'\"&$C60&\"'\"&\"!\"&\"B3:H26\"),MATCH(O$1,INDIRECT(\"'\"&$C60&\"'\"&\"!\"&\"B3:B26\"),0),IF($D60=3,$D60+2,$D60+5))","v":0},{"$f":"INDEX(INDIRECT(\"'\"&$C60&\"'\"&\"!\"&\"B3:H26\"),MATCH(P$1,INDIRECT(\"'\"&$C60&\"'\"&\"!\"&\"B3:B26\"),0),IF($D60=3,$D60+2,$D60+5))","v":0},{"$f":"INDEX(INDIRECT(\"'\"&$C60&\"'\"&\"!\"&\"B3:H26\"),MATCH(Q$1,INDIRECT(\"'\"&$C60&\"'\"&\"!\"&\"B3:B26\"),0),IF($D60=3,$D60+2,$D60+5))","v":0},{"$f":"INDEX(INDIRECT(\"'\"&$C60&\"'\"&\"!\"&\"B3:H26\"),MATCH(R$1,INDIRECT(\"'\"&$C60&\"'\"&\"!\"&\"B3:B26\"),0),IF($D60=3,$D60+2,$D60+5))","v":0},{"$f":"INDEX(INDIRECT(\"'\"&$C60&\"'\"&\"!\"&\"B3:H26\"),MATCH(S$1,INDIRECT(\"'\"&$C60&\"'\"&\"!\"&\"B3:B26\"),0),IF($D60=3,$D60+2,$D60+5))","v":50},{"$f":"INDEX(INDIRECT(\"'\"&$C60&\"'\"&\"!\"&\"B3:H26\"),MATCH(T$1,INDIRECT(\"'\"&$C60&\"'\"&\"!\"&\"B3:B26\"),0),IF($D60=3,$D60+2,$D60+5))","v":0},{"$f":"INDEX(INDIRECT(\"'\"&$C60&\"'\"&\"!\"&\"B3:H26\"),MATCH(U$1,INDIRECT(\"'\"&$C60&\"'\"&\"!\"&\"B3:B26\"),0),IF($D60=3,$D60+2,$D60+5))","v":0},{"$f":"INDEX(INDIRECT(\"'\"&$C60&\"'\"&\"!\"&\"B3:H26\"),MATCH(V$1,INDIRECT(\"'\"&$C60&\"'\"&\"!\"&\"B3:B26\"),0),IF($D60=3,$D60+2,$D60+5))","v":0},{"$f":"INDEX(INDIRECT(\"'\"&$C60&\"'\"&\"!\"&\"B3:H26\"),MATCH(W$1,INDIRECT(\"'\"&$C60&\"'\"&\"!\"&\"B3:B26\"),0),IF($D60=3,$D60+2,$D60+5))","v":0},120]
[null,59,{"$f":"C60","v":20},1,30,10,10,50,{"$f":"INDEX(INDIRECT(\"'\"&$C61&\"'\"&\"!\"&\"B3:H26\"),MATCH(I$1,INDIRECT(\"'\"&$C61&\"'\"&\"!\"&\"B3:B26\"),0),IF($D61=3,$D61+2,$D61+5))","v":30},{"$f":"INDEX(INDIRECT(\"'\"&$C61&\"'\"&\"!\"&\"B3:H26\"),MATCH(J$1,INDIRECT(\"'\"&$C61&\"'\"&\"!\"&\"B3:B26\"),0),IF($D61=3,$D61+2,$D61+5))","v":0},{"$f":"INDEX(INDIRECT(\"'\"&$C61&\"'\"&\"!\"&\"B3:H26\"),MATCH(K$1,INDIRECT(\"'\"&$C61&\"'\"&\"!\"&\"B3:B26\"),0),IF($D61=3,$D61+2,$D61+5))","v":0},{"$f":"INDEX(INDIRECT(\"'\"&$C61&\"'\"&\"!\"&\"B3:H26\"),MATCH(L$1,INDIRECT(\"'\"&$C61&\"'\"&\"!\"&\"B3:B26\"),0),IF($D61=3,$D61+2,$D61+5))","v":0},{"$f":"INDEX(INDIRECT(\"'\"&$C61&\"'\"&\"!\"&\"B3:H26\"),MATCH(M$1,INDIRECT(\"'\"&$C61&\"'\"&\"!\"&\"B3:B26\"),0),IF($D61=3,$D61+2,$D61+5))","v":0},{"$f":"INDEX(INDIRECT(\"'\"&$C61&\"'\"&\"!\"&\"B3:H26\"),MATCH(N$1,INDIRECT(\"'\"&$C61&\"'\"&\"!\"&\"B3:B26\"),0),IF($D61=3,$D61+2,$D61+5))","v":0},{"$f":"INDEX(INDIRECT(\"'\"&$C61&\"'\"&\"!\"&\"B3:H26\"),MATCH(O$1,INDIRECT(\"'\"&$C61&\"'\"&\"!\"&\"B3:B26\"),0),IF($D61=3,$D61+2,$D61+5))","v":0},{"$f":"INDEX(INDIRECT(\"'\"&$C61&\"'\"&\"!\"&\"B3:H26\"),MATCH(P$1,INDIRECT(\"'\"&$C61&\"'\"&\"!\"&\"B3:B26\"),0),IF($D61=3,$D61+2,$D61+5))","v":0},{"$f":"INDEX(INDIRECT(\"'\"&$C61&\"'\"&\"!\"&\"B3:H26\"),MATCH(Q$1,INDIRECT(\"'\"&$C61&\"'\"&\"!\"&\"B3:B26\"),0),IF($D61=3,$D61+2,$D61+5))","v":0},{"$f":"INDEX(INDIRECT(\"'\"&$C61&\"'\"&\"!\"&\"B3:H26\"),MATCH(R$1,INDIRECT(\"'\"&$C61&\"'\"&\"!\"&\"B3:B26\"),0),IF($D61=3,$D61+2,$D61+5))","v":0},{"$f":"INDEX(INDIRECT(\"'\"&$C61&\"'\"&\"!\"&\"B3:H26\"),MATCH(S$1,INDIRECT(\"'\"&$C61&\"'\"&\"!\"&\"B3:B26\"),0),IF($D61=3,$D61+2,$D61+5))","v":0},{"$f":"INDEX(INDIRECT(\"'\"&$C61&\"'\"&\"!\"&\"B3:H26\"),MATCH(T$1,INDIRECT(\"'\"&$C61&\"'\"&\"!\"&\"B3:B26\"),0),IF($D61=3,$D61+2,$D61+5))","v":0},{"$f":"INDEX(INDIRECT(\"'\"&$C61&\"'\"&\"!\"&\"B3:H26\"),MATCH(U$1,INDIRECT(\"'\"&$C61&\"'\"&\"!\"&\"B3:B26\"),0),IF($D61=3,$D61+2,$D61+5))","v":0},{"$f":"INDEX(INDIRECT(\"'\"&$C61&\"'\"&\"!\"&\"B3:H26\"),MATCH(V$1,INDIRECT(\"'\"&$C61&\"'\"&\"!\"&\"B3:B26\"),0),IF($D61=3,$D61+2,$D61+5))","v":0},{"$f":"INDEX(INDIRECT(\"'\"&$C61&\"'\"&\"!\"&\"B3:H26\"),MATCH(W$1,INDIRECT(\"'\"&$C61&\"'\"&\"!\"&\"B3:B26\"),0),IF($D61=3,$D61+2,$D61+5))","v":0},30]
[null,60,20,2,30,10,10,50,{"$f":"INDEX(INDIRECT(\"'\"&$C62&\"'\"&\"!\"&\"B3:H26\"),MATCH(I$1,INDIRECT(\"'\"&$C62&\"'\"&\"!\"&\"B3:B26\"),0),IF($D62=3,$D62+2,$D62+5))","v":40},{"$f":"INDEX(INDIRECT(\"'\"&$C62&\"'\"&\"!\"&\"B3:H26\"),MATCH(J$1,INDIRECT(\"'\"&$C62&\"'\"&\"!\"&\"B3:B26\"),0),IF($D62=3,$D62+2,$D62+5))","v":0},{"$f":"INDEX(INDIRECT(\"'\"&$C62&\"'\"&\"!\"&\"B3:H26\"),MATCH(K$1,INDIRECT(\"'\"&$C62&\"'\"&\"!\"&\"B3:B26\"),0),IF($D62=3,$D62+2,$D62+5))","v":0},{"$f":"INDEX(INDIRECT(\"'\"&$C62&\"'\"&\"!\"&\"B3:H26\"),MATCH(L$1,INDIRECT(\"'\"&$C62&\"'\"&\"!\"&\"B3:B26\"),0),IF($D62=3,$D62+2,$D62+5))","v":0},{"$f":"INDEX(INDIRECT(\"'\"&$C62&\"'\"&\"!\"&\"B3:H26\"),MATCH(M$1,INDIRECT(\"'\"&$C62&\"'\"&\"!\"&\"B3:B26\"),0),IF($D62=3,$D62+2,$D62+5))","v":0},{"$f":"INDEX(INDIRECT(\"'\"&$C62&\"'\"&\"!\"&\"B3:H26\"),MATCH(N$1,INDIRECT(\"'\"&$C62&\"'\"&\"!\"&\"B3:B26\"),0),IF($D62=3,$D62+2,$D62+5))","v":0},{"$f":"INDEX(INDIRECT(\"'\"&$C62&\"'\"&\"!\"&\"B3:H26\"),MATCH(O$1,INDIRECT(\"'\"&$C62&\"'\"&\"!\"&\"B3:B26\"),0),IF($D62=3,$D62+2,$D62+5))","v":0},{"$f":"INDEX(INDIRECT(\"'\"&$C62&\"'\"&\"!\"&\"B3:H26\"),MATCH(P$1,INDIRECT(\"'\"&$C62&\"'\"&\"!\"&\"B3:B26\"),0),IF($D62=3,$D62+2,$D62+5))","v":0},{"$f":"INDEX(INDIRECT(\"'\"&$C62&\"'\"&\"!\"&\"B3:H26\"),MATCH(Q$1,INDIRECT(\"'\"&$C62&\"'\"&\"!\"&\"B3:B26\"),0),IF($D62=3,$D62+2,$D62+5))","v":0},{"$f":"INDEX(INDIRECT(\"'\"&$C62&\"'\"&\"!\"&\"B3:H26\"),MATCH(R$1,INDIRECT(\"'\"&$C62&\"'\"&\"!\"&\"B3:B26\"),0),IF($D62=3,$D62+2,$D62+5))","v":0},{"$f":"INDEX(INDIRECT(\"'\"&$C62&\"'\"&\"!\"&\"B3:H26\"),MATCH(S$1,INDIRECT(\"'\"&$C62&\"'\"&\"!\"&\"B3:B26\"),0),IF($D62=3,$D62+2,$D62+5))","v":0},{"$f":"INDEX(INDIRECT(\"'\"&$C62&\"'\"&\"!\"&\"B3:H26\"),MATCH(T$1,INDIRECT(\"'\"&$C62&\"'\"&\"!\"&\"B3:B26\"),0),IF($D62=3,$D62+2,$D62+5))","v":0},{"$f":"INDEX(INDIRECT(\"'\"&$C62&\"'\"&\"!\"&\"B3:H26\"),MATCH(U$1,INDIRECT(\"'\"&$C62&\"'\"&\"!\"&\"B3:B26\"),0),IF($D62=3,$D62+2,$D62+5))","v":0},{"$f":"INDEX(INDIRECT(\"'\"&$C62&\"'\"&\"!\"&\"B3:H26\"),MATCH(V$1,INDIRECT(\"'\"&$C62&\"'\"&\"!\"&\"B3:B26\"),0),IF($D62=3,$D62+2,$D62+5))","v":0},{"$f":"INDEX(INDIRECT(\"'\"&$C62&\"'\"&\"!\"&\"B3:H26\"),MATCH(W$1,INDIRECT(\"'\"&$C62&\"'\"&\"!\"&\"B3:B26\"),0),IF($D62=3,$D62+2,$D62+5))","v":0},40]
[null,61,21,3,30,10,10,50,{"$f":"INDEX(INDIRECT(\"'\"&$C63&\"'\"&\"!\"&\"B3:H26\"),MATCH(I$1,INDIRECT(\"'\"&$C63&\"'\"&\"!\"&\"B3:B26\"),0),IF($D63=3,$D63+2,$D63+5))","v":20},{"$f":"INDEX(INDIRECT(\"'\"&$C63&\"'\"&\"!\"&\"B3:H26\"),MATCH(J$1,INDIRECT(\"'\"&$C63&\"'\"&\"!\"&\"B3:B26\"),0),IF($D63=3,$D63+2,$D63+5))","v":0},{"$f":"INDEX(INDIRECT(\"'\"&$C63&\"'\"&\"!\"&\"B3:H26\"),MATCH(K$1,INDIRECT(\"'\"&$C63&\"'\"&\"!\"&\"B3:B26\"),0),IF($D63=3,$D63+2,$D63+5))","v":0},{"$f":"INDEX(INDIRECT(\"'\"&$C63&\"'\"&\"!\"&\"B3:H26\"),MATCH(L$1,INDIRECT(\"'\"&$C63&\"'\"&\"!\"&\"B3:B26\"),0),IF($D63=3,$D63+2,$D63+5))","v":0},{"$f":"INDEX(INDIRECT(\"'\"&$C63&\"'\"&\"!\"&\"B3:H26\"),MATCH(M$1,INDIRECT(\"'\"&$C63&\"'\"&\"!\"&\"B3:B26\"),0),IF($D63=3,$D63+2,$D63+5))","v":0},{"$f":"INDEX(INDIRECT(\"'\"&$C63&\"'\"&\"!\"&\"B3:H26\"),MATCH(N$1,INDIRECT(\"'\"&$C63&\"'\"&\"!\"&\"B3:B26\"),0),IF($D63=3,$D63+2,$D63+5))","v":50},{"$f":"INDEX(INDIRECT(\"'\"&$C63&\"'\"&\"!\"&\"B3:H26\"),MATCH(O$1,INDIRECT(\"'\"&$C63&\"'\"&\"!\"&\"B3:B26\"),0),IF($D63=3,$D63+2,$D63+5))","v":0},{"$f":"INDEX(INDIRECT(\"'\"&$C63&\"'\"&\"!\"&\"B3:H26\"),MATCH(P$1,INDIRECT(\"'\"&$C63&\"'\"&\"!\"&\"B3:B26\"),0),IF($D63=3,$D63+2,$D63+5))","v":0},{"$f":"INDEX(INDIRECT(\"'\"&$C63&\"'\"&\"!\"&\"B3:H26\"),MATCH(Q$1,INDIRECT(\"'\"&$C63&\"'\"&\"!\"&\"B3:B26\"),0),IF($D63=3,$D63+2,$D63+5))","v":0},{"$f":"INDEX(INDIRECT(\"'\"&$C63&\"'\"&\"!\"&\"B3:H26\"),MATCH(R$1,INDIRECT(\"'\"&$C63&\"'\"&\"!\"&\"B3:B26\"),0),IF($D63=3,$D63+2,$D63+5))","v":0},{"$f":"INDEX(INDIRECT(\"'\"&$C63&\"'\"&\"!\"&\"B3:H26\"),MATCH(S$1,INDIRECT(\"'\"&$C63&\"'\"&\"!\"&\"B3:B26\"),0),IF($D63=3,$D63+2,$D63+5))","v":50},{"$f":"INDEX(INDIRECT(\"'\"&$C63&\"'\"&\"!\"&\"B3:H26\"),MATCH(T$1,INDIRECT(\"'\"&$C63&\"'\"&\"!\"&\"B3:B26\"),0),IF($D63=3,$D63+2,$D63+5))","v":0},{"$f":"INDEX(INDIRECT(\"'\"&$C63&\"'\"&\"!\"&\"B3:H26\"),MATCH(U$1,INDIRECT(\"'\"&$C63&\"'\"&\"!\"&\"B3:B26\"),0),IF($D63=3,$D63+2,$D63+5))","v":0},{"$f":"INDEX(INDIRECT(\"'\"&$C63&\"'\"&\"!\"&\"B3:H26\"),MATCH(V$1,INDIRECT(\"'\"&$C63&\"'\"&\"!\"&\"B3:B26\"),0),IF($D63=3,$D63+2,$D63+5))","v":0},{"$f":"INDEX(INDIRECT(\"'\"&$C63&\"'\"&\"!\"&\"B3:H26\"),MATCH(W$1,INDIRECT(\"'\"&$C63&\"'\"&\"!\"&\"B3:B26\"),0),IF($D63=3,$D63+2,$D63+5))","v":0},120]
[null,62,{"$f":"C63","v":21},1,30,10,10,50,{"$f":"INDEX(INDIRECT(\"'\"&$C64&\"'\"&\"!\"&\"B3:H26\"),MATCH(I$1,INDIRECT(\"'\"&$C64&\"'\"&\"!\"&\"B3:B26\"),0),IF($D64=3,$D64+2,$D64+5))","v":30},{"$f":"INDEX(INDIRECT(\"'\"&$C64&\"'\"&\"!\"&\"B3:H26\"),MATCH(J$1,INDIRECT(\"'\"&$C64&\"'\"&\"!\"&\"B3:B26\"),0),IF($D64=3,$D64+2,$D64+5))","v":0},{"$f":"INDEX(INDIRECT(\"'\"&$C64&\"'\"&\"!\"&\"B3:H26\"),MATCH(K$1,INDIRECT(\"'\"&$C64&\"'\"&\"!\"&\"B3:B26\"),0),IF($D64=3,$D64+2,$D64+5))","v":0},{"$f":"INDEX(INDIRECT(\"'\"&$C64&\"'\"&\"!\"&\"B3:H26\"),MATCH(L$1,INDIRECT(\"'\"&$C64&\"'\"&\"!\"&\"B3:B26\"),0),IF($D64=3,$D64+2,$D64+5))","v":0},{"$f":"INDEX(INDIRECT(\"'\"&$C64&\"'\"&\"!\"&\"B3:H26\"),MATCH(M$1,INDIRECT(\"'\"&$C64&\"'\"&\"!\"&\"B3:B26\"),0),IF($D64=3,$D64+2,$D64+5))","v":0},{"$f":"INDEX(INDIRECT(\"'\"&$C64&\"'\"&\"!\"&\"B3:H26\"),MATCH(N$1,INDIRECT(\"'\"&$C64&\"'\"&\"!\"&\"B3:B26\"),0),IF($D64=3,$D64+2,$D64+5))","v":0},{"$f":"INDEX(INDIRECT(\"'\"&$C64&\"'\"&\"!\"&\"B3:H26\"),MATCH(O$1,INDIRECT(\"'\"&$C64&\"'\"&\"!\"&\"B3:B26\"),0),IF($D64=3,$D64+2,$D64+5))","v":0},{"$f":"INDEX(INDIRECT(\"'\"&$C64&\"'\"&\"!\"&\"B3:H26\"),MATCH(P$1,INDIRECT(\"'\"&$C64&\"'\"&\"!\"&\"B3:B26\"),0),IF($D64=3,$D64+2,$D64+5))","v":0},{"$f":"INDEX(INDIRECT(\"'\"&$C64&\"'\"&\"!\"&\"B3:H26\"),MATCH(Q$1,INDIRECT(\"'\"&$C64&\"'\"&\"!\"&\"B3:B26\"),0),IF($D64=3,$D64+2,$D64+5))","v":0},{"$f":"INDEX(INDIRECT(\"'\"&$C64&\"'\"&\"!\"&\"B3:H26\"),MATCH(R$1,INDIRECT(\"'\"&$C64&\"'\"&\"!\"&\"B3:B26\"),0),IF($D64=3,$D64+2,$D64+5))","v":0},{"$f":"INDEX(INDIRECT(\"'\"&$C64&\"'\"&\"!\"&\"B3:H26\"),MATCH(S$1,INDIRECT(\"'\"&$C64&\"'\"&\"!\"&\"B3:B26\"),0),IF($D64=3,$D64+2,$D64+5))","v":0},{"$f":"INDEX(INDIRECT(\"'\"&$C64&\"'\"&\"!\"&\"B3:H26\"),MATCH(T$1,INDIRECT(\"'\"&$C64&\"'\"&\"!\"&\"B3:B26\"),0),IF($D64=3,$D64+2,$D64+5))","v":0},{"$f":"INDEX(INDIRECT(\"'\"&$C64&\"'\"&\"!\"&\"B3:H26\"),MATCH(U$1,INDIRECT(\"'\"&$C64&\"'\"&\"!\"&\"B3:B26\"),0),IF($D64=3,$D64+2,$D64+5))","v":0},{"$f":"INDEX(INDIRECT(\"'\"&$C64&\"'\"&\"!\"&\"B3:H26\"),MATCH(V$1,INDIRECT(\"'\"&$C64&\"'\"&\"!\"&\"B3:B26\"),0),IF($D64=3,$D64+2,$D64+5))","v":0},{"$f":"INDEX(INDIRECT(\"'\"&$C64&\"'\"&\"!\"&\"B3:H26\"),MATCH(W$1,INDIRECT(\"'\"&$C64&\"'\"&\"!\"&\"B3:B26\"),0),IF($D64=3,$D64+2,$D64+5))","v":0},30]
[null,63,21,2,30,10,10,50,{"$f":"INDEX(INDIRECT(\"'\"&$C65&\"'\"&\"!\"&\"B3:H26\"),MATCH(I$1,INDIRECT(\"'\"&$C65&\"'\"&\"!\"&\"B3:B26\"),0),IF($D65=3,$D65+2,$D65+5))","v":40},{"$f":"INDEX(INDIRECT(\"'\"&$C65&\"'\"&\"!\"&\"B3:H26\"),MATCH(J$1,INDIRECT(\"'\"&$C65&\"'\"&\"!\"&\"B3:B26\"),0),IF($D65=3,$D65+2,$D65+5))","v":0},{"$f":"INDEX(INDIRECT(\"'\"&$C65&\"'\"&\"!\"&\"B3:H26\"),MATCH(K$1,INDIRECT(\"'\"&$C65&\"'\"&\"!\"&\"B3:B26\"),0),IF($D65=3,$D65+2,$D65+5))","v":0},{"$f":"INDEX(INDIRECT(\"'\"&$C65&\"'\"&\"!\"&\"B3:H26\"),MATCH(L$1,INDIRECT(\"'\"&$C65&\"'\"&\"!\"&\"B3:B26\"),0),IF($D65=3,$D65+2,$D65+5))","v":0},{"$f":"INDEX(INDIRECT(\"'\"&$C65&\"'\"&\"!\"&\"B3:H26\"),MATCH(M$1,INDIRECT(\"'\"&$C65&\"'\"&\"!\"&\"B3:B26\"),0),IF($D65=3,$D65+2,$D65+5))","v":0},{"$f":"INDEX(INDIRECT(\"'\"&$C65&\"'\"&\"!\"&\"B3:H26\"),MATCH(N$1,INDIRECT(\"'\"&$C65&\"'\"&\"!\"&\"B3:B26\"),0),IF($D65=3,$D65+2,$D65+5))","v":0},{"$f":"INDEX(INDIRECT(\"'\"&$C65&\"'\"&\"!\"&\"B3:H26\"),MATCH(O$1,INDIRECT(\"'\"&$C65&\"'\"&\"!\"&\"B3:B26\"),0),IF($D65=3,$D65+2,$D65+5))","v":0},{"$f":"INDEX(INDIRECT(\"'\"&$C65&\"'\"&\"!\"&\"B3:H26\"),MATCH(P$1,INDIRECT(\"'\"&$C65&\"'\"&\"!\"&\"B3:B26\"),0),IF($D65=3,$D65+2,$D65+5))","v":0},{"$f":"INDEX(INDIRECT(\"'\"&$C65&\"'\"&\"!\"&\"B3:H26\"),MATCH(Q$1,INDIRECT(\"'\"&$C65&\"'\"&\"!\"&\"B3:B26\"),0),IF($D65=3,$D65+2,$D65+5))","v":0},{"$f":"INDEX(INDIRECT(\"'\"&$C65&\"'\"&\"!\"&\"B3:H26\"),MATCH(R$1,INDIRECT(\"'\"&$C65&\"'\"&\"!\"&\"B3:B26\"),0),IF($D65=3,$D65+2,$D65+5))","v":0},{"$f":"INDEX(INDIRECT(\"'\"&$C65&\"'\"&\"!\"&\"B3:H26\"),MATCH(S$1,INDIRECT(\"'\"&$C65&\"'\"&\"!\"&\"B3:B26\"),0),IF($D65=3,$D65+2,$D65+5))","v":0},{"$f":"INDEX(INDIRECT(\"'\"&$C65&\"'\"&\"!\"&\"B3:H26\"),MATCH(T$1,INDIRECT(\"'\"&$C65&\"'\"&\"!\"&\"B3:B26\"),0),IF($D65=3,$D65+2,$D65+5))","v":0},{"$f":"INDEX(INDIRECT(\"'\"&$C65&\"'\"&\"!\"&\"B3:H26\"),MATCH(U$1,INDIRECT(\"'\"&$C65&\"'\"&\"!\"&\"B3:B26\"),0),IF($D65=3,$D65+2,$D65+5))","v":0},{"$f":"INDEX(INDIRECT(\"'\"&$C65&\"'\"&\"!\"&\"B3:H26\"),MATCH(V$1,INDIRECT(\"'\"&$C65&\"'\"&\"!\"&\"B3:B26\"),0),IF($D65=3,$D65+2,$D65+5))","v":0},{"$f":"INDEX(INDIRECT(\"'\"&$C65&\"'\"&\"!\"&\"B3:H26\"),MATCH(W$1,INDIRECT(\"'\"&$C65&\"'\"&\"!\"&\"B3:B26\"),0),IF($D65=3,$D65+2,$D65+5))","v":0},40]
[null,64,22,3,30,10,10,50,{"$f":"INDEX(INDIRECT(\"'\"&$C66&\"'\"&\"!\"&\"B3:H26\"),MATCH(I$1,INDIRECT(\"'\"&$C66&\"'\"&\"!\"&\"B3:B26\"),0),IF($D66=3,$D66+2,$D66+5))","v":20},{"$f":"INDEX(INDIRECT(\"'\"&$C66&\"'\"&\"!\"&\"B3:H26\"),MATCH(J$1,INDIRECT(\"'\"&$C66&\"'\"&\"!\"&\"B3:B26\"),0),IF($D66=3,$D66+2,$D66+5))","v":0},{"$f":"INDEX(INDIRECT(\"'\"&$C66&\"'\"&\"!\"&\"B3:H26\"),MATCH(K$1,INDIRECT(\"'\"&$C66&\"'\"&\"!\"&\"B3:B26\"),0),IF($D66=3,$D66+2,$D66+5))","v":0},{"$f":"INDEX(INDIRECT(\"'\"&$C66&\"'\"&\"!\"&\"B3:H26\"),MATCH(L$1,INDIRECT(\"'\"&$C66&\"'\"&\"!\"&\"B3:B26\"),0),IF($D66=3,$D66+2,$D66+5))","v":0},{"$f":"INDEX(INDIRECT(\"'\"&$C66&\"'\"&\"!\"&\"B3:H26\"),MATCH(M$1,INDIRECT(\"'\"&$C66&\"'\"&\"!\"&\"B3:B26\"),0),IF($D66=3,$D66+2,$D66+5))","v":0},{"$f":"INDEX(INDIRECT(\"'\"&$C66&\"'\"&\"!\"&\"B3:H26\"),MATCH(N$1,INDIRECT(\"'\"&$C66&\"'\"&\"!\"&\"B3:B26\"),0),IF($D66=3,$D66+2,$D66+5))","v":50},{"$f":"INDEX(INDIRECT(\"'\"&$C66&\"'\"&\"!\"&\"B3:H26\"),MATCH(O$1,INDIRECT(\"'\"&$C66&\"'\"&\"!\"&\"B3:B26\"),0),IF($D66=3,$D66+2,$D66+5))","v":0},{"$f":"INDEX(INDIRECT(\"'\"&$C66&\"'\"&\"!\"&\"B3:H26\"),MATCH(P$1,INDIRECT(\"'\"&$C66&\"'\"&\"!\"&\"B3:B26\"),0),IF($D66=3,$D66+2,$D66+5))","v":0},{"$f":"INDEX(INDIRECT(\"'\"&$C66&\"'\"&\"!\"&\"B3:H26\"),MATCH(Q$1,INDIRECT(\"'\"&$C66&\"'\"&\"!\"&\"B3:B26\"),0),IF($D66=3,$D66+2,$D66+5))","v":0},{"$f":"INDEX(INDIRECT(\"'\"&$C66&\"'\"&\"!\"&\"B3:H26\"),MATCH(R$1,INDIRECT(\"'\"&$C66&\"'\"&\"!\"&\"B3:B26\"),0),IF($D66=3,$D66+2,$D66+5))","v":0},{"$f":"INDEX(INDIRECT(\"'\"&$C66&\"'\"&\"!\"&\"B3:H26\"),MATCH(S$1,INDIRECT(\"'\"&$C66&\"'\"&\"!\"&\"B3:B26\"),0),IF($D66=3,$D66+2,$D66+5))","v":50},{"$f":"INDEX(INDIRECT(\"'\"&$C66&\"'\"&\"!\"&\"B3:H26\"),MATCH(T$1,INDIRECT(\"'\"&$C66&\"'\"&\"!\"&\"B3:B26\"),0),IF($D66=3,$D66+2,$D66+5))","v":0},{"$f":"INDEX(INDIRECT(\"'\"&$C66&\"'\"&\"!\"&\"B3:H26\"),MATCH(U$1,INDIRECT(\"'\"&$C66&\"'\"&\"!\"&\"B3:B26\"),0),IF($D66=3,$D66+2,$D66+5))","v":0},{"$f":"INDEX(INDIRECT(\"'\"&$C66&\"'\"&\"!\"&\"B3:H26\"),MATCH(V$1,INDIRECT(\"'\"&$C66&\"'\"&\"!\"&\"B3:B26\"),0),IF($D66=3,$D66+2,$D66+5))","v":0},{"$f":"INDEX(INDIRECT(\"'\"&$C66&\"'\"&\"!\"&\"B3:H26\"),MATCH(W$1,INDIRECT(\"'\"&$C66&\"'\"&\"!\"&\"B3:B26\"),0),IF($D66=3,$D66+2,$D66+5))","v":0},120]
[null,65,{"$f":"C66","v":22},1,30,10,10,50,{"$f":"INDEX(INDIRECT(\"'\"&$C67&\"'\"&\"!\"&\"B3:H26\"),MATCH(I$1,INDIRECT(\"'\"&$C67&\"'\"&\"!\"&\"B3:B26\"),0),IF($D67=3,$D67+2,$D67+5))","v":30},{"$f":"INDEX(INDIRECT(\"'\"&$C67&\"'\"&\"!\"&\"B3:H26\"),MATCH(J$1,INDIRECT(\"'\"&$C67&\"'\"&\"!\"&\"B3:B26\"),0),IF($D67=3,$D67+2,$D67+5))","v":0},{"$f":"INDEX(INDIRECT(\"'\"&$C67&\"'\"&\"!\"&\"B3:H26\"),MATCH(K$1,INDIRECT(\"'\"&$C67&\"'\"&\"!\"&\"B3:B26\"),0),IF($D67=3,$D67+2,$D67+5))","v":0},{"$f":"INDEX(INDIRECT(\"'\"&$C67&\"'\"&\"!\"&\"B3:H26\"),MATCH(L$1,INDIRECT(\"'\"&$C67&\"'\"&\"!\"&\"B3:B26\"),0),IF($D67=3,$D67+2,$D67+5))","v":0},{"$f":"INDEX(INDIRECT(\"'\"&$C67&\"'\"&\"!\"&\"B3:H26\"),MATCH(M$1,INDIRECT(\"'\"&$C67&\"'\"&\"!\"&\"B3:B26\"),0),IF($D67=3,$D67+2,$D67+5))","v":0},{"$f":"INDEX(INDIRECT(\"'\"&$C67&\"'\"&\"!\"&\"B3:H26\"),MATCH(N$1,INDIRECT(\"'\"&$C67&\"'\"&\"!\"&\"B3:B26\"),0),IF($D67=3,$D67+2,$D67+5))","v":0},{"$f":"INDEX(INDIRECT(\"'\"&$C67&\"'\"&\"!\"&\"B3:H26\"),MATCH(O$1,INDIRECT(\"'\"&$C67&\"'\"&\"!\"&\"B3:B26\"),0),IF($D67=3,$D67+2,$D67+5))","v":0},{"$f":"INDEX(INDIRECT(\"'\"&$C67&\"'\"&\"!\"&\"B3:H26\"),MATCH(P$1,INDIRECT(\"'\"&$C67&\"'\"&\"!\"&\"B3:B26\"),0),IF($D67=3,$D67+2,$D67+5))","v":0},{"$f":"INDEX(INDIRECT(\"'\"&$C67&\"'\"&\"!\"&\"B3:H26\"),MATCH(Q$1,INDIRECT(\"'\"&$C67&\"'\"&\"!\"&\"B3:B26\"),0),IF($D67=3,$D67+2,$D67+5))","v":0},{"$f":"INDEX(INDIRECT(\"'\"&$C67&\"'\"&\"!\"&\"B3:H26\"),MATCH(R$1,INDIRECT(\"'\"&$C67&\"'\"&\"!\"&\"B3:B26\"),0),IF($D67=3,$D67+2,$D67+5))","v":0},{"$f":"INDEX(INDIRECT(\"'\"&$C67&\"'\"&\"!\"&\"B3:H26\"),MATCH(S$1,INDIRECT(\"'\"&$C67&\"'\"&\"!\"&\"B3:B26\"),0),IF($D67=3,$D67+2,$D67+5))","v":0},{"$f":"INDEX(INDIRECT(\"'\"&$C67&\"'\"&\"!\"&\"B3:H26\"),MATCH(T$1,INDIRECT(\"'\"&$C67&\"'\"&\"!\"&\"B3:B26\"),0),IF($D67=3,$D67+2,$D67+5))","v":0},{"$f":"INDEX(INDIRECT(\"'\"&$C67&\"'\"&\"!\"&\"B3:H26\"),MATCH(U$1,INDIRECT(\"'\"&$C67&\"'\"&\"!\"&\"B3:B26\"),0),IF($D67=3,$D67+2,$D67+5))","v":0},{"$f":"INDEX(INDIRECT(\"'\"&$C67&\"'\"&\"!\"&\"B3:H26\"),MATCH(V$1,INDIRECT(\"'\"&$C67&\"'\"&\"!\"&\"B3:B26\"),0),IF($D67=3,$D67+2,$D67+5))","v":0},{"$f":"INDEX(INDIRECT(\"'\"&$C67&\"'\"&\"!\"&\"B3:H26\"),MATCH(W$1,INDIRECT(\"'\"&$C67&\"'\"&\"!\"&\"B3:B26\"),0),IF($D67=3,$D67+2,$D67+5))","v":0},30]
[null,66,22,2,30,10,10,50,{"$f":"INDEX(INDIRECT(\"'\"&$C68&\"'\"&\"!\"&\"B3:H26\"),MATCH(I$1,INDIRECT(\"'\"&$C68&\"'\"&\"!\"&\"B3:B26\"),0),IF($D68=3,$D68+2,$D68+5))","v":40},{"$f":"INDEX(INDIRECT(\"'\"&$C68&\"'\"&\"!\"&\"B3:H26\"),MATCH(J$1,INDIRECT(\"'\"&$C68&\"'\"&\"!\"&\"B3:B26\"),0),IF($D68=3,$D68+2,$D68+5))","v":0},{"$f":"INDEX(INDIRECT(\"'\"&$C68&\"'\"&\"!\"&\"B3:H26\"),MATCH(K$1,INDIRECT(\"'\"&$C68&\"'\"&\"!\"&\"B3:B26\"),0),IF($D68=3,$D68+2,$D68+5))","v":0},{"$f":"INDEX(INDIRECT(\"'\"&$C68&\"'\"&\"!\"&\"B3:H26\"),MATCH(L$1,INDIRECT(\"'\"&$C68&\"'\"&\"!\"&\"B3:B26\"),0),IF($D68=3,$D68+2,$D68+5))","v":0},{"$f":"INDEX(INDIRECT(\"'\"&$C68&\"'\"&\"!\"&\"B3:H26\"),MATCH(M$1,INDIRECT(\"'\"&$C68&\"'\"&\"!\"&\"B3:B26\"),0),IF($D68=3,$D68+2,$D68+5))","v":0},{"$f":"INDEX(INDIRECT(\"'\"&$C68&\"'\"&\"!\"&\"B3:H26\"),MATCH(N$1,INDIRECT(\"'\"&$C68&\"'\"&\"!\"&\"B3:B26\"),0),IF($D68=3,$D68+2,$D68+5))","v":0},{"$f":"INDEX(INDIRECT(\"'\"&$C68&\"'\"&\"!\"&\"B3:H26\"),MATCH(O$1,INDIRECT(\"'\"&$C68&\"'\"&\"!\"&\"B3:B26\"),0),IF($D68=3,$D68+2,$D68+5))","v":0},{"$f":"INDEX(INDIRECT(\"'\"&$C68&\"'\"&\"!\"&\"B3:H26\"),MATCH(P$1,INDIRECT(\"'\"&$C68&\"'\"&\"!\"&\"B3:B26\"),0),IF($D68=3,$D68+2,$D68+5))","v":0},{"$f":"INDEX(INDIRECT(\"'\"&$C68&\"'\"&\"!\"&\"B3:H26\"),MATCH(Q$1,INDIRECT(\"'\"&$C68&\"'\"&\"!\"&\"B3:B26\"),0),IF($D68=3,$D68+2,$D68+5))","v":0},{"$f":"INDEX(INDIRECT(\"'\"&$C68&\"'\"&\"!\"&\"B3:H26\"),MATCH(R$1,INDIRECT(\"'\"&$C68&\"'\"&\"!\"&\"B3:B26\"),0),IF($D68=3,$D68+2,$D68+5))","v":0},{"$f":"INDEX(INDIRECT(\"'\"&$C68&\"'\"&\"!\"&\"B3:H26\"),MATCH(S$1,INDIRECT(\"'\"&$C68&\"'\"&\"!\"&\"B3:B26\"),0),IF($D68=3,$D68+2,$D68+5))","v":0},{"$f":"INDEX(INDIRECT(\"'\"&$C68&\"'\"&\"!\"&\"B3:H26\"),MATCH(T$1,INDIRECT(\"'\"&$C68&\"'\"&\"!\"&\"B3:B26\"),0),IF($D68=3,$D68+2,$D68+5))","v":0},{"$f":"INDEX(INDIRECT(\"'\"&$C68&\"'\"&\"!\"&\"B3:H26\"),MATCH(U$1,INDIRECT(\"'\"&$C68&\"'\"&\"!\"&\"B3:B26\"),0),IF($D68=3,$D68+2,$D68+5))","v":0},{"$f":"INDEX(INDIRECT(\"'\"&$C68&\"'\"&\"!\"&\"B3:H26\"),MATCH(V$1,INDIRECT(\"'\"&$C68&\"'\"&\"!\"&\"B3:B26\"),0),IF($D68=3,$D68+2,$D68+5))","v":0},{"$f":"INDEX(INDIRECT(\"'\"&$C68&\"'\"&\"!\"&\"B3:H26\"),MATCH(W$1,INDIRECT(\"'\"&$C68&\"'\"&\"!\"&\"B3:B26\"),0),IF($D68=3,$D68+2,$D68+5))","v":0},40]
[null,67,23,3,30,10,10,50,{"$f":"INDEX(INDIRECT(\"'\"&$C69&\"'\"&\"!\"&\"B3:H26\"),MATCH(I$1,INDIRECT(\"'\"&$C69&\"'\"&\"!\"&\"B3:B26\"),0),IF($D69=3,$D69+2,$D69+5))","v":20},{"$f":"INDEX(INDIRECT(\"'\"&$C69&\"'\"&\"!\"&\"B3:H26\"),MATCH(J$1,INDIRECT(\"'\"&$C69&\"'\"&\"!\"&\"B3:B26\"),0),IF($D69=3,$D69+2,$D69+5))","v":0},{"$f":"INDEX(INDIRECT(\"'\"&$C69&\"'\"&\"!\"&\"B3:H26\"),MATCH(K$1,INDIRECT(\"'\"&$C69&\"'\"&\"!\"&\"B3:B26\"),0),IF($D69=3,$D69+2,$D69+5))","v":0},{"$f":"INDEX(INDIRECT(\"'\"&$C69&\"'\"&\"!\"&\"B3:H26\"),MATCH(L$1,INDIRECT(\"'\"&$C69&\"'\"&\"!\"&\"B3:B26\"),0),IF($D69=3,$D69+2,$D69+5))","v":0},{"$f":"INDEX(INDIRECT(\"'\"&$C69&\"'\"&\"!\"&\"B3:H26\"),MATCH(M$1,INDIRECT(\"'\"&$C69&\"'\"&\"!\"&\"B3:B26\"),0),IF($D69=3,$D69+2,$D69+5))","v":0},{"$f":"INDEX(INDIRECT(\"'\"&$C69&\"'\"&\"!\"&\"B3:H26\"),MATCH(N$1,INDIRECT(\"'\"&$C69&\"'\"&\"!\"&\"B3:B26\"),0),IF($D69=3,$D69+2,$D69+5))","v":50},{"$f":"INDEX(INDIRECT(\"'\"&$C69&\"'\"&\"!\"&\"B3:H26\"),MATCH(O$1,INDIRECT(\"'\"&$C69&\"'\"&\"!\"&\"B3:B26\"),0),IF($D69=3,$D69+2,$D69+5))","v":0},{"$f":"INDEX(INDIRECT(\"'\"&$C69&\"'\"&\"!\"&\"B3:H26\"),MATCH(P$1,INDIRECT(\"'\"&$C69&\"'\"&\"!\"&\"B3:B26\"),0),IF($D69=3,$D69+2,$D69+5))","v":0},{"$f":"INDEX(INDIRECT(\"'\"&$C69&\"'\"&\"!\"&\"B3:H26\"),MATCH(Q$1,INDIRECT(\"'\"&$C69&\"'\"&\"!\"&\"B3:B26\"),0),IF($D69=3,$D69+2,$D69+5))","v":0},{"$f":"INDEX(INDIRECT(\"'\"&$C69&\"'\"&\"!\"&\"B3:H26\"),MATCH(R$1,INDIRECT(\"'\"&$C69&\"'\"&\"!\"&\"B3:B26\"),0),IF($D69=3,$D69+2,$D69+5))","v":0},{"$f":"INDEX(INDIRECT(\"'\"&$C69&\"'\"&\"!\"&\"B3:H26\"),MATCH(S$1,INDIRECT(\"'\"&$C69&\"'\"&\"!\"&\"B3:B26\"),0),IF($D69=3,$D69+2,$D69+5))","v":50},{"$f":"INDEX(INDIRECT(\"'\"&$C69&\"'\"&\"!\"&\"B3:H26\"),MATCH(T$1,INDIRECT(\"'\"&$C69&\"'\"&\"!\"&\"B3:B26\"),0),IF($D69=3,$D69+2,$D69+5))","v":0},{"$f":"INDEX(INDIRECT(\"'\"&$C69&\"'\"&\"!\"&\"B3:H26\"),MATCH(U$1,INDIRECT(\"'\"&$C69&\"'\"&\"!\"&\"B3:B26\"),0),IF($D69=3,$D69+2,$D69+5))","v":0},{"$f":"INDEX(INDIRECT(\"'\"&$C69&\"'\"&\"!\"&\"B3:H26\"),MATCH(V$1,INDIRECT(\"'\"&$C69&\"'\"&\"!\"&\"B3:B26\"),0),IF($D69=3,$D69+2,$D69+5))","v":0},{"$f":"INDEX(INDIRECT(\"'\"&$C69&\"'\"&\"!\"&\"B3:H26\"),MATCH(W$1,INDIRECT(\"'\"&$C69&\"'\"&\"!\"&\"B3:B26\"),0),IF($D69=3,$D69+2,$D69+5))","v":0},120]
[null,68,{"$f":"C69","v":23},1,30,10,10,50,{"$f":"INDEX(INDIRECT(\"'\"&$C70&\"'\"&\"!\"&\"B3:H26\"),MATCH(I$1,INDIRECT(\"'\"&$C70&\"'\"&\"!\"&\"B3:B26\"),0),IF($D70=3,$D70+2,$D70+5))","v":30},{"$f":"INDEX(INDIRECT(\"'\"&$C70&\"'\"&\"!\"&\"B3:H26\"),MATCH(J$1,INDIRECT(\"'\"&$C70&\"'\"&\"!\"&\"B3:B26\"),0),IF($D70=3,$D70+2,$D70+5))","v":0},{"$f":"INDEX(INDIRECT(\"'\"&$C70&\"'\"&\"!\"&\"B3:H26\"),MATCH(K$1,INDIRECT(\"'\"&$C70&\"'\"&\"!\"&\"B3:B26\"),0),IF($D70=3,$D70+2,$D70+5))","v":0},{"$f":"INDEX(INDIRECT(\"'\"&$C70&\"'\"&\"!\"&\"B3:H26\"),MATCH(L$1,INDIRECT(\"'\"&$C70&\"'\"&\"!\"&\"B3:B26\"),0),IF($D70=3,$D70+2,$D70+5))","v":0},{"$f":"INDEX(INDIRECT(\"'\"&$C70&\"'\"&\"!\"&\"B3:H26\"),MATCH(M$1,INDIRECT(\"'\"&$C70&\"'\"&\"!\"&\"B3:B26\"),0),IF($D70=3,$D70+2,$D70+5))","v":0},{"$f":"INDEX(INDIRECT(\"'\"&$C70&\"'\"&\"!\"&\"B3:H26\"),MATCH(N$1,INDIRECT(\"'\"&$C70&\"'\"&\"!\"&\"B3:B26\"),0),IF($D70=3,$D70+2,$D70+5))","v":0},{"$f":"INDEX(INDIRECT(\"'\"&$C70&\"'\"&\"!\"&\"B3:H26\"),MATCH(O$1,INDIRECT(\"'\"&$C70&\"'\"&\"!\"&\"B3:B26\"),0),IF($D70=3,$D70+2,$D70+5))","v":0},{"$f":"INDEX(INDIRECT(\"'\"&$C70&\"'\"&\"!\"&\"B3:H26\"),MATCH(P$1,INDIRECT(\"'\"&$C70&\"'\"&\"!\"&\"B3:B26\"),0),IF($D70=3,$D70+2,$D70+5))","v":0},{"$f":"INDEX(INDIRECT(\"'\"&$C70&\"'\"&\"!\"&\"B3:H26\"),MATCH(Q$1,INDIRECT(\"'\"&$C70&\"'\"&\"!\"&\"B3:B26\"),0),IF($D70=3,$D70+2,$D70+5))","v":0},{"$f":"INDEX(INDIRECT(\"'\"&$C70&\"'\"&\"!\"&\"B3:H26\"),MATCH(R$1,INDIRECT(\"'\"&$C70&\"'\"&\"!\"&\"B3:B26\"),0),IF($D70=3,$D70+2,$D70+5))","v":0},{"$f":"INDEX(INDIRECT(\"'\"&$C70&\"'\"&\"!\"&\"B3:H26\"),MATCH(S$1,INDIRECT(\"'\"&$C70&\"'\"&\"!\"&\"B3:B26\"),0),IF($D70=3,$D70+2,$D70+5))","v":0},{"$f":"INDEX(INDIRECT(\"'\"&$C70&\"'\"&\"!\"&\"B3:H26\"),MATCH(T$1,INDIRECT(\"'\"&$C70&\"'\"&\"!\"&\"B3:B26\"),0),IF($D70=3,$D70+2,$D70+5))","v":0},{"$f":"INDEX(INDIRECT(\"'\"&$C70&\"'\"&\"!\"&\"B3:H26\"),MATCH(U$1,INDIRECT(\"'\"&$C70&\"'\"&\"!\"&\"B3:B26\"),0),IF($D70=3,$D70+2,$D70+5))","v":0},{"$f":"INDEX(INDIRECT(\"'\"&$C70&\"'\"&\"!\"&\"B3:H26\"),MATCH(V$1,INDIRECT(\"'\"&$C70&\"'\"&\"!\"&\"B3:B26\"),0),IF($D70=3,$D70+2,$D70+5))","v":0},{"$f":"INDEX(INDIRECT(\"'\"&$C70&\"'\"&\"!\"&\"B3:H26\"),MATCH(W$1,INDIRECT(\"'\"&$C70&\"'\"&\"!\"&\"B3:B26\"),0),IF($D70=3,$D70+2,$D70+5))","v":0},30]
[null,69,23,2,30,10,10,50,{"$f":"INDEX(INDIRECT(\"'\"&$C71&\"'\"&\"!\"&\"B3:H26\"),MATCH(I$1,INDIRECT(\"'\"&$C71&\"'\"&\"!\"&\"B3:B26\"),0),IF($D71=3,$D71+2,$D71+5))","v":40},{"$f":"INDEX(INDIRECT(\"'\"&$C71&\"'\"&\"!\"&\"B3:H26\"),MATCH(J$1,INDIRECT(\"'\"&$C71&\"'\"&\"!\"&\"B3:B26\"),0),IF($D71=3,$D71+2,$D71+5))","v":0},{"$f":"INDEX(INDIRECT(\"'\"&$C71&\"'\"&\"!\"&\"B3:H26\"),MATCH(K$1,INDIRECT(\"'\"&$C71&\"'\"&\"!\"&\"B3:B26\"),0),IF($D71=3,$D71+2,$D71+5))","v":0},{"$f":"INDEX(INDIRECT(\"'\"&$C71&\"'\"&\"!\"&\"B3:H26\"),MATCH(L$1,INDIRECT(\"'\"&$C71&\"'\"&\"!\"&\"B3:B26\"),0),IF($D71=3,$D71+2,$D71+5))","v":0},{"$f":"INDEX(INDIRECT(\"'\"&$C71&\"'\"&\"!\"&\"B3:H26\"),MATCH(M$1,INDIRECT(\"'\"&$C71&\"'\"&\"!\"&\"B3:B26\"),0),IF($D71=3,$D71+2,$D71+5))","v":0},{"$f":"INDEX(INDIRECT(\"'\"&$C71&\"'\"&\"!\"&\"B3:H26\"),MATCH(N$1,INDIRECT(\"'\"&$C71&\"'\"&\"!\"&\"B3:B26\"),0),IF($D71=3,$D71+2,$D71+5))","v":0},{"$f":"INDEX(INDIRECT(\"'\"&$C71&\"'\"&\"!\"&\"B3:H26\"),MATCH(O$1,INDIRECT(\"'\"&$C71&\"'\"&\"!\"&\"B3:B26\"),0),IF($D71=3,$D71+2,$D71+5))","v":0},{"$f":"INDEX(INDIRECT(\"'\"&$C71&\"'\"&\"!\"&\"B3:H26\"),MATCH(P$1,INDIRECT(\"'\"&$C71&\"'\"&\"!\"&\"B3:B26\"),0),IF($D71=3,$D71+2,$D71+5))","v":0},{"$f":"INDEX(INDIRECT(\"'\"&$C71&\"'\"&\"!\"&\"B3:H26\"),MATCH(Q$1,INDIRECT(\"'\"&$C71&\"'\"&\"!\"&\"B3:B26\"),0),IF($D71=3,$D71+2,$D71+5))","v":0},{"$f":"INDEX(INDIRECT(\"'\"&$C71&\"'\"&\"!\"&\"B3:H26\"),MATCH(R$1,INDIRECT(\"'\"&$C71&\"'\"&\"!\"&\"B3:B26\"),0),IF($D71=3,$D71+2,$D71+5))","v":0},{"$f":"INDEX(INDIRECT(\"'\"&$C71&\"'\"&\"!\"&\"B3:H26\"),MATCH(S$1,INDIRECT(\"'\"&$C71&\"'\"&\"!\"&\"B3:B26\"),0),IF($D71=3,$D71+2,$D71+5))","v":0},{"$f":"INDEX(INDIRECT(\"'\"&$C71&\"'\"&\"!\"&\"B3:H26\"),MATCH(T$1,INDIRECT(\"'\"&$C71&\"'\"&\"!\"&\"B3:B26\"),0),IF($D71=3,$D71+2,$D71+5))","v":0},{"$f":"INDEX(INDIRECT(\"'\"&$C71&\"'\"&\"!\"&\"B3:H26\"),MATCH(U$1,INDIRECT(\"'\"&$C71&\"'\"&\"!\"&\"B3:B26\"),0),IF($D71=3,$D71+2,$D71+5))","v":0},{"$f":"INDEX(INDIRECT(\"'\"&$C71&\"'\"&\"!\"&\"B3:H26\"),MATCH(V$1,INDIRECT(\"'\"&$C71&\"'\"&\"!\"&\"B3:B26\"),0),IF($D71=3,$D71+2,$D71+5))","v":0},{"$f":"INDEX(INDIRECT(\"'\"&$C71&\"'\"&\"!\"&\"B3:H26\"),MATCH(W$1,INDIRECT(\"'\"&$C71&\"'\"&\"!\"&\"B3:B26\"),0),IF($D71=3,$D71+2,$D71+5))","v":0},40]
[null,70,24,3,30,10,10,50,{"$f":"INDEX(INDIRECT(\"'\"&$C72&\"'\"&\"!\"&\"B3:H26\"),MATCH(I$1,INDIRECT(\"'\"&$C72&\"'\"&\"!\"&\"B3:B26\"),0),IF($D72=3,$D72+2,$D72+5))","v":20},{"$f":"INDEX(INDIRECT(\"'\"&$C72&\"'\"&\"!\"&\"B3:H26\"),MATCH(J$1,INDIRECT(\"'\"&$C72&\"'\"&\"!\"&\"B3:B26\"),0),IF($D72=3,$D72+2,$D72+5))","v":0},{"$f":"INDEX(INDIRECT(\"'\"&$C72&\"'\"&\"!\"&\"B3:H26\"),MATCH(K$1,INDIRECT(\"'\"&$C72&\"'\"&\"!\"&\"B3:B26\"),0),IF($D72=3,$D72+2,$D72+5))","v":0},{"$f":"INDEX(INDIRECT(\"'\"&$C72&\"'\"&\"!\"&\"B3:H26\"),MATCH(L$1,INDIRECT(\"'\"&$C72&\"'\"&\"!\"&\"B3:B26\"),0),IF($D72=3,$D72+2,$D72+5))","v":0},{"$f":"INDEX(INDIRECT(\"'\"&$C72&\"'\"&\"!\"&\"B3:H26\"),MATCH(M$1,INDIRECT(\"'\"&$C72&\"'\"&\"!\"&\"B3:B26\"),0),IF($D72=3,$D72+2,$D72+5))","v":0},{"$f":"INDEX(INDIRECT(\"'\"&$C72&\"'\"&\"!\"&\"B3:H26\"),MATCH(N$1,INDIRECT(\"'\"&$C72&\"'\"&\"!\"&\"B3:B26\"),0),IF($D72=3,$D72+2,$D72+5))","v":50},{"$f":"INDEX(INDIRECT(\"'\"&$C72&\"'\"&\"!\"&\"B3:H26\"),MATCH(O$1,INDIRECT(\"'\"&$C72&\"'\"&\"!\"&\"B3:B26\"),0),IF($D72=3,$D72+2,$D72+5))","v":0},{"$f":"INDEX(INDIRECT(\"'\"&$C72&\"'\"&\"!\"&\"B3:H26\"),MATCH(P$1,INDIRECT(\"'\"&$C72&\"'\"&\"!\"&\"B3:B26\"),0),IF($D72=3,$D72+2,$D72+5))","v":0},{"$f":"INDEX(INDIRECT(\"'\"&$C72&\"'\"&\"!\"&\"B3:H26\"),MATCH(Q$1,INDIRECT(\"'\"&$C72&\"'\"&\"!\"&\"B3:B26\"),0),IF($D72=3,$D72+2,$D72+5))","v":0},{"$f":"INDEX(INDIRECT(\"'\"&$C72&\"'\"&\"!\"&\"B3:H26\"),MATCH(R$1,INDIRECT(\"'\"&$C72&\"'\"&\"!\"&\"B3:B26\"),0),IF($D72=3,$D72+2,$D72+5))","v":0},{"$f":"INDEX(INDIRECT(\"'\"&$C72&\"'\"&\"!\"&\"B3:H26\"),MATCH(S$1,INDIRECT(\"'\"&$C72&\"'\"&\"!\"&\"B3:B26\"),0),IF($D72=3,$D72+2,$D72+5))","v":50},{"$f":"INDEX(INDIRECT(\"'\"&$C72&\"'\"&\"!\"&\"B3:H26\"),MATCH(T$1,INDIRECT(\"'\"&$C72&\"'\"&\"!\"&\"B3:B26\"),0),IF($D72=3,$D72+2,$D72+5))","v":0},{"$f":"INDEX(INDIRECT(\"'\"&$C72&\"'\"&\"!\"&\"B3:H26\"),MATCH(U$1,INDIRECT(\"'\"&$C72&\"'\"&\"!\"&\"B3:B26\"),0),IF($D72=3,$D72+2,$D72+5))","v":0},{"$f":"INDEX(INDIRECT(\"'\"&$C72&\"'\"&\"!\"&\"B3:H26\"),MATCH(V$1,INDIRECT(\"'\"&$C72&\"'\"&\"!\"&\"B3:B26\"),0),IF($D72=3,$D72+2,$D72+5))","v":0},{"$f":"INDEX(INDIRECT(\"'\"&$C72&\"'\"&\"!\"&\"B3:H26\"),MATCH(W$1,INDIRECT(\"'\"&$C72&\"'\"&\"!\"&\"B3:B26\"),0),IF($D72=3,$D72+2,$D72+5))","v":0},120]
[null,71,{"$f":"C72","v":24},1,30,10,10,50,{"$f":"INDEX(INDIRECT(\"'\"&$C73&\"'\"&\"!\"&\"B3:H26\"),MATCH(I$1,INDIRECT(\"'\"&$C73&\"'\"&\"!\"&\"B3:B26\"),0),IF($D73=3,$D73+2,$D73+5))","v":30},{"$f":"INDEX(INDIRECT(\"'\"&$C73&\"'\"&\"!\"&\"B3:H26\"),MATCH(J$1,INDIRECT(\"'\"&$C73&\"'\"&\"!\"&\"B3:B26\"),0),IF($D73=3,$D73+2,$D73+5))","v":0},{"$f":"INDEX(INDIRECT(\"'\"&$C73&\"'\"&\"!\"&\"B3:H26\"),MATCH(K$1,INDIRECT(\"'\"&$C73&\"'\"&\"!\"&\"B3:B26\"),0),IF($D73=3,$D73+2,$D73+5))","v":0},{"$f":"INDEX(INDIRECT(\"'\"&$C73&\"'\"&\"!\"&\"B3:H26\"),MATCH(L$1,INDIRECT(\"'\"&$C73&\"'\"&\"!\"&\"B3:B26\"),0),IF($D73=3,$D73+2,$D73+5))","v":0},{"$f":"INDEX(INDIRECT(\"'\"&$C73&\"'\"&\"!\"&\"B3:H26\"),MATCH(M$1,INDIRECT(\"'\"&$C73&\"'\"&\"!\"&\"B3:B26\"),0),IF($D73=3,$D73+2,$D73+5))","v":0},{"$f":"INDEX(INDIRECT(\"'\"&$C73&\"'\"&\"!\"&\"B3:H26\"),MATCH(N$1,INDIRECT(\"'\"&$C73&\"'\"&\"!\"&\"B3:B26\"),0),IF($D73=3,$D73+2,$D73+5))","v":0},{"$f":"INDEX(INDIRECT(\"'\"&$C73&\"'\"&\"!\"&\"B3:H26\"),MATCH(O$1,INDIRECT(\"'\"&$C73&\"'\"&\"!\"&\"B3:B26\"),0),IF($D73=3,$D73+2,$D73+5))","v":0},{"$f":"INDEX(INDIRECT(\"'\"&$C73&\"'\"&\"!\"&\"B3:H26\"),MATCH(P$1,INDIRECT(\"'\"&$C73&\"'\"&\"!\"&\"B3:B26\"),0),IF($D73=3,$D73+2,$D73+5))","v":0},{"$f":"INDEX(INDIRECT(\"'\"&$C73&\"'\"&\"!\"&\"B3:H26\"),MATCH(Q$1,INDIRECT(\"'\"&$C73&\"'\"&\"!\"&\"B3:B26\"),0),IF($D73=3,$D73+2,$D73+5))","v":0},{"$f":"INDEX(INDIRECT(\"'\"&$C73&\"'\"&\"!\"&\"B3:H26\"),MATCH(R$1,INDIRECT(\"'\"&$C73&\"'\"&\"!\"&\"B3:B26\"),0),IF($D73=3,$D73+2,$D73+5))","v":0},{"$f":"INDEX(INDIRECT(\"'\"&$C73&\"'\"&\"!\"&\"B3:H26\"),MATCH(S$1,INDIRECT(\"'\"&$C73&\"'\"&\"!\"&\"B3:B26\"),0),IF($D73=3,$D73+2,$D73+5))","v":0},{"$f":"INDEX(INDIRECT(\"'\"&$C73&\"'\"&\"!\"&\"B3:H26\"),MATCH(T$1,INDIRECT(\"'\"&$C73&\"'\"&\"!\"&\"B3:B26\"),0),IF($D73=3,$D73+2,$D73+5))","v":0},{"$f":"INDEX(INDIRECT(\"'\"&$C73&\"'\"&\"!\"&\"B3:H26\"),MATCH(U$1,INDIRECT(\"'\"&$C73&\"'\"&\"!\"&\"B3:B26\"),0),IF($D73=3,$D73+2,$D73+5))","v":0},{"$f":"INDEX(INDIRECT(\"'\"&$C73&\"'\"&\"!\"&\"B3:H26\"),MATCH(V$1,INDIRECT(\"'\"&$C73&\"'\"&\"!\"&\"B3:B26\"),0),IF($D73=3,$D73+2,$D73+5))","v":0},{"$f":"INDEX(INDIRECT(\"'\"&$C73&\"'\"&\"!\"&\"B3:H26\"),MATCH(W$1,INDIRECT(\"'\"&$C73&\"'\"&\"!\"&\"B3:B26\"),0),IF($D73=3,$D73+2,$D73+5))","v":0},30]
[null,72,24,2,30,10,10,50,{"$f":"INDEX(INDIRECT(\"'\"&$C74&\"'\"&\"!\"&\"B3:H26\"),MATCH(I$1,INDIRECT(\"'\"&$C74&\"'\"&\"!\"&\"B3:B26\"),0),IF($D74=3,$D74+2,$D74+5))","v":40},{"$f":"INDEX(INDIRECT(\"'\"&$C74&\"'\"&\"!\"&\"B3:H26\"),MATCH(J$1,INDIRECT(\"'\"&$C74&\"'\"&\"!\"&\"B3:B26\"),0),IF($D74=3,$D74+2,$D74+5))","v":0},{"$f":"INDEX(INDIRECT(\"'\"&$C74&\"'\"&\"!\"&\"B3:H26\"),MATCH(K$1,INDIRECT(\"'\"&$C74&\"'\"&\"!\"&\"B3:B26\"),0),IF($D74=3,$D74+2,$D74+5))","v":0},{"$f":"INDEX(INDIRECT(\"'\"&$C74&\"'\"&\"!\"&\"B3:H26\"),MATCH(L$1,INDIRECT(\"'\"&$C74&\"'\"&\"!\"&\"B3:B26\"),0),IF($D74=3,$D74+2,$D74+5))","v":0},{"$f":"INDEX(INDIRECT(\"'\"&$C74&\"'\"&\"!\"&\"B3:H26\"),MATCH(M$1,INDIRECT(\"'\"&$C74&\"'\"&\"!\"&\"B3:B26\"),0),IF($D74=3,$D74+2,$D74+5))","v":0},{"$f":"INDEX(INDIRECT(\"'\"&$C74&\"'\"&\"!\"&\"B3:H26\"),MATCH(N$1,INDIRECT(\"'\"&$C74&\"'\"&\"!\"&\"B3:B26\"),0),IF($D74=3,$D74+2,$D74+5))","v":0},{"$f":"INDEX(INDIRECT(\"'\"&$C74&\"'\"&\"!\"&\"B3:H26\"),MATCH(O$1,INDIRECT(\"'\"&$C74&\"'\"&\"!\"&\"B3:B26\"),0),IF($D74=3,$D74+2,$D74+5))","v":0},{"$f":"INDEX(INDIRECT(\"'\"&$C74&\"'\"&\"!\"&\"B3:H26\"),MATCH(P$1,INDIRECT(\"'\"&$C74&\"'\"&\"!\"&\"B3:B26\"),0),IF($D74=3,$D74+2,$D74+5))","v":0},{"$f":"INDEX(INDIRECT(\"'\"&$C74&\"'\"&\"!\"&\"B3:H26\"),MATCH(Q$1,INDIRECT(\"'\"&$C74&\"'\"&\"!\"&\"B3:B26\"),0),IF($D74=3,$D74+2,$D74+5))","v":0},{"$f":"INDEX(INDIRECT(\"'\"&$C74&\"'\"&\"!\"&\"B3:H26\"),MATCH(R$1,INDIRECT(\"'\"&$C74&\"'\"&\"!\"&\"B3:B26\"),0),IF($D74=3,$D74+2,$D74+5))","v":0},{"$f":"INDEX(INDIRECT(\"'\"&$C74&\"'\"&\"!\"&\"B3:H26\"),MATCH(S$1,INDIRECT(\"'\"&$C74&\"'\"&\"!\"&\"B3:B26\"),0),IF($D74=3,$D74+2,$D74+5))","v":0},{"$f":"INDEX(INDIRECT(\"'\"&$C74&\"'\"&\"!\"&\"B3:H26\"),MATCH(T$1,INDIRECT(\"'\"&$C74&\"'\"&\"!\"&\"B3:B26\"),0),IF($D74=3,$D74+2,$D74+5))","v":0},{"$f":"INDEX(INDIRECT(\"'\"&$C74&\"'\"&\"!\"&\"B3:H26\"),MATCH(U$1,INDIRECT(\"'\"&$C74&\"'\"&\"!\"&\"B3:B26\"),0),IF($D74=3,$D74+2,$D74+5))","v":0},{"$f":"INDEX(INDIRECT(\"'\"&$C74&\"'\"&\"!\"&\"B3:H26\"),MATCH(V$1,INDIRECT(\"'\"&$C74&\"'\"&\"!\"&\"B3:B26\"),0),IF($D74=3,$D74+2,$D74+5))","v":0},{"$f":"INDEX(INDIRECT(\"'\"&$C74&\"'\"&\"!\"&\"B3:H26\"),MATCH(W$1,INDIRECT(\"'\"&$C74&\"'\"&\"!\"&\"B3:B26\"),0),IF($D74=3,$D74+2,$D74+5))","v":0},40]
[null,73,25,3,30,10,10,50,{"$f":"INDEX(INDIRECT(\"'\"&$C75&\"'\"&\"!\"&\"B3:H26\"),MATCH(I$1,INDIRECT(\"'\"&$C75&\"'\"&\"!\"&\"B3:B26\"),0),IF($D75=3,$D75+2,$D75+5))","v":20},{"$f":"INDEX(INDIRECT(\"'\"&$C75&\"'\"&\"!\"&\"B3:H26\"),MATCH(J$1,INDIRECT(\"'\"&$C75&\"'\"&\"!\"&\"B3:B26\"),0),IF($D75=3,$D75+2,$D75+5))","v":0},{"$f":"INDEX(INDIRECT(\"'\"&$C75&\"'\"&\"!\"&\"B3:H26\"),MATCH(K$1,INDIRECT(\"'\"&$C75&\"'\"&\"!\"&\"B3:B26\"),0),IF($D75=3,$D75+2,$D75+5))","v":0},{"$f":"INDEX(INDIRECT(\"'\"&$C75&\"'\"&\"!\"&\"B3:H26\"),MATCH(L$1,INDIRECT(\"'\"&$C75&\"'\"&\"!\"&\"B3:B26\"),0),IF($D75=3,$D75+2,$D75+5))","v":0},{"$f":"INDEX(INDIRECT(\"'\"&$C75&\"'\"&\"!\"&\"B3:H26\"),MATCH(M$1,INDIRECT(\"'\"&$C75&\"'\"&\"!\"&\"B3:B26\"),0),IF($D75=3,$D75+2,$D75+5))","v":0},{"$f":"INDEX(INDIRECT(\"'\"&$C75&\"'\"&\"!\"&\"B3:H26\"),MATCH(N$1,INDIRECT(\"'\"&$C75&\"'\"&\"!\"&\"B3:B26\"),0),IF($D75=3,$D75+2,$D75+5))","v":50},{"$f":"INDEX(INDIRECT(\"'\"&$C75&\"'\"&\"!\"&\"B3:H26\"),MATCH(O$1,INDIRECT(\"'\"&$C75&\"'\"&\"!\"&\"B3:B26\"),0),IF($D75=3,$D75+2,$D75+5))","v":0},{"$f":"INDEX(INDIRECT(\"'\"&$C75&\"'\"&\"!\"&\"B3:H26\"),MATCH(P$1,INDIRECT(\"'\"&$C75&\"'\"&\"!\"&\"B3:B26\"),0),IF($D75=3,$D75+2,$D75+5))","v":0},{"$f":"INDEX(INDIRECT(\"'\"&$C75&\"'\"&\"!\"&\"B3:H26\"),MATCH(Q$1,INDIRECT(\"'\"&$C75&\"'\"&\"!\"&\"B3:B26\"),0),IF($D75=3,$D75+2,$D75+5))","v":0},{"$f":"INDEX(INDIRECT(\"'\"&$C75&\"'\"&\"!\"&\"B3:H26\"),MATCH(R$1,INDIRECT(\"'\"&$C75&\"'\"&\"!\"&\"B3:B26\"),0),IF($D75=3,$D75+2,$D75+5))","v":0},{"$f":"INDEX(INDIRECT(\"'\"&$C75&\"'\"&\"!\"&\"B3:H26\"),MATCH(S$1,INDIRECT(\"'\"&$C75&\"'\"&\"!\"&\"B3:B26\"),0),IF($D75=3,$D75+2,$D75+5))","v":50},{"$f":"INDEX(INDIRECT(\"'\"&$C75&\"'\"&\"!\"&\"B3:H26\"),MATCH(T$1,INDIRECT(\"'\"&$C75&\"'\"&\"!\"&\"B3:B26\"),0),IF($D75=3,$D75+2,$D75+5))","v":0},{"$f":"INDEX(INDIRECT(\"'\"&$C75&\"'\"&\"!\"&\"B3:H26\"),MATCH(U$1,INDIRECT(\"'\"&$C75&\"'\"&\"!\"&\"B3:B26\"),0),IF($D75=3,$D75+2,$D75+5))","v":0},{"$f":"INDEX(INDIRECT(\"'\"&$C75&\"'\"&\"!\"&\"B3:H26\"),MATCH(V$1,INDIRECT(\"'\"&$C75&\"'\"&\"!\"&\"B3:B26\"),0),IF($D75=3,$D75+2,$D75+5))","v":0},{"$f":"INDEX(INDIRECT(\"'\"&$C75&\"'\"&\"!\"&\"B3:H26\"),MATCH(W$1,INDIRECT(\"'\"&$C75&\"'\"&\"!\"&\"B3:B26\"),0),IF($D75=3,$D75+2,$D75+5))","v":0},120]
[null,74,{"$f":"C75","v":25},1,30,10,10,50,{"$f":"INDEX(INDIRECT(\"'\"&$C76&\"'\"&\"!\"&\"B3:H26\"),MATCH(I$1,INDIRECT(\"'\"&$C76&\"'\"&\"!\"&\"B3:B26\"),0),IF($D76=3,$D76+2,$D76+5))","v":30},{"$f":"INDEX(INDIRECT(\"'\"&$C76&\"'\"&\"!\"&\"B3:H26\"),MATCH(J$1,INDIRECT(\"'\"&$C76&\"'\"&\"!\"&\"B3:B26\"),0),IF($D76=3,$D76+2,$D76+5))","v":0},{"$f":"INDEX(INDIRECT(\"'\"&$C76&\"'\"&\"!\"&\"B3:H26\"),MATCH(K$1,INDIRECT(\"'\"&$C76&\"'\"&\"!\"&\"B3:B26\"),0),IF($D76=3,$D76+2,$D76+5))","v":0},{"$f":"INDEX(INDIRECT(\"'\"&$C76&\"'\"&\"!\"&\"B3:H26\"),MATCH(L$1,INDIRECT(\"'\"&$C76&\"'\"&\"!\"&\"B3:B26\"),0),IF($D76=3,$D76+2,$D76+5))","v":0},{"$f":"INDEX(INDIRECT(\"'\"&$C76&\"'\"&\"!\"&\"B3:H26\"),MATCH(M$1,INDIRECT(\"'\"&$C76&\"'\"&\"!\"&\"B3:B26\"),0),IF($D76=3,$D76+2,$D76+5))","v":0},{"$f":"INDEX(INDIRECT(\"'\"&$C76&\"'\"&\"!\"&\"B3:H26\"),MATCH(N$1,INDIRECT(\"'\"&$C76&\"'\"&\"!\"&\"B3:B26\"),0),IF($D76=3,$D76+2,$D76+5))","v":0},{"$f":"INDEX(INDIRECT(\"'\"&$C76&\"'\"&\"!\"&\"B3:H26\"),MATCH(O$1,INDIRECT(\"'\"&$C76&\"'\"&\"!\"&\"B3:B26\"),0),IF($D76=3,$D76+2,$D76+5))","v":0},{"$f":"INDEX(INDIRECT(\"'\"&$C76&\"'\"&\"!\"&\"B3:H26\"),MATCH(P$1,INDIRECT(\"'\"&$C76&\"'\"&\"!\"&\"B3:B26\"),0),IF($D76=3,$D76+2,$D76+5))","v":0},{"$f":"INDEX(INDIRECT(\"'\"&$C76&\"'\"&\"!\"&\"B3:H26\"),MATCH(Q$1,INDIRECT(\"'\"&$C76&\"'\"&\"!\"&\"B3:B26\"),0),IF($D76=3,$D76+2,$D76+5))","v":0},{"$f":"INDEX(INDIRECT(\"'\"&$C76&\"'\"&\"!\"&\"B3:H26\"),MATCH(R$1,INDIRECT(\"'\"&$C76&\"'\"&\"!\"&\"B3:B26\"),0),IF($D76=3,$D76+2,$D76+5))","v":0},{"$f":"INDEX(INDIRECT(\"'\"&$C76&\"'\"&\"!\"&\"B3:H26\"),MATCH(S$1,INDIRECT(\"'\"&$C76&\"'\"&\"!\"&\"B3:B26\"),0),IF($D76=3,$D76+2,$D76+5))","v":0},{"$f":"INDEX(INDIRECT(\"'\"&$C76&\"'\"&\"!\"&\"B3:H26\"),MATCH(T$1,INDIRECT(\"'\"&$C76&\"'\"&\"!\"&\"B3:B26\"),0),IF($D76=3,$D76+2,$D76+5))","v":0},{"$f":"INDEX(INDIRECT(\"'\"&$C76&\"'\"&\"!\"&\"B3:H26\"),MATCH(U$1,INDIRECT(\"'\"&$C76&\"'\"&\"!\"&\"B3:B26\"),0),IF($D76=3,$D76+2,$D76+5))","v":0},{"$f":"INDEX(INDIRECT(\"'\"&$C76&\"'\"&\"!\"&\"B3:H26\"),MATCH(V$1,INDIRECT(\"'\"&$C76&\"'\"&\"!\"&\"B3:B26\"),0),IF($D76=3,$D76+2,$D76+5))","v":0},{"$f":"INDEX(INDIRECT(\"'\"&$C76&\"'\"&\"!\"&\"B3:H26\"),MATCH(W$1,INDIRECT(\"'\"&$C76&\"'\"&\"!\"&\"B3:B26\"),0),IF($D76=3,$D76+2,$D76+5))","v":0},30]
[null,75,25,2,30,10,10,50,{"$f":"INDEX(INDIRECT(\"'\"&$C77&\"'\"&\"!\"&\"B3:H26\"),MATCH(I$1,INDIRECT(\"'\"&$C77&\"'\"&\"!\"&\"B3:B26\"),0),IF($D77=3,$D77+2,$D77+5))","v":40},{"$f":"INDEX(INDIRECT(\"'\"&$C77&\"'\"&\"!\"&\"B3:H26\"),MATCH(J$1,INDIRECT(\"'\"&$C77&\"'\"&\"!\"&\"B3:B26\"),0),IF($D77=3,$D77+2,$D77+5))","v":0},{"$f":"INDEX(INDIRECT(\"'\"&$C77&\"'\"&\"!\"&\"B3:H26\"),MATCH(K$1,INDIRECT(\"'\"&$C77&\"'\"&\"!\"&\"B3:B26\"),0),IF($D77=3,$D77+2,$D77+5))","v":0},{"$f":"INDEX(INDIRECT(\"'\"&$C77&\"'\"&\"!\"&\"B3:H26\"),MATCH(L$1,INDIRECT(\"'\"&$C77&\"'\"&\"!\"&\"B3:B26\"),0),IF($D77=3,$D77+2,$D77+5))","v":0},{"$f":"INDEX(INDIRECT(\"'\"&$C77&\"'\"&\"!\"&\"B3:H26\"),MATCH(M$1,INDIRECT(\"'\"&$C77&\"'\"&\"!\"&\"B3:B26\"),0),IF($D77=3,$D77+2,$D77+5))","v":0},{"$f":"INDEX(INDIRECT(\"'\"&$C77&\"'\"&\"!\"&\"B3:H26\"),MATCH(N$1,INDIRECT(\"'\"&$C77&\"'\"&\"!\"&\"B3:B26\"),0),IF($D77=3,$D77+2,$D77+5))","v":0},{"$f":"INDEX(INDIRECT(\"'\"&$C77&\"'\"&\"!\"&\"B3:H26\"),MATCH(O$1,INDIRECT(\"'\"&$C77&\"'\"&\"!\"&\"B3:B26\"),0),IF($D77=3,$D77+2,$D77+5))","v":0},{"$f":"INDEX(INDIRECT(\"'\"&$C77&\"'\"&\"!\"&\"B3:H26\"),MATCH(P$1,INDIRECT(\"'\"&$C77&\"'\"&\"!\"&\"B3:B26\"),0),IF($D77=3,$D77+2,$D77+5))","v":0},{"$f":"INDEX(INDIRECT(\"'\"&$C77&\"'\"&\"!\"&\"B3:H26\"),MATCH(Q$1,INDIRECT(\"'\"&$C77&\"'\"&\"!\"&\"B3:B26\"),0),IF($D77=3,$D77+2,$D77+5))","v":0},{"$f":"INDEX(INDIRECT(\"'\"&$C77&\"'\"&\"!\"&\"B3:H26\"),MATCH(R$1,INDIRECT(\"'\"&$C77&\"'\"&\"!\"&\"B3:B26\"),0),IF($D77=3,$D77+2,$D77+5))","v":0},{"$f":"INDEX(INDIRECT(\"'\"&$C77&\"'\"&\"!\"&\"B3:H26\"),MATCH(S$1,INDIRECT(\"'\"&$C77&\"'\"&\"!\"&\"B3:B26\"),0),IF($D77=3,$D77+2,$D77+5))","v":0},{"$f":"INDEX(INDIRECT(\"'\"&$C77&\"'\"&\"!\"&\"B3:H26\"),MATCH(T$1,INDIRECT(\"'\"&$C77&\"'\"&\"!\"&\"B3:B26\"),0),IF($D77=3,$D77+2,$D77+5))","v":0},{"$f":"INDEX(INDIRECT(\"'\"&$C77&\"'\"&\"!\"&\"B3:H26\"),MATCH(U$1,INDIRECT(\"'\"&$C77&\"'\"&\"!\"&\"B3:B26\"),0),IF($D77=3,$D77+2,$D77+5))","v":0},{"$f":"INDEX(INDIRECT(\"'\"&$C77&\"'\"&\"!\"&\"B3:H26\"),MATCH(V$1,INDIRECT(\"'\"&$C77&\"'\"&\"!\"&\"B3:B26\"),0),IF($D77=3,$D77+2,$D77+5))","v":0},{"$f":"INDEX(INDIRECT(\"'\"&$C77&\"'\"&\"!\"&\"B3:H26\"),MATCH(W$1,INDIRECT(\"'\"&$C77&\"'\"&\"!\"&\"B3:B26\"),0),IF($D77=3,$D77+2,$D77+5))","v":0},40]
[null,76,26,3,30,10,10,{"$f":"SUM(E78:G78)","v":50},{"$f":"INDEX(INDIRECT(\"'\"&$C78&\"'\"&\"!\"&\"B3:H26\"),MATCH(I$1,INDIRECT(\"'\"&$C78&\"'\"&\"!\"&\"B3:B26\"),0),IF($D78=3,$D78+2,$D78+5))","v":20},{"$f":"INDEX(INDIRECT(\"'\"&$C78&\"'\"&\"!\"&\"B3:H26\"),MATCH(J$1,INDIRECT(\"'\"&$C78&\"'\"&\"!\"&\"B3:B26\"),0),IF($D78=3,$D78+2,$D78+5))","v":0},{"$f":"INDEX(INDIRECT(\"'\"&$C78&\"'\"&\"!\"&\"B3:H26\"),MATCH(K$1,INDIRECT(\"'\"&$C78&\"'\"&\"!\"&\"B3:B26\"),0),IF($D78=3,$D78+2,$D78+5))","v":0},{"$f":"INDEX(INDIRECT(\"'\"&$C78&\"'\"&\"!\"&\"B3:H26\"),MATCH(L$1,INDIRECT(\"'\"&$C78&\"'\"&\"!\"&\"B3:B26\"),0),IF($D78=3,$D78+2,$D78+5))","v":0},{"$f":"INDEX(INDIRECT(\"'\"&$C78&\"'\"&\"!\"&\"B3:H26\"),MATCH(M$1,INDIRECT(\"'\"&$C78&\"'\"&\"!\"&\"B3:B26\"),0),IF($D78=3,$D78+2,$D78+5))","v":0},{"$f":"INDEX(INDIRECT(\"'\"&$C78&\"'\"&\"!\"&\"B3:H26\"),MATCH(N$1,INDIRECT(\"'\"&$C78&\"'\"&\"!\"&\"B3:B26\"),0),IF($D78=3,$D78+2,$D78+5))","v":50},{"$f":"INDEX(INDIRECT(\"'\"&$C78&\"'\"&\"!\"&\"B3:H26\"),MATCH(O$1,INDIRECT(\"'\"&$C78&\"'\"&\"!\"&\"B3:B26\"),0),IF($D78=3,$D78+2,$D78+5))","v":0},{"$f":"INDEX(INDIRECT(\"'\"&$C78&\"'\"&\"!\"&\"B3:H26\"),MATCH(P$1,INDIRECT(\"'\"&$C78&\"'\"&\"!\"&\"B3:B26\"),0),IF($D78=3,$D78+2,$D78+5))","v":0},{"$f":"INDEX(INDIRECT(\"'\"&$C78&\"'\"&\"!\"&\"B3:H26\"),MATCH(Q$1,INDIRECT(\"'\"&$C78&\"'\"&\"!\"&\"B3:B26\"),0),IF($D78=3,$D78+2,$D78+5))","v":0},{"$f":"INDEX(INDIRECT(\"'\"&$C78&\"'\"&\"!\"&\"B3:H26\"),MATCH(R$1,INDIRECT(\"'\"&$C78&\"'\"&\"!\"&\"B3:B26\"),0),IF($D78=3,$D78+2,$D78+5))","v":0},{"$f":"INDEX(INDIRECT(\"'\"&$C78&\"'\"&\"!\"&\"B3:H26\"),MATCH(S$1,INDIRECT(\"'\"&$C78&\"'\"&\"!\"&\"B3:B26\"),0),IF($D78=3,$D78+2,$D78+5))","v":50},{"$f":"INDEX(INDIRECT(\"'\"&$C78&\"'\"&\"!\"&\"B3:H26\"),MATCH(T$1,INDIRECT(\"'\"&$C78&\"'\"&\"!\"&\"B3:B26\"),0),IF($D78=3,$D78+2,$D78+5))","v":0},{"$f":"INDEX(INDIRECT(\"'\"&$C78&\"'\"&\"!\"&\"B3:H26\"),MATCH(U$1,INDIRECT(\"'\"&$C78&\"'\"&\"!\"&\"B3:B26\"),0),IF($D78=3,$D78+2,$D78+5))","v":0},{"$f":"INDEX(INDIRECT(\"'\"&$C78&\"'\"&\"!\"&\"B3:H26\"),MATCH(V$1,INDIRECT(\"'\"&$C78&\"'\"&\"!\"&\"B3:B26\"),0),IF($D78=3,$D78+2,$D78+5))","v":0},{"$f":"INDEX(INDIRECT(\"'\"&$C78&\"'\"&\"!\"&\"B3:H26\"),MATCH(W$1,INDIRECT(\"'\"&$C78&\"'\"&\"!\"&\"B3:B26\"),0),IF($D78=3,$D78+2,$D78+5))","v":0},120]
[null,77,{"$f":"C78","v":26},1,30,10,10,50,{"$f":"INDEX(INDIRECT(\"'\"&$C79&\"'\"&\"!\"&\"B3:H26\"),MATCH(I$1,INDIRECT(\"'\"&$C79&\"'\"&\"!\"&\"B3:B26\"),0),IF($D79=3,$D79+2,$D79+5))","v":30},{"$f":"INDEX(INDIRECT(\"'\"&$C79&\"'\"&\"!\"&\"B3:H26\"),MATCH(J$1,INDIRECT(\"'\"&$C79&\"'\"&\"!\"&\"B3:B26\"),0),IF($D79=3,$D79+2,$D79+5))","v":0},{"$f":"INDEX(INDIRECT(\"'\"&$C79&\"'\"&\"!\"&\"B3:H26\"),MATCH(K$1,INDIRECT(\"'\"&$C79&\"'\"&\"!\"&\"B3:B26\"),0),IF($D79=3,$D79+2,$D79+5))","v":0},{"$f":"INDEX(INDIRECT(\"'\"&$C79&\"'\"&\"!\"&\"B3:H26\"),MATCH(L$1,INDIRECT(\"'\"&$C79&\"'\"&\"!\"&\"B3:B26\"),0),IF($D79=3,$D79+2,$D79+5))","v":0},{"$f":"INDEX(INDIRECT(\"'\"&$C79&\"'\"&\"!\"&\"B3:H26\"),MATCH(M$1,INDIRECT(\"'\"&$C79&\"'\"&\"!\"&\"B3:B26\"),0),IF($D79=3,$D79+2,$D79+5))","v":0},{"$f":"INDEX(INDIRECT(\"'\"&$C79&\"'\"&\"!\"&\"B3:H26\"),MATCH(N$1,INDIRECT(\"'\"&$C79&\"'\"&\"!\"&\"B3:B26\"),0),IF($D79=3,$D79+2,$D79+5))","v":0},{"$f":"INDEX(INDIRECT(\"'\"&$C79&\"'\"&\"!\"&\"B3:H26\"),MATCH(O$1,INDIRECT(\"'\"&$C79&\"'\"&\"!\"&\"B3:B26\"),0),IF($D79=3,$D79+2,$D79+5))","v":0},{"$f":"INDEX(INDIRECT(\"'\"&$C79&\"'\"&\"!\"&\"B3:H26\"),MATCH(P$1,INDIRECT(\"'\"&$C79&\"'\"&\"!\"&\"B3:B26\"),0),IF($D79=3,$D79+2,$D79+5))","v":0},{"$f":"INDEX(INDIRECT(\"'\"&$C79&\"'\"&\"!\"&\"B3:H26\"),MATCH(Q$1,INDIRECT(\"'\"&$C79&\"'\"&\"!\"&\"B3:B26\"),0),IF($D79=3,$D79+2,$D79+5))","v":0},{"$f":"INDEX(INDIRECT(\"'\"&$C79&\"'\"&\"!\"&\"B3:H26\"),MATCH(R$1,INDIRECT(\"'\"&$C79&\"'\"&\"!\"&\"B3:B26\"),0),IF($D79=3,$D79+2,$D79+5))","v":0},{"$f":"INDEX(INDIRECT(\"'\"&$C79&\"'\"&\"!\"&\"B3:H26\"),MATCH(S$1,INDIRECT(\"'\"&$C79&\"'\"&\"!\"&\"B3:B26\"),0),IF($D79=3,$D79+2,$D79+5))","v":0},{"$f":"INDEX(INDIRECT(\"'\"&$C79&\"'\"&\"!\"&\"B3:H26\"),MATCH(T$1,INDIRECT(\"'\"&$C79&\"'\"&\"!\"&\"B3:B26\"),0),IF($D79=3,$D79+2,$D79+5))","v":0},{"$f":"INDEX(INDIRECT(\"'\"&$C79&\"'\"&\"!\"&\"B3:H26\"),MATCH(U$1,INDIRECT(\"'\"&$C79&\"'\"&\"!\"&\"B3:B26\"),0),IF($D79=3,$D79+2,$D79+5))","v":0},{"$f":"INDEX(INDIRECT(\"'\"&$C79&\"'\"&\"!\"&\"B3:H26\"),MATCH(V$1,INDIRECT(\"'\"&$C79&\"'\"&\"!\"&\"B3:B26\"),0),IF($D79=3,$D79+2,$D79+5))","v":0},{"$f":"INDEX(INDIRECT(\"'\"&$C79&\"'\"&\"!\"&\"B3:H26\"),MATCH(W$1,INDIRECT(\"'\"&$C79&\"'\"&\"!\"&\"B3:B26\"),0),IF($D79=3,$D79+2,$D79+5))","v":0},30]
[null,78,26,2,30,10,10,50,{"$f":"INDEX(INDIRECT(\"'\"&$C80&\"'\"&\"!\"&\"B3:H26\"),MATCH(I$1,INDIRECT(\"'\"&$C80&\"'\"&\"!\"&\"B3:B26\"),0),IF($D80=3,$D80+2,$D80+5))","v":40},{"$f":"INDEX(INDIRECT(\"'\"&$C80&\"'\"&\"!\"&\"B3:H26\"),MATCH(J$1,INDIRECT(\"'\"&$C80&\"'\"&\"!\"&\"B3:B26\"),0),IF($D80=3,$D80+2,$D80+5))","v":0},{"$f":"INDEX(INDIRECT(\"'\"&$C80&\"'\"&\"!\"&\"B3:H26\"),MATCH(K$1,INDIRECT(\"'\"&$C80&\"'\"&\"!\"&\"B3:B26\"),0),IF($D80=3,$D80+2,$D80+5))","v":0},{"$f":"INDEX(INDIRECT(\"'\"&$C80&\"'\"&\"!\"&\"B3:H26\"),MATCH(L$1,INDIRECT(\"'\"&$C80&\"'\"&\"!\"&\"B3:B26\"),0),IF($D80=3,$D80+2,$D80+5))","v":0},{"$f":"INDEX(INDIRECT(\"'\"&$C80&\"'\"&\"!\"&\"B3:H26\"),MATCH(M$1,INDIRECT(\"'\"&$C80&\"'\"&\"!\"&\"B3:B26\"),0),IF($D80=3,$D80+2,$D80+5))","v":0},{"$f":"INDEX(INDIRECT(\"'\"&$C80&\"'\"&\"!\"&\"B3:H26\"),MATCH(N$1,INDIRECT(\"'\"&$C80&\"'\"&\"!\"&\"B3:B26\"),0),IF($D80=3,$D80+2,$D80+5))","v":0},{"$f":"INDEX(INDIRECT(\"'\"&$C80&\"'\"&\"!\"&\"B3:H26\"),MATCH(O$1,INDIRECT(\"'\"&$C80&\"'\"&\"!\"&\"B3:B26\"),0),IF($D80=3,$D80+2,$D80+5))","v":0},{"$f":"INDEX(INDIRECT(\"'\"&$C80&\"'\"&\"!\"&\"B3:H26\"),MATCH(P$1,INDIRECT(\"'\"&$C80&\"'\"&\"!\"&\"B3:B26\"),0),IF($D80=3,$D80+2,$D80+5))","v":0},{"$f":"INDEX(INDIRECT(\"'\"&$C80&\"'\"&\"!\"&\"B3:H26\"),MATCH(Q$1,INDIRECT(\"'\"&$C80&\"'\"&\"!\"&\"B3:B26\"),0),IF($D80=3,$D80+2,$D80+5))","v":0},{"$f":"INDEX(INDIRECT(\"'\"&$C80&\"'\"&\"!\"&\"B3:H26\"),MATCH(R$1,INDIRECT(\"'\"&$C80&\"'\"&\"!\"&\"B3:B26\"),0),IF($D80=3,$D80+2,$D80+5))","v":0},{"$f":"INDEX(INDIRECT(\"'\"&$C80&\"'\"&\"!\"&\"B3:H26\"),MATCH(S$1,INDIRECT(\"'\"&$C80&\"'\"&\"!\"&\"B3:B26\"),0),IF($D80=3,$D80+2,$D80+5))","v":0},{"$f":"INDEX(INDIRECT(\"'\"&$C80&\"'\"&\"!\"&\"B3:H26\"),MATCH(T$1,INDIRECT(\"'\"&$C80&\"'\"&\"!\"&\"B3:B26\"),0),IF($D80=3,$D80+2,$D80+5))","v":0},{"$f":"INDEX(INDIRECT(\"'\"&$C80&\"'\"&\"!\"&\"B3:H26\"),MATCH(U$1,INDIRECT(\"'\"&$C80&\"'\"&\"!\"&\"B3:B26\"),0),IF($D80=3,$D80+2,$D80+5))","v":0},{"$f":"INDEX(INDIRECT(\"'\"&$C80&\"'\"&\"!\"&\"B3:H26\"),MATCH(V$1,INDIRECT(\"'\"&$C80&\"'\"&\"!\"&\"B3:B26\"),0),IF($D80=3,$D80+2,$D80+5))","v":0},{"$f":"INDEX(INDIRECT(\"'\"&$C80&\"'\"&\"!\"&\"B3:H26\"),MATCH(W$1,INDIRECT(\"'\"&$C80&\"'\"&\"!\"&\"B3:B26\"),0),IF($D80=3,$D80+2,$D80+5))","v":0},40]
[null,79,27,3,30,10,10,50,{"$f":"INDEX(INDIRECT(\"'\"&$C81&\"'\"&\"!\"&\"B3:H26\"),MATCH(I$1,INDIRECT(\"'\"&$C81&\"'\"&\"!\"&\"B3:B26\"),0),IF($D81=3,$D81+2,$D81+5))","v":20},{"$f":"INDEX(INDIRECT(\"'\"&$C81&\"'\"&\"!\"&\"B3:H26\"),MATCH(J$1,INDIRECT(\"'\"&$C81&\"'\"&\"!\"&\"B3:B26\"),0),IF($D81=3,$D81+2,$D81+5))","v":0},{"$f":"INDEX(INDIRECT(\"'\"&$C81&\"'\"&\"!\"&\"B3:H26\"),MATCH(K$1,INDIRECT(\"'\"&$C81&\"'\"&\"!\"&\"B3:B26\"),0),IF($D81=3,$D81+2,$D81+5))","v":0},{"$f":"INDEX(INDIRECT(\"'\"&$C81&\"'\"&\"!\"&\"B3:H26\"),MATCH(L$1,INDIRECT(\"'\"&$C81&\"'\"&\"!\"&\"B3:B26\"),0),IF($D81=3,$D81+2,$D81+5))","v":0},{"$f":"INDEX(INDIRECT(\"'\"&$C81&\"'\"&\"!\"&\"B3:H26\"),MATCH(M$1,INDIRECT(\"'\"&$C81&\"'\"&\"!\"&\"B3:B26\"),0),IF($D81=3,$D81+2,$D81+5))","v":0},{"$f":"INDEX(INDIRECT(\"'\"&$C81&\"'\"&\"!\"&\"B3:H26\"),MATCH(N$1,INDIRECT(\"'\"&$C81&\"'\"&\"!\"&\"B3:B26\"),0),IF($D81=3,$D81+2,$D81+5))","v":50},{"$f":"INDEX(INDIRECT(\"'\"&$C81&\"'\"&\"!\"&\"B3:H26\"),MATCH(O$1,INDIRECT(\"'\"&$C81&\"'\"&\"!\"&\"B3:B26\"),0),IF($D81=3,$D81+2,$D81+5))","v":0},{"$f":"INDEX(INDIRECT(\"'\"&$C81&\"'\"&\"!\"&\"B3:H26\"),MATCH(P$1,INDIRECT(\"'\"&$C81&\"'\"&\"!\"&\"B3:B26\"),0),IF($D81=3,$D81+2,$D81+5))","v":0},{"$f":"INDEX(INDIRECT(\"'\"&$C81&\"'\"&\"!\"&\"B3:H26\"),MATCH(Q$1,INDIRECT(\"'\"&$C81&\"'\"&\"!\"&\"B3:B26\"),0),IF($D81=3,$D81+2,$D81+5))","v":0},{"$f":"INDEX(INDIRECT(\"'\"&$C81&\"'\"&\"!\"&\"B3:H26\"),MATCH(R$1,INDIRECT(\"'\"&$C81&\"'\"&\"!\"&\"B3:B26\"),0),IF($D81=3,$D81+2,$D81+5))","v":0},{"$f":"INDEX(INDIRECT(\"'\"&$C81&\"'\"&\"!\"&\"B3:H26\"),MATCH(S$1,INDIRECT(\"'\"&$C81&\"'\"&\"!\"&\"B3:B26\"),0),IF($D81=3,$D81+2,$D81+5))","v":50},{"$f":"INDEX(INDIRECT(\"'\"&$C81&\"'\"&\"!\"&\"B3:H26\"),MATCH(T$1,INDIRECT(\"'\"&$C81&\"'\"&\"!\"&\"B3:B26\"),0),IF($D81=3,$D81+2,$D81+5))","v":0},{"$f":"INDEX(INDIRECT(\"'\"&$C81&\"'\"&\"!\"&\"B3:H26\"),MATCH(U$1,INDIRECT(\"'\"&$C81&\"'\"&\"!\"&\"B3:B26\"),0),IF($D81=3,$D81+2,$D81+5))","v":0},{"$f":"INDEX(INDIRECT(\"'\"&$C81&\"'\"&\"!\"&\"B3:H26\"),MATCH(V$1,INDIRECT(\"'\"&$C81&\"'\"&\"!\"&\"B3:B26\"),0),IF($D81=3,$D81+2,$D81+5))","v":0},{"$f":"INDEX(INDIRECT(\"'\"&$C81&\"'\"&\"!\"&\"B3:H26\"),MATCH(W$1,INDIRECT(\"'\"&$C81&\"'\"&\"!\"&\"B3:B26\"),0),IF($D81=3,$D81+2,$D81+5))","v":0},120]
[null,80,{"$f":"C81","v":27},1,30,10,10,50,{"$f":"INDEX(INDIRECT(\"'\"&$C82&\"'\"&\"!\"&\"B3:H26\"),MATCH(I$1,INDIRECT(\"'\"&$C82&\"'\"&\"!\"&\"B3:B26\"),0),IF($D82=3,$D82+2,$D82+5))","v":30},{"$f":"INDEX(INDIRECT(\"'\"&$C82&\"'\"&\"!\"&\"B3:H26\"),MATCH(J$1,INDIRECT(\"'\"&$C82&\"'\"&\"!\"&\"B3:B26\"),0),IF($D82=3,$D82+2,$D82+5))","v":0},{"$f":"INDEX(INDIRECT(\"'\"&$C82&\"'\"&\"!\"&\"B3:H26\"),MATCH(K$1,INDIRECT(\"'\"&$C82&\"'\"&\"!\"&\"B3:B26\"),0),IF($D82=3,$D82+2,$D82+5))","v":0},{"$f":"INDEX(INDIRECT(\"'\"&$C82&\"'\"&\"!\"&\"B3:H26\"),MATCH(L$1,INDIRECT(\"'\"&$C82&\"'\"&\"!\"&\"B3:B26\"),0),IF($D82=3,$D82+2,$D82+5))","v":0},{"$f":"INDEX(INDIRECT(\"'\"&$C82&\"'\"&\"!\"&\"B3:H26\"),MATCH(M$1,INDIRECT(\"'\"&$C82&\"'\"&\"!\"&\"B3:B26\"),0),IF($D82=3,$D82+2,$D82+5))","v":0},{"$f":"INDEX(INDIRECT(\"'\"&$C82&\"'\"&\"!\"&\"B3:H26\"),MATCH(N$1,INDIRECT(\"'\"&$C82&\"'\"&\"!\"&\"B3:B26\"),0),IF($D82=3,$D82+2,$D82+5))","v":0},{"$f":"INDEX(INDIRECT(\"'\"&$C82&\"'\"&\"!\"&\"B3:H26\"),MATCH(O$1,INDIRECT(\"'\"&$C82&\"'\"&\"!\"&\"B3:B26\"),0),IF($D82=3,$D82+2,$D82+5))","v":0},{"$f":"INDEX(INDIRECT(\"'\"&$C82&\"'\"&\"!\"&\"B3:H26\"),MATCH(P$1,INDIRECT(\"'\"&$C82&\"'\"&\"!\"&\"B3:B26\"),0),IF($D82=3,$D82+2,$D82+5))","v":0},{"$f":"INDEX(INDIRECT(\"'\"&$C82&\"'\"&\"!\"&\"B3:H26\"),MATCH(Q$1,INDIRECT(\"'\"&$C82&\"'\"&\"!\"&\"B3:B26\"),0),IF($D82=3,$D82+2,$D82+5))","v":0},{"$f":"INDEX(INDIRECT(\"'\"&$C82&\"'\"&\"!\"&\"B3:H26\"),MATCH(R$1,INDIRECT(\"'\"&$C82&\"'\"&\"!\"&\"B3:B26\"),0),IF($D82=3,$D82+2,$D82+5))","v":0},{"$f":"INDEX(INDIRECT(\"'\"&$C82&\"'\"&\"!\"&\"B3:H26\"),MATCH(S$1,INDIRECT(\"'\"&$C82&\"'\"&\"!\"&\"B3:B26\"),0),IF($D82=3,$D82+2,$D82+5))","v":0},{"$f":"INDEX(INDIRECT(\"'\"&$C82&\"'\"&\"!\"&\"B3:H26\"),MATCH(T$1,INDIRECT(\"'\"&$C82&\"'\"&\"!\"&\"B3:B26\"),0),IF($D82=3,$D82+2,$D82+5))","v":0},{"$f":"INDEX(INDIRECT(\"'\"&$C82&\"'\"&\"!\"&\"B3:H26\"),MATCH(U$1,INDIRECT(\"'\"&$C82&\"'\"&\"!\"&\"B3:B26\"),0),IF($D82=3,$D82+2,$D82+5))","v":0},{"$f":"INDEX(INDIRECT(\"'\"&$C82&\"'\"&\"!\"&\"B3:H26\"),MATCH(V$1,INDIRECT(\"'\"&$C82&\"'\"&\"!\"&\"B3:B26\"),0),IF($D82=3,$D82+2,$D82+5))","v":0},{"$f":"INDEX(INDIRECT(\"'\"&$C82&\"'\"&\"!\"&\"B3:H26\"),MATCH(W$1,INDIRECT(\"'\"&$C82&\"'\"&\"!\"&\"B3:B26\"),0),IF($D82=3,$D82+2,$D82+5))","v":0},30]
[null,81,27,2,30,10,10,50,{"$f":"INDEX(INDIRECT(\"'\"&$C83&\"'\"&\"!\"&\"B3:H26\"),MATCH(I$1,INDIRECT(\"'\"&$C83&\"'\"&\"!\"&\"B3:B26\"),0),IF($D83=3,$D83+2,$D83+5))","v":40},{"$f":"INDEX(INDIRECT(\"'\"&$C83&\"'\"&\"!\"&\"B3:H26\"),MATCH(J$1,INDIRECT(\"'\"&$C83&\"'\"&\"!\"&\"B3:B26\"),0),IF($D83=3,$D83+2,$D83+5))","v":0},{"$f":"INDEX(INDIRECT(\"'\"&$C83&\"'\"&\"!\"&\"B3:H26\"),MATCH(K$1,INDIRECT(\"'\"&$C83&\"'\"&\"!\"&\"B3:B26\"),0),IF($D83=3,$D83+2,$D83+5))","v":0},{"$f":"INDEX(INDIRECT(\"'\"&$C83&\"'\"&\"!\"&\"B3:H26\"),MATCH(L$1,INDIRECT(\"'\"&$C83&\"'\"&\"!\"&\"B3:B26\"),0),IF($D83=3,$D83+2,$D83+5))","v":0},{"$f":"INDEX(INDIRECT(\"'\"&$C83&\"'\"&\"!\"&\"B3:H26\"),MATCH(M$1,INDIRECT(\"'\"&$C83&\"'\"&\"!\"&\"B3:B26\"),0),IF($D83=3,$D83+2,$D83+5))","v":0},{"$f":"INDEX(INDIRECT(\"'\"&$C83&\"'\"&\"!\"&\"B3:H26\"),MATCH(N$1,INDIRECT(\"'\"&$C83&\"'\"&\"!\"&\"B3:B26\"),0),IF($D83=3,$D83+2,$D83+5))","v":0},{"$f":"INDEX(INDIRECT(\"'\"&$C83&\"'\"&\"!\"&\"B3:H26\"),MATCH(O$1,INDIRECT(\"'\"&$C83&\"'\"&\"!\"&\"B3:B26\"),0),IF($D83=3,$D83+2,$D83+5))","v":0},{"$f":"INDEX(INDIRECT(\"'\"&$C83&\"'\"&\"!\"&\"B3:H26\"),MATCH(P$1,INDIRECT(\"'\"&$C83&\"'\"&\"!\"&\"B3:B26\"),0),IF($D83=3,$D83+2,$D83+5))","v":0},{"$f":"INDEX(INDIRECT(\"'\"&$C83&\"'\"&\"!\"&\"B3:H26\"),MATCH(Q$1,INDIRECT(\"'\"&$C83&\"'\"&\"!\"&\"B3:B26\"),0),IF($D83=3,$D83+2,$D83+5))","v":0},{"$f":"INDEX(INDIRECT(\"'\"&$C83&\"'\"&\"!\"&\"B3:H26\"),MATCH(R$1,INDIRECT(\"'\"&$C83&\"'\"&\"!\"&\"B3:B26\"),0),IF($D83=3,$D83+2,$D83+5))","v":0},{"$f":"INDEX(INDIRECT(\"'\"&$C83&\"'\"&\"!\"&\"B3:H26\"),MATCH(S$1,INDIRECT(\"'\"&$C83&\"'\"&\"!\"&\"B3:B26\"),0),IF($D83=3,$D83+2,$D83+5))","v":0},{"$f":"INDEX(INDIRECT(\"'\"&$C83&\"'\"&\"!\"&\"B3:H26\"),MATCH(T$1,INDIRECT(\"'\"&$C83&\"'\"&\"!\"&\"B3:B26\"),0),IF($D83=3,$D83+2,$D83+5))","v":0},{"$f":"INDEX(INDIRECT(\"'\"&$C83&\"'\"&\"!\"&\"B3:H26\"),MATCH(U$1,INDIRECT(\"'\"&$C83&\"'\"&\"!\"&\"B3:B26\"),0),IF($D83=3,$D83+2,$D83+5))","v":0},{"$f":"INDEX(INDIRECT(\"'\"&$C83&\"'\"&\"!\"&\"B3:H26\"),MATCH(V$1,INDIRECT(\"'\"&$C83&\"'\"&\"!\"&\"B3:B26\"),0),IF($D83=3,$D83+2,$D83+5))","v":0},{"$f":"INDEX(INDIRECT(\"'\"&$C83&\"'\"&\"!\"&\"B3:H26\"),MATCH(W$1,INDIRECT(\"'\"&$C83&\"'\"&\"!\"&\"B3:B26\"),0),IF($D83=3,$D83+2,$D83+5))","v":0},40]
[null,82,28,3,30,10,10,50,{"$f":"INDEX(INDIRECT(\"'\"&$C84&\"'\"&\"!\"&\"B3:H26\"),MATCH(I$1,INDIRECT(\"'\"&$C84&\"'\"&\"!\"&\"B3:B26\"),0),IF($D84=3,$D84+2,$D84+5))","v":20},{"$f":"INDEX(INDIRECT(\"'\"&$C84&\"'\"&\"!\"&\"B3:H26\"),MATCH(J$1,INDIRECT(\"'\"&$C84&\"'\"&\"!\"&\"B3:B26\"),0),IF($D84=3,$D84+2,$D84+5))","v":0},{"$f":"INDEX(INDIRECT(\"'\"&$C84&\"'\"&\"!\"&\"B3:H26\"),MATCH(K$1,INDIRECT(\"'\"&$C84&\"'\"&\"!\"&\"B3:B26\"),0),IF($D84=3,$D84+2,$D84+5))","v":0},{"$f":"INDEX(INDIRECT(\"'\"&$C84&\"'\"&\"!\"&\"B3:H26\"),MATCH(L$1,INDIRECT(\"'\"&$C84&\"'\"&\"!\"&\"B3:B26\"),0),IF($D84=3,$D84+2,$D84+5))","v":0},{"$f":"INDEX(INDIRECT(\"'\"&$C84&\"'\"&\"!\"&\"B3:H26\"),MATCH(M$1,INDIRECT(\"'\"&$C84&\"'\"&\"!\"&\"B3:B26\"),0),IF($D84=3,$D84+2,$D84+5))","v":0},{"$f":"INDEX(INDIRECT(\"'\"&$C84&\"'\"&\"!\"&\"B3:H26\"),MATCH(N$1,INDIRECT(\"'\"&$C84&\"'\"&\"!\"&\"B3:B26\"),0),IF($D84=3,$D84+2,$D84+5))","v":50},{"$f":"INDEX(INDIRECT(\"'\"&$C84&\"'\"&\"!\"&\"B3:H26\"),MATCH(O$1,INDIRECT(\"'\"&$C84&\"'\"&\"!\"&\"B3:B26\"),0),IF($D84=3,$D84+2,$D84+5))","v":0},{"$f":"INDEX(INDIRECT(\"'\"&$C84&\"'\"&\"!\"&\"B3:H26\"),MATCH(P$1,INDIRECT(\"'\"&$C84&\"'\"&\"!\"&\"B3:B26\"),0),IF($D84=3,$D84+2,$D84+5))","v":0},{"$f":"INDEX(INDIRECT(\"'\"&$C84&\"'\"&\"!\"&\"B3:H26\"),MATCH(Q$1,INDIRECT(\"'\"&$C84&\"'\"&\"!\"&\"B3:B26\"),0),IF($D84=3,$D84+2,$D84+5))","v":0},{"$f":"INDEX(INDIRECT(\"'\"&$C84&\"'\"&\"!\"&\"B3:H26\"),MATCH(R$1,INDIRECT(\"'\"&$C84&\"'\"&\"!\"&\"B3:B26\"),0),IF($D84=3,$D84+2,$D84+5))","v":0},{"$f":"INDEX(INDIRECT(\"'\"&$C84&\"'\"&\"!\"&\"B3:H26\"),MATCH(S$1,INDIRECT(\"'\"&$C84&\"'\"&\"!\"&\"B3:B26\"),0),IF($D84=3,$D84+2,$D84+5))","v":50},{"$f":"INDEX(INDIRECT(\"'\"&$C84&\"'\"&\"!\"&\"B3:H26\"),MATCH(T$1,INDIRECT(\"'\"&$C84&\"'\"&\"!\"&\"B3:B26\"),0),IF($D84=3,$D84+2,$D84+5))","v":0},{"$f":"INDEX(INDIRECT(\"'\"&$C84&\"'\"&\"!\"&\"B3:H26\"),MATCH(U$1,INDIRECT(\"'\"&$C84&\"'\"&\"!\"&\"B3:B26\"),0),IF($D84=3,$D84+2,$D84+5))","v":0},{"$f":"INDEX(INDIRECT(\"'\"&$C84&\"'\"&\"!\"&\"B3:H26\"),MATCH(V$1,INDIRECT(\"'\"&$C84&\"'\"&\"!\"&\"B3:B26\"),0),IF($D84=3,$D84+2,$D84+5))","v":0},{"$f":"INDEX(INDIRECT(\"'\"&$C84&\"'\"&\"!\"&\"B3:H26\"),MATCH(W$1,INDIRECT(\"'\"&$C84&\"'\"&\"!\"&\"B3:B26\"),0),IF($D84=3,$D84+2,$D84+5))","v":0},120]
[null,83,{"$f":"C84","v":28},1,30,10,10,50,{"$f":"INDEX(INDIRECT(\"'\"&$C85&\"'\"&\"!\"&\"B3:H26\"),MATCH(I$1,INDIRECT(\"'\"&$C85&\"'\"&\"!\"&\"B3:B26\"),0),IF($D85=3,$D85+2,$D85+5))","v":30},{"$f":"INDEX(INDIRECT(\"'\"&$C85&\"'\"&\"!\"&\"B3:H26\"),MATCH(J$1,INDIRECT(\"'\"&$C85&\"'\"&\"!\"&\"B3:B26\"),0),IF($D85=3,$D85+2,$D85+5))","v":0},{"$f":"INDEX(INDIRECT(\"'\"&$C85&\"'\"&\"!\"&\"B3:H26\"),MATCH(K$1,INDIRECT(\"'\"&$C85&\"'\"&\"!\"&\"B3:B26\"),0),IF($D85=3,$D85+2,$D85+5))","v":0},{"$f":"INDEX(INDIRECT(\"'\"&$C85&\"'\"&\"!\"&\"B3:H26\"),MATCH(L$1,INDIRECT(\"'\"&$C85&\"'\"&\"!\"&\"B3:B26\"),0),IF($D85=3,$D85+2,$D85+5))","v":0},{"$f":"INDEX(INDIRECT(\"'\"&$C85&\"'\"&\"!\"&\"B3:H26\"),MATCH(M$1,INDIRECT(\"'\"&$C85&\"'\"&\"!\"&\"B3:B26\"),0),IF($D85=3,$D85+2,$D85+5))","v":0},{"$f":"INDEX(INDIRECT(\"'\"&$C85&\"'\"&\"!\"&\"B3:H26\"),MATCH(N$1,INDIRECT(\"'\"&$C85&\"'\"&\"!\"&\"B3:B26\"),0),IF($D85=3,$D85+2,$D85+5))","v":0},{"$f":"INDEX(INDIRECT(\"'\"&$C85&\"'\"&\"!\"&\"B3:H26\"),MATCH(O$1,INDIRECT(\"'\"&$C85&\"'\"&\"!\"&\"B3:B26\"),0),IF($D85=3,$D85+2,$D85+5))","v":0},{"$f":"INDEX(INDIRECT(\"'\"&$C85&\"'\"&\"!\"&\"B3:H26\"),MATCH(P$1,INDIRECT(\"'\"&$C85&\"'\"&\"!\"&\"B3:B26\"),0),IF($D85=3,$D85+2,$D85+5))","v":0},{"$f":"INDEX(INDIRECT(\"'\"&$C85&\"'\"&\"!\"&\"B3:H26\"),MATCH(Q$1,INDIRECT(\"'\"&$C85&\"'\"&\"!\"&\"B3:B26\"),0),IF($D85=3,$D85+2,$D85+5))","v":0},{"$f":"INDEX(INDIRECT(\"'\"&$C85&\"'\"&\"!\"&\"B3:H26\"),MATCH(R$1,INDIRECT(\"'\"&$C85&\"'\"&\"!\"&\"B3:B26\"),0),IF($D85=3,$D85+2,$D85+5))","v":0},{"$f":"INDEX(INDIRECT(\"'\"&$C85&\"'\"&\"!\"&\"B3:H26\"),MATCH(S$1,INDIRECT(\"'\"&$C85&\"'\"&\"!\"&\"B3:B26\"),0),IF($D85=3,$D85+2,$D85+5))","v":0},{"$f":"INDEX(INDIRECT(\"'\"&$C85&\"'\"&\"!\"&\"B3:H26\"),MATCH(T$1,INDIRECT(\"'\"&$C85&\"'\"&\"!\"&\"B3:B26\"),0),IF($D85=3,$D85+2,$D85+5))","v":0},{"$f":"INDEX(INDIRECT(\"'\"&$C85&\"'\"&\"!\"&\"B3:H26\"),MATCH(U$1,INDIRECT(\"'\"&$C85&\"'\"&\"!\"&\"B3:B26\"),0),IF($D85=3,$D85+2,$D85+5))","v":0},{"$f":"INDEX(INDIRECT(\"'\"&$C85&\"'\"&\"!\"&\"B3:H26\"),MATCH(V$1,INDIRECT(\"'\"&$C85&\"'\"&\"!\"&\"B3:B26\"),0),IF($D85=3,$D85+2,$D85+5))","v":0},{"$f":"INDEX(INDIRECT(\"'\"&$C85&\"'\"&\"!\"&\"B3:H26\"),MATCH(W$1,INDIRECT(\"'\"&$C85&\"'\"&\"!\"&\"B3:B26\"),0),IF($D85=3,$D85+2,$D85+5))","v":0},30]
[null,84,28,2,30,10,10,50,{"$f":"INDEX(INDIRECT(\"'\"&$C86&\"'\"&\"!\"&\"B3:H26\"),MATCH(I$1,INDIRECT(\"'\"&$C86&\"'\"&\"!\"&\"B3:B26\"),0),IF($D86=3,$D86+2,$D86+5))","v":40},{"$f":"INDEX(INDIRECT(\"'\"&$C86&\"'\"&\"!\"&\"B3:H26\"),MATCH(J$1,INDIRECT(\"'\"&$C86&\"'\"&\"!\"&\"B3:B26\"),0),IF($D86=3,$D86+2,$D86+5))","v":0},{"$f":"INDEX(INDIRECT(\"'\"&$C86&\"'\"&\"!\"&\"B3:H26\"),MATCH(K$1,INDIRECT(\"'\"&$C86&\"'\"&\"!\"&\"B3:B26\"),0),IF($D86=3,$D86+2,$D86+5))","v":0},{"$f":"INDEX(INDIRECT(\"'\"&$C86&\"'\"&\"!\"&\"B3:H26\"),MATCH(L$1,INDIRECT(\"'\"&$C86&\"'\"&\"!\"&\"B3:B26\"),0),IF($D86=3,$D86+2,$D86+5))","v":0},{"$f":"INDEX(INDIRECT(\"'\"&$C86&\"'\"&\"!\"&\"B3:H26\"),MATCH(M$1,INDIRECT(\"'\"&$C86&\"'\"&\"!\"&\"B3:B26\"),0),IF($D86=3,$D86+2,$D86+5))","v":0},{"$f":"INDEX(INDIRECT(\"'\"&$C86&\"'\"&\"!\"&\"B3:H26\"),MATCH(N$1,INDIRECT(\"'\"&$C86&\"'\"&\"!\"&\"B3:B26\"),0),IF($D86=3,$D86+2,$D86+5))","v":0},{"$f":"INDEX(INDIRECT(\"'\"&$C86&\"'\"&\"!\"&\"B3:H26\"),MATCH(O$1,INDIRECT(\"'\"&$C86&\"'\"&\"!\"&\"B3:B26\"),0),IF($D86=3,$D86+2,$D86+5))","v":0},{"$f":"INDEX(INDIRECT(\"'\"&$C86&\"'\"&\"!\"&\"B3:H26\"),MATCH(P$1,INDIRECT(\"'\"&$C86&\"'\"&\"!\"&\"B3:B26\"),0),IF($D86=3,$D86+2,$D86+5))","v":0},{"$f":"INDEX(INDIRECT(\"'\"&$C86&\"'\"&\"!\"&\"B3:H26\"),MATCH(Q$1,INDIRECT(\"'\"&$C86&\"'\"&\"!\"&\"B3:B26\"),0),IF($D86=3,$D86+2,$D86+5))","v":0},{"$f":"INDEX(INDIRECT(\"'\"&$C86&\"'\"&\"!\"&\"B3:H26\"),MATCH(R$1,INDIRECT(\"'\"&$C86&\"'\"&\"!\"&\"B3:B26\"),0),IF($D86=3,$D86+2,$D86+5))","v":0},{"$f":"INDEX(INDIRECT(\"'\"&$C86&\"'\"&\"!\"&\"B3:H26\"),MATCH(S$1,INDIRECT(\"'\"&$C86&\"'\"&\"!\"&\"B3:B26\"),0),IF($D86=3,$D86+2,$D86+5))","v":0},{"$f":"INDEX(INDIRECT(\"'\"&$C86&\"'\"&\"!\"&\"B3:H26\"),MATCH(T$1,INDIRECT(\"'\"&$C86&\"'\"&\"!\"&\"B3:B26\"),0),IF($D86=3,$D86+2,$D86+5))","v":0},{"$f":"INDEX(INDIRECT(\"'\"&$C86&\"'\"&\"!\"&\"B3:H26\"),MATCH(U$1,INDIRECT(\"'\"&$C86&\"'\"&\"!\"&\"B3:B26\"),0),IF($D86=3,$D86+2,$D86+5))","v":0},{"$f":"INDEX(INDIRECT(\"'\"&$C86&\"'\"&\"!\"&\"B3:H26\"),MATCH(V$1,INDIRECT(\"'\"&$C86&\"'\"&\"!\"&\"B3:B26\"),0),IF($D86=3,$D86+2,$D86+5))","v":0},{"$f":"INDEX(INDIRECT(\"'\"&$C86&\"'\"&\"!\"&\"B3:H26\"),MATCH(W$1,INDIRECT(\"'\"&$C86&\"'\"&\"!\"&\"B3:B26\"),0),IF($D86=3,$D86+2,$D86+5))","v":0},40]
[null,85,29,3,30,10,10,50,{"$f":"INDEX(INDIRECT(\"'\"&$C87&\"'\"&\"!\"&\"B3:H26\"),MATCH(I$1,INDIRECT(\"'\"&$C87&\"'\"&\"!\"&\"B3:B26\"),0),IF($D87=3,$D87+2,$D87+5))","v":20},{"$f":"INDEX(INDIRECT(\"'\"&$C87&\"'\"&\"!\"&\"B3:H26\"),MATCH(J$1,INDIRECT(\"'\"&$C87&\"'\"&\"!\"&\"B3:B26\"),0),IF($D87=3,$D87+2,$D87+5))","v":0},{"$f":"INDEX(INDIRECT(\"'\"&$C87&\"'\"&\"!\"&\"B3:H26\"),MATCH(K$1,INDIRECT(\"'\"&$C87&\"'\"&\"!\"&\"B3:B26\"),0),IF($D87=3,$D87+2,$D87+5))","v":0},{"$f":"INDEX(INDIRECT(\"'\"&$C87&\"'\"&\"!\"&\"B3:H26\"),MATCH(L$1,INDIRECT(\"'\"&$C87&\"'\"&\"!\"&\"B3:B26\"),0),IF($D87=3,$D87+2,$D87+5))","v":0},{"$f":"INDEX(INDIRECT(\"'\"&$C87&\"'\"&\"!\"&\"B3:H26\"),MATCH(M$1,INDIRECT(\"'\"&$C87&\"'\"&\"!\"&\"B3:B26\"),0),IF($D87=3,$D87+2,$D87+5))","v":0},{"$f":"INDEX(INDIRECT(\"'\"&$C87&\"'\"&\"!\"&\"B3:H26\"),MATCH(N$1,INDIRECT(\"'\"&$C87&\"'\"&\"!\"&\"B3:B26\"),0),IF($D87=3,$D87+2,$D87+5))","v":50},{"$f":"INDEX(INDIRECT(\"'\"&$C87&\"'\"&\"!\"&\"B3:H26\"),MATCH(O$1,INDIRECT(\"'\"&$C87&\"'\"&\"!\"&\"B3:B26\"),0),IF($D87=3,$D87+2,$D87+5))","v":0},{"$f":"INDEX(INDIRECT(\"'\"&$C87&\"'\"&\"!\"&\"B3:H26\"),MATCH(P$1,INDIRECT(\"'\"&$C87&\"'\"&\"!\"&\"B3:B26\"),0),IF($D87=3,$D87+2,$D87+5))","v":0},{"$f":"INDEX(INDIRECT(\"'\"&$C87&\"'\"&\"!\"&\"B3:H26\"),MATCH(Q$1,INDIRECT(\"'\"&$C87&\"'\"&\"!\"&\"B3:B26\"),0),IF($D87=3,$D87+2,$D87+5))","v":0},{"$f":"INDEX(INDIRECT(\"'\"&$C87&\"'\"&\"!\"&\"B3:H26\"),MATCH(R$1,INDIRECT(\"'\"&$C87&\"'\"&\"!\"&\"B3:B26\"),0),IF($D87=3,$D87+2,$D87+5))","v":0},{"$f":"INDEX(INDIRECT(\"'\"&$C87&\"'\"&\"!\"&\"B3:H26\"),MATCH(S$1,INDIRECT(\"'\"&$C87&\"'\"&\"!\"&\"B3:B26\"),0),IF($D87=3,$D87+2,$D87+5))","v":50},{"$f":"INDEX(INDIRECT(\"'\"&$C87&\"'\"&\"!\"&\"B3:H26\"),MATCH(T$1,INDIRECT(\"'\"&$C87&\"'\"&\"!\"&\"B3:B26\"),0),IF($D87=3,$D87+2,$D87+5))","v":0},{"$f":"INDEX(INDIRECT(\"'\"&$C87&\"'\"&\"!\"&\"B3:H26\"),MATCH(U$1,INDIRECT(\"'\"&$C87&\"'\"&\"!\"&\"B3:B26\"),0),IF($D87=3,$D87+2,$D87+5))","v":0},{"$f":"INDEX(INDIRECT(\"'\"&$C87&\"'\"&\"!\"&\"B3:H26\"),MATCH(V$1,INDIRECT(\"'\"&$C87&\"'\"&\"!\"&\"B3:B26\"),0),IF($D87=3,$D87+2,$D87+5))","v":0},{"$f":"INDEX(INDIRECT(\"'\"&$C87&\"'\"&\"!\"&\"B3:H26\"),MATCH(W$1,INDIRECT(\"'\"&$C87&\"'\"&\"!\"&\"B3:B26\"),0),IF($D87=3,$D87+2,$D87+5))","v":0},120]
[null,86,{"$f":"C87","v":29},1,30,10,10,50,{"$f":"INDEX(INDIRECT(\"'\"&$C88&\"'\"&\"!\"&\"B3:H26\"),MATCH(I$1,INDIRECT(\"'\"&$C88&\"'\"&\"!\"&\"B3:B26\"),0),IF($D88=3,$D88+2,$D88+5))","v":30},{"$f":"INDEX(INDIRECT(\"'\"&$C88&\"'\"&\"!\"&\"B3:H26\"),MATCH(J$1,INDIRECT(\"'\"&$C88&\"'\"&\"!\"&\"B3:B26\"),0),IF($D88=3,$D88+2,$D88+5))","v":0},{"$f":"INDEX(INDIRECT(\"'\"&$C88&\"'\"&\"!\"&\"B3:H26\"),MATCH(K$1,INDIRECT(\"'\"&$C88&\"'\"&\"!\"&\"B3:B26\"),0),IF($D88=3,$D88+2,$D88+5))","v":0},{"$f":"INDEX(INDIRECT(\"'\"&$C88&\"'\"&\"!\"&\"B3:H26\"),MATCH(L$1,INDIRECT(\"'\"&$C88&\"'\"&\"!\"&\"B3:B26\"),0),IF($D88=3,$D88+2,$D88+5))","v":0},{"$f":"INDEX(INDIRECT(\"'\"&$C88&\"'\"&\"!\"&\"B3:H26\"),MATCH(M$1,INDIRECT(\"'\"&$C88&\"'\"&\"!\"&\"B3:B26\"),0),IF($D88=3,$D88+2,$D88+5))","v":0},{"$f":"INDEX(INDIRECT(\"'\"&$C88&\"'\"&\"!\"&\"B3:H26\"),MATCH(N$1,INDIRECT(\"'\"&$C88&\"'\"&\"!\"&\"B3:B26\"),0),IF($D88=3,$D88+2,$D88+5))","v":0},{"$f":"INDEX(INDIRECT(\"'\"&$C88&\"'\"&\"!\"&\"B3:H26\"),MATCH(O$1,INDIRECT(\"'\"&$C88&\"'\"&\"!\"&\"B3:B26\"),0),IF($D88=3,$D88+2,$D88+5))","v":0},{"$f":"INDEX(INDIRECT(\"'\"&$C88&\"'\"&\"!\"&\"B3:H26\"),MATCH(P$1,INDIRECT(\"'\"&$C88&\"'\"&\"!\"&\"B3:B26\"),0),IF($D88=3,$D88+2,$D88+5))","v":0},{"$f":"INDEX(INDIRECT(\"'\"&$C88&\"'\"&\"!\"&\"B3:H26\"),MATCH(Q$1,INDIRECT(\"'\"&$C88&\"'\"&\"!\"&\"B3:B26\"),0),IF($D88=3,$D88+2,$D88+5))","v":0},{"$f":"INDEX(INDIRECT(\"'\"&$C88&\"'\"&\"!\"&\"B3:H26\"),MATCH(R$1,INDIRECT(\"'\"&$C88&\"'\"&\"!\"&\"B3:B26\"),0),IF($D88=3,$D88+2,$D88+5))","v":0},{"$f":"INDEX(INDIRECT(\"'\"&$C88&\"'\"&\"!\"&\"B3:H26\"),MATCH(S$1,INDIRECT(\"'\"&$C88&\"'\"&\"!\"&\"B3:B26\"),0),IF($D88=3,$D88+2,$D88+5))","v":0},{"$f":"INDEX(INDIRECT(\"'\"&$C88&\"'\"&\"!\"&\"B3:H26\"),MATCH(T$1,INDIRECT(\"'\"&$C88&\"'\"&\"!\"&\"B3:B26\"),0),IF($D88=3,$D88+2,$D88+5))","v":0},{"$f":"INDEX(INDIRECT(\"'\"&$C88&\"'\"&\"!\"&\"B3:H26\"),MATCH(U$1,INDIRECT(\"'\"&$C88&\"'\"&\"!\"&\"B3:B26\"),0),IF($D88=3,$D88+2,$D88+5))","v":0},{"$f":"INDEX(INDIRECT(\"'\"&$C88&\"'\"&\"!\"&\"B3:H26\"),MATCH(V$1,INDIRECT(\"'\"&$C88&\"'\"&\"!\"&\"B3:B26\"),0),IF($D88=3,$D88+2,$D88+5))","v":0},{"$f":"INDEX(INDIRECT(\"'\"&$C88&\"'\"&\"!\"&\"B3:H26\"),MATCH(W$1,INDIRECT(\"'\"&$C88&\"'\"&\"!\"&\"B3:B26\"),0),IF($D88=3,$D88+2,$D88+5))","v":0},30]
[null,87,29,2,30,10,10,50,{"$f":"INDEX(INDIRECT(\"'\"&$C89&\"'\"&\"!\"&\"B3:H26\"),MATCH(I$1,INDIRECT(\"'\"&$C89&\"'\"&\"!\"&\"B3:B26\"),0),IF($D89=3,$D89+2,$D89+5))","v":40},{"$f":"INDEX(INDIRECT(\"'\"&$C89&\"'\"&\"!\"&\"B3:H26\"),MATCH(J$1,INDIRECT(\"'\"&$C89&\"'\"&\"!\"&\"B3:B26\"),0),IF($D89=3,$D89+2,$D89+5))","v":0},{"$f":"INDEX(INDIRECT(\"'\"&$C89&\"'\"&\"!\"&\"B3:H26\"),MATCH(K$1,INDIRECT(\"'\"&$C89&\"'\"&\"!\"&\"B3:B26\"),0),IF($D89=3,$D89+2,$D89+5))","v":0},{"$f":"INDEX(INDIRECT(\"'\"&$C89&\"'\"&\"!\"&\"B3:H26\"),MATCH(L$1,INDIRECT(\"'\"&$C89&\"'\"&\"!\"&\"B3:B26\"),0),IF($D89=3,$D89+2,$D89+5))","v":0},{"$f":"INDEX(INDIRECT(\"'\"&$C89&\"'\"&\"!\"&\"B3:H26\"),MATCH(M$1,INDIRECT(\"'\"&$C89&\"'\"&\"!\"&\"B3:B26\"),0),IF($D89=3,$D89+2,$D89+5))","v":0},{"$f":"INDEX(INDIRECT(\"'\"&$C89&\"'\"&\"!\"&\"B3:H26\"),MATCH(N$1,INDIRECT(\"'\"&$C89&\"'\"&\"!\"&\"B3:B26\"),0),IF($D89=3,$D89+2,$D89+5))","v":0},{"$f":"INDEX(INDIRECT(\"'\"&$C89&\"'\"&\"!\"&\"B3:H26\"),MATCH(O$1,INDIRECT(\"'\"&$C89&\"'\"&\"!\"&\"B3:B26\"),0),IF($D89=3,$D89+2,$D89+5))","v":0},{"$f":"INDEX(INDIRECT(\"'\"&$C89&\"'\"&\"!\"&\"B3:H26\"),MATCH(P$1,INDIRECT(\"'\"&$C89&\"'\"&\"!\"&\"B3:B26\"),0),IF($D89=3,$D89+2,$D89+5))","v":0},{"$f":"INDEX(INDIRECT(\"'\"&$C89&\"'\"&\"!\"&\"B3:H26\"),MATCH(Q$1,INDIRECT(\"'\"&$C89&\"'\"&\"!\"&\"B3:B26\"),0),IF($D89=3,$D89+2,$D89+5))","v":0},{"$f":"INDEX(INDIRECT(\"'\"&$C89&\"'\"&\"!\"&\"B3:H26\"),MATCH(R$1,INDIRECT(\"'\"&$C89&\"'\"&\"!\"&\"B3:B26\"),0),IF($D89=3,$D89+2,$D89+5))","v":0},{"$f":"INDEX(INDIRECT(\"'\"&$C89&\"'\"&\"!\"&\"B3:H26\"),MATCH(S$1,INDIRECT(\"'\"&$C89&\"'\"&\"!\"&\"B3:B26\"),0),IF($D89=3,$D89+2,$D89+5))","v":0},{"$f":"INDEX(INDIRECT(\"'\"&$C89&\"'\"&\"!\"&\"B3:H26\"),MATCH(T$1,INDIRECT(\"'\"&$C89&\"'\"&\"!\"&\"B3:B26\"),0),IF($D89=3,$D89+2,$D89+5))","v":0},{"$f":"INDEX(INDIRECT(\"'\"&$C89&\"'\"&\"!\"&\"B3:H26\"),MATCH(U$1,INDIRECT(\"'\"&$C89&\"'\"&\"!\"&\"B3:B26\"),0),IF($D89=3,$D89+2,$D89+5))","v":0},{"$f":"INDEX(INDIRECT(\"'\"&$C89&\"'\"&\"!\"&\"B3:H26\"),MATCH(V$1,INDIRECT(\"'\"&$C89&\"'\"&\"!\"&\"B3:B26\"),0),IF($D89=3,$D89+2,$D89+5))","v":0},{"$f":"INDEX(INDIRECT(\"'\"&$C89&\"'\"&\"!\"&\"B3:H26\"),MATCH(W$1,INDIRECT(\"'\"&$C89&\"'\"&\"!\"&\"B3:B26\"),0),IF($D89=3,$D89+2,$D89+5))","v":0},40]
[null,88,30,3,30,10,10,50,{"$f":"INDEX(INDIRECT(\"'\"&$C90&\"'\"&\"!\"&\"B3:H26\"),MATCH(I$1,INDIRECT(\"'\"&$C90&\"'\"&\"!\"&\"B3:B26\"),0),IF($D90=3,$D90+2,$D90+5))","v":20},{"$f":"INDEX(INDIRECT(\"'\"&$C90&\"'\"&\"!\"&\"B3:H26\"),MATCH(J$1,INDIRECT(\"'\"&$C90&\"'\"&\"!\"&\"B3:B26\"),0),IF($D90=3,$D90+2,$D90+5))","v":0},{"$f":"INDEX(INDIRECT(\"'\"&$C90&\"'\"&\"!\"&\"B3:H26\"),MATCH(K$1,INDIRECT(\"'\"&$C90&\"'\"&\"!\"&\"B3:B26\"),0),IF($D90=3,$D90+2,$D90+5))","v":0},{"$f":"INDEX(INDIRECT(\"'\"&$C90&\"'\"&\"!\"&\"B3:H26\"),MATCH(L$1,INDIRECT(\"'\"&$C90&\"'\"&\"!\"&\"B3:B26\"),0),IF($D90=3,$D90+2,$D90+5))","v":0},{"$f":"INDEX(INDIRECT(\"'\"&$C90&\"'\"&\"!\"&\"B3:H26\"),MATCH(M$1,INDIRECT(\"'\"&$C90&\"'\"&\"!\"&\"B3:B26\"),0),IF($D90=3,$D90+2,$D90+5))","v":0},{"$f":"INDEX(INDIRECT(\"'\"&$C90&\"'\"&\"!\"&\"B3:H26\"),MATCH(N$1,INDIRECT(\"'\"&$C90&\"'\"&\"!\"&\"B3:B26\"),0),IF($D90=3,$D90+2,$D90+5))","v":50},{"$f":"INDEX(INDIRECT(\"'\"&$C90&\"'\"&\"!\"&\"B3:H26\"),MATCH(O$1,INDIRECT(\"'\"&$C90&\"'\"&\"!\"&\"B3:B26\"),0),IF($D90=3,$D90+2,$D90+5))","v":0},{"$f":"INDEX(INDIRECT(\"'\"&$C90&\"'\"&\"!\"&\"B3:H26\"),MATCH(P$1,INDIRECT(\"'\"&$C90&\"'\"&\"!\"&\"B3:B26\"),0),IF($D90=3,$D90+2,$D90+5))","v":0},{"$f":"INDEX(INDIRECT(\"'\"&$C90&\"'\"&\"!\"&\"B3:H26\"),MATCH(Q$1,INDIRECT(\"'\"&$C90&\"'\"&\"!\"&\"B3:B26\"),0),IF($D90=3,$D90+2,$D90+5))","v":0},{"$f":"INDEX(INDIRECT(\"'\"&$C90&\"'\"&\"!\"&\"B3:H26\"),MATCH(R$1,INDIRECT(\"'\"&$C90&\"'\"&\"!\"&\"B3:B26\"),0),IF($D90=3,$D90+2,$D90+5))","v":0},{"$f":"INDEX(INDIRECT(\"'\"&$C90&\"'\"&\"!\"&\"B3:H26\"),MATCH(S$1,INDIRECT(\"'\"&$C90&\"'\"&\"!\"&\"B3:B26\"),0),IF($D90=3,$D90+2,$D90+5))","v":50},{"$f":"INDEX(INDIRECT(\"'\"&$C90&\"'\"&\"!\"&\"B3:H26\"),MATCH(T$1,INDIRECT(\"'\"&$C90&\"'\"&\"!\"&\"B3:B26\"),0),IF($D90=3,$D90+2,$D90+5))","v":0},{"$f":"INDEX(INDIRECT(\"'\"&$C90&\"'\"&\"!\"&\"B3:H26\"),MATCH(U$1,INDIRECT(\"'\"&$C90&\"'\"&\"!\"&\"B3:B26\"),0),IF($D90=3,$D90+2,$D90+5))","v":17},{"$f":"INDEX(INDIRECT(\"'\"&$C90&\"'\"&\"!\"&\"B3:H26\"),MATCH(V$1,INDIRECT(\"'\"&$C90&\"'\"&\"!\"&\"B3:B26\"),0),IF($D90=3,$D90+2,$D90+5))","v":0},{"$f":"INDEX(INDIRECT(\"'\"&$C90&\"'\"&\"!\"&\"B3:H26\"),MATCH(W$1,INDIRECT(\"'\"&$C90&\"'\"&\"!\"&\"B3:B26\"),0),IF($D90=3,$D90+2,$D90+5))","v":0},137]
[null,89,{"$f":"C90","v":30},1,30,10,10,50,{"$f":"INDEX(INDIRECT(\"'\"&$C91&\"'\"&\"!\"&\"B3:H26\"),MATCH(I$1,INDIRECT(\"'\"&$C91&\"'\"&\"!\"&\"B3:B26\"),0),IF($D91=3,$D91+2,$D91+5))","v":30},{"$f":"INDEX(INDIRECT(\"'\"&$C91&\"'\"&\"!\"&\"B3:H26\"),MATCH(J$1,INDIRECT(\"'\"&$C91&\"'\"&\"!\"&\"B3:B26\"),0),IF($D91=3,$D91+2,$D91+5))","v":0},{"$f":"INDEX(INDIRECT(\"'\"&$C91&\"'\"&\"!\"&\"B3:H26\"),MATCH(K$1,INDIRECT(\"'\"&$C91&\"'\"&\"!\"&\"B3:B26\"),0),IF($D91=3,$D91+2,$D91+5))","v":0},{"$f":"INDEX(INDIRECT(\"'\"&$C91&\"'\"&\"!\"&\"B3:H26\"),MATCH(L$1,INDIRECT(\"'\"&$C91&\"'\"&\"!\"&\"B3:B26\"),0),IF($D91=3,$D91+2,$D91+5))","v":0},{"$f":"INDEX(INDIRECT(\"'\"&$C91&\"'\"&\"!\"&\"B3:H26\"),MATCH(M$1,INDIRECT(\"'\"&$C91&\"'\"&\"!\"&\"B3:B26\"),0),IF($D91=3,$D91+2,$D91+5))","v":0},{"$f":"INDEX(INDIRECT(\"'\"&$C91&\"'\"&\"!\"&\"B3:H26\"),MATCH(N$1,INDIRECT(\"'\"&$C91&\"'\"&\"!\"&\"B3:B26\"),0),IF($D91=3,$D91+2,$D91+5))","v":0},{"$f":"INDEX(INDIRECT(\"'\"&$C91&\"'\"&\"!\"&\"B3:H26\"),MATCH(O$1,INDIRECT(\"'\"&$C91&\"'\"&\"!\"&\"B3:B26\"),0),IF($D91=3,$D91+2,$D91+5))","v":0},{"$f":"INDEX(INDIRECT(\"'\"&$C91&\"'\"&\"!\"&\"B3:H26\"),MATCH(P$1,INDIRECT(\"'\"&$C91&\"'\"&\"!\"&\"B3:B26\"),0),IF($D91=3,$D91+2,$D91+5))","v":0},{"$f":"INDEX(INDIRECT(\"'\"&$C91&\"'\"&\"!\"&\"B3:H26\"),MATCH(Q$1,INDIRECT(\"'\"&$C91&\"'\"&\"!\"&\"B3:B26\"),0),IF($D91=3,$D91+2,$D91+5))","v":0},{"$f":"INDEX(INDIRECT(\"'\"&$C91&\"'\"&\"!\"&\"B3:H26\"),MATCH(R$1,INDIRECT(\"'\"&$C91&\"'\"&\"!\"&\"B3:B26\"),0),IF($D91=3,$D91+2,$D91+5))","v":0},{"$f":"INDEX(INDIRECT(\"'\"&$C91&\"'\"&\"!\"&\"B3:H26\"),MATCH(S$1,INDIRECT(\"'\"&$C91&\"'\"&\"!\"&\"B3:B26\"),0),IF($D91=3,$D91+2,$D91+5))","v":0},{"$f":"INDEX(INDIRECT(\"'\"&$C91&\"'\"&\"!\"&\"B3:H26\"),MATCH(T$1,INDIRECT(\"'\"&$C91&\"'\"&\"!\"&\"B3:B26\"),0),IF($D91=3,$D91+2,$D91+5))","v":0},{"$f":"INDEX(INDIRECT(\"'\"&$C91&\"'\"&\"!\"&\"B3:H26\"),MATCH(U$1,INDIRECT(\"'\"&$C91&\"'\"&\"!\"&\"B3:B26\"),0),IF($D91=3,$D91+2,$D91+5))","v":0},{"$f":"INDEX(INDIRECT(\"'\"&$C91&\"'\"&\"!\"&\"B3:H26\"),MATCH(V$1,INDIRECT(\"'\"&$C91&\"'\"&\"!\"&\"B3:B26\"),0),IF($D91=3,$D91+2,$D91+5))","v":0},{"$f":"INDEX(INDIRECT(\"'\"&$C91&\"'\"&\"!\"&\"B3:H26\"),MATCH(W$1,INDIRECT(\"'\"&$C91&\"'\"&\"!\"&\"B3:B26\"),0),IF($D91=3,$D91+2,$D91+5))","v":0},30]
[null,90,30,2,30,10,10,50,{"$f":"INDEX(INDIRECT(\"'\"&$C92&\"'\"&\"!\"&\"B3:H26\"),MATCH(I$1,INDIRECT(\"'\"&$C92&\"'\"&\"!\"&\"B3:B26\"),0),IF($D92=3,$D92+2,$D92+5))","v":40},{"$f":"INDEX(INDIRECT(\"'\"&$C92&\"'\"&\"!\"&\"B3:H26\"),MATCH(J$1,INDIRECT(\"'\"&$C92&\"'\"&\"!\"&\"B3:B26\"),0),IF($D92=3,$D92+2,$D92+5))","v":0},{"$f":"INDEX(INDIRECT(\"'\"&$C92&\"'\"&\"!\"&\"B3:H26\"),MATCH(K$1,INDIRECT(\"'\"&$C92&\"'\"&\"!\"&\"B3:B26\"),0),IF($D92=3,$D92+2,$D92+5))","v":0},{"$f":"INDEX(INDIRECT(\"'\"&$C92&\"'\"&\"!\"&\"B3:H26\"),MATCH(L$1,INDIRECT(\"'\"&$C92&\"'\"&\"!\"&\"B3:B26\"),0),IF($D92=3,$D92+2,$D92+5))","v":0},{"$f":"INDEX(INDIRECT(\"'\"&$C92&\"'\"&\"!\"&\"B3:H26\"),MATCH(M$1,INDIRECT(\"'\"&$C92&\"'\"&\"!\"&\"B3:B26\"),0),IF($D92=3,$D92+2,$D92+5))","v":0},{"$f":"INDEX(INDIRECT(\"'\"&$C92&\"'\"&\"!\"&\"B3:H26\"),MATCH(N$1,INDIRECT(\"'\"&$C92&\"'\"&\"!\"&\"B3:B26\"),0),IF($D92=3,$D92+2,$D92+5))","v":0},{"$f":"INDEX(INDIRECT(\"'\"&$C92&\"'\"&\"!\"&\"B3:H26\"),MATCH(O$1,INDIRECT(\"'\"&$C92&\"'\"&\"!\"&\"B3:B26\"),0),IF($D92=3,$D92+2,$D92+5))","v":0},{"$f":"INDEX(INDIRECT(\"'\"&$C92&\"'\"&\"!\"&\"B3:H26\"),MATCH(P$1,INDIRECT(\"'\"&$C92&\"'\"&\"!\"&\"B3:B26\"),0),IF($D92=3,$D92+2,$D92+5))","v":0},{"$f":"INDEX(INDIRECT(\"'\"&$C92&\"'\"&\"!\"&\"B3:H26\"),MATCH(Q$1,INDIRECT(\"'\"&$C92&\"'\"&\"!\"&\"B3:B26\"),0),IF($D92=3,$D92+2,$D92+5))","v":0},{"$f":"INDEX(INDIRECT(\"'\"&$C92&\"'\"&\"!\"&\"B3:H26\"),MATCH(R$1,INDIRECT(\"'\"&$C92&\"'\"&\"!\"&\"B3:B26\"),0),IF($D92=3,$D92+2,$D92+5))","v":0},{"$f":"INDEX(INDIRECT(\"'\"&$C92&\"'\"&\"!\"&\"B3:H26\"),MATCH(S$1,INDIRECT(\"'\"&$C92&\"'\"&\"!\"&\"B3:B26\"),0),IF($D92=3,$D92+2,$D92+5))","v":0},{"$f":"INDEX(INDIRECT(\"'\"&$C92&\"'\"&\"!\"&\"B3:H26\"),MATCH(T$1,INDIRECT(\"'\"&$C92&\"'\"&\"!\"&\"B3:B26\"),0),IF($D92=3,$D92+2,$D92+5))","v":0},{"$f":"INDEX(INDIRECT(\"'\"&$C92&\"'\"&\"!\"&\"B3:H26\"),MATCH(U$1,INDIRECT(\"'\"&$C92&\"'\"&\"!\"&\"B3:B26\"),0),IF($D92=3,$D92+2,$D92+5))","v":0},{"$f":"INDEX(INDIRECT(\"'\"&$C92&\"'\"&\"!\"&\"B3:H26\"),MATCH(V$1,INDIRECT(\"'\"&$C92&\"'\"&\"!\"&\"B3:B26\"),0),IF($D92=3,$D92+2,$D92+5))","v":0},{"$f":"INDEX(INDIRECT(\"'\"&$C92&\"'\"&\"!\"&\"B3:H26\"),MATCH(W$1,INDIRECT(\"'\"&$C92&\"'\"&\"!\"&\"B3:B26\"),0),IF($D92=3,$D92+2,$D92+5))","v":0},40]
[null,91,31,3,30,10,10,50,{"$f":"INDEX(INDIRECT(\"'\"&$C93&\"'\"&\"!\"&\"B3:H26\"),MATCH(I$1,INDIRECT(\"'\"&$C93&\"'\"&\"!\"&\"B3:B26\"),0),IF($D93=3,$D93+2,$D93+5))","v":20},{"$f":"INDEX(INDIRECT(\"'\"&$C93&\"'\"&\"!\"&\"B3:H26\"),MATCH(J$1,INDIRECT(\"'\"&$C93&\"'\"&\"!\"&\"B3:B26\"),0),IF($D93=3,$D93+2,$D93+5))","v":0},{"$f":"INDEX(INDIRECT(\"'\"&$C93&\"'\"&\"!\"&\"B3:H26\"),MATCH(K$1,INDIRECT(\"'\"&$C93&\"'\"&\"!\"&\"B3:B26\"),0),IF($D93=3,$D93+2,$D93+5))","v":0},{"$f":"INDEX(INDIRECT(\"'\"&$C93&\"'\"&\"!\"&\"B3:H26\"),MATCH(L$1,INDIRECT(\"'\"&$C93&\"'\"&\"!\"&\"B3:B26\"),0),IF($D93=3,$D93+2,$D93+5))","v":0},{"$f":"INDEX(INDIRECT(\"'\"&$C93&\"'\"&\"!\"&\"B3:H26\"),MATCH(M$1,INDIRECT(\"'\"&$C93&\"'\"&\"!\"&\"B3:B26\"),0),IF($D93=3,$D93+2,$D93+5))","v":0},{"$f":"INDEX(INDIRECT(\"'\"&$C93&\"'\"&\"!\"&\"B3:H26\"),MATCH(N$1,INDIRECT(\"'\"&$C93&\"'\"&\"!\"&\"B3:B26\"),0),IF($D93=3,$D93+2,$D93+5))","v":50},{"$f":"INDEX(INDIRECT(\"'\"&$C93&\"'\"&\"!\"&\"B3:H26\"),MATCH(O$1,INDIRECT(\"'\"&$C93&\"'\"&\"!\"&\"B3:B26\"),0),IF($D93=3,$D93+2,$D93+5))","v":0},{"$f":"INDEX(INDIRECT(\"'\"&$C93&\"'\"&\"!\"&\"B3:H26\"),MATCH(P$1,INDIRECT(\"'\"&$C93&\"'\"&\"!\"&\"B3:B26\"),0),IF($D93=3,$D93+2,$D93+5))","v":0},{"$f":"INDEX(INDIRECT(\"'\"&$C93&\"'\"&\"!\"&\"B3:H26\"),MATCH(Q$1,INDIRECT(\"'\"&$C93&\"'\"&\"!\"&\"B3:B26\"),0),IF($D93=3,$D93+2,$D93+5))","v":0},{"$f":"INDEX(INDIRECT(\"'\"&$C93&\"'\"&\"!\"&\"B3:H26\"),MATCH(R$1,INDIRECT(\"'\"&$C93&\"'\"&\"!\"&\"B3:B26\"),0),IF($D93=3,$D93+2,$D93+5))","v":0},{"$f":"INDEX(INDIRECT(\"'\"&$C93&\"'\"&\"!\"&\"B3:H26\"),MATCH(S$1,INDIRECT(\"'\"&$C93&\"'\"&\"!\"&\"B3:B26\"),0),IF($D93=3,$D93+2,$D93+5))","v":50},{"$f":"INDEX(INDIRECT(\"'\"&$C93&\"'\"&\"!\"&\"B3:H26\"),MATCH(T$1,INDIRECT(\"'\"&$C93&\"'\"&\"!\"&\"B3:B26\"),0),IF($D93=3,$D93+2,$D93+5))","v":0},{"$f":"INDEX(INDIRECT(\"'\"&$C93&\"'\"&\"!\"&\"B3:H26\"),MATCH(U$1,INDIRECT(\"'\"&$C93&\"'\"&\"!\"&\"B3:B26\"),0),IF($D93=3,$D93+2,$D93+5))","v":0},{"$f":"INDEX(INDIRECT(\"'\"&$C93&\"'\"&\"!\"&\"B3:H26\"),MATCH(V$1,INDIRECT(\"'\"&$C93&\"'\"&\"!\"&\"B3:B26\"),0),IF($D93=3,$D93+2,$D93+5))","v":0},{"$f":"INDEX(INDIRECT(\"'\"&$C93&\"'\"&\"!\"&\"B3:H26\"),MATCH(W$1,INDIRECT(\"'\"&$C93&\"'\"&\"!\"&\"B3:B26\"),0),IF($D93=3,$D93+2,$D93+5))","v":0},120]
[null,92,{"$f":"C93","v":31},1,30,10,10,50,{"$f":"INDEX(INDIRECT(\"'\"&$C94&\"'\"&\"!\"&\"B3:H26\"),MATCH(I$1,INDIRECT(\"'\"&$C94&\"'\"&\"!\"&\"B3:B26\"),0),IF($D94=3,$D94+2,$D94+5))","v":30},{"$f":"INDEX(INDIRECT(\"'\"&$C94&\"'\"&\"!\"&\"B3:H26\"),MATCH(J$1,INDIRECT(\"'\"&$C94&\"'\"&\"!\"&\"B3:B26\"),0),IF($D94=3,$D94+2,$D94+5))","v":0},{"$f":"INDEX(INDIRECT(\"'\"&$C94&\"'\"&\"!\"&\"B3:H26\"),MATCH(K$1,INDIRECT(\"'\"&$C94&\"'\"&\"!\"&\"B3:B26\"),0),IF($D94=3,$D94+2,$D94+5))","v":0},{"$f":"INDEX(INDIRECT(\"'\"&$C94&\"'\"&\"!\"&\"B3:H26\"),MATCH(L$1,INDIRECT(\"'\"&$C94&\"'\"&\"!\"&\"B3:B26\"),0),IF($D94=3,$D94+2,$D94+5))","v":0},{"$f":"INDEX(INDIRECT(\"'\"&$C94&\"'\"&\"!\"&\"B3:H26\"),MATCH(M$1,INDIRECT(\"'\"&$C94&\"'\"&\"!\"&\"B3:B26\"),0),IF($D94=3,$D94+2,$D94+5))","v":0},{"$f":"INDEX(INDIRECT(\"'\"&$C94&\"'\"&\"!\"&\"B3:H26\"),MATCH(N$1,INDIRECT(\"'\"&$C94&\"'\"&\"!\"&\"B3:B26\"),0),IF($D94=3,$D94+2,$D94+5))","v":0},{"$f":"INDEX(INDIRECT(\"'\"&$C94&\"'\"&\"!\"&\"B3:H26\"),MATCH(O$1,INDIRECT(\"'\"&$C94&\"'\"&\"!\"&\"B3:B26\"),0),IF($D94=3,$D94+2,$D94+5))","v":0},{"$f":"INDEX(INDIRECT(\"'\"&$C94&\"'\"&\"!\"&\"B3:H26\"),MATCH(P$1,INDIRECT(\"'\"&$C94&\"'\"&\"!\"&\"B3:B26\"),0),IF($D94=3,$D94+2,$D94+5))","v":0},{"$f":"INDEX(INDIRECT(\"'\"&$C94&\"'\"&\"!\"&\"B3:H26\"),MATCH(Q$1,INDIRECT(\"'\"&$C94&\"'\"&\"!\"&\"B3:B26\"),0),IF($D94=3,$D94+2,$D94+5))","v":0},{"$f":"INDEX(INDIRECT(\"'\"&$C94&\"'\"&\"!\"&\"B3:H26\"),MATCH(R$1,INDIRECT(\"'\"&$C94&\"'\"&\"!\"&\"B3:B26\"),0),IF($D94=3,$D94+2,$D94+5))","v":0},{"$f":"INDEX(INDIRECT(\"'\"&$C94&\"'\"&\"!\"&\"B3:H26\"),MATCH(S$1,INDIRECT(\"'\"&$C94&\"'\"&\"!\"&\"B3:B26\"),0),IF($D94=3,$D94+2,$D94+5))","v":0},{"$f":"INDEX(INDIRECT(\"'\"&$C94&\"'\"&\"!\"&\"B3:H26\"),MATCH(T$1,INDIRECT(\"'\"&$C94&\"'\"&\"!\"&\"B3:B26\"),0),IF($D94=3,$D94+2,$D94+5))","v":0},{"$f":"INDEX(INDIRECT(\"'\"&$C94&\"'\"&\"!\"&\"B3:H26\"),MATCH(U$1,INDIRECT(\"'\"&$C94&\"'\"&\"!\"&\"B3:B26\"),0),IF($D94=3,$D94+2,$D94+5))","v":0},{"$f":"INDEX(INDIRECT(\"'\"&$C94&\"'\"&\"!\"&\"B3:H26\"),MATCH(V$1,INDIRECT(\"'\"&$C94&\"'\"&\"!\"&\"B3:B26\"),0),IF($D94=3,$D94+2,$D94+5))","v":0},{"$f":"INDEX(INDIRECT(\"'\"&$C94&\"'\"&\"!\"&\"B3:H26\"),MATCH(W$1,INDIRECT(\"'\"&$C94&\"'\"&\"!\"&\"B3:B26\"),0),IF($D94=3,$D94+2,$D94+5))","v":0},30]
[null,93,31,2,30,10,10,50,{"$f":"INDEX(INDIRECT(\"'\"&$C95&\"'\"&\"!\"&\"B3:H26\"),MATCH(I$1,INDIRECT(\"'\"&$C95&\"'\"&\"!\"&\"B3:B26\"),0),IF($D95=3,$D95+2,$D95+5))","v":40},{"$f":"INDEX(INDIRECT(\"'\"&$C95&\"'\"&\"!\"&\"B3:H26\"),MATCH(J$1,INDIRECT(\"'\"&$C95&\"'\"&\"!\"&\"B3:B26\"),0),IF($D95=3,$D95+2,$D95+5))","v":0},{"$f":"INDEX(INDIRECT(\"'\"&$C95&\"'\"&\"!\"&\"B3:H26\"),MATCH(K$1,INDIRECT(\"'\"&$C95&\"'\"&\"!\"&\"B3:B26\"),0),IF($D95=3,$D95+2,$D95+5))","v":0},{"$f":"INDEX(INDIRECT(\"'\"&$C95&\"'\"&\"!\"&\"B3:H26\"),MATCH(L$1,INDIRECT(\"'\"&$C95&\"'\"&\"!\"&\"B3:B26\"),0),IF($D95=3,$D95+2,$D95+5))","v":0},{"$f":"INDEX(INDIRECT(\"'\"&$C95&\"'\"&\"!\"&\"B3:H26\"),MATCH(M$1,INDIRECT(\"'\"&$C95&\"'\"&\"!\"&\"B3:B26\"),0),IF($D95=3,$D95+2,$D95+5))","v":0},{"$f":"INDEX(INDIRECT(\"'\"&$C95&\"'\"&\"!\"&\"B3:H26\"),MATCH(N$1,INDIRECT(\"'\"&$C95&\"'\"&\"!\"&\"B3:B26\"),0),IF($D95=3,$D95+2,$D95+5))","v":0},{"$f":"INDEX(INDIRECT(\"'\"&$C95&\"'\"&\"!\"&\"B3:H26\"),MATCH(O$1,INDIRECT(\"'\"&$C95&\"'\"&\"!\"&\"B3:B26\"),0),IF($D95=3,$D95+2,$D95+5))","v":0},{"$f":"INDEX(INDIRECT(\"'\"&$C95&\"'\"&\"!\"&\"B3:H26\"),MATCH(P$1,INDIRECT(\"'\"&$C95&\"'\"&\"!\"&\"B3:B26\"),0),IF($D95=3,$D95+2,$D95+5))","v":0},{"$f":"INDEX(INDIRECT(\"'\"&$C95&\"'\"&\"!\"&\"B3:H26\"),MATCH(Q$1,INDIRECT(\"'\"&$C95&\"'\"&\"!\"&\"B3:B26\"),0),IF($D95=3,$D95+2,$D95+5))","v":0},{"$f":"INDEX(INDIRECT(\"'\"&$C95&\"'\"&\"!\"&\"B3:H26\"),MATCH(R$1,INDIRECT(\"'\"&$C95&\"'\"&\"!\"&\"B3:B26\"),0),IF($D95=3,$D95+2,$D95+5))","v":0},{"$f":"INDEX(INDIRECT(\"'\"&$C95&\"'\"&\"!\"&\"B3:H26\"),MATCH(S$1,INDIRECT(\"'\"&$C95&\"'\"&\"!\"&\"B3:B26\"),0),IF($D95=3,$D95+2,$D95+5))","v":0},{"$f":"INDEX(INDIRECT(\"'\"&$C95&\"'\"&\"!\"&\"B3:H26\"),MATCH(T$1,INDIRECT(\"'\"&$C95&\"'\"&\"!\"&\"B3:B26\"),0),IF($D95=3,$D95+2,$D95+5))","v":0},{"$f":"INDEX(INDIRECT(\"'\"&$C95&\"'\"&\"!\"&\"B3:H26\"),MATCH(U$1,INDIRECT(\"'\"&$C95&\"'\"&\"!\"&\"B3:B26\"),0),IF($D95=3,$D95+2,$D95+5))","v":0},{"$f":"INDEX(INDIRECT(\"'\"&$C95&\"'\"&\"!\"&\"B3:H26\"),MATCH(V$1,INDIRECT(\"'\"&$C95&\"'\"&\"!\"&\"B3:B26\"),0),IF($D95=3,$D95+2,$D95+5))","v":0},{"$f":"INDEX(INDIRECT(\"'\"&$C95&\"'\"&\"!\"&\"B3:H26\"),MATCH(W$1,INDIRECT(\"'\"&$C95&\"'\"&\"!\"&\"B3:B26\"),0),IF($D95=3,$D95+2,$D95+5))","v":0},40]
[null,null,null,null,{"$f":"SUM(E3:E95)","v":2790},930,930,4650,2700,0,0,0,null,{"$f":"SUM(N3:N95)","v":1500},0,0,0,0,1500,0,47,0,0,5747]