{"text_format":"1","workbook":"xlsx","n_sheets":2,"sheets":["baza","mjesec"],"not_rendered":{"charts":0,"images":0,"macros":1,"external_links":1,"defined_names":3,"comments":0,"pivot_tables":0},"unopened":[],"bounds":{"document_bytes":16777216,"sheet_cells":100000,"rows_first":2000,"rows_last":500,"rows_between":2000,"halvings":0,"cell_chars":16384,"cell_head_chars":4096},"cells_cut":0,"cells_raw":0,"read":"whole","date_system":"1900"}

{"sheet":"baza","index":0,"n_rows":47,"n_cols":76,"rows_kept":47,"cut":false,"hidden":false,"merged":[[10,14,11,17],[8,8,9,29],[4,0,4,7],[5,0,5,7],[6,0,6,2],[13,1,15,1],[13,0,15,0],[10,22,11,29],[10,21,11,21],[10,19,11,20],[4,35,4,46],[5,35,5,46],[13,35,13,62],[13,63,13,75],[13,2,15,2],[13,3,15,3],[13,4,13,34],[0,0,0,7],[1,0,1,7],[2,0,2,7],[3,0,3,7],[0,35,0,46],[1,35,1,46],[2,35,2,46],[3,35,3,46],[35,0,35,2],[32,0,32,2],[33,0,33,2],[34,0,34,2]]}
[]
[]
[]
[]
[]
[]
[]
["Banja Luka,",null,{"$f":"DATE(god+1,MONTH(P11&1),V11)","v":"2016-12-31"}]
[null,null,null,null,null,null,null,null,"DNEVNA EVIDENCIJA PRISUSTVA NA RADNOM MJESTU"]
[]
[null,null,null,null,null,null,null,null,null,null,null,null,null,null,"ZA  TEKUĆU",null,null,null,null,2016,null,null,"GODINE"]
[]
[]
["R. br.",null,"Prezime i ime",null,"JANUAR",null,null,null,null,null,null,null,null,null,null,null,null,null,null,null,null,null,null,null,null,null,null,null,null,null,null,null,null,null,null,"FEBRUAR",null,null,null,null,null,null,null,null,null,null,null,null,null,null,null,null,null,null,null,null,null,null,null,null,null,null,null,"MART"]
[null,null,null,null,{"$f":"DATE(god,1,1)","v":"2016-01-01"},{"$f":"E15+1","v":"2016-01-02"},{"$f":"F15+1","v":"2016-01-03"},"2016-01-04","2016-01-05","2016-01-06","2016-01-07","2016-01-08","2016-01-09","2016-01-10","2016-01-11","2016-01-12","2016-01-13","2016-01-14","2016-01-15","2016-01-16","2016-01-17","2016-01-18","2016-01-19","2016-01-20","2016-01-21","2016-01-22","2016-01-23","2016-01-24","2016-01-25","2016-01-26",{"$f":"AD15+1","v":"2016-01-27"},"2016-01-28","2016-01-29","2016-01-30","2016-01-31","2016-02-01","2016-02-02","2016-02-03","2016-02-04","2016-02-05","2016-02-06","2016-02-07","2016-02-08","2016-02-09","2016-02-10","2016-02-11","2016-02-12","2016-02-13","2016-02-14","2016-02-15","2016-02-16","2016-02-17","2016-02-18","2016-02-19","2016-02-20","2016-02-21","2016-02-22","2016-02-23","2016-02-24","2016-02-25","2016-02-26","2016-02-27",{"$f":"BJ15+1","v":"2016-02-28"},"2016-02-29","2016-03-01","2016-03-02","2016-03-03","2016-03-04","2016-03-05","2016-03-06","2016-03-07","2016-03-08","2016-03-09","2016-03-10","2016-03-11","2016-03-12"]
[null,null,null,null,{"$f":"TEXT(E15,\"ddd\")","v":"pet"},{"$f":"TEXT(F15,\"ddd\")","v":"sub"},"ned","pon","uto","sri","čet","pet","sub","ned","pon","uto","sri","čet","pet","sub","ned","pon","uto","sri","čet","pet","sub","ned","pon","uto",{"$f":"TEXT(AE15,\"ddd\")","v":"sri"},"čet","pet","sub","ned","pon","uto","sri","čet","pet","sub","ned","pon","uto","sri","čet","pet","sub","ned","pon","uto","sri","čet","pet","sub","ned","pon","uto","sri","čet","pet","sub","ned","pon","uto","sri","čet","pet","sub","ned","pon","uto","sri","čet","pet","sub"]
[{"$f":"IF(C17<1,\"\",SUBTOTAL(3,C$17:C17))","v":1},1,1,null,"B","B","B","B","B","B","B","B","B","B","B","B","B","B","B","B","B","B","B","B","B","B","B","B","B","B","B","B","B","B","B","B","B","B","B","B","B","B","B","B","B","B","B","B","B","B","B","B","B","B","B","B","B","B","B","B","B","B","B","B"]
[{"$f":"IF(C18<1,\"\",SUBTOTAL(3,C$17:C18))","v":2},2,2,null,"B","B","B","B","B","B","B","B","B","B","B","B","B","B","B","B","B","B","B","B","B","B","B","B","B","B","B","B","B","B","B","B","B","B","B","B","B","B","B","B","B","B","B","B","B","B","B","B","B","B","B","B","B","B","B","B","B","B","B","B"]
[{"$f":"IF(C19<1,\"\",SUBTOTAL(3,C$17:C19))","v":3},3,3]
[{"$f":"IF(C20<1,\"\",SUBTOTAL(3,C$17:C20))","v":4},4,4,null,null,null,null,null,null,null,null,null,null,null,null,null,null,null,null,null,null,null,null,null,null,null,null,null,null,null,null,null,null,null,null,null,null,null,null,null,null,"X",null,null,null,null,null,"X"]
[{"$f":"IF(C21<1,\"\",SUBTOTAL(3,C$17:C21))","v":5},5,5]
[{"$f":"IF(C22<1,\"\",SUBTOTAL(3,C$17:C22))","v":6},6,6]
[{"$f":"IF(C23<1,\"\",SUBTOTAL(3,C$17:C23))","v":7},7,7]
[{"$f":"IF(C24<1,\"\",SUBTOTAL(3,C$17:C24))","v":8},8,8]
[{"$f":"IF(C25<1,\"\",SUBTOTAL(3,C$17:C25))","v":9},9,9]
[{"$f":"IF(C26<1,\"\",SUBTOTAL(3,C$17:C26))","v":10},10,10]
[{"$f":"IF(C27<1,\"\",SUBTOTAL(3,C$17:C27))","v":""},11]
[{"$f":"IF(C28<1,\"\",SUBTOTAL(3,C$17:C28))","v":""},12]
[{"$f":"IF(C29<1,\"\",SUBTOTAL(3,C$17:C29))","v":""},13]
[{"$f":"IF(C30<1,\"\",SUBTOTAL(3,C$17:C30))","v":""},"14"]
[]
[]
[null,null,null,null,null,null,null,null,null,null,null,null,null,null,null,null,null,null,null,null,null,null,null,null,null,null,null,null,null,null,null,null,null,null,null,null,null,null,null,null,null,null,null,null,null,null,null,null,null,null,null,null,null,null,null,null,{"$f":"BolPreko30(AJ17:BK17,$AJ$15:$BK$15)","v":20}]
[null,null,null,null,"Kako da izračunam bolovanje do 30 dana (plavo) a kako preko 30 dana (žuto)"]
[null,null,null,null,"Bolovanje preko 30 kalendarskih dana (uključujući i vikend) je obojeno žuto",null,null,null,null,null,null,null,null,null,null,null,null,null,null,null,null,null,null,null,null,null,null,null,null,null,null,null,null,null,null,null,null,null,null,null,null,null,null,null,null,null,null,"OBRAČUN BOLOVANJA ZA MJESEC FEBRUAR"]
[null,null,null,null,"Na primeru sam prikazao više varijanti da bi se moglo videti razlika bolovanja"]
[null,null,null,null,"Prazna mjesta se popunjavaju uglavnom sa X ili neko drugo slovo što zanči da je radio",null,null,null,null,null,null,null,null,null,null,null,null,null,null,null,null,null,null,null,null,null,null,null,null,null,null,null,null,null,null,null,null,null,null,null,null,null,null,null,null,null,null,"IME",null,"UKUPNO",null,null,null,"DO 30",null,null,"PREKO 30",null,null,null,null,null,null,"Preko30"]
[null,null,null,null,null,null,null,null,null,null,null,null,null,null,null,null,null,null,null,null,null,null,null,null,null,null,null,null,null,null,null,null,null,null,null,null,null,null,null,null,null,null,null,null,null,null,null,1,null,null,{"$f":"COUNTIF(AJ17:BL17,\"B\")","v":29},null,null,null,null,null,null,null,null,null,null,null,null,{"$f":"BolPreko30(AJ17:BL17,$AJ$15:$BL$15)","v":21}]
[null,null,null,null,null,null,null,null,null,null,null,null,null,null,null,null,null,null,null,null,null,null,null,null,null,null,null,null,null,null,null,null,null,null,null,null,null,null,null,null,null,null,null,null,null,null,null,2,null,null,{"$f":"COUNTIF(AJ18:BL18,\"B\")","v":29},null,null,null,null,null,null,null,null,null,null,null,null,{"$f":"BolPreko30(AJ18:BL18,$AJ$15:$BL$15)","v":21}]
[null,null,null,null,"Formula bi trebala biti vezana za datum jer je i red 8 datum",null,null,null,null,null,null,null,null,null,null,null,null,null,null,null,null,null,null,null,null,null,null,null,null,null,null,null,null,null,null,null,null,null,null,null,null,null,null,null,null,null,null,3,null,null,0,null,null,null,null,null,null,null,null,null,null,null,null,0]
[null,null,null,null,null,null,null,null,null,null,null,null,null,null,null,null,null,null,null,null,null,null,null,null,null,null,null,null,null,null,null,null,null,null,null,null,null,null,null,null,null,null,null,null,null,null,null,4,null,null,0,null,null,null,null,null,null,null,null,null,null,null,null,0]
[null,null,null,null,null,null,null,null,null,null,null,null,null,null,null,null,null,null,null,null,null,null,null,null,null,null,null,null,null,null,null,null,null,null,null,null,null,null,null,null,null,null,null,null,null,null,null,5,null,null,0,null,null,null,null,null,null,null,null,null,null,null,null,0]
[null,null,null,null,null,null,null,null,null,null,null,null,null,null,null,null,null,null,null,null,null,null,null,null,null,null,null,null,null,null,null,null,null,null,null,null,null,null,null,null,null,null,null,null,null,null,null,6,null,null,0,null,null,null,null,null,null,null,null,null,null,null,null,0]
[null,null,null,null,null,null,null,null,null,null,null,null,null,null,null,null,null,null,null,null,null,null,null,null,null,null,null,null,null,null,null,null,null,null,null,null,null,null,null,null,null,null,null,null,null,null,null,7,null,null,0,null,null,null,null,null,null,null,null,null,null,null,null,0]
[null,null,null,null,null,null,null,null,null,null,null,null,null,null,null,null,null,null,null,null,null,null,null,null,null,null,null,null,null,null,null,null,null,null,null,null,null,null,null,null,null,null,null,null,null,null,null,8,null,null,0,null,null,null,null,null,null,null,null,null,null,null,null,0]
[null,null,null,null,null,null,null,null,null,null,null,null,null,null,null,null,null,null,null,null,null,null,null,null,null,null,null,null,null,null,null,null,null,null,null,null,null,null,null,null,null,null,null,null,null,null,null,9,null,null,0,null,null,null,null,null,null,null,null,null,null,null,null,0]
[null,null,null,null,null,null,null,null,null,null,null,null,null,null,null,null,null,null,null,null,null,null,null,null,null,null,null,null,null,null,null,null,null,null,null,null,null,null,null,null,null,null,null,null,null,null,null,10,null,null,0,null,null,null,null,null,null,null,null,null,null,null,null,0]

{"sheet":"mjesec","index":1,"n_rows":46,"n_cols":111,"rows_kept":46,"cut":false,"hidden":false,"merged":[[5,0,5,4],[4,0,4,38],[3,66,3,77],[4,66,4,77],[5,66,5,77],[3,0,3,38],[0,66,0,77],[1,66,1,77],[2,66,2,77],[0,0,0,38],[1,0,1,38],[2,0,2,38],[11,40,11,42],[17,42,18,45],[15,38,16,59],[43,0,43,2],[44,0,44,2],[45,0,45,2],[21,102,22,102],[21,83,22,83],[20,86,20,88],[17,46,18,49],[17,50,18,51],[17,52,18,52],[17,53,18,62],[21,69,22,69],[21,70,22,70],[21,74,22,74],[21,103,22,103],[21,104,22,104],[21,105,22,105],[42,0,42,2],[21,100,22,100],[21,101,22,101],[21,90,22,90],[21,91,22,91],[21,92,22,92],[21,93,22,93],[21,94,22,94],[21,95,22,95],[21,99,22,99],[20,0,22,0],[20,1,22,1],[20,2,22,2],[20,3,22,3],[20,4,20,65],[21,75,22,75],[21,76,22,76],[21,77,22,77],[21,71,22,71],[21,72,22,72],[21,73,22,73],[21,107,22,107],[21,78,22,78],[21,79,22,79],[21,80,22,80],[21,81,22,81],[21,82,22,82],[21,84,22,84],[21,85,22,85],[21,86,22,86],[21,87,22,87],[21,88,22,88],[21,89,22,89],[21,96,22,96],[21,97,22,97],[21,98,22,98],[21,106,22,106],[21,66,22,66],[21,67,22,67],[21,68,22,68]]}
[]
[]
[]
[]
[]
[null,null,null,null,null,null,null,null,null,null,null,null,null,null,null,null,null,null,null,null,null,null,null,null,null,null,null,null,null,null,null,null,null,null,null,null,null,null,null,null,null,null,null,null,null,null,null,null,null,null,null,null,null,null,null,null,null,null,null,null,null,null,null,null,null,null,{"$f":"[1]baza!AJ6","v":0}]
[]
[]
[]
[]
[]
[]
[null,null,{"$f":"DATE(god,MONTH(AU18&1),1)","v":"2016-02-01"}]
[null,null,{"$f":"DATE(god,MONTH(AU18&1),BA18)","v":"2016-02-29"}]
[null,null,null,null,null,null,null,null,null,null,null,null,null,null,null,null,null,null,null,null,null,null,null,null,null,null,null,null,null,null,null,null,null,null,null,null,null,null,null,null,null,null,null,null,null,null,null,null,null,null,null,null,null,null,null,null,null,null,null,null,null,null,null,null,null,null,null,null,null,null,null,null,null,null,null,null,null,null,null,null,null,null,null,null,null,null,null,null,null,"01- Redovan rad"]
[null,null,null,null,null,null,null,null,null,null,null,null,null,null,null,null,null,null,null,null,null,null,null,null,null,null,null,null,null,null,null,null,null,null,null,null,null,null,"DNEVNA EVIDENCIJA PRISUSTVA NA RADNOM MJESTU",null,null,null,null,null,null,null,null,null,null,null,null,null,null,null,null,null,null,null,null,null,null,null,null,null,null,null,null,null,null,null,null,null,null,null,null,null,null,null,null,null,null,null,null,null,null,null,null,null,null,"02- Godišnji odmor"]
[null,null,null,null,null,null,null,null,null,null,null,null,null,null,null,null,null,null,null,null,null,null,null,null,null,null,null,null,null,null,null,null,null,null,null,null,null,null,null,null,null,null,null,null,null,null,null,null,null,null,null,null,null,null,null,null,null,null,null,null,null,null,null,null,null,null,null,null,null,null,null,null,null,null,null,null,null,null,null,null,null,null,null,null,null,null,null,null,null,"03- Bol.do 30 dana (100%)"]
[null,null,null,null,null,null,null,null,null,null,null,null,null,null,null,null,null,null,null,null,null,null,null,null,null,null,null,null,null,null,null,null,null,null,null,null,null,null,null,null,null,null,"ZA MJESEC",null,null,null,"februar",null,null,null,{"$f":"god","v":2016},null,{"$f":"DAY(DATE(god,MONTH(AU18&1)+1,1)-1)","v":29},"GODINE",null,null,null,null,null,null,null,null,null,null,null,null,null,null,null,null,null,null,null,null,null,null,null,null,null,null,null,null,null,null,null,null,null,null,null,"04- Bol.pr. 30 dana (70%/80%)"]
[]
[]
["R. br.",null,"Prezime i ime",null,"DANI U MJESECU",null,null,null,null,null,null,null,null,null,null,null,null,null,null,null,null,null,null,null,null,null,null,null,null,null,null,null,null,null,null,null,null,null,null,null,null,null,null,null,null,null,null,null,null,null,null,null,null,null,null,null,null,null,null,null,null,null,null,null,null,null,1,2,3,4,7,9,11,15,17,25,26,27,28,29,31,49,50,60,61,null,{"$f":"\"Fond sati za obračun:\"& NETWORKDAYS(AJ$22,C$14)*8","v":"Fond sati za obračun:168"},null,null,{"$f":"NETWORKDAYS(AJ$22,C$14)*8","v":168}]
[null,null,null,null,{"$f":"F22-1","v":"2016-01-01"},"2016-01-02","2016-01-03","2016-01-04","2016-01-05","2016-01-06","2016-01-07","2016-01-08","2016-01-09","2016-01-10","2016-01-11","2016-01-12","2016-01-13","2016-01-14","2016-01-15","2016-01-16","2016-01-17","2016-01-18","2016-01-19","2016-01-20","2016-01-21","2016-01-22","2016-01-23","2016-01-24","2016-01-25","2016-01-26","2016-01-27","2016-01-28","2016-01-29","2016-01-30",{"$f":"AJ22-1","v":"2016-01-31"},{"$f":"DATE(god,MONTH(AU18&1),1)","v":"2016-02-01"},{"$f":"AJ22+1","v":"2016-02-02"},{"$f":"AK22+1","v":"2016-02-03"},"2016-02-04","2016-02-05","2016-02-06","2016-02-07","2016-02-08","2016-02-09","2016-02-10","2016-02-11","2016-02-12","2016-02-13","2016-02-14","2016-02-15","2016-02-16","2016-02-17","2016-02-18","2016-02-19","2016-02-20","2016-02-21","2016-02-22","2016-02-23","2016-02-24","2016-02-25","2016-02-26","2016-02-27","2016-02-28",{"$f":"IF(ISNUMBER(BK22),IF(DAY(BK22)<BA18,BK22+1,\"\"),\"\")","v":"2016-02-29"},{"$f":"IF(ISNUMBER(BL22),IF(DAY(BL22)<BA18,BL22+1,\"\"),\"\")","v":""},{"$f":"IF(ISNUMBER(BM22),IF(DAY(BM22)<BA18,BM22+1,\"\"),\"\")","v":""},"X","GO","B","BP","BT","SO","NO","NI","ŠK","S","ŠV","PR","PV","PO","ST","Pre","TO","D","SD",".","R.br.",null,"PREZIME I IME","01","02","03","04","05","06","07","09",11,15,17,25,26,27,28,29,31,49,50]
[null,null,null,null,{"$f":"TEXT(E22,\"ddd\")","v":"pet"},"sub","ned","pon","uto","sri","čet","pet","sub","ned","pon","uto","sri","čet","pet","sub","ned","pon","uto","sri","čet","pet","sub","ned","pon","uto","sri","čet","pet","sub",{"$f":"TEXT(AI22,\"ddd\")","v":"ned"},"pon","uto","sri","čet","pet","sub","ned","pon","uto","sri","čet","pet","sub","ned","pon","uto","sri","čet","pet","sub","ned","pon","uto","sri","čet","pet","sub","ned","pon","",{"$f":"TEXT(BN22,\"ddd\")","v":""}]
[{"$f":"IF(ISBLANK(baza!A17),\"\",baza!A17)","v":1},{"$f":"IF(ISBLANK(baza!B17),\"\",baza!B17)","v":1},{"$f":"IF(ISBLANK(baza!C17),\"\",baza!C17)","v":1},{"$f":"IF(ISBLANK(baza!D17),\"\",baza!D17)","v":""},{"$f":"IFERROR(VLOOKUP($B24,baza!$B$17:$BX$30,MATCH(E$22,baza!$B$15:$BX$15,0),FALSE),\"\")","v":"B"},{"$f":"IFERROR(VLOOKUP($B24,baza!$B$17:$BX$30,MATCH(F$22,baza!$B$15:$BX$15,0),FALSE),\"\")","v":"B"},{"$f":"IFERROR(VLOOKUP($B24,baza!$B$17:$BX$30,MATCH(G$22,baza!$B$15:$BX$15,0),FALSE),\"\")","v":"B"},{"$f":"IFERROR(VLOOKUP($B24,baza!$B$17:$BX$30,MATCH(H$22,baza!$B$15:$BX$15,0),FALSE),\"\")","v":"B"},{"$f":"IFERROR(VLOOKUP($B24,baza!$B$17:$BX$30,MATCH(I$22,baza!$B$15:$BX$15,0),FALSE),\"\")","v":"B"},{"$f":"IFERROR(VLOOKUP($B24,baza!$B$17:$BX$30,MATCH(J$22,baza!$B$15:$BX$15,0),FALSE),\"\")","v":"B"},{"$f":"IFERROR(VLOOKUP($B24,baza!$B$17:$BX$30,MATCH(K$22,baza!$B$15:$BX$15,0),FALSE),\"\")","v":"B"},{"$f":"IFERROR(VLOOKUP($B24,baza!$B$17:$BX$30,MATCH(L$22,baza!$B$15:$BX$15,0),FALSE),\"\")","v":"B"},{"$f":"IFERROR(VLOOKUP($B24,baza!$B$17:$BX$30,MATCH(M$22,baza!$B$15:$BX$15,0),FALSE),\"\")","v":"B"},{"$f":"IFERROR(VLOOKUP($B24,baza!$B$17:$BX$30,MATCH(N$22,baza!$B$15:$BX$15,0),FALSE),\"\")","v":"B"},{"$f":"IFERROR(VLOOKUP($B24,baza!$B$17:$BX$30,MATCH(O$22,baza!$B$15:$BX$15,0),FALSE),\"\")","v":"B"},{"$f":"IFERROR(VLOOKUP($B24,baza!$B$17:$BX$30,MATCH(P$22,baza!$B$15:$BX$15,0),FALSE),\"\")","v":"B"},{"$f":"IFERROR(VLOOKUP($B24,baza!$B$17:$BX$30,MATCH(Q$22,baza!$B$15:$BX$15,0),FALSE),\"\")","v":"B"},{"$f":"IFERROR(VLOOKUP($B24,baza!$B$17:$BX$30,MATCH(R$22,baza!$B$15:$BX$15,0),FALSE),\"\")","v":"B"},{"$f":"IFERROR(VLOOKUP($B24,baza!$B$17:$BX$30,MATCH(S$22,baza!$B$15:$BX$15,0),FALSE),\"\")","v":"B"},{"$f":"IFERROR(VLOOKUP($B24,baza!$B$17:$BX$30,MATCH(T$22,baza!$B$15:$BX$15,0),FALSE),\"\")","v":"B"},{"$f":"IFERROR(VLOOKUP($B24,baza!$B$17:$BX$30,MATCH(U$22,baza!$B$15:$BX$15,0),FALSE),\"\")","v":"B"},{"$f":"IFERROR(VLOOKUP($B24,baza!$B$17:$BX$30,MATCH(V$22,baza!$B$15:$BX$15,0),FALSE),\"\")","v":"B"},{"$f":"IFERROR(VLOOKUP($B24,baza!$B$17:$BX$30,MATCH(W$22,baza!$B$15:$BX$15,0),FALSE),\"\")","v":"B"},{"$f":"IFERROR(VLOOKUP($B24,baza!$B$17:$BX$30,MATCH(X$22,baza!$B$15:$BX$15,0),FALSE),\"\")","v":"B"},{"$f":"IFERROR(VLOOKUP($B24,baza!$B$17:$BX$30,MATCH(Y$22,baza!$B$15:$BX$15,0),FALSE),\"\")","v":"B"},{"$f":"IFERROR(VLOOKUP($B24,baza!$B$17:$BX$30,MATCH(Z$22,baza!$B$15:$BX$15,0),FALSE),\"\")","v":"B"},{"$f":"IFERROR(VLOOKUP($B24,baza!$B$17:$BX$30,MATCH(AA$22,baza!$B$15:$BX$15,0),FALSE),\"\")","v":"B"},{"$f":"IFERROR(VLOOKUP($B24,baza!$B$17:$BX$30,MATCH(AB$22,baza!$B$15:$BX$15,0),FALSE),\"\")","v":"B"},{"$f":"IFERROR(VLOOKUP($B24,baza!$B$17:$BX$30,MATCH(AC$22,baza!$B$15:$BX$15,0),FALSE),\"\")","v":"B"},{"$f":"IFERROR(VLOOKUP($B24,baza!$B$17:$BX$30,MATCH(AD$22,baza!$B$15:$BX$15,0),FALSE),\"\")","v":"B"},{"$f":"IFERROR(VLOOKUP($B24,baza!$B$17:$BX$30,MATCH(AE$22,baza!$B$15:$BX$15,0),FALSE),\"\")","v":"B"},{"$f":"IFERROR(VLOOKUP($B24,baza!$B$17:$BX$30,MATCH(AF$22,baza!$B$15:$BX$15,0),FALSE),\"\")","v":"B"},{"$f":"IFERROR(VLOOKUP($B24,baza!$B$17:$BX$30,MATCH(AG$22,baza!$B$15:$BX$15,0),FALSE),\"\")","v":"B"},{"$f":"IFERROR(VLOOKUP($B24,baza!$B$17:$BX$30,MATCH(AH$22,baza!$B$15:$BX$15,0),FALSE),\"\")","v":"B"},{"$f":"IFERROR(VLOOKUP($B24,baza!$B$17:$BX$30,MATCH(AI$22,baza!$B$15:$BX$15,0),FALSE),\"\")","v":"B"},{"$f":"IFERROR(VLOOKUP($B24,baza!$B$17:$BX$30,MATCH(AJ$22,baza!$B$15:$BX$15,0),FALSE),\"\")","v":"B"},{"$f":"IFERROR(VLOOKUP($B24,baza!$B$17:$BX$30,MATCH(AK$22,baza!$B$15:$BX$15,0),FALSE),\"\")","v":"B"},{"$f":"IFERROR(VLOOKUP($B24,baza!$B$17:$BX$30,MATCH(AL$22,baza!$B$15:$BX$15,0),FALSE),\"\")","v":"B"},{"$f":"IFERROR(VLOOKUP($B24,baza!$B$17:$BX$30,MATCH(AM$22,baza!$B$15:$BX$15,0),FALSE),\"\")","v":"B"},{"$f":"IFERROR(VLOOKUP($B24,baza!$B$17:$BX$30,MATCH(AN$22,baza!$B$15:$BX$15,0),FALSE),\"\")","v":"B"},{"$f":"IFERROR(VLOOKUP($B24,baza!$B$17:$BX$30,MATCH(AO$22,baza!$B$15:$BX$15,0),FALSE),\"\")","v":"B"},{"$f":"IFERROR(VLOOKUP($B24,baza!$B$17:$BX$30,MATCH(AP$22,baza!$B$15:$BX$15,0),FALSE),\"\")","v":"B"},{"$f":"IFERROR(VLOOKUP($B24,baza!$B$17:$BX$30,MATCH(AQ$22,baza!$B$15:$BX$15,0),FALSE),\"\")","v":"B"},{"$f":"IFERROR(VLOOKUP($B24,baza!$B$17:$BX$30,MATCH(AR$22,baza!$B$15:$BX$15,0),FALSE),\"\")","v":"B"},{"$f":"IFERROR(VLOOKUP($B24,baza!$B$17:$BX$30,MATCH(AS$22,baza!$B$15:$BX$15,0),FALSE),\"\")","v":"B"},{"$f":"IFERROR(VLOOKUP($B24,baza!$B$17:$BX$30,MATCH(AT$22,baza!$B$15:$BX$15,0),FALSE),\"\")","v":"B"},{"$f":"IFERROR(VLOOKUP($B24,baza!$B$17:$BX$30,MATCH(AU$22,baza!$B$15:$BX$15,0),FALSE),\"\")","v":"B"},{"$f":"IFERROR(VLOOKUP($B24,baza!$B$17:$BX$30,MATCH(AV$22,baza!$B$15:$BX$15,0),FALSE),\"\")","v":"B"},{"$f":"IFERROR(VLOOKUP($B24,baza!$B$17:$BX$30,MATCH(AW$22,baza!$B$15:$BX$15,0),FALSE),\"\")","v":"B"},{"$f":"IFERROR(VLOOKUP($B24,baza!$B$17:$BX$30,MATCH(AX$22,baza!$B$15:$BX$15,0),FALSE),\"\")","v":"B"},{"$f":"IFERROR(VLOOKUP($B24,baza!$B$17:$BX$30,MATCH(AY$22,baza!$B$15:$BX$15,0),FALSE),\"\")","v":"B"},{"$f":"IFERROR(VLOOKUP($B24,baza!$B$17:$BX$30,MATCH(AZ$22,baza!$B$15:$BX$15,0),FALSE),\"\")","v":"B"},{"$f":"IFERROR(VLOOKUP($B24,baza!$B$17:$BX$30,MATCH(BA$22,baza!$B$15:$BX$15,0),FALSE),\"\")","v":"B"},{"$f":"IFERROR(VLOOKUP($B24,baza!$B$17:$BX$30,MATCH(BB$22,baza!$B$15:$BX$15,0),FALSE),\"\")","v":"B"},{"$f":"IFERROR(VLOOKUP($B24,baza!$B$17:$BX$30,MATCH(BC$22,baza!$B$15:$BX$15,0),FALSE),\"\")","v":"B"},{"$f":"IFERROR(VLOOKUP($B24,baza!$B$17:$BX$30,MATCH(BD$22,baza!$B$15:$BX$15,0),FALSE),\"\")","v":"B"},{"$f":"IFERROR(VLOOKUP($B24,baza!$B$17:$BX$30,MATCH(BE$22,baza!$B$15:$BX$15,0),FALSE),\"\")","v":"B"},{"$f":"IFERROR(VLOOKUP($B24,baza!$B$17:$BX$30,MATCH(BF$22,baza!$B$15:$BX$15,0),FALSE),\"\")","v":"B"},{"$f":"IFERROR(VLOOKUP($B24,baza!$B$17:$BX$30,MATCH(BG$22,baza!$B$15:$BX$15,0),FALSE),\"\")","v":"B"},{"$f":"IFERROR(VLOOKUP($B24,baza!$B$17:$BX$30,MATCH(BH$22,baza!$B$15:$BX$15,0),FALSE),\"\")","v":"B"},{"$f":"IFERROR(VLOOKUP($B24,baza!$B$17:$BX$30,MATCH(BI$22,baza!$B$15:$BX$15,0),FALSE),\"\")","v":"B"},{"$f":"IFERROR(VLOOKUP($B24,baza!$B$17:$BX$30,MATCH(BJ$22,baza!$B$15:$BX$15,0),FALSE),\"\")","v":"B"},{"$f":"IFERROR(VLOOKUP($B24,baza!$B$17:$BX$30,MATCH(BK$22,baza!$B$15:$BX$15,0),FALSE),\"\")","v":"B"},{"$f":"IFERROR(VLOOKUP($B24,baza!$B$17:$BX$30,MATCH(BL$22,baza!$B$15:$BX$15,0),FALSE),\"\")","v":"B"},{"$f":"IFERROR(VLOOKUP($B24,baza!$B$17:$BX$30,MATCH(BM$22,baza!$B$15:$BX$15,0),FALSE),\"\")","v":""},{"$f":"IFERROR(VLOOKUP($B24,baza!$B$17:$BX$30,MATCH(BN$22,baza!$B$15:$BX$15,0),FALSE),\"\")","v":""},{"$f":"COUNTIF($AJ24:$BN24,BO$22)","v":0},{"$f":"COUNTIF($AJ24:$BN24,BP$22)","v":0},29,0,0,0,0,0,0,0,0,0,0,0,0,{"$f":"SUM(BO24,BT24,CF24)*2","v":0},{"$f":"BO24","v":0},{"$f":"COUNTIF($AJ24:$BN24,CF$22)","v":0},{"$f":"COUNTIF($AJ24:$BN24,CG$22)","v":0},0,{"$f":"IF(ISBLANK(A24),\"\",A24)","v":1},{"$f":"IF(ISBLANK(B24),\"\",B24)","v":1},{"$f":"IF(ISBLANK(C24),\"\",C24)","v":1},{"$f":"IF(SUM(BO24,CF24,CG24)*8>$CL$21,$CL$21,SUM(BO24,CF24,CG24)*8)","v":0},{"$f":"(BP247*8)","v":0},null,null,null,{"$f":"BolPreko30(baza!AJ17:BK17,baza!$AJ$15:$BK$15)","v":20},{"$f":"(BS24*8)","v":0},{"$f":"(BT24*8)","v":0},{"$f":"(BU24*8)","v":0},{"$f":"(BV24*8)","v":0},{"$f":"(BW24*8)","v":0},{"$f":"(BX24*8)","v":0},{"$f":"(BY24*8)","v":0},{"$f":"(BZ24*8)","v":0},{"$f":"(CA24*8)","v":0},{"$f":"(CB24*8)","v":0},{"$f":"(CC24*8)","v":0},{"$f":"CD24","v":0},{"$f":"CE24","v":0},null,{"$f":"BolPreko30(baza!AJ17:BL17,baza!$AJ$15:$BL$15)","v":21},"BolPreko30(baza!AJ17:BK17;baza!$AJ$15:$BK$15)"]
[{"$f":"IF(ISBLANK(baza!A18),\"\",baza!A18)","v":2},{"$f":"IF(ISBLANK(baza!B18),\"\",baza!B18)","v":2},{"$f":"IF(ISBLANK(baza!C18),\"\",baza!C18)","v":2},{"$f":"IF(ISBLANK(baza!D18),\"\",baza!D18)","v":""},{"$f":"IFERROR(VLOOKUP($B25,baza!$B$17:$BX$30,MATCH(E$22,baza!$B$15:$BX$15,0),FALSE),\"\")","v":"B"},{"$f":"IFERROR(VLOOKUP($B25,baza!$B$17:$BX$30,MATCH(F$22,baza!$B$15:$BX$15,0),FALSE),\"\")","v":"B"},{"$f":"IFERROR(VLOOKUP($B25,baza!$B$17:$BX$30,MATCH(G$22,baza!$B$15:$BX$15,0),FALSE),\"\")","v":"B"},{"$f":"IFERROR(VLOOKUP($B25,baza!$B$17:$BX$30,MATCH(H$22,baza!$B$15:$BX$15,0),FALSE),\"\")","v":"B"},{"$f":"IFERROR(VLOOKUP($B25,baza!$B$17:$BX$30,MATCH(I$22,baza!$B$15:$BX$15,0),FALSE),\"\")","v":"B"},{"$f":"IFERROR(VLOOKUP($B25,baza!$B$17:$BX$30,MATCH(J$22,baza!$B$15:$BX$15,0),FALSE),\"\")","v":"B"},{"$f":"IFERROR(VLOOKUP($B25,baza!$B$17:$BX$30,MATCH(K$22,baza!$B$15:$BX$15,0),FALSE),\"\")","v":"B"},{"$f":"IFERROR(VLOOKUP($B25,baza!$B$17:$BX$30,MATCH(L$22,baza!$B$15:$BX$15,0),FALSE),\"\")","v":"B"},{"$f":"IFERROR(VLOOKUP($B25,baza!$B$17:$BX$30,MATCH(M$22,baza!$B$15:$BX$15,0),FALSE),\"\")","v":"B"},{"$f":"IFERROR(VLOOKUP($B25,baza!$B$17:$BX$30,MATCH(N$22,baza!$B$15:$BX$15,0),FALSE),\"\")","v":"B"},{"$f":"IFERROR(VLOOKUP($B25,baza!$B$17:$BX$30,MATCH(O$22,baza!$B$15:$BX$15,0),FALSE),\"\")","v":"B"},{"$f":"IFERROR(VLOOKUP($B25,baza!$B$17:$BX$30,MATCH(P$22,baza!$B$15:$BX$15,0),FALSE),\"\")","v":"B"},{"$f":"IFERROR(VLOOKUP($B25,baza!$B$17:$BX$30,MATCH(Q$22,baza!$B$15:$BX$15,0),FALSE),\"\")","v":"B"},{"$f":"IFERROR(VLOOKUP($B25,baza!$B$17:$BX$30,MATCH(R$22,baza!$B$15:$BX$15,0),FALSE),\"\")","v":"B"},{"$f":"IFERROR(VLOOKUP($B25,baza!$B$17:$BX$30,MATCH(S$22,baza!$B$15:$BX$15,0),FALSE),\"\")","v":"B"},{"$f":"IFERROR(VLOOKUP($B25,baza!$B$17:$BX$30,MATCH(T$22,baza!$B$15:$BX$15,0),FALSE),\"\")","v":"B"},{"$f":"IFERROR(VLOOKUP($B25,baza!$B$17:$BX$30,MATCH(U$22,baza!$B$15:$BX$15,0),FALSE),\"\")","v":"B"},{"$f":"IFERROR(VLOOKUP($B25,baza!$B$17:$BX$30,MATCH(V$22,baza!$B$15:$BX$15,0),FALSE),\"\")","v":"B"},{"$f":"IFERROR(VLOOKUP($B25,baza!$B$17:$BX$30,MATCH(W$22,baza!$B$15:$BX$15,0),FALSE),\"\")","v":"B"},{"$f":"IFERROR(VLOOKUP($B25,baza!$B$17:$BX$30,MATCH(X$22,baza!$B$15:$BX$15,0),FALSE),\"\")","v":"B"},{"$f":"IFERROR(VLOOKUP($B25,baza!$B$17:$BX$30,MATCH(Y$22,baza!$B$15:$BX$15,0),FALSE),\"\")","v":"B"},{"$f":"IFERROR(VLOOKUP($B25,baza!$B$17:$BX$30,MATCH(Z$22,baza!$B$15:$BX$15,0),FALSE),\"\")","v":"B"},{"$f":"IFERROR(VLOOKUP($B25,baza!$B$17:$BX$30,MATCH(AA$22,baza!$B$15:$BX$15,0),FALSE),\"\")","v":"B"},{"$f":"IFERROR(VLOOKUP($B25,baza!$B$17:$BX$30,MATCH(AB$22,baza!$B$15:$BX$15,0),FALSE),\"\")","v":"B"},{"$f":"IFERROR(VLOOKUP($B25,baza!$B$17:$BX$30,MATCH(AC$22,baza!$B$15:$BX$15,0),FALSE),\"\")","v":"B"},{"$f":"IFERROR(VLOOKUP($B25,baza!$B$17:$BX$30,MATCH(AD$22,baza!$B$15:$BX$15,0),FALSE),\"\")","v":"B"},{"$f":"IFERROR(VLOOKUP($B25,baza!$B$17:$BX$30,MATCH(AE$22,baza!$B$15:$BX$15,0),FALSE),\"\")","v":"B"},{"$f":"IFERROR(VLOOKUP($B25,baza!$B$17:$BX$30,MATCH(AF$22,baza!$B$15:$BX$15,0),FALSE),\"\")","v":"B"},{"$f":"IFERROR(VLOOKUP($B25,baza!$B$17:$BX$30,MATCH(AG$22,baza!$B$15:$BX$15,0),FALSE),\"\")","v":"B"},{"$f":"IFERROR(VLOOKUP($B25,baza!$B$17:$BX$30,MATCH(AH$22,baza!$B$15:$BX$15,0),FALSE),\"\")","v":"B"},{"$f":"IFERROR(VLOOKUP($B25,baza!$B$17:$BX$30,MATCH(AI$22,baza!$B$15:$BX$15,0),FALSE),\"\")","v":"B"},{"$f":"IFERROR(VLOOKUP($B25,baza!$B$17:$BX$30,MATCH(AJ$22,baza!$B$15:$BX$15,0),FALSE),\"\")","v":"B"},{"$f":"IFERROR(VLOOKUP($B25,baza!$B$17:$BX$30,MATCH(AK$22,baza!$B$15:$BX$15,0),FALSE),\"\")","v":"B"},{"$f":"IFERROR(VLOOKUP($B25,baza!$B$17:$BX$30,MATCH(AL$22,baza!$B$15:$BX$15,0),FALSE),\"\")","v":"B"},{"$f":"IFERROR(VLOOKUP($B25,baza!$B$17:$BX$30,MATCH(AM$22,baza!$B$15:$BX$15,0),FALSE),\"\")","v":"B"},{"$f":"IFERROR(VLOOKUP($B25,baza!$B$17:$BX$30,MATCH(AN$22,baza!$B$15:$BX$15,0),FALSE),\"\")","v":"B"},{"$f":"IFERROR(VLOOKUP($B25,baza!$B$17:$BX$30,MATCH(AO$22,baza!$B$15:$BX$15,0),FALSE),\"\")","v":"B"},{"$f":"IFERROR(VLOOKUP($B25,baza!$B$17:$BX$30,MATCH(AP$22,baza!$B$15:$BX$15,0),FALSE),\"\")","v":"B"},{"$f":"IFERROR(VLOOKUP($B25,baza!$B$17:$BX$30,MATCH(AQ$22,baza!$B$15:$BX$15,0),FALSE),\"\")","v":"B"},{"$f":"IFERROR(VLOOKUP($B25,baza!$B$17:$BX$30,MATCH(AR$22,baza!$B$15:$BX$15,0),FALSE),\"\")","v":"B"},{"$f":"IFERROR(VLOOKUP($B25,baza!$B$17:$BX$30,MATCH(AS$22,baza!$B$15:$BX$15,0),FALSE),\"\")","v":"B"},{"$f":"IFERROR(VLOOKUP($B25,baza!$B$17:$BX$30,MATCH(AT$22,baza!$B$15:$BX$15,0),FALSE),\"\")","v":"B"},{"$f":"IFERROR(VLOOKUP($B25,baza!$B$17:$BX$30,MATCH(AU$22,baza!$B$15:$BX$15,0),FALSE),\"\")","v":"B"},{"$f":"IFERROR(VLOOKUP($B25,baza!$B$17:$BX$30,MATCH(AV$22,baza!$B$15:$BX$15,0),FALSE),\"\")","v":"B"},{"$f":"IFERROR(VLOOKUP($B25,baza!$B$17:$BX$30,MATCH(AW$22,baza!$B$15:$BX$15,0),FALSE),\"\")","v":"B"},{"$f":"IFERROR(VLOOKUP($B25,baza!$B$17:$BX$30,MATCH(AX$22,baza!$B$15:$BX$15,0),FALSE),\"\")","v":"B"},{"$f":"IFERROR(VLOOKUP($B25,baza!$B$17:$BX$30,MATCH(AY$22,baza!$B$15:$BX$15,0),FALSE),\"\")","v":"B"},{"$f":"IFERROR(VLOOKUP($B25,baza!$B$17:$BX$30,MATCH(AZ$22,baza!$B$15:$BX$15,0),FALSE),\"\")","v":"B"},{"$f":"IFERROR(VLOOKUP($B25,baza!$B$17:$BX$30,MATCH(BA$22,baza!$B$15:$BX$15,0),FALSE),\"\")","v":"B"},{"$f":"IFERROR(VLOOKUP($B25,baza!$B$17:$BX$30,MATCH(BB$22,baza!$B$15:$BX$15,0),FALSE),\"\")","v":"B"},{"$f":"IFERROR(VLOOKUP($B25,baza!$B$17:$BX$30,MATCH(BC$22,baza!$B$15:$BX$15,0),FALSE),\"\")","v":"B"},{"$f":"IFERROR(VLOOKUP($B25,baza!$B$17:$BX$30,MATCH(BD$22,baza!$B$15:$BX$15,0),FALSE),\"\")","v":"B"},{"$f":"IFERROR(VLOOKUP($B25,baza!$B$17:$BX$30,MATCH(BE$22,baza!$B$15:$BX$15,0),FALSE),\"\")","v":"B"},{"$f":"IFERROR(VLOOKUP($B25,baza!$B$17:$BX$30,MATCH(BF$22,baza!$B$15:$BX$15,0),FALSE),\"\")","v":"B"},{"$f":"IFERROR(VLOOKUP($B25,baza!$B$17:$BX$30,MATCH(BG$22,baza!$B$15:$BX$15,0),FALSE),\"\")","v":"B"},{"$f":"IFERROR(VLOOKUP($B25,baza!$B$17:$BX$30,MATCH(BH$22,baza!$B$15:$BX$15,0),FALSE),\"\")","v":"B"},{"$f":"IFERROR(VLOOKUP($B25,baza!$B$17:$BX$30,MATCH(BI$22,baza!$B$15:$BX$15,0),FALSE),\"\")","v":"B"},{"$f":"IFERROR(VLOOKUP($B25,baza!$B$17:$BX$30,MATCH(BJ$22,baza!$B$15:$BX$15,0),FALSE),\"\")","v":"B"},{"$f":"IFERROR(VLOOKUP($B25,baza!$B$17:$BX$30,MATCH(BK$22,baza!$B$15:$BX$15,0),FALSE),\"\")","v":"B"},{"$f":"IFERROR(VLOOKUP($B25,baza!$B$17:$BX$30,MATCH(BL$22,baza!$B$15:$BX$15,0),FALSE),\"\")","v":"B"},{"$f":"IFERROR(VLOOKUP($B25,baza!$B$17:$BX$30,MATCH(BM$22,baza!$B$15:$BX$15,0),FALSE),\"\")","v":""},{"$f":"IFERROR(VLOOKUP($B25,baza!$B$17:$BX$30,MATCH(BN$22,baza!$B$15:$BX$15,0),FALSE),\"\")","v":""},{"$f":"COUNTIF($AJ25:$BN25,BO$22)","v":0},0,29,0,0,0,0,0,0,0,0,0,0,0,0,{"$f":"SUM(BO25,BT25,CF25)*2","v":0},{"$f":"BO25","v":0},{"$f":"COUNTIF($AJ25:$BN25,CF$22)","v":0},0,0,{"$f":"IF(ISBLANK(A25),\"\",A25)","v":2},2,2,{"$f":"IF(SUM(BO25,CF25,CG25)*8>$CL$21,$CL$21,SUM(BO25,CF25,CG25)*8)","v":0},{"$f":"(BP248*8)","v":0},null,null,null,{"$f":"BolPreko30(AJ25:BK25,baza!$AJ$22:$BK$22)","v":0},{"$f":"(BS25*8)","v":0},{"$f":"(BT25*8)","v":0},{"$f":"(BU25*8)","v":0},{"$f":"(BV25*8)","v":0},{"$f":"(BW25*8)","v":0},{"$f":"(BX25*8)","v":0},{"$f":"(BY25*8)","v":0},{"$f":"(BZ25*8)","v":0},{"$f":"(CA25*8)","v":0},{"$f":"(CB25*8)","v":0},{"$f":"(CC25*8)","v":0},{"$f":"CD25","v":0},{"$f":"CE25","v":0},null,{"$f":"BolPreko30(AJ25:BN25,$AJ$22:$BN$22)","v":{"$error":"#VALUE!"}},"BolPreko30(AJ25:BN25;$AJ$22:$BN$22)"]
[{"$f":"IF(ISBLANK(baza!A19),\"\",baza!A19)","v":3},{"$f":"IF(ISBLANK(baza!B19),\"\",baza!B19)","v":3},{"$f":"IF(ISBLANK(baza!C19),\"\",baza!C19)","v":3},{"$f":"IF(ISBLANK(baza!D19),\"\",baza!D19)","v":""},{"$f":"IFERROR(VLOOKUP($B26,baza!$B$17:$BX$30,MATCH(E$22,baza!$B$15:$BX$15,0),FALSE),\"\")","v":0},{"$f":"IFERROR(VLOOKUP($B26,baza!$B$17:$BX$30,MATCH(F$22,baza!$B$15:$BX$15,0),FALSE),\"\")","v":0},{"$f":"IFERROR(VLOOKUP($B26,baza!$B$17:$BX$30,MATCH(G$22,baza!$B$15:$BX$15,0),FALSE),\"\")","v":0},{"$f":"IFERROR(VLOOKUP($B26,baza!$B$17:$BX$30,MATCH(H$22,baza!$B$15:$BX$15,0),FALSE),\"\")","v":0},{"$f":"IFERROR(VLOOKUP($B26,baza!$B$17:$BX$30,MATCH(I$22,baza!$B$15:$BX$15,0),FALSE),\"\")","v":0},{"$f":"IFERROR(VLOOKUP($B26,baza!$B$17:$BX$30,MATCH(J$22,baza!$B$15:$BX$15,0),FALSE),\"\")","v":0},{"$f":"IFERROR(VLOOKUP($B26,baza!$B$17:$BX$30,MATCH(K$22,baza!$B$15:$BX$15,0),FALSE),\"\")","v":0},{"$f":"IFERROR(VLOOKUP($B26,baza!$B$17:$BX$30,MATCH(L$22,baza!$B$15:$BX$15,0),FALSE),\"\")","v":0},{"$f":"IFERROR(VLOOKUP($B26,baza!$B$17:$BX$30,MATCH(M$22,baza!$B$15:$BX$15,0),FALSE),\"\")","v":0},{"$f":"IFERROR(VLOOKUP($B26,baza!$B$17:$BX$30,MATCH(N$22,baza!$B$15:$BX$15,0),FALSE),\"\")","v":0},{"$f":"IFERROR(VLOOKUP($B26,baza!$B$17:$BX$30,MATCH(O$22,baza!$B$15:$BX$15,0),FALSE),\"\")","v":0},{"$f":"IFERROR(VLOOKUP($B26,baza!$B$17:$BX$30,MATCH(P$22,baza!$B$15:$BX$15,0),FALSE),\"\")","v":0},{"$f":"IFERROR(VLOOKUP($B26,baza!$B$17:$BX$30,MATCH(Q$22,baza!$B$15:$BX$15,0),FALSE),\"\")","v":0},{"$f":"IFERROR(VLOOKUP($B26,baza!$B$17:$BX$30,MATCH(R$22,baza!$B$15:$BX$15,0),FALSE),\"\")","v":0},{"$f":"IFERROR(VLOOKUP($B26,baza!$B$17:$BX$30,MATCH(S$22,baza!$B$15:$BX$15,0),FALSE),\"\")","v":0},{"$f":"IFERROR(VLOOKUP($B26,baza!$B$17:$BX$30,MATCH(T$22,baza!$B$15:$BX$15,0),FALSE),\"\")","v":0},{"$f":"IFERROR(VLOOKUP($B26,baza!$B$17:$BX$30,MATCH(U$22,baza!$B$15:$BX$15,0),FALSE),\"\")","v":0},{"$f":"IFERROR(VLOOKUP($B26,baza!$B$17:$BX$30,MATCH(V$22,baza!$B$15:$BX$15,0),FALSE),\"\")","v":0},{"$f":"IFERROR(VLOOKUP($B26,baza!$B$17:$BX$30,MATCH(W$22,baza!$B$15:$BX$15,0),FALSE),\"\")","v":0},{"$f":"IFERROR(VLOOKUP($B26,baza!$B$17:$BX$30,MATCH(X$22,baza!$B$15:$BX$15,0),FALSE),\"\")","v":0},{"$f":"IFERROR(VLOOKUP($B26,baza!$B$17:$BX$30,MATCH(Y$22,baza!$B$15:$BX$15,0),FALSE),\"\")","v":0},{"$f":"IFERROR(VLOOKUP($B26,baza!$B$17:$BX$30,MATCH(Z$22,baza!$B$15:$BX$15,0),FALSE),\"\")","v":0},{"$f":"IFERROR(VLOOKUP($B26,baza!$B$17:$BX$30,MATCH(AA$22,baza!$B$15:$BX$15,0),FALSE),\"\")","v":0},{"$f":"IFERROR(VLOOKUP($B26,baza!$B$17:$BX$30,MATCH(AB$22,baza!$B$15:$BX$15,0),FALSE),\"\")","v":0},{"$f":"IFERROR(VLOOKUP($B26,baza!$B$17:$BX$30,MATCH(AC$22,baza!$B$15:$BX$15,0),FALSE),\"\")","v":0},{"$f":"IFERROR(VLOOKUP($B26,baza!$B$17:$BX$30,MATCH(AD$22,baza!$B$15:$BX$15,0),FALSE),\"\")","v":0},{"$f":"IFERROR(VLOOKUP($B26,baza!$B$17:$BX$30,MATCH(AE$22,baza!$B$15:$BX$15,0),FALSE),\"\")","v":0},{"$f":"IFERROR(VLOOKUP($B26,baza!$B$17:$BX$30,MATCH(AF$22,baza!$B$15:$BX$15,0),FALSE),\"\")","v":0},{"$f":"IFERROR(VLOOKUP($B26,baza!$B$17:$BX$30,MATCH(AG$22,baza!$B$15:$BX$15,0),FALSE),\"\")","v":0},{"$f":"IFERROR(VLOOKUP($B26,baza!$B$17:$BX$30,MATCH(AH$22,baza!$B$15:$BX$15,0),FALSE),\"\")","v":0},{"$f":"IFERROR(VLOOKUP($B26,baza!$B$17:$BX$30,MATCH(AI$22,baza!$B$15:$BX$15,0),FALSE),\"\")","v":0},{"$f":"IFERROR(VLOOKUP($B26,baza!$B$17:$BX$30,MATCH(AJ$22,baza!$B$15:$BX$15,0),FALSE),\"\")","v":0},{"$f":"IFERROR(VLOOKUP($B26,baza!$B$17:$BX$30,MATCH(AK$22,baza!$B$15:$BX$15,0),FALSE),\"\")","v":0},{"$f":"IFERROR(VLOOKUP($B26,baza!$B$17:$BX$30,MATCH(AL$22,baza!$B$15:$BX$15,0),FALSE),\"\")","v":0},{"$f":"IFERROR(VLOOKUP($B26,baza!$B$17:$BX$30,MATCH(AM$22,baza!$B$15:$BX$15,0),FALSE),\"\")","v":0},{"$f":"IFERROR(VLOOKUP($B26,baza!$B$17:$BX$30,MATCH(AN$22,baza!$B$15:$BX$15,0),FALSE),\"\")","v":0},{"$f":"IFERROR(VLOOKUP($B26,baza!$B$17:$BX$30,MATCH(AO$22,baza!$B$15:$BX$15,0),FALSE),\"\")","v":0},{"$f":"IFERROR(VLOOKUP($B26,baza!$B$17:$BX$30,MATCH(AP$22,baza!$B$15:$BX$15,0),FALSE),\"\")","v":0},{"$f":"IFERROR(VLOOKUP($B26,baza!$B$17:$BX$30,MATCH(AQ$22,baza!$B$15:$BX$15,0),FALSE),\"\")","v":0},{"$f":"IFERROR(VLOOKUP($B26,baza!$B$17:$BX$30,MATCH(AR$22,baza!$B$15:$BX$15,0),FALSE),\"\")","v":0},{"$f":"IFERROR(VLOOKUP($B26,baza!$B$17:$BX$30,MATCH(AS$22,baza!$B$15:$BX$15,0),FALSE),\"\")","v":0},{"$f":"IFERROR(VLOOKUP($B26,baza!$B$17:$BX$30,MATCH(AT$22,baza!$B$15:$BX$15,0),FALSE),\"\")","v":0},{"$f":"IFERROR(VLOOKUP($B26,baza!$B$17:$BX$30,MATCH(AU$22,baza!$B$15:$BX$15,0),FALSE),\"\")","v":0},{"$f":"IFERROR(VLOOKUP($B26,baza!$B$17:$BX$30,MATCH(AV$22,baza!$B$15:$BX$15,0),FALSE),\"\")","v":0},{"$f":"IFERROR(VLOOKUP($B26,baza!$B$17:$BX$30,MATCH(AW$22,baza!$B$15:$BX$15,0),FALSE),\"\")","v":0},{"$f":"IFERROR(VLOOKUP($B26,baza!$B$17:$BX$30,MATCH(AX$22,baza!$B$15:$BX$15,0),FALSE),\"\")","v":0},{"$f":"IFERROR(VLOOKUP($B26,baza!$B$17:$BX$30,MATCH(AY$22,baza!$B$15:$BX$15,0),FALSE),\"\")","v":0},{"$f":"IFERROR(VLOOKUP($B26,baza!$B$17:$BX$30,MATCH(AZ$22,baza!$B$15:$BX$15,0),FALSE),\"\")","v":0},{"$f":"IFERROR(VLOOKUP($B26,baza!$B$17:$BX$30,MATCH(BA$22,baza!$B$15:$BX$15,0),FALSE),\"\")","v":0},{"$f":"IFERROR(VLOOKUP($B26,baza!$B$17:$BX$30,MATCH(BB$22,baza!$B$15:$BX$15,0),FALSE),\"\")","v":0},{"$f":"IFERROR(VLOOKUP($B26,baza!$B$17:$BX$30,MATCH(BC$22,baza!$B$15:$BX$15,0),FALSE),\"\")","v":0},{"$f":"IFERROR(VLOOKUP($B26,baza!$B$17:$BX$30,MATCH(BD$22,baza!$B$15:$BX$15,0),FALSE),\"\")","v":0},{"$f":"IFERROR(VLOOKUP($B26,baza!$B$17:$BX$30,MATCH(BE$22,baza!$B$15:$BX$15,0),FALSE),\"\")","v":0},{"$f":"IFERROR(VLOOKUP($B26,baza!$B$17:$BX$30,MATCH(BF$22,baza!$B$15:$BX$15,0),FALSE),\"\")","v":0},{"$f":"IFERROR(VLOOKUP($B26,baza!$B$17:$BX$30,MATCH(BG$22,baza!$B$15:$BX$15,0),FALSE),\"\")","v":0},{"$f":"IFERROR(VLOOKUP($B26,baza!$B$17:$BX$30,MATCH(BH$22,baza!$B$15:$BX$15,0),FALSE),\"\")","v":0},{"$f":"IFERROR(VLOOKUP($B26,baza!$B$17:$BX$30,MATCH(BI$22,baza!$B$15:$BX$15,0),FALSE),\"\")","v":0},{"$f":"IFERROR(VLOOKUP($B26,baza!$B$17:$BX$30,MATCH(BJ$22,baza!$B$15:$BX$15,0),FALSE),\"\")","v":0},{"$f":"IFERROR(VLOOKUP($B26,baza!$B$17:$BX$30,MATCH(BK$22,baza!$B$15:$BX$15,0),FALSE),\"\")","v":0},{"$f":"IFERROR(VLOOKUP($B26,baza!$B$17:$BX$30,MATCH(BL$22,baza!$B$15:$BX$15,0),FALSE),\"\")","v":0},{"$f":"IFERROR(VLOOKUP($B26,baza!$B$17:$BX$30,MATCH(BM$22,baza!$B$15:$BX$15,0),FALSE),\"\")","v":""},{"$f":"IFERROR(VLOOKUP($B26,baza!$B$17:$BX$30,MATCH(BN$22,baza!$B$15:$BX$15,0),FALSE),\"\")","v":""},0,0,0,0,0,0,0,0,0,0,0,0,0,0,0,0,0,0,0,0,3,3,3,{"$f":"IF(SUM(BO26,CF26,CG26)*8>$CL$21,$CL$21,SUM(BO26,CF26,CG26)*8)","v":0},0,null,null,null,null,{"$f":"(BS26*8)","v":0},{"$f":"(BT26*8)","v":0},{"$f":"(BU26*8)","v":0},{"$f":"(BV26*8)","v":0},{"$f":"(BW26*8)","v":0},{"$f":"(BX26*8)","v":0},{"$f":"(BY26*8)","v":0},{"$f":"(BZ26*8)","v":0},{"$f":"(CA26*8)","v":0},{"$f":"(CB26*8)","v":0},{"$f":"(CC26*8)","v":0},{"$f":"CD26","v":0},{"$f":"CE26","v":0}]
[{"$f":"IF(ISBLANK(baza!A20),\"\",baza!A20)","v":4},{"$f":"IF(ISBLANK(baza!B20),\"\",baza!B20)","v":4},{"$f":"IF(ISBLANK(baza!C20),\"\",baza!C20)","v":4},{"$f":"IF(ISBLANK(baza!D20),\"\",baza!D20)","v":""},{"$f":"IFERROR(VLOOKUP($B27,baza!$B$17:$BX$30,MATCH(E$22,baza!$B$15:$BX$15,0),FALSE),\"\")","v":0},{"$f":"IFERROR(VLOOKUP($B27,baza!$B$17:$BX$30,MATCH(F$22,baza!$B$15:$BX$15,0),FALSE),\"\")","v":0},{"$f":"IFERROR(VLOOKUP($B27,baza!$B$17:$BX$30,MATCH(G$22,baza!$B$15:$BX$15,0),FALSE),\"\")","v":0},{"$f":"IFERROR(VLOOKUP($B27,baza!$B$17:$BX$30,MATCH(H$22,baza!$B$15:$BX$15,0),FALSE),\"\")","v":0},{"$f":"IFERROR(VLOOKUP($B27,baza!$B$17:$BX$30,MATCH(I$22,baza!$B$15:$BX$15,0),FALSE),\"\")","v":0},{"$f":"IFERROR(VLOOKUP($B27,baza!$B$17:$BX$30,MATCH(J$22,baza!$B$15:$BX$15,0),FALSE),\"\")","v":0},{"$f":"IFERROR(VLOOKUP($B27,baza!$B$17:$BX$30,MATCH(K$22,baza!$B$15:$BX$15,0),FALSE),\"\")","v":0},{"$f":"IFERROR(VLOOKUP($B27,baza!$B$17:$BX$30,MATCH(L$22,baza!$B$15:$BX$15,0),FALSE),\"\")","v":0},{"$f":"IFERROR(VLOOKUP($B27,baza!$B$17:$BX$30,MATCH(M$22,baza!$B$15:$BX$15,0),FALSE),\"\")","v":0},{"$f":"IFERROR(VLOOKUP($B27,baza!$B$17:$BX$30,MATCH(N$22,baza!$B$15:$BX$15,0),FALSE),\"\")","v":0},{"$f":"IFERROR(VLOOKUP($B27,baza!$B$17:$BX$30,MATCH(O$22,baza!$B$15:$BX$15,0),FALSE),\"\")","v":0},{"$f":"IFERROR(VLOOKUP($B27,baza!$B$17:$BX$30,MATCH(P$22,baza!$B$15:$BX$15,0),FALSE),\"\")","v":0},{"$f":"IFERROR(VLOOKUP($B27,baza!$B$17:$BX$30,MATCH(Q$22,baza!$B$15:$BX$15,0),FALSE),\"\")","v":0},{"$f":"IFERROR(VLOOKUP($B27,baza!$B$17:$BX$30,MATCH(R$22,baza!$B$15:$BX$15,0),FALSE),\"\")","v":0},{"$f":"IFERROR(VLOOKUP($B27,baza!$B$17:$BX$30,MATCH(S$22,baza!$B$15:$BX$15,0),FALSE),\"\")","v":0},{"$f":"IFERROR(VLOOKUP($B27,baza!$B$17:$BX$30,MATCH(T$22,baza!$B$15:$BX$15,0),FALSE),\"\")","v":0},{"$f":"IFERROR(VLOOKUP($B27,baza!$B$17:$BX$30,MATCH(U$22,baza!$B$15:$BX$15,0),FALSE),\"\")","v":0},{"$f":"IFERROR(VLOOKUP($B27,baza!$B$17:$BX$30,MATCH(V$22,baza!$B$15:$BX$15,0),FALSE),\"\")","v":0},{"$f":"IFERROR(VLOOKUP($B27,baza!$B$17:$BX$30,MATCH(W$22,baza!$B$15:$BX$15,0),FALSE),\"\")","v":0},{"$f":"IFERROR(VLOOKUP($B27,baza!$B$17:$BX$30,MATCH(X$22,baza!$B$15:$BX$15,0),FALSE),\"\")","v":0},{"$f":"IFERROR(VLOOKUP($B27,baza!$B$17:$BX$30,MATCH(Y$22,baza!$B$15:$BX$15,0),FALSE),\"\")","v":0},{"$f":"IFERROR(VLOOKUP($B27,baza!$B$17:$BX$30,MATCH(Z$22,baza!$B$15:$BX$15,0),FALSE),\"\")","v":0},{"$f":"IFERROR(VLOOKUP($B27,baza!$B$17:$BX$30,MATCH(AA$22,baza!$B$15:$BX$15,0),FALSE),\"\")","v":0},{"$f":"IFERROR(VLOOKUP($B27,baza!$B$17:$BX$30,MATCH(AB$22,baza!$B$15:$BX$15,0),FALSE),\"\")","v":0},{"$f":"IFERROR(VLOOKUP($B27,baza!$B$17:$BX$30,MATCH(AC$22,baza!$B$15:$BX$15,0),FALSE),\"\")","v":0},{"$f":"IFERROR(VLOOKUP($B27,baza!$B$17:$BX$30,MATCH(AD$22,baza!$B$15:$BX$15,0),FALSE),\"\")","v":0},{"$f":"IFERROR(VLOOKUP($B27,baza!$B$17:$BX$30,MATCH(AE$22,baza!$B$15:$BX$15,0),FALSE),\"\")","v":0},{"$f":"IFERROR(VLOOKUP($B27,baza!$B$17:$BX$30,MATCH(AF$22,baza!$B$15:$BX$15,0),FALSE),\"\")","v":0},{"$f":"IFERROR(VLOOKUP($B27,baza!$B$17:$BX$30,MATCH(AG$22,baza!$B$15:$BX$15,0),FALSE),\"\")","v":0},{"$f":"IFERROR(VLOOKUP($B27,baza!$B$17:$BX$30,MATCH(AH$22,baza!$B$15:$BX$15,0),FALSE),\"\")","v":0},{"$f":"IFERROR(VLOOKUP($B27,baza!$B$17:$BX$30,MATCH(AI$22,baza!$B$15:$BX$15,0),FALSE),\"\")","v":0},{"$f":"IFERROR(VLOOKUP($B27,baza!$B$17:$BX$30,MATCH(AJ$22,baza!$B$15:$BX$15,0),FALSE),\"\")","v":0},{"$f":"IFERROR(VLOOKUP($B27,baza!$B$17:$BX$30,MATCH(AK$22,baza!$B$15:$BX$15,0),FALSE),\"\")","v":0},{"$f":"IFERROR(VLOOKUP($B27,baza!$B$17:$BX$30,MATCH(AL$22,baza!$B$15:$BX$15,0),FALSE),\"\")","v":0},{"$f":"IFERROR(VLOOKUP($B27,baza!$B$17:$BX$30,MATCH(AM$22,baza!$B$15:$BX$15,0),FALSE),\"\")","v":0},{"$f":"IFERROR(VLOOKUP($B27,baza!$B$17:$BX$30,MATCH(AN$22,baza!$B$15:$BX$15,0),FALSE),\"\")","v":0},{"$f":"IFERROR(VLOOKUP($B27,baza!$B$17:$BX$30,MATCH(AO$22,baza!$B$15:$BX$15,0),FALSE),\"\")","v":0},{"$f":"IFERROR(VLOOKUP($B27,baza!$B$17:$BX$30,MATCH(AP$22,baza!$B$15:$BX$15,0),FALSE),\"\")","v":"X"},{"$f":"IFERROR(VLOOKUP($B27,baza!$B$17:$BX$30,MATCH(AQ$22,baza!$B$15:$BX$15,0),FALSE),\"\")","v":0},{"$f":"IFERROR(VLOOKUP($B27,baza!$B$17:$BX$30,MATCH(AR$22,baza!$B$15:$BX$15,0),FALSE),\"\")","v":0},{"$f":"IFERROR(VLOOKUP($B27,baza!$B$17:$BX$30,MATCH(AS$22,baza!$B$15:$BX$15,0),FALSE),\"\")","v":0},{"$f":"IFERROR(VLOOKUP($B27,baza!$B$17:$BX$30,MATCH(AT$22,baza!$B$15:$BX$15,0),FALSE),\"\")","v":0},{"$f":"IFERROR(VLOOKUP($B27,baza!$B$17:$BX$30,MATCH(AU$22,baza!$B$15:$BX$15,0),FALSE),\"\")","v":0},{"$f":"IFERROR(VLOOKUP($B27,baza!$B$17:$BX$30,MATCH(AV$22,baza!$B$15:$BX$15,0),FALSE),\"\")","v":"X"},{"$f":"IFERROR(VLOOKUP($B27,baza!$B$17:$BX$30,MATCH(AW$22,baza!$B$15:$BX$15,0),FALSE),\"\")","v":0},{"$f":"IFERROR(VLOOKUP($B27,baza!$B$17:$BX$30,MATCH(AX$22,baza!$B$15:$BX$15,0),FALSE),\"\")","v":0},{"$f":"IFERROR(VLOOKUP($B27,baza!$B$17:$BX$30,MATCH(AY$22,baza!$B$15:$BX$15,0),FALSE),\"\")","v":0},{"$f":"IFERROR(VLOOKUP($B27,baza!$B$17:$BX$30,MATCH(AZ$22,baza!$B$15:$BX$15,0),FALSE),\"\")","v":0},{"$f":"IFERROR(VLOOKUP($B27,baza!$B$17:$BX$30,MATCH(BA$22,baza!$B$15:$BX$15,0),FALSE),\"\")","v":0},{"$f":"IFERROR(VLOOKUP($B27,baza!$B$17:$BX$30,MATCH(BB$22,baza!$B$15:$BX$15,0),FALSE),\"\")","v":0},{"$f":"IFERROR(VLOOKUP($B27,baza!$B$17:$BX$30,MATCH(BC$22,baza!$B$15:$BX$15,0),FALSE),\"\")","v":0},{"$f":"IFERROR(VLOOKUP($B27,baza!$B$17:$BX$30,MATCH(BD$22,baza!$B$15:$BX$15,0),FALSE),\"\")","v":0},{"$f":"IFERROR(VLOOKUP($B27,baza!$B$17:$BX$30,MATCH(BE$22,baza!$B$15:$BX$15,0),FALSE),\"\")","v":0},{"$f":"IFERROR(VLOOKUP($B27,baza!$B$17:$BX$30,MATCH(BF$22,baza!$B$15:$BX$15,0),FALSE),\"\")","v":0},{"$f":"IFERROR(VLOOKUP($B27,baza!$B$17:$BX$30,MATCH(BG$22,baza!$B$15:$BX$15,0),FALSE),\"\")","v":0},{"$f":"IFERROR(VLOOKUP($B27,baza!$B$17:$BX$30,MATCH(BH$22,baza!$B$15:$BX$15,0),FALSE),\"\")","v":0},{"$f":"IFERROR(VLOOKUP($B27,baza!$B$17:$BX$30,MATCH(BI$22,baza!$B$15:$BX$15,0),FALSE),\"\")","v":0},{"$f":"IFERROR(VLOOKUP($B27,baza!$B$17:$BX$30,MATCH(BJ$22,baza!$B$15:$BX$15,0),FALSE),\"\")","v":0},{"$f":"IFERROR(VLOOKUP($B27,baza!$B$17:$BX$30,MATCH(BK$22,baza!$B$15:$BX$15,0),FALSE),\"\")","v":0},{"$f":"IFERROR(VLOOKUP($B27,baza!$B$17:$BX$30,MATCH(BL$22,baza!$B$15:$BX$15,0),FALSE),\"\")","v":0},{"$f":"IFERROR(VLOOKUP($B27,baza!$B$17:$BX$30,MATCH(BM$22,baza!$B$15:$BX$15,0),FALSE),\"\")","v":""},{"$f":"IFERROR(VLOOKUP($B27,baza!$B$17:$BX$30,MATCH(BN$22,baza!$B$15:$BX$15,0),FALSE),\"\")","v":""},2,0,0,0,0,0,0,0,0,0,0,0,0,0,0,4,2,0,0,0,4,4,4,{"$f":"IF(SUM(BO27,CF27,CG27)*8>$CL$21,$CL$21,SUM(BO27,CF27,CG27)*8)","v":16},0,null,null,null,null,{"$f":"(BS27*8)","v":0},{"$f":"(BT27*8)","v":0},{"$f":"(BU27*8)","v":0},{"$f":"(BV27*8)","v":0},{"$f":"(BW27*8)","v":0},{"$f":"(BX27*8)","v":0},{"$f":"(BY27*8)","v":0},{"$f":"(BZ27*8)","v":0},{"$f":"(CA27*8)","v":0},{"$f":"(CB27*8)","v":0},{"$f":"(CC27*8)","v":0},{"$f":"CD27","v":4},{"$f":"CE27","v":2}]
[{"$f":"IF(ISBLANK(baza!A21),\"\",baza!A21)","v":5},{"$f":"IF(ISBLANK(baza!B21),\"\",baza!B21)","v":5},{"$f":"IF(ISBLANK(baza!C21),\"\",baza!C21)","v":5},{"$f":"IF(ISBLANK(baza!D21),\"\",baza!D21)","v":""},{"$f":"IFERROR(VLOOKUP($B28,baza!$B$17:$BX$30,MATCH(E$22,baza!$B$15:$BX$15,0),FALSE),\"\")","v":0},{"$f":"IFERROR(VLOOKUP($B28,baza!$B$17:$BX$30,MATCH(F$22,baza!$B$15:$BX$15,0),FALSE),\"\")","v":0},{"$f":"IFERROR(VLOOKUP($B28,baza!$B$17:$BX$30,MATCH(G$22,baza!$B$15:$BX$15,0),FALSE),\"\")","v":0},{"$f":"IFERROR(VLOOKUP($B28,baza!$B$17:$BX$30,MATCH(H$22,baza!$B$15:$BX$15,0),FALSE),\"\")","v":0},{"$f":"IFERROR(VLOOKUP($B28,baza!$B$17:$BX$30,MATCH(I$22,baza!$B$15:$BX$15,0),FALSE),\"\")","v":0},{"$f":"IFERROR(VLOOKUP($B28,baza!$B$17:$BX$30,MATCH(J$22,baza!$B$15:$BX$15,0),FALSE),\"\")","v":0},{"$f":"IFERROR(VLOOKUP($B28,baza!$B$17:$BX$30,MATCH(K$22,baza!$B$15:$BX$15,0),FALSE),\"\")","v":0},{"$f":"IFERROR(VLOOKUP($B28,baza!$B$17:$BX$30,MATCH(L$22,baza!$B$15:$BX$15,0),FALSE),\"\")","v":0},{"$f":"IFERROR(VLOOKUP($B28,baza!$B$17:$BX$30,MATCH(M$22,baza!$B$15:$BX$15,0),FALSE),\"\")","v":0},{"$f":"IFERROR(VLOOKUP($B28,baza!$B$17:$BX$30,MATCH(N$22,baza!$B$15:$BX$15,0),FALSE),\"\")","v":0},{"$f":"IFERROR(VLOOKUP($B28,baza!$B$17:$BX$30,MATCH(O$22,baza!$B$15:$BX$15,0),FALSE),\"\")","v":0},{"$f":"IFERROR(VLOOKUP($B28,baza!$B$17:$BX$30,MATCH(P$22,baza!$B$15:$BX$15,0),FALSE),\"\")","v":0},{"$f":"IFERROR(VLOOKUP($B28,baza!$B$17:$BX$30,MATCH(Q$22,baza!$B$15:$BX$15,0),FALSE),\"\")","v":0},{"$f":"IFERROR(VLOOKUP($B28,baza!$B$17:$BX$30,MATCH(R$22,baza!$B$15:$BX$15,0),FALSE),\"\")","v":0},{"$f":"IFERROR(VLOOKUP($B28,baza!$B$17:$BX$30,MATCH(S$22,baza!$B$15:$BX$15,0),FALSE),\"\")","v":0},{"$f":"IFERROR(VLOOKUP($B28,baza!$B$17:$BX$30,MATCH(T$22,baza!$B$15:$BX$15,0),FALSE),\"\")","v":0},{"$f":"IFERROR(VLOOKUP($B28,baza!$B$17:$BX$30,MATCH(U$22,baza!$B$15:$BX$15,0),FALSE),\"\")","v":0},{"$f":"IFERROR(VLOOKUP($B28,baza!$B$17:$BX$30,MATCH(V$22,baza!$B$15:$BX$15,0),FALSE),\"\")","v":0},{"$f":"IFERROR(VLOOKUP($B28,baza!$B$17:$BX$30,MATCH(W$22,baza!$B$15:$BX$15,0),FALSE),\"\")","v":0},{"$f":"IFERROR(VLOOKUP($B28,baza!$B$17:$BX$30,MATCH(X$22,baza!$B$15:$BX$15,0),FALSE),\"\")","v":0},{"$f":"IFERROR(VLOOKUP($B28,baza!$B$17:$BX$30,MATCH(Y$22,baza!$B$15:$BX$15,0),FALSE),\"\")","v":0},{"$f":"IFERROR(VLOOKUP($B28,baza!$B$17:$BX$30,MATCH(Z$22,baza!$B$15:$BX$15,0),FALSE),\"\")","v":0},{"$f":"IFERROR(VLOOKUP($B28,baza!$B$17:$BX$30,MATCH(AA$22,baza!$B$15:$BX$15,0),FALSE),\"\")","v":0},{"$f":"IFERROR(VLOOKUP($B28,baza!$B$17:$BX$30,MATCH(AB$22,baza!$B$15:$BX$15,0),FALSE),\"\")","v":0},{"$f":"IFERROR(VLOOKUP($B28,baza!$B$17:$BX$30,MATCH(AC$22,baza!$B$15:$BX$15,0),FALSE),\"\")","v":0},{"$f":"IFERROR(VLOOKUP($B28,baza!$B$17:$BX$30,MATCH(AD$22,baza!$B$15:$BX$15,0),FALSE),\"\")","v":0},{"$f":"IFERROR(VLOOKUP($B28,baza!$B$17:$BX$30,MATCH(AE$22,baza!$B$15:$BX$15,0),FALSE),\"\")","v":0},{"$f":"IFERROR(VLOOKUP($B28,baza!$B$17:$BX$30,MATCH(AF$22,baza!$B$15:$BX$15,0),FALSE),\"\")","v":0},{"$f":"IFERROR(VLOOKUP($B28,baza!$B$17:$BX$30,MATCH(AG$22,baza!$B$15:$BX$15,0),FALSE),\"\")","v":0},{"$f":"IFERROR(VLOOKUP($B28,baza!$B$17:$BX$30,MATCH(AH$22,baza!$B$15:$BX$15,0),FALSE),\"\")","v":0},{"$f":"IFERROR(VLOOKUP($B28,baza!$B$17:$BX$30,MATCH(AI$22,baza!$B$15:$BX$15,0),FALSE),\"\")","v":0},{"$f":"IFERROR(VLOOKUP($B28,baza!$B$17:$BX$30,MATCH(AJ$22,baza!$B$15:$BX$15,0),FALSE),\"\")","v":0},{"$f":"IFERROR(VLOOKUP($B28,baza!$B$17:$BX$30,MATCH(AK$22,baza!$B$15:$BX$15,0),FALSE),\"\")","v":0},{"$f":"IFERROR(VLOOKUP($B28,baza!$B$17:$BX$30,MATCH(AL$22,baza!$B$15:$BX$15,0),FALSE),\"\")","v":0},{"$f":"IFERROR(VLOOKUP($B28,baza!$B$17:$BX$30,MATCH(AM$22,baza!$B$15:$BX$15,0),FALSE),\"\")","v":0},{"$f":"IFERROR(VLOOKUP($B28,baza!$B$17:$BX$30,MATCH(AN$22,baza!$B$15:$BX$15,0),FALSE),\"\")","v":0},{"$f":"IFERROR(VLOOKUP($B28,baza!$B$17:$BX$30,MATCH(AO$22,baza!$B$15:$BX$15,0),FALSE),\"\")","v":0},{"$f":"IFERROR(VLOOKUP($B28,baza!$B$17:$BX$30,MATCH(AP$22,baza!$B$15:$BX$15,0),FALSE),\"\")","v":0},{"$f":"IFERROR(VLOOKUP($B28,baza!$B$17:$BX$30,MATCH(AQ$22,baza!$B$15:$BX$15,0),FALSE),\"\")","v":0},{"$f":"IFERROR(VLOOKUP($B28,baza!$B$17:$BX$30,MATCH(AR$22,baza!$B$15:$BX$15,0),FALSE),\"\")","v":0},{"$f":"IFERROR(VLOOKUP($B28,baza!$B$17:$BX$30,MATCH(AS$22,baza!$B$15:$BX$15,0),FALSE),\"\")","v":0},{"$f":"IFERROR(VLOOKUP($B28,baza!$B$17:$BX$30,MATCH(AT$22,baza!$B$15:$BX$15,0),FALSE),\"\")","v":0},{"$f":"IFERROR(VLOOKUP($B28,baza!$B$17:$BX$30,MATCH(AU$22,baza!$B$15:$BX$15,0),FALSE),\"\")","v":0},{"$f":"IFERROR(VLOOKUP($B28,baza!$B$17:$BX$30,MATCH(AV$22,baza!$B$15:$BX$15,0),FALSE),\"\")","v":0},{"$f":"IFERROR(VLOOKUP($B28,baza!$B$17:$BX$30,MATCH(AW$22,baza!$B$15:$BX$15,0),FALSE),\"\")","v":0},{"$f":"IFERROR(VLOOKUP($B28,baza!$B$17:$BX$30,MATCH(AX$22,baza!$B$15:$BX$15,0),FALSE),\"\")","v":0},{"$f":"IFERROR(VLOOKUP($B28,baza!$B$17:$BX$30,MATCH(AY$22,baza!$B$15:$BX$15,0),FALSE),\"\")","v":0},{"$f":"IFERROR(VLOOKUP($B28,baza!$B$17:$BX$30,MATCH(AZ$22,baza!$B$15:$BX$15,0),FALSE),\"\")","v":0},{"$f":"IFERROR(VLOOKUP($B28,baza!$B$17:$BX$30,MATCH(BA$22,baza!$B$15:$BX$15,0),FALSE),\"\")","v":0},{"$f":"IFERROR(VLOOKUP($B28,baza!$B$17:$BX$30,MATCH(BB$22,baza!$B$15:$BX$15,0),FALSE),\"\")","v":0},{"$f":"IFERROR(VLOOKUP($B28,baza!$B$17:$BX$30,MATCH(BC$22,baza!$B$15:$BX$15,0),FALSE),\"\")","v":0},{"$f":"IFERROR(VLOOKUP($B28,baza!$B$17:$BX$30,MATCH(BD$22,baza!$B$15:$BX$15,0),FALSE),\"\")","v":0},{"$f":"IFERROR(VLOOKUP($B28,baza!$B$17:$BX$30,MATCH(BE$22,baza!$B$15:$BX$15,0),FALSE),\"\")","v":0},{"$f":"IFERROR(VLOOKUP($B28,baza!$B$17:$BX$30,MATCH(BF$22,baza!$B$15:$BX$15,0),FALSE),\"\")","v":0},{"$f":"IFERROR(VLOOKUP($B28,baza!$B$17:$BX$30,MATCH(BG$22,baza!$B$15:$BX$15,0),FALSE),\"\")","v":0},{"$f":"IFERROR(VLOOKUP($B28,baza!$B$17:$BX$30,MATCH(BH$22,baza!$B$15:$BX$15,0),FALSE),\"\")","v":0},{"$f":"IFERROR(VLOOKUP($B28,baza!$B$17:$BX$30,MATCH(BI$22,baza!$B$15:$BX$15,0),FALSE),\"\")","v":0},{"$f":"IFERROR(VLOOKUP($B28,baza!$B$17:$BX$30,MATCH(BJ$22,baza!$B$15:$BX$15,0),FALSE),\"\")","v":0},{"$f":"IFERROR(VLOOKUP($B28,baza!$B$17:$BX$30,MATCH(BK$22,baza!$B$15:$BX$15,0),FALSE),\"\")","v":0},{"$f":"IFERROR(VLOOKUP($B28,baza!$B$17:$BX$30,MATCH(BL$22,baza!$B$15:$BX$15,0),FALSE),\"\")","v":0},{"$f":"IFERROR(VLOOKUP($B28,baza!$B$17:$BX$30,MATCH(BM$22,baza!$B$15:$BX$15,0),FALSE),\"\")","v":""},{"$f":"IFERROR(VLOOKUP($B28,baza!$B$17:$BX$30,MATCH(BN$22,baza!$B$15:$BX$15,0),FALSE),\"\")","v":""},0,0,0,0,0,0,0,0,0,0,0,0,0,0,0,0,0,0,0,0,5,5,5,{"$f":"IF(SUM(BO28,CF28,CG28)*8>$CL$21,$CL$21,SUM(BO28,CF28,CG28)*8)","v":0},0,null,null,null,null,{"$f":"(BS28*8)","v":0},{"$f":"(BT28*8)","v":0},{"$f":"(BU28*8)","v":0},{"$f":"(BV28*8)","v":0},{"$f":"(BW28*8)","v":0},{"$f":"(BX28*8)","v":0},{"$f":"(BY28*8)","v":0},{"$f":"(BZ28*8)","v":0},{"$f":"(CA28*8)","v":0},{"$f":"(CB28*8)","v":0},{"$f":"(CC28*8)","v":0},{"$f":"CD28","v":0},{"$f":"CE28","v":0}]
[{"$f":"IF(ISBLANK(baza!A22),\"\",baza!A22)","v":6},{"$f":"IF(ISBLANK(baza!B22),\"\",baza!B22)","v":6},{"$f":"IF(ISBLANK(baza!C22),\"\",baza!C22)","v":6},{"$f":"IF(ISBLANK(baza!D22),\"\",baza!D22)","v":""},{"$f":"IFERROR(VLOOKUP($B29,baza!$B$17:$BX$30,MATCH(E$22,baza!$B$15:$BX$15,0),FALSE),\"\")","v":0},{"$f":"IFERROR(VLOOKUP($B29,baza!$B$17:$BX$30,MATCH(F$22,baza!$B$15:$BX$15,0),FALSE),\"\")","v":0},{"$f":"IFERROR(VLOOKUP($B29,baza!$B$17:$BX$30,MATCH(G$22,baza!$B$15:$BX$15,0),FALSE),\"\")","v":0},{"$f":"IFERROR(VLOOKUP($B29,baza!$B$17:$BX$30,MATCH(H$22,baza!$B$15:$BX$15,0),FALSE),\"\")","v":0},{"$f":"IFERROR(VLOOKUP($B29,baza!$B$17:$BX$30,MATCH(I$22,baza!$B$15:$BX$15,0),FALSE),\"\")","v":0},{"$f":"IFERROR(VLOOKUP($B29,baza!$B$17:$BX$30,MATCH(J$22,baza!$B$15:$BX$15,0),FALSE),\"\")","v":0},{"$f":"IFERROR(VLOOKUP($B29,baza!$B$17:$BX$30,MATCH(K$22,baza!$B$15:$BX$15,0),FALSE),\"\")","v":0},{"$f":"IFERROR(VLOOKUP($B29,baza!$B$17:$BX$30,MATCH(L$22,baza!$B$15:$BX$15,0),FALSE),\"\")","v":0},{"$f":"IFERROR(VLOOKUP($B29,baza!$B$17:$BX$30,MATCH(M$22,baza!$B$15:$BX$15,0),FALSE),\"\")","v":0},{"$f":"IFERROR(VLOOKUP($B29,baza!$B$17:$BX$30,MATCH(N$22,baza!$B$15:$BX$15,0),FALSE),\"\")","v":0},{"$f":"IFERROR(VLOOKUP($B29,baza!$B$17:$BX$30,MATCH(O$22,baza!$B$15:$BX$15,0),FALSE),\"\")","v":0},{"$f":"IFERROR(VLOOKUP($B29,baza!$B$17:$BX$30,MATCH(P$22,baza!$B$15:$BX$15,0),FALSE),\"\")","v":0},{"$f":"IFERROR(VLOOKUP($B29,baza!$B$17:$BX$30,MATCH(Q$22,baza!$B$15:$BX$15,0),FALSE),\"\")","v":0},{"$f":"IFERROR(VLOOKUP($B29,baza!$B$17:$BX$30,MATCH(R$22,baza!$B$15:$BX$15,0),FALSE),\"\")","v":0},{"$f":"IFERROR(VLOOKUP($B29,baza!$B$17:$BX$30,MATCH(S$22,baza!$B$15:$BX$15,0),FALSE),\"\")","v":0},{"$f":"IFERROR(VLOOKUP($B29,baza!$B$17:$BX$30,MATCH(T$22,baza!$B$15:$BX$15,0),FALSE),\"\")","v":0},{"$f":"IFERROR(VLOOKUP($B29,baza!$B$17:$BX$30,MATCH(U$22,baza!$B$15:$BX$15,0),FALSE),\"\")","v":0},{"$f":"IFERROR(VLOOKUP($B29,baza!$B$17:$BX$30,MATCH(V$22,baza!$B$15:$BX$15,0),FALSE),\"\")","v":0},{"$f":"IFERROR(VLOOKUP($B29,baza!$B$17:$BX$30,MATCH(W$22,baza!$B$15:$BX$15,0),FALSE),\"\")","v":0},{"$f":"IFERROR(VLOOKUP($B29,baza!$B$17:$BX$30,MATCH(X$22,baza!$B$15:$BX$15,0),FALSE),\"\")","v":0},{"$f":"IFERROR(VLOOKUP($B29,baza!$B$17:$BX$30,MATCH(Y$22,baza!$B$15:$BX$15,0),FALSE),\"\")","v":0},{"$f":"IFERROR(VLOOKUP($B29,baza!$B$17:$BX$30,MATCH(Z$22,baza!$B$15:$BX$15,0),FALSE),\"\")","v":0},{"$f":"IFERROR(VLOOKUP($B29,baza!$B$17:$BX$30,MATCH(AA$22,baza!$B$15:$BX$15,0),FALSE),\"\")","v":0},{"$f":"IFERROR(VLOOKUP($B29,baza!$B$17:$BX$30,MATCH(AB$22,baza!$B$15:$BX$15,0),FALSE),\"\")","v":0},{"$f":"IFERROR(VLOOKUP($B29,baza!$B$17:$BX$30,MATCH(AC$22,baza!$B$15:$BX$15,0),FALSE),\"\")","v":0},{"$f":"IFERROR(VLOOKUP($B29,baza!$B$17:$BX$30,MATCH(AD$22,baza!$B$15:$BX$15,0),FALSE),\"\")","v":0},{"$f":"IFERROR(VLOOKUP($B29,baza!$B$17:$BX$30,MATCH(AE$22,baza!$B$15:$BX$15,0),FALSE),\"\")","v":0},{"$f":"IFERROR(VLOOKUP($B29,baza!$B$17:$BX$30,MATCH(AF$22,baza!$B$15:$BX$15,0),FALSE),\"\")","v":0},{"$f":"IFERROR(VLOOKUP($B29,baza!$B$17:$BX$30,MATCH(AG$22,baza!$B$15:$BX$15,0),FALSE),\"\")","v":0},{"$f":"IFERROR(VLOOKUP($B29,baza!$B$17:$BX$30,MATCH(AH$22,baza!$B$15:$BX$15,0),FALSE),\"\")","v":0},{"$f":"IFERROR(VLOOKUP($B29,baza!$B$17:$BX$30,MATCH(AI$22,baza!$B$15:$BX$15,0),FALSE),\"\")","v":0},{"$f":"IFERROR(VLOOKUP($B29,baza!$B$17:$BX$30,MATCH(AJ$22,baza!$B$15:$BX$15,0),FALSE),\"\")","v":0},{"$f":"IFERROR(VLOOKUP($B29,baza!$B$17:$BX$30,MATCH(AK$22,baza!$B$15:$BX$15,0),FALSE),\"\")","v":0},{"$f":"IFERROR(VLOOKUP($B29,baza!$B$17:$BX$30,MATCH(AL$22,baza!$B$15:$BX$15,0),FALSE),\"\")","v":0},{"$f":"IFERROR(VLOOKUP($B29,baza!$B$17:$BX$30,MATCH(AM$22,baza!$B$15:$BX$15,0),FALSE),\"\")","v":0},{"$f":"IFERROR(VLOOKUP($B29,baza!$B$17:$BX$30,MATCH(AN$22,baza!$B$15:$BX$15,0),FALSE),\"\")","v":0},{"$f":"IFERROR(VLOOKUP($B29,baza!$B$17:$BX$30,MATCH(AO$22,baza!$B$15:$BX$15,0),FALSE),\"\")","v":0},{"$f":"IFERROR(VLOOKUP($B29,baza!$B$17:$BX$30,MATCH(AP$22,baza!$B$15:$BX$15,0),FALSE),\"\")","v":0},{"$f":"IFERROR(VLOOKUP($B29,baza!$B$17:$BX$30,MATCH(AQ$22,baza!$B$15:$BX$15,0),FALSE),\"\")","v":0},{"$f":"IFERROR(VLOOKUP($B29,baza!$B$17:$BX$30,MATCH(AR$22,baza!$B$15:$BX$15,0),FALSE),\"\")","v":0},{"$f":"IFERROR(VLOOKUP($B29,baza!$B$17:$BX$30,MATCH(AS$22,baza!$B$15:$BX$15,0),FALSE),\"\")","v":0},{"$f":"IFERROR(VLOOKUP($B29,baza!$B$17:$BX$30,MATCH(AT$22,baza!$B$15:$BX$15,0),FALSE),\"\")","v":0},{"$f":"IFERROR(VLOOKUP($B29,baza!$B$17:$BX$30,MATCH(AU$22,baza!$B$15:$BX$15,0),FALSE),\"\")","v":0},{"$f":"IFERROR(VLOOKUP($B29,baza!$B$17:$BX$30,MATCH(AV$22,baza!$B$15:$BX$15,0),FALSE),\"\")","v":0},{"$f":"IFERROR(VLOOKUP($B29,baza!$B$17:$BX$30,MATCH(AW$22,baza!$B$15:$BX$15,0),FALSE),\"\")","v":0},{"$f":"IFERROR(VLOOKUP($B29,baza!$B$17:$BX$30,MATCH(AX$22,baza!$B$15:$BX$15,0),FALSE),\"\")","v":0},{"$f":"IFERROR(VLOOKUP($B29,baza!$B$17:$BX$30,MATCH(AY$22,baza!$B$15:$BX$15,0),FALSE),\"\")","v":0},{"$f":"IFERROR(VLOOKUP($B29,baza!$B$17:$BX$30,MATCH(AZ$22,baza!$B$15:$BX$15,0),FALSE),\"\")","v":0},{"$f":"IFERROR(VLOOKUP($B29,baza!$B$17:$BX$30,MATCH(BA$22,baza!$B$15:$BX$15,0),FALSE),\"\")","v":0},{"$f":"IFERROR(VLOOKUP($B29,baza!$B$17:$BX$30,MATCH(BB$22,baza!$B$15:$BX$15,0),FALSE),\"\")","v":0},{"$f":"IFERROR(VLOOKUP($B29,baza!$B$17:$BX$30,MATCH(BC$22,baza!$B$15:$BX$15,0),FALSE),\"\")","v":0},{"$f":"IFERROR(VLOOKUP($B29,baza!$B$17:$BX$30,MATCH(BD$22,baza!$B$15:$BX$15,0),FALSE),\"\")","v":0},{"$f":"IFERROR(VLOOKUP($B29,baza!$B$17:$BX$30,MATCH(BE$22,baza!$B$15:$BX$15,0),FALSE),\"\")","v":0},{"$f":"IFERROR(VLOOKUP($B29,baza!$B$17:$BX$30,MATCH(BF$22,baza!$B$15:$BX$15,0),FALSE),\"\")","v":0},{"$f":"IFERROR(VLOOKUP($B29,baza!$B$17:$BX$30,MATCH(BG$22,baza!$B$15:$BX$15,0),FALSE),\"\")","v":0},{"$f":"IFERROR(VLOOKUP($B29,baza!$B$17:$BX$30,MATCH(BH$22,baza!$B$15:$BX$15,0),FALSE),\"\")","v":0},{"$f":"IFERROR(VLOOKUP($B29,baza!$B$17:$BX$30,MATCH(BI$22,baza!$B$15:$BX$15,0),FALSE),\"\")","v":0},{"$f":"IFERROR(VLOOKUP($B29,baza!$B$17:$BX$30,MATCH(BJ$22,baza!$B$15:$BX$15,0),FALSE),\"\")","v":0},{"$f":"IFERROR(VLOOKUP($B29,baza!$B$17:$BX$30,MATCH(BK$22,baza!$B$15:$BX$15,0),FALSE),\"\")","v":0},{"$f":"IFERROR(VLOOKUP($B29,baza!$B$17:$BX$30,MATCH(BL$22,baza!$B$15:$BX$15,0),FALSE),\"\")","v":0},{"$f":"IFERROR(VLOOKUP($B29,baza!$B$17:$BX$30,MATCH(BM$22,baza!$B$15:$BX$15,0),FALSE),\"\")","v":""},{"$f":"IFERROR(VLOOKUP($B29,baza!$B$17:$BX$30,MATCH(BN$22,baza!$B$15:$BX$15,0),FALSE),\"\")","v":""},0,0,0,0,0,0,0,0,0,0,0,0,0,0,0,0,0,0,0,0,6,6,6,{"$f":"IF(SUM(BO29,CF29,CG29)*8>$CL$21,$CL$21,SUM(BO29,CF29,CG29)*8)","v":0},0,null,null,null,null,{"$f":"(BS29*8)","v":0},{"$f":"(BT29*8)","v":0},{"$f":"(BU29*8)","v":0},{"$f":"(BV29*8)","v":0},{"$f":"(BW29*8)","v":0},{"$f":"(BX29*8)","v":0},{"$f":"(BY29*8)","v":0},{"$f":"(BZ29*8)","v":0},{"$f":"(CA29*8)","v":0},{"$f":"(CB29*8)","v":0},{"$f":"(CC29*8)","v":0},{"$f":"CD29","v":0},{"$f":"CE29","v":0}]
[{"$f":"IF(ISBLANK(baza!A23),\"\",baza!A23)","v":7},{"$f":"IF(ISBLANK(baza!B23),\"\",baza!B23)","v":7},{"$f":"IF(ISBLANK(baza!C23),\"\",baza!C23)","v":7},{"$f":"IF(ISBLANK(baza!D23),\"\",baza!D23)","v":""},{"$f":"IFERROR(VLOOKUP($B30,baza!$B$17:$BX$30,MATCH(E$22,baza!$B$15:$BX$15,0),FALSE),\"\")","v":0},{"$f":"IFERROR(VLOOKUP($B30,baza!$B$17:$BX$30,MATCH(F$22,baza!$B$15:$BX$15,0),FALSE),\"\")","v":0},{"$f":"IFERROR(VLOOKUP($B30,baza!$B$17:$BX$30,MATCH(G$22,baza!$B$15:$BX$15,0),FALSE),\"\")","v":0},{"$f":"IFERROR(VLOOKUP($B30,baza!$B$17:$BX$30,MATCH(H$22,baza!$B$15:$BX$15,0),FALSE),\"\")","v":0},{"$f":"IFERROR(VLOOKUP($B30,baza!$B$17:$BX$30,MATCH(I$22,baza!$B$15:$BX$15,0),FALSE),\"\")","v":0},{"$f":"IFERROR(VLOOKUP($B30,baza!$B$17:$BX$30,MATCH(J$22,baza!$B$15:$BX$15,0),FALSE),\"\")","v":0},{"$f":"IFERROR(VLOOKUP($B30,baza!$B$17:$BX$30,MATCH(K$22,baza!$B$15:$BX$15,0),FALSE),\"\")","v":0},{"$f":"IFERROR(VLOOKUP($B30,baza!$B$17:$BX$30,MATCH(L$22,baza!$B$15:$BX$15,0),FALSE),\"\")","v":0},{"$f":"IFERROR(VLOOKUP($B30,baza!$B$17:$BX$30,MATCH(M$22,baza!$B$15:$BX$15,0),FALSE),\"\")","v":0},{"$f":"IFERROR(VLOOKUP($B30,baza!$B$17:$BX$30,MATCH(N$22,baza!$B$15:$BX$15,0),FALSE),\"\")","v":0},{"$f":"IFERROR(VLOOKUP($B30,baza!$B$17:$BX$30,MATCH(O$22,baza!$B$15:$BX$15,0),FALSE),\"\")","v":0},{"$f":"IFERROR(VLOOKUP($B30,baza!$B$17:$BX$30,MATCH(P$22,baza!$B$15:$BX$15,0),FALSE),\"\")","v":0},{"$f":"IFERROR(VLOOKUP($B30,baza!$B$17:$BX$30,MATCH(Q$22,baza!$B$15:$BX$15,0),FALSE),\"\")","v":0},{"$f":"IFERROR(VLOOKUP($B30,baza!$B$17:$BX$30,MATCH(R$22,baza!$B$15:$BX$15,0),FALSE),\"\")","v":0},{"$f":"IFERROR(VLOOKUP($B30,baza!$B$17:$BX$30,MATCH(S$22,baza!$B$15:$BX$15,0),FALSE),\"\")","v":0},{"$f":"IFERROR(VLOOKUP($B30,baza!$B$17:$BX$30,MATCH(T$22,baza!$B$15:$BX$15,0),FALSE),\"\")","v":0},{"$f":"IFERROR(VLOOKUP($B30,baza!$B$17:$BX$30,MATCH(U$22,baza!$B$15:$BX$15,0),FALSE),\"\")","v":0},{"$f":"IFERROR(VLOOKUP($B30,baza!$B$17:$BX$30,MATCH(V$22,baza!$B$15:$BX$15,0),FALSE),\"\")","v":0},{"$f":"IFERROR(VLOOKUP($B30,baza!$B$17:$BX$30,MATCH(W$22,baza!$B$15:$BX$15,0),FALSE),\"\")","v":0},{"$f":"IFERROR(VLOOKUP($B30,baza!$B$17:$BX$30,MATCH(X$22,baza!$B$15:$BX$15,0),FALSE),\"\")","v":0},{"$f":"IFERROR(VLOOKUP($B30,baza!$B$17:$BX$30,MATCH(Y$22,baza!$B$15:$BX$15,0),FALSE),\"\")","v":0},{"$f":"IFERROR(VLOOKUP($B30,baza!$B$17:$BX$30,MATCH(Z$22,baza!$B$15:$BX$15,0),FALSE),\"\")","v":0},{"$f":"IFERROR(VLOOKUP($B30,baza!$B$17:$BX$30,MATCH(AA$22,baza!$B$15:$BX$15,0),FALSE),\"\")","v":0},{"$f":"IFERROR(VLOOKUP($B30,baza!$B$17:$BX$30,MATCH(AB$22,baza!$B$15:$BX$15,0),FALSE),\"\")","v":0},{"$f":"IFERROR(VLOOKUP($B30,baza!$B$17:$BX$30,MATCH(AC$22,baza!$B$15:$BX$15,0),FALSE),\"\")","v":0},{"$f":"IFERROR(VLOOKUP($B30,baza!$B$17:$BX$30,MATCH(AD$22,baza!$B$15:$BX$15,0),FALSE),\"\")","v":0},{"$f":"IFERROR(VLOOKUP($B30,baza!$B$17:$BX$30,MATCH(AE$22,baza!$B$15:$BX$15,0),FALSE),\"\")","v":0},{"$f":"IFERROR(VLOOKUP($B30,baza!$B$17:$BX$30,MATCH(AF$22,baza!$B$15:$BX$15,0),FALSE),\"\")","v":0},{"$f":"IFERROR(VLOOKUP($B30,baza!$B$17:$BX$30,MATCH(AG$22,baza!$B$15:$BX$15,0),FALSE),\"\")","v":0},{"$f":"IFERROR(VLOOKUP($B30,baza!$B$17:$BX$30,MATCH(AH$22,baza!$B$15:$BX$15,0),FALSE),\"\")","v":0},{"$f":"IFERROR(VLOOKUP($B30,baza!$B$17:$BX$30,MATCH(AI$22,baza!$B$15:$BX$15,0),FALSE),\"\")","v":0},{"$f":"IFERROR(VLOOKUP($B30,baza!$B$17:$BX$30,MATCH(AJ$22,baza!$B$15:$BX$15,0),FALSE),\"\")","v":0},{"$f":"IFERROR(VLOOKUP($B30,baza!$B$17:$BX$30,MATCH(AK$22,baza!$B$15:$BX$15,0),FALSE),\"\")","v":0},{"$f":"IFERROR(VLOOKUP($B30,baza!$B$17:$BX$30,MATCH(AL$22,baza!$B$15:$BX$15,0),FALSE),\"\")","v":0},{"$f":"IFERROR(VLOOKUP($B30,baza!$B$17:$BX$30,MATCH(AM$22,baza!$B$15:$BX$15,0),FALSE),\"\")","v":0},{"$f":"IFERROR(VLOOKUP($B30,baza!$B$17:$BX$30,MATCH(AN$22,baza!$B$15:$BX$15,0),FALSE),\"\")","v":0},{"$f":"IFERROR(VLOOKUP($B30,baza!$B$17:$BX$30,MATCH(AO$22,baza!$B$15:$BX$15,0),FALSE),\"\")","v":0},{"$f":"IFERROR(VLOOKUP($B30,baza!$B$17:$BX$30,MATCH(AP$22,baza!$B$15:$BX$15,0),FALSE),\"\")","v":0},{"$f":"IFERROR(VLOOKUP($B30,baza!$B$17:$BX$30,MATCH(AQ$22,baza!$B$15:$BX$15,0),FALSE),\"\")","v":0},{"$f":"IFERROR(VLOOKUP($B30,baza!$B$17:$BX$30,MATCH(AR$22,baza!$B$15:$BX$15,0),FALSE),\"\")","v":0},{"$f":"IFERROR(VLOOKUP($B30,baza!$B$17:$BX$30,MATCH(AS$22,baza!$B$15:$BX$15,0),FALSE),\"\")","v":0},{"$f":"IFERROR(VLOOKUP($B30,baza!$B$17:$BX$30,MATCH(AT$22,baza!$B$15:$BX$15,0),FALSE),\"\")","v":0},{"$f":"IFERROR(VLOOKUP($B30,baza!$B$17:$BX$30,MATCH(AU$22,baza!$B$15:$BX$15,0),FALSE),\"\")","v":0},{"$f":"IFERROR(VLOOKUP($B30,baza!$B$17:$BX$30,MATCH(AV$22,baza!$B$15:$BX$15,0),FALSE),\"\")","v":0},{"$f":"IFERROR(VLOOKUP($B30,baza!$B$17:$BX$30,MATCH(AW$22,baza!$B$15:$BX$15,0),FALSE),\"\")","v":0},{"$f":"IFERROR(VLOOKUP($B30,baza!$B$17:$BX$30,MATCH(AX$22,baza!$B$15:$BX$15,0),FALSE),\"\")","v":0},{"$f":"IFERROR(VLOOKUP($B30,baza!$B$17:$BX$30,MATCH(AY$22,baza!$B$15:$BX$15,0),FALSE),\"\")","v":0},{"$f":"IFERROR(VLOOKUP($B30,baza!$B$17:$BX$30,MATCH(AZ$22,baza!$B$15:$BX$15,0),FALSE),\"\")","v":0},{"$f":"IFERROR(VLOOKUP($B30,baza!$B$17:$BX$30,MATCH(BA$22,baza!$B$15:$BX$15,0),FALSE),\"\")","v":0},{"$f":"IFERROR(VLOOKUP($B30,baza!$B$17:$BX$30,MATCH(BB$22,baza!$B$15:$BX$15,0),FALSE),\"\")","v":0},{"$f":"IFERROR(VLOOKUP($B30,baza!$B$17:$BX$30,MATCH(BC$22,baza!$B$15:$BX$15,0),FALSE),\"\")","v":0},{"$f":"IFERROR(VLOOKUP($B30,baza!$B$17:$BX$30,MATCH(BD$22,baza!$B$15:$BX$15,0),FALSE),\"\")","v":0},{"$f":"IFERROR(VLOOKUP($B30,baza!$B$17:$BX$30,MATCH(BE$22,baza!$B$15:$BX$15,0),FALSE),\"\")","v":0},{"$f":"IFERROR(VLOOKUP($B30,baza!$B$17:$BX$30,MATCH(BF$22,baza!$B$15:$BX$15,0),FALSE),\"\")","v":0},{"$f":"IFERROR(VLOOKUP($B30,baza!$B$17:$BX$30,MATCH(BG$22,baza!$B$15:$BX$15,0),FALSE),\"\")","v":0},{"$f":"IFERROR(VLOOKUP($B30,baza!$B$17:$BX$30,MATCH(BH$22,baza!$B$15:$BX$15,0),FALSE),\"\")","v":0},{"$f":"IFERROR(VLOOKUP($B30,baza!$B$17:$BX$30,MATCH(BI$22,baza!$B$15:$BX$15,0),FALSE),\"\")","v":0},{"$f":"IFERROR(VLOOKUP($B30,baza!$B$17:$BX$30,MATCH(BJ$22,baza!$B$15:$BX$15,0),FALSE),\"\")","v":0},{"$f":"IFERROR(VLOOKUP($B30,baza!$B$17:$BX$30,MATCH(BK$22,baza!$B$15:$BX$15,0),FALSE),\"\")","v":0},{"$f":"IFERROR(VLOOKUP($B30,baza!$B$17:$BX$30,MATCH(BL$22,baza!$B$15:$BX$15,0),FALSE),\"\")","v":0},{"$f":"IFERROR(VLOOKUP($B30,baza!$B$17:$BX$30,MATCH(BM$22,baza!$B$15:$BX$15,0),FALSE),\"\")","v":""},{"$f":"IFERROR(VLOOKUP($B30,baza!$B$17:$BX$30,MATCH(BN$22,baza!$B$15:$BX$15,0),FALSE),\"\")","v":""},0,0,0,0,0,0,0,0,0,0,0,0,0,0,0,0,0,0,0,0,7,7,7,{"$f":"IF(SUM(BO30,CF30,CG30)*8>$CL$21,$CL$21,SUM(BO30,CF30,CG30)*8)","v":0},0,null,null,null,null,{"$f":"(BS30*8)","v":0},{"$f":"(BT30*8)","v":0},{"$f":"(BU30*8)","v":0},{"$f":"(BV30*8)","v":0},{"$f":"(BW30*8)","v":0},{"$f":"(BX30*8)","v":0},{"$f":"(BY30*8)","v":0},{"$f":"(BZ30*8)","v":0},{"$f":"(CA30*8)","v":0},{"$f":"(CB30*8)","v":0},{"$f":"(CC30*8)","v":0},{"$f":"CD30","v":0},{"$f":"CE30","v":0}]
[{"$f":"IF(ISBLANK(baza!A24),\"\",baza!A24)","v":8},{"$f":"IF(ISBLANK(baza!B24),\"\",baza!B24)","v":8},{"$f":"IF(ISBLANK(baza!C24),\"\",baza!C24)","v":8},{"$f":"IF(ISBLANK(baza!D24),\"\",baza!D24)","v":""},{"$f":"IFERROR(VLOOKUP($B31,baza!$B$17:$BX$30,MATCH(E$22,baza!$B$15:$BX$15,0),FALSE),\"\")","v":0},{"$f":"IFERROR(VLOOKUP($B31,baza!$B$17:$BX$30,MATCH(F$22,baza!$B$15:$BX$15,0),FALSE),\"\")","v":0},{"$f":"IFERROR(VLOOKUP($B31,baza!$B$17:$BX$30,MATCH(G$22,baza!$B$15:$BX$15,0),FALSE),\"\")","v":0},{"$f":"IFERROR(VLOOKUP($B31,baza!$B$17:$BX$30,MATCH(H$22,baza!$B$15:$BX$15,0),FALSE),\"\")","v":0},{"$f":"IFERROR(VLOOKUP($B31,baza!$B$17:$BX$30,MATCH(I$22,baza!$B$15:$BX$15,0),FALSE),\"\")","v":0},{"$f":"IFERROR(VLOOKUP($B31,baza!$B$17:$BX$30,MATCH(J$22,baza!$B$15:$BX$15,0),FALSE),\"\")","v":0},{"$f":"IFERROR(VLOOKUP($B31,baza!$B$17:$BX$30,MATCH(K$22,baza!$B$15:$BX$15,0),FALSE),\"\")","v":0},{"$f":"IFERROR(VLOOKUP($B31,baza!$B$17:$BX$30,MATCH(L$22,baza!$B$15:$BX$15,0),FALSE),\"\")","v":0},{"$f":"IFERROR(VLOOKUP($B31,baza!$B$17:$BX$30,MATCH(M$22,baza!$B$15:$BX$15,0),FALSE),\"\")","v":0},{"$f":"IFERROR(VLOOKUP($B31,baza!$B$17:$BX$30,MATCH(N$22,baza!$B$15:$BX$15,0),FALSE),\"\")","v":0},{"$f":"IFERROR(VLOOKUP($B31,baza!$B$17:$BX$30,MATCH(O$22,baza!$B$15:$BX$15,0),FALSE),\"\")","v":0},{"$f":"IFERROR(VLOOKUP($B31,baza!$B$17:$BX$30,MATCH(P$22,baza!$B$15:$BX$15,0),FALSE),\"\")","v":0},{"$f":"IFERROR(VLOOKUP($B31,baza!$B$17:$BX$30,MATCH(Q$22,baza!$B$15:$BX$15,0),FALSE),\"\")","v":0},{"$f":"IFERROR(VLOOKUP($B31,baza!$B$17:$BX$30,MATCH(R$22,baza!$B$15:$BX$15,0),FALSE),\"\")","v":0},{"$f":"IFERROR(VLOOKUP($B31,baza!$B$17:$BX$30,MATCH(S$22,baza!$B$15:$BX$15,0),FALSE),\"\")","v":0},{"$f":"IFERROR(VLOOKUP($B31,baza!$B$17:$BX$30,MATCH(T$22,baza!$B$15:$BX$15,0),FALSE),\"\")","v":0},{"$f":"IFERROR(VLOOKUP($B31,baza!$B$17:$BX$30,MATCH(U$22,baza!$B$15:$BX$15,0),FALSE),\"\")","v":0},{"$f":"IFERROR(VLOOKUP($B31,baza!$B$17:$BX$30,MATCH(V$22,baza!$B$15:$BX$15,0),FALSE),\"\")","v":0},{"$f":"IFERROR(VLOOKUP($B31,baza!$B$17:$BX$30,MATCH(W$22,baza!$B$15:$BX$15,0),FALSE),\"\")","v":0},{"$f":"IFERROR(VLOOKUP($B31,baza!$B$17:$BX$30,MATCH(X$22,baza!$B$15:$BX$15,0),FALSE),\"\")","v":0},{"$f":"IFERROR(VLOOKUP($B31,baza!$B$17:$BX$30,MATCH(Y$22,baza!$B$15:$BX$15,0),FALSE),\"\")","v":0},{"$f":"IFERROR(VLOOKUP($B31,baza!$B$17:$BX$30,MATCH(Z$22,baza!$B$15:$BX$15,0),FALSE),\"\")","v":0},{"$f":"IFERROR(VLOOKUP($B31,baza!$B$17:$BX$30,MATCH(AA$22,baza!$B$15:$BX$15,0),FALSE),\"\")","v":0},{"$f":"IFERROR(VLOOKUP($B31,baza!$B$17:$BX$30,MATCH(AB$22,baza!$B$15:$BX$15,0),FALSE),\"\")","v":0},{"$f":"IFERROR(VLOOKUP($B31,baza!$B$17:$BX$30,MATCH(AC$22,baza!$B$15:$BX$15,0),FALSE),\"\")","v":0},{"$f":"IFERROR(VLOOKUP($B31,baza!$B$17:$BX$30,MATCH(AD$22,baza!$B$15:$BX$15,0),FALSE),\"\")","v":0},{"$f":"IFERROR(VLOOKUP($B31,baza!$B$17:$BX$30,MATCH(AE$22,baza!$B$15:$BX$15,0),FALSE),\"\")","v":0},{"$f":"IFERROR(VLOOKUP($B31,baza!$B$17:$BX$30,MATCH(AF$22,baza!$B$15:$BX$15,0),FALSE),\"\")","v":0},{"$f":"IFERROR(VLOOKUP($B31,baza!$B$17:$BX$30,MATCH(AG$22,baza!$B$15:$BX$15,0),FALSE),\"\")","v":0},{"$f":"IFERROR(VLOOKUP($B31,baza!$B$17:$BX$30,MATCH(AH$22,baza!$B$15:$BX$15,0),FALSE),\"\")","v":0},{"$f":"IFERROR(VLOOKUP($B31,baza!$B$17:$BX$30,MATCH(AI$22,baza!$B$15:$BX$15,0),FALSE),\"\")","v":0},{"$f":"IFERROR(VLOOKUP($B31,baza!$B$17:$BX$30,MATCH(AJ$22,baza!$B$15:$BX$15,0),FALSE),\"\")","v":0},{"$f":"IFERROR(VLOOKUP($B31,baza!$B$17:$BX$30,MATCH(AK$22,baza!$B$15:$BX$15,0),FALSE),\"\")","v":0},{"$f":"IFERROR(VLOOKUP($B31,baza!$B$17:$BX$30,MATCH(AL$22,baza!$B$15:$BX$15,0),FALSE),\"\")","v":0},{"$f":"IFERROR(VLOOKUP($B31,baza!$B$17:$BX$30,MATCH(AM$22,baza!$B$15:$BX$15,0),FALSE),\"\")","v":0},{"$f":"IFERROR(VLOOKUP($B31,baza!$B$17:$BX$30,MATCH(AN$22,baza!$B$15:$BX$15,0),FALSE),\"\")","v":0},{"$f":"IFERROR(VLOOKUP($B31,baza!$B$17:$BX$30,MATCH(AO$22,baza!$B$15:$BX$15,0),FALSE),\"\")","v":0},{"$f":"IFERROR(VLOOKUP($B31,baza!$B$17:$BX$30,MATCH(AP$22,baza!$B$15:$BX$15,0),FALSE),\"\")","v":0},{"$f":"IFERROR(VLOOKUP($B31,baza!$B$17:$BX$30,MATCH(AQ$22,baza!$B$15:$BX$15,0),FALSE),\"\")","v":0},{"$f":"IFERROR(VLOOKUP($B31,baza!$B$17:$BX$30,MATCH(AR$22,baza!$B$15:$BX$15,0),FALSE),\"\")","v":0},{"$f":"IFERROR(VLOOKUP($B31,baza!$B$17:$BX$30,MATCH(AS$22,baza!$B$15:$BX$15,0),FALSE),\"\")","v":0},{"$f":"IFERROR(VLOOKUP($B31,baza!$B$17:$BX$30,MATCH(AT$22,baza!$B$15:$BX$15,0),FALSE),\"\")","v":0},{"$f":"IFERROR(VLOOKUP($B31,baza!$B$17:$BX$30,MATCH(AU$22,baza!$B$15:$BX$15,0),FALSE),\"\")","v":0},{"$f":"IFERROR(VLOOKUP($B31,baza!$B$17:$BX$30,MATCH(AV$22,baza!$B$15:$BX$15,0),FALSE),\"\")","v":0},{"$f":"IFERROR(VLOOKUP($B31,baza!$B$17:$BX$30,MATCH(AW$22,baza!$B$15:$BX$15,0),FALSE),\"\")","v":0},{"$f":"IFERROR(VLOOKUP($B31,baza!$B$17:$BX$30,MATCH(AX$22,baza!$B$15:$BX$15,0),FALSE),\"\")","v":0},{"$f":"IFERROR(VLOOKUP($B31,baza!$B$17:$BX$30,MATCH(AY$22,baza!$B$15:$BX$15,0),FALSE),\"\")","v":0},{"$f":"IFERROR(VLOOKUP($B31,baza!$B$17:$BX$30,MATCH(AZ$22,baza!$B$15:$BX$15,0),FALSE),\"\")","v":0},{"$f":"IFERROR(VLOOKUP($B31,baza!$B$17:$BX$30,MATCH(BA$22,baza!$B$15:$BX$15,0),FALSE),\"\")","v":0},{"$f":"IFERROR(VLOOKUP($B31,baza!$B$17:$BX$30,MATCH(BB$22,baza!$B$15:$BX$15,0),FALSE),\"\")","v":0},{"$f":"IFERROR(VLOOKUP($B31,baza!$B$17:$BX$30,MATCH(BC$22,baza!$B$15:$BX$15,0),FALSE),\"\")","v":0},{"$f":"IFERROR(VLOOKUP($B31,baza!$B$17:$BX$30,MATCH(BD$22,baza!$B$15:$BX$15,0),FALSE),\"\")","v":0},{"$f":"IFERROR(VLOOKUP($B31,baza!$B$17:$BX$30,MATCH(BE$22,baza!$B$15:$BX$15,0),FALSE),\"\")","v":0},{"$f":"IFERROR(VLOOKUP($B31,baza!$B$17:$BX$30,MATCH(BF$22,baza!$B$15:$BX$15,0),FALSE),\"\")","v":0},{"$f":"IFERROR(VLOOKUP($B31,baza!$B$17:$BX$30,MATCH(BG$22,baza!$B$15:$BX$15,0),FALSE),\"\")","v":0},{"$f":"IFERROR(VLOOKUP($B31,baza!$B$17:$BX$30,MATCH(BH$22,baza!$B$15:$BX$15,0),FALSE),\"\")","v":0},{"$f":"IFERROR(VLOOKUP($B31,baza!$B$17:$BX$30,MATCH(BI$22,baza!$B$15:$BX$15,0),FALSE),\"\")","v":0},{"$f":"IFERROR(VLOOKUP($B31,baza!$B$17:$BX$30,MATCH(BJ$22,baza!$B$15:$BX$15,0),FALSE),\"\")","v":0},{"$f":"IFERROR(VLOOKUP($B31,baza!$B$17:$BX$30,MATCH(BK$22,baza!$B$15:$BX$15,0),FALSE),\"\")","v":0},{"$f":"IFERROR(VLOOKUP($B31,baza!$B$17:$BX$30,MATCH(BL$22,baza!$B$15:$BX$15,0),FALSE),\"\")","v":0},{"$f":"IFERROR(VLOOKUP($B31,baza!$B$17:$BX$30,MATCH(BM$22,baza!$B$15:$BX$15,0),FALSE),\"\")","v":""},{"$f":"IFERROR(VLOOKUP($B31,baza!$B$17:$BX$30,MATCH(BN$22,baza!$B$15:$BX$15,0),FALSE),\"\")","v":""},0,0,0,0,0,0,0,0,0,0,0,0,0,0,0,0,0,0,0,0,8,8,8,{"$f":"IF(SUM(BO31,CF31,CG31)*8>$CL$21,$CL$21,SUM(BO31,CF31,CG31)*8)","v":0},0,null,null,null,null,{"$f":"(BS31*8)","v":0},{"$f":"(BT31*8)","v":0},{"$f":"(BU31*8)","v":0},{"$f":"(BV31*8)","v":0},{"$f":"(BW31*8)","v":0},{"$f":"(BX31*8)","v":0},{"$f":"(BY31*8)","v":0},{"$f":"(BZ31*8)","v":0},{"$f":"(CA31*8)","v":0},{"$f":"(CB31*8)","v":0},{"$f":"(CC31*8)","v":0},{"$f":"CD31","v":0},{"$f":"CE31","v":0}]
[{"$f":"IF(ISBLANK(baza!A25),\"\",baza!A25)","v":9},{"$f":"IF(ISBLANK(baza!B25),\"\",baza!B25)","v":9},{"$f":"IF(ISBLANK(baza!C25),\"\",baza!C25)","v":9},{"$f":"IF(ISBLANK(baza!D25),\"\",baza!D25)","v":""},{"$f":"IFERROR(VLOOKUP($B32,baza!$B$17:$BX$30,MATCH(E$22,baza!$B$15:$BX$15,0),FALSE),\"\")","v":0},{"$f":"IFERROR(VLOOKUP($B32,baza!$B$17:$BX$30,MATCH(F$22,baza!$B$15:$BX$15,0),FALSE),\"\")","v":0},{"$f":"IFERROR(VLOOKUP($B32,baza!$B$17:$BX$30,MATCH(G$22,baza!$B$15:$BX$15,0),FALSE),\"\")","v":0},{"$f":"IFERROR(VLOOKUP($B32,baza!$B$17:$BX$30,MATCH(H$22,baza!$B$15:$BX$15,0),FALSE),\"\")","v":0},{"$f":"IFERROR(VLOOKUP($B32,baza!$B$17:$BX$30,MATCH(I$22,baza!$B$15:$BX$15,0),FALSE),\"\")","v":0},{"$f":"IFERROR(VLOOKUP($B32,baza!$B$17:$BX$30,MATCH(J$22,baza!$B$15:$BX$15,0),FALSE),\"\")","v":0},{"$f":"IFERROR(VLOOKUP($B32,baza!$B$17:$BX$30,MATCH(K$22,baza!$B$15:$BX$15,0),FALSE),\"\")","v":0},{"$f":"IFERROR(VLOOKUP($B32,baza!$B$17:$BX$30,MATCH(L$22,baza!$B$15:$BX$15,0),FALSE),\"\")","v":0},{"$f":"IFERROR(VLOOKUP($B32,baza!$B$17:$BX$30,MATCH(M$22,baza!$B$15:$BX$15,0),FALSE),\"\")","v":0},{"$f":"IFERROR(VLOOKUP($B32,baza!$B$17:$BX$30,MATCH(N$22,baza!$B$15:$BX$15,0),FALSE),\"\")","v":0},{"$f":"IFERROR(VLOOKUP($B32,baza!$B$17:$BX$30,MATCH(O$22,baza!$B$15:$BX$15,0),FALSE),\"\")","v":0},{"$f":"IFERROR(VLOOKUP($B32,baza!$B$17:$BX$30,MATCH(P$22,baza!$B$15:$BX$15,0),FALSE),\"\")","v":0},{"$f":"IFERROR(VLOOKUP($B32,baza!$B$17:$BX$30,MATCH(Q$22,baza!$B$15:$BX$15,0),FALSE),\"\")","v":0},{"$f":"IFERROR(VLOOKUP($B32,baza!$B$17:$BX$30,MATCH(R$22,baza!$B$15:$BX$15,0),FALSE),\"\")","v":0},{"$f":"IFERROR(VLOOKUP($B32,baza!$B$17:$BX$30,MATCH(S$22,baza!$B$15:$BX$15,0),FALSE),\"\")","v":0},{"$f":"IFERROR(VLOOKUP($B32,baza!$B$17:$BX$30,MATCH(T$22,baza!$B$15:$BX$15,0),FALSE),\"\")","v":0},{"$f":"IFERROR(VLOOKUP($B32,baza!$B$17:$BX$30,MATCH(U$22,baza!$B$15:$BX$15,0),FALSE),\"\")","v":0},{"$f":"IFERROR(VLOOKUP($B32,baza!$B$17:$BX$30,MATCH(V$22,baza!$B$15:$BX$15,0),FALSE),\"\")","v":0},{"$f":"IFERROR(VLOOKUP($B32,baza!$B$17:$BX$30,MATCH(W$22,baza!$B$15:$BX$15,0),FALSE),\"\")","v":0},{"$f":"IFERROR(VLOOKUP($B32,baza!$B$17:$BX$30,MATCH(X$22,baza!$B$15:$BX$15,0),FALSE),\"\")","v":0},{"$f":"IFERROR(VLOOKUP($B32,baza!$B$17:$BX$30,MATCH(Y$22,baza!$B$15:$BX$15,0),FALSE),\"\")","v":0},{"$f":"IFERROR(VLOOKUP($B32,baza!$B$17:$BX$30,MATCH(Z$22,baza!$B$15:$BX$15,0),FALSE),\"\")","v":0},{"$f":"IFERROR(VLOOKUP($B32,baza!$B$17:$BX$30,MATCH(AA$22,baza!$B$15:$BX$15,0),FALSE),\"\")","v":0},{"$f":"IFERROR(VLOOKUP($B32,baza!$B$17:$BX$30,MATCH(AB$22,baza!$B$15:$BX$15,0),FALSE),\"\")","v":0},{"$f":"IFERROR(VLOOKUP($B32,baza!$B$17:$BX$30,MATCH(AC$22,baza!$B$15:$BX$15,0),FALSE),\"\")","v":0},{"$f":"IFERROR(VLOOKUP($B32,baza!$B$17:$BX$30,MATCH(AD$22,baza!$B$15:$BX$15,0),FALSE),\"\")","v":0},{"$f":"IFERROR(VLOOKUP($B32,baza!$B$17:$BX$30,MATCH(AE$22,baza!$B$15:$BX$15,0),FALSE),\"\")","v":0},{"$f":"IFERROR(VLOOKUP($B32,baza!$B$17:$BX$30,MATCH(AF$22,baza!$B$15:$BX$15,0),FALSE),\"\")","v":0},{"$f":"IFERROR(VLOOKUP($B32,baza!$B$17:$BX$30,MATCH(AG$22,baza!$B$15:$BX$15,0),FALSE),\"\")","v":0},{"$f":"IFERROR(VLOOKUP($B32,baza!$B$17:$BX$30,MATCH(AH$22,baza!$B$15:$BX$15,0),FALSE),\"\")","v":0},{"$f":"IFERROR(VLOOKUP($B32,baza!$B$17:$BX$30,MATCH(AI$22,baza!$B$15:$BX$15,0),FALSE),\"\")","v":0},{"$f":"IFERROR(VLOOKUP($B32,baza!$B$17:$BX$30,MATCH(AJ$22,baza!$B$15:$BX$15,0),FALSE),\"\")","v":0},{"$f":"IFERROR(VLOOKUP($B32,baza!$B$17:$BX$30,MATCH(AK$22,baza!$B$15:$BX$15,0),FALSE),\"\")","v":0},{"$f":"IFERROR(VLOOKUP($B32,baza!$B$17:$BX$30,MATCH(AL$22,baza!$B$15:$BX$15,0),FALSE),\"\")","v":0},{"$f":"IFERROR(VLOOKUP($B32,baza!$B$17:$BX$30,MATCH(AM$22,baza!$B$15:$BX$15,0),FALSE),\"\")","v":0},{"$f":"IFERROR(VLOOKUP($B32,baza!$B$17:$BX$30,MATCH(AN$22,baza!$B$15:$BX$15,0),FALSE),\"\")","v":0},{"$f":"IFERROR(VLOOKUP($B32,baza!$B$17:$BX$30,MATCH(AO$22,baza!$B$15:$BX$15,0),FALSE),\"\")","v":0},{"$f":"IFERROR(VLOOKUP($B32,baza!$B$17:$BX$30,MATCH(AP$22,baza!$B$15:$BX$15,0),FALSE),\"\")","v":0},{"$f":"IFERROR(VLOOKUP($B32,baza!$B$17:$BX$30,MATCH(AQ$22,baza!$B$15:$BX$15,0),FALSE),\"\")","v":0},{"$f":"IFERROR(VLOOKUP($B32,baza!$B$17:$BX$30,MATCH(AR$22,baza!$B$15:$BX$15,0),FALSE),\"\")","v":0},{"$f":"IFERROR(VLOOKUP($B32,baza!$B$17:$BX$30,MATCH(AS$22,baza!$B$15:$BX$15,0),FALSE),\"\")","v":0},{"$f":"IFERROR(VLOOKUP($B32,baza!$B$17:$BX$30,MATCH(AT$22,baza!$B$15:$BX$15,0),FALSE),\"\")","v":0},{"$f":"IFERROR(VLOOKUP($B32,baza!$B$17:$BX$30,MATCH(AU$22,baza!$B$15:$BX$15,0),FALSE),\"\")","v":0},{"$f":"IFERROR(VLOOKUP($B32,baza!$B$17:$BX$30,MATCH(AV$22,baza!$B$15:$BX$15,0),FALSE),\"\")","v":0},{"$f":"IFERROR(VLOOKUP($B32,baza!$B$17:$BX$30,MATCH(AW$22,baza!$B$15:$BX$15,0),FALSE),\"\")","v":0},{"$f":"IFERROR(VLOOKUP($B32,baza!$B$17:$BX$30,MATCH(AX$22,baza!$B$15:$BX$15,0),FALSE),\"\")","v":0},{"$f":"IFERROR(VLOOKUP($B32,baza!$B$17:$BX$30,MATCH(AY$22,baza!$B$15:$BX$15,0),FALSE),\"\")","v":0},{"$f":"IFERROR(VLOOKUP($B32,baza!$B$17:$BX$30,MATCH(AZ$22,baza!$B$15:$BX$15,0),FALSE),\"\")","v":0},{"$f":"IFERROR(VLOOKUP($B32,baza!$B$17:$BX$30,MATCH(BA$22,baza!$B$15:$BX$15,0),FALSE),\"\")","v":0},{"$f":"IFERROR(VLOOKUP($B32,baza!$B$17:$BX$30,MATCH(BB$22,baza!$B$15:$BX$15,0),FALSE),\"\")","v":0},{"$f":"IFERROR(VLOOKUP($B32,baza!$B$17:$BX$30,MATCH(BC$22,baza!$B$15:$BX$15,0),FALSE),\"\")","v":0},{"$f":"IFERROR(VLOOKUP($B32,baza!$B$17:$BX$30,MATCH(BD$22,baza!$B$15:$BX$15,0),FALSE),\"\")","v":0},{"$f":"IFERROR(VLOOKUP($B32,baza!$B$17:$BX$30,MATCH(BE$22,baza!$B$15:$BX$15,0),FALSE),\"\")","v":0},{"$f":"IFERROR(VLOOKUP($B32,baza!$B$17:$BX$30,MATCH(BF$22,baza!$B$15:$BX$15,0),FALSE),\"\")","v":0},{"$f":"IFERROR(VLOOKUP($B32,baza!$B$17:$BX$30,MATCH(BG$22,baza!$B$15:$BX$15,0),FALSE),\"\")","v":0},{"$f":"IFERROR(VLOOKUP($B32,baza!$B$17:$BX$30,MATCH(BH$22,baza!$B$15:$BX$15,0),FALSE),\"\")","v":0},{"$f":"IFERROR(VLOOKUP($B32,baza!$B$17:$BX$30,MATCH(BI$22,baza!$B$15:$BX$15,0),FALSE),\"\")","v":0},{"$f":"IFERROR(VLOOKUP($B32,baza!$B$17:$BX$30,MATCH(BJ$22,baza!$B$15:$BX$15,0),FALSE),\"\")","v":0},{"$f":"IFERROR(VLOOKUP($B32,baza!$B$17:$BX$30,MATCH(BK$22,baza!$B$15:$BX$15,0),FALSE),\"\")","v":0},{"$f":"IFERROR(VLOOKUP($B32,baza!$B$17:$BX$30,MATCH(BL$22,baza!$B$15:$BX$15,0),FALSE),\"\")","v":0},{"$f":"IFERROR(VLOOKUP($B32,baza!$B$17:$BX$30,MATCH(BM$22,baza!$B$15:$BX$15,0),FALSE),\"\")","v":""},{"$f":"IFERROR(VLOOKUP($B32,baza!$B$17:$BX$30,MATCH(BN$22,baza!$B$15:$BX$15,0),FALSE),\"\")","v":""},0,0,0,0,0,0,0,0,0,0,0,0,0,0,0,0,0,0,0,0,9,9,9,{"$f":"IF(SUM(BO32,CF32,CG32)*8>$CL$21,$CL$21,SUM(BO32,CF32,CG32)*8)","v":0},0,null,null,null,null,{"$f":"(BS32*8)","v":0},{"$f":"(BT32*8)","v":0},{"$f":"(BU32*8)","v":0},{"$f":"(BV32*8)","v":0},{"$f":"(BW32*8)","v":0},{"$f":"(BX32*8)","v":0},{"$f":"(BY32*8)","v":0},{"$f":"(BZ32*8)","v":0},{"$f":"(CA32*8)","v":0},{"$f":"(CB32*8)","v":0},{"$f":"(CC32*8)","v":0},{"$f":"CD32","v":0},{"$f":"CE32","v":0}]
[{"$f":"IF(ISBLANK(baza!A26),\"\",baza!A26)","v":10},{"$f":"IF(ISBLANK(baza!B26),\"\",baza!B26)","v":10},{"$f":"IF(ISBLANK(baza!C26),\"\",baza!C26)","v":10},{"$f":"IF(ISBLANK(baza!D26),\"\",baza!D26)","v":""},{"$f":"IFERROR(VLOOKUP($B33,baza!$B$17:$BX$30,MATCH(E$22,baza!$B$15:$BX$15,0),FALSE),\"\")","v":0},{"$f":"IFERROR(VLOOKUP($B33,baza!$B$17:$BX$30,MATCH(F$22,baza!$B$15:$BX$15,0),FALSE),\"\")","v":0},{"$f":"IFERROR(VLOOKUP($B33,baza!$B$17:$BX$30,MATCH(G$22,baza!$B$15:$BX$15,0),FALSE),\"\")","v":0},{"$f":"IFERROR(VLOOKUP($B33,baza!$B$17:$BX$30,MATCH(H$22,baza!$B$15:$BX$15,0),FALSE),\"\")","v":0},{"$f":"IFERROR(VLOOKUP($B33,baza!$B$17:$BX$30,MATCH(I$22,baza!$B$15:$BX$15,0),FALSE),\"\")","v":0},{"$f":"IFERROR(VLOOKUP($B33,baza!$B$17:$BX$30,MATCH(J$22,baza!$B$15:$BX$15,0),FALSE),\"\")","v":0},{"$f":"IFERROR(VLOOKUP($B33,baza!$B$17:$BX$30,MATCH(K$22,baza!$B$15:$BX$15,0),FALSE),\"\")","v":0},{"$f":"IFERROR(VLOOKUP($B33,baza!$B$17:$BX$30,MATCH(L$22,baza!$B$15:$BX$15,0),FALSE),\"\")","v":0},{"$f":"IFERROR(VLOOKUP($B33,baza!$B$17:$BX$30,MATCH(M$22,baza!$B$15:$BX$15,0),FALSE),\"\")","v":0},{"$f":"IFERROR(VLOOKUP($B33,baza!$B$17:$BX$30,MATCH(N$22,baza!$B$15:$BX$15,0),FALSE),\"\")","v":0},{"$f":"IFERROR(VLOOKUP($B33,baza!$B$17:$BX$30,MATCH(O$22,baza!$B$15:$BX$15,0),FALSE),\"\")","v":0},{"$f":"IFERROR(VLOOKUP($B33,baza!$B$17:$BX$30,MATCH(P$22,baza!$B$15:$BX$15,0),FALSE),\"\")","v":0},{"$f":"IFERROR(VLOOKUP($B33,baza!$B$17:$BX$30,MATCH(Q$22,baza!$B$15:$BX$15,0),FALSE),\"\")","v":0},{"$f":"IFERROR(VLOOKUP($B33,baza!$B$17:$BX$30,MATCH(R$22,baza!$B$15:$BX$15,0),FALSE),\"\")","v":0},{"$f":"IFERROR(VLOOKUP($B33,baza!$B$17:$BX$30,MATCH(S$22,baza!$B$15:$BX$15,0),FALSE),\"\")","v":0},{"$f":"IFERROR(VLOOKUP($B33,baza!$B$17:$BX$30,MATCH(T$22,baza!$B$15:$BX$15,0),FALSE),\"\")","v":0},{"$f":"IFERROR(VLOOKUP($B33,baza!$B$17:$BX$30,MATCH(U$22,baza!$B$15:$BX$15,0),FALSE),\"\")","v":0},{"$f":"IFERROR(VLOOKUP($B33,baza!$B$17:$BX$30,MATCH(V$22,baza!$B$15:$BX$15,0),FALSE),\"\")","v":0},{"$f":"IFERROR(VLOOKUP($B33,baza!$B$17:$BX$30,MATCH(W$22,baza!$B$15:$BX$15,0),FALSE),\"\")","v":0},{"$f":"IFERROR(VLOOKUP($B33,baza!$B$17:$BX$30,MATCH(X$22,baza!$B$15:$BX$15,0),FALSE),\"\")","v":0},{"$f":"IFERROR(VLOOKUP($B33,baza!$B$17:$BX$30,MATCH(Y$22,baza!$B$15:$BX$15,0),FALSE),\"\")","v":0},{"$f":"IFERROR(VLOOKUP($B33,baza!$B$17:$BX$30,MATCH(Z$22,baza!$B$15:$BX$15,0),FALSE),\"\")","v":0},{"$f":"IFERROR(VLOOKUP($B33,baza!$B$17:$BX$30,MATCH(AA$22,baza!$B$15:$BX$15,0),FALSE),\"\")","v":0},{"$f":"IFERROR(VLOOKUP($B33,baza!$B$17:$BX$30,MATCH(AB$22,baza!$B$15:$BX$15,0),FALSE),\"\")","v":0},{"$f":"IFERROR(VLOOKUP($B33,baza!$B$17:$BX$30,MATCH(AC$22,baza!$B$15:$BX$15,0),FALSE),\"\")","v":0},{"$f":"IFERROR(VLOOKUP($B33,baza!$B$17:$BX$30,MATCH(AD$22,baza!$B$15:$BX$15,0),FALSE),\"\")","v":0},{"$f":"IFERROR(VLOOKUP($B33,baza!$B$17:$BX$30,MATCH(AE$22,baza!$B$15:$BX$15,0),FALSE),\"\")","v":0},{"$f":"IFERROR(VLOOKUP($B33,baza!$B$17:$BX$30,MATCH(AF$22,baza!$B$15:$BX$15,0),FALSE),\"\")","v":0},{"$f":"IFERROR(VLOOKUP($B33,baza!$B$17:$BX$30,MATCH(AG$22,baza!$B$15:$BX$15,0),FALSE),\"\")","v":0},{"$f":"IFERROR(VLOOKUP($B33,baza!$B$17:$BX$30,MATCH(AH$22,baza!$B$15:$BX$15,0),FALSE),\"\")","v":0},{"$f":"IFERROR(VLOOKUP($B33,baza!$B$17:$BX$30,MATCH(AI$22,baza!$B$15:$BX$15,0),FALSE),\"\")","v":0},{"$f":"IFERROR(VLOOKUP($B33,baza!$B$17:$BX$30,MATCH(AJ$22,baza!$B$15:$BX$15,0),FALSE),\"\")","v":0},{"$f":"IFERROR(VLOOKUP($B33,baza!$B$17:$BX$30,MATCH(AK$22,baza!$B$15:$BX$15,0),FALSE),\"\")","v":0},{"$f":"IFERROR(VLOOKUP($B33,baza!$B$17:$BX$30,MATCH(AL$22,baza!$B$15:$BX$15,0),FALSE),\"\")","v":0},{"$f":"IFERROR(VLOOKUP($B33,baza!$B$17:$BX$30,MATCH(AM$22,baza!$B$15:$BX$15,0),FALSE),\"\")","v":0},{"$f":"IFERROR(VLOOKUP($B33,baza!$B$17:$BX$30,MATCH(AN$22,baza!$B$15:$BX$15,0),FALSE),\"\")","v":0},{"$f":"IFERROR(VLOOKUP($B33,baza!$B$17:$BX$30,MATCH(AO$22,baza!$B$15:$BX$15,0),FALSE),\"\")","v":0},{"$f":"IFERROR(VLOOKUP($B33,baza!$B$17:$BX$30,MATCH(AP$22,baza!$B$15:$BX$15,0),FALSE),\"\")","v":0},{"$f":"IFERROR(VLOOKUP($B33,baza!$B$17:$BX$30,MATCH(AQ$22,baza!$B$15:$BX$15,0),FALSE),\"\")","v":0},{"$f":"IFERROR(VLOOKUP($B33,baza!$B$17:$BX$30,MATCH(AR$22,baza!$B$15:$BX$15,0),FALSE),\"\")","v":0},{"$f":"IFERROR(VLOOKUP($B33,baza!$B$17:$BX$30,MATCH(AS$22,baza!$B$15:$BX$15,0),FALSE),\"\")","v":0},{"$f":"IFERROR(VLOOKUP($B33,baza!$B$17:$BX$30,MATCH(AT$22,baza!$B$15:$BX$15,0),FALSE),\"\")","v":0},{"$f":"IFERROR(VLOOKUP($B33,baza!$B$17:$BX$30,MATCH(AU$22,baza!$B$15:$BX$15,0),FALSE),\"\")","v":0},{"$f":"IFERROR(VLOOKUP($B33,baza!$B$17:$BX$30,MATCH(AV$22,baza!$B$15:$BX$15,0),FALSE),\"\")","v":0},{"$f":"IFERROR(VLOOKUP($B33,baza!$B$17:$BX$30,MATCH(AW$22,baza!$B$15:$BX$15,0),FALSE),\"\")","v":0},{"$f":"IFERROR(VLOOKUP($B33,baza!$B$17:$BX$30,MATCH(AX$22,baza!$B$15:$BX$15,0),FALSE),\"\")","v":0},{"$f":"IFERROR(VLOOKUP($B33,baza!$B$17:$BX$30,MATCH(AY$22,baza!$B$15:$BX$15,0),FALSE),\"\")","v":0},{"$f":"IFERROR(VLOOKUP($B33,baza!$B$17:$BX$30,MATCH(AZ$22,baza!$B$15:$BX$15,0),FALSE),\"\")","v":0},{"$f":"IFERROR(VLOOKUP($B33,baza!$B$17:$BX$30,MATCH(BA$22,baza!$B$15:$BX$15,0),FALSE),\"\")","v":0},{"$f":"IFERROR(VLOOKUP($B33,baza!$B$17:$BX$30,MATCH(BB$22,baza!$B$15:$BX$15,0),FALSE),\"\")","v":0},{"$f":"IFERROR(VLOOKUP($B33,baza!$B$17:$BX$30,MATCH(BC$22,baza!$B$15:$BX$15,0),FALSE),\"\")","v":0},{"$f":"IFERROR(VLOOKUP($B33,baza!$B$17:$BX$30,MATCH(BD$22,baza!$B$15:$BX$15,0),FALSE),\"\")","v":0},{"$f":"IFERROR(VLOOKUP($B33,baza!$B$17:$BX$30,MATCH(BE$22,baza!$B$15:$BX$15,0),FALSE),\"\")","v":0},{"$f":"IFERROR(VLOOKUP($B33,baza!$B$17:$BX$30,MATCH(BF$22,baza!$B$15:$BX$15,0),FALSE),\"\")","v":0},{"$f":"IFERROR(VLOOKUP($B33,baza!$B$17:$BX$30,MATCH(BG$22,baza!$B$15:$BX$15,0),FALSE),\"\")","v":0},{"$f":"IFERROR(VLOOKUP($B33,baza!$B$17:$BX$30,MATCH(BH$22,baza!$B$15:$BX$15,0),FALSE),\"\")","v":0},{"$f":"IFERROR(VLOOKUP($B33,baza!$B$17:$BX$30,MATCH(BI$22,baza!$B$15:$BX$15,0),FALSE),\"\")","v":0},{"$f":"IFERROR(VLOOKUP($B33,baza!$B$17:$BX$30,MATCH(BJ$22,baza!$B$15:$BX$15,0),FALSE),\"\")","v":0},{"$f":"IFERROR(VLOOKUP($B33,baza!$B$17:$BX$30,MATCH(BK$22,baza!$B$15:$BX$15,0),FALSE),\"\")","v":0},{"$f":"IFERROR(VLOOKUP($B33,baza!$B$17:$BX$30,MATCH(BL$22,baza!$B$15:$BX$15,0),FALSE),\"\")","v":0},{"$f":"IFERROR(VLOOKUP($B33,baza!$B$17:$BX$30,MATCH(BM$22,baza!$B$15:$BX$15,0),FALSE),\"\")","v":""},{"$f":"IFERROR(VLOOKUP($B33,baza!$B$17:$BX$30,MATCH(BN$22,baza!$B$15:$BX$15,0),FALSE),\"\")","v":""},0,0,0,0,0,0,0,0,0,0,0,0,0,0,0,0,0,0,0,0,10,10,10,{"$f":"IF(SUM(BO33,CF33,CG33)*8>$CL$21,$CL$21,SUM(BO33,CF33,CG33)*8)","v":0},0,null,null,null,null,{"$f":"(BS33*8)","v":0},{"$f":"(BT33*8)","v":0},{"$f":"(BU33*8)","v":0},{"$f":"(BV33*8)","v":0},{"$f":"(BW33*8)","v":0},{"$f":"(BX33*8)","v":0},{"$f":"(BY33*8)","v":0},{"$f":"(BZ33*8)","v":0},{"$f":"(CA33*8)","v":0},{"$f":"(CB33*8)","v":0},{"$f":"(CC33*8)","v":0},{"$f":"CD33","v":0},{"$f":"CE33","v":0}]
[{"$f":"IF(ISBLANK(baza!A27),\"\",baza!A27)","v":""},{"$f":"IF(ISBLANK(baza!B27),\"\",baza!B27)","v":11},{"$f":"IF(ISBLANK(baza!C27),\"\",baza!C27)","v":""},{"$f":"IF(ISBLANK(baza!D27),\"\",baza!D27)","v":""},{"$f":"IFERROR(VLOOKUP($B34,baza!$B$17:$BX$30,MATCH(E$22,baza!$B$15:$BX$15,0),FALSE),\"\")","v":0},{"$f":"IFERROR(VLOOKUP($B34,baza!$B$17:$BX$30,MATCH(F$22,baza!$B$15:$BX$15,0),FALSE),\"\")","v":0},{"$f":"IFERROR(VLOOKUP($B34,baza!$B$17:$BX$30,MATCH(G$22,baza!$B$15:$BX$15,0),FALSE),\"\")","v":0},{"$f":"IFERROR(VLOOKUP($B34,baza!$B$17:$BX$30,MATCH(H$22,baza!$B$15:$BX$15,0),FALSE),\"\")","v":0},{"$f":"IFERROR(VLOOKUP($B34,baza!$B$17:$BX$30,MATCH(I$22,baza!$B$15:$BX$15,0),FALSE),\"\")","v":0},{"$f":"IFERROR(VLOOKUP($B34,baza!$B$17:$BX$30,MATCH(J$22,baza!$B$15:$BX$15,0),FALSE),\"\")","v":0},{"$f":"IFERROR(VLOOKUP($B34,baza!$B$17:$BX$30,MATCH(K$22,baza!$B$15:$BX$15,0),FALSE),\"\")","v":0},{"$f":"IFERROR(VLOOKUP($B34,baza!$B$17:$BX$30,MATCH(L$22,baza!$B$15:$BX$15,0),FALSE),\"\")","v":0},{"$f":"IFERROR(VLOOKUP($B34,baza!$B$17:$BX$30,MATCH(M$22,baza!$B$15:$BX$15,0),FALSE),\"\")","v":0},{"$f":"IFERROR(VLOOKUP($B34,baza!$B$17:$BX$30,MATCH(N$22,baza!$B$15:$BX$15,0),FALSE),\"\")","v":0},{"$f":"IFERROR(VLOOKUP($B34,baza!$B$17:$BX$30,MATCH(O$22,baza!$B$15:$BX$15,0),FALSE),\"\")","v":0},{"$f":"IFERROR(VLOOKUP($B34,baza!$B$17:$BX$30,MATCH(P$22,baza!$B$15:$BX$15,0),FALSE),\"\")","v":0},{"$f":"IFERROR(VLOOKUP($B34,baza!$B$17:$BX$30,MATCH(Q$22,baza!$B$15:$BX$15,0),FALSE),\"\")","v":0},{"$f":"IFERROR(VLOOKUP($B34,baza!$B$17:$BX$30,MATCH(R$22,baza!$B$15:$BX$15,0),FALSE),\"\")","v":0},{"$f":"IFERROR(VLOOKUP($B34,baza!$B$17:$BX$30,MATCH(S$22,baza!$B$15:$BX$15,0),FALSE),\"\")","v":0},{"$f":"IFERROR(VLOOKUP($B34,baza!$B$17:$BX$30,MATCH(T$22,baza!$B$15:$BX$15,0),FALSE),\"\")","v":0},{"$f":"IFERROR(VLOOKUP($B34,baza!$B$17:$BX$30,MATCH(U$22,baza!$B$15:$BX$15,0),FALSE),\"\")","v":0},{"$f":"IFERROR(VLOOKUP($B34,baza!$B$17:$BX$30,MATCH(V$22,baza!$B$15:$BX$15,0),FALSE),\"\")","v":0},{"$f":"IFERROR(VLOOKUP($B34,baza!$B$17:$BX$30,MATCH(W$22,baza!$B$15:$BX$15,0),FALSE),\"\")","v":0},{"$f":"IFERROR(VLOOKUP($B34,baza!$B$17:$BX$30,MATCH(X$22,baza!$B$15:$BX$15,0),FALSE),\"\")","v":0},{"$f":"IFERROR(VLOOKUP($B34,baza!$B$17:$BX$30,MATCH(Y$22,baza!$B$15:$BX$15,0),FALSE),\"\")","v":0},{"$f":"IFERROR(VLOOKUP($B34,baza!$B$17:$BX$30,MATCH(Z$22,baza!$B$15:$BX$15,0),FALSE),\"\")","v":0},{"$f":"IFERROR(VLOOKUP($B34,baza!$B$17:$BX$30,MATCH(AA$22,baza!$B$15:$BX$15,0),FALSE),\"\")","v":0},{"$f":"IFERROR(VLOOKUP($B34,baza!$B$17:$BX$30,MATCH(AB$22,baza!$B$15:$BX$15,0),FALSE),\"\")","v":0},{"$f":"IFERROR(VLOOKUP($B34,baza!$B$17:$BX$30,MATCH(AC$22,baza!$B$15:$BX$15,0),FALSE),\"\")","v":0},{"$f":"IFERROR(VLOOKUP($B34,baza!$B$17:$BX$30,MATCH(AD$22,baza!$B$15:$BX$15,0),FALSE),\"\")","v":0},{"$f":"IFERROR(VLOOKUP($B34,baza!$B$17:$BX$30,MATCH(AE$22,baza!$B$15:$BX$15,0),FALSE),\"\")","v":0},{"$f":"IFERROR(VLOOKUP($B34,baza!$B$17:$BX$30,MATCH(AF$22,baza!$B$15:$BX$15,0),FALSE),\"\")","v":0},{"$f":"IFERROR(VLOOKUP($B34,baza!$B$17:$BX$30,MATCH(AG$22,baza!$B$15:$BX$15,0),FALSE),\"\")","v":0},{"$f":"IFERROR(VLOOKUP($B34,baza!$B$17:$BX$30,MATCH(AH$22,baza!$B$15:$BX$15,0),FALSE),\"\")","v":0},{"$f":"IFERROR(VLOOKUP($B34,baza!$B$17:$BX$30,MATCH(AI$22,baza!$B$15:$BX$15,0),FALSE),\"\")","v":0},{"$f":"IFERROR(VLOOKUP($B34,baza!$B$17:$BX$30,MATCH(AJ$22,baza!$B$15:$BX$15,0),FALSE),\"\")","v":0},{"$f":"IFERROR(VLOOKUP($B34,baza!$B$17:$BX$30,MATCH(AK$22,baza!$B$15:$BX$15,0),FALSE),\"\")","v":0},{"$f":"IFERROR(VLOOKUP($B34,baza!$B$17:$BX$30,MATCH(AL$22,baza!$B$15:$BX$15,0),FALSE),\"\")","v":0},{"$f":"IFERROR(VLOOKUP($B34,baza!$B$17:$BX$30,MATCH(AM$22,baza!$B$15:$BX$15,0),FALSE),\"\")","v":0},{"$f":"IFERROR(VLOOKUP($B34,baza!$B$17:$BX$30,MATCH(AN$22,baza!$B$15:$BX$15,0),FALSE),\"\")","v":0},{"$f":"IFERROR(VLOOKUP($B34,baza!$B$17:$BX$30,MATCH(AO$22,baza!$B$15:$BX$15,0),FALSE),\"\")","v":0},{"$f":"IFERROR(VLOOKUP($B34,baza!$B$17:$BX$30,MATCH(AP$22,baza!$B$15:$BX$15,0),FALSE),\"\")","v":0},{"$f":"IFERROR(VLOOKUP($B34,baza!$B$17:$BX$30,MATCH(AQ$22,baza!$B$15:$BX$15,0),FALSE),\"\")","v":0},{"$f":"IFERROR(VLOOKUP($B34,baza!$B$17:$BX$30,MATCH(AR$22,baza!$B$15:$BX$15,0),FALSE),\"\")","v":0},{"$f":"IFERROR(VLOOKUP($B34,baza!$B$17:$BX$30,MATCH(AS$22,baza!$B$15:$BX$15,0),FALSE),\"\")","v":0},{"$f":"IFERROR(VLOOKUP($B34,baza!$B$17:$BX$30,MATCH(AT$22,baza!$B$15:$BX$15,0),FALSE),\"\")","v":0},{"$f":"IFERROR(VLOOKUP($B34,baza!$B$17:$BX$30,MATCH(AU$22,baza!$B$15:$BX$15,0),FALSE),\"\")","v":0},{"$f":"IFERROR(VLOOKUP($B34,baza!$B$17:$BX$30,MATCH(AV$22,baza!$B$15:$BX$15,0),FALSE),\"\")","v":0},{"$f":"IFERROR(VLOOKUP($B34,baza!$B$17:$BX$30,MATCH(AW$22,baza!$B$15:$BX$15,0),FALSE),\"\")","v":0},{"$f":"IFERROR(VLOOKUP($B34,baza!$B$17:$BX$30,MATCH(AX$22,baza!$B$15:$BX$15,0),FALSE),\"\")","v":0},{"$f":"IFERROR(VLOOKUP($B34,baza!$B$17:$BX$30,MATCH(AY$22,baza!$B$15:$BX$15,0),FALSE),\"\")","v":0},{"$f":"IFERROR(VLOOKUP($B34,baza!$B$17:$BX$30,MATCH(AZ$22,baza!$B$15:$BX$15,0),FALSE),\"\")","v":0},{"$f":"IFERROR(VLOOKUP($B34,baza!$B$17:$BX$30,MATCH(BA$22,baza!$B$15:$BX$15,0),FALSE),\"\")","v":0},{"$f":"IFERROR(VLOOKUP($B34,baza!$B$17:$BX$30,MATCH(BB$22,baza!$B$15:$BX$15,0),FALSE),\"\")","v":0},{"$f":"IFERROR(VLOOKUP($B34,baza!$B$17:$BX$30,MATCH(BC$22,baza!$B$15:$BX$15,0),FALSE),\"\")","v":0},{"$f":"IFERROR(VLOOKUP($B34,baza!$B$17:$BX$30,MATCH(BD$22,baza!$B$15:$BX$15,0),FALSE),\"\")","v":0},{"$f":"IFERROR(VLOOKUP($B34,baza!$B$17:$BX$30,MATCH(BE$22,baza!$B$15:$BX$15,0),FALSE),\"\")","v":0},{"$f":"IFERROR(VLOOKUP($B34,baza!$B$17:$BX$30,MATCH(BF$22,baza!$B$15:$BX$15,0),FALSE),\"\")","v":0},{"$f":"IFERROR(VLOOKUP($B34,baza!$B$17:$BX$30,MATCH(BG$22,baza!$B$15:$BX$15,0),FALSE),\"\")","v":0},{"$f":"IFERROR(VLOOKUP($B34,baza!$B$17:$BX$30,MATCH(BH$22,baza!$B$15:$BX$15,0),FALSE),\"\")","v":0},{"$f":"IFERROR(VLOOKUP($B34,baza!$B$17:$BX$30,MATCH(BI$22,baza!$B$15:$BX$15,0),FALSE),\"\")","v":0},{"$f":"IFERROR(VLOOKUP($B34,baza!$B$17:$BX$30,MATCH(BJ$22,baza!$B$15:$BX$15,0),FALSE),\"\")","v":0},{"$f":"IFERROR(VLOOKUP($B34,baza!$B$17:$BX$30,MATCH(BK$22,baza!$B$15:$BX$15,0),FALSE),\"\")","v":0},{"$f":"IFERROR(VLOOKUP($B34,baza!$B$17:$BX$30,MATCH(BL$22,baza!$B$15:$BX$15,0),FALSE),\"\")","v":0},{"$f":"IFERROR(VLOOKUP($B34,baza!$B$17:$BX$30,MATCH(BM$22,baza!$B$15:$BX$15,0),FALSE),\"\")","v":""},{"$f":"IFERROR(VLOOKUP($B34,baza!$B$17:$BX$30,MATCH(BN$22,baza!$B$15:$BX$15,0),FALSE),\"\")","v":""},0,0,0,0,0,0,0,0,0,0,0,0,0,0,0,0,0,0,0,0,"",11,"",{"$f":"IF(SUM(BO34,CF34,CG34)*8>$CL$21,$CL$21,SUM(BO34,CF34,CG34)*8)","v":0},0,null,null,null,null,{"$f":"(BS34*8)","v":0},{"$f":"(BT34*8)","v":0},{"$f":"(BU34*8)","v":0},{"$f":"(BV34*8)","v":0},{"$f":"(BW34*8)","v":0},{"$f":"(BX34*8)","v":0},{"$f":"(BY34*8)","v":0},{"$f":"(BZ34*8)","v":0},{"$f":"(CA34*8)","v":0},{"$f":"(CB34*8)","v":0},{"$f":"(CC34*8)","v":0},{"$f":"CD34","v":0},{"$f":"CE34","v":0}]
[{"$f":"IF(ISBLANK(baza!A28),\"\",baza!A28)","v":""},{"$f":"IF(ISBLANK(baza!B28),\"\",baza!B28)","v":12},{"$f":"IF(ISBLANK(baza!C28),\"\",baza!C28)","v":""},{"$f":"IF(ISBLANK(baza!D28),\"\",baza!D28)","v":""},{"$f":"IFERROR(VLOOKUP($B35,baza!$B$17:$BX$30,MATCH(E$22,baza!$B$15:$BX$15,0),FALSE),\"\")","v":0},{"$f":"IFERROR(VLOOKUP($B35,baza!$B$17:$BX$30,MATCH(F$22,baza!$B$15:$BX$15,0),FALSE),\"\")","v":0},{"$f":"IFERROR(VLOOKUP($B35,baza!$B$17:$BX$30,MATCH(G$22,baza!$B$15:$BX$15,0),FALSE),\"\")","v":0},{"$f":"IFERROR(VLOOKUP($B35,baza!$B$17:$BX$30,MATCH(H$22,baza!$B$15:$BX$15,0),FALSE),\"\")","v":0},{"$f":"IFERROR(VLOOKUP($B35,baza!$B$17:$BX$30,MATCH(I$22,baza!$B$15:$BX$15,0),FALSE),\"\")","v":0},{"$f":"IFERROR(VLOOKUP($B35,baza!$B$17:$BX$30,MATCH(J$22,baza!$B$15:$BX$15,0),FALSE),\"\")","v":0},{"$f":"IFERROR(VLOOKUP($B35,baza!$B$17:$BX$30,MATCH(K$22,baza!$B$15:$BX$15,0),FALSE),\"\")","v":0},{"$f":"IFERROR(VLOOKUP($B35,baza!$B$17:$BX$30,MATCH(L$22,baza!$B$15:$BX$15,0),FALSE),\"\")","v":0},{"$f":"IFERROR(VLOOKUP($B35,baza!$B$17:$BX$30,MATCH(M$22,baza!$B$15:$BX$15,0),FALSE),\"\")","v":0},{"$f":"IFERROR(VLOOKUP($B35,baza!$B$17:$BX$30,MATCH(N$22,baza!$B$15:$BX$15,0),FALSE),\"\")","v":0},{"$f":"IFERROR(VLOOKUP($B35,baza!$B$17:$BX$30,MATCH(O$22,baza!$B$15:$BX$15,0),FALSE),\"\")","v":0},{"$f":"IFERROR(VLOOKUP($B35,baza!$B$17:$BX$30,MATCH(P$22,baza!$B$15:$BX$15,0),FALSE),\"\")","v":0},{"$f":"IFERROR(VLOOKUP($B35,baza!$B$17:$BX$30,MATCH(Q$22,baza!$B$15:$BX$15,0),FALSE),\"\")","v":0},{"$f":"IFERROR(VLOOKUP($B35,baza!$B$17:$BX$30,MATCH(R$22,baza!$B$15:$BX$15,0),FALSE),\"\")","v":0},{"$f":"IFERROR(VLOOKUP($B35,baza!$B$17:$BX$30,MATCH(S$22,baza!$B$15:$BX$15,0),FALSE),\"\")","v":0},{"$f":"IFERROR(VLOOKUP($B35,baza!$B$17:$BX$30,MATCH(T$22,baza!$B$15:$BX$15,0),FALSE),\"\")","v":0},{"$f":"IFERROR(VLOOKUP($B35,baza!$B$17:$BX$30,MATCH(U$22,baza!$B$15:$BX$15,0),FALSE),\"\")","v":0},{"$f":"IFERROR(VLOOKUP($B35,baza!$B$17:$BX$30,MATCH(V$22,baza!$B$15:$BX$15,0),FALSE),\"\")","v":0},{"$f":"IFERROR(VLOOKUP($B35,baza!$B$17:$BX$30,MATCH(W$22,baza!$B$15:$BX$15,0),FALSE),\"\")","v":0},{"$f":"IFERROR(VLOOKUP($B35,baza!$B$17:$BX$30,MATCH(X$22,baza!$B$15:$BX$15,0),FALSE),\"\")","v":0},{"$f":"IFERROR(VLOOKUP($B35,baza!$B$17:$BX$30,MATCH(Y$22,baza!$B$15:$BX$15,0),FALSE),\"\")","v":0},{"$f":"IFERROR(VLOOKUP($B35,baza!$B$17:$BX$30,MATCH(Z$22,baza!$B$15:$BX$15,0),FALSE),\"\")","v":0},{"$f":"IFERROR(VLOOKUP($B35,baza!$B$17:$BX$30,MATCH(AA$22,baza!$B$15:$BX$15,0),FALSE),\"\")","v":0},{"$f":"IFERROR(VLOOKUP($B35,baza!$B$17:$BX$30,MATCH(AB$22,baza!$B$15:$BX$15,0),FALSE),\"\")","v":0},{"$f":"IFERROR(VLOOKUP($B35,baza!$B$17:$BX$30,MATCH(AC$22,baza!$B$15:$BX$15,0),FALSE),\"\")","v":0},{"$f":"IFERROR(VLOOKUP($B35,baza!$B$17:$BX$30,MATCH(AD$22,baza!$B$15:$BX$15,0),FALSE),\"\")","v":0},{"$f":"IFERROR(VLOOKUP($B35,baza!$B$17:$BX$30,MATCH(AE$22,baza!$B$15:$BX$15,0),FALSE),\"\")","v":0},{"$f":"IFERROR(VLOOKUP($B35,baza!$B$17:$BX$30,MATCH(AF$22,baza!$B$15:$BX$15,0),FALSE),\"\")","v":0},{"$f":"IFERROR(VLOOKUP($B35,baza!$B$17:$BX$30,MATCH(AG$22,baza!$B$15:$BX$15,0),FALSE),\"\")","v":0},{"$f":"IFERROR(VLOOKUP($B35,baza!$B$17:$BX$30,MATCH(AH$22,baza!$B$15:$BX$15,0),FALSE),\"\")","v":0},{"$f":"IFERROR(VLOOKUP($B35,baza!$B$17:$BX$30,MATCH(AI$22,baza!$B$15:$BX$15,0),FALSE),\"\")","v":0},{"$f":"IFERROR(VLOOKUP($B35,baza!$B$17:$BX$30,MATCH(AJ$22,baza!$B$15:$BX$15,0),FALSE),\"\")","v":0},{"$f":"IFERROR(VLOOKUP($B35,baza!$B$17:$BX$30,MATCH(AK$22,baza!$B$15:$BX$15,0),FALSE),\"\")","v":0},{"$f":"IFERROR(VLOOKUP($B35,baza!$B$17:$BX$30,MATCH(AL$22,baza!$B$15:$BX$15,0),FALSE),\"\")","v":0},{"$f":"IFERROR(VLOOKUP($B35,baza!$B$17:$BX$30,MATCH(AM$22,baza!$B$15:$BX$15,0),FALSE),\"\")","v":0},{"$f":"IFERROR(VLOOKUP($B35,baza!$B$17:$BX$30,MATCH(AN$22,baza!$B$15:$BX$15,0),FALSE),\"\")","v":0},{"$f":"IFERROR(VLOOKUP($B35,baza!$B$17:$BX$30,MATCH(AO$22,baza!$B$15:$BX$15,0),FALSE),\"\")","v":0},{"$f":"IFERROR(VLOOKUP($B35,baza!$B$17:$BX$30,MATCH(AP$22,baza!$B$15:$BX$15,0),FALSE),\"\")","v":0},{"$f":"IFERROR(VLOOKUP($B35,baza!$B$17:$BX$30,MATCH(AQ$22,baza!$B$15:$BX$15,0),FALSE),\"\")","v":0},{"$f":"IFERROR(VLOOKUP($B35,baza!$B$17:$BX$30,MATCH(AR$22,baza!$B$15:$BX$15,0),FALSE),\"\")","v":0},{"$f":"IFERROR(VLOOKUP($B35,baza!$B$17:$BX$30,MATCH(AS$22,baza!$B$15:$BX$15,0),FALSE),\"\")","v":0},{"$f":"IFERROR(VLOOKUP($B35,baza!$B$17:$BX$30,MATCH(AT$22,baza!$B$15:$BX$15,0),FALSE),\"\")","v":0},{"$f":"IFERROR(VLOOKUP($B35,baza!$B$17:$BX$30,MATCH(AU$22,baza!$B$15:$BX$15,0),FALSE),\"\")","v":0},{"$f":"IFERROR(VLOOKUP($B35,baza!$B$17:$BX$30,MATCH(AV$22,baza!$B$15:$BX$15,0),FALSE),\"\")","v":0},{"$f":"IFERROR(VLOOKUP($B35,baza!$B$17:$BX$30,MATCH(AW$22,baza!$B$15:$BX$15,0),FALSE),\"\")","v":0},{"$f":"IFERROR(VLOOKUP($B35,baza!$B$17:$BX$30,MATCH(AX$22,baza!$B$15:$BX$15,0),FALSE),\"\")","v":0},{"$f":"IFERROR(VLOOKUP($B35,baza!$B$17:$BX$30,MATCH(AY$22,baza!$B$15:$BX$15,0),FALSE),\"\")","v":0},{"$f":"IFERROR(VLOOKUP($B35,baza!$B$17:$BX$30,MATCH(AZ$22,baza!$B$15:$BX$15,0),FALSE),\"\")","v":0},{"$f":"IFERROR(VLOOKUP($B35,baza!$B$17:$BX$30,MATCH(BA$22,baza!$B$15:$BX$15,0),FALSE),\"\")","v":0},{"$f":"IFERROR(VLOOKUP($B35,baza!$B$17:$BX$30,MATCH(BB$22,baza!$B$15:$BX$15,0),FALSE),\"\")","v":0},{"$f":"IFERROR(VLOOKUP($B35,baza!$B$17:$BX$30,MATCH(BC$22,baza!$B$15:$BX$15,0),FALSE),\"\")","v":0},{"$f":"IFERROR(VLOOKUP($B35,baza!$B$17:$BX$30,MATCH(BD$22,baza!$B$15:$BX$15,0),FALSE),\"\")","v":0},{"$f":"IFERROR(VLOOKUP($B35,baza!$B$17:$BX$30,MATCH(BE$22,baza!$B$15:$BX$15,0),FALSE),\"\")","v":0},{"$f":"IFERROR(VLOOKUP($B35,baza!$B$17:$BX$30,MATCH(BF$22,baza!$B$15:$BX$15,0),FALSE),\"\")","v":0},{"$f":"IFERROR(VLOOKUP($B35,baza!$B$17:$BX$30,MATCH(BG$22,baza!$B$15:$BX$15,0),FALSE),\"\")","v":0},{"$f":"IFERROR(VLOOKUP($B35,baza!$B$17:$BX$30,MATCH(BH$22,baza!$B$15:$BX$15,0),FALSE),\"\")","v":0},{"$f":"IFERROR(VLOOKUP($B35,baza!$B$17:$BX$30,MATCH(BI$22,baza!$B$15:$BX$15,0),FALSE),\"\")","v":0},{"$f":"IFERROR(VLOOKUP($B35,baza!$B$17:$BX$30,MATCH(BJ$22,baza!$B$15:$BX$15,0),FALSE),\"\")","v":0},{"$f":"IFERROR(VLOOKUP($B35,baza!$B$17:$BX$30,MATCH(BK$22,baza!$B$15:$BX$15,0),FALSE),\"\")","v":0},{"$f":"IFERROR(VLOOKUP($B35,baza!$B$17:$BX$30,MATCH(BL$22,baza!$B$15:$BX$15,0),FALSE),\"\")","v":0},{"$f":"IFERROR(VLOOKUP($B35,baza!$B$17:$BX$30,MATCH(BM$22,baza!$B$15:$BX$15,0),FALSE),\"\")","v":""},{"$f":"IFERROR(VLOOKUP($B35,baza!$B$17:$BX$30,MATCH(BN$22,baza!$B$15:$BX$15,0),FALSE),\"\")","v":""},0,0,0,0,0,0,0,0,0,0,0,0,0,0,0,0,0,0,0,0,"",12,"",{"$f":"IF(SUM(BO35,CF35,CG35)*8>$CL$21,$CL$21,SUM(BO35,CF35,CG35)*8)","v":0},0,null,null,null,null,{"$f":"(BS35*8)","v":0},{"$f":"(BT35*8)","v":0},{"$f":"(BU35*8)","v":0},{"$f":"(BV35*8)","v":0},{"$f":"(BW35*8)","v":0},{"$f":"(BX35*8)","v":0},{"$f":"(BY35*8)","v":0},{"$f":"(BZ35*8)","v":0},{"$f":"(CA35*8)","v":0},{"$f":"(CB35*8)","v":0},{"$f":"(CC35*8)","v":0},{"$f":"CD35","v":0},{"$f":"CE35","v":0}]
[{"$f":"IF(ISBLANK(baza!A29),\"\",baza!A29)","v":""},{"$f":"IF(ISBLANK(baza!B29),\"\",baza!B29)","v":13},{"$f":"IF(ISBLANK(baza!C29),\"\",baza!C29)","v":""},{"$f":"IF(ISBLANK(baza!D29),\"\",baza!D29)","v":""},{"$f":"IFERROR(VLOOKUP($B36,baza!$B$17:$BX$30,MATCH(E$22,baza!$B$15:$BX$15,0),FALSE),\"\")","v":0},{"$f":"IFERROR(VLOOKUP($B36,baza!$B$17:$BX$30,MATCH(F$22,baza!$B$15:$BX$15,0),FALSE),\"\")","v":0},{"$f":"IFERROR(VLOOKUP($B36,baza!$B$17:$BX$30,MATCH(G$22,baza!$B$15:$BX$15,0),FALSE),\"\")","v":0},{"$f":"IFERROR(VLOOKUP($B36,baza!$B$17:$BX$30,MATCH(H$22,baza!$B$15:$BX$15,0),FALSE),\"\")","v":0},{"$f":"IFERROR(VLOOKUP($B36,baza!$B$17:$BX$30,MATCH(I$22,baza!$B$15:$BX$15,0),FALSE),\"\")","v":0},{"$f":"IFERROR(VLOOKUP($B36,baza!$B$17:$BX$30,MATCH(J$22,baza!$B$15:$BX$15,0),FALSE),\"\")","v":0},{"$f":"IFERROR(VLOOKUP($B36,baza!$B$17:$BX$30,MATCH(K$22,baza!$B$15:$BX$15,0),FALSE),\"\")","v":0},{"$f":"IFERROR(VLOOKUP($B36,baza!$B$17:$BX$30,MATCH(L$22,baza!$B$15:$BX$15,0),FALSE),\"\")","v":0},{"$f":"IFERROR(VLOOKUP($B36,baza!$B$17:$BX$30,MATCH(M$22,baza!$B$15:$BX$15,0),FALSE),\"\")","v":0},{"$f":"IFERROR(VLOOKUP($B36,baza!$B$17:$BX$30,MATCH(N$22,baza!$B$15:$BX$15,0),FALSE),\"\")","v":0},{"$f":"IFERROR(VLOOKUP($B36,baza!$B$17:$BX$30,MATCH(O$22,baza!$B$15:$BX$15,0),FALSE),\"\")","v":0},{"$f":"IFERROR(VLOOKUP($B36,baza!$B$17:$BX$30,MATCH(P$22,baza!$B$15:$BX$15,0),FALSE),\"\")","v":0},{"$f":"IFERROR(VLOOKUP($B36,baza!$B$17:$BX$30,MATCH(Q$22,baza!$B$15:$BX$15,0),FALSE),\"\")","v":0},{"$f":"IFERROR(VLOOKUP($B36,baza!$B$17:$BX$30,MATCH(R$22,baza!$B$15:$BX$15,0),FALSE),\"\")","v":0},{"$f":"IFERROR(VLOOKUP($B36,baza!$B$17:$BX$30,MATCH(S$22,baza!$B$15:$BX$15,0),FALSE),\"\")","v":0},{"$f":"IFERROR(VLOOKUP($B36,baza!$B$17:$BX$30,MATCH(T$22,baza!$B$15:$BX$15,0),FALSE),\"\")","v":0},{"$f":"IFERROR(VLOOKUP($B36,baza!$B$17:$BX$30,MATCH(U$22,baza!$B$15:$BX$15,0),FALSE),\"\")","v":0},{"$f":"IFERROR(VLOOKUP($B36,baza!$B$17:$BX$30,MATCH(V$22,baza!$B$15:$BX$15,0),FALSE),\"\")","v":0},{"$f":"IFERROR(VLOOKUP($B36,baza!$B$17:$BX$30,MATCH(W$22,baza!$B$15:$BX$15,0),FALSE),\"\")","v":0},{"$f":"IFERROR(VLOOKUP($B36,baza!$B$17:$BX$30,MATCH(X$22,baza!$B$15:$BX$15,0),FALSE),\"\")","v":0},{"$f":"IFERROR(VLOOKUP($B36,baza!$B$17:$BX$30,MATCH(Y$22,baza!$B$15:$BX$15,0),FALSE),\"\")","v":0},{"$f":"IFERROR(VLOOKUP($B36,baza!$B$17:$BX$30,MATCH(Z$22,baza!$B$15:$BX$15,0),FALSE),\"\")","v":0},{"$f":"IFERROR(VLOOKUP($B36,baza!$B$17:$BX$30,MATCH(AA$22,baza!$B$15:$BX$15,0),FALSE),\"\")","v":0},{"$f":"IFERROR(VLOOKUP($B36,baza!$B$17:$BX$30,MATCH(AB$22,baza!$B$15:$BX$15,0),FALSE),\"\")","v":0},{"$f":"IFERROR(VLOOKUP($B36,baza!$B$17:$BX$30,MATCH(AC$22,baza!$B$15:$BX$15,0),FALSE),\"\")","v":0},{"$f":"IFERROR(VLOOKUP($B36,baza!$B$17:$BX$30,MATCH(AD$22,baza!$B$15:$BX$15,0),FALSE),\"\")","v":0},{"$f":"IFERROR(VLOOKUP($B36,baza!$B$17:$BX$30,MATCH(AE$22,baza!$B$15:$BX$15,0),FALSE),\"\")","v":0},{"$f":"IFERROR(VLOOKUP($B36,baza!$B$17:$BX$30,MATCH(AF$22,baza!$B$15:$BX$15,0),FALSE),\"\")","v":0},{"$f":"IFERROR(VLOOKUP($B36,baza!$B$17:$BX$30,MATCH(AG$22,baza!$B$15:$BX$15,0),FALSE),\"\")","v":0},{"$f":"IFERROR(VLOOKUP($B36,baza!$B$17:$BX$30,MATCH(AH$22,baza!$B$15:$BX$15,0),FALSE),\"\")","v":0},{"$f":"IFERROR(VLOOKUP($B36,baza!$B$17:$BX$30,MATCH(AI$22,baza!$B$15:$BX$15,0),FALSE),\"\")","v":0},{"$f":"IFERROR(VLOOKUP($B36,baza!$B$17:$BX$30,MATCH(AJ$22,baza!$B$15:$BX$15,0),FALSE),\"\")","v":0},{"$f":"IFERROR(VLOOKUP($B36,baza!$B$17:$BX$30,MATCH(AK$22,baza!$B$15:$BX$15,0),FALSE),\"\")","v":0},{"$f":"IFERROR(VLOOKUP($B36,baza!$B$17:$BX$30,MATCH(AL$22,baza!$B$15:$BX$15,0),FALSE),\"\")","v":0},{"$f":"IFERROR(VLOOKUP($B36,baza!$B$17:$BX$30,MATCH(AM$22,baza!$B$15:$BX$15,0),FALSE),\"\")","v":0},{"$f":"IFERROR(VLOOKUP($B36,baza!$B$17:$BX$30,MATCH(AN$22,baza!$B$15:$BX$15,0),FALSE),\"\")","v":0},{"$f":"IFERROR(VLOOKUP($B36,baza!$B$17:$BX$30,MATCH(AO$22,baza!$B$15:$BX$15,0),FALSE),\"\")","v":0},{"$f":"IFERROR(VLOOKUP($B36,baza!$B$17:$BX$30,MATCH(AP$22,baza!$B$15:$BX$15,0),FALSE),\"\")","v":0},{"$f":"IFERROR(VLOOKUP($B36,baza!$B$17:$BX$30,MATCH(AQ$22,baza!$B$15:$BX$15,0),FALSE),\"\")","v":0},{"$f":"IFERROR(VLOOKUP($B36,baza!$B$17:$BX$30,MATCH(AR$22,baza!$B$15:$BX$15,0),FALSE),\"\")","v":0},{"$f":"IFERROR(VLOOKUP($B36,baza!$B$17:$BX$30,MATCH(AS$22,baza!$B$15:$BX$15,0),FALSE),\"\")","v":0},{"$f":"IFERROR(VLOOKUP($B36,baza!$B$17:$BX$30,MATCH(AT$22,baza!$B$15:$BX$15,0),FALSE),\"\")","v":0},{"$f":"IFERROR(VLOOKUP($B36,baza!$B$17:$BX$30,MATCH(AU$22,baza!$B$15:$BX$15,0),FALSE),\"\")","v":0},{"$f":"IFERROR(VLOOKUP($B36,baza!$B$17:$BX$30,MATCH(AV$22,baza!$B$15:$BX$15,0),FALSE),\"\")","v":0},{"$f":"IFERROR(VLOOKUP($B36,baza!$B$17:$BX$30,MATCH(AW$22,baza!$B$15:$BX$15,0),FALSE),\"\")","v":0},{"$f":"IFERROR(VLOOKUP($B36,baza!$B$17:$BX$30,MATCH(AX$22,baza!$B$15:$BX$15,0),FALSE),\"\")","v":0},{"$f":"IFERROR(VLOOKUP($B36,baza!$B$17:$BX$30,MATCH(AY$22,baza!$B$15:$BX$15,0),FALSE),\"\")","v":0},{"$f":"IFERROR(VLOOKUP($B36,baza!$B$17:$BX$30,MATCH(AZ$22,baza!$B$15:$BX$15,0),FALSE),\"\")","v":0},{"$f":"IFERROR(VLOOKUP($B36,baza!$B$17:$BX$30,MATCH(BA$22,baza!$B$15:$BX$15,0),FALSE),\"\")","v":0},{"$f":"IFERROR(VLOOKUP($B36,baza!$B$17:$BX$30,MATCH(BB$22,baza!$B$15:$BX$15,0),FALSE),\"\")","v":0},{"$f":"IFERROR(VLOOKUP($B36,baza!$B$17:$BX$30,MATCH(BC$22,baza!$B$15:$BX$15,0),FALSE),\"\")","v":0},{"$f":"IFERROR(VLOOKUP($B36,baza!$B$17:$BX$30,MATCH(BD$22,baza!$B$15:$BX$15,0),FALSE),\"\")","v":0},{"$f":"IFERROR(VLOOKUP($B36,baza!$B$17:$BX$30,MATCH(BE$22,baza!$B$15:$BX$15,0),FALSE),\"\")","v":0},{"$f":"IFERROR(VLOOKUP($B36,baza!$B$17:$BX$30,MATCH(BF$22,baza!$B$15:$BX$15,0),FALSE),\"\")","v":0},{"$f":"IFERROR(VLOOKUP($B36,baza!$B$17:$BX$30,MATCH(BG$22,baza!$B$15:$BX$15,0),FALSE),\"\")","v":0},{"$f":"IFERROR(VLOOKUP($B36,baza!$B$17:$BX$30,MATCH(BH$22,baza!$B$15:$BX$15,0),FALSE),\"\")","v":0},{"$f":"IFERROR(VLOOKUP($B36,baza!$B$17:$BX$30,MATCH(BI$22,baza!$B$15:$BX$15,0),FALSE),\"\")","v":0},{"$f":"IFERROR(VLOOKUP($B36,baza!$B$17:$BX$30,MATCH(BJ$22,baza!$B$15:$BX$15,0),FALSE),\"\")","v":0},{"$f":"IFERROR(VLOOKUP($B36,baza!$B$17:$BX$30,MATCH(BK$22,baza!$B$15:$BX$15,0),FALSE),\"\")","v":0},{"$f":"IFERROR(VLOOKUP($B36,baza!$B$17:$BX$30,MATCH(BL$22,baza!$B$15:$BX$15,0),FALSE),\"\")","v":0},{"$f":"IFERROR(VLOOKUP($B36,baza!$B$17:$BX$30,MATCH(BM$22,baza!$B$15:$BX$15,0),FALSE),\"\")","v":""},{"$f":"IFERROR(VLOOKUP($B36,baza!$B$17:$BX$30,MATCH(BN$22,baza!$B$15:$BX$15,0),FALSE),\"\")","v":""},0,0,0,0,0,0,0,0,0,0,0,0,0,0,0,0,0,0,0,0,"",13,"",{"$f":"IF(SUM(BO36,CF36,CG36)*8>$CL$21,$CL$21,SUM(BO36,CF36,CG36)*8)","v":0},0,null,null,null,null,{"$f":"(BS36*8)","v":0},{"$f":"(BT36*8)","v":0},{"$f":"(BU36*8)","v":0},{"$f":"(BV36*8)","v":0},{"$f":"(BW36*8)","v":0},{"$f":"(BX36*8)","v":0},{"$f":"(BY36*8)","v":0},{"$f":"(BZ36*8)","v":0},{"$f":"(CA36*8)","v":0},{"$f":"(CB36*8)","v":0},{"$f":"(CC36*8)","v":0},{"$f":"CD36","v":0},{"$f":"CE36","v":0}]
[{"$f":"IF(ISBLANK(baza!A30),\"\",baza!A30)","v":""},{"$f":"IF(ISBLANK(baza!B30),\"\",baza!B30)","v":"14"},{"$f":"IF(ISBLANK(baza!C30),\"\",baza!C30)","v":""},{"$f":"IF(ISBLANK(baza!D30),\"\",baza!D30)","v":""},{"$f":"IFERROR(VLOOKUP($B37,baza!$B$17:$BX$30,MATCH(E$22,baza!$B$15:$BX$15,0),FALSE),\"\")","v":0},{"$f":"IFERROR(VLOOKUP($B37,baza!$B$17:$BX$30,MATCH(F$22,baza!$B$15:$BX$15,0),FALSE),\"\")","v":0},{"$f":"IFERROR(VLOOKUP($B37,baza!$B$17:$BX$30,MATCH(G$22,baza!$B$15:$BX$15,0),FALSE),\"\")","v":0},{"$f":"IFERROR(VLOOKUP($B37,baza!$B$17:$BX$30,MATCH(H$22,baza!$B$15:$BX$15,0),FALSE),\"\")","v":0},{"$f":"IFERROR(VLOOKUP($B37,baza!$B$17:$BX$30,MATCH(I$22,baza!$B$15:$BX$15,0),FALSE),\"\")","v":0},{"$f":"IFERROR(VLOOKUP($B37,baza!$B$17:$BX$30,MATCH(J$22,baza!$B$15:$BX$15,0),FALSE),\"\")","v":0},{"$f":"IFERROR(VLOOKUP($B37,baza!$B$17:$BX$30,MATCH(K$22,baza!$B$15:$BX$15,0),FALSE),\"\")","v":0},{"$f":"IFERROR(VLOOKUP($B37,baza!$B$17:$BX$30,MATCH(L$22,baza!$B$15:$BX$15,0),FALSE),\"\")","v":0},{"$f":"IFERROR(VLOOKUP($B37,baza!$B$17:$BX$30,MATCH(M$22,baza!$B$15:$BX$15,0),FALSE),\"\")","v":0},{"$f":"IFERROR(VLOOKUP($B37,baza!$B$17:$BX$30,MATCH(N$22,baza!$B$15:$BX$15,0),FALSE),\"\")","v":0},{"$f":"IFERROR(VLOOKUP($B37,baza!$B$17:$BX$30,MATCH(O$22,baza!$B$15:$BX$15,0),FALSE),\"\")","v":0},{"$f":"IFERROR(VLOOKUP($B37,baza!$B$17:$BX$30,MATCH(P$22,baza!$B$15:$BX$15,0),FALSE),\"\")","v":0},{"$f":"IFERROR(VLOOKUP($B37,baza!$B$17:$BX$30,MATCH(Q$22,baza!$B$15:$BX$15,0),FALSE),\"\")","v":0},{"$f":"IFERROR(VLOOKUP($B37,baza!$B$17:$BX$30,MATCH(R$22,baza!$B$15:$BX$15,0),FALSE),\"\")","v":0},{"$f":"IFERROR(VLOOKUP($B37,baza!$B$17:$BX$30,MATCH(S$22,baza!$B$15:$BX$15,0),FALSE),\"\")","v":0},{"$f":"IFERROR(VLOOKUP($B37,baza!$B$17:$BX$30,MATCH(T$22,baza!$B$15:$BX$15,0),FALSE),\"\")","v":0},{"$f":"IFERROR(VLOOKUP($B37,baza!$B$17:$BX$30,MATCH(U$22,baza!$B$15:$BX$15,0),FALSE),\"\")","v":0},{"$f":"IFERROR(VLOOKUP($B37,baza!$B$17:$BX$30,MATCH(V$22,baza!$B$15:$BX$15,0),FALSE),\"\")","v":0},{"$f":"IFERROR(VLOOKUP($B37,baza!$B$17:$BX$30,MATCH(W$22,baza!$B$15:$BX$15,0),FALSE),\"\")","v":0},{"$f":"IFERROR(VLOOKUP($B37,baza!$B$17:$BX$30,MATCH(X$22,baza!$B$15:$BX$15,0),FALSE),\"\")","v":0},{"$f":"IFERROR(VLOOKUP($B37,baza!$B$17:$BX$30,MATCH(Y$22,baza!$B$15:$BX$15,0),FALSE),\"\")","v":0},{"$f":"IFERROR(VLOOKUP($B37,baza!$B$17:$BX$30,MATCH(Z$22,baza!$B$15:$BX$15,0),FALSE),\"\")","v":0},{"$f":"IFERROR(VLOOKUP($B37,baza!$B$17:$BX$30,MATCH(AA$22,baza!$B$15:$BX$15,0),FALSE),\"\")","v":0},{"$f":"IFERROR(VLOOKUP($B37,baza!$B$17:$BX$30,MATCH(AB$22,baza!$B$15:$BX$15,0),FALSE),\"\")","v":0},{"$f":"IFERROR(VLOOKUP($B37,baza!$B$17:$BX$30,MATCH(AC$22,baza!$B$15:$BX$15,0),FALSE),\"\")","v":0},{"$f":"IFERROR(VLOOKUP($B37,baza!$B$17:$BX$30,MATCH(AD$22,baza!$B$15:$BX$15,0),FALSE),\"\")","v":0},{"$f":"IFERROR(VLOOKUP($B37,baza!$B$17:$BX$30,MATCH(AE$22,baza!$B$15:$BX$15,0),FALSE),\"\")","v":0},{"$f":"IFERROR(VLOOKUP($B37,baza!$B$17:$BX$30,MATCH(AF$22,baza!$B$15:$BX$15,0),FALSE),\"\")","v":0},{"$f":"IFERROR(VLOOKUP($B37,baza!$B$17:$BX$30,MATCH(AG$22,baza!$B$15:$BX$15,0),FALSE),\"\")","v":0},{"$f":"IFERROR(VLOOKUP($B37,baza!$B$17:$BX$30,MATCH(AH$22,baza!$B$15:$BX$15,0),FALSE),\"\")","v":0},{"$f":"IFERROR(VLOOKUP($B37,baza!$B$17:$BX$30,MATCH(AI$22,baza!$B$15:$BX$15,0),FALSE),\"\")","v":0},{"$f":"IFERROR(VLOOKUP($B37,baza!$B$17:$BX$30,MATCH(AJ$22,baza!$B$15:$BX$15,0),FALSE),\"\")","v":0},{"$f":"IFERROR(VLOOKUP($B37,baza!$B$17:$BX$30,MATCH(AK$22,baza!$B$15:$BX$15,0),FALSE),\"\")","v":0},{"$f":"IFERROR(VLOOKUP($B37,baza!$B$17:$BX$30,MATCH(AL$22,baza!$B$15:$BX$15,0),FALSE),\"\")","v":0},{"$f":"IFERROR(VLOOKUP($B37,baza!$B$17:$BX$30,MATCH(AM$22,baza!$B$15:$BX$15,0),FALSE),\"\")","v":0},{"$f":"IFERROR(VLOOKUP($B37,baza!$B$17:$BX$30,MATCH(AN$22,baza!$B$15:$BX$15,0),FALSE),\"\")","v":0},{"$f":"IFERROR(VLOOKUP($B37,baza!$B$17:$BX$30,MATCH(AO$22,baza!$B$15:$BX$15,0),FALSE),\"\")","v":0},{"$f":"IFERROR(VLOOKUP($B37,baza!$B$17:$BX$30,MATCH(AP$22,baza!$B$15:$BX$15,0),FALSE),\"\")","v":0},{"$f":"IFERROR(VLOOKUP($B37,baza!$B$17:$BX$30,MATCH(AQ$22,baza!$B$15:$BX$15,0),FALSE),\"\")","v":0},{"$f":"IFERROR(VLOOKUP($B37,baza!$B$17:$BX$30,MATCH(AR$22,baza!$B$15:$BX$15,0),FALSE),\"\")","v":0},{"$f":"IFERROR(VLOOKUP($B37,baza!$B$17:$BX$30,MATCH(AS$22,baza!$B$15:$BX$15,0),FALSE),\"\")","v":0},{"$f":"IFERROR(VLOOKUP($B37,baza!$B$17:$BX$30,MATCH(AT$22,baza!$B$15:$BX$15,0),FALSE),\"\")","v":0},{"$f":"IFERROR(VLOOKUP($B37,baza!$B$17:$BX$30,MATCH(AU$22,baza!$B$15:$BX$15,0),FALSE),\"\")","v":0},{"$f":"IFERROR(VLOOKUP($B37,baza!$B$17:$BX$30,MATCH(AV$22,baza!$B$15:$BX$15,0),FALSE),\"\")","v":0},{"$f":"IFERROR(VLOOKUP($B37,baza!$B$17:$BX$30,MATCH(AW$22,baza!$B$15:$BX$15,0),FALSE),\"\")","v":0},{"$f":"IFERROR(VLOOKUP($B37,baza!$B$17:$BX$30,MATCH(AX$22,baza!$B$15:$BX$15,0),FALSE),\"\")","v":0},{"$f":"IFERROR(VLOOKUP($B37,baza!$B$17:$BX$30,MATCH(AY$22,baza!$B$15:$BX$15,0),FALSE),\"\")","v":0},{"$f":"IFERROR(VLOOKUP($B37,baza!$B$17:$BX$30,MATCH(AZ$22,baza!$B$15:$BX$15,0),FALSE),\"\")","v":0},{"$f":"IFERROR(VLOOKUP($B37,baza!$B$17:$BX$30,MATCH(BA$22,baza!$B$15:$BX$15,0),FALSE),\"\")","v":0},{"$f":"IFERROR(VLOOKUP($B37,baza!$B$17:$BX$30,MATCH(BB$22,baza!$B$15:$BX$15,0),FALSE),\"\")","v":0},{"$f":"IFERROR(VLOOKUP($B37,baza!$B$17:$BX$30,MATCH(BC$22,baza!$B$15:$BX$15,0),FALSE),\"\")","v":0},{"$f":"IFERROR(VLOOKUP($B37,baza!$B$17:$BX$30,MATCH(BD$22,baza!$B$15:$BX$15,0),FALSE),\"\")","v":0},{"$f":"IFERROR(VLOOKUP($B37,baza!$B$17:$BX$30,MATCH(BE$22,baza!$B$15:$BX$15,0),FALSE),\"\")","v":0},{"$f":"IFERROR(VLOOKUP($B37,baza!$B$17:$BX$30,MATCH(BF$22,baza!$B$15:$BX$15,0),FALSE),\"\")","v":0},{"$f":"IFERROR(VLOOKUP($B37,baza!$B$17:$BX$30,MATCH(BG$22,baza!$B$15:$BX$15,0),FALSE),\"\")","v":0},{"$f":"IFERROR(VLOOKUP($B37,baza!$B$17:$BX$30,MATCH(BH$22,baza!$B$15:$BX$15,0),FALSE),\"\")","v":0},{"$f":"IFERROR(VLOOKUP($B37,baza!$B$17:$BX$30,MATCH(BI$22,baza!$B$15:$BX$15,0),FALSE),\"\")","v":0},{"$f":"IFERROR(VLOOKUP($B37,baza!$B$17:$BX$30,MATCH(BJ$22,baza!$B$15:$BX$15,0),FALSE),\"\")","v":0},{"$f":"IFERROR(VLOOKUP($B37,baza!$B$17:$BX$30,MATCH(BK$22,baza!$B$15:$BX$15,0),FALSE),\"\")","v":0},{"$f":"IFERROR(VLOOKUP($B37,baza!$B$17:$BX$30,MATCH(BL$22,baza!$B$15:$BX$15,0),FALSE),\"\")","v":0},{"$f":"IFERROR(VLOOKUP($B37,baza!$B$17:$BX$30,MATCH(BM$22,baza!$B$15:$BX$15,0),FALSE),\"\")","v":""},{"$f":"IFERROR(VLOOKUP($B37,baza!$B$17:$BX$30,MATCH(BN$22,baza!$B$15:$BX$15,0),FALSE),\"\")","v":""},0,0,0,0,0,0,0,0,0,0,0,0,0,0,0,0,0,0,0,0,"","14","",{"$f":"IF(SUM(BO37,CF37,CG37)*8>$CL$21,$CL$21,SUM(BO37,CF37,CG37)*8)","v":0},0,null,null,null,null,{"$f":"(BS37*8)","v":0},{"$f":"(BT37*8)","v":0},{"$f":"(BU37*8)","v":0},{"$f":"(BV37*8)","v":0},{"$f":"(BW37*8)","v":0},{"$f":"(BX37*8)","v":0},{"$f":"(BY37*8)","v":0},{"$f":"(BZ37*8)","v":0},{"$f":"(CA37*8)","v":0},{"$f":"(CB37*8)","v":0},{"$f":"(CC37*8)","v":0},{"$f":"CD37","v":0},{"$f":"CE37","v":0}]
[null,null,null,null,null,null,null,null,null,null,null,null,null,null,null,null,null,null,null,null,null,null,null,null,null,null,null,null,null,null,null,null,null,null,null,null,null,null,null,null,null,null,null,null,null,null,null,null,null,null,null,null,null,null,null,null,null,null,null,null,null,null,null,null,null,null,null,null,null,null,null,null,null,null,null,null,null,null,null,null,null,null,null,null,null,null,""]
[null,null,null,null,null,null,null,null,null,null,null,null,null,null,null,null,null,null,null,null,null,null,null,null,null,null,null,null,null,null,null,null,null,null,null,null,null,null,null,null,null,null,null,null,"Podatke unosim u bazu a ovde biram koji mi mjesec treba i vršim obračun"]
[null,null,null,null,null,null,null,null,null,null,null,null,null,null,null,null,null,null,null,null,null,null,null,null,null,null,null,null,null,null,null,null,null,null,null,null,null,null,null,null,null,null,null,null,"Sakrio sam prethodni mjesec (kolone od E:AI)"]
[null,null,null,null,null,null,null,null,null,null,null,null,null,null,null,null,null,null,null,null,null,null,null,null,null,null,null,null,null,null,null,null,null,null,null,null,null,null,null,null,null,null,null,null,"Ako pdesim u CF da mi se vikendom ne vide slova, onda ne vidim ako ima X (a treba da se vidi)"]
[null,null,null,null,null,null,null,null,null,null,null,null,null,null,null,null,null,null,null,null,null,null,null,null,null,null,null,null,null,null,null,null,null,null,null,null,null,null,null,null,null,null,null,null,"U polju DF24 sam dobio podatak za bolovanje ali preko sheeta baza"]
[null,null,null,null,null,null,null,null,null,null,null,null,null,null,null,null,null,null,null,null,null,null,null,null,null,null,null,null,null,null,null,null,null,null,null,null,null,null,null,null,null,"PITANJA"]
[null,null,null,null,null,null,null,null,null,null,null,null,null,null,null,null,null,null,null,null,null,null,null,null,null,null,null,null,null,null,null,null,null,null,null,null,null,null,null,null,null,null,null,null,"Kako da podesim u CF da mi samo slovo B vikemdom bude boje polja (da se ne vidi)"]
[null,null,null,null,null,null,null,null,null,null,null,null,null,null,null,null,null,null,null,null,null,null,null,null,null,null,null,null,null,null,null,null,null,null,null,null,null,null,null,null,null,null,null,null,"Kako da prebrojim slovo B samo u radne dane"]
[null,null,null,null,null,null,null,null,null,null,null,null,null,null,null,null,null,null,null,null,null,null,null,null,null,null,null,null,null,null,null,null,null,null,null,null,null,null,null,null,null,null,null,null,"Kako u polju DF25 da preformulišem formulu da mi daje rezultat kao i u polju DF24"]