{"text_format":"1","workbook":"xlsx","n_sheets":2,"sheets":["Data","Filter"],"not_rendered":{"charts":0,"images":1,"macros":1,"external_links":0,"defined_names":6,"comments":0,"pivot_tables":0},"unopened":[],"bounds":{"document_bytes":16777216,"sheet_cells":100000,"rows_first":2000,"rows_last":500,"rows_between":2000,"halvings":0,"cell_chars":16384,"cell_head_chars":4096},"cells_cut":0,"cells_raw":0,"read":"whole","date_system":"1900"}

{"sheet":"Data","index":0,"n_rows":3281,"n_cols":15,"rows_kept":3281,"cut":false,"hidden":false,"merged":[]}
["Date","Year","Month","Country","Category","Product","Count","Price","Total",null,"Year","Month","Country","Category","Product"]
["2012-01-01",2012,1,"Macedonia","Tablet PCs","GOOWEEL Q88 PRO A23 DUAL CORE TABLET PC",5,198,{"$f":"Table1[[#This Row],[Count]]*Table1[[#This Row],[Price]]","v":990},null,{"$f":"IF(Filter!D3=\"\",\">0\",Filter!D3)","v":2014},{"$f":"IF(Filter!D4=\"\",\">0\",Filter!D4)","v":">0"},{"$f":"IF(Filter!D5=\"\",\"*\",Filter!D5)","v":"USA"},{"$f":"IF(Filter!D6=\"\",\"*\",Filter!D6)","v":"*"},{"$f":"IF(Filter!D7=\"\",\"\",\"*\"&Filter!D7&\"*\")","v":"*VIA*"}]
["2012-01-01",2012,1,"USA","Laptops","Y10D 10 INCH VIA 8880",1,246,{"$f":"Table1[[#This Row],[Count]]*Table1[[#This Row],[Price]]","v":246}]
["2012-01-01",2012,1,"USA","Workstations ","I7 MINI PC WITH HDMI QOTOM-T620",1,342,{"$f":"Table1[[#This Row],[Count]]*Table1[[#This Row],[Price]]","v":342},null,"Year","Month","Country","Category"]
["2012-01-01",2012,1,"USA","Workstations ","HIGH PERFORMANCE 4U LCD WORKSTATION C",5,366,{"$f":"Table1[[#This Row],[Count]]*Table1[[#This Row],[Price]]","v":1830},null,2012,1,"Albania","Camera & Photo"]
["2012-01-02",2012,1,"USA","Workstations ","HZONE NCOMPUTING L230",4,354,{"$f":"Table1[[#This Row],[Count]]*Table1[[#This Row],[Price]]","v":1416},null,2013,2,"Andorra","Laptops"]
["2012-01-02",2012,1,"Czech Republic","Tablet PCs","ONDA V975M TABLET PC",4,150,{"$f":"Table1[[#This Row],[Count]]*Table1[[#This Row],[Price]]","v":600},null,2014,3,"Australia","Tablet PCs"]
["2012-01-02",2012,1,"Slovenia","Laptops","VIA 8850 ANDROID 4.0",2,282,{"$f":"Table1[[#This Row],[Count]]*Table1[[#This Row],[Price]]","v":564},null,null,4,"Austria","Workstations "]
["2012-01-02",2012,1,"Norway","Laptops","THINKPAD T440S",5,258,{"$f":"Table1[[#This Row],[Count]]*Table1[[#This Row],[Price]]","v":1290},null,null,5,"Belarus"]
["2012-01-03",2012,1,"Portugal","Workstations ","SUN BLADE 1500 WORKSTATION BASE SUN B1500",5,378,{"$f":"Table1[[#This Row],[Count]]*Table1[[#This Row],[Price]]","v":1890},null,null,6,"Belgium"]
["2012-01-03",2012,1,"Ukraine","Laptops","Y10D 10 INCH VIA 8880",5,246,{"$f":"Table1[[#This Row],[Count]]*Table1[[#This Row],[Price]]","v":1230},null,null,7,"Bosnia And Herzegovina"]
["2012-01-03",2012,1,"Netherlands","Laptops","Y10D 10 INCH VIA 8880",3,246,{"$f":"Table1[[#This Row],[Count]]*Table1[[#This Row],[Price]]","v":738},null,null,8,"Bulgaria"]
["2012-01-03",2012,1,"Norway","Workstations ","HIGH PERFORMANCE 4U LCD WORKSTATION C",1,366,{"$f":"Table1[[#This Row],[Count]]*Table1[[#This Row],[Price]]","v":366},null,null,9,"Croatia"]
["2012-01-04",2012,1,"USA","Tablet PCs","TABLET 10-INCH QUAD-CORE A9",4,162,{"$f":"Table1[[#This Row],[Count]]*Table1[[#This Row],[Price]]","v":648},null,null,10,"Czech Republic"]
["2012-01-04",2012,1,"USA","Laptops","14.1\" AIR LAPTOP INTEL D2500",5,270,{"$f":"Table1[[#This Row],[Count]]*Table1[[#This Row],[Price]]","v":1350},null,null,11,"Denmark"]
["2012-01-04",2012,1,"Australia","Laptops","14INCH ULTRABOOK",3,234,{"$f":"Table1[[#This Row],[Count]]*Table1[[#This Row],[Price]]","v":702},null,null,12,"Estonia"]
["2012-01-04",2012,1,"Slovenia","Workstations ","HZONE NCOMPUTING L230",3,354,{"$f":"Table1[[#This Row],[Count]]*Table1[[#This Row],[Price]]","v":1062},null,null,null,"Finland"]
["2012-01-05",2012,1,"USA","Camera & Photo","FUJIFILM FINEPIX SL1000",2,330,{"$f":"Table1[[#This Row],[Count]]*Table1[[#This Row],[Price]]","v":660},null,null,null,"France"]
["2012-01-05",2012,1,"Finland","Tablet PCs","ONDA V975M TABLET PC",1,150,{"$f":"Table1[[#This Row],[Count]]*Table1[[#This Row],[Price]]","v":150},null,null,null,"Georgia"]
["2012-01-05",2012,1,"Latvia","Laptops","14INCH ULTRABOOK",4,234,{"$f":"Table1[[#This Row],[Count]]*Table1[[#This Row],[Price]]","v":936},null,null,null,"Germany"]
["2012-01-05",2012,1,"Portugal","Camera & Photo","FUJIFILM FINEPIX SL1000",1,330,{"$f":"Table1[[#This Row],[Count]]*Table1[[#This Row],[Price]]","v":330},null,null,null,"Greece"]
["2012-01-06",2012,1,"Albania","Workstations ","I7 MINI PC WITH HDMI QOTOM-T620",3,342,{"$f":"Table1[[#This Row],[Count]]*Table1[[#This Row],[Price]]","v":1026},null,null,null,"Hungary"]
["2012-01-06",2012,1,"USA","Camera & Photo","D3200 DIGITAL SLR",3,306,{"$f":"Table1[[#This Row],[Count]]*Table1[[#This Row],[Price]]","v":918},null,null,null,"Ireland"]
["2012-01-06",2012,1,"Serbien und Montenegro","Tablet PCs","10 INCH TABLET HIGH QUALITY TABLET 1GB",5,174,{"$f":"Table1[[#This Row],[Count]]*Table1[[#This Row],[Price]]","v":870},null,null,null,"Italy"]
["2012-01-06",2012,1,"Latvia","Tablet PCs","10 INCH TABLET HIGH QUALITY TABLET 1GB",3,174,{"$f":"Table1[[#This Row],[Count]]*Table1[[#This Row],[Price]]","v":522},null,null,null,"Latvia"]
["2012-01-07",2012,1,"United Kingdom","Laptops","THINKPAD T440S",5,258,{"$f":"Table1[[#This Row],[Count]]*Table1[[#This Row],[Price]]","v":1290},null,null,null,"Liechtenstein"]
["2012-01-07",2012,1,"USA","Laptops","VIA 8850 ANDROID 4.0",1,282,{"$f":"Table1[[#This Row],[Count]]*Table1[[#This Row],[Price]]","v":282},null,null,null,"Lithuania"]
["2012-01-07",2012,1,"USA","Tablet PCs","ONDA V975M TABLET PC",1,150,{"$f":"Table1[[#This Row],[Count]]*Table1[[#This Row],[Price]]","v":150},null,null,null,"Luxembourg"]
["2012-01-07",2012,1,"Monaco","Laptops","THINKPAD E445",3,222,{"$f":"Table1[[#This Row],[Count]]*Table1[[#This Row],[Price]]","v":666},null,null,null,"Macedonia"]
["2012-01-08",2012,1,"USA","Laptops","VIA 8850 ANDROID 4.0",2,282,{"$f":"Table1[[#This Row],[Count]]*Table1[[#This Row],[Price]]","v":564},null,null,null,"Malta"]
["2012-01-08",2012,1,"Albania","Tablet PCs","PIPO M6 PRO 9.7 INCH 3G TABLET PC",5,186,{"$f":"Table1[[#This Row],[Count]]*Table1[[#This Row],[Price]]","v":930},null,null,null,"Moldova"]
["2012-01-08",2012,1,"USA","Tablet PCs","TABLET 10-INCH QUAD-CORE A9",2,162,{"$f":"Table1[[#This Row],[Count]]*Table1[[#This Row],[Price]]","v":324},null,null,null,"Monaco"]
["2012-01-08",2012,1,"Netherlands","Tablet PCs","7 INCH DUAL CORE ANDROID TABLET PC Q88",4,210,{"$f":"Table1[[#This Row],[Count]]*Table1[[#This Row],[Price]]","v":840},null,null,null,"Montenegro"]
["2012-01-09",2012,1,"Romania","Laptops","THINKPAD T440S",2,258,{"$f":"Table1[[#This Row],[Count]]*Table1[[#This Row],[Price]]","v":516},null,null,null,"Netherlands"]
["2012-01-09",2012,1,"Netherlands","Workstations ","I7 MINI PC WITH HDMI QOTOM-T620",4,342,{"$f":"Table1[[#This Row],[Count]]*Table1[[#This Row],[Price]]","v":1368},null,null,null,"Norway"]
["2012-01-09",2012,1,"Lithuania","Laptops","14INCH ULTRABOOK",3,234,{"$f":"Table1[[#This Row],[Count]]*Table1[[#This Row],[Price]]","v":702},null,null,null,"Poland"]
["2012-01-09",2012,1,"Hungary","Workstations ","HZONE NCOMPUTING L230",4,354,{"$f":"Table1[[#This Row],[Count]]*Table1[[#This Row],[Price]]","v":1416},null,null,null,"Portugal"]
["2012-01-10",2012,1,"USA","Laptops","VIA 8850 ANDROID 4.0",5,282,{"$f":"Table1[[#This Row],[Count]]*Table1[[#This Row],[Price]]","v":1410},null,null,null,"Romania"]
["2012-01-10",2012,1,"Malta","Workstations ","SUN BLADE 1500 WORKSTATION BASE SUN B1500",3,378,{"$f":"Table1[[#This Row],[Count]]*Table1[[#This Row],[Price]]","v":1134},null,null,null,"Serbien und Montenegro"]
["2012-01-10",2012,1,"USA","Laptops","14INCH ULTRABOOK",3,234,{"$f":"Table1[[#This Row],[Count]]*Table1[[#This Row],[Price]]","v":702},null,null,null,"Slovakia"]
["2012-01-10",2012,1,"Georgia","Tablet PCs","ONDA V975M TABLET PC",3,150,{"$f":"Table1[[#This Row],[Count]]*Table1[[#This Row],[Price]]","v":450},null,null,null,"Slovenia"]
["2012-01-11",2012,1,"USA","Camera & Photo","SONY CYBERSHOT H200",3,318,{"$f":"Table1[[#This Row],[Count]]*Table1[[#This Row],[Price]]","v":954},null,null,null,"Spain"]
["2012-01-11",2012,1,"USA","Camera & Photo","SONY CYBERSHOT H200",2,318,{"$f":"Table1[[#This Row],[Count]]*Table1[[#This Row],[Price]]","v":636},null,null,null,"Sweden"]
["2012-01-11",2012,1,"France","Laptops","14.1\" AIR LAPTOP INTEL D2500",3,270,{"$f":"Table1[[#This Row],[Count]]*Table1[[#This Row],[Price]]","v":810},null,null,null,"Switzerland"]
["2012-01-11",2012,1,"Portugal","Workstations ","HZONE NCOMPUTING L230",5,354,{"$f":"Table1[[#This Row],[Count]]*Table1[[#This Row],[Price]]","v":1770},null,null,null,"Ukraine"]
["2012-01-12",2012,1,"Switzerland","Camera & Photo","SONY CYBERSHOT H200",2,318,{"$f":"Table1[[#This Row],[Count]]*Table1[[#This Row],[Price]]","v":636},null,null,null,"United Kingdom"]
["2012-01-12",2012,1,"USA","Camera & Photo","D3000 DIGITAL SLR",2,294,{"$f":"Table1[[#This Row],[Count]]*Table1[[#This Row],[Price]]","v":588},null,null,null,"USA"]
["2012-01-12",2012,1,"USA","Laptops","THINKPAD T440S",4,258,{"$f":"Table1[[#This Row],[Count]]*Table1[[#This Row],[Price]]","v":1032}]
["2012-01-12",2012,1,"USA","Workstations ","CLOUD COMPUTER THIN STATION FL300",5,390,{"$f":"Table1[[#This Row],[Count]]*Table1[[#This Row],[Price]]","v":1950}]
["2012-01-13",2012,1,"Poland","Tablet PCs","10 INCH TABLET HIGH QUALITY TABLET 1GB",5,174,{"$f":"Table1[[#This Row],[Count]]*Table1[[#This Row],[Price]]","v":870}]
["2012-01-13",2012,1,"USA","Camera & Photo","D3000 DIGITAL SLR",4,294,{"$f":"Table1[[#This Row],[Count]]*Table1[[#This Row],[Price]]","v":1176}]
["2012-01-13",2012,1,"USA","Workstations ","HIGH PERFORMANCE 4U LCD WORKSTATION C",4,366,{"$f":"Table1[[#This Row],[Count]]*Table1[[#This Row],[Price]]","v":1464}]
["2012-01-13",2012,1,"USA","Tablet PCs","7 INCH DUAL CORE ANDROID TABLET PC Q88",5,210,{"$f":"Table1[[#This Row],[Count]]*Table1[[#This Row],[Price]]","v":1050}]
["2012-01-14",2012,1,"USA","Camera & Photo","D3200 DIGITAL SLR",2,306,{"$f":"Table1[[#This Row],[Count]]*Table1[[#This Row],[Price]]","v":612}]
["2012-01-14",2012,1,"United Kingdom","Laptops","14INCH ULTRABOOK",2,234,{"$f":"Table1[[#This Row],[Count]]*Table1[[#This Row],[Price]]","v":468}]
["2012-01-14",2012,1,"USA","Laptops","THINKPAD E445",1,222,{"$f":"Table1[[#This Row],[Count]]*Table1[[#This Row],[Price]]","v":222}]
["2012-01-14",2012,1,"Portugal","Camera & Photo","SONY CYBERSHOT H200",1,318,{"$f":"Table1[[#This Row],[Count]]*Table1[[#This Row],[Price]]","v":318}]
["2012-01-15",2012,1,"Australia","Camera & Photo","SONY CYBERSHOT H200",1,318,{"$f":"Table1[[#This Row],[Count]]*Table1[[#This Row],[Price]]","v":318}]
["2012-01-15",2012,1,"Ukraine","Laptops","14.1\" AIR LAPTOP INTEL D2500",4,270,{"$f":"Table1[[#This Row],[Count]]*Table1[[#This Row],[Price]]","v":1080}]
["2012-01-15",2012,1,"Greece","Camera & Photo","D3200 DIGITAL SLR",3,306,{"$f":"Table1[[#This Row],[Count]]*Table1[[#This Row],[Price]]","v":918}]
["2012-01-15",2012,1,"Lithuania","Camera & Photo","FUJIFILM FINEPIX SL1000",4,330,{"$f":"Table1[[#This Row],[Count]]*Table1[[#This Row],[Price]]","v":1320}]
["2012-01-16",2012,1,"USA","Camera & Photo","D3200 DIGITAL SLR",1,306,{"$f":"Table1[[#This Row],[Count]]*Table1[[#This Row],[Price]]","v":306}]
["2012-01-16",2012,1,"USA","Camera & Photo","D3000 DIGITAL SLR",5,294,{"$f":"Table1[[#This Row],[Count]]*Table1[[#This Row],[Price]]","v":1470}]
["2012-01-16",2012,1,"USA","Tablet PCs","7 INCH DUAL CORE ANDROID TABLET PC Q88",2,210,{"$f":"Table1[[#This Row],[Count]]*Table1[[#This Row],[Price]]","v":420}]
["2012-01-16",2012,1,"USA","Laptops","14INCH ULTRABOOK",2,234,{"$f":"Table1[[#This Row],[Count]]*Table1[[#This Row],[Price]]","v":468}]
["2012-01-17",2012,1,"Greece","Camera & Photo","D3200 DIGITAL SLR",5,306,{"$f":"Table1[[#This Row],[Count]]*Table1[[#This Row],[Price]]","v":1530}]
["2012-01-17",2012,1,"USA","Camera & Photo","SONY CYBERSHOT H200",5,318,{"$f":"Table1[[#This Row],[Count]]*Table1[[#This Row],[Price]]","v":1590}]
["2012-01-17",2012,1,"Australia","Workstations ","CLOUD COMPUTER THIN STATION FL300",5,390,{"$f":"Table1[[#This Row],[Count]]*Table1[[#This Row],[Price]]","v":1950}]
["2012-01-17",2012,1,"USA","Laptops","14INCH ULTRABOOK",2,234,{"$f":"Table1[[#This Row],[Count]]*Table1[[#This Row],[Price]]","v":468}]
["2012-01-18",2012,1,"Moldova","Workstations ","CLOUD COMPUTER THIN STATION FL300",4,390,{"$f":"Table1[[#This Row],[Count]]*Table1[[#This Row],[Price]]","v":1560}]
["2012-01-18",2012,1,"Sweden","Tablet PCs","TABLET 10-INCH QUAD-CORE A9",5,162,{"$f":"Table1[[#This Row],[Count]]*Table1[[#This Row],[Price]]","v":810}]
["2012-01-18",2012,1,"USA","Tablet PCs","7 INCH DUAL CORE ANDROID TABLET PC Q88",3,210,{"$f":"Table1[[#This Row],[Count]]*Table1[[#This Row],[Price]]","v":630}]
["2012-01-18",2012,1,"USA","Laptops","THINKPAD T440S",1,258,{"$f":"Table1[[#This Row],[Count]]*Table1[[#This Row],[Price]]","v":258}]
["2012-01-19",2012,1,"USA","Workstations ","I7 MINI PC WITH HDMI QOTOM-T620",4,342,{"$f":"Table1[[#This Row],[Count]]*Table1[[#This Row],[Price]]","v":1368}]
["2012-01-19",2012,1,"Australia","Workstations ","HZONE NCOMPUTING L230",3,354,{"$f":"Table1[[#This Row],[Count]]*Table1[[#This Row],[Price]]","v":1062}]
["2012-01-19",2012,1,"Denmark","Laptops","14.1\" AIR LAPTOP INTEL D2500",2,270,{"$f":"Table1[[#This Row],[Count]]*Table1[[#This Row],[Price]]","v":540}]
["2012-01-19",2012,1,"Ukraine","Tablet PCs","TABLET 10-INCH QUAD-CORE A9",3,162,{"$f":"Table1[[#This Row],[Count]]*Table1[[#This Row],[Price]]","v":486}]
["2012-01-20",2012,1,"USA","Workstations ","SUN BLADE 1500 WORKSTATION BASE SUN B1500",3,378,{"$f":"Table1[[#This Row],[Count]]*Table1[[#This Row],[Price]]","v":1134}]
["2012-01-20",2012,1,"Bosnia And Herzegovina","Laptops","Y10D 10 INCH VIA 8880",1,246,{"$f":"Table1[[#This Row],[Count]]*Table1[[#This Row],[Price]]","v":246}]
["2012-01-20",2012,1,"Austria","Laptops","14INCH ULTRABOOK",5,234,{"$f":"Table1[[#This Row],[Count]]*Table1[[#This Row],[Price]]","v":1170}]
["2012-01-20",2012,1,"USA","Laptops","Y10D 10 INCH VIA 8880",4,246,{"$f":"Table1[[#This Row],[Count]]*Table1[[#This Row],[Price]]","v":984}]
["2012-01-21",2012,1,"USA","Camera & Photo","SONY CYBERSHOT H200",1,318,{"$f":"Table1[[#This Row],[Count]]*Table1[[#This Row],[Price]]","v":318}]
["2012-01-21",2012,1,"USA","Workstations ","HZONE NCOMPUTING L230",2,354,{"$f":"Table1[[#This Row],[Count]]*Table1[[#This Row],[Price]]","v":708}]
["2012-01-21",2012,1,"USA","Camera & Photo","SONY CYBERSHOT H200",4,318,{"$f":"Table1[[#This Row],[Count]]*Table1[[#This Row],[Price]]","v":1272}]
["2012-01-21",2012,1,"France","Tablet PCs","TABLET 10-INCH QUAD-CORE A9",5,162,{"$f":"Table1[[#This Row],[Count]]*Table1[[#This Row],[Price]]","v":810}]
["2012-01-22",2012,1,"Portugal","Tablet PCs","GOOWEEL Q88 PRO A23 DUAL CORE TABLET PC",1,198,{"$f":"Table1[[#This Row],[Count]]*Table1[[#This Row],[Price]]","v":198}]
["2012-01-22",2012,1,"USA","Workstations ","HZONE NCOMPUTING L230",1,354,{"$f":"Table1[[#This Row],[Count]]*Table1[[#This Row],[Price]]","v":354}]
["2012-01-22",2012,1,"USA","Workstations ","I7 MINI PC WITH HDMI QOTOM-T620",3,342,{"$f":"Table1[[#This Row],[Count]]*Table1[[#This Row],[Price]]","v":1026}]
["2012-01-22",2012,1,"USA","Laptops","THINKPAD E445",2,222,{"$f":"Table1[[#This Row],[Count]]*Table1[[#This Row],[Price]]","v":444}]
["2012-01-23",2012,1,"USA","Camera & Photo","D3000 DIGITAL SLR",3,294,{"$f":"Table1[[#This Row],[Count]]*Table1[[#This Row],[Price]]","v":882}]
["2012-01-23",2012,1,"USA","Tablet PCs","GOOWEEL Q88 PRO A23 DUAL CORE TABLET PC",2,198,{"$f":"Table1[[#This Row],[Count]]*Table1[[#This Row],[Price]]","v":396}]
["2012-01-23",2012,1,"Denmark","Tablet PCs","PIPO M6 PRO 9.7 INCH 3G TABLET PC",3,186,{"$f":"Table1[[#This Row],[Count]]*Table1[[#This Row],[Price]]","v":558}]
["2012-01-23",2012,1,"USA","Camera & Photo","SONY CYBERSHOT H200",3,318,{"$f":"Table1[[#This Row],[Count]]*Table1[[#This Row],[Price]]","v":954}]
["2012-01-24",2012,1,"Ireland","Tablet PCs","GOOWEEL Q88 PRO A23 DUAL CORE TABLET PC",1,198,{"$f":"Table1[[#This Row],[Count]]*Table1[[#This Row],[Price]]","v":198}]
["2012-01-24",2012,1,"Australia","Workstations ","SUN BLADE 1500 WORKSTATION BASE SUN B1500",2,378,{"$f":"Table1[[#This Row],[Count]]*Table1[[#This Row],[Price]]","v":756}]
["2012-01-24",2012,1,"Netherlands","Laptops","14INCH ULTRABOOK",3,234,{"$f":"Table1[[#This Row],[Count]]*Table1[[#This Row],[Price]]","v":702}]
["2012-01-24",2012,1,"USA","Workstations ","HZONE NCOMPUTING L230",1,354,{"$f":"Table1[[#This Row],[Count]]*Table1[[#This Row],[Price]]","v":354}]
["2012-01-25",2012,1,"USA","Camera & Photo","D3200 DIGITAL SLR",5,306,{"$f":"Table1[[#This Row],[Count]]*Table1[[#This Row],[Price]]","v":1530}]
["2012-01-25",2012,1,"Andorra","Laptops","14INCH ULTRABOOK",1,234,{"$f":"Table1[[#This Row],[Count]]*Table1[[#This Row],[Price]]","v":234}]
["2012-01-25",2012,1,"USA","Laptops","14.1\" AIR LAPTOP INTEL D2500",3,270,{"$f":"Table1[[#This Row],[Count]]*Table1[[#This Row],[Price]]","v":810}]
["2012-01-25",2012,1,"Bulgaria","Workstations ","SUN BLADE 1500 WORKSTATION BASE SUN B1500",1,378,{"$f":"Table1[[#This Row],[Count]]*Table1[[#This Row],[Price]]","v":378}]
["2012-01-26",2012,1,"USA","Camera & Photo","FUJIFILM FINEPIX SL1000",3,330,{"$f":"Table1[[#This Row],[Count]]*Table1[[#This Row],[Price]]","v":990}]
["2012-01-26",2012,1,"Norway","Laptops","VIA 8850 ANDROID 4.0",4,282,{"$f":"Table1[[#This Row],[Count]]*Table1[[#This Row],[Price]]","v":1128}]
["2012-01-26",2012,1,"Portugal","Camera & Photo","SONY CYBERSHOT H200",5,318,{"$f":"Table1[[#This Row],[Count]]*Table1[[#This Row],[Price]]","v":1590}]
["2012-01-26",2012,1,"USA","Camera & Photo","FUJIFILM FINEPIX SL1000",5,330,{"$f":"Table1[[#This Row],[Count]]*Table1[[#This Row],[Price]]","v":1650}]
["2012-01-27",2012,1,"USA","Tablet PCs","10 INCH TABLET HIGH QUALITY TABLET 1GB",4,174,{"$f":"Table1[[#This Row],[Count]]*Table1[[#This Row],[Price]]","v":696}]
["2012-01-27",2012,1,"USA","Workstations ","HIGH PERFORMANCE 4U LCD WORKSTATION C",1,366,{"$f":"Table1[[#This Row],[Count]]*Table1[[#This Row],[Price]]","v":366}]
["2012-01-27",2012,1,"USA","Laptops","VIA 8850 ANDROID 4.0",4,282,{"$f":"Table1[[#This Row],[Count]]*Table1[[#This Row],[Price]]","v":1128}]
["2012-01-27",2012,1,"Denmark","Camera & Photo","FUJIFILM FINEPIX SL1000",3,330,{"$f":"Table1[[#This Row],[Count]]*Table1[[#This Row],[Price]]","v":990}]
["2012-01-28",2012,1,"USA","Workstations ","CLOUD COMPUTER THIN STATION FL300",4,390,{"$f":"Table1[[#This Row],[Count]]*Table1[[#This Row],[Price]]","v":1560}]
["2012-01-28",2012,1,"Germany","Laptops","Y10D 10 INCH VIA 8880",5,246,{"$f":"Table1[[#This Row],[Count]]*Table1[[#This Row],[Price]]","v":1230}]
["2012-01-28",2012,1,"Australia","Workstations ","HIGH PERFORMANCE 4U LCD WORKSTATION C",1,366,{"$f":"Table1[[#This Row],[Count]]*Table1[[#This Row],[Price]]","v":366}]
["2012-01-28",2012,1,"USA","Tablet PCs","10 INCH TABLET HIGH QUALITY TABLET 1GB",3,174,{"$f":"Table1[[#This Row],[Count]]*Table1[[#This Row],[Price]]","v":522}]
["2012-01-29",2012,1,"Slovenia","Tablet PCs","7 INCH DUAL CORE ANDROID TABLET PC Q88",2,210,{"$f":"Table1[[#This Row],[Count]]*Table1[[#This Row],[Price]]","v":420}]
["2012-01-29",2012,1,"Albania","Laptops","VIA 8850 ANDROID 4.0",1,282,{"$f":"Table1[[#This Row],[Count]]*Table1[[#This Row],[Price]]","v":282}]
["2012-01-29",2012,1,"Australia","Workstations ","CLOUD COMPUTER THIN STATION FL300",4,390,{"$f":"Table1[[#This Row],[Count]]*Table1[[#This Row],[Price]]","v":1560}]
["2012-01-29",2012,1,"Malta","Laptops","14.1\" AIR LAPTOP INTEL D2500",2,270,{"$f":"Table1[[#This Row],[Count]]*Table1[[#This Row],[Price]]","v":540}]
["2012-01-30",2012,1,"Spain","Laptops","Y10D 10 INCH VIA 8880",5,246,{"$f":"Table1[[#This Row],[Count]]*Table1[[#This Row],[Price]]","v":1230}]
["2012-01-30",2012,1,"USA","Tablet PCs","TABLET 10-INCH QUAD-CORE A9",2,162,{"$f":"Table1[[#This Row],[Count]]*Table1[[#This Row],[Price]]","v":324}]
["2012-01-30",2012,1,"Liechtenstein","Laptops","THINKPAD T440S",1,258,{"$f":"Table1[[#This Row],[Count]]*Table1[[#This Row],[Price]]","v":258}]
["2012-01-30",2012,1,"Moldova","Workstations ","SUN BLADE 1500 WORKSTATION BASE SUN B1500",4,378,{"$f":"Table1[[#This Row],[Count]]*Table1[[#This Row],[Price]]","v":1512}]
["2012-01-31",2012,1,"Latvia","Workstations ","HIGH PERFORMANCE 4U LCD WORKSTATION C",1,366,{"$f":"Table1[[#This Row],[Count]]*Table1[[#This Row],[Price]]","v":366}]
["2012-01-31",2012,1,"Australia","Laptops","THINKPAD E445",2,222,{"$f":"Table1[[#This Row],[Count]]*Table1[[#This Row],[Price]]","v":444}]
["2012-01-31",2012,1,"Poland","Camera & Photo","D3000 DIGITAL SLR",4,294,{"$f":"Table1[[#This Row],[Count]]*Table1[[#This Row],[Price]]","v":1176}]
["2012-01-31",2012,1,"USA","Camera & Photo","FUJIFILM FINEPIX SL1000",4,330,{"$f":"Table1[[#This Row],[Count]]*Table1[[#This Row],[Price]]","v":1320}]
["2012-02-01",2012,2,"Netherlands","Tablet PCs","PIPO M6 PRO 9.7 INCH 3G TABLET PC",5,186,{"$f":"Table1[[#This Row],[Count]]*Table1[[#This Row],[Price]]","v":930}]
["2012-02-01",2012,2,"USA","Workstations ","SUN BLADE 1500 WORKSTATION BASE SUN B1500",2,378,{"$f":"Table1[[#This Row],[Count]]*Table1[[#This Row],[Price]]","v":756}]
["2012-02-01",2012,2,"Belgium","Workstations ","SUN BLADE 1500 WORKSTATION BASE SUN B1500",2,378,{"$f":"Table1[[#This Row],[Count]]*Table1[[#This Row],[Price]]","v":756}]
["2012-02-01",2012,2,"USA","Tablet PCs","7 INCH DUAL CORE ANDROID TABLET PC Q88",5,210,{"$f":"Table1[[#This Row],[Count]]*Table1[[#This Row],[Price]]","v":1050}]
["2012-02-02",2012,2,"USA","Laptops","14.1\" AIR LAPTOP INTEL D2500",1,270,{"$f":"Table1[[#This Row],[Count]]*Table1[[#This Row],[Price]]","v":270}]
["2012-02-02",2012,2,"Monaco","Tablet PCs","7 INCH DUAL CORE ANDROID TABLET PC Q88",2,210,{"$f":"Table1[[#This Row],[Count]]*Table1[[#This Row],[Price]]","v":420}]
["2012-02-02",2012,2,"USA","Camera & Photo","FUJIFILM FINEPIX SL1000",5,330,{"$f":"Table1[[#This Row],[Count]]*Table1[[#This Row],[Price]]","v":1650}]
["2012-02-02",2012,2,"Belgium","Laptops","VIA 8850 ANDROID 4.0",4,282,{"$f":"Table1[[#This Row],[Count]]*Table1[[#This Row],[Price]]","v":1128}]
["2012-02-03",2012,2,"USA","Laptops","THINKPAD E445",1,222,{"$f":"Table1[[#This Row],[Count]]*Table1[[#This Row],[Price]]","v":222}]
["2012-02-03",2012,2,"Ukraine","Laptops","14INCH ULTRABOOK",2,234,{"$f":"Table1[[#This Row],[Count]]*Table1[[#This Row],[Price]]","v":468}]
["2012-02-03",2012,2,"USA","Workstations ","SUN BLADE 1500 WORKSTATION BASE SUN B1500",2,378,{"$f":"Table1[[#This Row],[Count]]*Table1[[#This Row],[Price]]","v":756}]
["2012-02-03",2012,2,"USA","Tablet PCs","TABLET 10-INCH QUAD-CORE A9",4,162,{"$f":"Table1[[#This Row],[Count]]*Table1[[#This Row],[Price]]","v":648}]
["2012-02-04",2012,2,"USA","Camera & Photo","FUJIFILM FINEPIX SL1000",1,330,{"$f":"Table1[[#This Row],[Count]]*Table1[[#This Row],[Price]]","v":330}]
["2012-02-04",2012,2,"USA","Camera & Photo","FUJIFILM FINEPIX SL1000",5,330,{"$f":"Table1[[#This Row],[Count]]*Table1[[#This Row],[Price]]","v":1650}]
["2012-02-04",2012,2,"Netherlands","Camera & Photo","SONY CYBERSHOT H200",5,318,{"$f":"Table1[[#This Row],[Count]]*Table1[[#This Row],[Price]]","v":1590}]
["2012-02-04",2012,2,"Albania","Tablet PCs","PIPO M6 PRO 9.7 INCH 3G TABLET PC",3,186,{"$f":"Table1[[#This Row],[Count]]*Table1[[#This Row],[Price]]","v":558}]
["2012-02-05",2012,2,"Latvia","Laptops","THINKPAD T440S",4,258,{"$f":"Table1[[#This Row],[Count]]*Table1[[#This Row],[Price]]","v":1032}]
["2012-02-05",2012,2,"USA","Camera & Photo","SONY CYBERSHOT H200",5,318,{"$f":"Table1[[#This Row],[Count]]*Table1[[#This Row],[Price]]","v":1590}]
["2012-02-05",2012,2,"Serbien und Montenegro","Workstations ","CLOUD COMPUTER THIN STATION FL300",3,390,{"$f":"Table1[[#This Row],[Count]]*Table1[[#This Row],[Price]]","v":1170}]
["2012-02-05",2012,2,"Moldova","Tablet PCs","10 INCH TABLET HIGH QUALITY TABLET 1GB",1,174,{"$f":"Table1[[#This Row],[Count]]*Table1[[#This Row],[Price]]","v":174}]
["2012-02-06",2012,2,"USA","Laptops","THINKPAD T440S",4,258,{"$f":"Table1[[#This Row],[Count]]*Table1[[#This Row],[Price]]","v":1032}]
["2012-02-06",2012,2,"Ukraine","Workstations ","HZONE NCOMPUTING L230",5,354,{"$f":"Table1[[#This Row],[Count]]*Table1[[#This Row],[Price]]","v":1770}]
["2012-02-06",2012,2,"Czech Republic","Camera & Photo","D3000 DIGITAL SLR",2,294,{"$f":"Table1[[#This Row],[Count]]*Table1[[#This Row],[Price]]","v":588}]
["2012-02-06",2012,2,"Luxembourg","Camera & Photo","SONY CYBERSHOT H200",5,318,{"$f":"Table1[[#This Row],[Count]]*Table1[[#This Row],[Price]]","v":1590}]
["2012-02-07",2012,2,"USA","Tablet PCs","7 INCH DUAL CORE ANDROID TABLET PC Q88",1,210,{"$f":"Table1[[#This Row],[Count]]*Table1[[#This Row],[Price]]","v":210}]
["2012-02-07",2012,2,"Andorra","Laptops","14INCH ULTRABOOK",3,234,{"$f":"Table1[[#This Row],[Count]]*Table1[[#This Row],[Price]]","v":702}]
["2012-02-07",2012,2,"Belgium","Workstations ","I7 MINI PC WITH HDMI QOTOM-T620",5,342,{"$f":"Table1[[#This Row],[Count]]*Table1[[#This Row],[Price]]","v":1710}]
["2012-02-07",2012,2,"USA","Tablet PCs","TABLET 10-INCH QUAD-CORE A9",4,162,{"$f":"Table1[[#This Row],[Count]]*Table1[[#This Row],[Price]]","v":648}]
["2012-02-08",2012,2,"USA","Tablet PCs","ONDA V975M TABLET PC",5,150,{"$f":"Table1[[#This Row],[Count]]*Table1[[#This Row],[Price]]","v":750}]
["2012-02-08",2012,2,"Romania","Tablet PCs","TABLET 10-INCH QUAD-CORE A9",5,162,{"$f":"Table1[[#This Row],[Count]]*Table1[[#This Row],[Price]]","v":810}]
["2012-02-08",2012,2,"USA","Tablet PCs","ONDA V975M TABLET PC",1,150,{"$f":"Table1[[#This Row],[Count]]*Table1[[#This Row],[Price]]","v":150}]
["2012-02-08",2012,2,"USA","Workstations ","HIGH PERFORMANCE 4U LCD WORKSTATION C",1,366,{"$f":"Table1[[#This Row],[Count]]*Table1[[#This Row],[Price]]","v":366}]
["2012-02-09",2012,2,"Bosnia And Herzegovina","Camera & Photo","SONY CYBERSHOT H200",3,318,{"$f":"Table1[[#This Row],[Count]]*Table1[[#This Row],[Price]]","v":954}]
["2012-02-09",2012,2,"Andorra","Workstations ","SUN BLADE 1500 WORKSTATION BASE SUN B1500",1,378,{"$f":"Table1[[#This Row],[Count]]*Table1[[#This Row],[Price]]","v":378}]
["2012-02-09",2012,2,"USA","Tablet PCs","GOOWEEL Q88 PRO A23 DUAL CORE TABLET PC",5,198,{"$f":"Table1[[#This Row],[Count]]*Table1[[#This Row],[Price]]","v":990}]
["2012-02-09",2012,2,"Luxembourg","Tablet PCs","10 INCH TABLET HIGH QUALITY TABLET 1GB",5,174,{"$f":"Table1[[#This Row],[Count]]*Table1[[#This Row],[Price]]","v":870}]
["2012-02-10",2012,2,"Poland","Tablet PCs","TABLET 10-INCH QUAD-CORE A9",4,162,{"$f":"Table1[[#This Row],[Count]]*Table1[[#This Row],[Price]]","v":648}]
["2012-02-10",2012,2,"USA","Workstations ","I7 MINI PC WITH HDMI QOTOM-T620",4,342,{"$f":"Table1[[#This Row],[Count]]*Table1[[#This Row],[Price]]","v":1368}]
["2012-02-10",2012,2,"Macedonia","Workstations ","CLOUD COMPUTER THIN STATION FL300",5,390,{"$f":"Table1[[#This Row],[Count]]*Table1[[#This Row],[Price]]","v":1950}]
["2012-02-10",2012,2,"Croatia","Workstations ","HZONE NCOMPUTING L230",3,354,{"$f":"Table1[[#This Row],[Count]]*Table1[[#This Row],[Price]]","v":1062}]
["2012-02-11",2012,2,"Albania","Laptops","14INCH ULTRABOOK",5,234,{"$f":"Table1[[#This Row],[Count]]*Table1[[#This Row],[Price]]","v":1170}]
["2012-02-11",2012,2,"Australia","Laptops","14.1\" AIR LAPTOP INTEL D2500",3,270,{"$f":"Table1[[#This Row],[Count]]*Table1[[#This Row],[Price]]","v":810}]
["2012-02-11",2012,2,"Andorra","Camera & Photo","D3200 DIGITAL SLR",4,306,{"$f":"Table1[[#This Row],[Count]]*Table1[[#This Row],[Price]]","v":1224}]
["2012-02-11",2012,2,"Monaco","Tablet PCs","7 INCH DUAL CORE ANDROID TABLET PC Q88",1,210,{"$f":"Table1[[#This Row],[Count]]*Table1[[#This Row],[Price]]","v":210}]
["2012-02-12",2012,2,"Portugal","Camera & Photo","SONY CYBERSHOT H200",3,318,{"$f":"Table1[[#This Row],[Count]]*Table1[[#This Row],[Price]]","v":954}]
["2012-02-12",2012,2,"Moldova","Tablet PCs","ONDA V975M TABLET PC",3,150,{"$f":"Table1[[#This Row],[Count]]*Table1[[#This Row],[Price]]","v":450}]
["2012-02-12",2012,2,"Australia","Tablet PCs","PIPO M6 PRO 9.7 INCH 3G TABLET PC",2,186,{"$f":"Table1[[#This Row],[Count]]*Table1[[#This Row],[Price]]","v":372}]
["2012-02-12",2012,2,"Montenegro","Tablet PCs","7 INCH DUAL CORE ANDROID TABLET PC Q88",2,210,{"$f":"Table1[[#This Row],[Count]]*Table1[[#This Row],[Price]]","v":420}]
["2012-02-13",2012,2,"USA","Workstations ","HIGH PERFORMANCE 4U LCD WORKSTATION C",2,366,{"$f":"Table1[[#This Row],[Count]]*Table1[[#This Row],[Price]]","v":732}]
["2012-02-13",2012,2,"USA","Workstations ","I7 MINI PC WITH HDMI QOTOM-T620",1,342,{"$f":"Table1[[#This Row],[Count]]*Table1[[#This Row],[Price]]","v":342}]
["2012-02-13",2012,2,"USA","Tablet PCs","10 INCH TABLET HIGH QUALITY TABLET 1GB",4,174,{"$f":"Table1[[#This Row],[Count]]*Table1[[#This Row],[Price]]","v":696}]
["2012-02-13",2012,2,"Bulgaria","Camera & Photo","D3000 DIGITAL SLR",3,294,{"$f":"Table1[[#This Row],[Count]]*Table1[[#This Row],[Price]]","v":882}]
["2012-02-14",2012,2,"Australia","Laptops","THINKPAD T440S",2,258,{"$f":"Table1[[#This Row],[Count]]*Table1[[#This Row],[Price]]","v":516}]
["2012-02-14",2012,2,"USA","Tablet PCs","10 INCH TABLET HIGH QUALITY TABLET 1GB",3,174,{"$f":"Table1[[#This Row],[Count]]*Table1[[#This Row],[Price]]","v":522}]
["2012-02-14",2012,2,"Malta","Workstations ","HZONE NCOMPUTING L230",1,354,{"$f":"Table1[[#This Row],[Count]]*Table1[[#This Row],[Price]]","v":354}]
["2012-02-14",2012,2,"Australia","Workstations ","I7 MINI PC WITH HDMI QOTOM-T620",3,342,{"$f":"Table1[[#This Row],[Count]]*Table1[[#This Row],[Price]]","v":1026}]
["2012-02-15",2012,2,"USA","Tablet PCs","PIPO M6 PRO 9.7 INCH 3G TABLET PC",2,186,{"$f":"Table1[[#This Row],[Count]]*Table1[[#This Row],[Price]]","v":372}]
["2012-02-15",2012,2,"Germany","Laptops","14.1\" AIR LAPTOP INTEL D2500",1,270,{"$f":"Table1[[#This Row],[Count]]*Table1[[#This Row],[Price]]","v":270}]
["2012-02-15",2012,2,"USA","Laptops","THINKPAD T440S",5,258,{"$f":"Table1[[#This Row],[Count]]*Table1[[#This Row],[Price]]","v":1290}]
["2012-02-15",2012,2,"Denmark","Laptops","Y10D 10 INCH VIA 8880",2,246,{"$f":"Table1[[#This Row],[Count]]*Table1[[#This Row],[Price]]","v":492}]
["2012-02-16",2012,2,"Bosnia And Herzegovina","Camera & Photo","FUJIFILM FINEPIX SL1000",5,330,{"$f":"Table1[[#This Row],[Count]]*Table1[[#This Row],[Price]]","v":1650}]
["2012-02-16",2012,2,"Hungary","Workstations ","HIGH PERFORMANCE 4U LCD WORKSTATION C",3,366,{"$f":"Table1[[#This Row],[Count]]*Table1[[#This Row],[Price]]","v":1098}]
["2012-02-16",2012,2,"USA","Workstations ","I7 MINI PC WITH HDMI QOTOM-T620",5,342,{"$f":"Table1[[#This Row],[Count]]*Table1[[#This Row],[Price]]","v":1710}]
["2012-02-16",2012,2,"USA","Workstations ","SUN BLADE 1500 WORKSTATION BASE SUN B1500",2,378,{"$f":"Table1[[#This Row],[Count]]*Table1[[#This Row],[Price]]","v":756}]
["2012-02-17",2012,2,"USA","Tablet PCs","GOOWEEL Q88 PRO A23 DUAL CORE TABLET PC",5,198,{"$f":"Table1[[#This Row],[Count]]*Table1[[#This Row],[Price]]","v":990}]
["2012-02-17",2012,2,"USA","Tablet PCs","10 INCH TABLET HIGH QUALITY TABLET 1GB",1,174,{"$f":"Table1[[#This Row],[Count]]*Table1[[#This Row],[Price]]","v":174}]
["2012-02-17",2012,2,"Malta","Camera & Photo","D3200 DIGITAL SLR",5,306,{"$f":"Table1[[#This Row],[Count]]*Table1[[#This Row],[Price]]","v":1530}]
["2012-02-17",2012,2,"Germany","Camera & Photo","FUJIFILM FINEPIX SL1000",1,330,{"$f":"Table1[[#This Row],[Count]]*Table1[[#This Row],[Price]]","v":330}]
["2012-02-18",2012,2,"Estonia","Camera & Photo","D3200 DIGITAL SLR",5,306,{"$f":"Table1[[#This Row],[Count]]*Table1[[#This Row],[Price]]","v":1530}]
["2012-02-18",2012,2,"USA","Tablet PCs","PIPO M6 PRO 9.7 INCH 3G TABLET PC",1,186,{"$f":"Table1[[#This Row],[Count]]*Table1[[#This Row],[Price]]","v":186}]
["2012-02-18",2012,2,"Ireland","Workstations ","SUN BLADE 1500 WORKSTATION BASE SUN B1500",5,378,{"$f":"Table1[[#This Row],[Count]]*Table1[[#This Row],[Price]]","v":1890}]
["2012-02-18",2012,2,"Australia","Workstations ","CLOUD COMPUTER THIN STATION FL300",5,390,{"$f":"Table1[[#This Row],[Count]]*Table1[[#This Row],[Price]]","v":1950}]
["2012-02-19",2012,2,"Ukraine","Tablet PCs","7 INCH DUAL CORE ANDROID TABLET PC Q88",5,210,{"$f":"Table1[[#This Row],[Count]]*Table1[[#This Row],[Price]]","v":1050}]
["2012-02-19",2012,2,"Ireland","Camera & Photo","D3200 DIGITAL SLR",3,306,{"$f":"Table1[[#This Row],[Count]]*Table1[[#This Row],[Price]]","v":918}]
["2012-02-19",2012,2,"Norway","Tablet PCs","GOOWEEL Q88 PRO A23 DUAL CORE TABLET PC",1,198,{"$f":"Table1[[#This Row],[Count]]*Table1[[#This Row],[Price]]","v":198}]
["2012-02-19",2012,2,"USA","Camera & Photo","D3200 DIGITAL SLR",2,306,{"$f":"Table1[[#This Row],[Count]]*Table1[[#This Row],[Price]]","v":612}]
["2012-02-20",2012,2,"USA","Laptops","14.1\" AIR LAPTOP INTEL D2500",2,270,{"$f":"Table1[[#This Row],[Count]]*Table1[[#This Row],[Price]]","v":540}]
["2012-02-20",2012,2,"Slovenia","Laptops","THINKPAD T440S",3,258,{"$f":"Table1[[#This Row],[Count]]*Table1[[#This Row],[Price]]","v":774}]
["2012-02-20",2012,2,"USA","Laptops","Y10D 10 INCH VIA 8880",4,246,{"$f":"Table1[[#This Row],[Count]]*Table1[[#This Row],[Price]]","v":984}]
["2012-02-20",2012,2,"USA","Tablet PCs","TABLET 10-INCH QUAD-CORE A9",1,162,{"$f":"Table1[[#This Row],[Count]]*Table1[[#This Row],[Price]]","v":162}]
["2012-02-21",2012,2,"Finland","Workstations ","HIGH PERFORMANCE 4U LCD WORKSTATION C",2,366,{"$f":"Table1[[#This Row],[Count]]*Table1[[#This Row],[Price]]","v":732}]
["2012-02-21",2012,2,"USA","Workstations ","HZONE NCOMPUTING L230",4,354,{"$f":"Table1[[#This Row],[Count]]*Table1[[#This Row],[Price]]","v":1416}]
["2012-02-21",2012,2,"USA","Tablet PCs","10 INCH TABLET HIGH QUALITY TABLET 1GB",4,174,{"$f":"Table1[[#This Row],[Count]]*Table1[[#This Row],[Price]]","v":696}]
["2012-02-21",2012,2,"USA","Laptops","14INCH ULTRABOOK",1,234,{"$f":"Table1[[#This Row],[Count]]*Table1[[#This Row],[Price]]","v":234}]
["2012-02-22",2012,2,"France","Laptops","VIA 8850 ANDROID 4.0",1,282,{"$f":"Table1[[#This Row],[Count]]*Table1[[#This Row],[Price]]","v":282}]
["2012-02-22",2012,2,"Luxembourg","Laptops","14.1\" AIR LAPTOP INTEL D2500",2,270,{"$f":"Table1[[#This Row],[Count]]*Table1[[#This Row],[Price]]","v":540}]
["2012-02-22",2012,2,"Estonia","Camera & Photo","D3200 DIGITAL SLR",4,306,{"$f":"Table1[[#This Row],[Count]]*Table1[[#This Row],[Price]]","v":1224}]
["2012-02-22",2012,2,"Macedonia","Workstations ","HZONE NCOMPUTING L230",5,354,{"$f":"Table1[[#This Row],[Count]]*Table1[[#This Row],[Price]]","v":1770}]
["2012-02-23",2012,2,"Australia","Workstations ","CLOUD COMPUTER THIN STATION FL300",4,390,{"$f":"Table1[[#This Row],[Count]]*Table1[[#This Row],[Price]]","v":1560}]
["2012-02-23",2012,2,"Australia","Laptops","THINKPAD E445",1,222,{"$f":"Table1[[#This Row],[Count]]*Table1[[#This Row],[Price]]","v":222}]
["2012-02-23",2012,2,"USA","Camera & Photo","D3200 DIGITAL SLR",4,306,{"$f":"Table1[[#This Row],[Count]]*Table1[[#This Row],[Price]]","v":1224}]
["2012-02-23",2012,2,"USA","Laptops","VIA 8850 ANDROID 4.0",5,282,{"$f":"Table1[[#This Row],[Count]]*Table1[[#This Row],[Price]]","v":1410}]
["2012-02-24",2012,2,"Bosnia And Herzegovina","Workstations ","I7 MINI PC WITH HDMI QOTOM-T620",4,342,{"$f":"Table1[[#This Row],[Count]]*Table1[[#This Row],[Price]]","v":1368}]
["2012-02-24",2012,2,"Luxembourg","Laptops","VIA 8850 ANDROID 4.0",4,282,{"$f":"Table1[[#This Row],[Count]]*Table1[[#This Row],[Price]]","v":1128}]
["2012-02-24",2012,2,"Norway","Tablet PCs","ONDA V975M TABLET PC",1,150,{"$f":"Table1[[#This Row],[Count]]*Table1[[#This Row],[Price]]","v":150}]
["2012-02-24",2012,2,"Monaco","Workstations ","HIGH PERFORMANCE 4U LCD WORKSTATION C",1,366,{"$f":"Table1[[#This Row],[Count]]*Table1[[#This Row],[Price]]","v":366}]
["2012-02-25",2012,2,"Moldova","Tablet PCs","10 INCH TABLET HIGH QUALITY TABLET 1GB",3,174,{"$f":"Table1[[#This Row],[Count]]*Table1[[#This Row],[Price]]","v":522}]
["2012-02-25",2012,2,"USA","Workstations ","HZONE NCOMPUTING L230",5,354,{"$f":"Table1[[#This Row],[Count]]*Table1[[#This Row],[Price]]","v":1770}]
["2012-02-25",2012,2,"Lithuania","Workstations ","HIGH PERFORMANCE 4U LCD WORKSTATION C",2,366,{"$f":"Table1[[#This Row],[Count]]*Table1[[#This Row],[Price]]","v":732}]
["2012-02-25",2012,2,"Slovakia","Laptops","Y10D 10 INCH VIA 8880",1,246,{"$f":"Table1[[#This Row],[Count]]*Table1[[#This Row],[Price]]","v":246}]
["2012-02-26",2012,2,"USA","Camera & Photo","D3200 DIGITAL SLR",3,306,{"$f":"Table1[[#This Row],[Count]]*Table1[[#This Row],[Price]]","v":918}]
["2012-02-26",2012,2,"USA","Workstations ","I7 MINI PC WITH HDMI QOTOM-T620",2,342,{"$f":"Table1[[#This Row],[Count]]*Table1[[#This Row],[Price]]","v":684}]
["2012-02-26",2012,2,"USA","Tablet PCs","PIPO M6 PRO 9.7 INCH 3G TABLET PC",2,186,{"$f":"Table1[[#This Row],[Count]]*Table1[[#This Row],[Price]]","v":372}]
["2012-02-26",2012,2,"USA","Camera & Photo","SONY CYBERSHOT H200",3,318,{"$f":"Table1[[#This Row],[Count]]*Table1[[#This Row],[Price]]","v":954}]
["2012-02-27",2012,2,"USA","Laptops","VIA 8850 ANDROID 4.0",5,282,{"$f":"Table1[[#This Row],[Count]]*Table1[[#This Row],[Price]]","v":1410}]
["2012-02-27",2012,2,"Slovenia","Tablet PCs","GOOWEEL Q88 PRO A23 DUAL CORE TABLET PC",1,198,{"$f":"Table1[[#This Row],[Count]]*Table1[[#This Row],[Price]]","v":198}]
["2012-02-27",2012,2,"Sweden","Laptops","THINKPAD E445",3,222,{"$f":"Table1[[#This Row],[Count]]*Table1[[#This Row],[Price]]","v":666}]
["2012-02-27",2012,2,"Bulgaria","Camera & Photo","D3000 DIGITAL SLR",4,294,{"$f":"Table1[[#This Row],[Count]]*Table1[[#This Row],[Price]]","v":1176}]
["2012-02-28",2012,2,"Malta","Workstations ","HIGH PERFORMANCE 4U LCD WORKSTATION C",2,366,{"$f":"Table1[[#This Row],[Count]]*Table1[[#This Row],[Price]]","v":732}]
["2012-02-28",2012,2,"Poland","Workstations ","CLOUD COMPUTER THIN STATION FL300",2,390,{"$f":"Table1[[#This Row],[Count]]*Table1[[#This Row],[Price]]","v":780}]
["2012-02-28",2012,2,"USA","Tablet PCs","TABLET 10-INCH QUAD-CORE A9",2,162,{"$f":"Table1[[#This Row],[Count]]*Table1[[#This Row],[Price]]","v":324}]
["2012-02-28",2012,2,"Serbien und Montenegro","Tablet PCs","7 INCH DUAL CORE ANDROID TABLET PC Q88",5,210,{"$f":"Table1[[#This Row],[Count]]*Table1[[#This Row],[Price]]","v":1050}]
["2012-02-29",2012,2,"USA","Workstations ","HZONE NCOMPUTING L230",1,354,{"$f":"Table1[[#This Row],[Count]]*Table1[[#This Row],[Price]]","v":354}]
["2012-02-29",2012,2,"Montenegro","Workstations ","CLOUD COMPUTER THIN STATION FL300",1,390,{"$f":"Table1[[#This Row],[Count]]*Table1[[#This Row],[Price]]","v":390}]
["2012-02-29",2012,2,"USA","Laptops","Y10D 10 INCH VIA 8880",1,246,{"$f":"Table1[[#This Row],[Count]]*Table1[[#This Row],[Price]]","v":246}]
["2012-02-29",2012,2,"Finland","Tablet PCs","GOOWEEL Q88 PRO A23 DUAL CORE TABLET PC",1,198,{"$f":"Table1[[#This Row],[Count]]*Table1[[#This Row],[Price]]","v":198}]
["2012-03-01",2012,3,"USA","Camera & Photo","FUJIFILM FINEPIX SL1000",4,330,{"$f":"Table1[[#This Row],[Count]]*Table1[[#This Row],[Price]]","v":1320}]
["2012-03-01",2012,3,"Estonia","Laptops","THINKPAD T440S",5,258,{"$f":"Table1[[#This Row],[Count]]*Table1[[#This Row],[Price]]","v":1290}]
["2012-03-01",2012,3,"Latvia","Tablet PCs","10 INCH TABLET HIGH QUALITY TABLET 1GB",5,174,{"$f":"Table1[[#This Row],[Count]]*Table1[[#This Row],[Price]]","v":870}]
["2012-03-01",2012,3,"Germany","Laptops","14INCH ULTRABOOK",2,234,{"$f":"Table1[[#This Row],[Count]]*Table1[[#This Row],[Price]]","v":468}]
["2012-03-02",2012,3,"Belarus","Workstations ","CLOUD COMPUTER THIN STATION FL300",1,390,{"$f":"Table1[[#This Row],[Count]]*Table1[[#This Row],[Price]]","v":390}]
["2012-03-02",2012,3,"Italy","Laptops","THINKPAD T440S",3,258,{"$f":"Table1[[#This Row],[Count]]*Table1[[#This Row],[Price]]","v":774}]
["2012-03-02",2012,3,"Ukraine","Camera & Photo","FUJIFILM FINEPIX SL1000",5,330,{"$f":"Table1[[#This Row],[Count]]*Table1[[#This Row],[Price]]","v":1650}]
["2012-03-02",2012,3,"Belgium","Camera & Photo","D3200 DIGITAL SLR",4,306,{"$f":"Table1[[#This Row],[Count]]*Table1[[#This Row],[Price]]","v":1224}]
["2012-03-03",2012,3,"Albania","Tablet PCs","10 INCH TABLET HIGH QUALITY TABLET 1GB",1,174,{"$f":"Table1[[#This Row],[Count]]*Table1[[#This Row],[Price]]","v":174}]
["2012-03-03",2012,3,"USA","Tablet PCs","PIPO M6 PRO 9.7 INCH 3G TABLET PC",4,186,{"$f":"Table1[[#This Row],[Count]]*Table1[[#This Row],[Price]]","v":744}]
["2012-03-03",2012,3,"USA","Tablet PCs","GOOWEEL Q88 PRO A23 DUAL CORE TABLET PC",4,198,{"$f":"Table1[[#This Row],[Count]]*Table1[[#This Row],[Price]]","v":792}]
["2012-03-03",2012,3,"USA","Tablet PCs","7 INCH DUAL CORE ANDROID TABLET PC Q88",4,210,{"$f":"Table1[[#This Row],[Count]]*Table1[[#This Row],[Price]]","v":840}]
["2012-03-04",2012,3,"USA","Camera & Photo","D3000 DIGITAL SLR",5,294,{"$f":"Table1[[#This Row],[Count]]*Table1[[#This Row],[Price]]","v":1470}]
["2012-03-04",2012,3,"Czech Republic","Camera & Photo","D3000 DIGITAL SLR",3,294,{"$f":"Table1[[#This Row],[Count]]*Table1[[#This Row],[Price]]","v":882}]
["2012-03-04",2012,3,"Czech Republic","Laptops","14INCH ULTRABOOK",4,234,{"$f":"Table1[[#This Row],[Count]]*Table1[[#This Row],[Price]]","v":936}]
["2012-03-04",2012,3,"Lithuania","Laptops","14INCH ULTRABOOK",1,234,{"$f":"Table1[[#This Row],[Count]]*Table1[[#This Row],[Price]]","v":234}]
["2012-03-05",2012,3,"USA","Workstations ","HIGH PERFORMANCE 4U LCD WORKSTATION C",2,366,{"$f":"Table1[[#This Row],[Count]]*Table1[[#This Row],[Price]]","v":732}]
["2012-03-05",2012,3,"Switzerland","Laptops","Y10D 10 INCH VIA 8880",2,246,{"$f":"Table1[[#This Row],[Count]]*Table1[[#This Row],[Price]]","v":492}]
["2012-03-05",2012,3,"Australia","Workstations ","CLOUD COMPUTER THIN STATION FL300",1,390,{"$f":"Table1[[#This Row],[Count]]*Table1[[#This Row],[Price]]","v":390}]
["2012-03-05",2012,3,"USA","Workstations ","CLOUD COMPUTER THIN STATION FL300",4,390,{"$f":"Table1[[#This Row],[Count]]*Table1[[#This Row],[Price]]","v":1560}]
["2012-03-06",2012,3,"Australia","Workstations ","HZONE NCOMPUTING L230",5,354,{"$f":"Table1[[#This Row],[Count]]*Table1[[#This Row],[Price]]","v":1770}]
["2012-03-06",2012,3,"Latvia","Tablet PCs","ONDA V975M TABLET PC",1,150,{"$f":"Table1[[#This Row],[Count]]*Table1[[#This Row],[Price]]","v":150}]
["2012-03-06",2012,3,"USA","Tablet PCs","10 INCH TABLET HIGH QUALITY TABLET 1GB",5,174,{"$f":"Table1[[#This Row],[Count]]*Table1[[#This Row],[Price]]","v":870}]
["2012-03-06",2012,3,"USA","Tablet PCs","ONDA V975M TABLET PC",4,150,{"$f":"Table1[[#This Row],[Count]]*Table1[[#This Row],[Price]]","v":600}]
["2012-03-07",2012,3,"USA","Laptops","THINKPAD T440S",5,258,{"$f":"Table1[[#This Row],[Count]]*Table1[[#This Row],[Price]]","v":1290}]
["2012-03-07",2012,3,"Finland","Workstations ","CLOUD COMPUTER THIN STATION FL300",3,390,{"$f":"Table1[[#This Row],[Count]]*Table1[[#This Row],[Price]]","v":1170}]
["2012-03-07",2012,3,"USA","Laptops","VIA 8850 ANDROID 4.0",2,282,{"$f":"Table1[[#This Row],[Count]]*Table1[[#This Row],[Price]]","v":564}]
["2012-03-07",2012,3,"Poland","Camera & Photo","D3200 DIGITAL SLR",5,306,{"$f":"Table1[[#This Row],[Count]]*Table1[[#This Row],[Price]]","v":1530}]
["2012-03-08",2012,3,"Belarus","Workstations ","HZONE NCOMPUTING L230",3,354,{"$f":"Table1[[#This Row],[Count]]*Table1[[#This Row],[Price]]","v":1062}]
["2012-03-08",2012,3,"USA","Tablet PCs","10 INCH TABLET HIGH QUALITY TABLET 1GB",1,174,{"$f":"Table1[[#This Row],[Count]]*Table1[[#This Row],[Price]]","v":174}]
["2012-03-08",2012,3,"USA","Workstations ","I7 MINI PC WITH HDMI QOTOM-T620",2,342,{"$f":"Table1[[#This Row],[Count]]*Table1[[#This Row],[Price]]","v":684}]
["2012-03-08",2012,3,"USA","Laptops","14.1\" AIR LAPTOP INTEL D2500",4,270,{"$f":"Table1[[#This Row],[Count]]*Table1[[#This Row],[Price]]","v":1080}]
["2012-03-09",2012,3,"Poland","Camera & Photo","D3200 DIGITAL SLR",3,306,{"$f":"Table1[[#This Row],[Count]]*Table1[[#This Row],[Price]]","v":918}]
["2012-03-09",2012,3,"USA","Laptops","Y10D 10 INCH VIA 8880",2,246,{"$f":"Table1[[#This Row],[Count]]*Table1[[#This Row],[Price]]","v":492}]
["2012-03-09",2012,3,"Greece","Laptops","THINKPAD T440S",3,258,{"$f":"Table1[[#This Row],[Count]]*Table1[[#This Row],[Price]]","v":774}]
["2012-03-09",2012,3,"Malta","Laptops","THINKPAD E445",1,222,{"$f":"Table1[[#This Row],[Count]]*Table1[[#This Row],[Price]]","v":222}]
["2012-03-10",2012,3,"USA","Laptops","14INCH ULTRABOOK",2,234,{"$f":"Table1[[#This Row],[Count]]*Table1[[#This Row],[Price]]","v":468}]
["2012-03-10",2012,3,"France","Workstations ","I7 MINI PC WITH HDMI QOTOM-T620",2,342,{"$f":"Table1[[#This Row],[Count]]*Table1[[#This Row],[Price]]","v":684}]
["2012-03-10",2012,3,"USA","Camera & Photo","D3200 DIGITAL SLR",1,306,{"$f":"Table1[[#This Row],[Count]]*Table1[[#This Row],[Price]]","v":306}]
["2012-03-10",2012,3,"USA","Laptops","14INCH ULTRABOOK",3,234,{"$f":"Table1[[#This Row],[Count]]*Table1[[#This Row],[Price]]","v":702}]
["2012-03-11",2012,3,"Georgia","Tablet PCs","10 INCH TABLET HIGH QUALITY TABLET 1GB",5,174,{"$f":"Table1[[#This Row],[Count]]*Table1[[#This Row],[Price]]","v":870}]
["2012-03-11",2012,3,"Montenegro","Workstations ","CLOUD COMPUTER THIN STATION FL300",3,390,{"$f":"Table1[[#This Row],[Count]]*Table1[[#This Row],[Price]]","v":1170}]
["2012-03-11",2012,3,"USA","Camera & Photo","D3200 DIGITAL SLR",4,306,{"$f":"Table1[[#This Row],[Count]]*Table1[[#This Row],[Price]]","v":1224}]
["2012-03-11",2012,3,"Bosnia And Herzegovina","Tablet PCs","PIPO M6 PRO 9.7 INCH 3G TABLET PC",3,186,{"$f":"Table1[[#This Row],[Count]]*Table1[[#This Row],[Price]]","v":558}]
["2012-03-12",2012,3,"USA","Laptops","14.1\" AIR LAPTOP INTEL D2500",2,270,{"$f":"Table1[[#This Row],[Count]]*Table1[[#This Row],[Price]]","v":540}]
["2012-03-12",2012,3,"Ireland","Tablet PCs","GOOWEEL Q88 PRO A23 DUAL CORE TABLET PC",1,198,{"$f":"Table1[[#This Row],[Count]]*Table1[[#This Row],[Price]]","v":198}]
["2012-03-12",2012,3,"Bosnia And Herzegovina","Workstations ","I7 MINI PC WITH HDMI QOTOM-T620",5,342,{"$f":"Table1[[#This Row],[Count]]*Table1[[#This Row],[Price]]","v":1710}]
["2012-03-12",2012,3,"Croatia","Laptops","Y10D 10 INCH VIA 8880",3,246,{"$f":"Table1[[#This Row],[Count]]*Table1[[#This Row],[Price]]","v":738}]
["2012-03-13",2012,3,"Portugal","Laptops","VIA 8850 ANDROID 4.0",3,282,{"$f":"Table1[[#This Row],[Count]]*Table1[[#This Row],[Price]]","v":846}]
["2012-03-13",2012,3,"Slovenia","Workstations ","HIGH PERFORMANCE 4U LCD WORKSTATION C",3,366,{"$f":"Table1[[#This Row],[Count]]*Table1[[#This Row],[Price]]","v":1098}]
["2012-03-13",2012,3,"Bosnia And Herzegovina","Workstations ","SUN BLADE 1500 WORKSTATION BASE SUN B1500",2,378,{"$f":"Table1[[#This Row],[Count]]*Table1[[#This Row],[Price]]","v":756}]
["2012-03-13",2012,3,"USA","Camera & Photo","D3200 DIGITAL SLR",5,306,{"$f":"Table1[[#This Row],[Count]]*Table1[[#This Row],[Price]]","v":1530}]
["2012-03-14",2012,3,"Australia","Workstations ","SUN BLADE 1500 WORKSTATION BASE SUN B1500",1,378,{"$f":"Table1[[#This Row],[Count]]*Table1[[#This Row],[Price]]","v":378}]
["2012-03-14",2012,3,"Germany","Camera & Photo","SONY CYBERSHOT H200",2,318,{"$f":"Table1[[#This Row],[Count]]*Table1[[#This Row],[Price]]","v":636}]
["2012-03-14",2012,3,"Hungary","Tablet PCs","TABLET 10-INCH QUAD-CORE A9",4,162,{"$f":"Table1[[#This Row],[Count]]*Table1[[#This Row],[Price]]","v":648}]
["2012-03-14",2012,3,"USA","Tablet PCs","7 INCH DUAL CORE ANDROID TABLET PC Q88",1,210,{"$f":"Table1[[#This Row],[Count]]*Table1[[#This Row],[Price]]","v":210}]
["2012-03-15",2012,3,"Portugal","Camera & Photo","D3000 DIGITAL SLR",2,294,{"$f":"Table1[[#This Row],[Count]]*Table1[[#This Row],[Price]]","v":588}]
["2012-03-15",2012,3,"USA","Camera & Photo","D3200 DIGITAL SLR",3,306,{"$f":"Table1[[#This Row],[Count]]*Table1[[#This Row],[Price]]","v":918}]
["2012-03-15",2012,3,"USA","Laptops","THINKPAD T440S",3,258,{"$f":"Table1[[#This Row],[Count]]*Table1[[#This Row],[Price]]","v":774}]
["2012-03-15",2012,3,"USA","Tablet PCs","TABLET 10-INCH QUAD-CORE A9",1,162,{"$f":"Table1[[#This Row],[Count]]*Table1[[#This Row],[Price]]","v":162}]
["2012-03-16",2012,3,"USA","Workstations ","CLOUD COMPUTER THIN STATION FL300",5,390,{"$f":"Table1[[#This Row],[Count]]*Table1[[#This Row],[Price]]","v":1950}]
["2012-03-16",2012,3,"Italy","Camera & Photo","D3200 DIGITAL SLR",2,306,{"$f":"Table1[[#This Row],[Count]]*Table1[[#This Row],[Price]]","v":612}]
["2012-03-16",2012,3,"USA","Workstations ","HZONE NCOMPUTING L230",2,354,{"$f":"Table1[[#This Row],[Count]]*Table1[[#This Row],[Price]]","v":708}]
["2012-03-16",2012,3,"Montenegro","Laptops","14.1\" AIR LAPTOP INTEL D2500",3,270,{"$f":"Table1[[#This Row],[Count]]*Table1[[#This Row],[Price]]","v":810}]
["2012-03-17",2012,3,"USA","Camera & Photo","FUJIFILM FINEPIX SL1000",1,330,{"$f":"Table1[[#This Row],[Count]]*Table1[[#This Row],[Price]]","v":330}]
["2012-03-17",2012,3,"USA","Laptops","THINKPAD T440S",2,258,{"$f":"Table1[[#This Row],[Count]]*Table1[[#This Row],[Price]]","v":516}]
["2012-03-17",2012,3,"USA","Workstations ","SUN BLADE 1500 WORKSTATION BASE SUN B1500",1,378,{"$f":"Table1[[#This Row],[Count]]*Table1[[#This Row],[Price]]","v":378}]
["2012-03-17",2012,3,"USA","Laptops","14.1\" AIR LAPTOP INTEL D2500",4,270,{"$f":"Table1[[#This Row],[Count]]*Table1[[#This Row],[Price]]","v":1080}]
["2012-03-18",2012,3,"USA","Laptops","THINKPAD T440S",4,258,{"$f":"Table1[[#This Row],[Count]]*Table1[[#This Row],[Price]]","v":1032}]
["2012-03-18",2012,3,"Finland","Workstations ","SUN BLADE 1500 WORKSTATION BASE SUN B1500",1,378,{"$f":"Table1[[#This Row],[Count]]*Table1[[#This Row],[Price]]","v":378}]
["2012-03-18",2012,3,"USA","Camera & Photo","SONY CYBERSHOT H200",1,318,{"$f":"Table1[[#This Row],[Count]]*Table1[[#This Row],[Price]]","v":318}]
["2012-03-18",2012,3,"USA","Camera & Photo","SONY CYBERSHOT H200",5,318,{"$f":"Table1[[#This Row],[Count]]*Table1[[#This Row],[Price]]","v":1590}]
["2012-03-19",2012,3,"Switzerland","Tablet PCs","7 INCH DUAL CORE ANDROID TABLET PC Q88",4,210,{"$f":"Table1[[#This Row],[Count]]*Table1[[#This Row],[Price]]","v":840}]
["2012-03-19",2012,3,"USA","Laptops","14INCH ULTRABOOK",4,234,{"$f":"Table1[[#This Row],[Count]]*Table1[[#This Row],[Price]]","v":936}]
["2012-03-19",2012,3,"USA","Tablet PCs","GOOWEEL Q88 PRO A23 DUAL CORE TABLET PC",2,198,{"$f":"Table1[[#This Row],[Count]]*Table1[[#This Row],[Price]]","v":396}]
["2012-03-19",2012,3,"Belgium","Laptops","THINKPAD T440S",5,258,{"$f":"Table1[[#This Row],[Count]]*Table1[[#This Row],[Price]]","v":1290}]
["2012-03-20",2012,3,"USA","Workstations ","HIGH PERFORMANCE 4U LCD WORKSTATION C",5,366,{"$f":"Table1[[#This Row],[Count]]*Table1[[#This Row],[Price]]","v":1830}]
["2012-03-20",2012,3,"USA","Laptops","THINKPAD E445",1,222,{"$f":"Table1[[#This Row],[Count]]*Table1[[#This Row],[Price]]","v":222}]
["2012-03-20",2012,3,"Bosnia And Herzegovina","Camera & Photo","D3200 DIGITAL SLR",2,306,{"$f":"Table1[[#This Row],[Count]]*Table1[[#This Row],[Price]]","v":612}]
["2012-03-20",2012,3,"Georgia","Tablet PCs","TABLET 10-INCH QUAD-CORE A9",2,162,{"$f":"Table1[[#This Row],[Count]]*Table1[[#This Row],[Price]]","v":324}]
["2012-03-21",2012,3,"USA","Workstations ","HZONE NCOMPUTING L230",4,354,{"$f":"Table1[[#This Row],[Count]]*Table1[[#This Row],[Price]]","v":1416}]
["2012-03-21",2012,3,"Portugal","Camera & Photo","FUJIFILM FINEPIX SL1000",5,330,{"$f":"Table1[[#This Row],[Count]]*Table1[[#This Row],[Price]]","v":1650}]
["2012-03-21",2012,3,"USA","Tablet PCs","10 INCH TABLET HIGH QUALITY TABLET 1GB",1,174,{"$f":"Table1[[#This Row],[Count]]*Table1[[#This Row],[Price]]","v":174}]
["2012-03-21",2012,3,"Bulgaria","Workstations ","HZONE NCOMPUTING L230",5,354,{"$f":"Table1[[#This Row],[Count]]*Table1[[#This Row],[Price]]","v":1770}]
["2012-03-22",2012,3,"USA","Workstations ","I7 MINI PC WITH HDMI QOTOM-T620",5,342,{"$f":"Table1[[#This Row],[Count]]*Table1[[#This Row],[Price]]","v":1710}]
["2012-03-22",2012,3,"Czech Republic","Workstations ","HZONE NCOMPUTING L230",2,354,{"$f":"Table1[[#This Row],[Count]]*Table1[[#This Row],[Price]]","v":708}]
["2012-03-22",2012,3,"Montenegro","Camera & Photo","D3200 DIGITAL SLR",1,306,{"$f":"Table1[[#This Row],[Count]]*Table1[[#This Row],[Price]]","v":306}]
["2012-03-22",2012,3,"Belarus","Tablet PCs","ONDA V975M TABLET PC",1,150,{"$f":"Table1[[#This Row],[Count]]*Table1[[#This Row],[Price]]","v":150}]
["2012-03-23",2012,3,"Bosnia And Herzegovina","Laptops","14INCH ULTRABOOK",1,234,{"$f":"Table1[[#This Row],[Count]]*Table1[[#This Row],[Price]]","v":234}]
["2012-03-23",2012,3,"Finland","Tablet PCs","TABLET 10-INCH QUAD-CORE A9",3,162,{"$f":"Table1[[#This Row],[Count]]*Table1[[#This Row],[Price]]","v":486}]
["2012-03-23",2012,3,"USA","Laptops","THINKPAD T440S",5,258,{"$f":"Table1[[#This Row],[Count]]*Table1[[#This Row],[Price]]","v":1290}]
["2012-03-23",2012,3,"Sweden","Workstations ","I7 MINI PC WITH HDMI QOTOM-T620",1,342,{"$f":"Table1[[#This Row],[Count]]*Table1[[#This Row],[Price]]","v":342}]
["2012-03-24",2012,3,"Netherlands","Camera & Photo","FUJIFILM FINEPIX SL1000",4,330,{"$f":"Table1[[#This Row],[Count]]*Table1[[#This Row],[Price]]","v":1320}]
["2012-03-24",2012,3,"Poland","Laptops","Y10D 10 INCH VIA 8880",3,246,{"$f":"Table1[[#This Row],[Count]]*Table1[[#This Row],[Price]]","v":738}]
["2012-03-24",2012,3,"Montenegro","Laptops","Y10D 10 INCH VIA 8880",2,246,{"$f":"Table1[[#This Row],[Count]]*Table1[[#This Row],[Price]]","v":492}]
["2012-03-24",2012,3,"USA","Laptops","VIA 8850 ANDROID 4.0",1,282,{"$f":"Table1[[#This Row],[Count]]*Table1[[#This Row],[Price]]","v":282}]
["2012-03-25",2012,3,"USA","Camera & Photo","D3200 DIGITAL SLR",5,306,{"$f":"Table1[[#This Row],[Count]]*Table1[[#This Row],[Price]]","v":1530}]
["2012-03-25",2012,3,"Austria","Camera & Photo","D3000 DIGITAL SLR",4,294,{"$f":"Table1[[#This Row],[Count]]*Table1[[#This Row],[Price]]","v":1176}]
["2012-03-25",2012,3,"USA","Tablet PCs","10 INCH TABLET HIGH QUALITY TABLET 1GB",4,174,{"$f":"Table1[[#This Row],[Count]]*Table1[[#This Row],[Price]]","v":696}]
["2012-03-25",2012,3,"Hungary","Tablet PCs","TABLET 10-INCH QUAD-CORE A9",3,162,{"$f":"Table1[[#This Row],[Count]]*Table1[[#This Row],[Price]]","v":486}]
["2012-03-26",2012,3,"USA","Laptops","THINKPAD T440S",1,258,{"$f":"Table1[[#This Row],[Count]]*Table1[[#This Row],[Price]]","v":258}]
["2012-03-26",2012,3,"USA","Workstations ","CLOUD COMPUTER THIN STATION FL300",4,390,{"$f":"Table1[[#This Row],[Count]]*Table1[[#This Row],[Price]]","v":1560}]
["2012-03-26",2012,3,"Liechtenstein","Workstations ","I7 MINI PC WITH HDMI QOTOM-T620",3,342,{"$f":"Table1[[#This Row],[Count]]*Table1[[#This Row],[Price]]","v":1026}]
["2012-03-26",2012,3,"Switzerland","Camera & Photo","D3000 DIGITAL SLR",4,294,{"$f":"Table1[[#This Row],[Count]]*Table1[[#This Row],[Price]]","v":1176}]
["2012-03-27",2012,3,"Georgia","Tablet PCs","10 INCH TABLET HIGH QUALITY TABLET 1GB",2,174,{"$f":"Table1[[#This Row],[Count]]*Table1[[#This Row],[Price]]","v":348}]
["2012-03-27",2012,3,"USA","Laptops","Y10D 10 INCH VIA 8880",1,246,{"$f":"Table1[[#This Row],[Count]]*Table1[[#This Row],[Price]]","v":246}]
["2012-03-27",2012,3,"Ukraine","Laptops","VIA 8850 ANDROID 4.0",5,282,{"$f":"Table1[[#This Row],[Count]]*Table1[[#This Row],[Price]]","v":1410}]
["2012-03-27",2012,3,"Sweden","Tablet PCs","TABLET 10-INCH QUAD-CORE A9",4,162,{"$f":"Table1[[#This Row],[Count]]*Table1[[#This Row],[Price]]","v":648}]
["2012-03-28",2012,3,"Norway","Tablet PCs","7 INCH DUAL CORE ANDROID TABLET PC Q88",4,210,{"$f":"Table1[[#This Row],[Count]]*Table1[[#This Row],[Price]]","v":840}]
["2012-03-28",2012,3,"USA","Laptops","THINKPAD E445",1,222,{"$f":"Table1[[#This Row],[Count]]*Table1[[#This Row],[Price]]","v":222}]
["2012-03-28",2012,3,"USA","Camera & Photo","SONY CYBERSHOT H200",1,318,{"$f":"Table1[[#This Row],[Count]]*Table1[[#This Row],[Price]]","v":318}]
["2012-03-28",2012,3,"USA","Camera & Photo","FUJIFILM FINEPIX SL1000",2,330,{"$f":"Table1[[#This Row],[Count]]*Table1[[#This Row],[Price]]","v":660}]
["2012-03-29",2012,3,"Poland","Laptops","THINKPAD T440S",3,258,{"$f":"Table1[[#This Row],[Count]]*Table1[[#This Row],[Price]]","v":774}]
["2012-03-29",2012,3,"Australia","Workstations ","CLOUD COMPUTER THIN STATION FL300",2,390,{"$f":"Table1[[#This Row],[Count]]*Table1[[#This Row],[Price]]","v":780}]
["2012-03-29",2012,3,"Denmark","Tablet PCs","10 INCH TABLET HIGH QUALITY TABLET 1GB",5,174,{"$f":"Table1[[#This Row],[Count]]*Table1[[#This Row],[Price]]","v":870}]
["2012-03-29",2012,3,"USA","Tablet PCs","TABLET 10-INCH QUAD-CORE A9",2,162,{"$f":"Table1[[#This Row],[Count]]*Table1[[#This Row],[Price]]","v":324}]
["2012-03-30",2012,3,"USA","Workstations ","HZONE NCOMPUTING L230",3,354,{"$f":"Table1[[#This Row],[Count]]*Table1[[#This Row],[Price]]","v":1062}]
["2012-03-30",2012,3,"Moldova","Laptops","THINKPAD T440S",3,258,{"$f":"Table1[[#This Row],[Count]]*Table1[[#This Row],[Price]]","v":774}]
["2012-03-30",2012,3,"Andorra","Camera & Photo","SONY CYBERSHOT H200",3,318,{"$f":"Table1[[#This Row],[Count]]*Table1[[#This Row],[Price]]","v":954}]
["2012-03-30",2012,3,"USA","Tablet PCs","ONDA V975M TABLET PC",5,150,{"$f":"Table1[[#This Row],[Count]]*Table1[[#This Row],[Price]]","v":750}]
["2012-03-31",2012,3,"Australia","Laptops","14INCH ULTRABOOK",3,234,{"$f":"Table1[[#This Row],[Count]]*Table1[[#This Row],[Price]]","v":702}]
["2012-03-31",2012,3,"USA","Workstations ","HZONE NCOMPUTING L230",3,354,{"$f":"Table1[[#This Row],[Count]]*Table1[[#This Row],[Price]]","v":1062}]
["2012-03-31",2012,3,"Slovenia","Camera & Photo","SONY CYBERSHOT H200",5,318,{"$f":"Table1[[#This Row],[Count]]*Table1[[#This Row],[Price]]","v":1590}]
["2012-03-31",2012,3,"Latvia","Tablet PCs","7 INCH DUAL CORE ANDROID TABLET PC Q88",3,210,{"$f":"Table1[[#This Row],[Count]]*Table1[[#This Row],[Price]]","v":630}]
["2012-04-01",2012,4,"USA","Tablet PCs","7 INCH DUAL CORE ANDROID TABLET PC Q88",5,210,{"$f":"Table1[[#This Row],[Count]]*Table1[[#This Row],[Price]]","v":1050}]
["2012-04-01",2012,4,"USA","Workstations ","HIGH PERFORMANCE 4U LCD WORKSTATION C",2,366,{"$f":"Table1[[#This Row],[Count]]*Table1[[#This Row],[Price]]","v":732}]
["2012-04-01",2012,4,"Belgium","Workstations ","HIGH PERFORMANCE 4U LCD WORKSTATION C",3,366,{"$f":"Table1[[#This Row],[Count]]*Table1[[#This Row],[Price]]","v":1098}]
["2012-04-01",2012,4,"USA","Tablet PCs","10 INCH TABLET HIGH QUALITY TABLET 1GB",4,174,{"$f":"Table1[[#This Row],[Count]]*Table1[[#This Row],[Price]]","v":696}]
["2012-04-02",2012,4,"USA","Tablet PCs","PIPO M6 PRO 9.7 INCH 3G TABLET PC",4,186,{"$f":"Table1[[#This Row],[Count]]*Table1[[#This Row],[Price]]","v":744}]
["2012-04-02",2012,4,"Bosnia And Herzegovina","Tablet PCs","GOOWEEL Q88 PRO A23 DUAL CORE TABLET PC",2,198,{"$f":"Table1[[#This Row],[Count]]*Table1[[#This Row],[Price]]","v":396}]
["2012-04-02",2012,4,"Australia","Workstations ","I7 MINI PC WITH HDMI QOTOM-T620",3,342,{"$f":"Table1[[#This Row],[Count]]*Table1[[#This Row],[Price]]","v":1026}]
["2012-04-02",2012,4,"Ukraine","Camera & Photo","D3000 DIGITAL SLR",1,294,{"$f":"Table1[[#This Row],[Count]]*Table1[[#This Row],[Price]]","v":294}]
["2012-04-03",2012,4,"France","Workstations ","SUN BLADE 1500 WORKSTATION BASE SUN B1500",4,378,{"$f":"Table1[[#This Row],[Count]]*Table1[[#This Row],[Price]]","v":1512}]
["2012-04-03",2012,4,"Spain","Tablet PCs","10 INCH TABLET HIGH QUALITY TABLET 1GB",2,174,{"$f":"Table1[[#This Row],[Count]]*Table1[[#This Row],[Price]]","v":348}]
["2012-04-03",2012,4,"Hungary","Workstations ","CLOUD COMPUTER THIN STATION FL300",5,390,{"$f":"Table1[[#This Row],[Count]]*Table1[[#This Row],[Price]]","v":1950}]
["2012-04-03",2012,4,"Latvia","Laptops","14.1\" AIR LAPTOP INTEL D2500",4,270,{"$f":"Table1[[#This Row],[Count]]*Table1[[#This Row],[Price]]","v":1080}]
["2012-04-04",2012,4,"Georgia","Tablet PCs","TABLET 10-INCH QUAD-CORE A9",4,162,{"$f":"Table1[[#This Row],[Count]]*Table1[[#This Row],[Price]]","v":648}]
["2012-04-04",2012,4,"Latvia","Laptops","THINKPAD E445",1,222,{"$f":"Table1[[#This Row],[Count]]*Table1[[#This Row],[Price]]","v":222}]
["2012-04-04",2012,4,"Hungary","Workstations ","I7 MINI PC WITH HDMI QOTOM-T620",1,342,{"$f":"Table1[[#This Row],[Count]]*Table1[[#This Row],[Price]]","v":342}]
["2012-04-04",2012,4,"USA","Laptops","THINKPAD E445",2,222,{"$f":"Table1[[#This Row],[Count]]*Table1[[#This Row],[Price]]","v":444}]
["2012-04-05",2012,4,"France","Workstations ","CLOUD COMPUTER THIN STATION FL300",3,390,{"$f":"Table1[[#This Row],[Count]]*Table1[[#This Row],[Price]]","v":1170}]
["2012-04-05",2012,4,"USA","Workstations ","SUN BLADE 1500 WORKSTATION BASE SUN B1500",2,378,{"$f":"Table1[[#This Row],[Count]]*Table1[[#This Row],[Price]]","v":756}]
["2012-04-05",2012,4,"Spain","Workstations ","CLOUD COMPUTER THIN STATION FL300",4,390,{"$f":"Table1[[#This Row],[Count]]*Table1[[#This Row],[Price]]","v":1560}]
["2012-04-05",2012,4,"USA","Tablet PCs","GOOWEEL Q88 PRO A23 DUAL CORE TABLET PC",1,198,{"$f":"Table1[[#This Row],[Count]]*Table1[[#This Row],[Price]]","v":198}]
["2012-04-06",2012,4,"USA","Tablet PCs","7 INCH DUAL CORE ANDROID TABLET PC Q88",3,210,{"$f":"Table1[[#This Row],[Count]]*Table1[[#This Row],[Price]]","v":630}]
["2012-04-06",2012,4,"Macedonia","Laptops","VIA 8850 ANDROID 4.0",1,282,{"$f":"Table1[[#This Row],[Count]]*Table1[[#This Row],[Price]]","v":282}]
["2012-04-06",2012,4,"Hungary","Tablet PCs","10 INCH TABLET HIGH QUALITY TABLET 1GB",3,174,{"$f":"Table1[[#This Row],[Count]]*Table1[[#This Row],[Price]]","v":522}]
["2012-04-06",2012,4,"USA","Tablet PCs","ONDA V975M TABLET PC",1,150,{"$f":"Table1[[#This Row],[Count]]*Table1[[#This Row],[Price]]","v":150}]
["2012-04-07",2012,4,"USA","Tablet PCs","TABLET 10-INCH QUAD-CORE A9",2,162,{"$f":"Table1[[#This Row],[Count]]*Table1[[#This Row],[Price]]","v":324}]
["2012-04-07",2012,4,"USA","Tablet PCs","PIPO M6 PRO 9.7 INCH 3G TABLET PC",3,186,{"$f":"Table1[[#This Row],[Count]]*Table1[[#This Row],[Price]]","v":558}]
["2012-04-07",2012,4,"Germany","Laptops","THINKPAD E445",2,222,{"$f":"Table1[[#This Row],[Count]]*Table1[[#This Row],[Price]]","v":444}]
["2012-04-07",2012,4,"Macedonia","Tablet PCs","GOOWEEL Q88 PRO A23 DUAL CORE TABLET PC",5,198,{"$f":"Table1[[#This Row],[Count]]*Table1[[#This Row],[Price]]","v":990}]
["2012-04-08",2012,4,"Greece","Tablet PCs","GOOWEEL Q88 PRO A23 DUAL CORE TABLET PC",4,198,{"$f":"Table1[[#This Row],[Count]]*Table1[[#This Row],[Price]]","v":792}]
["2012-04-08",2012,4,"USA","Tablet PCs","PIPO M6 PRO 9.7 INCH 3G TABLET PC",2,186,{"$f":"Table1[[#This Row],[Count]]*Table1[[#This Row],[Price]]","v":372}]
["2012-04-08",2012,4,"Australia","Laptops","THINKPAD T440S",5,258,{"$f":"Table1[[#This Row],[Count]]*Table1[[#This Row],[Price]]","v":1290}]
["2012-04-08",2012,4,"Slovenia","Workstations ","CLOUD COMPUTER THIN STATION FL300",5,390,{"$f":"Table1[[#This Row],[Count]]*Table1[[#This Row],[Price]]","v":1950}]
["2012-04-09",2012,4,"Australia","Laptops","THINKPAD T440S",2,258,{"$f":"Table1[[#This Row],[Count]]*Table1[[#This Row],[Price]]","v":516}]
["2012-04-09",2012,4,"USA","Camera & Photo","D3200 DIGITAL SLR",2,306,{"$f":"Table1[[#This Row],[Count]]*Table1[[#This Row],[Price]]","v":612}]
["2012-04-09",2012,4,"Poland","Camera & Photo","D3200 DIGITAL SLR",2,306,{"$f":"Table1[[#This Row],[Count]]*Table1[[#This Row],[Price]]","v":612}]
["2012-04-09",2012,4,"USA","Workstations ","HIGH PERFORMANCE 4U LCD WORKSTATION C",4,366,{"$f":"Table1[[#This Row],[Count]]*Table1[[#This Row],[Price]]","v":1464}]
["2012-04-10",2012,4,"Slovakia","Tablet PCs","7 INCH DUAL CORE ANDROID TABLET PC Q88",5,210,{"$f":"Table1[[#This Row],[Count]]*Table1[[#This Row],[Price]]","v":1050}]
["2012-04-10",2012,4,"Monaco","Tablet PCs","7 INCH DUAL CORE ANDROID TABLET PC Q88",4,210,{"$f":"Table1[[#This Row],[Count]]*Table1[[#This Row],[Price]]","v":840}]
["2012-04-10",2012,4,"Slovenia","Workstations ","I7 MINI PC WITH HDMI QOTOM-T620",4,342,{"$f":"Table1[[#This Row],[Count]]*Table1[[#This Row],[Price]]","v":1368}]
["2012-04-10",2012,4,"Finland","Tablet PCs","GOOWEEL Q88 PRO A23 DUAL CORE TABLET PC",4,198,{"$f":"Table1[[#This Row],[Count]]*Table1[[#This Row],[Price]]","v":792}]
["2012-04-11",2012,4,"Moldova","Laptops","VIA 8850 ANDROID 4.0",1,282,{"$f":"Table1[[#This Row],[Count]]*Table1[[#This Row],[Price]]","v":282}]
["2012-04-11",2012,4,"Portugal","Tablet PCs","ONDA V975M TABLET PC",4,150,{"$f":"Table1[[#This Row],[Count]]*Table1[[#This Row],[Price]]","v":600}]
["2012-04-11",2012,4,"USA","Workstations ","HZONE NCOMPUTING L230",5,354,{"$f":"Table1[[#This Row],[Count]]*Table1[[#This Row],[Price]]","v":1770}]
["2012-04-11",2012,4,"USA","Laptops","14.1\" AIR LAPTOP INTEL D2500",1,270,{"$f":"Table1[[#This Row],[Count]]*Table1[[#This Row],[Price]]","v":270}]
["2012-04-12",2012,4,"USA","Laptops","THINKPAD E445",2,222,{"$f":"Table1[[#This Row],[Count]]*Table1[[#This Row],[Price]]","v":444}]
["2012-04-12",2012,4,"Malta","Tablet PCs","7 INCH DUAL CORE ANDROID TABLET PC Q88",1,210,{"$f":"Table1[[#This Row],[Count]]*Table1[[#This Row],[Price]]","v":210}]
["2012-04-12",2012,4,"USA","Tablet PCs","ONDA V975M TABLET PC",4,150,{"$f":"Table1[[#This Row],[Count]]*Table1[[#This Row],[Price]]","v":600}]
["2012-04-12",2012,4,"USA","Workstations ","HZONE NCOMPUTING L230",4,354,{"$f":"Table1[[#This Row],[Count]]*Table1[[#This Row],[Price]]","v":1416}]
["2012-04-13",2012,4,"Australia","Workstations ","HIGH PERFORMANCE 4U LCD WORKSTATION C",3,366,{"$f":"Table1[[#This Row],[Count]]*Table1[[#This Row],[Price]]","v":1098}]
["2012-04-13",2012,4,"Germany","Camera & Photo","D3200 DIGITAL SLR",3,306,{"$f":"Table1[[#This Row],[Count]]*Table1[[#This Row],[Price]]","v":918}]
["2012-04-13",2012,4,"Switzerland","Tablet PCs","10 INCH TABLET HIGH QUALITY TABLET 1GB",3,174,{"$f":"Table1[[#This Row],[Count]]*Table1[[#This Row],[Price]]","v":522}]
["2012-04-13",2012,4,"Italy","Tablet PCs","10 INCH TABLET HIGH QUALITY TABLET 1GB",4,174,{"$f":"Table1[[#This Row],[Count]]*Table1[[#This Row],[Price]]","v":696}]
["2012-04-14",2012,4,"USA","Tablet PCs","GOOWEEL Q88 PRO A23 DUAL CORE TABLET PC",1,198,{"$f":"Table1[[#This Row],[Count]]*Table1[[#This Row],[Price]]","v":198}]
["2012-04-14",2012,4,"USA","Laptops","THINKPAD E445",2,222,{"$f":"Table1[[#This Row],[Count]]*Table1[[#This Row],[Price]]","v":444}]
["2012-04-14",2012,4,"Slovakia","Workstations ","SUN BLADE 1500 WORKSTATION BASE SUN B1500",3,378,{"$f":"Table1[[#This Row],[Count]]*Table1[[#This Row],[Price]]","v":1134}]
["2012-04-14",2012,4,"Sweden","Workstations ","I7 MINI PC WITH HDMI QOTOM-T620",1,342,{"$f":"Table1[[#This Row],[Count]]*Table1[[#This Row],[Price]]","v":342}]
["2012-04-15",2012,4,"Denmark","Tablet PCs","ONDA V975M TABLET PC",3,150,{"$f":"Table1[[#This Row],[Count]]*Table1[[#This Row],[Price]]","v":450}]
["2012-04-15",2012,4,"Georgia","Camera & Photo","SONY CYBERSHOT H200",5,318,{"$f":"Table1[[#This Row],[Count]]*Table1[[#This Row],[Price]]","v":1590}]
["2012-04-15",2012,4,"Sweden","Tablet PCs","GOOWEEL Q88 PRO A23 DUAL CORE TABLET PC",4,198,{"$f":"Table1[[#This Row],[Count]]*Table1[[#This Row],[Price]]","v":792}]
["2012-04-15",2012,4,"Belarus","Tablet PCs","GOOWEEL Q88 PRO A23 DUAL CORE TABLET PC",3,198,{"$f":"Table1[[#This Row],[Count]]*Table1[[#This Row],[Price]]","v":594}]
["2012-04-16",2012,4,"USA","Camera & Photo","D3000 DIGITAL SLR",3,294,{"$f":"Table1[[#This Row],[Count]]*Table1[[#This Row],[Price]]","v":882}]
["2012-04-16",2012,4,"Serbien und Montenegro","Tablet PCs","7 INCH DUAL CORE ANDROID TABLET PC Q88",1,210,{"$f":"Table1[[#This Row],[Count]]*Table1[[#This Row],[Price]]","v":210}]
["2012-04-16",2012,4,"Netherlands","Workstations ","HZONE NCOMPUTING L230",1,354,{"$f":"Table1[[#This Row],[Count]]*Table1[[#This Row],[Price]]","v":354}]
["2012-04-16",2012,4,"Sweden","Laptops","THINKPAD T440S",2,258,{"$f":"Table1[[#This Row],[Count]]*Table1[[#This Row],[Price]]","v":516}]
["2012-04-17",2012,4,"Ukraine","Laptops","14INCH ULTRABOOK",3,234,{"$f":"Table1[[#This Row],[Count]]*Table1[[#This Row],[Price]]","v":702}]
["2012-04-17",2012,4,"USA","Camera & Photo","SONY CYBERSHOT H200",2,318,{"$f":"Table1[[#This Row],[Count]]*Table1[[#This Row],[Price]]","v":636}]
["2012-04-17",2012,4,"Poland","Laptops","VIA 8850 ANDROID 4.0",3,282,{"$f":"Table1[[#This Row],[Count]]*Table1[[#This Row],[Price]]","v":846}]
["2012-04-17",2012,4,"Netherlands","Camera & Photo","D3200 DIGITAL SLR",1,306,{"$f":"Table1[[#This Row],[Count]]*Table1[[#This Row],[Price]]","v":306}]
["2012-04-18",2012,4,"USA","Tablet PCs","TABLET 10-INCH QUAD-CORE A9",5,162,{"$f":"Table1[[#This Row],[Count]]*Table1[[#This Row],[Price]]","v":810}]
["2012-04-18",2012,4,"Australia","Workstations ","SUN BLADE 1500 WORKSTATION BASE SUN B1500",4,378,{"$f":"Table1[[#This Row],[Count]]*Table1[[#This Row],[Price]]","v":1512}]
["2012-04-18",2012,4,"Liechtenstein","Tablet PCs","ONDA V975M TABLET PC",3,150,{"$f":"Table1[[#This Row],[Count]]*Table1[[#This Row],[Price]]","v":450}]
["2012-04-18",2012,4,"USA","Laptops","THINKPAD E445",2,222,{"$f":"Table1[[#This Row],[Count]]*Table1[[#This Row],[Price]]","v":444}]
["2012-04-19",2012,4,"USA","Camera & Photo","D3200 DIGITAL SLR",4,306,{"$f":"Table1[[#This Row],[Count]]*Table1[[#This Row],[Price]]","v":1224}]
["2012-04-19",2012,4,"USA","Camera & Photo","FUJIFILM FINEPIX SL1000",2,330,{"$f":"Table1[[#This Row],[Count]]*Table1[[#This Row],[Price]]","v":660}]
["2012-04-19",2012,4,"Luxembourg","Tablet PCs","PIPO M6 PRO 9.7 INCH 3G TABLET PC",3,186,{"$f":"Table1[[#This Row],[Count]]*Table1[[#This Row],[Price]]","v":558}]
["2012-04-19",2012,4,"Romania","Laptops","THINKPAD E445",4,222,{"$f":"Table1[[#This Row],[Count]]*Table1[[#This Row],[Price]]","v":888}]
["2012-04-20",2012,4,"USA","Laptops","VIA 8850 ANDROID 4.0",3,282,{"$f":"Table1[[#This Row],[Count]]*Table1[[#This Row],[Price]]","v":846}]
["2012-04-20",2012,4,"Germany","Tablet PCs","PIPO M6 PRO 9.7 INCH 3G TABLET PC",5,186,{"$f":"Table1[[#This Row],[Count]]*Table1[[#This Row],[Price]]","v":930}]
["2012-04-20",2012,4,"Spain","Tablet PCs","ONDA V975M TABLET PC",5,150,{"$f":"Table1[[#This Row],[Count]]*Table1[[#This Row],[Price]]","v":750}]
["2012-04-20",2012,4,"Romania","Laptops","14.1\" AIR LAPTOP INTEL D2500",4,270,{"$f":"Table1[[#This Row],[Count]]*Table1[[#This Row],[Price]]","v":1080}]
["2012-04-21",2012,4,"Lithuania","Laptops","Y10D 10 INCH VIA 8880",1,246,{"$f":"Table1[[#This Row],[Count]]*Table1[[#This Row],[Price]]","v":246}]
["2012-04-21",2012,4,"USA","Tablet PCs","10 INCH TABLET HIGH QUALITY TABLET 1GB",3,174,{"$f":"Table1[[#This Row],[Count]]*Table1[[#This Row],[Price]]","v":522}]
["2012-04-21",2012,4,"Lithuania","Laptops","14INCH ULTRABOOK",4,234,{"$f":"Table1[[#This Row],[Count]]*Table1[[#This Row],[Price]]","v":936}]
["2012-04-21",2012,4,"USA","Tablet PCs","10 INCH TABLET HIGH QUALITY TABLET 1GB",4,174,{"$f":"Table1[[#This Row],[Count]]*Table1[[#This Row],[Price]]","v":696}]
["2012-04-22",2012,4,"USA","Camera & Photo","SONY CYBERSHOT H200",5,318,{"$f":"Table1[[#This Row],[Count]]*Table1[[#This Row],[Price]]","v":1590}]
["2012-04-22",2012,4,"USA","Workstations ","I7 MINI PC WITH HDMI QOTOM-T620",1,342,{"$f":"Table1[[#This Row],[Count]]*Table1[[#This Row],[Price]]","v":342}]
["2012-04-22",2012,4,"USA","Laptops","14INCH ULTRABOOK",1,234,{"$f":"Table1[[#This Row],[Count]]*Table1[[#This Row],[Price]]","v":234}]
["2012-04-22",2012,4,"USA","Tablet PCs","ONDA V975M TABLET PC",2,150,{"$f":"Table1[[#This Row],[Count]]*Table1[[#This Row],[Price]]","v":300}]
["2012-04-23",2012,4,"Bosnia And Herzegovina","Workstations ","SUN BLADE 1500 WORKSTATION BASE SUN B1500",3,378,{"$f":"Table1[[#This Row],[Count]]*Table1[[#This Row],[Price]]","v":1134}]
["2012-04-23",2012,4,"USA","Tablet PCs","GOOWEEL Q88 PRO A23 DUAL CORE TABLET PC",4,198,{"$f":"Table1[[#This Row],[Count]]*Table1[[#This Row],[Price]]","v":792}]
["2012-04-23",2012,4,"USA","Tablet PCs","TABLET 10-INCH QUAD-CORE A9",5,162,{"$f":"Table1[[#This Row],[Count]]*Table1[[#This Row],[Price]]","v":810}]
["2012-04-23",2012,4,"USA","Tablet PCs","7 INCH DUAL CORE ANDROID TABLET PC Q88",4,210,{"$f":"Table1[[#This Row],[Count]]*Table1[[#This Row],[Price]]","v":840}]
["2012-04-24",2012,4,"Australia","Laptops","THINKPAD T440S",3,258,{"$f":"Table1[[#This Row],[Count]]*Table1[[#This Row],[Price]]","v":774}]
["2012-04-24",2012,4,"Luxembourg","Laptops","14.1\" AIR LAPTOP INTEL D2500",1,270,{"$f":"Table1[[#This Row],[Count]]*Table1[[#This Row],[Price]]","v":270}]
["2012-04-24",2012,4,"Belarus","Workstations ","HZONE NCOMPUTING L230",5,354,{"$f":"Table1[[#This Row],[Count]]*Table1[[#This Row],[Price]]","v":1770}]
["2012-04-24",2012,4,"USA","Workstations ","HZONE NCOMPUTING L230",5,354,{"$f":"Table1[[#This Row],[Count]]*Table1[[#This Row],[Price]]","v":1770}]
["2012-04-25",2012,4,"Hungary","Laptops","THINKPAD T440S",2,258,{"$f":"Table1[[#This Row],[Count]]*Table1[[#This Row],[Price]]","v":516}]
["2012-04-25",2012,4,"USA","Workstations ","CLOUD COMPUTER THIN STATION FL300",3,390,{"$f":"Table1[[#This Row],[Count]]*Table1[[#This Row],[Price]]","v":1170}]
["2012-04-25",2012,4,"Ireland","Workstations ","SUN BLADE 1500 WORKSTATION BASE SUN B1500",1,378,{"$f":"Table1[[#This Row],[Count]]*Table1[[#This Row],[Price]]","v":378}]
["2012-04-25",2012,4,"USA","Tablet PCs","7 INCH DUAL CORE ANDROID TABLET PC Q88",5,210,{"$f":"Table1[[#This Row],[Count]]*Table1[[#This Row],[Price]]","v":1050}]
["2012-04-26",2012,4,"Albania","Tablet PCs","10 INCH TABLET HIGH QUALITY TABLET 1GB",5,174,{"$f":"Table1[[#This Row],[Count]]*Table1[[#This Row],[Price]]","v":870}]
["2012-04-26",2012,4,"Sweden","Camera & Photo","FUJIFILM FINEPIX SL1000",2,330,{"$f":"Table1[[#This Row],[Count]]*Table1[[#This Row],[Price]]","v":660}]
["2012-04-26",2012,4,"Hungary","Tablet PCs","PIPO M6 PRO 9.7 INCH 3G TABLET PC",3,186,{"$f":"Table1[[#This Row],[Count]]*Table1[[#This Row],[Price]]","v":558}]
["2012-04-26",2012,4,"Moldova","Laptops","THINKPAD T440S",5,258,{"$f":"Table1[[#This Row],[Count]]*Table1[[#This Row],[Price]]","v":1290}]
["2012-04-27",2012,4,"USA","Laptops","14.1\" AIR LAPTOP INTEL D2500",3,270,{"$f":"Table1[[#This Row],[Count]]*Table1[[#This Row],[Price]]","v":810}]
["2012-04-27",2012,4,"Australia","Camera & Photo","FUJIFILM FINEPIX SL1000",1,330,{"$f":"Table1[[#This Row],[Count]]*Table1[[#This Row],[Price]]","v":330}]
["2012-04-27",2012,4,"Lithuania","Camera & Photo","SONY CYBERSHOT H200",3,318,{"$f":"Table1[[#This Row],[Count]]*Table1[[#This Row],[Price]]","v":954}]
["2012-04-27",2012,4,"USA","Laptops","THINKPAD T440S",4,258,{"$f":"Table1[[#This Row],[Count]]*Table1[[#This Row],[Price]]","v":1032}]
["2012-04-28",2012,4,"Finland","Tablet PCs","TABLET 10-INCH QUAD-CORE A9",2,162,{"$f":"Table1[[#This Row],[Count]]*Table1[[#This Row],[Price]]","v":324}]
["2012-04-28",2012,4,"USA","Workstations ","HIGH PERFORMANCE 4U LCD WORKSTATION C",3,366,{"$f":"Table1[[#This Row],[Count]]*Table1[[#This Row],[Price]]","v":1098}]
["2012-04-28",2012,4,"USA","Laptops","THINKPAD E445",4,222,{"$f":"Table1[[#This Row],[Count]]*Table1[[#This Row],[Price]]","v":888}]
["2012-04-28",2012,4,"Netherlands","Laptops","Y10D 10 INCH VIA 8880",2,246,{"$f":"Table1[[#This Row],[Count]]*Table1[[#This Row],[Price]]","v":492}]
["2012-04-29",2012,4,"Montenegro","Tablet PCs","GOOWEEL Q88 PRO A23 DUAL CORE TABLET PC",2,198,{"$f":"Table1[[#This Row],[Count]]*Table1[[#This Row],[Price]]","v":396}]
["2012-04-29",2012,4,"Macedonia","Camera & Photo","SONY CYBERSHOT H200",2,318,{"$f":"Table1[[#This Row],[Count]]*Table1[[#This Row],[Price]]","v":636}]
["2012-04-29",2012,4,"USA","Tablet PCs","GOOWEEL Q88 PRO A23 DUAL CORE TABLET PC",3,198,{"$f":"Table1[[#This Row],[Count]]*Table1[[#This Row],[Price]]","v":594}]
["2012-04-29",2012,4,"USA","Camera & Photo","SONY CYBERSHOT H200",3,318,{"$f":"Table1[[#This Row],[Count]]*Table1[[#This Row],[Price]]","v":954}]
["2012-04-30",2012,4,"Norway","Tablet PCs","TABLET 10-INCH QUAD-CORE A9",5,162,{"$f":"Table1[[#This Row],[Count]]*Table1[[#This Row],[Price]]","v":810}]
["2012-04-30",2012,4,"USA","Laptops","THINKPAD T440S",3,258,{"$f":"Table1[[#This Row],[Count]]*Table1[[#This Row],[Price]]","v":774}]
["2012-04-30",2012,4,"USA","Camera & Photo","FUJIFILM FINEPIX SL1000",1,330,{"$f":"Table1[[#This Row],[Count]]*Table1[[#This Row],[Price]]","v":330}]
["2012-04-30",2012,4,"USA","Camera & Photo","D3000 DIGITAL SLR",4,294,{"$f":"Table1[[#This Row],[Count]]*Table1[[#This Row],[Price]]","v":1176}]
["2012-05-01",2012,5,"Croatia","Workstations ","HZONE NCOMPUTING L230",1,354,{"$f":"Table1[[#This Row],[Count]]*Table1[[#This Row],[Price]]","v":354}]
["2012-05-01",2012,5,"Lithuania","Laptops","14.1\" AIR LAPTOP INTEL D2500",1,270,{"$f":"Table1[[#This Row],[Count]]*Table1[[#This Row],[Price]]","v":270}]
["2012-05-01",2012,5,"United Kingdom","Tablet PCs","ONDA V975M TABLET PC",2,150,{"$f":"Table1[[#This Row],[Count]]*Table1[[#This Row],[Price]]","v":300}]
["2012-05-01",2012,5,"Poland","Laptops","14.1\" AIR LAPTOP INTEL D2500",1,270,{"$f":"Table1[[#This Row],[Count]]*Table1[[#This Row],[Price]]","v":270}]
["2012-05-02",2012,5,"Hungary","Workstations ","HZONE NCOMPUTING L230",1,354,{"$f":"Table1[[#This Row],[Count]]*Table1[[#This Row],[Price]]","v":354}]
["2012-05-02",2012,5,"Slovenia","Tablet PCs","7 INCH DUAL CORE ANDROID TABLET PC Q88",4,210,{"$f":"Table1[[#This Row],[Count]]*Table1[[#This Row],[Price]]","v":840}]
["2012-05-02",2012,5,"USA","Tablet PCs","GOOWEEL Q88 PRO A23 DUAL CORE TABLET PC",1,198,{"$f":"Table1[[#This Row],[Count]]*Table1[[#This Row],[Price]]","v":198}]
["2012-05-02",2012,5,"USA","Tablet PCs","TABLET 10-INCH QUAD-CORE A9",2,162,{"$f":"Table1[[#This Row],[Count]]*Table1[[#This Row],[Price]]","v":324}]
["2012-05-03",2012,5,"Denmark","Tablet PCs","7 INCH DUAL CORE ANDROID TABLET PC Q88",5,210,{"$f":"Table1[[#This Row],[Count]]*Table1[[#This Row],[Price]]","v":1050}]
["2012-05-03",2012,5,"Switzerland","Camera & Photo","D3200 DIGITAL SLR",5,306,{"$f":"Table1[[#This Row],[Count]]*Table1[[#This Row],[Price]]","v":1530}]
["2012-05-03",2012,5,"USA","Tablet PCs","PIPO M6 PRO 9.7 INCH 3G TABLET PC",3,186,{"$f":"Table1[[#This Row],[Count]]*Table1[[#This Row],[Price]]","v":558}]
["2012-05-03",2012,5,"Romania","Camera & Photo","SONY CYBERSHOT H200",3,318,{"$f":"Table1[[#This Row],[Count]]*Table1[[#This Row],[Price]]","v":954}]
["2012-05-04",2012,5,"Belgium","Laptops","14INCH ULTRABOOK",1,234,{"$f":"Table1[[#This Row],[Count]]*Table1[[#This Row],[Price]]","v":234}]
["2012-05-04",2012,5,"USA","Laptops","Y10D 10 INCH VIA 8880",1,246,{"$f":"Table1[[#This Row],[Count]]*Table1[[#This Row],[Price]]","v":246}]
["2012-05-04",2012,5,"Spain","Laptops","14.1\" AIR LAPTOP INTEL D2500",1,270,{"$f":"Table1[[#This Row],[Count]]*Table1[[#This Row],[Price]]","v":270}]
["2012-05-04",2012,5,"USA","Tablet PCs","PIPO M6 PRO 9.7 INCH 3G TABLET PC",1,186,{"$f":"Table1[[#This Row],[Count]]*Table1[[#This Row],[Price]]","v":186}]
["2012-05-05",2012,5,"Andorra","Workstations ","I7 MINI PC WITH HDMI QOTOM-T620",2,342,{"$f":"Table1[[#This Row],[Count]]*Table1[[#This Row],[Price]]","v":684}]
["2012-05-05",2012,5,"Czech Republic","Tablet PCs","7 INCH DUAL CORE ANDROID TABLET PC Q88",3,210,{"$f":"Table1[[#This Row],[Count]]*Table1[[#This Row],[Price]]","v":630}]
["2012-05-05",2012,5,"USA","Camera & Photo","D3200 DIGITAL SLR",3,306,{"$f":"Table1[[#This Row],[Count]]*Table1[[#This Row],[Price]]","v":918}]
["2012-05-05",2012,5,"Greece","Laptops","14INCH ULTRABOOK",3,234,{"$f":"Table1[[#This Row],[Count]]*Table1[[#This Row],[Price]]","v":702}]
["2012-05-06",2012,5,"Bulgaria","Camera & Photo","D3000 DIGITAL SLR",1,294,{"$f":"Table1[[#This Row],[Count]]*Table1[[#This Row],[Price]]","v":294}]
["2012-05-06",2012,5,"Monaco","Tablet PCs","7 INCH DUAL CORE ANDROID TABLET PC Q88",5,210,{"$f":"Table1[[#This Row],[Count]]*Table1[[#This Row],[Price]]","v":1050}]
["2012-05-06",2012,5,"Germany","Tablet PCs","ONDA V975M TABLET PC",1,150,{"$f":"Table1[[#This Row],[Count]]*Table1[[#This Row],[Price]]","v":150}]
["2012-05-06",2012,5,"Estonia","Tablet PCs","10 INCH TABLET HIGH QUALITY TABLET 1GB",3,174,{"$f":"Table1[[#This Row],[Count]]*Table1[[#This Row],[Price]]","v":522}]
["2012-05-07",2012,5,"Estonia","Tablet PCs","PIPO M6 PRO 9.7 INCH 3G TABLET PC",3,186,{"$f":"Table1[[#This Row],[Count]]*Table1[[#This Row],[Price]]","v":558}]
["2012-05-07",2012,5,"Switzerland","Camera & Photo","FUJIFILM FINEPIX SL1000",3,330,{"$f":"Table1[[#This Row],[Count]]*Table1[[#This Row],[Price]]","v":990}]
["2012-05-07",2012,5,"Andorra","Laptops","VIA 8850 ANDROID 4.0",1,282,{"$f":"Table1[[#This Row],[Count]]*Table1[[#This Row],[Price]]","v":282}]
["2012-05-07",2012,5,"USA","Tablet PCs","7 INCH DUAL CORE ANDROID TABLET PC Q88",5,210,{"$f":"Table1[[#This Row],[Count]]*Table1[[#This Row],[Price]]","v":1050}]
["2012-05-08",2012,5,"USA","Laptops","Y10D 10 INCH VIA 8880",4,246,{"$f":"Table1[[#This Row],[Count]]*Table1[[#This Row],[Price]]","v":984}]
["2012-05-08",2012,5,"Macedonia","Camera & Photo","FUJIFILM FINEPIX SL1000",4,330,{"$f":"Table1[[#This Row],[Count]]*Table1[[#This Row],[Price]]","v":1320}]
["2012-05-08",2012,5,"USA","Camera & Photo","D3200 DIGITAL SLR",3,306,{"$f":"Table1[[#This Row],[Count]]*Table1[[#This Row],[Price]]","v":918}]
["2012-05-08",2012,5,"USA","Laptops","THINKPAD E445",4,222,{"$f":"Table1[[#This Row],[Count]]*Table1[[#This Row],[Price]]","v":888}]
["2012-05-09",2012,5,"Greece","Workstations ","HZONE NCOMPUTING L230",1,354,{"$f":"Table1[[#This Row],[Count]]*Table1[[#This Row],[Price]]","v":354}]
["2012-05-09",2012,5,"USA","Tablet PCs","7 INCH DUAL CORE ANDROID TABLET PC Q88",2,210,{"$f":"Table1[[#This Row],[Count]]*Table1[[#This Row],[Price]]","v":420}]
["2012-05-09",2012,5,"Belarus","Workstations ","CLOUD COMPUTER THIN STATION FL300",4,390,{"$f":"Table1[[#This Row],[Count]]*Table1[[#This Row],[Price]]","v":1560}]
["2012-05-09",2012,5,"USA","Camera & Photo","SONY CYBERSHOT H200",2,318,{"$f":"Table1[[#This Row],[Count]]*Table1[[#This Row],[Price]]","v":636}]
["2012-05-10",2012,5,"USA","Camera & Photo","D3000 DIGITAL SLR",5,294,{"$f":"Table1[[#This Row],[Count]]*Table1[[#This Row],[Price]]","v":1470}]
["2012-05-10",2012,5,"Montenegro","Workstations ","HZONE NCOMPUTING L230",2,354,{"$f":"Table1[[#This Row],[Count]]*Table1[[#This Row],[Price]]","v":708}]
["2012-05-10",2012,5,"USA","Workstations ","HIGH PERFORMANCE 4U LCD WORKSTATION C",2,366,{"$f":"Table1[[#This Row],[Count]]*Table1[[#This Row],[Price]]","v":732}]
["2012-05-10",2012,5,"Bosnia And Herzegovina","Laptops","Y10D 10 INCH VIA 8880",5,246,{"$f":"Table1[[#This Row],[Count]]*Table1[[#This Row],[Price]]","v":1230}]
["2012-05-11",2012,5,"USA","Camera & Photo","FUJIFILM FINEPIX SL1000",2,330,{"$f":"Table1[[#This Row],[Count]]*Table1[[#This Row],[Price]]","v":660}]
["2012-05-11",2012,5,"USA","Camera & Photo","D3200 DIGITAL SLR",1,306,{"$f":"Table1[[#This Row],[Count]]*Table1[[#This Row],[Price]]","v":306}]
["2012-05-11",2012,5,"Spain","Workstations ","SUN BLADE 1500 WORKSTATION BASE SUN B1500",4,378,{"$f":"Table1[[#This Row],[Count]]*Table1[[#This Row],[Price]]","v":1512}]
["2012-05-11",2012,5,"Ireland","Tablet PCs","PIPO M6 PRO 9.7 INCH 3G TABLET PC",1,186,{"$f":"Table1[[#This Row],[Count]]*Table1[[#This Row],[Price]]","v":186}]
["2012-05-12",2012,5,"USA","Camera & Photo","D3000 DIGITAL SLR",4,294,{"$f":"Table1[[#This Row],[Count]]*Table1[[#This Row],[Price]]","v":1176}]
["2012-05-12",2012,5,"Germany","Laptops","THINKPAD T440S",3,258,{"$f":"Table1[[#This Row],[Count]]*Table1[[#This Row],[Price]]","v":774}]
["2012-05-12",2012,5,"Slovenia","Laptops","Y10D 10 INCH VIA 8880",1,246,{"$f":"Table1[[#This Row],[Count]]*Table1[[#This Row],[Price]]","v":246}]
["2012-05-12",2012,5,"Slovakia","Camera & Photo","D3000 DIGITAL SLR",3,294,{"$f":"Table1[[#This Row],[Count]]*Table1[[#This Row],[Price]]","v":882}]
["2012-05-13",2012,5,"USA","Camera & Photo","D3200 DIGITAL SLR",4,306,{"$f":"Table1[[#This Row],[Count]]*Table1[[#This Row],[Price]]","v":1224}]
["2012-05-13",2012,5,"Germany","Workstations ","SUN BLADE 1500 WORKSTATION BASE SUN B1500",4,378,{"$f":"Table1[[#This Row],[Count]]*Table1[[#This Row],[Price]]","v":1512}]
["2012-05-13",2012,5,"USA","Tablet PCs","10 INCH TABLET HIGH QUALITY TABLET 1GB",1,174,{"$f":"Table1[[#This Row],[Count]]*Table1[[#This Row],[Price]]","v":174}]
["2012-05-13",2012,5,"Albania","Laptops","14INCH ULTRABOOK",2,234,{"$f":"Table1[[#This Row],[Count]]*Table1[[#This Row],[Price]]","v":468}]
["2012-05-14",2012,5,"USA","Workstations ","HZONE NCOMPUTING L230",4,354,{"$f":"Table1[[#This Row],[Count]]*Table1[[#This Row],[Price]]","v":1416}]
["2012-05-14",2012,5,"Switzerland","Workstations ","SUN BLADE 1500 WORKSTATION BASE SUN B1500",2,378,{"$f":"Table1[[#This Row],[Count]]*Table1[[#This Row],[Price]]","v":756}]
["2012-05-14",2012,5,"Estonia","Tablet PCs","10 INCH TABLET HIGH QUALITY TABLET 1GB",4,174,{"$f":"Table1[[#This Row],[Count]]*Table1[[#This Row],[Price]]","v":696}]
["2012-05-14",2012,5,"Spain","Workstations ","I7 MINI PC WITH HDMI QOTOM-T620",4,342,{"$f":"Table1[[#This Row],[Count]]*Table1[[#This Row],[Price]]","v":1368}]
["2012-05-15",2012,5,"Moldova","Tablet PCs","TABLET 10-INCH QUAD-CORE A9",3,162,{"$f":"Table1[[#This Row],[Count]]*Table1[[#This Row],[Price]]","v":486}]
["2012-05-15",2012,5,"Montenegro","Tablet PCs","7 INCH DUAL CORE ANDROID TABLET PC Q88",4,210,{"$f":"Table1[[#This Row],[Count]]*Table1[[#This Row],[Price]]","v":840}]
["2012-05-15",2012,5,"USA","Workstations ","HIGH PERFORMANCE 4U LCD WORKSTATION C",2,366,{"$f":"Table1[[#This Row],[Count]]*Table1[[#This Row],[Price]]","v":732}]
["2012-05-15",2012,5,"USA","Tablet PCs","GOOWEEL Q88 PRO A23 DUAL CORE TABLET PC",1,198,{"$f":"Table1[[#This Row],[Count]]*Table1[[#This Row],[Price]]","v":198}]
["2012-05-16",2012,5,"USA","Workstations ","CLOUD COMPUTER THIN STATION FL300",3,390,{"$f":"Table1[[#This Row],[Count]]*Table1[[#This Row],[Price]]","v":1170}]
["2012-05-16",2012,5,"USA","Laptops","Y10D 10 INCH VIA 8880",5,246,{"$f":"Table1[[#This Row],[Count]]*Table1[[#This Row],[Price]]","v":1230}]
["2012-05-16",2012,5,"USA","Laptops","Y10D 10 INCH VIA 8880",2,246,{"$f":"Table1[[#This Row],[Count]]*Table1[[#This Row],[Price]]","v":492}]
["2012-05-16",2012,5,"Denmark","Laptops","THINKPAD T440S",2,258,{"$f":"Table1[[#This Row],[Count]]*Table1[[#This Row],[Price]]","v":516}]
["2012-05-17",2012,5,"Finland","Tablet PCs","GOOWEEL Q88 PRO A23 DUAL CORE TABLET PC",1,198,{"$f":"Table1[[#This Row],[Count]]*Table1[[#This Row],[Price]]","v":198}]
["2012-05-17",2012,5,"Liechtenstein","Laptops","Y10D 10 INCH VIA 8880",2,246,{"$f":"Table1[[#This Row],[Count]]*Table1[[#This Row],[Price]]","v":492}]
["2012-05-17",2012,5,"Czech Republic","Tablet PCs","10 INCH TABLET HIGH QUALITY TABLET 1GB",3,174,{"$f":"Table1[[#This Row],[Count]]*Table1[[#This Row],[Price]]","v":522}]
["2012-05-17",2012,5,"Serbien und Montenegro","Camera & Photo","SONY CYBERSHOT H200",2,318,{"$f":"Table1[[#This Row],[Count]]*Table1[[#This Row],[Price]]","v":636}]
["2012-05-18",2012,5,"Estonia","Tablet PCs","10 INCH TABLET HIGH QUALITY TABLET 1GB",2,174,{"$f":"Table1[[#This Row],[Count]]*Table1[[#This Row],[Price]]","v":348}]
["2012-05-18",2012,5,"USA","Tablet PCs","GOOWEEL Q88 PRO A23 DUAL CORE TABLET PC",3,198,{"$f":"Table1[[#This Row],[Count]]*Table1[[#This Row],[Price]]","v":594}]
["2012-05-18",2012,5,"USA","Workstations ","HIGH PERFORMANCE 4U LCD WORKSTATION C",1,366,{"$f":"Table1[[#This Row],[Count]]*Table1[[#This Row],[Price]]","v":366}]
["2012-05-18",2012,5,"USA","Camera & Photo","FUJIFILM FINEPIX SL1000",4,330,{"$f":"Table1[[#This Row],[Count]]*Table1[[#This Row],[Price]]","v":1320}]
["2012-05-19",2012,5,"Serbien und Montenegro","Workstations ","SUN BLADE 1500 WORKSTATION BASE SUN B1500",3,378,{"$f":"Table1[[#This Row],[Count]]*Table1[[#This Row],[Price]]","v":1134}]
["2012-05-19",2012,5,"USA","Laptops","THINKPAD T440S",1,258,{"$f":"Table1[[#This Row],[Count]]*Table1[[#This Row],[Price]]","v":258}]
["2012-05-19",2012,5,"France","Laptops","THINKPAD T440S",2,258,{"$f":"Table1[[#This Row],[Count]]*Table1[[#This Row],[Price]]","v":516}]
["2012-05-19",2012,5,"Monaco","Camera & Photo","D3000 DIGITAL SLR",1,294,{"$f":"Table1[[#This Row],[Count]]*Table1[[#This Row],[Price]]","v":294}]
["2012-05-20",2012,5,"Bulgaria","Camera & Photo","D3200 DIGITAL SLR",5,306,{"$f":"Table1[[#This Row],[Count]]*Table1[[#This Row],[Price]]","v":1530}]
["2012-05-20",2012,5,"Luxembourg","Laptops","VIA 8850 ANDROID 4.0",5,282,{"$f":"Table1[[#This Row],[Count]]*Table1[[#This Row],[Price]]","v":1410}]
["2012-05-20",2012,5,"USA","Tablet PCs","PIPO M6 PRO 9.7 INCH 3G TABLET PC",4,186,{"$f":"Table1[[#This Row],[Count]]*Table1[[#This Row],[Price]]","v":744}]
["2012-05-20",2012,5,"Germany","Workstations ","SUN BLADE 1500 WORKSTATION BASE SUN B1500",1,378,{"$f":"Table1[[#This Row],[Count]]*Table1[[#This Row],[Price]]","v":378}]
["2012-05-21",2012,5,"Australia","Laptops","THINKPAD T440S",4,258,{"$f":"Table1[[#This Row],[Count]]*Table1[[#This Row],[Price]]","v":1032}]
["2012-05-21",2012,5,"USA","Camera & Photo","D3000 DIGITAL SLR",1,294,{"$f":"Table1[[#This Row],[Count]]*Table1[[#This Row],[Price]]","v":294}]
["2012-05-21",2012,5,"Lithuania","Workstations ","CLOUD COMPUTER THIN STATION FL300",2,390,{"$f":"Table1[[#This Row],[Count]]*Table1[[#This Row],[Price]]","v":780}]
["2012-05-21",2012,5,"USA","Laptops","14.1\" AIR LAPTOP INTEL D2500",5,270,{"$f":"Table1[[#This Row],[Count]]*Table1[[#This Row],[Price]]","v":1350}]
["2012-05-22",2012,5,"Poland","Laptops","VIA 8850 ANDROID 4.0",2,282,{"$f":"Table1[[#This Row],[Count]]*Table1[[#This Row],[Price]]","v":564}]
["2012-05-22",2012,5,"Slovenia","Laptops","THINKPAD E445",5,222,{"$f":"Table1[[#This Row],[Count]]*Table1[[#This Row],[Price]]","v":1110}]
["2012-05-22",2012,5,"USA","Camera & Photo","FUJIFILM FINEPIX SL1000",2,330,{"$f":"Table1[[#This Row],[Count]]*Table1[[#This Row],[Price]]","v":660}]
["2012-05-22",2012,5,"USA","Laptops","Y10D 10 INCH VIA 8880",3,246,{"$f":"Table1[[#This Row],[Count]]*Table1[[#This Row],[Price]]","v":738}]
["2012-05-23",2012,5,"Bulgaria","Tablet PCs","TABLET 10-INCH QUAD-CORE A9",1,162,{"$f":"Table1[[#This Row],[Count]]*Table1[[#This Row],[Price]]","v":162}]
["2012-05-23",2012,5,"Luxembourg","Camera & Photo","D3000 DIGITAL SLR",1,294,{"$f":"Table1[[#This Row],[Count]]*Table1[[#This Row],[Price]]","v":294}]
["2012-05-23",2012,5,"USA","Tablet PCs","GOOWEEL Q88 PRO A23 DUAL CORE TABLET PC",3,198,{"$f":"Table1[[#This Row],[Count]]*Table1[[#This Row],[Price]]","v":594}]
["2012-05-23",2012,5,"USA","Workstations ","HIGH PERFORMANCE 4U LCD WORKSTATION C",4,366,{"$f":"Table1[[#This Row],[Count]]*Table1[[#This Row],[Price]]","v":1464}]
["2012-05-24",2012,5,"Belarus","Camera & Photo","SONY CYBERSHOT H200",1,318,{"$f":"Table1[[#This Row],[Count]]*Table1[[#This Row],[Price]]","v":318}]
["2012-05-24",2012,5,"USA","Camera & Photo","D3000 DIGITAL SLR",2,294,{"$f":"Table1[[#This Row],[Count]]*Table1[[#This Row],[Price]]","v":588}]
["2012-05-24",2012,5,"Greece","Laptops","Y10D 10 INCH VIA 8880",4,246,{"$f":"Table1[[#This Row],[Count]]*Table1[[#This Row],[Price]]","v":984}]
["2012-05-24",2012,5,"USA","Camera & Photo","D3000 DIGITAL SLR",2,294,{"$f":"Table1[[#This Row],[Count]]*Table1[[#This Row],[Price]]","v":588}]
["2012-05-25",2012,5,"USA","Tablet PCs","TABLET 10-INCH QUAD-CORE A9",4,162,{"$f":"Table1[[#This Row],[Count]]*Table1[[#This Row],[Price]]","v":648}]
["2012-05-25",2012,5,"USA","Tablet PCs","PIPO M6 PRO 9.7 INCH 3G TABLET PC",3,186,{"$f":"Table1[[#This Row],[Count]]*Table1[[#This Row],[Price]]","v":558}]
["2012-05-25",2012,5,"USA","Laptops","Y10D 10 INCH VIA 8880",4,246,{"$f":"Table1[[#This Row],[Count]]*Table1[[#This Row],[Price]]","v":984}]
["2012-05-25",2012,5,"Estonia","Camera & Photo","D3000 DIGITAL SLR",5,294,{"$f":"Table1[[#This Row],[Count]]*Table1[[#This Row],[Price]]","v":1470}]
["2012-05-26",2012,5,"Australia","Workstations ","CLOUD COMPUTER THIN STATION FL300",4,390,{"$f":"Table1[[#This Row],[Count]]*Table1[[#This Row],[Price]]","v":1560}]
["2012-05-26",2012,5,"Hungary","Workstations ","HZONE NCOMPUTING L230",2,354,{"$f":"Table1[[#This Row],[Count]]*Table1[[#This Row],[Price]]","v":708}]
["2012-05-26",2012,5,"Italy","Workstations ","HIGH PERFORMANCE 4U LCD WORKSTATION C",5,366,{"$f":"Table1[[#This Row],[Count]]*Table1[[#This Row],[Price]]","v":1830}]
["2012-05-26",2012,5,"Netherlands","Camera & Photo","SONY CYBERSHOT H200",1,318,{"$f":"Table1[[#This Row],[Count]]*Table1[[#This Row],[Price]]","v":318}]
["2012-05-27",2012,5,"Bulgaria","Laptops","VIA 8850 ANDROID 4.0",5,282,{"$f":"Table1[[#This Row],[Count]]*Table1[[#This Row],[Price]]","v":1410}]
["2012-05-27",2012,5,"Australia","Laptops","VIA 8850 ANDROID 4.0",5,282,{"$f":"Table1[[#This Row],[Count]]*Table1[[#This Row],[Price]]","v":1410}]
["2012-05-27",2012,5,"Portugal","Tablet PCs","10 INCH TABLET HIGH QUALITY TABLET 1GB",3,174,{"$f":"Table1[[#This Row],[Count]]*Table1[[#This Row],[Price]]","v":522}]
["2012-05-27",2012,5,"Hungary","Workstations ","HIGH PERFORMANCE 4U LCD WORKSTATION C",3,366,{"$f":"Table1[[#This Row],[Count]]*Table1[[#This Row],[Price]]","v":1098}]
["2012-05-28",2012,5,"Andorra","Camera & Photo","D3000 DIGITAL SLR",4,294,{"$f":"Table1[[#This Row],[Count]]*Table1[[#This Row],[Price]]","v":1176}]
["2012-05-28",2012,5,"USA","Camera & Photo","D3000 DIGITAL SLR",5,294,{"$f":"Table1[[#This Row],[Count]]*Table1[[#This Row],[Price]]","v":1470}]
["2012-05-28",2012,5,"Australia","Laptops","VIA 8850 ANDROID 4.0",4,282,{"$f":"Table1[[#This Row],[Count]]*Table1[[#This Row],[Price]]","v":1128}]
["2012-05-28",2012,5,"Romania","Laptops","Y10D 10 INCH VIA 8880",3,246,{"$f":"Table1[[#This Row],[Count]]*Table1[[#This Row],[Price]]","v":738}]
["2012-05-29",2012,5,"USA","Camera & Photo","SONY CYBERSHOT H200",4,318,{"$f":"Table1[[#This Row],[Count]]*Table1[[#This Row],[Price]]","v":1272}]
["2012-05-29",2012,5,"USA","Tablet PCs","ONDA V975M TABLET PC",5,150,{"$f":"Table1[[#This Row],[Count]]*Table1[[#This Row],[Price]]","v":750}]
["2012-05-29",2012,5,"Macedonia","Workstations ","SUN BLADE 1500 WORKSTATION BASE SUN B1500",1,378,{"$f":"Table1[[#This Row],[Count]]*Table1[[#This Row],[Price]]","v":378}]
["2012-05-29",2012,5,"Slovenia","Tablet PCs","GOOWEEL Q88 PRO A23 DUAL CORE TABLET PC",3,198,{"$f":"Table1[[#This Row],[Count]]*Table1[[#This Row],[Price]]","v":594}]
["2012-05-30",2012,5,"Liechtenstein","Tablet PCs","PIPO M6 PRO 9.7 INCH 3G TABLET PC",4,186,{"$f":"Table1[[#This Row],[Count]]*Table1[[#This Row],[Price]]","v":744}]
["2012-05-30",2012,5,"USA","Tablet PCs","PIPO M6 PRO 9.7 INCH 3G TABLET PC",2,186,{"$f":"Table1[[#This Row],[Count]]*Table1[[#This Row],[Price]]","v":372}]
["2012-05-30",2012,5,"USA","Workstations ","CLOUD COMPUTER THIN STATION FL300",2,390,{"$f":"Table1[[#This Row],[Count]]*Table1[[#This Row],[Price]]","v":780}]
["2012-05-30",2012,5,"Australia","Workstations ","SUN BLADE 1500 WORKSTATION BASE SUN B1500",4,378,{"$f":"Table1[[#This Row],[Count]]*Table1[[#This Row],[Price]]","v":1512}]
["2012-05-31",2012,5,"Portugal","Laptops","THINKPAD T440S",1,258,{"$f":"Table1[[#This Row],[Count]]*Table1[[#This Row],[Price]]","v":258}]
["2012-05-31",2012,5,"Norway","Workstations ","HZONE NCOMPUTING L230",5,354,{"$f":"Table1[[#This Row],[Count]]*Table1[[#This Row],[Price]]","v":1770}]
["2012-05-31",2012,5,"Belarus","Laptops","THINKPAD E445",2,222,{"$f":"Table1[[#This Row],[Count]]*Table1[[#This Row],[Price]]","v":444}]
["2012-05-31",2012,5,"Czech Republic","Laptops","Y10D 10 INCH VIA 8880",4,246,{"$f":"Table1[[#This Row],[Count]]*Table1[[#This Row],[Price]]","v":984}]
["2012-06-01",2012,6,"USA","Workstations ","HIGH PERFORMANCE 4U LCD WORKSTATION C",4,366,{"$f":"Table1[[#This Row],[Count]]*Table1[[#This Row],[Price]]","v":1464}]
["2012-06-01",2012,6,"Denmark","Workstations ","CLOUD COMPUTER THIN STATION FL300",1,390,{"$f":"Table1[[#This Row],[Count]]*Table1[[#This Row],[Price]]","v":390}]
["2012-06-01",2012,6,"USA","Laptops","THINKPAD T440S",3,258,{"$f":"Table1[[#This Row],[Count]]*Table1[[#This Row],[Price]]","v":774}]
["2012-06-01",2012,6,"Australia","Camera & Photo","SONY CYBERSHOT H200",1,318,{"$f":"Table1[[#This Row],[Count]]*Table1[[#This Row],[Price]]","v":318}]
["2012-06-02",2012,6,"Netherlands","Tablet PCs","ONDA V975M TABLET PC",2,150,{"$f":"Table1[[#This Row],[Count]]*Table1[[#This Row],[Price]]","v":300}]
["2012-06-02",2012,6,"United Kingdom","Workstations ","CLOUD COMPUTER THIN STATION FL300",5,390,{"$f":"Table1[[#This Row],[Count]]*Table1[[#This Row],[Price]]","v":1950}]
["2012-06-02",2012,6,"USA","Tablet PCs","PIPO M6 PRO 9.7 INCH 3G TABLET PC",1,186,{"$f":"Table1[[#This Row],[Count]]*Table1[[#This Row],[Price]]","v":186}]
["2012-06-02",2012,6,"USA","Workstations ","HZONE NCOMPUTING L230",3,354,{"$f":"Table1[[#This Row],[Count]]*Table1[[#This Row],[Price]]","v":1062}]
["2012-06-03",2012,6,"USA","Camera & Photo","FUJIFILM FINEPIX SL1000",5,330,{"$f":"Table1[[#This Row],[Count]]*Table1[[#This Row],[Price]]","v":1650}]
["2012-06-03",2012,6,"Czech Republic","Camera & Photo","SONY CYBERSHOT H200",5,318,{"$f":"Table1[[#This Row],[Count]]*Table1[[#This Row],[Price]]","v":1590}]
["2012-06-03",2012,6,"Bulgaria","Laptops","THINKPAD E445",5,222,{"$f":"Table1[[#This Row],[Count]]*Table1[[#This Row],[Price]]","v":1110}]
["2012-06-03",2012,6,"Portugal","Camera & Photo","D3200 DIGITAL SLR",5,306,{"$f":"Table1[[#This Row],[Count]]*Table1[[#This Row],[Price]]","v":1530}]
["2012-06-04",2012,6,"USA","Workstations ","CLOUD COMPUTER THIN STATION FL300",5,390,{"$f":"Table1[[#This Row],[Count]]*Table1[[#This Row],[Price]]","v":1950}]
["2012-06-04",2012,6,"USA","Camera & Photo","D3200 DIGITAL SLR",3,306,{"$f":"Table1[[#This Row],[Count]]*Table1[[#This Row],[Price]]","v":918}]
["2012-06-04",2012,6,"Slovenia","Camera & Photo","FUJIFILM FINEPIX SL1000",3,330,{"$f":"Table1[[#This Row],[Count]]*Table1[[#This Row],[Price]]","v":990}]
["2012-06-04",2012,6,"Hungary","Tablet PCs","ONDA V975M TABLET PC",3,150,{"$f":"Table1[[#This Row],[Count]]*Table1[[#This Row],[Price]]","v":450}]
["2012-06-05",2012,6,"Albania","Tablet PCs","10 INCH TABLET HIGH QUALITY TABLET 1GB",1,174,{"$f":"Table1[[#This Row],[Count]]*Table1[[#This Row],[Price]]","v":174}]
["2012-06-05",2012,6,"USA","Workstations ","HIGH PERFORMANCE 4U LCD WORKSTATION C",1,366,{"$f":"Table1[[#This Row],[Count]]*Table1[[#This Row],[Price]]","v":366}]
["2012-06-05",2012,6,"USA","Tablet PCs","10 INCH TABLET HIGH QUALITY TABLET 1GB",3,174,{"$f":"Table1[[#This Row],[Count]]*Table1[[#This Row],[Price]]","v":522}]
["2012-06-05",2012,6,"Australia","Laptops","Y10D 10 INCH VIA 8880",5,246,{"$f":"Table1[[#This Row],[Count]]*Table1[[#This Row],[Price]]","v":1230}]
["2012-06-06",2012,6,"Andorra","Tablet PCs","GOOWEEL Q88 PRO A23 DUAL CORE TABLET PC",5,198,{"$f":"Table1[[#This Row],[Count]]*Table1[[#This Row],[Price]]","v":990}]
["2012-06-06",2012,6,"USA","Tablet PCs","PIPO M6 PRO 9.7 INCH 3G TABLET PC",4,186,{"$f":"Table1[[#This Row],[Count]]*Table1[[#This Row],[Price]]","v":744}]
["2012-06-06",2012,6,"Denmark","Laptops","Y10D 10 INCH VIA 8880",2,246,{"$f":"Table1[[#This Row],[Count]]*Table1[[#This Row],[Price]]","v":492}]
["2012-06-06",2012,6,"Serbien und Montenegro","Laptops","THINKPAD T440S",5,258,{"$f":"Table1[[#This Row],[Count]]*Table1[[#This Row],[Price]]","v":1290}]
["2012-06-07",2012,6,"Australia","Tablet PCs","ONDA V975M TABLET PC",3,150,{"$f":"Table1[[#This Row],[Count]]*Table1[[#This Row],[Price]]","v":450}]
["2012-06-07",2012,6,"Bosnia And Herzegovina","Workstations ","HZONE NCOMPUTING L230",4,354,{"$f":"Table1[[#This Row],[Count]]*Table1[[#This Row],[Price]]","v":1416}]
["2012-06-07",2012,6,"Greece","Camera & Photo","SONY CYBERSHOT H200",2,318,{"$f":"Table1[[#This Row],[Count]]*Table1[[#This Row],[Price]]","v":636}]
["2012-06-07",2012,6,"USA","Laptops","VIA 8850 ANDROID 4.0",4,282,{"$f":"Table1[[#This Row],[Count]]*Table1[[#This Row],[Price]]","v":1128}]
["2012-06-08",2012,6,"USA","Tablet PCs","GOOWEEL Q88 PRO A23 DUAL CORE TABLET PC",2,198,{"$f":"Table1[[#This Row],[Count]]*Table1[[#This Row],[Price]]","v":396}]
["2012-06-08",2012,6,"Bulgaria","Camera & Photo","FUJIFILM FINEPIX SL1000",1,330,{"$f":"Table1[[#This Row],[Count]]*Table1[[#This Row],[Price]]","v":330}]
["2012-06-08",2012,6,"USA","Tablet PCs","7 INCH DUAL CORE ANDROID TABLET PC Q88",1,210,{"$f":"Table1[[#This Row],[Count]]*Table1[[#This Row],[Price]]","v":210}]
["2012-06-08",2012,6,"USA","Laptops","14INCH ULTRABOOK",1,234,{"$f":"Table1[[#This Row],[Count]]*Table1[[#This Row],[Price]]","v":234}]
["2012-06-09",2012,6,"Finland","Workstations ","SUN BLADE 1500 WORKSTATION BASE SUN B1500",3,378,{"$f":"Table1[[#This Row],[Count]]*Table1[[#This Row],[Price]]","v":1134}]
["2012-06-09",2012,6,"Australia","Tablet PCs","ONDA V975M TABLET PC",2,150,{"$f":"Table1[[#This Row],[Count]]*Table1[[#This Row],[Price]]","v":300}]
["2012-06-09",2012,6,"USA","Tablet PCs","7 INCH DUAL CORE ANDROID TABLET PC Q88",1,210,{"$f":"Table1[[#This Row],[Count]]*Table1[[#This Row],[Price]]","v":210}]
["2012-06-09",2012,6,"USA","Workstations ","HIGH PERFORMANCE 4U LCD WORKSTATION C",5,366,{"$f":"Table1[[#This Row],[Count]]*Table1[[#This Row],[Price]]","v":1830}]
["2012-06-10",2012,6,"USA","Camera & Photo","D3200 DIGITAL SLR",1,306,{"$f":"Table1[[#This Row],[Count]]*Table1[[#This Row],[Price]]","v":306}]
["2012-06-10",2012,6,"Lithuania","Laptops","THINKPAD T440S",3,258,{"$f":"Table1[[#This Row],[Count]]*Table1[[#This Row],[Price]]","v":774}]
["2012-06-10",2012,6,"Australia","Camera & Photo","D3000 DIGITAL SLR",2,294,{"$f":"Table1[[#This Row],[Count]]*Table1[[#This Row],[Price]]","v":588}]
["2012-06-10",2012,6,"Czech Republic","Workstations ","HIGH PERFORMANCE 4U LCD WORKSTATION C",3,366,{"$f":"Table1[[#This Row],[Count]]*Table1[[#This Row],[Price]]","v":1098}]
["2012-06-11",2012,6,"USA","Workstations ","HIGH PERFORMANCE 4U LCD WORKSTATION C",5,366,{"$f":"Table1[[#This Row],[Count]]*Table1[[#This Row],[Price]]","v":1830}]
["2012-06-11",2012,6,"USA","Tablet PCs","GOOWEEL Q88 PRO A23 DUAL CORE TABLET PC",5,198,{"$f":"Table1[[#This Row],[Count]]*Table1[[#This Row],[Price]]","v":990}]
["2012-06-11",2012,6,"USA","Tablet PCs","TABLET 10-INCH QUAD-CORE A9",1,162,{"$f":"Table1[[#This Row],[Count]]*Table1[[#This Row],[Price]]","v":162}]
["2012-06-11",2012,6,"Macedonia","Laptops","THINKPAD E445",1,222,{"$f":"Table1[[#This Row],[Count]]*Table1[[#This Row],[Price]]","v":222}]
["2012-06-12",2012,6,"Netherlands","Workstations ","HZONE NCOMPUTING L230",1,354,{"$f":"Table1[[#This Row],[Count]]*Table1[[#This Row],[Price]]","v":354}]
["2012-06-12",2012,6,"USA","Tablet PCs","TABLET 10-INCH QUAD-CORE A9",5,162,{"$f":"Table1[[#This Row],[Count]]*Table1[[#This Row],[Price]]","v":810}]
["2012-06-12",2012,6,"Poland","Tablet PCs","ONDA V975M TABLET PC",2,150,{"$f":"Table1[[#This Row],[Count]]*Table1[[#This Row],[Price]]","v":300}]
["2012-06-12",2012,6,"USA","Laptops","14.1\" AIR LAPTOP INTEL D2500",5,270,{"$f":"Table1[[#This Row],[Count]]*Table1[[#This Row],[Price]]","v":1350}]
["2012-06-13",2012,6,"USA","Tablet PCs","ONDA V975M TABLET PC",1,150,{"$f":"Table1[[#This Row],[Count]]*Table1[[#This Row],[Price]]","v":150}]
["2012-06-13",2012,6,"USA","Laptops","THINKPAD E445",3,222,{"$f":"Table1[[#This Row],[Count]]*Table1[[#This Row],[Price]]","v":666}]
["2012-06-13",2012,6,"Liechtenstein","Camera & Photo","FUJIFILM FINEPIX SL1000",4,330,{"$f":"Table1[[#This Row],[Count]]*Table1[[#This Row],[Price]]","v":1320}]
["2012-06-13",2012,6,"USA","Camera & Photo","SONY CYBERSHOT H200",2,318,{"$f":"Table1[[#This Row],[Count]]*Table1[[#This Row],[Price]]","v":636}]
["2012-06-14",2012,6,"USA","Camera & Photo","D3000 DIGITAL SLR",1,294,{"$f":"Table1[[#This Row],[Count]]*Table1[[#This Row],[Price]]","v":294}]
["2012-06-14",2012,6,"USA","Workstations ","HZONE NCOMPUTING L230",5,354,{"$f":"Table1[[#This Row],[Count]]*Table1[[#This Row],[Price]]","v":1770}]
["2012-06-14",2012,6,"Portugal","Laptops","Y10D 10 INCH VIA 8880",4,246,{"$f":"Table1[[#This Row],[Count]]*Table1[[#This Row],[Price]]","v":984}]
["2012-06-14",2012,6,"Greece","Camera & Photo","D3200 DIGITAL SLR",4,306,{"$f":"Table1[[#This Row],[Count]]*Table1[[#This Row],[Price]]","v":1224}]
["2012-06-15",2012,6,"Denmark","Tablet PCs","ONDA V975M TABLET PC",5,150,{"$f":"Table1[[#This Row],[Count]]*Table1[[#This Row],[Price]]","v":750}]
["2012-06-15",2012,6,"Poland","Tablet PCs","7 INCH DUAL CORE ANDROID TABLET PC Q88",2,210,{"$f":"Table1[[#This Row],[Count]]*Table1[[#This Row],[Price]]","v":420}]
["2012-06-15",2012,6,"USA","Tablet PCs","TABLET 10-INCH QUAD-CORE A9",1,162,{"$f":"Table1[[#This Row],[Count]]*Table1[[#This Row],[Price]]","v":162}]
["2012-06-15",2012,6,"Australia","Tablet PCs","ONDA V975M TABLET PC",5,150,{"$f":"Table1[[#This Row],[Count]]*Table1[[#This Row],[Price]]","v":750}]
["2012-06-16",2012,6,"USA","Camera & Photo","SONY CYBERSHOT H200",2,318,{"$f":"Table1[[#This Row],[Count]]*Table1[[#This Row],[Price]]","v":636}]
["2012-06-16",2012,6,"Luxembourg","Camera & Photo","D3200 DIGITAL SLR",5,306,{"$f":"Table1[[#This Row],[Count]]*Table1[[#This Row],[Price]]","v":1530}]
["2012-06-16",2012,6,"USA","Tablet PCs","TABLET 10-INCH QUAD-CORE A9",3,162,{"$f":"Table1[[#This Row],[Count]]*Table1[[#This Row],[Price]]","v":486}]
["2012-06-16",2012,6,"USA","Workstations ","CLOUD COMPUTER THIN STATION FL300",1,390,{"$f":"Table1[[#This Row],[Count]]*Table1[[#This Row],[Price]]","v":390}]
["2012-06-17",2012,6,"USA","Camera & Photo","D3200 DIGITAL SLR",3,306,{"$f":"Table1[[#This Row],[Count]]*Table1[[#This Row],[Price]]","v":918}]
["2012-06-17",2012,6,"USA","Tablet PCs","GOOWEEL Q88 PRO A23 DUAL CORE TABLET PC",4,198,{"$f":"Table1[[#This Row],[Count]]*Table1[[#This Row],[Price]]","v":792}]
["2012-06-17",2012,6,"Netherlands","Workstations ","HZONE NCOMPUTING L230",1,354,{"$f":"Table1[[#This Row],[Count]]*Table1[[#This Row],[Price]]","v":354}]
["2012-06-17",2012,6,"USA","Workstations ","HIGH PERFORMANCE 4U LCD WORKSTATION C",2,366,{"$f":"Table1[[#This Row],[Count]]*Table1[[#This Row],[Price]]","v":732}]
["2012-06-18",2012,6,"Austria","Laptops","14.1\" AIR LAPTOP INTEL D2500",4,270,{"$f":"Table1[[#This Row],[Count]]*Table1[[#This Row],[Price]]","v":1080}]
["2012-06-18",2012,6,"Albania","Camera & Photo","D3200 DIGITAL SLR",3,306,{"$f":"Table1[[#This Row],[Count]]*Table1[[#This Row],[Price]]","v":918}]
["2012-06-18",2012,6,"Belarus","Camera & Photo","D3200 DIGITAL SLR",4,306,{"$f":"Table1[[#This Row],[Count]]*Table1[[#This Row],[Price]]","v":1224}]
["2012-06-18",2012,6,"Macedonia","Workstations ","HZONE NCOMPUTING L230",1,354,{"$f":"Table1[[#This Row],[Count]]*Table1[[#This Row],[Price]]","v":354}]
["2012-06-19",2012,6,"Ukraine","Workstations ","CLOUD COMPUTER THIN STATION FL300",5,390,{"$f":"Table1[[#This Row],[Count]]*Table1[[#This Row],[Price]]","v":1950}]
["2012-06-19",2012,6,"Romania","Tablet PCs","GOOWEEL Q88 PRO A23 DUAL CORE TABLET PC",3,198,{"$f":"Table1[[#This Row],[Count]]*Table1[[#This Row],[Price]]","v":594}]
["2012-06-19",2012,6,"USA","Tablet PCs","TABLET 10-INCH QUAD-CORE A9",5,162,{"$f":"Table1[[#This Row],[Count]]*Table1[[#This Row],[Price]]","v":810}]
["2012-06-19",2012,6,"USA","Camera & Photo","D3000 DIGITAL SLR",3,294,{"$f":"Table1[[#This Row],[Count]]*Table1[[#This Row],[Price]]","v":882}]
["2012-06-20",2012,6,"USA","Tablet PCs","GOOWEEL Q88 PRO A23 DUAL CORE TABLET PC",2,198,{"$f":"Table1[[#This Row],[Count]]*Table1[[#This Row],[Price]]","v":396}]
["2012-06-20",2012,6,"USA","Tablet PCs","ONDA V975M TABLET PC",1,150,{"$f":"Table1[[#This Row],[Count]]*Table1[[#This Row],[Price]]","v":150}]
["2012-06-20",2012,6,"Denmark","Camera & Photo","D3000 DIGITAL SLR",3,294,{"$f":"Table1[[#This Row],[Count]]*Table1[[#This Row],[Price]]","v":882}]
["2012-06-20",2012,6,"Greece","Workstations ","HZONE NCOMPUTING L230",1,354,{"$f":"Table1[[#This Row],[Count]]*Table1[[#This Row],[Price]]","v":354}]
["2012-06-21",2012,6,"Moldova","Camera & Photo","D3000 DIGITAL SLR",3,294,{"$f":"Table1[[#This Row],[Count]]*Table1[[#This Row],[Price]]","v":882}]
["2012-06-21",2012,6,"Ireland","Workstations ","HZONE NCOMPUTING L230",5,354,{"$f":"Table1[[#This Row],[Count]]*Table1[[#This Row],[Price]]","v":1770}]
["2012-06-21",2012,6,"France","Tablet PCs","PIPO M6 PRO 9.7 INCH 3G TABLET PC",1,186,{"$f":"Table1[[#This Row],[Count]]*Table1[[#This Row],[Price]]","v":186}]
["2012-06-21",2012,6,"Bulgaria","Laptops","THINKPAD E445",3,222,{"$f":"Table1[[#This Row],[Count]]*Table1[[#This Row],[Price]]","v":666}]
["2012-06-22",2012,6,"USA","Tablet PCs","TABLET 10-INCH QUAD-CORE A9",5,162,{"$f":"Table1[[#This Row],[Count]]*Table1[[#This Row],[Price]]","v":810}]
["2012-06-22",2012,6,"USA","Laptops","VIA 8850 ANDROID 4.0",5,282,{"$f":"Table1[[#This Row],[Count]]*Table1[[#This Row],[Price]]","v":1410}]
["2012-06-22",2012,6,"USA","Camera & Photo","D3200 DIGITAL SLR",3,306,{"$f":"Table1[[#This Row],[Count]]*Table1[[#This Row],[Price]]","v":918}]
["2012-06-22",2012,6,"USA","Tablet PCs","ONDA V975M TABLET PC",3,150,{"$f":"Table1[[#This Row],[Count]]*Table1[[#This Row],[Price]]","v":450}]
["2012-06-23",2012,6,"France","Tablet PCs","7 INCH DUAL CORE ANDROID TABLET PC Q88",2,210,{"$f":"Table1[[#This Row],[Count]]*Table1[[#This Row],[Price]]","v":420}]
["2012-06-23",2012,6,"USA","Laptops","Y10D 10 INCH VIA 8880",2,246,{"$f":"Table1[[#This Row],[Count]]*Table1[[#This Row],[Price]]","v":492}]
["2012-06-23",2012,6,"USA","Workstations ","SUN BLADE 1500 WORKSTATION BASE SUN B1500",4,378,{"$f":"Table1[[#This Row],[Count]]*Table1[[#This Row],[Price]]","v":1512}]
["2012-06-23",2012,6,"Bulgaria","Laptops","14INCH ULTRABOOK",2,234,{"$f":"Table1[[#This Row],[Count]]*Table1[[#This Row],[Price]]","v":468}]
["2012-06-24",2012,6,"Netherlands","Workstations ","HIGH PERFORMANCE 4U LCD WORKSTATION C",1,366,{"$f":"Table1[[#This Row],[Count]]*Table1[[#This Row],[Price]]","v":366}]
["2012-06-24",2012,6,"USA","Laptops","THINKPAD T440S",5,258,{"$f":"Table1[[#This Row],[Count]]*Table1[[#This Row],[Price]]","v":1290}]
["2012-06-24",2012,6,"USA","Camera & Photo","FUJIFILM FINEPIX SL1000",3,330,{"$f":"Table1[[#This Row],[Count]]*Table1[[#This Row],[Price]]","v":990}]
["2012-06-24",2012,6,"USA","Camera & Photo","SONY CYBERSHOT H200",2,318,{"$f":"Table1[[#This Row],[Count]]*Table1[[#This Row],[Price]]","v":636}]
["2012-06-25",2012,6,"Greece","Tablet PCs","7 INCH DUAL CORE ANDROID TABLET PC Q88",5,210,{"$f":"Table1[[#This Row],[Count]]*Table1[[#This Row],[Price]]","v":1050}]
["2012-06-25",2012,6,"USA","Laptops","Y10D 10 INCH VIA 8880",5,246,{"$f":"Table1[[#This Row],[Count]]*Table1[[#This Row],[Price]]","v":1230}]
["2012-06-25",2012,6,"Netherlands","Camera & Photo","D3200 DIGITAL SLR",1,306,{"$f":"Table1[[#This Row],[Count]]*Table1[[#This Row],[Price]]","v":306}]
["2012-06-25",2012,6,"Georgia","Tablet PCs","PIPO M6 PRO 9.7 INCH 3G TABLET PC",2,186,{"$f":"Table1[[#This Row],[Count]]*Table1[[#This Row],[Price]]","v":372}]
["2012-06-26",2012,6,"Hungary","Camera & Photo","D3200 DIGITAL SLR",1,306,{"$f":"Table1[[#This Row],[Count]]*Table1[[#This Row],[Price]]","v":306}]
["2012-06-26",2012,6,"Australia","Tablet PCs","GOOWEEL Q88 PRO A23 DUAL CORE TABLET PC",4,198,{"$f":"Table1[[#This Row],[Count]]*Table1[[#This Row],[Price]]","v":792}]
["2012-06-26",2012,6,"Switzerland","Tablet PCs","7 INCH DUAL CORE ANDROID TABLET PC Q88",3,210,{"$f":"Table1[[#This Row],[Count]]*Table1[[#This Row],[Price]]","v":630}]
["2012-06-26",2012,6,"Italy","Laptops","THINKPAD E445",4,222,{"$f":"Table1[[#This Row],[Count]]*Table1[[#This Row],[Price]]","v":888}]
["2012-06-27",2012,6,"Norway","Workstations ","I7 MINI PC WITH HDMI QOTOM-T620",2,342,{"$f":"Table1[[#This Row],[Count]]*Table1[[#This Row],[Price]]","v":684}]
["2012-06-27",2012,6,"Luxembourg","Laptops","THINKPAD E445",2,222,{"$f":"Table1[[#This Row],[Count]]*Table1[[#This Row],[Price]]","v":444}]
["2012-06-27",2012,6,"USA","Laptops","14INCH ULTRABOOK",2,234,{"$f":"Table1[[#This Row],[Count]]*Table1[[#This Row],[Price]]","v":468}]
["2012-06-27",2012,6,"Slovenia","Camera & Photo","D3200 DIGITAL SLR",2,306,{"$f":"Table1[[#This Row],[Count]]*Table1[[#This Row],[Price]]","v":612}]
["2012-06-28",2012,6,"Bulgaria","Tablet PCs","GOOWEEL Q88 PRO A23 DUAL CORE TABLET PC",2,198,{"$f":"Table1[[#This Row],[Count]]*Table1[[#This Row],[Price]]","v":396}]
["2012-06-28",2012,6,"Australia","Laptops","14INCH ULTRABOOK",4,234,{"$f":"Table1[[#This Row],[Count]]*Table1[[#This Row],[Price]]","v":936}]
["2012-06-28",2012,6,"Romania","Tablet PCs","10 INCH TABLET HIGH QUALITY TABLET 1GB",5,174,{"$f":"Table1[[#This Row],[Count]]*Table1[[#This Row],[Price]]","v":870}]
["2012-06-28",2012,6,"USA","Tablet PCs","7 INCH DUAL CORE ANDROID TABLET PC Q88",1,210,{"$f":"Table1[[#This Row],[Count]]*Table1[[#This Row],[Price]]","v":210}]
["2012-06-29",2012,6,"USA","Camera & Photo","SONY CYBERSHOT H200",2,318,{"$f":"Table1[[#This Row],[Count]]*Table1[[#This Row],[Price]]","v":636}]
["2012-06-29",2012,6,"Portugal","Tablet PCs","TABLET 10-INCH QUAD-CORE A9",5,162,{"$f":"Table1[[#This Row],[Count]]*Table1[[#This Row],[Price]]","v":810}]
["2012-06-29",2012,6,"USA","Workstations ","SUN BLADE 1500 WORKSTATION BASE SUN B1500",4,378,{"$f":"Table1[[#This Row],[Count]]*Table1[[#This Row],[Price]]","v":1512}]
["2012-06-29",2012,6,"Slovenia","Laptops","VIA 8850 ANDROID 4.0",1,282,{"$f":"Table1[[#This Row],[Count]]*Table1[[#This Row],[Price]]","v":282}]
["2012-06-30",2012,6,"Estonia","Camera & Photo","FUJIFILM FINEPIX SL1000",4,330,{"$f":"Table1[[#This Row],[Count]]*Table1[[#This Row],[Price]]","v":1320}]
["2012-06-30",2012,6,"USA","Tablet PCs","ONDA V975M TABLET PC",5,150,{"$f":"Table1[[#This Row],[Count]]*Table1[[#This Row],[Price]]","v":750}]
["2012-06-30",2012,6,"Serbien und Montenegro","Camera & Photo","D3200 DIGITAL SLR",3,306,{"$f":"Table1[[#This Row],[Count]]*Table1[[#This Row],[Price]]","v":918}]
["2012-06-30",2012,6,"USA","Tablet PCs","PIPO M6 PRO 9.7 INCH 3G TABLET PC",1,186,{"$f":"Table1[[#This Row],[Count]]*Table1[[#This Row],[Price]]","v":186}]
["2012-07-01",2012,7,"United Kingdom","Workstations ","HIGH PERFORMANCE 4U LCD WORKSTATION C",2,366,{"$f":"Table1[[#This Row],[Count]]*Table1[[#This Row],[Price]]","v":732}]
["2012-07-01",2012,7,"USA","Workstations ","HIGH PERFORMANCE 4U LCD WORKSTATION C",1,366,{"$f":"Table1[[#This Row],[Count]]*Table1[[#This Row],[Price]]","v":366}]
["2012-07-01",2012,7,"Ukraine","Tablet PCs","7 INCH DUAL CORE ANDROID TABLET PC Q88",5,210,{"$f":"Table1[[#This Row],[Count]]*Table1[[#This Row],[Price]]","v":1050}]
["2012-07-01",2012,7,"USA","Tablet PCs","PIPO M6 PRO 9.7 INCH 3G TABLET PC",2,186,{"$f":"Table1[[#This Row],[Count]]*Table1[[#This Row],[Price]]","v":372}]
["2012-07-02",2012,7,"USA","Tablet PCs","TABLET 10-INCH QUAD-CORE A9",5,162,{"$f":"Table1[[#This Row],[Count]]*Table1[[#This Row],[Price]]","v":810}]
["2012-07-02",2012,7,"USA","Workstations ","HZONE NCOMPUTING L230",4,354,{"$f":"Table1[[#This Row],[Count]]*Table1[[#This Row],[Price]]","v":1416}]
["2012-07-02",2012,7,"USA","Laptops","THINKPAD T440S",3,258,{"$f":"Table1[[#This Row],[Count]]*Table1[[#This Row],[Price]]","v":774}]
["2012-07-02",2012,7,"Australia","Workstations ","CLOUD COMPUTER THIN STATION FL300",2,390,{"$f":"Table1[[#This Row],[Count]]*Table1[[#This Row],[Price]]","v":780}]
["2012-07-03",2012,7,"USA","Tablet PCs","PIPO M6 PRO 9.7 INCH 3G TABLET PC",1,186,{"$f":"Table1[[#This Row],[Count]]*Table1[[#This Row],[Price]]","v":186}]
["2012-07-03",2012,7,"USA","Workstations ","I7 MINI PC WITH HDMI QOTOM-T620",4,342,{"$f":"Table1[[#This Row],[Count]]*Table1[[#This Row],[Price]]","v":1368}]
["2012-07-03",2012,7,"USA","Tablet PCs","TABLET 10-INCH QUAD-CORE A9",5,162,{"$f":"Table1[[#This Row],[Count]]*Table1[[#This Row],[Price]]","v":810}]
["2012-07-03",2012,7,"Spain","Laptops","THINKPAD E445",3,222,{"$f":"Table1[[#This Row],[Count]]*Table1[[#This Row],[Price]]","v":666}]
["2012-07-04",2012,7,"Belarus","Laptops","THINKPAD E445",2,222,{"$f":"Table1[[#This Row],[Count]]*Table1[[#This Row],[Price]]","v":444}]
["2012-07-04",2012,7,"USA","Workstations ","HIGH PERFORMANCE 4U LCD WORKSTATION C",3,366,{"$f":"Table1[[#This Row],[Count]]*Table1[[#This Row],[Price]]","v":1098}]
["2012-07-04",2012,7,"Montenegro","Workstations ","HIGH PERFORMANCE 4U LCD WORKSTATION C",4,366,{"$f":"Table1[[#This Row],[Count]]*Table1[[#This Row],[Price]]","v":1464}]
["2012-07-04",2012,7,"Australia","Tablet PCs","GOOWEEL Q88 PRO A23 DUAL CORE TABLET PC",4,198,{"$f":"Table1[[#This Row],[Count]]*Table1[[#This Row],[Price]]","v":792}]
["2012-07-05",2012,7,"USA","Camera & Photo","FUJIFILM FINEPIX SL1000",1,330,{"$f":"Table1[[#This Row],[Count]]*Table1[[#This Row],[Price]]","v":330}]
["2012-07-05",2012,7,"Estonia","Laptops","VIA 8850 ANDROID 4.0",5,282,{"$f":"Table1[[#This Row],[Count]]*Table1[[#This Row],[Price]]","v":1410}]
["2012-07-05",2012,7,"Poland","Tablet PCs","PIPO M6 PRO 9.7 INCH 3G TABLET PC",2,186,{"$f":"Table1[[#This Row],[Count]]*Table1[[#This Row],[Price]]","v":372}]
["2012-07-05",2012,7,"Austria","Camera & Photo","FUJIFILM FINEPIX SL1000",3,330,{"$f":"Table1[[#This Row],[Count]]*Table1[[#This Row],[Price]]","v":990}]
["2012-07-06",2012,7,"USA","Tablet PCs","GOOWEEL Q88 PRO A23 DUAL CORE TABLET PC",1,198,{"$f":"Table1[[#This Row],[Count]]*Table1[[#This Row],[Price]]","v":198}]
["2012-07-06",2012,7,"USA","Workstations ","I7 MINI PC WITH HDMI QOTOM-T620",3,342,{"$f":"Table1[[#This Row],[Count]]*Table1[[#This Row],[Price]]","v":1026}]
["2012-07-06",2012,7,"Romania","Laptops","THINKPAD T440S",4,258,{"$f":"Table1[[#This Row],[Count]]*Table1[[#This Row],[Price]]","v":1032}]
["2012-07-06",2012,7,"USA","Laptops","14.1\" AIR LAPTOP INTEL D2500",4,270,{"$f":"Table1[[#This Row],[Count]]*Table1[[#This Row],[Price]]","v":1080}]
["2012-07-07",2012,7,"Lithuania","Camera & Photo","D3000 DIGITAL SLR",2,294,{"$f":"Table1[[#This Row],[Count]]*Table1[[#This Row],[Price]]","v":588}]
["2012-07-07",2012,7,"USA","Workstations ","HIGH PERFORMANCE 4U LCD WORKSTATION C",5,366,{"$f":"Table1[[#This Row],[Count]]*Table1[[#This Row],[Price]]","v":1830}]
["2012-07-07",2012,7,"USA","Camera & Photo","SONY CYBERSHOT H200",1,318,{"$f":"Table1[[#This Row],[Count]]*Table1[[#This Row],[Price]]","v":318}]
["2012-07-07",2012,7,"USA","Tablet PCs","PIPO M6 PRO 9.7 INCH 3G TABLET PC",2,186,{"$f":"Table1[[#This Row],[Count]]*Table1[[#This Row],[Price]]","v":372}]
["2012-07-08",2012,7,"Norway","Workstations ","HZONE NCOMPUTING L230",1,354,{"$f":"Table1[[#This Row],[Count]]*Table1[[#This Row],[Price]]","v":354}]
["2012-07-08",2012,7,"Sweden","Camera & Photo","SONY CYBERSHOT H200",5,318,{"$f":"Table1[[#This Row],[Count]]*Table1[[#This Row],[Price]]","v":1590}]
["2012-07-08",2012,7,"USA","Workstations ","SUN BLADE 1500 WORKSTATION BASE SUN B1500",2,378,{"$f":"Table1[[#This Row],[Count]]*Table1[[#This Row],[Price]]","v":756}]
["2012-07-08",2012,7,"Liechtenstein","Camera & Photo","FUJIFILM FINEPIX SL1000",3,330,{"$f":"Table1[[#This Row],[Count]]*Table1[[#This Row],[Price]]","v":990}]
["2012-07-09",2012,7,"Belarus","Laptops","VIA 8850 ANDROID 4.0",2,282,{"$f":"Table1[[#This Row],[Count]]*Table1[[#This Row],[Price]]","v":564}]
["2012-07-09",2012,7,"Australia","Laptops","14INCH ULTRABOOK",4,234,{"$f":"Table1[[#This Row],[Count]]*Table1[[#This Row],[Price]]","v":936}]
["2012-07-09",2012,7,"USA","Tablet PCs","GOOWEEL Q88 PRO A23 DUAL CORE TABLET PC",5,198,{"$f":"Table1[[#This Row],[Count]]*Table1[[#This Row],[Price]]","v":990}]
["2012-07-09",2012,7,"Norway","Workstations ","HIGH PERFORMANCE 4U LCD WORKSTATION C",1,366,{"$f":"Table1[[#This Row],[Count]]*Table1[[#This Row],[Price]]","v":366}]
["2012-07-10",2012,7,"USA","Camera & Photo","SONY CYBERSHOT H200",1,318,{"$f":"Table1[[#This Row],[Count]]*Table1[[#This Row],[Price]]","v":318}]
["2012-07-10",2012,7,"USA","Laptops","THINKPAD T440S",3,258,{"$f":"Table1[[#This Row],[Count]]*Table1[[#This Row],[Price]]","v":774}]
["2012-07-10",2012,7,"USA","Camera & Photo","SONY CYBERSHOT H200",2,318,{"$f":"Table1[[#This Row],[Count]]*Table1[[#This Row],[Price]]","v":636}]
["2012-07-10",2012,7,"Ireland","Tablet PCs","TABLET 10-INCH QUAD-CORE A9",2,162,{"$f":"Table1[[#This Row],[Count]]*Table1[[#This Row],[Price]]","v":324}]
["2012-07-11",2012,7,"Sweden","Tablet PCs","TABLET 10-INCH QUAD-CORE A9",5,162,{"$f":"Table1[[#This Row],[Count]]*Table1[[#This Row],[Price]]","v":810}]
["2012-07-11",2012,7,"USA","Workstations ","CLOUD COMPUTER THIN STATION FL300",5,390,{"$f":"Table1[[#This Row],[Count]]*Table1[[#This Row],[Price]]","v":1950}]
["2012-07-11",2012,7,"USA","Laptops","Y10D 10 INCH VIA 8880",5,246,{"$f":"Table1[[#This Row],[Count]]*Table1[[#This Row],[Price]]","v":1230}]
["2012-07-11",2012,7,"USA","Camera & Photo","D3000 DIGITAL SLR",5,294,{"$f":"Table1[[#This Row],[Count]]*Table1[[#This Row],[Price]]","v":1470}]
["2012-07-12",2012,7,"Estonia","Tablet PCs","GOOWEEL Q88 PRO A23 DUAL CORE TABLET PC",4,198,{"$f":"Table1[[#This Row],[Count]]*Table1[[#This Row],[Price]]","v":792}]
["2012-07-12",2012,7,"USA","Tablet PCs","10 INCH TABLET HIGH QUALITY TABLET 1GB",3,174,{"$f":"Table1[[#This Row],[Count]]*Table1[[#This Row],[Price]]","v":522}]
["2012-07-12",2012,7,"USA","Tablet PCs","10 INCH TABLET HIGH QUALITY TABLET 1GB",4,174,{"$f":"Table1[[#This Row],[Count]]*Table1[[#This Row],[Price]]","v":696}]
["2012-07-12",2012,7,"Italy","Tablet PCs","PIPO M6 PRO 9.7 INCH 3G TABLET PC",3,186,{"$f":"Table1[[#This Row],[Count]]*Table1[[#This Row],[Price]]","v":558}]
["2012-07-13",2012,7,"Norway","Tablet PCs","10 INCH TABLET HIGH QUALITY TABLET 1GB",2,174,{"$f":"Table1[[#This Row],[Count]]*Table1[[#This Row],[Price]]","v":348}]
["2012-07-13",2012,7,"USA","Laptops","VIA 8850 ANDROID 4.0",5,282,{"$f":"Table1[[#This Row],[Count]]*Table1[[#This Row],[Price]]","v":1410}]
["2012-07-13",2012,7,"USA","Camera & Photo","FUJIFILM FINEPIX SL1000",1,330,{"$f":"Table1[[#This Row],[Count]]*Table1[[#This Row],[Price]]","v":330}]
["2012-07-13",2012,7,"USA","Tablet PCs","7 INCH DUAL CORE ANDROID TABLET PC Q88",4,210,{"$f":"Table1[[#This Row],[Count]]*Table1[[#This Row],[Price]]","v":840}]
["2012-07-14",2012,7,"USA","Laptops","THINKPAD T440S",5,258,{"$f":"Table1[[#This Row],[Count]]*Table1[[#This Row],[Price]]","v":1290}]
["2012-07-14",2012,7,"Belarus","Tablet PCs","ONDA V975M TABLET PC",5,150,{"$f":"Table1[[#This Row],[Count]]*Table1[[#This Row],[Price]]","v":750}]
["2012-07-14",2012,7,"Australia","Laptops","14.1\" AIR LAPTOP INTEL D2500",2,270,{"$f":"Table1[[#This Row],[Count]]*Table1[[#This Row],[Price]]","v":540}]
["2012-07-14",2012,7,"USA","Workstations ","I7 MINI PC WITH HDMI QOTOM-T620",5,342,{"$f":"Table1[[#This Row],[Count]]*Table1[[#This Row],[Price]]","v":1710}]
["2012-07-15",2012,7,"USA","Camera & Photo","SONY CYBERSHOT H200",2,318,{"$f":"Table1[[#This Row],[Count]]*Table1[[#This Row],[Price]]","v":636}]
["2012-07-15",2012,7,"USA","Laptops","THINKPAD T440S",4,258,{"$f":"Table1[[#This Row],[Count]]*Table1[[#This Row],[Price]]","v":1032}]
["2012-07-15",2012,7,"Georgia","Laptops","THINKPAD E445",1,222,{"$f":"Table1[[#This Row],[Count]]*Table1[[#This Row],[Price]]","v":222}]
["2012-07-15",2012,7,"Italy","Camera & Photo","D3200 DIGITAL SLR",3,306,{"$f":"Table1[[#This Row],[Count]]*Table1[[#This Row],[Price]]","v":918}]
["2012-07-16",2012,7,"Hungary","Laptops","Y10D 10 INCH VIA 8880",5,246,{"$f":"Table1[[#This Row],[Count]]*Table1[[#This Row],[Price]]","v":1230}]
["2012-07-16",2012,7,"USA","Camera & Photo","D3000 DIGITAL SLR",5,294,{"$f":"Table1[[#This Row],[Count]]*Table1[[#This Row],[Price]]","v":1470}]
["2012-07-16",2012,7,"USA","Laptops","14.1\" AIR LAPTOP INTEL D2500",5,270,{"$f":"Table1[[#This Row],[Count]]*Table1[[#This Row],[Price]]","v":1350}]
["2012-07-16",2012,7,"USA","Workstations ","I7 MINI PC WITH HDMI QOTOM-T620",3,342,{"$f":"Table1[[#This Row],[Count]]*Table1[[#This Row],[Price]]","v":1026}]
["2012-07-17",2012,7,"Estonia","Laptops","VIA 8850 ANDROID 4.0",5,282,{"$f":"Table1[[#This Row],[Count]]*Table1[[#This Row],[Price]]","v":1410}]
["2012-07-17",2012,7,"USA","Tablet PCs","ONDA V975M TABLET PC",4,150,{"$f":"Table1[[#This Row],[Count]]*Table1[[#This Row],[Price]]","v":600}]
["2012-07-17",2012,7,"Monaco","Camera & Photo","FUJIFILM FINEPIX SL1000",3,330,{"$f":"Table1[[#This Row],[Count]]*Table1[[#This Row],[Price]]","v":990}]
["2012-07-17",2012,7,"Spain","Tablet PCs","PIPO M6 PRO 9.7 INCH 3G TABLET PC",2,186,{"$f":"Table1[[#This Row],[Count]]*Table1[[#This Row],[Price]]","v":372}]
["2012-07-18",2012,7,"Croatia","Workstations ","I7 MINI PC WITH HDMI QOTOM-T620",4,342,{"$f":"Table1[[#This Row],[Count]]*Table1[[#This Row],[Price]]","v":1368}]
["2012-07-18",2012,7,"Estonia","Laptops","THINKPAD E445",3,222,{"$f":"Table1[[#This Row],[Count]]*Table1[[#This Row],[Price]]","v":666}]
["2012-07-18",2012,7,"Australia","Workstations ","HIGH PERFORMANCE 4U LCD WORKSTATION C",2,366,{"$f":"Table1[[#This Row],[Count]]*Table1[[#This Row],[Price]]","v":732}]
["2012-07-18",2012,7,"France","Laptops","THINKPAD T440S",5,258,{"$f":"Table1[[#This Row],[Count]]*Table1[[#This Row],[Price]]","v":1290}]
["2012-07-19",2012,7,"Norway","Laptops","THINKPAD T440S",3,258,{"$f":"Table1[[#This Row],[Count]]*Table1[[#This Row],[Price]]","v":774}]
["2012-07-19",2012,7,"USA","Camera & Photo","FUJIFILM FINEPIX SL1000",2,330,{"$f":"Table1[[#This Row],[Count]]*Table1[[#This Row],[Price]]","v":660}]
["2012-07-19",2012,7,"USA","Camera & Photo","SONY CYBERSHOT H200",5,318,{"$f":"Table1[[#This Row],[Count]]*Table1[[#This Row],[Price]]","v":1590}]
["2012-07-19",2012,7,"Italy","Laptops","Y10D 10 INCH VIA 8880",4,246,{"$f":"Table1[[#This Row],[Count]]*Table1[[#This Row],[Price]]","v":984}]
["2012-07-20",2012,7,"Poland","Tablet PCs","7 INCH DUAL CORE ANDROID TABLET PC Q88",4,210,{"$f":"Table1[[#This Row],[Count]]*Table1[[#This Row],[Price]]","v":840}]
["2012-07-20",2012,7,"USA","Workstations ","HZONE NCOMPUTING L230",5,354,{"$f":"Table1[[#This Row],[Count]]*Table1[[#This Row],[Price]]","v":1770}]
["2012-07-20",2012,7,"USA","Workstations ","SUN BLADE 1500 WORKSTATION BASE SUN B1500",5,378,{"$f":"Table1[[#This Row],[Count]]*Table1[[#This Row],[Price]]","v":1890}]
["2012-07-20",2012,7,"USA","Tablet PCs","GOOWEEL Q88 PRO A23 DUAL CORE TABLET PC",1,198,{"$f":"Table1[[#This Row],[Count]]*Table1[[#This Row],[Price]]","v":198}]
["2012-07-21",2012,7,"USA","Laptops","THINKPAD T440S",1,258,{"$f":"Table1[[#This Row],[Count]]*Table1[[#This Row],[Price]]","v":258}]
["2012-07-21",2012,7,"USA","Tablet PCs","GOOWEEL Q88 PRO A23 DUAL CORE TABLET PC",2,198,{"$f":"Table1[[#This Row],[Count]]*Table1[[#This Row],[Price]]","v":396}]
["2012-07-21",2012,7,"Montenegro","Camera & Photo","D3200 DIGITAL SLR",2,306,{"$f":"Table1[[#This Row],[Count]]*Table1[[#This Row],[Price]]","v":612}]
["2012-07-21",2012,7,"Australia","Workstations ","HIGH PERFORMANCE 4U LCD WORKSTATION C",3,366,{"$f":"Table1[[#This Row],[Count]]*Table1[[#This Row],[Price]]","v":1098}]
["2012-07-22",2012,7,"Greece","Camera & Photo","FUJIFILM FINEPIX SL1000",2,330,{"$f":"Table1[[#This Row],[Count]]*Table1[[#This Row],[Price]]","v":660}]
["2012-07-22",2012,7,"Australia","Laptops","THINKPAD T440S",1,258,{"$f":"Table1[[#This Row],[Count]]*Table1[[#This Row],[Price]]","v":258}]
["2012-07-22",2012,7,"USA","Tablet PCs","7 INCH DUAL CORE ANDROID TABLET PC Q88",5,210,{"$f":"Table1[[#This Row],[Count]]*Table1[[#This Row],[Price]]","v":1050}]
["2012-07-22",2012,7,"Croatia","Workstations ","SUN BLADE 1500 WORKSTATION BASE SUN B1500",4,378,{"$f":"Table1[[#This Row],[Count]]*Table1[[#This Row],[Price]]","v":1512}]
["2012-07-23",2012,7,"Hungary","Workstations ","HZONE NCOMPUTING L230",2,354,{"$f":"Table1[[#This Row],[Count]]*Table1[[#This Row],[Price]]","v":708}]
["2012-07-23",2012,7,"Latvia","Workstations ","HIGH PERFORMANCE 4U LCD WORKSTATION C",4,366,{"$f":"Table1[[#This Row],[Count]]*Table1[[#This Row],[Price]]","v":1464}]
["2012-07-23",2012,7,"Macedonia","Workstations ","I7 MINI PC WITH HDMI QOTOM-T620",3,342,{"$f":"Table1[[#This Row],[Count]]*Table1[[#This Row],[Price]]","v":1026}]
["2012-07-23",2012,7,"Lithuania","Camera & Photo","D3200 DIGITAL SLR",5,306,{"$f":"Table1[[#This Row],[Count]]*Table1[[#This Row],[Price]]","v":1530}]
["2012-07-24",2012,7,"United Kingdom","Camera & Photo","FUJIFILM FINEPIX SL1000",1,330,{"$f":"Table1[[#This Row],[Count]]*Table1[[#This Row],[Price]]","v":330}]
["2012-07-24",2012,7,"Belarus","Tablet PCs","PIPO M6 PRO 9.7 INCH 3G TABLET PC",5,186,{"$f":"Table1[[#This Row],[Count]]*Table1[[#This Row],[Price]]","v":930}]
["2012-07-24",2012,7,"Macedonia","Camera & Photo","D3200 DIGITAL SLR",5,306,{"$f":"Table1[[#This Row],[Count]]*Table1[[#This Row],[Price]]","v":1530}]
["2012-07-24",2012,7,"USA","Tablet PCs","10 INCH TABLET HIGH QUALITY TABLET 1GB",3,174,{"$f":"Table1[[#This Row],[Count]]*Table1[[#This Row],[Price]]","v":522}]
["2012-07-25",2012,7,"USA","Tablet PCs","GOOWEEL Q88 PRO A23 DUAL CORE TABLET PC",4,198,{"$f":"Table1[[#This Row],[Count]]*Table1[[#This Row],[Price]]","v":792}]
["2012-07-25",2012,7,"Liechtenstein","Tablet PCs","PIPO M6 PRO 9.7 INCH 3G TABLET PC",5,186,{"$f":"Table1[[#This Row],[Count]]*Table1[[#This Row],[Price]]","v":930}]
["2012-07-25",2012,7,"Australia","Tablet PCs","PIPO M6 PRO 9.7 INCH 3G TABLET PC",2,186,{"$f":"Table1[[#This Row],[Count]]*Table1[[#This Row],[Price]]","v":372}]
["2012-07-25",2012,7,"USA","Workstations ","HIGH PERFORMANCE 4U LCD WORKSTATION C",1,366,{"$f":"Table1[[#This Row],[Count]]*Table1[[#This Row],[Price]]","v":366}]
["2012-07-26",2012,7,"Finland","Laptops","14INCH ULTRABOOK",4,234,{"$f":"Table1[[#This Row],[Count]]*Table1[[#This Row],[Price]]","v":936}]
["2012-07-26",2012,7,"Luxembourg","Workstations ","CLOUD COMPUTER THIN STATION FL300",3,390,{"$f":"Table1[[#This Row],[Count]]*Table1[[#This Row],[Price]]","v":1170}]
["2012-07-26",2012,7,"Poland","Laptops","Y10D 10 INCH VIA 8880",3,246,{"$f":"Table1[[#This Row],[Count]]*Table1[[#This Row],[Price]]","v":738}]
["2012-07-26",2012,7,"Montenegro","Tablet PCs","10 INCH TABLET HIGH QUALITY TABLET 1GB",1,174,{"$f":"Table1[[#This Row],[Count]]*Table1[[#This Row],[Price]]","v":174}]
["2012-07-27",2012,7,"Moldova","Tablet PCs","TABLET 10-INCH QUAD-CORE A9",5,162,{"$f":"Table1[[#This Row],[Count]]*Table1[[#This Row],[Price]]","v":810}]
["2012-07-27",2012,7,"Albania","Laptops","14.1\" AIR LAPTOP INTEL D2500",1,270,{"$f":"Table1[[#This Row],[Count]]*Table1[[#This Row],[Price]]","v":270}]
["2012-07-27",2012,7,"Hungary","Workstations ","I7 MINI PC WITH HDMI QOTOM-T620",3,342,{"$f":"Table1[[#This Row],[Count]]*Table1[[#This Row],[Price]]","v":1026}]
["2012-07-27",2012,7,"Romania","Tablet PCs","ONDA V975M TABLET PC",2,150,{"$f":"Table1[[#This Row],[Count]]*Table1[[#This Row],[Price]]","v":300}]
["2012-07-28",2012,7,"Hungary","Tablet PCs","10 INCH TABLET HIGH QUALITY TABLET 1GB",3,174,{"$f":"Table1[[#This Row],[Count]]*Table1[[#This Row],[Price]]","v":522}]
["2012-07-28",2012,7,"Portugal","Tablet PCs","10 INCH TABLET HIGH QUALITY TABLET 1GB",4,174,{"$f":"Table1[[#This Row],[Count]]*Table1[[#This Row],[Price]]","v":696}]
["2012-07-28",2012,7,"Andorra","Laptops","14INCH ULTRABOOK",1,234,{"$f":"Table1[[#This Row],[Count]]*Table1[[#This Row],[Price]]","v":234}]
["2012-07-28",2012,7,"Belgium","Workstations ","HZONE NCOMPUTING L230",5,354,{"$f":"Table1[[#This Row],[Count]]*Table1[[#This Row],[Price]]","v":1770}]
["2012-07-29",2012,7,"USA","Laptops","14.1\" AIR LAPTOP INTEL D2500",2,270,{"$f":"Table1[[#This Row],[Count]]*Table1[[#This Row],[Price]]","v":540}]
["2012-07-29",2012,7,"Denmark","Tablet PCs","ONDA V975M TABLET PC",4,150,{"$f":"Table1[[#This Row],[Count]]*Table1[[#This Row],[Price]]","v":600}]
["2012-07-29",2012,7,"USA","Tablet PCs","10 INCH TABLET HIGH QUALITY TABLET 1GB",2,174,{"$f":"Table1[[#This Row],[Count]]*Table1[[#This Row],[Price]]","v":348}]
["2012-07-29",2012,7,"USA","Laptops","14INCH ULTRABOOK",3,234,{"$f":"Table1[[#This Row],[Count]]*Table1[[#This Row],[Price]]","v":702}]
["2012-07-30",2012,7,"Netherlands","Tablet PCs","PIPO M6 PRO 9.7 INCH 3G TABLET PC",2,186,{"$f":"Table1[[#This Row],[Count]]*Table1[[#This Row],[Price]]","v":372}]
["2012-07-30",2012,7,"USA","Camera & Photo","D3000 DIGITAL SLR",5,294,{"$f":"Table1[[#This Row],[Count]]*Table1[[#This Row],[Price]]","v":1470}]
["2012-07-30",2012,7,"Slovakia","Workstations ","CLOUD COMPUTER THIN STATION FL300",3,390,{"$f":"Table1[[#This Row],[Count]]*Table1[[#This Row],[Price]]","v":1170}]
["2012-07-30",2012,7,"USA","Tablet PCs","10 INCH TABLET HIGH QUALITY TABLET 1GB",4,174,{"$f":"Table1[[#This Row],[Count]]*Table1[[#This Row],[Price]]","v":696}]
["2012-07-31",2012,7,"Australia","Tablet PCs","7 INCH DUAL CORE ANDROID TABLET PC Q88",4,210,{"$f":"Table1[[#This Row],[Count]]*Table1[[#This Row],[Price]]","v":840}]
["2012-07-31",2012,7,"Latvia","Workstations ","I7 MINI PC WITH HDMI QOTOM-T620",2,342,{"$f":"Table1[[#This Row],[Count]]*Table1[[#This Row],[Price]]","v":684}]
["2012-07-31",2012,7,"USA","Tablet PCs","GOOWEEL Q88 PRO A23 DUAL CORE TABLET PC",5,198,{"$f":"Table1[[#This Row],[Count]]*Table1[[#This Row],[Price]]","v":990}]
["2012-07-31",2012,7,"USA","Camera & Photo","D3200 DIGITAL SLR",2,306,{"$f":"Table1[[#This Row],[Count]]*Table1[[#This Row],[Price]]","v":612}]
["2012-08-01",2012,8,"USA","Camera & Photo","FUJIFILM FINEPIX SL1000",3,330,{"$f":"Table1[[#This Row],[Count]]*Table1[[#This Row],[Price]]","v":990}]
["2012-08-01",2012,8,"Latvia","Camera & Photo","D3200 DIGITAL SLR",5,306,{"$f":"Table1[[#This Row],[Count]]*Table1[[#This Row],[Price]]","v":1530}]
["2012-08-01",2012,8,"Andorra","Laptops","14INCH ULTRABOOK",3,234,{"$f":"Table1[[#This Row],[Count]]*Table1[[#This Row],[Price]]","v":702}]
["2012-08-01",2012,8,"USA","Tablet PCs","PIPO M6 PRO 9.7 INCH 3G TABLET PC",5,186,{"$f":"Table1[[#This Row],[Count]]*Table1[[#This Row],[Price]]","v":930}]
["2012-08-02",2012,8,"USA","Tablet PCs","10 INCH TABLET HIGH QUALITY TABLET 1GB",5,174,{"$f":"Table1[[#This Row],[Count]]*Table1[[#This Row],[Price]]","v":870}]
["2012-08-02",2012,8,"USA","Tablet PCs","ONDA V975M TABLET PC",5,150,{"$f":"Table1[[#This Row],[Count]]*Table1[[#This Row],[Price]]","v":750}]
["2012-08-02",2012,8,"USA","Laptops","14.1\" AIR LAPTOP INTEL D2500",5,270,{"$f":"Table1[[#This Row],[Count]]*Table1[[#This Row],[Price]]","v":1350}]
["2012-08-02",2012,8,"Greece","Tablet PCs","7 INCH DUAL CORE ANDROID TABLET PC Q88",1,210,{"$f":"Table1[[#This Row],[Count]]*Table1[[#This Row],[Price]]","v":210}]
["2012-08-03",2012,8,"Belgium","Workstations ","SUN BLADE 1500 WORKSTATION BASE SUN B1500",1,378,{"$f":"Table1[[#This Row],[Count]]*Table1[[#This Row],[Price]]","v":378}]
["2012-08-03",2012,8,"USA","Workstations ","CLOUD COMPUTER THIN STATION FL300",2,390,{"$f":"Table1[[#This Row],[Count]]*Table1[[#This Row],[Price]]","v":780}]
["2012-08-03",2012,8,"Australia","Workstations ","CLOUD COMPUTER THIN STATION FL300",5,390,{"$f":"Table1[[#This Row],[Count]]*Table1[[#This Row],[Price]]","v":1950}]
["2012-08-03",2012,8,"Belarus","Workstations ","CLOUD COMPUTER THIN STATION FL300",1,390,{"$f":"Table1[[#This Row],[Count]]*Table1[[#This Row],[Price]]","v":390}]
["2012-08-04",2012,8,"Norway","Laptops","THINKPAD T440S",1,258,{"$f":"Table1[[#This Row],[Count]]*Table1[[#This Row],[Price]]","v":258}]
["2012-08-04",2012,8,"USA","Laptops","14.1\" AIR LAPTOP INTEL D2500",1,270,{"$f":"Table1[[#This Row],[Count]]*Table1[[#This Row],[Price]]","v":270}]
["2012-08-04",2012,8,"USA","Laptops","THINKPAD E445",5,222,{"$f":"Table1[[#This Row],[Count]]*Table1[[#This Row],[Price]]","v":1110}]
["2012-08-04",2012,8,"Spain","Laptops","14INCH ULTRABOOK",5,234,{"$f":"Table1[[#This Row],[Count]]*Table1[[#This Row],[Price]]","v":1170}]
["2012-08-05",2012,8,"Poland","Workstations ","SUN BLADE 1500 WORKSTATION BASE SUN B1500",1,378,{"$f":"Table1[[#This Row],[Count]]*Table1[[#This Row],[Price]]","v":378}]
["2012-08-05",2012,8,"Spain","Laptops","14.1\" AIR LAPTOP INTEL D2500",2,270,{"$f":"Table1[[#This Row],[Count]]*Table1[[#This Row],[Price]]","v":540}]
["2012-08-05",2012,8,"Czech Republic","Laptops","THINKPAD E445",1,222,{"$f":"Table1[[#This Row],[Count]]*Table1[[#This Row],[Price]]","v":222}]
["2012-08-05",2012,8,"Latvia","Camera & Photo","SONY CYBERSHOT H200",3,318,{"$f":"Table1[[#This Row],[Count]]*Table1[[#This Row],[Price]]","v":954}]
["2012-08-06",2012,8,"Albania","Workstations ","SUN BLADE 1500 WORKSTATION BASE SUN B1500",5,378,{"$f":"Table1[[#This Row],[Count]]*Table1[[#This Row],[Price]]","v":1890}]
["2012-08-06",2012,8,"Andorra","Laptops","THINKPAD T440S",4,258,{"$f":"Table1[[#This Row],[Count]]*Table1[[#This Row],[Price]]","v":1032}]
["2012-08-06",2012,8,"Macedonia","Laptops","VIA 8850 ANDROID 4.0",1,282,{"$f":"Table1[[#This Row],[Count]]*Table1[[#This Row],[Price]]","v":282}]
["2012-08-06",2012,8,"Bulgaria","Tablet PCs","PIPO M6 PRO 9.7 INCH 3G TABLET PC",4,186,{"$f":"Table1[[#This Row],[Count]]*Table1[[#This Row],[Price]]","v":744}]
["2012-08-07",2012,8,"Denmark","Laptops","14.1\" AIR LAPTOP INTEL D2500",1,270,{"$f":"Table1[[#This Row],[Count]]*Table1[[#This Row],[Price]]","v":270}]
["2012-08-07",2012,8,"Belgium","Workstations ","I7 MINI PC WITH HDMI QOTOM-T620",5,342,{"$f":"Table1[[#This Row],[Count]]*Table1[[#This Row],[Price]]","v":1710}]
["2012-08-07",2012,8,"Greece","Laptops","THINKPAD T440S",4,258,{"$f":"Table1[[#This Row],[Count]]*Table1[[#This Row],[Price]]","v":1032}]
["2012-08-07",2012,8,"Albania","Tablet PCs","10 INCH TABLET HIGH QUALITY TABLET 1GB",2,174,{"$f":"Table1[[#This Row],[Count]]*Table1[[#This Row],[Price]]","v":348}]
["2012-08-08",2012,8,"USA","Camera & Photo","SONY CYBERSHOT H200",2,318,{"$f":"Table1[[#This Row],[Count]]*Table1[[#This Row],[Price]]","v":636}]
["2012-08-08",2012,8,"Italy","Tablet PCs","7 INCH DUAL CORE ANDROID TABLET PC Q88",4,210,{"$f":"Table1[[#This Row],[Count]]*Table1[[#This Row],[Price]]","v":840}]
["2012-08-08",2012,8,"USA","Camera & Photo","D3000 DIGITAL SLR",2,294,{"$f":"Table1[[#This Row],[Count]]*Table1[[#This Row],[Price]]","v":588}]
["2012-08-08",2012,8,"USA","Workstations ","I7 MINI PC WITH HDMI QOTOM-T620",2,342,{"$f":"Table1[[#This Row],[Count]]*Table1[[#This Row],[Price]]","v":684}]
["2012-08-09",2012,8,"Croatia","Camera & Photo","SONY CYBERSHOT H200",2,318,{"$f":"Table1[[#This Row],[Count]]*Table1[[#This Row],[Price]]","v":636}]
["2012-08-09",2012,8,"Hungary","Laptops","Y10D 10 INCH VIA 8880",2,246,{"$f":"Table1[[#This Row],[Count]]*Table1[[#This Row],[Price]]","v":492}]
["2012-08-09",2012,8,"Bosnia And Herzegovina","Tablet PCs","TABLET 10-INCH QUAD-CORE A9",4,162,{"$f":"Table1[[#This Row],[Count]]*Table1[[#This Row],[Price]]","v":648}]
["2012-08-09",2012,8,"USA","Laptops","VIA 8850 ANDROID 4.0",2,282,{"$f":"Table1[[#This Row],[Count]]*Table1[[#This Row],[Price]]","v":564}]
["2012-08-10",2012,8,"Greece","Workstations ","HZONE NCOMPUTING L230",5,354,{"$f":"Table1[[#This Row],[Count]]*Table1[[#This Row],[Price]]","v":1770}]
["2012-08-10",2012,8,"Australia","Tablet PCs","7 INCH DUAL CORE ANDROID TABLET PC Q88",3,210,{"$f":"Table1[[#This Row],[Count]]*Table1[[#This Row],[Price]]","v":630}]
["2012-08-10",2012,8,"Austria","Laptops","THINKPAD T440S",5,258,{"$f":"Table1[[#This Row],[Count]]*Table1[[#This Row],[Price]]","v":1290}]
["2012-08-10",2012,8,"Italy","Camera & Photo","FUJIFILM FINEPIX SL1000",1,330,{"$f":"Table1[[#This Row],[Count]]*Table1[[#This Row],[Price]]","v":330}]
["2012-08-11",2012,8,"USA","Tablet PCs","PIPO M6 PRO 9.7 INCH 3G TABLET PC",2,186,{"$f":"Table1[[#This Row],[Count]]*Table1[[#This Row],[Price]]","v":372}]
["2012-08-11",2012,8,"Estonia","Tablet PCs","10 INCH TABLET HIGH QUALITY TABLET 1GB",1,174,{"$f":"Table1[[#This Row],[Count]]*Table1[[#This Row],[Price]]","v":174}]
["2012-08-11",2012,8,"Albania","Laptops","VIA 8850 ANDROID 4.0",2,282,{"$f":"Table1[[#This Row],[Count]]*Table1[[#This Row],[Price]]","v":564}]
["2012-08-11",2012,8,"USA","Camera & Photo","D3200 DIGITAL SLR",2,306,{"$f":"Table1[[#This Row],[Count]]*Table1[[#This Row],[Price]]","v":612}]
["2012-08-12",2012,8,"Macedonia","Tablet PCs","ONDA V975M TABLET PC",5,150,{"$f":"Table1[[#This Row],[Count]]*Table1[[#This Row],[Price]]","v":750}]
["2012-08-12",2012,8,"United Kingdom","Laptops","THINKPAD E445",3,222,{"$f":"Table1[[#This Row],[Count]]*Table1[[#This Row],[Price]]","v":666}]
["2012-08-12",2012,8,"USA","Laptops","THINKPAD E445",1,222,{"$f":"Table1[[#This Row],[Count]]*Table1[[#This Row],[Price]]","v":222}]
["2012-08-12",2012,8,"USA","Tablet PCs","ONDA V975M TABLET PC",4,150,{"$f":"Table1[[#This Row],[Count]]*Table1[[#This Row],[Price]]","v":600}]
["2012-08-13",2012,8,"USA","Laptops","14.1\" AIR LAPTOP INTEL D2500",4,270,{"$f":"Table1[[#This Row],[Count]]*Table1[[#This Row],[Price]]","v":1080}]
["2012-08-13",2012,8,"USA","Camera & Photo","FUJIFILM FINEPIX SL1000",4,330,{"$f":"Table1[[#This Row],[Count]]*Table1[[#This Row],[Price]]","v":1320}]
["2012-08-13",2012,8,"Serbien und Montenegro","Workstations ","HIGH PERFORMANCE 4U LCD WORKSTATION C",2,366,{"$f":"Table1[[#This Row],[Count]]*Table1[[#This Row],[Price]]","v":732}]
["2012-08-13",2012,8,"Andorra","Camera & Photo","FUJIFILM FINEPIX SL1000",2,330,{"$f":"Table1[[#This Row],[Count]]*Table1[[#This Row],[Price]]","v":660}]
["2012-08-14",2012,8,"USA","Laptops","14INCH ULTRABOOK",3,234,{"$f":"Table1[[#This Row],[Count]]*Table1[[#This Row],[Price]]","v":702}]
["2012-08-14",2012,8,"Georgia","Workstations ","CLOUD COMPUTER THIN STATION FL300",5,390,{"$f":"Table1[[#This Row],[Count]]*Table1[[#This Row],[Price]]","v":1950}]
["2012-08-14",2012,8,"Belarus","Tablet PCs","ONDA V975M TABLET PC",5,150,{"$f":"Table1[[#This Row],[Count]]*Table1[[#This Row],[Price]]","v":750}]
["2012-08-14",2012,8,"Czech Republic","Tablet PCs","7 INCH DUAL CORE ANDROID TABLET PC Q88",4,210,{"$f":"Table1[[#This Row],[Count]]*Table1[[#This Row],[Price]]","v":840}]
["2012-08-15",2012,8,"Macedonia","Workstations ","CLOUD COMPUTER THIN STATION FL300",5,390,{"$f":"Table1[[#This Row],[Count]]*Table1[[#This Row],[Price]]","v":1950}]
["2012-08-15",2012,8,"USA","Tablet PCs","PIPO M6 PRO 9.7 INCH 3G TABLET PC",4,186,{"$f":"Table1[[#This Row],[Count]]*Table1[[#This Row],[Price]]","v":744}]
["2012-08-15",2012,8,"USA","Laptops","Y10D 10 INCH VIA 8880",1,246,{"$f":"Table1[[#This Row],[Count]]*Table1[[#This Row],[Price]]","v":246}]
["2012-08-15",2012,8,"USA","Camera & Photo","D3000 DIGITAL SLR",3,294,{"$f":"Table1[[#This Row],[Count]]*Table1[[#This Row],[Price]]","v":882}]
["2012-08-16",2012,8,"Andorra","Laptops","14INCH ULTRABOOK",5,234,{"$f":"Table1[[#This Row],[Count]]*Table1[[#This Row],[Price]]","v":1170}]
["2012-08-16",2012,8,"Spain","Laptops","THINKPAD E445",5,222,{"$f":"Table1[[#This Row],[Count]]*Table1[[#This Row],[Price]]","v":1110}]
["2012-08-16",2012,8,"Georgia","Laptops","14INCH ULTRABOOK",3,234,{"$f":"Table1[[#This Row],[Count]]*Table1[[#This Row],[Price]]","v":702}]
["2012-08-16",2012,8,"United Kingdom","Laptops","THINKPAD T440S",2,258,{"$f":"Table1[[#This Row],[Count]]*Table1[[#This Row],[Price]]","v":516}]
["2012-08-17",2012,8,"Norway","Tablet PCs","ONDA V975M TABLET PC",4,150,{"$f":"Table1[[#This Row],[Count]]*Table1[[#This Row],[Price]]","v":600}]
["2012-08-17",2012,8,"Slovenia","Tablet PCs","10 INCH TABLET HIGH QUALITY TABLET 1GB",4,174,{"$f":"Table1[[#This Row],[Count]]*Table1[[#This Row],[Price]]","v":696}]
["2012-08-17",2012,8,"USA","Laptops","14INCH ULTRABOOK",5,234,{"$f":"Table1[[#This Row],[Count]]*Table1[[#This Row],[Price]]","v":1170}]
["2012-08-17",2012,8,"Hungary","Laptops","14.1\" AIR LAPTOP INTEL D2500",5,270,{"$f":"Table1[[#This Row],[Count]]*Table1[[#This Row],[Price]]","v":1350}]
["2012-08-18",2012,8,"USA","Laptops","Y10D 10 INCH VIA 8880",5,246,{"$f":"Table1[[#This Row],[Count]]*Table1[[#This Row],[Price]]","v":1230}]
["2012-08-18",2012,8,"Austria","Workstations ","HIGH PERFORMANCE 4U LCD WORKSTATION C",2,366,{"$f":"Table1[[#This Row],[Count]]*Table1[[#This Row],[Price]]","v":732}]
["2012-08-18",2012,8,"USA","Laptops","14.1\" AIR LAPTOP INTEL D2500",5,270,{"$f":"Table1[[#This Row],[Count]]*Table1[[#This Row],[Price]]","v":1350}]
["2012-08-18",2012,8,"Slovakia","Tablet PCs","GOOWEEL Q88 PRO A23 DUAL CORE TABLET PC",3,198,{"$f":"Table1[[#This Row],[Count]]*Table1[[#This Row],[Price]]","v":594}]
["2012-08-19",2012,8,"Australia","Tablet PCs","GOOWEEL Q88 PRO A23 DUAL CORE TABLET PC",2,198,{"$f":"Table1[[#This Row],[Count]]*Table1[[#This Row],[Price]]","v":396}]
["2012-08-19",2012,8,"Italy","Tablet PCs","ONDA V975M TABLET PC",1,150,{"$f":"Table1[[#This Row],[Count]]*Table1[[#This Row],[Price]]","v":150}]
["2012-08-19",2012,8,"USA","Tablet PCs","ONDA V975M TABLET PC",4,150,{"$f":"Table1[[#This Row],[Count]]*Table1[[#This Row],[Price]]","v":600}]
["2012-08-19",2012,8,"USA","Tablet PCs","7 INCH DUAL CORE ANDROID TABLET PC Q88",2,210,{"$f":"Table1[[#This Row],[Count]]*Table1[[#This Row],[Price]]","v":420}]
["2012-08-20",2012,8,"USA","Laptops","THINKPAD E445",4,222,{"$f":"Table1[[#This Row],[Count]]*Table1[[#This Row],[Price]]","v":888}]
["2012-08-20",2012,8,"Slovakia","Tablet PCs","7 INCH DUAL CORE ANDROID TABLET PC Q88",4,210,{"$f":"Table1[[#This Row],[Count]]*Table1[[#This Row],[Price]]","v":840}]
["2012-08-20",2012,8,"USA","Laptops","14INCH ULTRABOOK",3,234,{"$f":"Table1[[#This Row],[Count]]*Table1[[#This Row],[Price]]","v":702}]
["2012-08-20",2012,8,"USA","Tablet PCs","7 INCH DUAL CORE ANDROID TABLET PC Q88",3,210,{"$f":"Table1[[#This Row],[Count]]*Table1[[#This Row],[Price]]","v":630}]
["2012-08-21",2012,8,"Romania","Laptops","THINKPAD T440S",3,258,{"$f":"Table1[[#This Row],[Count]]*Table1[[#This Row],[Price]]","v":774}]
["2012-08-21",2012,8,"USA","Workstations ","CLOUD COMPUTER THIN STATION FL300",4,390,{"$f":"Table1[[#This Row],[Count]]*Table1[[#This Row],[Price]]","v":1560}]
["2012-08-21",2012,8,"USA","Workstations ","I7 MINI PC WITH HDMI QOTOM-T620",2,342,{"$f":"Table1[[#This Row],[Count]]*Table1[[#This Row],[Price]]","v":684}]
["2012-08-21",2012,8,"USA","Workstations ","I7 MINI PC WITH HDMI QOTOM-T620",3,342,{"$f":"Table1[[#This Row],[Count]]*Table1[[#This Row],[Price]]","v":1026}]
["2012-08-22",2012,8,"Belarus","Tablet PCs","PIPO M6 PRO 9.7 INCH 3G TABLET PC",5,186,{"$f":"Table1[[#This Row],[Count]]*Table1[[#This Row],[Price]]","v":930}]
["2012-08-22",2012,8,"Finland","Laptops","VIA 8850 ANDROID 4.0",2,282,{"$f":"Table1[[#This Row],[Count]]*Table1[[#This Row],[Price]]","v":564}]
["2012-08-22",2012,8,"Monaco","Laptops","14.1\" AIR LAPTOP INTEL D2500",1,270,{"$f":"Table1[[#This Row],[Count]]*Table1[[#This Row],[Price]]","v":270}]
["2012-08-22",2012,8,"Netherlands","Laptops","14INCH ULTRABOOK",3,234,{"$f":"Table1[[#This Row],[Count]]*Table1[[#This Row],[Price]]","v":702}]
["2012-08-23",2012,8,"Moldova","Camera & Photo","D3200 DIGITAL SLR",5,306,{"$f":"Table1[[#This Row],[Count]]*Table1[[#This Row],[Price]]","v":1530}]
["2012-08-23",2012,8,"Lithuania","Tablet PCs","GOOWEEL Q88 PRO A23 DUAL CORE TABLET PC",1,198,{"$f":"Table1[[#This Row],[Count]]*Table1[[#This Row],[Price]]","v":198}]
["2012-08-23",2012,8,"Slovenia","Workstations ","HIGH PERFORMANCE 4U LCD WORKSTATION C",3,366,{"$f":"Table1[[#This Row],[Count]]*Table1[[#This Row],[Price]]","v":1098}]
["2012-08-23",2012,8,"USA","Laptops","VIA 8850 ANDROID 4.0",5,282,{"$f":"Table1[[#This Row],[Count]]*Table1[[#This Row],[Price]]","v":1410}]
["2012-08-24",2012,8,"USA","Workstations ","I7 MINI PC WITH HDMI QOTOM-T620",1,342,{"$f":"Table1[[#This Row],[Count]]*Table1[[#This Row],[Price]]","v":342}]
["2012-08-24",2012,8,"Romania","Tablet PCs","7 INCH DUAL CORE ANDROID TABLET PC Q88",1,210,{"$f":"Table1[[#This Row],[Count]]*Table1[[#This Row],[Price]]","v":210}]
["2012-08-24",2012,8,"Spain","Camera & Photo","D3200 DIGITAL SLR",2,306,{"$f":"Table1[[#This Row],[Count]]*Table1[[#This Row],[Price]]","v":612}]
["2012-08-24",2012,8,"Ireland","Tablet PCs","ONDA V975M TABLET PC",5,150,{"$f":"Table1[[#This Row],[Count]]*Table1[[#This Row],[Price]]","v":750}]
["2012-08-25",2012,8,"Latvia","Laptops","THINKPAD E445",2,222,{"$f":"Table1[[#This Row],[Count]]*Table1[[#This Row],[Price]]","v":444}]
["2012-08-25",2012,8,"USA","Workstations ","SUN BLADE 1500 WORKSTATION BASE SUN B1500",5,378,{"$f":"Table1[[#This Row],[Count]]*Table1[[#This Row],[Price]]","v":1890}]
["2012-08-25",2012,8,"Spain","Workstations ","HZONE NCOMPUTING L230",4,354,{"$f":"Table1[[#This Row],[Count]]*Table1[[#This Row],[Price]]","v":1416}]
["2012-08-25",2012,8,"Macedonia","Camera & Photo","D3200 DIGITAL SLR",2,306,{"$f":"Table1[[#This Row],[Count]]*Table1[[#This Row],[Price]]","v":612}]
["2012-08-26",2012,8,"Lithuania","Laptops","THINKPAD T440S",3,258,{"$f":"Table1[[#This Row],[Count]]*Table1[[#This Row],[Price]]","v":774}]
["2012-08-26",2012,8,"Slovenia","Workstations ","I7 MINI PC WITH HDMI QOTOM-T620",1,342,{"$f":"Table1[[#This Row],[Count]]*Table1[[#This Row],[Price]]","v":342}]
["2012-08-26",2012,8,"Lithuania","Laptops","Y10D 10 INCH VIA 8880",2,246,{"$f":"Table1[[#This Row],[Count]]*Table1[[#This Row],[Price]]","v":492}]
["2012-08-26",2012,8,"Malta","Workstations ","HZONE NCOMPUTING L230",5,354,{"$f":"Table1[[#This Row],[Count]]*Table1[[#This Row],[Price]]","v":1770}]
["2012-08-27",2012,8,"Georgia","Laptops","Y10D 10 INCH VIA 8880",3,246,{"$f":"Table1[[#This Row],[Count]]*Table1[[#This Row],[Price]]","v":738}]
["2012-08-27",2012,8,"Ireland","Workstations ","SUN BLADE 1500 WORKSTATION BASE SUN B1500",3,378,{"$f":"Table1[[#This Row],[Count]]*Table1[[#This Row],[Price]]","v":1134}]
["2012-08-27",2012,8,"Liechtenstein","Workstations ","HZONE NCOMPUTING L230",2,354,{"$f":"Table1[[#This Row],[Count]]*Table1[[#This Row],[Price]]","v":708}]
["2012-08-27",2012,8,"USA","Camera & Photo","SONY CYBERSHOT H200",4,318,{"$f":"Table1[[#This Row],[Count]]*Table1[[#This Row],[Price]]","v":1272}]
["2012-08-28",2012,8,"USA","Tablet PCs","GOOWEEL Q88 PRO A23 DUAL CORE TABLET PC",1,198,{"$f":"Table1[[#This Row],[Count]]*Table1[[#This Row],[Price]]","v":198}]
["2012-08-28",2012,8,"USA","Workstations ","HZONE NCOMPUTING L230",4,354,{"$f":"Table1[[#This Row],[Count]]*Table1[[#This Row],[Price]]","v":1416}]
["2012-08-28",2012,8,"USA","Workstations ","CLOUD COMPUTER THIN STATION FL300",3,390,{"$f":"Table1[[#This Row],[Count]]*Table1[[#This Row],[Price]]","v":1170}]
["2012-08-28",2012,8,"USA","Tablet PCs","GOOWEEL Q88 PRO A23 DUAL CORE TABLET PC",5,198,{"$f":"Table1[[#This Row],[Count]]*Table1[[#This Row],[Price]]","v":990}]
["2012-08-29",2012,8,"Spain","Workstations ","I7 MINI PC WITH HDMI QOTOM-T620",4,342,{"$f":"Table1[[#This Row],[Count]]*Table1[[#This Row],[Price]]","v":1368}]
["2012-08-29",2012,8,"Czech Republic","Tablet PCs","PIPO M6 PRO 9.7 INCH 3G TABLET PC",2,186,{"$f":"Table1[[#This Row],[Count]]*Table1[[#This Row],[Price]]","v":372}]
["2012-08-29",2012,8,"USA","Tablet PCs","ONDA V975M TABLET PC",4,150,{"$f":"Table1[[#This Row],[Count]]*Table1[[#This Row],[Price]]","v":600}]
["2012-08-29",2012,8,"France","Tablet PCs","ONDA V975M TABLET PC",3,150,{"$f":"Table1[[#This Row],[Count]]*Table1[[#This Row],[Price]]","v":450}]
["2012-08-30",2012,8,"Slovenia","Workstations ","SUN BLADE 1500 WORKSTATION BASE SUN B1500",3,378,{"$f":"Table1[[#This Row],[Count]]*Table1[[#This Row],[Price]]","v":1134}]
["2012-08-30",2012,8,"USA","Tablet PCs","ONDA V975M TABLET PC",1,150,{"$f":"Table1[[#This Row],[Count]]*Table1[[#This Row],[Price]]","v":150}]
["2012-08-30",2012,8,"USA","Camera & Photo","SONY CYBERSHOT H200",4,318,{"$f":"Table1[[#This Row],[Count]]*Table1[[#This Row],[Price]]","v":1272}]
["2012-08-30",2012,8,"USA","Workstations ","I7 MINI PC WITH HDMI QOTOM-T620",3,342,{"$f":"Table1[[#This Row],[Count]]*Table1[[#This Row],[Price]]","v":1026}]
["2012-08-31",2012,8,"USA","Camera & Photo","D3000 DIGITAL SLR",1,294,{"$f":"Table1[[#This Row],[Count]]*Table1[[#This Row],[Price]]","v":294}]
["2012-08-31",2012,8,"Montenegro","Tablet PCs","PIPO M6 PRO 9.7 INCH 3G TABLET PC",3,186,{"$f":"Table1[[#This Row],[Count]]*Table1[[#This Row],[Price]]","v":558}]
["2012-08-31",2012,8,"Belarus","Camera & Photo","D3200 DIGITAL SLR",2,306,{"$f":"Table1[[#This Row],[Count]]*Table1[[#This Row],[Price]]","v":612}]
["2012-08-31",2012,8,"USA","Tablet PCs","7 INCH DUAL CORE ANDROID TABLET PC Q88",1,210,{"$f":"Table1[[#This Row],[Count]]*Table1[[#This Row],[Price]]","v":210}]
["2012-09-01",2012,9,"Hungary","Tablet PCs","7 INCH DUAL CORE ANDROID TABLET PC Q88",3,210,{"$f":"Table1[[#This Row],[Count]]*Table1[[#This Row],[Price]]","v":630}]
["2012-09-01",2012,9,"USA","Tablet PCs","GOOWEEL Q88 PRO A23 DUAL CORE TABLET PC",5,198,{"$f":"Table1[[#This Row],[Count]]*Table1[[#This Row],[Price]]","v":990}]
["2012-09-01",2012,9,"USA","Laptops","VIA 8850 ANDROID 4.0",5,282,{"$f":"Table1[[#This Row],[Count]]*Table1[[#This Row],[Price]]","v":1410}]
["2012-09-01",2012,9,"USA","Laptops","THINKPAD T440S",2,258,{"$f":"Table1[[#This Row],[Count]]*Table1[[#This Row],[Price]]","v":516}]
["2012-09-02",2012,9,"Denmark","Workstations ","HZONE NCOMPUTING L230",5,354,{"$f":"Table1[[#This Row],[Count]]*Table1[[#This Row],[Price]]","v":1770}]
["2012-09-02",2012,9,"Australia","Tablet PCs","10 INCH TABLET HIGH QUALITY TABLET 1GB",4,174,{"$f":"Table1[[#This Row],[Count]]*Table1[[#This Row],[Price]]","v":696}]
["2012-09-02",2012,9,"Austria","Tablet PCs","10 INCH TABLET HIGH QUALITY TABLET 1GB",4,174,{"$f":"Table1[[#This Row],[Count]]*Table1[[#This Row],[Price]]","v":696}]
["2012-09-02",2012,9,"Austria","Tablet PCs","10 INCH TABLET HIGH QUALITY TABLET 1GB",1,174,{"$f":"Table1[[#This Row],[Count]]*Table1[[#This Row],[Price]]","v":174}]
["2012-09-03",2012,9,"Luxembourg","Laptops","THINKPAD T440S",5,258,{"$f":"Table1[[#This Row],[Count]]*Table1[[#This Row],[Price]]","v":1290}]
["2012-09-03",2012,9,"France","Laptops","THINKPAD T440S",3,258,{"$f":"Table1[[#This Row],[Count]]*Table1[[#This Row],[Price]]","v":774}]
["2012-09-03",2012,9,"USA","Tablet PCs","PIPO M6 PRO 9.7 INCH 3G TABLET PC",3,186,{"$f":"Table1[[#This Row],[Count]]*Table1[[#This Row],[Price]]","v":558}]
["2012-09-03",2012,9,"Slovakia","Tablet PCs","ONDA V975M TABLET PC",5,150,{"$f":"Table1[[#This Row],[Count]]*Table1[[#This Row],[Price]]","v":750}]
["2012-09-04",2012,9,"Slovakia","Tablet PCs","GOOWEEL Q88 PRO A23 DUAL CORE TABLET PC",2,198,{"$f":"Table1[[#This Row],[Count]]*Table1[[#This Row],[Price]]","v":396}]
["2012-09-04",2012,9,"Latvia","Workstations ","HZONE NCOMPUTING L230",2,354,{"$f":"Table1[[#This Row],[Count]]*Table1[[#This Row],[Price]]","v":708}]
["2012-09-04",2012,9,"USA","Workstations ","HZONE NCOMPUTING L230",3,354,{"$f":"Table1[[#This Row],[Count]]*Table1[[#This Row],[Price]]","v":1062}]
["2012-09-04",2012,9,"Albania","Workstations ","CLOUD COMPUTER THIN STATION FL300",5,390,{"$f":"Table1[[#This Row],[Count]]*Table1[[#This Row],[Price]]","v":1950}]
["2012-09-05",2012,9,"USA","Workstations ","SUN BLADE 1500 WORKSTATION BASE SUN B1500",1,378,{"$f":"Table1[[#This Row],[Count]]*Table1[[#This Row],[Price]]","v":378}]
["2012-09-05",2012,9,"USA","Tablet PCs","10 INCH TABLET HIGH QUALITY TABLET 1GB",2,174,{"$f":"Table1[[#This Row],[Count]]*Table1[[#This Row],[Price]]","v":348}]
["2012-09-05",2012,9,"USA","Workstations ","I7 MINI PC WITH HDMI QOTOM-T620",5,342,{"$f":"Table1[[#This Row],[Count]]*Table1[[#This Row],[Price]]","v":1710}]
["2012-09-05",2012,9,"Finland","Tablet PCs","TABLET 10-INCH QUAD-CORE A9",2,162,{"$f":"Table1[[#This Row],[Count]]*Table1[[#This Row],[Price]]","v":324}]
["2012-09-06",2012,9,"USA","Laptops","Y10D 10 INCH VIA 8880",3,246,{"$f":"Table1[[#This Row],[Count]]*Table1[[#This Row],[Price]]","v":738}]
["2012-09-06",2012,9,"Germany","Camera & Photo","D3000 DIGITAL SLR",3,294,{"$f":"Table1[[#This Row],[Count]]*Table1[[#This Row],[Price]]","v":882}]
["2012-09-06",2012,9,"USA","Workstations ","SUN BLADE 1500 WORKSTATION BASE SUN B1500",2,378,{"$f":"Table1[[#This Row],[Count]]*Table1[[#This Row],[Price]]","v":756}]
["2012-09-06",2012,9,"Switzerland","Camera & Photo","SONY CYBERSHOT H200",3,318,{"$f":"Table1[[#This Row],[Count]]*Table1[[#This Row],[Price]]","v":954}]
["2012-09-07",2012,9,"Australia","Laptops","14INCH ULTRABOOK",2,234,{"$f":"Table1[[#This Row],[Count]]*Table1[[#This Row],[Price]]","v":468}]
["2012-09-07",2012,9,"Croatia","Workstations ","I7 MINI PC WITH HDMI QOTOM-T620",2,342,{"$f":"Table1[[#This Row],[Count]]*Table1[[#This Row],[Price]]","v":684}]
["2012-09-07",2012,9,"Czech Republic","Tablet PCs","GOOWEEL Q88 PRO A23 DUAL CORE TABLET PC",3,198,{"$f":"Table1[[#This Row],[Count]]*Table1[[#This Row],[Price]]","v":594}]
["2012-09-07",2012,9,"USA","Workstations ","HZONE NCOMPUTING L230",4,354,{"$f":"Table1[[#This Row],[Count]]*Table1[[#This Row],[Price]]","v":1416}]
["2012-09-08",2012,9,"USA","Tablet PCs","7 INCH DUAL CORE ANDROID TABLET PC Q88",4,210,{"$f":"Table1[[#This Row],[Count]]*Table1[[#This Row],[Price]]","v":840}]
["2012-09-08",2012,9,"Spain","Workstations ","CLOUD COMPUTER THIN STATION FL300",2,390,{"$f":"Table1[[#This Row],[Count]]*Table1[[#This Row],[Price]]","v":780}]
["2012-09-08",2012,9,"Belgium","Laptops","THINKPAD E445",1,222,{"$f":"Table1[[#This Row],[Count]]*Table1[[#This Row],[Price]]","v":222}]
["2012-09-08",2012,9,"USA","Workstations ","I7 MINI PC WITH HDMI QOTOM-T620",2,342,{"$f":"Table1[[#This Row],[Count]]*Table1[[#This Row],[Price]]","v":684}]
["2012-09-09",2012,9,"Luxembourg","Workstations ","CLOUD COMPUTER THIN STATION FL300",3,390,{"$f":"Table1[[#This Row],[Count]]*Table1[[#This Row],[Price]]","v":1170}]
["2012-09-09",2012,9,"Australia","Laptops","14.1\" AIR LAPTOP INTEL D2500",5,270,{"$f":"Table1[[#This Row],[Count]]*Table1[[#This Row],[Price]]","v":1350}]
["2012-09-09",2012,9,"USA","Camera & Photo","SONY CYBERSHOT H200",4,318,{"$f":"Table1[[#This Row],[Count]]*Table1[[#This Row],[Price]]","v":1272}]
["2012-09-09",2012,9,"USA","Camera & Photo","FUJIFILM FINEPIX SL1000",5,330,{"$f":"Table1[[#This Row],[Count]]*Table1[[#This Row],[Price]]","v":1650}]
["2012-09-10",2012,9,"Montenegro","Tablet PCs","GOOWEEL Q88 PRO A23 DUAL CORE TABLET PC",4,198,{"$f":"Table1[[#This Row],[Count]]*Table1[[#This Row],[Price]]","v":792}]
["2012-09-10",2012,9,"USA","Camera & Photo","D3000 DIGITAL SLR",1,294,{"$f":"Table1[[#This Row],[Count]]*Table1[[#This Row],[Price]]","v":294}]
["2012-09-10",2012,9,"USA","Workstations ","SUN BLADE 1500 WORKSTATION BASE SUN B1500",4,378,{"$f":"Table1[[#This Row],[Count]]*Table1[[#This Row],[Price]]","v":1512}]
["2012-09-10",2012,9,"Belarus","Camera & Photo","D3200 DIGITAL SLR",4,306,{"$f":"Table1[[#This Row],[Count]]*Table1[[#This Row],[Price]]","v":1224}]
["2012-09-11",2012,9,"USA","Laptops","THINKPAD T440S",1,258,{"$f":"Table1[[#This Row],[Count]]*Table1[[#This Row],[Price]]","v":258}]
["2012-09-11",2012,9,"USA","Laptops","14INCH ULTRABOOK",2,234,{"$f":"Table1[[#This Row],[Count]]*Table1[[#This Row],[Price]]","v":468}]
["2012-09-11",2012,9,"Slovenia","Camera & Photo","D3200 DIGITAL SLR",4,306,{"$f":"Table1[[#This Row],[Count]]*Table1[[#This Row],[Price]]","v":1224}]
["2012-09-11",2012,9,"USA","Laptops","14.1\" AIR LAPTOP INTEL D2500",4,270,{"$f":"Table1[[#This Row],[Count]]*Table1[[#This Row],[Price]]","v":1080}]
["2012-09-12",2012,9,"Germany","Workstations ","SUN BLADE 1500 WORKSTATION BASE SUN B1500",4,378,{"$f":"Table1[[#This Row],[Count]]*Table1[[#This Row],[Price]]","v":1512}]
["2012-09-12",2012,9,"USA","Laptops","14INCH ULTRABOOK",3,234,{"$f":"Table1[[#This Row],[Count]]*Table1[[#This Row],[Price]]","v":702}]
["2012-09-12",2012,9,"USA","Laptops","THINKPAD T440S",4,258,{"$f":"Table1[[#This Row],[Count]]*Table1[[#This Row],[Price]]","v":1032}]
["2012-09-12",2012,9,"Romania","Tablet PCs","ONDA V975M TABLET PC",1,150,{"$f":"Table1[[#This Row],[Count]]*Table1[[#This Row],[Price]]","v":150}]
["2012-09-13",2012,9,"Estonia","Tablet PCs","10 INCH TABLET HIGH QUALITY TABLET 1GB",1,174,{"$f":"Table1[[#This Row],[Count]]*Table1[[#This Row],[Price]]","v":174}]
["2012-09-13",2012,9,"Malta","Laptops","14INCH ULTRABOOK",5,234,{"$f":"Table1[[#This Row],[Count]]*Table1[[#This Row],[Price]]","v":1170}]
["2012-09-13",2012,9,"Macedonia","Tablet PCs","ONDA V975M TABLET PC",4,150,{"$f":"Table1[[#This Row],[Count]]*Table1[[#This Row],[Price]]","v":600}]
["2012-09-13",2012,9,"Estonia","Tablet PCs","10 INCH TABLET HIGH QUALITY TABLET 1GB",5,174,{"$f":"Table1[[#This Row],[Count]]*Table1[[#This Row],[Price]]","v":870}]
["2012-09-14",2012,9,"Malta","Workstations ","SUN BLADE 1500 WORKSTATION BASE SUN B1500",2,378,{"$f":"Table1[[#This Row],[Count]]*Table1[[#This Row],[Price]]","v":756}]
["2012-09-14",2012,9,"Denmark","Laptops","VIA 8850 ANDROID 4.0",2,282,{"$f":"Table1[[#This Row],[Count]]*Table1[[#This Row],[Price]]","v":564}]
["2012-09-14",2012,9,"Sweden","Workstations ","I7 MINI PC WITH HDMI QOTOM-T620",4,342,{"$f":"Table1[[#This Row],[Count]]*Table1[[#This Row],[Price]]","v":1368}]
["2012-09-14",2012,9,"Albania","Tablet PCs","7 INCH DUAL CORE ANDROID TABLET PC Q88",4,210,{"$f":"Table1[[#This Row],[Count]]*Table1[[#This Row],[Price]]","v":840}]
["2012-09-15",2012,9,"USA","Laptops","VIA 8850 ANDROID 4.0",3,282,{"$f":"Table1[[#This Row],[Count]]*Table1[[#This Row],[Price]]","v":846}]
["2012-09-15",2012,9,"Georgia","Workstations ","I7 MINI PC WITH HDMI QOTOM-T620",4,342,{"$f":"Table1[[#This Row],[Count]]*Table1[[#This Row],[Price]]","v":1368}]
["2012-09-15",2012,9,"Spain","Tablet PCs","7 INCH DUAL CORE ANDROID TABLET PC Q88",3,210,{"$f":"Table1[[#This Row],[Count]]*Table1[[#This Row],[Price]]","v":630}]
["2012-09-15",2012,9,"Switzerland","Laptops","THINKPAD E445",2,222,{"$f":"Table1[[#This Row],[Count]]*Table1[[#This Row],[Price]]","v":444}]
["2012-09-16",2012,9,"Croatia","Tablet PCs","PIPO M6 PRO 9.7 INCH 3G TABLET PC",2,186,{"$f":"Table1[[#This Row],[Count]]*Table1[[#This Row],[Price]]","v":372}]
["2012-09-16",2012,9,"USA","Laptops","14INCH ULTRABOOK",5,234,{"$f":"Table1[[#This Row],[Count]]*Table1[[#This Row],[Price]]","v":1170}]
["2012-09-16",2012,9,"United Kingdom","Tablet PCs","GOOWEEL Q88 PRO A23 DUAL CORE TABLET PC",2,198,{"$f":"Table1[[#This Row],[Count]]*Table1[[#This Row],[Price]]","v":396}]
["2012-09-16",2012,9,"USA","Laptops","14.1\" AIR LAPTOP INTEL D2500",5,270,{"$f":"Table1[[#This Row],[Count]]*Table1[[#This Row],[Price]]","v":1350}]
["2012-09-17",2012,9,"Bulgaria","Laptops","14INCH ULTRABOOK",4,234,{"$f":"Table1[[#This Row],[Count]]*Table1[[#This Row],[Price]]","v":936}]
["2012-09-17",2012,9,"Bulgaria","Tablet PCs","GOOWEEL Q88 PRO A23 DUAL CORE TABLET PC",4,198,{"$f":"Table1[[#This Row],[Count]]*Table1[[#This Row],[Price]]","v":792}]
["2012-09-17",2012,9,"USA","Laptops","14.1\" AIR LAPTOP INTEL D2500",4,270,{"$f":"Table1[[#This Row],[Count]]*Table1[[#This Row],[Price]]","v":1080}]
["2012-09-17",2012,9,"USA","Laptops","14.1\" AIR LAPTOP INTEL D2500",4,270,{"$f":"Table1[[#This Row],[Count]]*Table1[[#This Row],[Price]]","v":1080}]
["2012-09-18",2012,9,"USA","Workstations ","I7 MINI PC WITH HDMI QOTOM-T620",2,342,{"$f":"Table1[[#This Row],[Count]]*Table1[[#This Row],[Price]]","v":684}]
["2012-09-18",2012,9,"USA","Workstations ","CLOUD COMPUTER THIN STATION FL300",5,390,{"$f":"Table1[[#This Row],[Count]]*Table1[[#This Row],[Price]]","v":1950}]
["2012-09-18",2012,9,"Greece","Tablet PCs","10 INCH TABLET HIGH QUALITY TABLET 1GB",2,174,{"$f":"Table1[[#This Row],[Count]]*Table1[[#This Row],[Price]]","v":348}]
["2012-09-18",2012,9,"Germany","Tablet PCs","GOOWEEL Q88 PRO A23 DUAL CORE TABLET PC",4,198,{"$f":"Table1[[#This Row],[Count]]*Table1[[#This Row],[Price]]","v":792}]
["2012-09-19",2012,9,"Estonia","Laptops","THINKPAD T440S",5,258,{"$f":"Table1[[#This Row],[Count]]*Table1[[#This Row],[Price]]","v":1290}]
["2012-09-19",2012,9,"USA","Tablet PCs","ONDA V975M TABLET PC",3,150,{"$f":"Table1[[#This Row],[Count]]*Table1[[#This Row],[Price]]","v":450}]
["2012-09-19",2012,9,"Luxembourg","Tablet PCs","10 INCH TABLET HIGH QUALITY TABLET 1GB",4,174,{"$f":"Table1[[#This Row],[Count]]*Table1[[#This Row],[Price]]","v":696}]
["2012-09-19",2012,9,"USA","Laptops","Y10D 10 INCH VIA 8880",2,246,{"$f":"Table1[[#This Row],[Count]]*Table1[[#This Row],[Price]]","v":492}]
["2012-09-20",2012,9,"USA","Camera & Photo","FUJIFILM FINEPIX SL1000",1,330,{"$f":"Table1[[#This Row],[Count]]*Table1[[#This Row],[Price]]","v":330}]
["2012-09-20",2012,9,"Germany","Laptops","THINKPAD T440S",5,258,{"$f":"Table1[[#This Row],[Count]]*Table1[[#This Row],[Price]]","v":1290}]
["2012-09-20",2012,9,"United Kingdom","Laptops","14INCH ULTRABOOK",4,234,{"$f":"Table1[[#This Row],[Count]]*Table1[[#This Row],[Price]]","v":936}]
["2012-09-20",2012,9,"Bosnia And Herzegovina","Laptops","VIA 8850 ANDROID 4.0",1,282,{"$f":"Table1[[#This Row],[Count]]*Table1[[#This Row],[Price]]","v":282}]
["2012-09-21",2012,9,"Norway","Tablet PCs","7 INCH DUAL CORE ANDROID TABLET PC Q88",2,210,{"$f":"Table1[[#This Row],[Count]]*Table1[[#This Row],[Price]]","v":420}]
["2012-09-21",2012,9,"USA","Tablet PCs","GOOWEEL Q88 PRO A23 DUAL CORE TABLET PC",3,198,{"$f":"Table1[[#This Row],[Count]]*Table1[[#This Row],[Price]]","v":594}]
["2012-09-21",2012,9,"Macedonia","Laptops","14INCH ULTRABOOK",2,234,{"$f":"Table1[[#This Row],[Count]]*Table1[[#This Row],[Price]]","v":468}]
["2012-09-21",2012,9,"Italy","Laptops","THINKPAD E445",3,222,{"$f":"Table1[[#This Row],[Count]]*Table1[[#This Row],[Price]]","v":666}]
["2012-09-22",2012,9,"USA","Laptops","14.1\" AIR LAPTOP INTEL D2500",1,270,{"$f":"Table1[[#This Row],[Count]]*Table1[[#This Row],[Price]]","v":270}]
["2012-09-22",2012,9,"Sweden","Camera & Photo","FUJIFILM FINEPIX SL1000",2,330,{"$f":"Table1[[#This Row],[Count]]*Table1[[#This Row],[Price]]","v":660}]
["2012-09-22",2012,9,"Ukraine","Tablet PCs","GOOWEEL Q88 PRO A23 DUAL CORE TABLET PC",2,198,{"$f":"Table1[[#This Row],[Count]]*Table1[[#This Row],[Price]]","v":396}]
["2012-09-22",2012,9,"France","Workstations ","HIGH PERFORMANCE 4U LCD WORKSTATION C",5,366,{"$f":"Table1[[#This Row],[Count]]*Table1[[#This Row],[Price]]","v":1830}]
["2012-09-23",2012,9,"USA","Laptops","VIA 8850 ANDROID 4.0",2,282,{"$f":"Table1[[#This Row],[Count]]*Table1[[#This Row],[Price]]","v":564}]
["2012-09-23",2012,9,"Croatia","Tablet PCs","TABLET 10-INCH QUAD-CORE A9",4,162,{"$f":"Table1[[#This Row],[Count]]*Table1[[#This Row],[Price]]","v":648}]
["2012-09-23",2012,9,"France","Tablet PCs","PIPO M6 PRO 9.7 INCH 3G TABLET PC",4,186,{"$f":"Table1[[#This Row],[Count]]*Table1[[#This Row],[Price]]","v":744}]
["2012-09-23",2012,9,"Slovenia","Camera & Photo","SONY CYBERSHOT H200",2,318,{"$f":"Table1[[#This Row],[Count]]*Table1[[#This Row],[Price]]","v":636}]
["2012-09-24",2012,9,"Poland","Laptops","VIA 8850 ANDROID 4.0",1,282,{"$f":"Table1[[#This Row],[Count]]*Table1[[#This Row],[Price]]","v":282}]
["2012-09-24",2012,9,"Czech Republic","Workstations ","I7 MINI PC WITH HDMI QOTOM-T620",2,342,{"$f":"Table1[[#This Row],[Count]]*Table1[[#This Row],[Price]]","v":684}]
["2012-09-24",2012,9,"USA","Camera & Photo","SONY CYBERSHOT H200",2,318,{"$f":"Table1[[#This Row],[Count]]*Table1[[#This Row],[Price]]","v":636}]
["2012-09-24",2012,9,"Lithuania","Tablet PCs","PIPO M6 PRO 9.7 INCH 3G TABLET PC",5,186,{"$f":"Table1[[#This Row],[Count]]*Table1[[#This Row],[Price]]","v":930}]
["2012-09-25",2012,9,"Slovenia","Laptops","THINKPAD E445",1,222,{"$f":"Table1[[#This Row],[Count]]*Table1[[#This Row],[Price]]","v":222}]
["2012-09-25",2012,9,"USA","Laptops","VIA 8850 ANDROID 4.0",1,282,{"$f":"Table1[[#This Row],[Count]]*Table1[[#This Row],[Price]]","v":282}]
["2012-09-25",2012,9,"Belarus","Workstations ","SUN BLADE 1500 WORKSTATION BASE SUN B1500",5,378,{"$f":"Table1[[#This Row],[Count]]*Table1[[#This Row],[Price]]","v":1890}]
["2012-09-25",2012,9,"Slovakia","Tablet PCs","GOOWEEL Q88 PRO A23 DUAL CORE TABLET PC",5,198,{"$f":"Table1[[#This Row],[Count]]*Table1[[#This Row],[Price]]","v":990}]
["2012-09-26",2012,9,"Lithuania","Laptops","THINKPAD T440S",4,258,{"$f":"Table1[[#This Row],[Count]]*Table1[[#This Row],[Price]]","v":1032}]
["2012-09-26",2012,9,"Finland","Laptops","14INCH ULTRABOOK",3,234,{"$f":"Table1[[#This Row],[Count]]*Table1[[#This Row],[Price]]","v":702}]
["2012-09-26",2012,9,"United Kingdom","Camera & Photo","SONY CYBERSHOT H200",4,318,{"$f":"Table1[[#This Row],[Count]]*Table1[[#This Row],[Price]]","v":1272}]
["2012-09-26",2012,9,"USA","Laptops","14INCH ULTRABOOK",1,234,{"$f":"Table1[[#This Row],[Count]]*Table1[[#This Row],[Price]]","v":234}]
["2012-09-27",2012,9,"Belarus","Tablet PCs","GOOWEEL Q88 PRO A23 DUAL CORE TABLET PC",2,198,{"$f":"Table1[[#This Row],[Count]]*Table1[[#This Row],[Price]]","v":396}]
["2012-09-27",2012,9,"Belgium","Tablet PCs","ONDA V975M TABLET PC",4,150,{"$f":"Table1[[#This Row],[Count]]*Table1[[#This Row],[Price]]","v":600}]
["2012-09-27",2012,9,"Austria","Workstations ","CLOUD COMPUTER THIN STATION FL300",3,390,{"$f":"Table1[[#This Row],[Count]]*Table1[[#This Row],[Price]]","v":1170}]
["2012-09-27",2012,9,"Latvia","Laptops","THINKPAD E445",1,222,{"$f":"Table1[[#This Row],[Count]]*Table1[[#This Row],[Price]]","v":222}]
["2012-09-28",2012,9,"Italy","Workstations ","SUN BLADE 1500 WORKSTATION BASE SUN B1500",1,378,{"$f":"Table1[[#This Row],[Count]]*Table1[[#This Row],[Price]]","v":378}]
["2012-09-28",2012,9,"Spain","Camera & Photo","D3000 DIGITAL SLR",5,294,{"$f":"Table1[[#This Row],[Count]]*Table1[[#This Row],[Price]]","v":1470}]
["2012-09-28",2012,9,"USA","Camera & Photo","FUJIFILM FINEPIX SL1000",2,330,{"$f":"Table1[[#This Row],[Count]]*Table1[[#This Row],[Price]]","v":660}]
["2012-09-28",2012,9,"USA","Laptops","VIA 8850 ANDROID 4.0",3,282,{"$f":"Table1[[#This Row],[Count]]*Table1[[#This Row],[Price]]","v":846}]
["2012-09-29",2012,9,"USA","Tablet PCs","PIPO M6 PRO 9.7 INCH 3G TABLET PC",3,186,{"$f":"Table1[[#This Row],[Count]]*Table1[[#This Row],[Price]]","v":558}]
["2012-09-29",2012,9,"Belarus","Tablet PCs","10 INCH TABLET HIGH QUALITY TABLET 1GB",5,174,{"$f":"Table1[[#This Row],[Count]]*Table1[[#This Row],[Price]]","v":870}]
["2012-09-29",2012,9,"USA","Tablet PCs","10 INCH TABLET HIGH QUALITY TABLET 1GB",3,174,{"$f":"Table1[[#This Row],[Count]]*Table1[[#This Row],[Price]]","v":522}]
["2012-09-29",2012,9,"Andorra","Laptops","THINKPAD T440S",1,258,{"$f":"Table1[[#This Row],[Count]]*Table1[[#This Row],[Price]]","v":258}]
["2012-09-30",2012,9,"USA","Tablet PCs","PIPO M6 PRO 9.7 INCH 3G TABLET PC",3,186,{"$f":"Table1[[#This Row],[Count]]*Table1[[#This Row],[Price]]","v":558}]
["2012-09-30",2012,9,"USA","Camera & Photo","D3200 DIGITAL SLR",5,306,{"$f":"Table1[[#This Row],[Count]]*Table1[[#This Row],[Price]]","v":1530}]
["2012-09-30",2012,9,"USA","Laptops","VIA 8850 ANDROID 4.0",1,282,{"$f":"Table1[[#This Row],[Count]]*Table1[[#This Row],[Price]]","v":282}]
["2012-09-30",2012,9,"USA","Camera & Photo","FUJIFILM FINEPIX SL1000",1,330,{"$f":"Table1[[#This Row],[Count]]*Table1[[#This Row],[Price]]","v":330}]
["2012-10-01",2012,10,"Finland","Workstations ","CLOUD COMPUTER THIN STATION FL300",2,390,{"$f":"Table1[[#This Row],[Count]]*Table1[[#This Row],[Price]]","v":780}]
["2012-10-01",2012,10,"USA","Tablet PCs","TABLET 10-INCH QUAD-CORE A9",5,162,{"$f":"Table1[[#This Row],[Count]]*Table1[[#This Row],[Price]]","v":810}]
["2012-10-01",2012,10,"Czech Republic","Camera & Photo","D3200 DIGITAL SLR",2,306,{"$f":"Table1[[#This Row],[Count]]*Table1[[#This Row],[Price]]","v":612}]
["2012-10-01",2012,10,"Belgium","Laptops","VIA 8850 ANDROID 4.0",5,282,{"$f":"Table1[[#This Row],[Count]]*Table1[[#This Row],[Price]]","v":1410}]
["2012-10-02",2012,10,"Netherlands","Camera & Photo","FUJIFILM FINEPIX SL1000",5,330,{"$f":"Table1[[#This Row],[Count]]*Table1[[#This Row],[Price]]","v":1650}]
["2012-10-02",2012,10,"USA","Laptops","THINKPAD E445",1,222,{"$f":"Table1[[#This Row],[Count]]*Table1[[#This Row],[Price]]","v":222}]
["2012-10-02",2012,10,"USA","Tablet PCs","7 INCH DUAL CORE ANDROID TABLET PC Q88",1,210,{"$f":"Table1[[#This Row],[Count]]*Table1[[#This Row],[Price]]","v":210}]
["2012-10-02",2012,10,"Serbien und Montenegro","Tablet PCs","10 INCH TABLET HIGH QUALITY TABLET 1GB",3,174,{"$f":"Table1[[#This Row],[Count]]*Table1[[#This Row],[Price]]","v":522}]
["2012-10-03",2012,10,"Czech Republic","Camera & Photo","D3000 DIGITAL SLR",5,294,{"$f":"Table1[[#This Row],[Count]]*Table1[[#This Row],[Price]]","v":1470}]
["2012-10-03",2012,10,"USA","Workstations ","I7 MINI PC WITH HDMI QOTOM-T620",3,342,{"$f":"Table1[[#This Row],[Count]]*Table1[[#This Row],[Price]]","v":1026}]
["2012-10-03",2012,10,"USA","Tablet PCs","10 INCH TABLET HIGH QUALITY TABLET 1GB",4,174,{"$f":"Table1[[#This Row],[Count]]*Table1[[#This Row],[Price]]","v":696}]
["2012-10-03",2012,10,"Croatia","Workstations ","HZONE NCOMPUTING L230",3,354,{"$f":"Table1[[#This Row],[Count]]*Table1[[#This Row],[Price]]","v":1062}]
["2012-10-04",2012,10,"USA","Tablet PCs","ONDA V975M TABLET PC",2,150,{"$f":"Table1[[#This Row],[Count]]*Table1[[#This Row],[Price]]","v":300}]
["2012-10-04",2012,10,"USA","Workstations ","CLOUD COMPUTER THIN STATION FL300",3,390,{"$f":"Table1[[#This Row],[Count]]*Table1[[#This Row],[Price]]","v":1170}]
["2012-10-04",2012,10,"Andorra","Camera & Photo","FUJIFILM FINEPIX SL1000",1,330,{"$f":"Table1[[#This Row],[Count]]*Table1[[#This Row],[Price]]","v":330}]
["2012-10-04",2012,10,"Moldova","Laptops","THINKPAD T440S",4,258,{"$f":"Table1[[#This Row],[Count]]*Table1[[#This Row],[Price]]","v":1032}]
["2012-10-05",2012,10,"USA","Workstations ","HIGH PERFORMANCE 4U LCD WORKSTATION C",3,366,{"$f":"Table1[[#This Row],[Count]]*Table1[[#This Row],[Price]]","v":1098}]
["2012-10-05",2012,10,"Estonia","Tablet PCs","ONDA V975M TABLET PC",1,150,{"$f":"Table1[[#This Row],[Count]]*Table1[[#This Row],[Price]]","v":150}]
["2012-10-05",2012,10,"Lithuania","Workstations ","CLOUD COMPUTER THIN STATION FL300",1,390,{"$f":"Table1[[#This Row],[Count]]*Table1[[#This Row],[Price]]","v":390}]
["2012-10-05",2012,10,"Romania","Laptops","14.1\" AIR LAPTOP INTEL D2500",4,270,{"$f":"Table1[[#This Row],[Count]]*Table1[[#This Row],[Price]]","v":1080}]
["2012-10-06",2012,10,"USA","Laptops","VIA 8850 ANDROID 4.0",4,282,{"$f":"Table1[[#This Row],[Count]]*Table1[[#This Row],[Price]]","v":1128}]
["2012-10-06",2012,10,"USA","Laptops","14.1\" AIR LAPTOP INTEL D2500",4,270,{"$f":"Table1[[#This Row],[Count]]*Table1[[#This Row],[Price]]","v":1080}]
["2012-10-06",2012,10,"Bosnia And Herzegovina","Laptops","14INCH ULTRABOOK",3,234,{"$f":"Table1[[#This Row],[Count]]*Table1[[#This Row],[Price]]","v":702}]
["2012-10-06",2012,10,"USA","Workstations ","I7 MINI PC WITH HDMI QOTOM-T620",2,342,{"$f":"Table1[[#This Row],[Count]]*Table1[[#This Row],[Price]]","v":684}]
["2012-10-07",2012,10,"Australia","Tablet PCs","PIPO M6 PRO 9.7 INCH 3G TABLET PC",3,186,{"$f":"Table1[[#This Row],[Count]]*Table1[[#This Row],[Price]]","v":558}]
["2012-10-07",2012,10,"USA","Laptops","THINKPAD T440S",5,258,{"$f":"Table1[[#This Row],[Count]]*Table1[[#This Row],[Price]]","v":1290}]
["2012-10-07",2012,10,"Switzerland","Workstations ","CLOUD COMPUTER THIN STATION FL300",5,390,{"$f":"Table1[[#This Row],[Count]]*Table1[[#This Row],[Price]]","v":1950}]
["2012-10-07",2012,10,"Lithuania","Workstations ","I7 MINI PC WITH HDMI QOTOM-T620",2,342,{"$f":"Table1[[#This Row],[Count]]*Table1[[#This Row],[Price]]","v":684}]
["2012-10-08",2012,10,"Sweden","Laptops","14.1\" AIR LAPTOP INTEL D2500",1,270,{"$f":"Table1[[#This Row],[Count]]*Table1[[#This Row],[Price]]","v":270}]
["2012-10-08",2012,10,"Greece","Laptops","THINKPAD E445",4,222,{"$f":"Table1[[#This Row],[Count]]*Table1[[#This Row],[Price]]","v":888}]
["2012-10-08",2012,10,"Lithuania","Tablet PCs","ONDA V975M TABLET PC",4,150,{"$f":"Table1[[#This Row],[Count]]*Table1[[#This Row],[Price]]","v":600}]
["2012-10-08",2012,10,"USA","Laptops","VIA 8850 ANDROID 4.0",1,282,{"$f":"Table1[[#This Row],[Count]]*Table1[[#This Row],[Price]]","v":282}]
["2012-10-09",2012,10,"USA","Laptops","THINKPAD T440S",3,258,{"$f":"Table1[[#This Row],[Count]]*Table1[[#This Row],[Price]]","v":774}]
["2012-10-09",2012,10,"USA","Laptops","THINKPAD E445",3,222,{"$f":"Table1[[#This Row],[Count]]*Table1[[#This Row],[Price]]","v":666}]
["2012-10-09",2012,10,"Austria","Laptops","14INCH ULTRABOOK",3,234,{"$f":"Table1[[#This Row],[Count]]*Table1[[#This Row],[Price]]","v":702}]
["2012-10-09",2012,10,"USA","Workstations ","SUN BLADE 1500 WORKSTATION BASE SUN B1500",1,378,{"$f":"Table1[[#This Row],[Count]]*Table1[[#This Row],[Price]]","v":378}]
["2012-10-10",2012,10,"Latvia","Workstations ","I7 MINI PC WITH HDMI QOTOM-T620",2,342,{"$f":"Table1[[#This Row],[Count]]*Table1[[#This Row],[Price]]","v":684}]
["2012-10-10",2012,10,"USA","Camera & Photo","D3000 DIGITAL SLR",2,294,{"$f":"Table1[[#This Row],[Count]]*Table1[[#This Row],[Price]]","v":588}]
["2012-10-10",2012,10,"USA","Workstations ","HIGH PERFORMANCE 4U LCD WORKSTATION C",5,366,{"$f":"Table1[[#This Row],[Count]]*Table1[[#This Row],[Price]]","v":1830}]
["2012-10-10",2012,10,"Serbien und Montenegro","Tablet PCs","7 INCH DUAL CORE ANDROID TABLET PC Q88",2,210,{"$f":"Table1[[#This Row],[Count]]*Table1[[#This Row],[Price]]","v":420}]
["2012-10-11",2012,10,"USA","Tablet PCs","ONDA V975M TABLET PC",2,150,{"$f":"Table1[[#This Row],[Count]]*Table1[[#This Row],[Price]]","v":300}]
["2012-10-11",2012,10,"Lithuania","Camera & Photo","D3000 DIGITAL SLR",4,294,{"$f":"Table1[[#This Row],[Count]]*Table1[[#This Row],[Price]]","v":1176}]
["2012-10-11",2012,10,"France","Laptops","THINKPAD T440S",4,258,{"$f":"Table1[[#This Row],[Count]]*Table1[[#This Row],[Price]]","v":1032}]
["2012-10-11",2012,10,"USA","Camera & Photo","SONY CYBERSHOT H200",5,318,{"$f":"Table1[[#This Row],[Count]]*Table1[[#This Row],[Price]]","v":1590}]
["2012-10-12",2012,10,"Lithuania","Tablet PCs","ONDA V975M TABLET PC",5,150,{"$f":"Table1[[#This Row],[Count]]*Table1[[#This Row],[Price]]","v":750}]
["2012-10-12",2012,10,"Australia","Tablet PCs","7 INCH DUAL CORE ANDROID TABLET PC Q88",1,210,{"$f":"Table1[[#This Row],[Count]]*Table1[[#This Row],[Price]]","v":210}]
["2012-10-12",2012,10,"USA","Workstations ","I7 MINI PC WITH HDMI QOTOM-T620",5,342,{"$f":"Table1[[#This Row],[Count]]*Table1[[#This Row],[Price]]","v":1710}]
["2012-10-12",2012,10,"Ireland","Workstations ","HIGH PERFORMANCE 4U LCD WORKSTATION C",2,366,{"$f":"Table1[[#This Row],[Count]]*Table1[[#This Row],[Price]]","v":732}]
["2012-10-13",2012,10,"Czech Republic","Laptops","THINKPAD E445",2,222,{"$f":"Table1[[#This Row],[Count]]*Table1[[#This Row],[Price]]","v":444}]
["2012-10-13",2012,10,"Monaco","Laptops","Y10D 10 INCH VIA 8880",2,246,{"$f":"Table1[[#This Row],[Count]]*Table1[[#This Row],[Price]]","v":492}]
["2012-10-13",2012,10,"Ireland","Laptops","THINKPAD T440S",3,258,{"$f":"Table1[[#This Row],[Count]]*Table1[[#This Row],[Price]]","v":774}]
["2012-10-13",2012,10,"USA","Laptops","THINKPAD T440S",4,258,{"$f":"Table1[[#This Row],[Count]]*Table1[[#This Row],[Price]]","v":1032}]
["2012-10-14",2012,10,"Malta","Laptops","THINKPAD E445",2,222,{"$f":"Table1[[#This Row],[Count]]*Table1[[#This Row],[Price]]","v":444}]
["2012-10-14",2012,10,"Spain","Workstations ","CLOUD COMPUTER THIN STATION FL300",3,390,{"$f":"Table1[[#This Row],[Count]]*Table1[[#This Row],[Price]]","v":1170}]
["2012-10-14",2012,10,"USA","Laptops","VIA 8850 ANDROID 4.0",2,282,{"$f":"Table1[[#This Row],[Count]]*Table1[[#This Row],[Price]]","v":564}]
["2012-10-14",2012,10,"USA","Workstations ","HZONE NCOMPUTING L230",5,354,{"$f":"Table1[[#This Row],[Count]]*Table1[[#This Row],[Price]]","v":1770}]
["2012-10-15",2012,10,"Poland","Tablet PCs","TABLET 10-INCH QUAD-CORE A9",4,162,{"$f":"Table1[[#This Row],[Count]]*Table1[[#This Row],[Price]]","v":648}]
["2012-10-15",2012,10,"Netherlands","Workstations ","HZONE NCOMPUTING L230",5,354,{"$f":"Table1[[#This Row],[Count]]*Table1[[#This Row],[Price]]","v":1770}]
["2012-10-15",2012,10,"USA","Camera & Photo","SONY CYBERSHOT H200",1,318,{"$f":"Table1[[#This Row],[Count]]*Table1[[#This Row],[Price]]","v":318}]
["2012-10-15",2012,10,"Albania","Camera & Photo","SONY CYBERSHOT H200",1,318,{"$f":"Table1[[#This Row],[Count]]*Table1[[#This Row],[Price]]","v":318}]
["2012-10-16",2012,10,"Austria","Tablet PCs","10 INCH TABLET HIGH QUALITY TABLET 1GB",4,174,{"$f":"Table1[[#This Row],[Count]]*Table1[[#This Row],[Price]]","v":696}]
["2012-10-16",2012,10,"Lithuania","Tablet PCs","PIPO M6 PRO 9.7 INCH 3G TABLET PC",1,186,{"$f":"Table1[[#This Row],[Count]]*Table1[[#This Row],[Price]]","v":186}]
["2012-10-16",2012,10,"Sweden","Laptops","THINKPAD E445",1,222,{"$f":"Table1[[#This Row],[Count]]*Table1[[#This Row],[Price]]","v":222}]
["2012-10-16",2012,10,"USA","Tablet PCs","ONDA V975M TABLET PC",4,150,{"$f":"Table1[[#This Row],[Count]]*Table1[[#This Row],[Price]]","v":600}]
["2012-10-17",2012,10,"Bulgaria","Laptops","14INCH ULTRABOOK",2,234,{"$f":"Table1[[#This Row],[Count]]*Table1[[#This Row],[Price]]","v":468}]
["2012-10-17",2012,10,"Italy","Tablet PCs","PIPO M6 PRO 9.7 INCH 3G TABLET PC",5,186,{"$f":"Table1[[#This Row],[Count]]*Table1[[#This Row],[Price]]","v":930}]
["2012-10-17",2012,10,"Belgium","Camera & Photo","SONY CYBERSHOT H200",1,318,{"$f":"Table1[[#This Row],[Count]]*Table1[[#This Row],[Price]]","v":318}]
["2012-10-17",2012,10,"Germany","Camera & Photo","SONY CYBERSHOT H200",4,318,{"$f":"Table1[[#This Row],[Count]]*Table1[[#This Row],[Price]]","v":1272}]
["2012-10-18",2012,10,"Montenegro","Camera & Photo","D3000 DIGITAL SLR",1,294,{"$f":"Table1[[#This Row],[Count]]*Table1[[#This Row],[Price]]","v":294}]
["2012-10-18",2012,10,"USA","Laptops","14.1\" AIR LAPTOP INTEL D2500",5,270,{"$f":"Table1[[#This Row],[Count]]*Table1[[#This Row],[Price]]","v":1350}]
["2012-10-18",2012,10,"USA","Camera & Photo","SONY CYBERSHOT H200",3,318,{"$f":"Table1[[#This Row],[Count]]*Table1[[#This Row],[Price]]","v":954}]
["2012-10-18",2012,10,"USA","Laptops","VIA 8850 ANDROID 4.0",1,282,{"$f":"Table1[[#This Row],[Count]]*Table1[[#This Row],[Price]]","v":282}]
["2012-10-19",2012,10,"USA","Camera & Photo","D3200 DIGITAL SLR",1,306,{"$f":"Table1[[#This Row],[Count]]*Table1[[#This Row],[Price]]","v":306}]
["2012-10-19",2012,10,"USA","Workstations ","CLOUD COMPUTER THIN STATION FL300",5,390,{"$f":"Table1[[#This Row],[Count]]*Table1[[#This Row],[Price]]","v":1950}]
["2012-10-19",2012,10,"USA","Camera & Photo","SONY CYBERSHOT H200",1,318,{"$f":"Table1[[#This Row],[Count]]*Table1[[#This Row],[Price]]","v":318}]
["2012-10-19",2012,10,"USA","Laptops","THINKPAD T440S",1,258,{"$f":"Table1[[#This Row],[Count]]*Table1[[#This Row],[Price]]","v":258}]
["2012-10-20",2012,10,"Spain","Laptops","THINKPAD E445",4,222,{"$f":"Table1[[#This Row],[Count]]*Table1[[#This Row],[Price]]","v":888}]
["2012-10-20",2012,10,"USA","Camera & Photo","FUJIFILM FINEPIX SL1000",4,330,{"$f":"Table1[[#This Row],[Count]]*Table1[[#This Row],[Price]]","v":1320}]
["2012-10-20",2012,10,"Netherlands","Laptops","VIA 8850 ANDROID 4.0",3,282,{"$f":"Table1[[#This Row],[Count]]*Table1[[#This Row],[Price]]","v":846}]
["2012-10-20",2012,10,"USA","Camera & Photo","D3200 DIGITAL SLR",1,306,{"$f":"Table1[[#This Row],[Count]]*Table1[[#This Row],[Price]]","v":306}]
["2012-10-21",2012,10,"Monaco","Tablet PCs","7 INCH DUAL CORE ANDROID TABLET PC Q88",1,210,{"$f":"Table1[[#This Row],[Count]]*Table1[[#This Row],[Price]]","v":210}]
["2012-10-21",2012,10,"Montenegro","Workstations ","HIGH PERFORMANCE 4U LCD WORKSTATION C",2,366,{"$f":"Table1[[#This Row],[Count]]*Table1[[#This Row],[Price]]","v":732}]
["2012-10-21",2012,10,"USA","Laptops","14INCH ULTRABOOK",4,234,{"$f":"Table1[[#This Row],[Count]]*Table1[[#This Row],[Price]]","v":936}]
["2012-10-21",2012,10,"Moldova","Laptops","14INCH ULTRABOOK",2,234,{"$f":"Table1[[#This Row],[Count]]*Table1[[#This Row],[Price]]","v":468}]
["2012-10-22",2012,10,"USA","Camera & Photo","SONY CYBERSHOT H200",2,318,{"$f":"Table1[[#This Row],[Count]]*Table1[[#This Row],[Price]]","v":636}]
["2012-10-22",2012,10,"Romania","Tablet PCs","ONDA V975M TABLET PC",4,150,{"$f":"Table1[[#This Row],[Count]]*Table1[[#This Row],[Price]]","v":600}]
["2012-10-22",2012,10,"Netherlands","Tablet PCs","ONDA V975M TABLET PC",4,150,{"$f":"Table1[[#This Row],[Count]]*Table1[[#This Row],[Price]]","v":600}]
["2012-10-22",2012,10,"Bosnia And Herzegovina","Camera & Photo","D3200 DIGITAL SLR",3,306,{"$f":"Table1[[#This Row],[Count]]*Table1[[#This Row],[Price]]","v":918}]
["2012-10-23",2012,10,"Ukraine","Laptops","VIA 8850 ANDROID 4.0",4,282,{"$f":"Table1[[#This Row],[Count]]*Table1[[#This Row],[Price]]","v":1128}]
["2012-10-23",2012,10,"USA","Tablet PCs","10 INCH TABLET HIGH QUALITY TABLET 1GB",3,174,{"$f":"Table1[[#This Row],[Count]]*Table1[[#This Row],[Price]]","v":522}]
["2012-10-23",2012,10,"USA","Workstations ","I7 MINI PC WITH HDMI QOTOM-T620",2,342,{"$f":"Table1[[#This Row],[Count]]*Table1[[#This Row],[Price]]","v":684}]
["2012-10-23",2012,10,"Denmark","Tablet PCs","ONDA V975M TABLET PC",1,150,{"$f":"Table1[[#This Row],[Count]]*Table1[[#This Row],[Price]]","v":150}]
["2012-10-24",2012,10,"Ireland","Workstations ","CLOUD COMPUTER THIN STATION FL300",2,390,{"$f":"Table1[[#This Row],[Count]]*Table1[[#This Row],[Price]]","v":780}]
["2012-10-24",2012,10,"USA","Camera & Photo","FUJIFILM FINEPIX SL1000",5,330,{"$f":"Table1[[#This Row],[Count]]*Table1[[#This Row],[Price]]","v":1650}]
["2012-10-24",2012,10,"Macedonia","Camera & Photo","FUJIFILM FINEPIX SL1000",3,330,{"$f":"Table1[[#This Row],[Count]]*Table1[[#This Row],[Price]]","v":990}]
["2012-10-24",2012,10,"Albania","Tablet PCs","PIPO M6 PRO 9.7 INCH 3G TABLET PC",4,186,{"$f":"Table1[[#This Row],[Count]]*Table1[[#This Row],[Price]]","v":744}]
["2012-10-25",2012,10,"Bulgaria","Tablet PCs","10 INCH TABLET HIGH QUALITY TABLET 1GB",5,174,{"$f":"Table1[[#This Row],[Count]]*Table1[[#This Row],[Price]]","v":870}]
["2012-10-25",2012,10,"USA","Laptops","VIA 8850 ANDROID 4.0",4,282,{"$f":"Table1[[#This Row],[Count]]*Table1[[#This Row],[Price]]","v":1128}]
["2012-10-25",2012,10,"USA","Camera & Photo","FUJIFILM FINEPIX SL1000",2,330,{"$f":"Table1[[#This Row],[Count]]*Table1[[#This Row],[Price]]","v":660}]
["2012-10-25",2012,10,"USA","Workstations ","HZONE NCOMPUTING L230",3,354,{"$f":"Table1[[#This Row],[Count]]*Table1[[#This Row],[Price]]","v":1062}]
["2012-10-26",2012,10,"USA","Laptops","THINKPAD T440S",1,258,{"$f":"Table1[[#This Row],[Count]]*Table1[[#This Row],[Price]]","v":258}]
["2012-10-26",2012,10,"Hungary","Camera & Photo","SONY CYBERSHOT H200",5,318,{"$f":"Table1[[#This Row],[Count]]*Table1[[#This Row],[Price]]","v":1590}]
["2012-10-26",2012,10,"USA","Workstations ","SUN BLADE 1500 WORKSTATION BASE SUN B1500",1,378,{"$f":"Table1[[#This Row],[Count]]*Table1[[#This Row],[Price]]","v":378}]
["2012-10-26",2012,10,"USA","Tablet PCs","GOOWEEL Q88 PRO A23 DUAL CORE TABLET PC",4,198,{"$f":"Table1[[#This Row],[Count]]*Table1[[#This Row],[Price]]","v":792}]
["2012-10-27",2012,10,"Hungary","Workstations ","SUN BLADE 1500 WORKSTATION BASE SUN B1500",3,378,{"$f":"Table1[[#This Row],[Count]]*Table1[[#This Row],[Price]]","v":1134}]
["2012-10-27",2012,10,"Ireland","Camera & Photo","D3200 DIGITAL SLR",4,306,{"$f":"Table1[[#This Row],[Count]]*Table1[[#This Row],[Price]]","v":1224}]
["2012-10-27",2012,10,"Sweden","Camera & Photo","SONY CYBERSHOT H200",1,318,{"$f":"Table1[[#This Row],[Count]]*Table1[[#This Row],[Price]]","v":318}]
["2012-10-27",2012,10,"Liechtenstein","Laptops","14.1\" AIR LAPTOP INTEL D2500",2,270,{"$f":"Table1[[#This Row],[Count]]*Table1[[#This Row],[Price]]","v":540}]
["2012-10-28",2012,10,"Sweden","Workstations ","CLOUD COMPUTER THIN STATION FL300",1,390,{"$f":"Table1[[#This Row],[Count]]*Table1[[#This Row],[Price]]","v":390}]
["2012-10-28",2012,10,"USA","Laptops","THINKPAD T440S",3,258,{"$f":"Table1[[#This Row],[Count]]*Table1[[#This Row],[Price]]","v":774}]
["2012-10-28",2012,10,"USA","Workstations ","CLOUD COMPUTER THIN STATION FL300",4,390,{"$f":"Table1[[#This Row],[Count]]*Table1[[#This Row],[Price]]","v":1560}]
["2012-10-28",2012,10,"USA","Laptops","14.1\" AIR LAPTOP INTEL D2500",5,270,{"$f":"Table1[[#This Row],[Count]]*Table1[[#This Row],[Price]]","v":1350}]
["2012-10-29",2012,10,"Australia","Laptops","14.1\" AIR LAPTOP INTEL D2500",4,270,{"$f":"Table1[[#This Row],[Count]]*Table1[[#This Row],[Price]]","v":1080}]
["2012-10-29",2012,10,"Georgia","Laptops","14INCH ULTRABOOK",5,234,{"$f":"Table1[[#This Row],[Count]]*Table1[[#This Row],[Price]]","v":1170}]
["2012-10-29",2012,10,"USA","Laptops","14.1\" AIR LAPTOP INTEL D2500",2,270,{"$f":"Table1[[#This Row],[Count]]*Table1[[#This Row],[Price]]","v":540}]
["2012-10-29",2012,10,"Ireland","Workstations ","HZONE NCOMPUTING L230",4,354,{"$f":"Table1[[#This Row],[Count]]*Table1[[#This Row],[Price]]","v":1416}]
["2012-10-30",2012,10,"USA","Tablet PCs","GOOWEEL Q88 PRO A23 DUAL CORE TABLET PC",3,198,{"$f":"Table1[[#This Row],[Count]]*Table1[[#This Row],[Price]]","v":594}]
["2012-10-30",2012,10,"Slovakia","Workstations ","CLOUD COMPUTER THIN STATION FL300",4,390,{"$f":"Table1[[#This Row],[Count]]*Table1[[#This Row],[Price]]","v":1560}]
["2012-10-30",2012,10,"Denmark","Workstations ","I7 MINI PC WITH HDMI QOTOM-T620",4,342,{"$f":"Table1[[#This Row],[Count]]*Table1[[#This Row],[Price]]","v":1368}]
["2012-10-30",2012,10,"Portugal","Camera & Photo","D3200 DIGITAL SLR",2,306,{"$f":"Table1[[#This Row],[Count]]*Table1[[#This Row],[Price]]","v":612}]
["2012-10-31",2012,10,"Australia","Laptops","THINKPAD T440S",3,258,{"$f":"Table1[[#This Row],[Count]]*Table1[[#This Row],[Price]]","v":774}]
["2012-10-31",2012,10,"Lithuania","Laptops","THINKPAD T440S",2,258,{"$f":"Table1[[#This Row],[Count]]*Table1[[#This Row],[Price]]","v":516}]
["2012-10-31",2012,10,"USA","Tablet PCs","10 INCH TABLET HIGH QUALITY TABLET 1GB",4,174,{"$f":"Table1[[#This Row],[Count]]*Table1[[#This Row],[Price]]","v":696}]
["2012-10-31",2012,10,"Bulgaria","Camera & Photo","FUJIFILM FINEPIX SL1000",3,330,{"$f":"Table1[[#This Row],[Count]]*Table1[[#This Row],[Price]]","v":990}]
["2012-11-01",2012,11,"USA","Camera & Photo","D3000 DIGITAL SLR",3,294,{"$f":"Table1[[#This Row],[Count]]*Table1[[#This Row],[Price]]","v":882}]
["2012-11-01",2012,11,"USA","Camera & Photo","D3200 DIGITAL SLR",5,306,{"$f":"Table1[[#This Row],[Count]]*Table1[[#This Row],[Price]]","v":1530}]
["2012-11-01",2012,11,"Sweden","Laptops","14INCH ULTRABOOK",3,234,{"$f":"Table1[[#This Row],[Count]]*Table1[[#This Row],[Price]]","v":702}]
["2012-11-01",2012,11,"USA","Tablet PCs","7 INCH DUAL CORE ANDROID TABLET PC Q88",4,210,{"$f":"Table1[[#This Row],[Count]]*Table1[[#This Row],[Price]]","v":840}]
["2012-11-02",2012,11,"Germany","Workstations ","CLOUD COMPUTER THIN STATION FL300",4,390,{"$f":"Table1[[#This Row],[Count]]*Table1[[#This Row],[Price]]","v":1560}]
["2012-11-02",2012,11,"USA","Tablet PCs","TABLET 10-INCH QUAD-CORE A9",2,162,{"$f":"Table1[[#This Row],[Count]]*Table1[[#This Row],[Price]]","v":324}]
["2012-11-02",2012,11,"USA","Tablet PCs","10 INCH TABLET HIGH QUALITY TABLET 1GB",3,174,{"$f":"Table1[[#This Row],[Count]]*Table1[[#This Row],[Price]]","v":522}]
["2012-11-02",2012,11,"Serbien und Montenegro","Tablet PCs","TABLET 10-INCH QUAD-CORE A9",4,162,{"$f":"Table1[[#This Row],[Count]]*Table1[[#This Row],[Price]]","v":648}]
["2012-11-03",2012,11,"Denmark","Laptops","14INCH ULTRABOOK",5,234,{"$f":"Table1[[#This Row],[Count]]*Table1[[#This Row],[Price]]","v":1170}]
["2012-11-03",2012,11,"Albania","Workstations ","HZONE NCOMPUTING L230",4,354,{"$f":"Table1[[#This Row],[Count]]*Table1[[#This Row],[Price]]","v":1416}]
["2012-11-03",2012,11,"USA","Workstations ","CLOUD COMPUTER THIN STATION FL300",2,390,{"$f":"Table1[[#This Row],[Count]]*Table1[[#This Row],[Price]]","v":780}]
["2012-11-03",2012,11,"USA","Workstations ","I7 MINI PC WITH HDMI QOTOM-T620",2,342,{"$f":"Table1[[#This Row],[Count]]*Table1[[#This Row],[Price]]","v":684}]
["2012-11-04",2012,11,"United Kingdom","Camera & Photo","D3200 DIGITAL SLR",5,306,{"$f":"Table1[[#This Row],[Count]]*Table1[[#This Row],[Price]]","v":1530}]
["2012-11-04",2012,11,"Australia","Laptops","Y10D 10 INCH VIA 8880",2,246,{"$f":"Table1[[#This Row],[Count]]*Table1[[#This Row],[Price]]","v":492}]
["2012-11-04",2012,11,"USA","Tablet PCs","PIPO M6 PRO 9.7 INCH 3G TABLET PC",3,186,{"$f":"Table1[[#This Row],[Count]]*Table1[[#This Row],[Price]]","v":558}]
["2012-11-04",2012,11,"Romania","Workstations ","SUN BLADE 1500 WORKSTATION BASE SUN B1500",5,378,{"$f":"Table1[[#This Row],[Count]]*Table1[[#This Row],[Price]]","v":1890}]
["2012-11-05",2012,11,"USA","Laptops","14.1\" AIR LAPTOP INTEL D2500",5,270,{"$f":"Table1[[#This Row],[Count]]*Table1[[#This Row],[Price]]","v":1350}]
["2012-11-05",2012,11,"Malta","Laptops","THINKPAD T440S",1,258,{"$f":"Table1[[#This Row],[Count]]*Table1[[#This Row],[Price]]","v":258}]
["2012-11-05",2012,11,"United Kingdom","Camera & Photo","SONY CYBERSHOT H200",4,318,{"$f":"Table1[[#This Row],[Count]]*Table1[[#This Row],[Price]]","v":1272}]
["2012-11-05",2012,11,"Slovakia","Tablet PCs","GOOWEEL Q88 PRO A23 DUAL CORE TABLET PC",2,198,{"$f":"Table1[[#This Row],[Count]]*Table1[[#This Row],[Price]]","v":396}]
["2012-11-06",2012,11,"USA","Laptops","VIA 8850 ANDROID 4.0",1,282,{"$f":"Table1[[#This Row],[Count]]*Table1[[#This Row],[Price]]","v":282}]
["2012-11-06",2012,11,"Bulgaria","Tablet PCs","PIPO M6 PRO 9.7 INCH 3G TABLET PC",4,186,{"$f":"Table1[[#This Row],[Count]]*Table1[[#This Row],[Price]]","v":744}]
["2012-11-06",2012,11,"USA","Camera & Photo","SONY CYBERSHOT H200",2,318,{"$f":"Table1[[#This Row],[Count]]*Table1[[#This Row],[Price]]","v":636}]
["2012-11-06",2012,11,"USA","Tablet PCs","GOOWEEL Q88 PRO A23 DUAL CORE TABLET PC",1,198,{"$f":"Table1[[#This Row],[Count]]*Table1[[#This Row],[Price]]","v":198}]
["2012-11-07",2012,11,"USA","Workstations ","SUN BLADE 1500 WORKSTATION BASE SUN B1500",2,378,{"$f":"Table1[[#This Row],[Count]]*Table1[[#This Row],[Price]]","v":756}]
["2012-11-07",2012,11,"Montenegro","Camera & Photo","D3200 DIGITAL SLR",5,306,{"$f":"Table1[[#This Row],[Count]]*Table1[[#This Row],[Price]]","v":1530}]
["2012-11-07",2012,11,"USA","Tablet PCs","PIPO M6 PRO 9.7 INCH 3G TABLET PC",4,186,{"$f":"Table1[[#This Row],[Count]]*Table1[[#This Row],[Price]]","v":744}]
["2012-11-07",2012,11,"Hungary","Camera & Photo","SONY CYBERSHOT H200",1,318,{"$f":"Table1[[#This Row],[Count]]*Table1[[#This Row],[Price]]","v":318}]
["2012-11-08",2012,11,"USA","Tablet PCs","TABLET 10-INCH QUAD-CORE A9",3,162,{"$f":"Table1[[#This Row],[Count]]*Table1[[#This Row],[Price]]","v":486}]
["2012-11-08",2012,11,"USA","Laptops","Y10D 10 INCH VIA 8880",2,246,{"$f":"Table1[[#This Row],[Count]]*Table1[[#This Row],[Price]]","v":492}]
["2012-11-08",2012,11,"USA","Tablet PCs","TABLET 10-INCH QUAD-CORE A9",1,162,{"$f":"Table1[[#This Row],[Count]]*Table1[[#This Row],[Price]]","v":162}]
["2012-11-08",2012,11,"Montenegro","Tablet PCs","PIPO M6 PRO 9.7 INCH 3G TABLET PC",3,186,{"$f":"Table1[[#This Row],[Count]]*Table1[[#This Row],[Price]]","v":558}]
["2012-11-09",2012,11,"Switzerland","Workstations ","SUN BLADE 1500 WORKSTATION BASE SUN B1500",4,378,{"$f":"Table1[[#This Row],[Count]]*Table1[[#This Row],[Price]]","v":1512}]
["2012-11-09",2012,11,"Moldova","Tablet PCs","ONDA V975M TABLET PC",2,150,{"$f":"Table1[[#This Row],[Count]]*Table1[[#This Row],[Price]]","v":300}]
["2012-11-09",2012,11,"USA","Workstations ","SUN BLADE 1500 WORKSTATION BASE SUN B1500",5,378,{"$f":"Table1[[#This Row],[Count]]*Table1[[#This Row],[Price]]","v":1890}]
["2012-11-09",2012,11,"USA","Laptops","THINKPAD E445",2,222,{"$f":"Table1[[#This Row],[Count]]*Table1[[#This Row],[Price]]","v":444}]
["2012-11-10",2012,11,"USA","Workstations ","I7 MINI PC WITH HDMI QOTOM-T620",3,342,{"$f":"Table1[[#This Row],[Count]]*Table1[[#This Row],[Price]]","v":1026}]
["2012-11-10",2012,11,"USA","Workstations ","HZONE NCOMPUTING L230",3,354,{"$f":"Table1[[#This Row],[Count]]*Table1[[#This Row],[Price]]","v":1062}]
["2012-11-10",2012,11,"USA","Camera & Photo","FUJIFILM FINEPIX SL1000",3,330,{"$f":"Table1[[#This Row],[Count]]*Table1[[#This Row],[Price]]","v":990}]
["2012-11-10",2012,11,"Italy","Tablet PCs","TABLET 10-INCH QUAD-CORE A9",2,162,{"$f":"Table1[[#This Row],[Count]]*Table1[[#This Row],[Price]]","v":324}]
["2012-11-11",2012,11,"Croatia","Laptops","14INCH ULTRABOOK",3,234,{"$f":"Table1[[#This Row],[Count]]*Table1[[#This Row],[Price]]","v":702}]
["2012-11-11",2012,11,"Portugal","Workstations ","CLOUD COMPUTER THIN STATION FL300",3,390,{"$f":"Table1[[#This Row],[Count]]*Table1[[#This Row],[Price]]","v":1170}]
["2012-11-11",2012,11,"USA","Laptops","14INCH ULTRABOOK",2,234,{"$f":"Table1[[#This Row],[Count]]*Table1[[#This Row],[Price]]","v":468}]
["2012-11-11",2012,11,"Croatia","Workstations ","I7 MINI PC WITH HDMI QOTOM-T620",1,342,{"$f":"Table1[[#This Row],[Count]]*Table1[[#This Row],[Price]]","v":342}]
["2012-11-12",2012,11,"Sweden","Laptops","14.1\" AIR LAPTOP INTEL D2500",4,270,{"$f":"Table1[[#This Row],[Count]]*Table1[[#This Row],[Price]]","v":1080}]
["2012-11-12",2012,11,"Albania","Laptops","Y10D 10 INCH VIA 8880",3,246,{"$f":"Table1[[#This Row],[Count]]*Table1[[#This Row],[Price]]","v":738}]
["2012-11-12",2012,11,"Ireland","Laptops","VIA 8850 ANDROID 4.0",4,282,{"$f":"Table1[[#This Row],[Count]]*Table1[[#This Row],[Price]]","v":1128}]
["2012-11-12",2012,11,"USA","Workstations ","CLOUD COMPUTER THIN STATION FL300",4,390,{"$f":"Table1[[#This Row],[Count]]*Table1[[#This Row],[Price]]","v":1560}]
["2012-11-13",2012,11,"United Kingdom","Camera & Photo","D3200 DIGITAL SLR",1,306,{"$f":"Table1[[#This Row],[Count]]*Table1[[#This Row],[Price]]","v":306}]
["2012-11-13",2012,11,"Finland","Workstations ","HIGH PERFORMANCE 4U LCD WORKSTATION C",2,366,{"$f":"Table1[[#This Row],[Count]]*Table1[[#This Row],[Price]]","v":732}]
["2012-11-13",2012,11,"Germany","Laptops","14INCH ULTRABOOK",3,234,{"$f":"Table1[[#This Row],[Count]]*Table1[[#This Row],[Price]]","v":702}]
["2012-11-13",2012,11,"Macedonia","Tablet PCs","ONDA V975M TABLET PC",1,150,{"$f":"Table1[[#This Row],[Count]]*Table1[[#This Row],[Price]]","v":150}]
["2012-11-14",2012,11,"Latvia","Tablet PCs","PIPO M6 PRO 9.7 INCH 3G TABLET PC",2,186,{"$f":"Table1[[#This Row],[Count]]*Table1[[#This Row],[Price]]","v":372}]
["2012-11-14",2012,11,"Belarus","Laptops","14INCH ULTRABOOK",2,234,{"$f":"Table1[[#This Row],[Count]]*Table1[[#This Row],[Price]]","v":468}]
["2012-11-14",2012,11,"Australia","Camera & Photo","D3200 DIGITAL SLR",1,306,{"$f":"Table1[[#This Row],[Count]]*Table1[[#This Row],[Price]]","v":306}]
["2012-11-14",2012,11,"Moldova","Workstations ","HIGH PERFORMANCE 4U LCD WORKSTATION C",3,366,{"$f":"Table1[[#This Row],[Count]]*Table1[[#This Row],[Price]]","v":1098}]
["2012-11-15",2012,11,"USA","Laptops","THINKPAD E445",1,222,{"$f":"Table1[[#This Row],[Count]]*Table1[[#This Row],[Price]]","v":222}]
["2012-11-15",2012,11,"Australia","Laptops","Y10D 10 INCH VIA 8880",5,246,{"$f":"Table1[[#This Row],[Count]]*Table1[[#This Row],[Price]]","v":1230}]
["2012-11-15",2012,11,"Netherlands","Camera & Photo","FUJIFILM FINEPIX SL1000",2,330,{"$f":"Table1[[#This Row],[Count]]*Table1[[#This Row],[Price]]","v":660}]
["2012-11-15",2012,11,"Australia","Camera & Photo","D3000 DIGITAL SLR",3,294,{"$f":"Table1[[#This Row],[Count]]*Table1[[#This Row],[Price]]","v":882}]
["2012-11-16",2012,11,"Sweden","Tablet PCs","7 INCH DUAL CORE ANDROID TABLET PC Q88",1,210,{"$f":"Table1[[#This Row],[Count]]*Table1[[#This Row],[Price]]","v":210}]
["2012-11-16",2012,11,"USA","Laptops","14.1\" AIR LAPTOP INTEL D2500",2,270,{"$f":"Table1[[#This Row],[Count]]*Table1[[#This Row],[Price]]","v":540}]
["2012-11-16",2012,11,"Estonia","Tablet PCs","7 INCH DUAL CORE ANDROID TABLET PC Q88",4,210,{"$f":"Table1[[#This Row],[Count]]*Table1[[#This Row],[Price]]","v":840}]
["2012-11-16",2012,11,"Austria","Workstations ","CLOUD COMPUTER THIN STATION FL300",5,390,{"$f":"Table1[[#This Row],[Count]]*Table1[[#This Row],[Price]]","v":1950}]
["2012-11-17",2012,11,"USA","Camera & Photo","D3200 DIGITAL SLR",4,306,{"$f":"Table1[[#This Row],[Count]]*Table1[[#This Row],[Price]]","v":1224}]
["2012-11-17",2012,11,"Georgia","Camera & Photo","FUJIFILM FINEPIX SL1000",1,330,{"$f":"Table1[[#This Row],[Count]]*Table1[[#This Row],[Price]]","v":330}]
["2012-11-17",2012,11,"Macedonia","Camera & Photo","D3200 DIGITAL SLR",4,306,{"$f":"Table1[[#This Row],[Count]]*Table1[[#This Row],[Price]]","v":1224}]
["2012-11-17",2012,11,"Sweden","Laptops","THINKPAD E445",5,222,{"$f":"Table1[[#This Row],[Count]]*Table1[[#This Row],[Price]]","v":1110}]
["2012-11-18",2012,11,"USA","Tablet PCs","TABLET 10-INCH QUAD-CORE A9",3,162,{"$f":"Table1[[#This Row],[Count]]*Table1[[#This Row],[Price]]","v":486}]
["2012-11-18",2012,11,"Montenegro","Camera & Photo","FUJIFILM FINEPIX SL1000",5,330,{"$f":"Table1[[#This Row],[Count]]*Table1[[#This Row],[Price]]","v":1650}]
["2012-11-18",2012,11,"Germany","Workstations ","SUN BLADE 1500 WORKSTATION BASE SUN B1500",1,378,{"$f":"Table1[[#This Row],[Count]]*Table1[[#This Row],[Price]]","v":378}]
["2012-11-18",2012,11,"Germany","Camera & Photo","D3000 DIGITAL SLR",5,294,{"$f":"Table1[[#This Row],[Count]]*Table1[[#This Row],[Price]]","v":1470}]
["2012-11-19",2012,11,"Australia","Workstations ","HZONE NCOMPUTING L230",2,354,{"$f":"Table1[[#This Row],[Count]]*Table1[[#This Row],[Price]]","v":708}]
["2012-11-19",2012,11,"USA","Tablet PCs","7 INCH DUAL CORE ANDROID TABLET PC Q88",2,210,{"$f":"Table1[[#This Row],[Count]]*Table1[[#This Row],[Price]]","v":420}]
["2012-11-19",2012,11,"USA","Workstations ","HIGH PERFORMANCE 4U LCD WORKSTATION C",5,366,{"$f":"Table1[[#This Row],[Count]]*Table1[[#This Row],[Price]]","v":1830}]
["2012-11-19",2012,11,"Belarus","Workstations ","SUN BLADE 1500 WORKSTATION BASE SUN B1500",3,378,{"$f":"Table1[[#This Row],[Count]]*Table1[[#This Row],[Price]]","v":1134}]
["2012-11-20",2012,11,"Spain","Tablet PCs","PIPO M6 PRO 9.7 INCH 3G TABLET PC",1,186,{"$f":"Table1[[#This Row],[Count]]*Table1[[#This Row],[Price]]","v":186}]
["2012-11-20",2012,11,"USA","Tablet PCs","10 INCH TABLET HIGH QUALITY TABLET 1GB",4,174,{"$f":"Table1[[#This Row],[Count]]*Table1[[#This Row],[Price]]","v":696}]
["2012-11-20",2012,11,"USA","Laptops","THINKPAD T440S",1,258,{"$f":"Table1[[#This Row],[Count]]*Table1[[#This Row],[Price]]","v":258}]
["2012-11-20",2012,11,"Albania","Tablet PCs","10 INCH TABLET HIGH QUALITY TABLET 1GB",2,174,{"$f":"Table1[[#This Row],[Count]]*Table1[[#This Row],[Price]]","v":348}]
["2012-11-21",2012,11,"Australia","Workstations ","HIGH PERFORMANCE 4U LCD WORKSTATION C",4,366,{"$f":"Table1[[#This Row],[Count]]*Table1[[#This Row],[Price]]","v":1464}]
["2012-11-21",2012,11,"Andorra","Workstations ","CLOUD COMPUTER THIN STATION FL300",2,390,{"$f":"Table1[[#This Row],[Count]]*Table1[[#This Row],[Price]]","v":780}]
["2012-11-21",2012,11,"USA","Camera & Photo","FUJIFILM FINEPIX SL1000",4,330,{"$f":"Table1[[#This Row],[Count]]*Table1[[#This Row],[Price]]","v":1320}]
["2012-11-21",2012,11,"USA","Tablet PCs","ONDA V975M TABLET PC",3,150,{"$f":"Table1[[#This Row],[Count]]*Table1[[#This Row],[Price]]","v":450}]
["2012-11-22",2012,11,"USA","Laptops","14.1\" AIR LAPTOP INTEL D2500",1,270,{"$f":"Table1[[#This Row],[Count]]*Table1[[#This Row],[Price]]","v":270}]
["2012-11-22",2012,11,"Serbien und Montenegro","Camera & Photo","D3000 DIGITAL SLR",1,294,{"$f":"Table1[[#This Row],[Count]]*Table1[[#This Row],[Price]]","v":294}]
["2012-11-22",2012,11,"Austria","Tablet PCs","10 INCH TABLET HIGH QUALITY TABLET 1GB",5,174,{"$f":"Table1[[#This Row],[Count]]*Table1[[#This Row],[Price]]","v":870}]
["2012-11-22",2012,11,"Andorra","Laptops","14.1\" AIR LAPTOP INTEL D2500",2,270,{"$f":"Table1[[#This Row],[Count]]*Table1[[#This Row],[Price]]","v":540}]
["2012-11-23",2012,11,"Albania","Camera & Photo","D3200 DIGITAL SLR",2,306,{"$f":"Table1[[#This Row],[Count]]*Table1[[#This Row],[Price]]","v":612}]
["2012-11-23",2012,11,"Portugal","Camera & Photo","D3000 DIGITAL SLR",3,294,{"$f":"Table1[[#This Row],[Count]]*Table1[[#This Row],[Price]]","v":882}]
["2012-11-23",2012,11,"USA","Workstations ","HIGH PERFORMANCE 4U LCD WORKSTATION C",3,366,{"$f":"Table1[[#This Row],[Count]]*Table1[[#This Row],[Price]]","v":1098}]
["2012-11-23",2012,11,"Estonia","Workstations ","CLOUD COMPUTER THIN STATION FL300",5,390,{"$f":"Table1[[#This Row],[Count]]*Table1[[#This Row],[Price]]","v":1950}]
["2012-11-24",2012,11,"USA","Camera & Photo","D3200 DIGITAL SLR",1,306,{"$f":"Table1[[#This Row],[Count]]*Table1[[#This Row],[Price]]","v":306}]
["2012-11-24",2012,11,"Bulgaria","Tablet PCs","ONDA V975M TABLET PC",1,150,{"$f":"Table1[[#This Row],[Count]]*Table1[[#This Row],[Price]]","v":150}]
["2012-11-24",2012,11,"USA","Camera & Photo","SONY CYBERSHOT H200",1,318,{"$f":"Table1[[#This Row],[Count]]*Table1[[#This Row],[Price]]","v":318}]
["2012-11-24",2012,11,"Malta","Workstations ","I7 MINI PC WITH HDMI QOTOM-T620",2,342,{"$f":"Table1[[#This Row],[Count]]*Table1[[#This Row],[Price]]","v":684}]
["2012-11-25",2012,11,"USA","Camera & Photo","D3200 DIGITAL SLR",5,306,{"$f":"Table1[[#This Row],[Count]]*Table1[[#This Row],[Price]]","v":1530}]
["2012-11-25",2012,11,"Australia","Laptops","Y10D 10 INCH VIA 8880",4,246,{"$f":"Table1[[#This Row],[Count]]*Table1[[#This Row],[Price]]","v":984}]
["2012-11-25",2012,11,"USA","Workstations ","I7 MINI PC WITH HDMI QOTOM-T620",3,342,{"$f":"Table1[[#This Row],[Count]]*Table1[[#This Row],[Price]]","v":1026}]
["2012-11-25",2012,11,"Australia","Camera & Photo","D3000 DIGITAL SLR",2,294,{"$f":"Table1[[#This Row],[Count]]*Table1[[#This Row],[Price]]","v":588}]
["2012-11-26",2012,11,"USA","Tablet PCs","TABLET 10-INCH QUAD-CORE A9",1,162,{"$f":"Table1[[#This Row],[Count]]*Table1[[#This Row],[Price]]","v":162}]
["2012-11-26",2012,11,"Spain","Tablet PCs","10 INCH TABLET HIGH QUALITY TABLET 1GB",4,174,{"$f":"Table1[[#This Row],[Count]]*Table1[[#This Row],[Price]]","v":696}]
["2012-11-26",2012,11,"Lithuania","Tablet PCs","10 INCH TABLET HIGH QUALITY TABLET 1GB",5,174,{"$f":"Table1[[#This Row],[Count]]*Table1[[#This Row],[Price]]","v":870}]
["2012-11-26",2012,11,"Georgia","Workstations ","I7 MINI PC WITH HDMI QOTOM-T620",1,342,{"$f":"Table1[[#This Row],[Count]]*Table1[[#This Row],[Price]]","v":342}]
["2012-11-27",2012,11,"USA","Camera & Photo","FUJIFILM FINEPIX SL1000",3,330,{"$f":"Table1[[#This Row],[Count]]*Table1[[#This Row],[Price]]","v":990}]
["2012-11-27",2012,11,"Serbien und Montenegro","Workstations ","HZONE NCOMPUTING L230",5,354,{"$f":"Table1[[#This Row],[Count]]*Table1[[#This Row],[Price]]","v":1770}]
["2012-11-27",2012,11,"USA","Laptops","14INCH ULTRABOOK",3,234,{"$f":"Table1[[#This Row],[Count]]*Table1[[#This Row],[Price]]","v":702}]
["2012-11-27",2012,11,"Germany","Workstations ","HIGH PERFORMANCE 4U LCD WORKSTATION C",1,366,{"$f":"Table1[[#This Row],[Count]]*Table1[[#This Row],[Price]]","v":366}]
["2012-11-28",2012,11,"Germany","Tablet PCs","GOOWEEL Q88 PRO A23 DUAL CORE TABLET PC",2,198,{"$f":"Table1[[#This Row],[Count]]*Table1[[#This Row],[Price]]","v":396}]
["2012-11-28",2012,11,"USA","Tablet PCs","TABLET 10-INCH QUAD-CORE A9",2,162,{"$f":"Table1[[#This Row],[Count]]*Table1[[#This Row],[Price]]","v":324}]
["2012-11-28",2012,11,"USA","Laptops","THINKPAD E445",2,222,{"$f":"Table1[[#This Row],[Count]]*Table1[[#This Row],[Price]]","v":444}]
["2012-11-28",2012,11,"Finland","Workstations ","CLOUD COMPUTER THIN STATION FL300",4,390,{"$f":"Table1[[#This Row],[Count]]*Table1[[#This Row],[Price]]","v":1560}]
["2012-11-29",2012,11,"Andorra","Laptops","THINKPAD E445",1,222,{"$f":"Table1[[#This Row],[Count]]*Table1[[#This Row],[Price]]","v":222}]
["2012-11-29",2012,11,"Slovenia","Tablet PCs","7 INCH DUAL CORE ANDROID TABLET PC Q88",3,210,{"$f":"Table1[[#This Row],[Count]]*Table1[[#This Row],[Price]]","v":630}]
["2012-11-29",2012,11,"USA","Camera & Photo","D3000 DIGITAL SLR",5,294,{"$f":"Table1[[#This Row],[Count]]*Table1[[#This Row],[Price]]","v":1470}]
["2012-11-29",2012,11,"USA","Workstations ","HZONE NCOMPUTING L230",2,354,{"$f":"Table1[[#This Row],[Count]]*Table1[[#This Row],[Price]]","v":708}]
["2012-11-30",2012,11,"Ireland","Workstations ","I7 MINI PC WITH HDMI QOTOM-T620",5,342,{"$f":"Table1[[#This Row],[Count]]*Table1[[#This Row],[Price]]","v":1710}]
["2012-11-30",2012,11,"Denmark","Tablet PCs","10 INCH TABLET HIGH QUALITY TABLET 1GB",2,174,{"$f":"Table1[[#This Row],[Count]]*Table1[[#This Row],[Price]]","v":348}]
["2012-11-30",2012,11,"Macedonia","Workstations ","CLOUD COMPUTER THIN STATION FL300",1,390,{"$f":"Table1[[#This Row],[Count]]*Table1[[#This Row],[Price]]","v":390}]
["2012-11-30",2012,11,"Australia","Workstations ","I7 MINI PC WITH HDMI QOTOM-T620",2,342,{"$f":"Table1[[#This Row],[Count]]*Table1[[#This Row],[Price]]","v":684}]
["2012-12-01",2012,12,"Australia","Tablet PCs","GOOWEEL Q88 PRO A23 DUAL CORE TABLET PC",1,198,{"$f":"Table1[[#This Row],[Count]]*Table1[[#This Row],[Price]]","v":198}]
["2012-12-01",2012,12,"Macedonia","Laptops","14.1\" AIR LAPTOP INTEL D2500",1,270,{"$f":"Table1[[#This Row],[Count]]*Table1[[#This Row],[Price]]","v":270}]
["2012-12-01",2012,12,"USA","Tablet PCs","ONDA V975M TABLET PC",5,150,{"$f":"Table1[[#This Row],[Count]]*Table1[[#This Row],[Price]]","v":750}]
["2012-12-01",2012,12,"Australia","Tablet PCs","10 INCH TABLET HIGH QUALITY TABLET 1GB",2,174,{"$f":"Table1[[#This Row],[Count]]*Table1[[#This Row],[Price]]","v":348}]
["2012-12-02",2012,12,"USA","Laptops","VIA 8850 ANDROID 4.0",2,282,{"$f":"Table1[[#This Row],[Count]]*Table1[[#This Row],[Price]]","v":564}]
["2012-12-02",2012,12,"USA","Laptops","THINKPAD E445",4,222,{"$f":"Table1[[#This Row],[Count]]*Table1[[#This Row],[Price]]","v":888}]
["2012-12-02",2012,12,"Ukraine","Workstations ","SUN BLADE 1500 WORKSTATION BASE SUN B1500",1,378,{"$f":"Table1[[#This Row],[Count]]*Table1[[#This Row],[Price]]","v":378}]
["2012-12-02",2012,12,"USA","Camera & Photo","FUJIFILM FINEPIX SL1000",5,330,{"$f":"Table1[[#This Row],[Count]]*Table1[[#This Row],[Price]]","v":1650}]
["2012-12-03",2012,12,"Serbien und Montenegro","Tablet PCs","7 INCH DUAL CORE ANDROID TABLET PC Q88",5,210,{"$f":"Table1[[#This Row],[Count]]*Table1[[#This Row],[Price]]","v":1050}]
["2012-12-03",2012,12,"USA","Tablet PCs","GOOWEEL Q88 PRO A23 DUAL CORE TABLET PC",3,198,{"$f":"Table1[[#This Row],[Count]]*Table1[[#This Row],[Price]]","v":594}]
["2012-12-03",2012,12,"USA","Tablet PCs","ONDA V975M TABLET PC",4,150,{"$f":"Table1[[#This Row],[Count]]*Table1[[#This Row],[Price]]","v":600}]
["2012-12-03",2012,12,"USA","Camera & Photo","D3200 DIGITAL SLR",4,306,{"$f":"Table1[[#This Row],[Count]]*Table1[[#This Row],[Price]]","v":1224}]
["2012-12-04",2012,12,"USA","Laptops","14.1\" AIR LAPTOP INTEL D2500",5,270,{"$f":"Table1[[#This Row],[Count]]*Table1[[#This Row],[Price]]","v":1350}]
["2012-12-04",2012,12,"Belarus","Tablet PCs","7 INCH DUAL CORE ANDROID TABLET PC Q88",2,210,{"$f":"Table1[[#This Row],[Count]]*Table1[[#This Row],[Price]]","v":420}]
["2012-12-04",2012,12,"Ukraine","Tablet PCs","7 INCH DUAL CORE ANDROID TABLET PC Q88",1,210,{"$f":"Table1[[#This Row],[Count]]*Table1[[#This Row],[Price]]","v":210}]
["2012-12-04",2012,12,"USA","Tablet PCs","TABLET 10-INCH QUAD-CORE A9",4,162,{"$f":"Table1[[#This Row],[Count]]*Table1[[#This Row],[Price]]","v":648}]
["2012-12-05",2012,12,"Australia","Camera & Photo","SONY CYBERSHOT H200",5,318,{"$f":"Table1[[#This Row],[Count]]*Table1[[#This Row],[Price]]","v":1590}]
["2012-12-05",2012,12,"United Kingdom","Workstations ","CLOUD COMPUTER THIN STATION FL300",1,390,{"$f":"Table1[[#This Row],[Count]]*Table1[[#This Row],[Price]]","v":390}]
["2012-12-05",2012,12,"France","Tablet PCs","TABLET 10-INCH QUAD-CORE A9",5,162,{"$f":"Table1[[#This Row],[Count]]*Table1[[#This Row],[Price]]","v":810}]
["2012-12-05",2012,12,"USA","Workstations ","CLOUD COMPUTER THIN STATION FL300",5,390,{"$f":"Table1[[#This Row],[Count]]*Table1[[#This Row],[Price]]","v":1950}]
["2012-12-06",2012,12,"USA","Laptops","14.1\" AIR LAPTOP INTEL D2500",1,270,{"$f":"Table1[[#This Row],[Count]]*Table1[[#This Row],[Price]]","v":270}]
["2012-12-06",2012,12,"Australia","Laptops","Y10D 10 INCH VIA 8880",3,246,{"$f":"Table1[[#This Row],[Count]]*Table1[[#This Row],[Price]]","v":738}]
["2012-12-06",2012,12,"Georgia","Laptops","14.1\" AIR LAPTOP INTEL D2500",4,270,{"$f":"Table1[[#This Row],[Count]]*Table1[[#This Row],[Price]]","v":1080}]
["2012-12-06",2012,12,"Bosnia And Herzegovina","Laptops","THINKPAD T440S",1,258,{"$f":"Table1[[#This Row],[Count]]*Table1[[#This Row],[Price]]","v":258}]
["2012-12-07",2012,12,"United Kingdom","Laptops","VIA 8850 ANDROID 4.0",5,282,{"$f":"Table1[[#This Row],[Count]]*Table1[[#This Row],[Price]]","v":1410}]
["2012-12-07",2012,12,"Denmark","Laptops","Y10D 10 INCH VIA 8880",5,246,{"$f":"Table1[[#This Row],[Count]]*Table1[[#This Row],[Price]]","v":1230}]
["2012-12-07",2012,12,"Australia","Camera & Photo","D3000 DIGITAL SLR",3,294,{"$f":"Table1[[#This Row],[Count]]*Table1[[#This Row],[Price]]","v":882}]
["2012-12-07",2012,12,"USA","Laptops","THINKPAD E445",4,222,{"$f":"Table1[[#This Row],[Count]]*Table1[[#This Row],[Price]]","v":888}]
["2012-12-08",2012,12,"USA","Laptops","THINKPAD E445",3,222,{"$f":"Table1[[#This Row],[Count]]*Table1[[#This Row],[Price]]","v":666}]
["2012-12-08",2012,12,"France","Tablet PCs","GOOWEEL Q88 PRO A23 DUAL CORE TABLET PC",4,198,{"$f":"Table1[[#This Row],[Count]]*Table1[[#This Row],[Price]]","v":792}]
["2012-12-08",2012,12,"Croatia","Tablet PCs","PIPO M6 PRO 9.7 INCH 3G TABLET PC",2,186,{"$f":"Table1[[#This Row],[Count]]*Table1[[#This Row],[Price]]","v":372}]
["2012-12-08",2012,12,"USA","Camera & Photo","FUJIFILM FINEPIX SL1000",5,330,{"$f":"Table1[[#This Row],[Count]]*Table1[[#This Row],[Price]]","v":1650}]
["2012-12-09",2012,12,"Estonia","Workstations ","HIGH PERFORMANCE 4U LCD WORKSTATION C",2,366,{"$f":"Table1[[#This Row],[Count]]*Table1[[#This Row],[Price]]","v":732}]
["2012-12-09",2012,12,"Bosnia And Herzegovina","Tablet PCs","7 INCH DUAL CORE ANDROID TABLET PC Q88",4,210,{"$f":"Table1[[#This Row],[Count]]*Table1[[#This Row],[Price]]","v":840}]
["2012-12-09",2012,12,"Latvia","Workstations ","HZONE NCOMPUTING L230",5,354,{"$f":"Table1[[#This Row],[Count]]*Table1[[#This Row],[Price]]","v":1770}]
["2012-12-09",2012,12,"Malta","Laptops","THINKPAD T440S",2,258,{"$f":"Table1[[#This Row],[Count]]*Table1[[#This Row],[Price]]","v":516}]
["2012-12-10",2012,12,"Germany","Workstations ","HIGH PERFORMANCE 4U LCD WORKSTATION C",4,366,{"$f":"Table1[[#This Row],[Count]]*Table1[[#This Row],[Price]]","v":1464}]
["2012-12-10",2012,12,"USA","Laptops","THINKPAD T440S",3,258,{"$f":"Table1[[#This Row],[Count]]*Table1[[#This Row],[Price]]","v":774}]
["2012-12-10",2012,12,"Monaco","Laptops","14INCH ULTRABOOK",3,234,{"$f":"Table1[[#This Row],[Count]]*Table1[[#This Row],[Price]]","v":702}]
["2012-12-10",2012,12,"Ireland","Camera & Photo","D3000 DIGITAL SLR",5,294,{"$f":"Table1[[#This Row],[Count]]*Table1[[#This Row],[Price]]","v":1470}]
["2012-12-11",2012,12,"Serbien und Montenegro","Tablet PCs","PIPO M6 PRO 9.7 INCH 3G TABLET PC",2,186,{"$f":"Table1[[#This Row],[Count]]*Table1[[#This Row],[Price]]","v":372}]
["2012-12-11",2012,12,"United Kingdom","Workstations ","HZONE NCOMPUTING L230",2,354,{"$f":"Table1[[#This Row],[Count]]*Table1[[#This Row],[Price]]","v":708}]
["2012-12-11",2012,12,"USA","Laptops","14.1\" AIR LAPTOP INTEL D2500",4,270,{"$f":"Table1[[#This Row],[Count]]*Table1[[#This Row],[Price]]","v":1080}]
["2012-12-11",2012,12,"Croatia","Workstations ","HIGH PERFORMANCE 4U LCD WORKSTATION C",5,366,{"$f":"Table1[[#This Row],[Count]]*Table1[[#This Row],[Price]]","v":1830}]
["2012-12-12",2012,12,"USA","Laptops","VIA 8850 ANDROID 4.0",5,282,{"$f":"Table1[[#This Row],[Count]]*Table1[[#This Row],[Price]]","v":1410}]
["2012-12-12",2012,12,"Spain","Tablet PCs","7 INCH DUAL CORE ANDROID TABLET PC Q88",5,210,{"$f":"Table1[[#This Row],[Count]]*Table1[[#This Row],[Price]]","v":1050}]
["2012-12-12",2012,12,"USA","Camera & Photo","D3000 DIGITAL SLR",5,294,{"$f":"Table1[[#This Row],[Count]]*Table1[[#This Row],[Price]]","v":1470}]
["2012-12-12",2012,12,"Moldova","Workstations ","HIGH PERFORMANCE 4U LCD WORKSTATION C",4,366,{"$f":"Table1[[#This Row],[Count]]*Table1[[#This Row],[Price]]","v":1464}]
["2012-12-13",2012,12,"Australia","Workstations ","CLOUD COMPUTER THIN STATION FL300",1,390,{"$f":"Table1[[#This Row],[Count]]*Table1[[#This Row],[Price]]","v":390}]
["2012-12-13",2012,12,"USA","Tablet PCs","10 INCH TABLET HIGH QUALITY TABLET 1GB",3,174,{"$f":"Table1[[#This Row],[Count]]*Table1[[#This Row],[Price]]","v":522}]
["2012-12-13",2012,12,"Ireland","Camera & Photo","SONY CYBERSHOT H200",1,318,{"$f":"Table1[[#This Row],[Count]]*Table1[[#This Row],[Price]]","v":318}]
["2012-12-13",2012,12,"USA","Laptops","VIA 8850 ANDROID 4.0",2,282,{"$f":"Table1[[#This Row],[Count]]*Table1[[#This Row],[Price]]","v":564}]
["2012-12-14",2012,12,"Moldova","Tablet PCs","TABLET 10-INCH QUAD-CORE A9",4,162,{"$f":"Table1[[#This Row],[Count]]*Table1[[#This Row],[Price]]","v":648}]
["2012-12-14",2012,12,"Hungary","Tablet PCs","ONDA V975M TABLET PC",3,150,{"$f":"Table1[[#This Row],[Count]]*Table1[[#This Row],[Price]]","v":450}]
["2012-12-14",2012,12,"Luxembourg","Laptops","14.1\" AIR LAPTOP INTEL D2500",2,270,{"$f":"Table1[[#This Row],[Count]]*Table1[[#This Row],[Price]]","v":540}]
["2012-12-14",2012,12,"USA","Laptops","THINKPAD E445",4,222,{"$f":"Table1[[#This Row],[Count]]*Table1[[#This Row],[Price]]","v":888}]
["2012-12-15",2012,12,"Italy","Tablet PCs","7 INCH DUAL CORE ANDROID TABLET PC Q88",2,210,{"$f":"Table1[[#This Row],[Count]]*Table1[[#This Row],[Price]]","v":420}]
["2012-12-15",2012,12,"USA","Camera & Photo","D3000 DIGITAL SLR",2,294,{"$f":"Table1[[#This Row],[Count]]*Table1[[#This Row],[Price]]","v":588}]
["2012-12-15",2012,12,"USA","Tablet PCs","GOOWEEL Q88 PRO A23 DUAL CORE TABLET PC",3,198,{"$f":"Table1[[#This Row],[Count]]*Table1[[#This Row],[Price]]","v":594}]
["2012-12-15",2012,12,"Poland","Laptops","Y10D 10 INCH VIA 8880",1,246,{"$f":"Table1[[#This Row],[Count]]*Table1[[#This Row],[Price]]","v":246}]
["2012-12-16",2012,12,"Sweden","Camera & Photo","FUJIFILM FINEPIX SL1000",5,330,{"$f":"Table1[[#This Row],[Count]]*Table1[[#This Row],[Price]]","v":1650}]
["2012-12-16",2012,12,"USA","Tablet PCs","PIPO M6 PRO 9.7 INCH 3G TABLET PC",4,186,{"$f":"Table1[[#This Row],[Count]]*Table1[[#This Row],[Price]]","v":744}]
["2012-12-16",2012,12,"Albania","Camera & Photo","D3000 DIGITAL SLR",3,294,{"$f":"Table1[[#This Row],[Count]]*Table1[[#This Row],[Price]]","v":882}]
["2012-12-16",2012,12,"Poland","Laptops","14.1\" AIR LAPTOP INTEL D2500",3,270,{"$f":"Table1[[#This Row],[Count]]*Table1[[#This Row],[Price]]","v":810}]
["2012-12-17",2012,12,"Latvia","Laptops","14.1\" AIR LAPTOP INTEL D2500",3,270,{"$f":"Table1[[#This Row],[Count]]*Table1[[#This Row],[Price]]","v":810}]
["2012-12-17",2012,12,"Spain","Camera & Photo","D3000 DIGITAL SLR",5,294,{"$f":"Table1[[#This Row],[Count]]*Table1[[#This Row],[Price]]","v":1470}]
["2012-12-17",2012,12,"Italy","Camera & Photo","D3000 DIGITAL SLR",5,294,{"$f":"Table1[[#This Row],[Count]]*Table1[[#This Row],[Price]]","v":1470}]
["2012-12-17",2012,12,"USA","Laptops","VIA 8850 ANDROID 4.0",2,282,{"$f":"Table1[[#This Row],[Count]]*Table1[[#This Row],[Price]]","v":564}]
["2012-12-18",2012,12,"USA","Tablet PCs","GOOWEEL Q88 PRO A23 DUAL CORE TABLET PC",1,198,{"$f":"Table1[[#This Row],[Count]]*Table1[[#This Row],[Price]]","v":198}]
["2012-12-18",2012,12,"Australia","Laptops","Y10D 10 INCH VIA 8880",5,246,{"$f":"Table1[[#This Row],[Count]]*Table1[[#This Row],[Price]]","v":1230}]
["2012-12-18",2012,12,"USA","Laptops","THINKPAD T440S",3,258,{"$f":"Table1[[#This Row],[Count]]*Table1[[#This Row],[Price]]","v":774}]
["2012-12-18",2012,12,"Belarus","Tablet PCs","ONDA V975M TABLET PC",4,150,{"$f":"Table1[[#This Row],[Count]]*Table1[[#This Row],[Price]]","v":600}]
["2012-12-19",2012,12,"Montenegro","Laptops","THINKPAD T440S",2,258,{"$f":"Table1[[#This Row],[Count]]*Table1[[#This Row],[Price]]","v":516}]
["2012-12-19",2012,12,"USA","Laptops","THINKPAD E445",3,222,{"$f":"Table1[[#This Row],[Count]]*Table1[[#This Row],[Price]]","v":666}]
["2012-12-19",2012,12,"Italy","Tablet PCs","GOOWEEL Q88 PRO A23 DUAL CORE TABLET PC",1,198,{"$f":"Table1[[#This Row],[Count]]*Table1[[#This Row],[Price]]","v":198}]
["2012-12-19",2012,12,"USA","Workstations ","CLOUD COMPUTER THIN STATION FL300",3,390,{"$f":"Table1[[#This Row],[Count]]*Table1[[#This Row],[Price]]","v":1170}]
["2012-12-20",2012,12,"USA","Workstations ","SUN BLADE 1500 WORKSTATION BASE SUN B1500",3,378,{"$f":"Table1[[#This Row],[Count]]*Table1[[#This Row],[Price]]","v":1134}]
["2012-12-20",2012,12,"Australia","Tablet PCs","ONDA V975M TABLET PC",1,150,{"$f":"Table1[[#This Row],[Count]]*Table1[[#This Row],[Price]]","v":150}]
["2012-12-20",2012,12,"Austria","Camera & Photo","D3200 DIGITAL SLR",5,306,{"$f":"Table1[[#This Row],[Count]]*Table1[[#This Row],[Price]]","v":1530}]
["2012-12-20",2012,12,"Moldova","Tablet PCs","TABLET 10-INCH QUAD-CORE A9",3,162,{"$f":"Table1[[#This Row],[Count]]*Table1[[#This Row],[Price]]","v":486}]
["2012-12-21",2012,12,"Finland","Laptops","THINKPAD T440S",1,258,{"$f":"Table1[[#This Row],[Count]]*Table1[[#This Row],[Price]]","v":258}]
["2012-12-21",2012,12,"Malta","Laptops","VIA 8850 ANDROID 4.0",4,282,{"$f":"Table1[[#This Row],[Count]]*Table1[[#This Row],[Price]]","v":1128}]
["2012-12-21",2012,12,"USA","Workstations ","HIGH PERFORMANCE 4U LCD WORKSTATION C",4,366,{"$f":"Table1[[#This Row],[Count]]*Table1[[#This Row],[Price]]","v":1464}]
["2012-12-21",2012,12,"USA","Camera & Photo","SONY CYBERSHOT H200",2,318,{"$f":"Table1[[#This Row],[Count]]*Table1[[#This Row],[Price]]","v":636}]
["2012-12-22",2012,12,"Georgia","Tablet PCs","10 INCH TABLET HIGH QUALITY TABLET 1GB",4,174,{"$f":"Table1[[#This Row],[Count]]*Table1[[#This Row],[Price]]","v":696}]
["2012-12-22",2012,12,"Liechtenstein","Camera & Photo","FUJIFILM FINEPIX SL1000",1,330,{"$f":"Table1[[#This Row],[Count]]*Table1[[#This Row],[Price]]","v":330}]
["2012-12-22",2012,12,"USA","Laptops","Y10D 10 INCH VIA 8880",5,246,{"$f":"Table1[[#This Row],[Count]]*Table1[[#This Row],[Price]]","v":1230}]
["2012-12-22",2012,12,"USA","Laptops","VIA 8850 ANDROID 4.0",1,282,{"$f":"Table1[[#This Row],[Count]]*Table1[[#This Row],[Price]]","v":282}]
["2012-12-23",2012,12,"Denmark","Tablet PCs","PIPO M6 PRO 9.7 INCH 3G TABLET PC",4,186,{"$f":"Table1[[#This Row],[Count]]*Table1[[#This Row],[Price]]","v":744}]
["2012-12-23",2012,12,"USA","Workstations ","HIGH PERFORMANCE 4U LCD WORKSTATION C",3,366,{"$f":"Table1[[#This Row],[Count]]*Table1[[#This Row],[Price]]","v":1098}]
["2012-12-23",2012,12,"Netherlands","Laptops","VIA 8850 ANDROID 4.0",3,282,{"$f":"Table1[[#This Row],[Count]]*Table1[[#This Row],[Price]]","v":846}]
["2012-12-23",2012,12,"USA","Camera & Photo","FUJIFILM FINEPIX SL1000",5,330,{"$f":"Table1[[#This Row],[Count]]*Table1[[#This Row],[Price]]","v":1650}]
["2012-12-24",2012,12,"USA","Tablet PCs","TABLET 10-INCH QUAD-CORE A9",4,162,{"$f":"Table1[[#This Row],[Count]]*Table1[[#This Row],[Price]]","v":648}]
["2012-12-24",2012,12,"Italy","Workstations ","HZONE NCOMPUTING L230",1,354,{"$f":"Table1[[#This Row],[Count]]*Table1[[#This Row],[Price]]","v":354}]
["2012-12-24",2012,12,"USA","Tablet PCs","ONDA V975M TABLET PC",3,150,{"$f":"Table1[[#This Row],[Count]]*Table1[[#This Row],[Price]]","v":450}]
["2012-12-24",2012,12,"Liechtenstein","Tablet PCs","PIPO M6 PRO 9.7 INCH 3G TABLET PC",2,186,{"$f":"Table1[[#This Row],[Count]]*Table1[[#This Row],[Price]]","v":372}]
["2012-12-25",2012,12,"USA","Laptops","THINKPAD T440S",1,258,{"$f":"Table1[[#This Row],[Count]]*Table1[[#This Row],[Price]]","v":258}]
["2012-12-25",2012,12,"Australia","Laptops","THINKPAD E445",3,222,{"$f":"Table1[[#This Row],[Count]]*Table1[[#This Row],[Price]]","v":666}]
["2012-12-25",2012,12,"Sweden","Workstations ","I7 MINI PC WITH HDMI QOTOM-T620",4,342,{"$f":"Table1[[#This Row],[Count]]*Table1[[#This Row],[Price]]","v":1368}]
["2012-12-25",2012,12,"Poland","Laptops","14INCH ULTRABOOK",1,234,{"$f":"Table1[[#This Row],[Count]]*Table1[[#This Row],[Price]]","v":234}]
["2012-12-26",2012,12,"Belgium","Tablet PCs","10 INCH TABLET HIGH QUALITY TABLET 1GB",3,174,{"$f":"Table1[[#This Row],[Count]]*Table1[[#This Row],[Price]]","v":522}]
["2012-12-26",2012,12,"USA","Workstations ","CLOUD COMPUTER THIN STATION FL300",4,390,{"$f":"Table1[[#This Row],[Count]]*Table1[[#This Row],[Price]]","v":1560}]
["2012-12-26",2012,12,"Malta","Laptops","THINKPAD E445",2,222,{"$f":"Table1[[#This Row],[Count]]*Table1[[#This Row],[Price]]","v":444}]
["2012-12-26",2012,12,"Norway","Workstations ","HZONE NCOMPUTING L230",4,354,{"$f":"Table1[[#This Row],[Count]]*Table1[[#This Row],[Price]]","v":1416}]
["2012-12-27",2012,12,"Slovenia","Tablet PCs","TABLET 10-INCH QUAD-CORE A9",1,162,{"$f":"Table1[[#This Row],[Count]]*Table1[[#This Row],[Price]]","v":162}]
["2012-12-27",2012,12,"USA","Tablet PCs","TABLET 10-INCH QUAD-CORE A9",4,162,{"$f":"Table1[[#This Row],[Count]]*Table1[[#This Row],[Price]]","v":648}]
["2012-12-27",2012,12,"USA","Workstations ","I7 MINI PC WITH HDMI QOTOM-T620",4,342,{"$f":"Table1[[#This Row],[Count]]*Table1[[#This Row],[Price]]","v":1368}]
["2012-12-27",2012,12,"Hungary","Tablet PCs","7 INCH DUAL CORE ANDROID TABLET PC Q88",2,210,{"$f":"Table1[[#This Row],[Count]]*Table1[[#This Row],[Price]]","v":420}]
["2012-12-28",2012,12,"USA","Tablet PCs","7 INCH DUAL CORE ANDROID TABLET PC Q88",3,210,{"$f":"Table1[[#This Row],[Count]]*Table1[[#This Row],[Price]]","v":630}]
["2012-12-28",2012,12,"USA","Laptops","THINKPAD T440S",3,258,{"$f":"Table1[[#This Row],[Count]]*Table1[[#This Row],[Price]]","v":774}]
["2012-12-28",2012,12,"Switzerland","Workstations ","SUN BLADE 1500 WORKSTATION BASE SUN B1500",5,378,{"$f":"Table1[[#This Row],[Count]]*Table1[[#This Row],[Price]]","v":1890}]
["2012-12-28",2012,12,"Sweden","Workstations ","I7 MINI PC WITH HDMI QOTOM-T620",3,342,{"$f":"Table1[[#This Row],[Count]]*Table1[[#This Row],[Price]]","v":1026}]
["2012-12-29",2012,12,"USA","Camera & Photo","D3000 DIGITAL SLR",1,294,{"$f":"Table1[[#This Row],[Count]]*Table1[[#This Row],[Price]]","v":294}]
["2012-12-29",2012,12,"Australia","Tablet PCs","GOOWEEL Q88 PRO A23 DUAL CORE TABLET PC",5,198,{"$f":"Table1[[#This Row],[Count]]*Table1[[#This Row],[Price]]","v":990}]
["2012-12-29",2012,12,"Luxembourg","Camera & Photo","FUJIFILM FINEPIX SL1000",2,330,{"$f":"Table1[[#This Row],[Count]]*Table1[[#This Row],[Price]]","v":660}]
["2012-12-29",2012,12,"Finland","Laptops","THINKPAD E445",4,222,{"$f":"Table1[[#This Row],[Count]]*Table1[[#This Row],[Price]]","v":888}]
["2012-12-30",2012,12,"USA","Camera & Photo","SONY CYBERSHOT H200",5,318,{"$f":"Table1[[#This Row],[Count]]*Table1[[#This Row],[Price]]","v":1590}]
["2012-12-30",2012,12,"Croatia","Workstations ","SUN BLADE 1500 WORKSTATION BASE SUN B1500",1,378,{"$f":"Table1[[#This Row],[Count]]*Table1[[#This Row],[Price]]","v":378}]
["2012-12-30",2012,12,"Bosnia And Herzegovina","Laptops","14INCH ULTRABOOK",5,234,{"$f":"Table1[[#This Row],[Count]]*Table1[[#This Row],[Price]]","v":1170}]
["2012-12-30",2012,12,"Sweden","Workstations ","HZONE NCOMPUTING L230",2,354,{"$f":"Table1[[#This Row],[Count]]*Table1[[#This Row],[Price]]","v":708}]
["2012-12-31",2012,12,"Ireland","Tablet PCs","TABLET 10-INCH QUAD-CORE A9",5,162,{"$f":"Table1[[#This Row],[Count]]*Table1[[#This Row],[Price]]","v":810}]
["2012-12-31",2012,12,"USA","Camera & Photo","SONY CYBERSHOT H200",1,318,{"$f":"Table1[[#This Row],[Count]]*Table1[[#This Row],[Price]]","v":318}]
["2012-12-31",2012,12,"Australia","Workstations ","HZONE NCOMPUTING L230",4,354,{"$f":"Table1[[#This Row],[Count]]*Table1[[#This Row],[Price]]","v":1416}]
["2012-12-31",2012,12,"Croatia","Workstations ","CLOUD COMPUTER THIN STATION FL300",3,390,{"$f":"Table1[[#This Row],[Count]]*Table1[[#This Row],[Price]]","v":1170}]
["2013-01-01",2013,1,"USA","Camera & Photo","D3000 DIGITAL SLR",3,294,{"$f":"Table1[[#This Row],[Count]]*Table1[[#This Row],[Price]]","v":882}]
["2013-01-01",2013,1,"Luxembourg","Camera & Photo","D3000 DIGITAL SLR",3,294,{"$f":"Table1[[#This Row],[Count]]*Table1[[#This Row],[Price]]","v":882}]
["2013-01-01",2013,1,"Australia","Workstations ","HIGH PERFORMANCE 4U LCD WORKSTATION C",5,366,{"$f":"Table1[[#This Row],[Count]]*Table1[[#This Row],[Price]]","v":1830}]
["2013-01-01",2013,1,"Switzerland","Workstations ","I7 MINI PC WITH HDMI QOTOM-T620",3,342,{"$f":"Table1[[#This Row],[Count]]*Table1[[#This Row],[Price]]","v":1026}]
["2013-01-02",2013,1,"Belgium","Workstations ","SUN BLADE 1500 WORKSTATION BASE SUN B1500",1,378,{"$f":"Table1[[#This Row],[Count]]*Table1[[#This Row],[Price]]","v":378}]
["2013-01-02",2013,1,"USA","Laptops","THINKPAD T440S",2,258,{"$f":"Table1[[#This Row],[Count]]*Table1[[#This Row],[Price]]","v":516}]
["2013-01-02",2013,1,"USA","Workstations ","HZONE NCOMPUTING L230",3,354,{"$f":"Table1[[#This Row],[Count]]*Table1[[#This Row],[Price]]","v":1062}]
["2013-01-02",2013,1,"United Kingdom","Camera & Photo","SONY CYBERSHOT H200",2,318,{"$f":"Table1[[#This Row],[Count]]*Table1[[#This Row],[Price]]","v":636}]
["2013-01-03",2013,1,"USA","Laptops","14.1\" AIR LAPTOP INTEL D2500",5,270,{"$f":"Table1[[#This Row],[Count]]*Table1[[#This Row],[Price]]","v":1350}]
["2013-01-03",2013,1,"Macedonia","Camera & Photo","SONY CYBERSHOT H200",2,318,{"$f":"Table1[[#This Row],[Count]]*Table1[[#This Row],[Price]]","v":636}]
["2013-01-03",2013,1,"USA","Laptops","Y10D 10 INCH VIA 8880",4,246,{"$f":"Table1[[#This Row],[Count]]*Table1[[#This Row],[Price]]","v":984}]
["2013-01-03",2013,1,"Poland","Laptops","VIA 8850 ANDROID 4.0",1,282,{"$f":"Table1[[#This Row],[Count]]*Table1[[#This Row],[Price]]","v":282}]
["2013-01-04",2013,1,"Moldova","Camera & Photo","D3000 DIGITAL SLR",1,294,{"$f":"Table1[[#This Row],[Count]]*Table1[[#This Row],[Price]]","v":294}]
["2013-01-04",2013,1,"Lithuania","Tablet PCs","GOOWEEL Q88 PRO A23 DUAL CORE TABLET PC",3,198,{"$f":"Table1[[#This Row],[Count]]*Table1[[#This Row],[Price]]","v":594}]
["2013-01-04",2013,1,"USA","Camera & Photo","FUJIFILM FINEPIX SL1000",4,330,{"$f":"Table1[[#This Row],[Count]]*Table1[[#This Row],[Price]]","v":1320}]
["2013-01-04",2013,1,"Bosnia And Herzegovina","Camera & Photo","SONY CYBERSHOT H200",5,318,{"$f":"Table1[[#This Row],[Count]]*Table1[[#This Row],[Price]]","v":1590}]
["2013-01-05",2013,1,"Andorra","Workstations ","CLOUD COMPUTER THIN STATION FL300",3,390,{"$f":"Table1[[#This Row],[Count]]*Table1[[#This Row],[Price]]","v":1170}]
["2013-01-05",2013,1,"Georgia","Camera & Photo","FUJIFILM FINEPIX SL1000",1,330,{"$f":"Table1[[#This Row],[Count]]*Table1[[#This Row],[Price]]","v":330}]
["2013-01-05",2013,1,"Estonia","Laptops","THINKPAD E445",1,222,{"$f":"Table1[[#This Row],[Count]]*Table1[[#This Row],[Price]]","v":222}]
["2013-01-05",2013,1,"Hungary","Workstations ","HIGH PERFORMANCE 4U LCD WORKSTATION C",2,366,{"$f":"Table1[[#This Row],[Count]]*Table1[[#This Row],[Price]]","v":732}]
["2013-01-06",2013,1,"Switzerland","Laptops","14INCH ULTRABOOK",4,234,{"$f":"Table1[[#This Row],[Count]]*Table1[[#This Row],[Price]]","v":936}]
["2013-01-06",2013,1,"Andorra","Tablet PCs","7 INCH DUAL CORE ANDROID TABLET PC Q88",5,210,{"$f":"Table1[[#This Row],[Count]]*Table1[[#This Row],[Price]]","v":1050}]
["2013-01-06",2013,1,"USA","Camera & Photo","FUJIFILM FINEPIX SL1000",5,330,{"$f":"Table1[[#This Row],[Count]]*Table1[[#This Row],[Price]]","v":1650}]
["2013-01-06",2013,1,"USA","Laptops","THINKPAD T440S",5,258,{"$f":"Table1[[#This Row],[Count]]*Table1[[#This Row],[Price]]","v":1290}]
["2013-01-07",2013,1,"Spain","Laptops","THINKPAD T440S",4,258,{"$f":"Table1[[#This Row],[Count]]*Table1[[#This Row],[Price]]","v":1032}]
["2013-01-07",2013,1,"USA","Tablet PCs","PIPO M6 PRO 9.7 INCH 3G TABLET PC",2,186,{"$f":"Table1[[#This Row],[Count]]*Table1[[#This Row],[Price]]","v":372}]
["2013-01-07",2013,1,"Poland","Tablet PCs","ONDA V975M TABLET PC",5,150,{"$f":"Table1[[#This Row],[Count]]*Table1[[#This Row],[Price]]","v":750}]
["2013-01-07",2013,1,"Montenegro","Laptops","VIA 8850 ANDROID 4.0",1,282,{"$f":"Table1[[#This Row],[Count]]*Table1[[#This Row],[Price]]","v":282}]
["2013-01-08",2013,1,"Australia","Laptops","THINKPAD E445",3,222,{"$f":"Table1[[#This Row],[Count]]*Table1[[#This Row],[Price]]","v":666}]
["2013-01-08",2013,1,"USA","Workstations ","CLOUD COMPUTER THIN STATION FL300",4,390,{"$f":"Table1[[#This Row],[Count]]*Table1[[#This Row],[Price]]","v":1560}]
["2013-01-08",2013,1,"Portugal","Workstations ","HIGH PERFORMANCE 4U LCD WORKSTATION C",2,366,{"$f":"Table1[[#This Row],[Count]]*Table1[[#This Row],[Price]]","v":732}]
["2013-01-08",2013,1,"USA","Camera & Photo","D3200 DIGITAL SLR",1,306,{"$f":"Table1[[#This Row],[Count]]*Table1[[#This Row],[Price]]","v":306}]
["2013-01-09",2013,1,"Finland","Workstations ","HZONE NCOMPUTING L230",5,354,{"$f":"Table1[[#This Row],[Count]]*Table1[[#This Row],[Price]]","v":1770}]
["2013-01-09",2013,1,"Slovakia","Laptops","14INCH ULTRABOOK",5,234,{"$f":"Table1[[#This Row],[Count]]*Table1[[#This Row],[Price]]","v":1170}]
["2013-01-09",2013,1,"Lithuania","Camera & Photo","SONY CYBERSHOT H200",2,318,{"$f":"Table1[[#This Row],[Count]]*Table1[[#This Row],[Price]]","v":636}]
["2013-01-09",2013,1,"USA","Workstations ","SUN BLADE 1500 WORKSTATION BASE SUN B1500",1,378,{"$f":"Table1[[#This Row],[Count]]*Table1[[#This Row],[Price]]","v":378}]
["2013-01-10",2013,1,"USA","Laptops","14.1\" AIR LAPTOP INTEL D2500",5,270,{"$f":"Table1[[#This Row],[Count]]*Table1[[#This Row],[Price]]","v":1350}]
["2013-01-10",2013,1,"Malta","Tablet PCs","PIPO M6 PRO 9.7 INCH 3G TABLET PC",1,186,{"$f":"Table1[[#This Row],[Count]]*Table1[[#This Row],[Price]]","v":186}]
["2013-01-10",2013,1,"Monaco","Laptops","Y10D 10 INCH VIA 8880",1,246,{"$f":"Table1[[#This Row],[Count]]*Table1[[#This Row],[Price]]","v":246}]
["2013-01-10",2013,1,"USA","Camera & Photo","D3200 DIGITAL SLR",1,306,{"$f":"Table1[[#This Row],[Count]]*Table1[[#This Row],[Price]]","v":306}]
["2013-01-11",2013,1,"Norway","Camera & Photo","D3000 DIGITAL SLR",2,294,{"$f":"Table1[[#This Row],[Count]]*Table1[[#This Row],[Price]]","v":588}]
["2013-01-11",2013,1,"USA","Tablet PCs","ONDA V975M TABLET PC",2,150,{"$f":"Table1[[#This Row],[Count]]*Table1[[#This Row],[Price]]","v":300}]
["2013-01-11",2013,1,"USA","Camera & Photo","D3200 DIGITAL SLR",2,306,{"$f":"Table1[[#This Row],[Count]]*Table1[[#This Row],[Price]]","v":612}]
["2013-01-11",2013,1,"USA","Tablet PCs","GOOWEEL Q88 PRO A23 DUAL CORE TABLET PC",4,198,{"$f":"Table1[[#This Row],[Count]]*Table1[[#This Row],[Price]]","v":792}]
["2013-01-12",2013,1,"Poland","Laptops","14INCH ULTRABOOK",5,234,{"$f":"Table1[[#This Row],[Count]]*Table1[[#This Row],[Price]]","v":1170}]
["2013-01-12",2013,1,"Slovakia","Tablet PCs","TABLET 10-INCH QUAD-CORE A9",1,162,{"$f":"Table1[[#This Row],[Count]]*Table1[[#This Row],[Price]]","v":162}]
["2013-01-12",2013,1,"Albania","Tablet PCs","7 INCH DUAL CORE ANDROID TABLET PC Q88",4,210,{"$f":"Table1[[#This Row],[Count]]*Table1[[#This Row],[Price]]","v":840}]
["2013-01-12",2013,1,"France","Workstations ","SUN BLADE 1500 WORKSTATION BASE SUN B1500",5,378,{"$f":"Table1[[#This Row],[Count]]*Table1[[#This Row],[Price]]","v":1890}]
["2013-01-13",2013,1,"Portugal","Workstations ","I7 MINI PC WITH HDMI QOTOM-T620",4,342,{"$f":"Table1[[#This Row],[Count]]*Table1[[#This Row],[Price]]","v":1368}]
["2013-01-13",2013,1,"Switzerland","Laptops","14.1\" AIR LAPTOP INTEL D2500",2,270,{"$f":"Table1[[#This Row],[Count]]*Table1[[#This Row],[Price]]","v":540}]
["2013-01-13",2013,1,"USA","Camera & Photo","D3200 DIGITAL SLR",3,306,{"$f":"Table1[[#This Row],[Count]]*Table1[[#This Row],[Price]]","v":918}]
["2013-01-13",2013,1,"Andorra","Tablet PCs","7 INCH DUAL CORE ANDROID TABLET PC Q88",4,210,{"$f":"Table1[[#This Row],[Count]]*Table1[[#This Row],[Price]]","v":840}]
["2013-01-14",2013,1,"Slovakia","Camera & Photo","SONY CYBERSHOT H200",1,318,{"$f":"Table1[[#This Row],[Count]]*Table1[[#This Row],[Price]]","v":318}]
["2013-01-14",2013,1,"Netherlands","Workstations ","SUN BLADE 1500 WORKSTATION BASE SUN B1500",1,378,{"$f":"Table1[[#This Row],[Count]]*Table1[[#This Row],[Price]]","v":378}]
["2013-01-14",2013,1,"USA","Laptops","Y10D 10 INCH VIA 8880",1,246,{"$f":"Table1[[#This Row],[Count]]*Table1[[#This Row],[Price]]","v":246}]
["2013-01-14",2013,1,"USA","Laptops","14INCH ULTRABOOK",5,234,{"$f":"Table1[[#This Row],[Count]]*Table1[[#This Row],[Price]]","v":1170}]
["2013-01-15",2013,1,"USA","Tablet PCs","TABLET 10-INCH QUAD-CORE A9",3,162,{"$f":"Table1[[#This Row],[Count]]*Table1[[#This Row],[Price]]","v":486}]
["2013-01-15",2013,1,"Latvia","Camera & Photo","SONY CYBERSHOT H200",2,318,{"$f":"Table1[[#This Row],[Count]]*Table1[[#This Row],[Price]]","v":636}]
["2013-01-15",2013,1,"USA","Workstations ","CLOUD COMPUTER THIN STATION FL300",1,390,{"$f":"Table1[[#This Row],[Count]]*Table1[[#This Row],[Price]]","v":390}]
["2013-01-15",2013,1,"USA","Laptops","THINKPAD T440S",1,258,{"$f":"Table1[[#This Row],[Count]]*Table1[[#This Row],[Price]]","v":258}]
["2013-01-16",2013,1,"Greece","Camera & Photo","SONY CYBERSHOT H200",3,318,{"$f":"Table1[[#This Row],[Count]]*Table1[[#This Row],[Price]]","v":954}]
["2013-01-16",2013,1,"USA","Laptops","Y10D 10 INCH VIA 8880",3,246,{"$f":"Table1[[#This Row],[Count]]*Table1[[#This Row],[Price]]","v":738}]
["2013-01-16",2013,1,"USA","Laptops","14INCH ULTRABOOK",5,234,{"$f":"Table1[[#This Row],[Count]]*Table1[[#This Row],[Price]]","v":1170}]
["2013-01-16",2013,1,"Austria","Camera & Photo","SONY CYBERSHOT H200",2,318,{"$f":"Table1[[#This Row],[Count]]*Table1[[#This Row],[Price]]","v":636}]
["2013-01-17",2013,1,"Spain","Tablet PCs","PIPO M6 PRO 9.7 INCH 3G TABLET PC",1,186,{"$f":"Table1[[#This Row],[Count]]*Table1[[#This Row],[Price]]","v":186}]
["2013-01-17",2013,1,"USA","Workstations ","I7 MINI PC WITH HDMI QOTOM-T620",4,342,{"$f":"Table1[[#This Row],[Count]]*Table1[[#This Row],[Price]]","v":1368}]
["2013-01-17",2013,1,"USA","Laptops","14INCH ULTRABOOK",2,234,{"$f":"Table1[[#This Row],[Count]]*Table1[[#This Row],[Price]]","v":468}]
["2013-01-17",2013,1,"USA","Laptops","Y10D 10 INCH VIA 8880",4,246,{"$f":"Table1[[#This Row],[Count]]*Table1[[#This Row],[Price]]","v":984}]
["2013-01-18",2013,1,"Switzerland","Laptops","14INCH ULTRABOOK",3,234,{"$f":"Table1[[#This Row],[Count]]*Table1[[#This Row],[Price]]","v":702}]
["2013-01-18",2013,1,"Monaco","Workstations ","I7 MINI PC WITH HDMI QOTOM-T620",5,342,{"$f":"Table1[[#This Row],[Count]]*Table1[[#This Row],[Price]]","v":1710}]
["2013-01-18",2013,1,"Slovenia","Camera & Photo","D3000 DIGITAL SLR",3,294,{"$f":"Table1[[#This Row],[Count]]*Table1[[#This Row],[Price]]","v":882}]
["2013-01-18",2013,1,"USA","Camera & Photo","FUJIFILM FINEPIX SL1000",3,330,{"$f":"Table1[[#This Row],[Count]]*Table1[[#This Row],[Price]]","v":990}]
["2013-01-19",2013,1,"USA","Laptops","Y10D 10 INCH VIA 8880",3,246,{"$f":"Table1[[#This Row],[Count]]*Table1[[#This Row],[Price]]","v":738}]
["2013-01-19",2013,1,"Bosnia And Herzegovina","Camera & Photo","D3000 DIGITAL SLR",4,294,{"$f":"Table1[[#This Row],[Count]]*Table1[[#This Row],[Price]]","v":1176}]
["2013-01-19",2013,1,"Belarus","Workstations ","CLOUD COMPUTER THIN STATION FL300",4,390,{"$f":"Table1[[#This Row],[Count]]*Table1[[#This Row],[Price]]","v":1560}]
["2013-01-19",2013,1,"USA","Tablet PCs","GOOWEEL Q88 PRO A23 DUAL CORE TABLET PC",4,198,{"$f":"Table1[[#This Row],[Count]]*Table1[[#This Row],[Price]]","v":792}]
["2013-01-20",2013,1,"Latvia","Workstations ","HIGH PERFORMANCE 4U LCD WORKSTATION C",3,366,{"$f":"Table1[[#This Row],[Count]]*Table1[[#This Row],[Price]]","v":1098}]
["2013-01-20",2013,1,"Australia","Laptops","THINKPAD E445",1,222,{"$f":"Table1[[#This Row],[Count]]*Table1[[#This Row],[Price]]","v":222}]
["2013-01-20",2013,1,"Sweden","Tablet PCs","PIPO M6 PRO 9.7 INCH 3G TABLET PC",3,186,{"$f":"Table1[[#This Row],[Count]]*Table1[[#This Row],[Price]]","v":558}]
["2013-01-20",2013,1,"Finland","Workstations ","HZONE NCOMPUTING L230",5,354,{"$f":"Table1[[#This Row],[Count]]*Table1[[#This Row],[Price]]","v":1770}]
["2013-01-21",2013,1,"USA","Workstations ","HZONE NCOMPUTING L230",3,354,{"$f":"Table1[[#This Row],[Count]]*Table1[[#This Row],[Price]]","v":1062}]
["2013-01-21",2013,1,"Denmark","Workstations ","HZONE NCOMPUTING L230",4,354,{"$f":"Table1[[#This Row],[Count]]*Table1[[#This Row],[Price]]","v":1416}]
["2013-01-21",2013,1,"Australia","Laptops","VIA 8850 ANDROID 4.0",1,282,{"$f":"Table1[[#This Row],[Count]]*Table1[[#This Row],[Price]]","v":282}]
["2013-01-21",2013,1,"Serbien und Montenegro","Laptops","THINKPAD T440S",2,258,{"$f":"Table1[[#This Row],[Count]]*Table1[[#This Row],[Price]]","v":516}]
["2013-01-22",2013,1,"USA","Workstations ","I7 MINI PC WITH HDMI QOTOM-T620",3,342,{"$f":"Table1[[#This Row],[Count]]*Table1[[#This Row],[Price]]","v":1026}]
["2013-01-22",2013,1,"USA","Camera & Photo","D3000 DIGITAL SLR",2,294,{"$f":"Table1[[#This Row],[Count]]*Table1[[#This Row],[Price]]","v":588}]
["2013-01-22",2013,1,"Norway","Tablet PCs","10 INCH TABLET HIGH QUALITY TABLET 1GB",1,174,{"$f":"Table1[[#This Row],[Count]]*Table1[[#This Row],[Price]]","v":174}]
["2013-01-22",2013,1,"USA","Laptops","THINKPAD T440S",4,258,{"$f":"Table1[[#This Row],[Count]]*Table1[[#This Row],[Price]]","v":1032}]
["2013-01-23",2013,1,"USA","Laptops","Y10D 10 INCH VIA 8880",5,246,{"$f":"Table1[[#This Row],[Count]]*Table1[[#This Row],[Price]]","v":1230}]
["2013-01-23",2013,1,"Slovenia","Laptops","Y10D 10 INCH VIA 8880",2,246,{"$f":"Table1[[#This Row],[Count]]*Table1[[#This Row],[Price]]","v":492}]
["2013-01-23",2013,1,"USA","Tablet PCs","7 INCH DUAL CORE ANDROID TABLET PC Q88",2,210,{"$f":"Table1[[#This Row],[Count]]*Table1[[#This Row],[Price]]","v":420}]
["2013-01-23",2013,1,"USA","Camera & Photo","FUJIFILM FINEPIX SL1000",2,330,{"$f":"Table1[[#This Row],[Count]]*Table1[[#This Row],[Price]]","v":660}]
["2013-01-24",2013,1,"USA","Workstations ","CLOUD COMPUTER THIN STATION FL300",4,390,{"$f":"Table1[[#This Row],[Count]]*Table1[[#This Row],[Price]]","v":1560}]
["2013-01-24",2013,1,"USA","Tablet PCs","ONDA V975M TABLET PC",2,150,{"$f":"Table1[[#This Row],[Count]]*Table1[[#This Row],[Price]]","v":300}]
["2013-01-24",2013,1,"Bulgaria","Workstations ","CLOUD COMPUTER THIN STATION FL300",3,390,{"$f":"Table1[[#This Row],[Count]]*Table1[[#This Row],[Price]]","v":1170}]
["2013-01-24",2013,1,"Poland","Workstations ","I7 MINI PC WITH HDMI QOTOM-T620",1,342,{"$f":"Table1[[#This Row],[Count]]*Table1[[#This Row],[Price]]","v":342}]
["2013-01-25",2013,1,"USA","Workstations ","SUN BLADE 1500 WORKSTATION BASE SUN B1500",1,378,{"$f":"Table1[[#This Row],[Count]]*Table1[[#This Row],[Price]]","v":378}]
["2013-01-25",2013,1,"USA","Laptops","Y10D 10 INCH VIA 8880",3,246,{"$f":"Table1[[#This Row],[Count]]*Table1[[#This Row],[Price]]","v":738}]
["2013-01-25",2013,1,"USA","Workstations ","SUN BLADE 1500 WORKSTATION BASE SUN B1500",3,378,{"$f":"Table1[[#This Row],[Count]]*Table1[[#This Row],[Price]]","v":1134}]
["2013-01-25",2013,1,"USA","Tablet PCs","GOOWEEL Q88 PRO A23 DUAL CORE TABLET PC",1,198,{"$f":"Table1[[#This Row],[Count]]*Table1[[#This Row],[Price]]","v":198}]
["2013-01-26",2013,1,"Netherlands","Laptops","14.1\" AIR LAPTOP INTEL D2500",2,270,{"$f":"Table1[[#This Row],[Count]]*Table1[[#This Row],[Price]]","v":540}]
["2013-01-26",2013,1,"Montenegro","Tablet PCs","10 INCH TABLET HIGH QUALITY TABLET 1GB",1,174,{"$f":"Table1[[#This Row],[Count]]*Table1[[#This Row],[Price]]","v":174}]
["2013-01-26",2013,1,"USA","Workstations ","HZONE NCOMPUTING L230",1,354,{"$f":"Table1[[#This Row],[Count]]*Table1[[#This Row],[Price]]","v":354}]
["2013-01-26",2013,1,"Estonia","Tablet PCs","PIPO M6 PRO 9.7 INCH 3G TABLET PC",2,186,{"$f":"Table1[[#This Row],[Count]]*Table1[[#This Row],[Price]]","v":372}]
["2013-01-27",2013,1,"USA","Laptops","Y10D 10 INCH VIA 8880",5,246,{"$f":"Table1[[#This Row],[Count]]*Table1[[#This Row],[Price]]","v":1230}]
["2013-01-27",2013,1,"USA","Workstations ","CLOUD COMPUTER THIN STATION FL300",1,390,{"$f":"Table1[[#This Row],[Count]]*Table1[[#This Row],[Price]]","v":390}]
["2013-01-27",2013,1,"USA","Tablet PCs","ONDA V975M TABLET PC",2,150,{"$f":"Table1[[#This Row],[Count]]*Table1[[#This Row],[Price]]","v":300}]
["2013-01-27",2013,1,"France","Workstations ","I7 MINI PC WITH HDMI QOTOM-T620",4,342,{"$f":"Table1[[#This Row],[Count]]*Table1[[#This Row],[Price]]","v":1368}]
["2013-01-28",2013,1,"Ukraine","Camera & Photo","FUJIFILM FINEPIX SL1000",2,330,{"$f":"Table1[[#This Row],[Count]]*Table1[[#This Row],[Price]]","v":660}]
["2013-01-28",2013,1,"France","Tablet PCs","ONDA V975M TABLET PC",4,150,{"$f":"Table1[[#This Row],[Count]]*Table1[[#This Row],[Price]]","v":600}]
["2013-01-28",2013,1,"Romania","Laptops","VIA 8850 ANDROID 4.0",1,282,{"$f":"Table1[[#This Row],[Count]]*Table1[[#This Row],[Price]]","v":282}]
["2013-01-28",2013,1,"USA","Laptops","THINKPAD E445",3,222,{"$f":"Table1[[#This Row],[Count]]*Table1[[#This Row],[Price]]","v":666}]
["2013-01-29",2013,1,"Lithuania","Laptops","Y10D 10 INCH VIA 8880",4,246,{"$f":"Table1[[#This Row],[Count]]*Table1[[#This Row],[Price]]","v":984}]
["2013-01-29",2013,1,"USA","Tablet PCs","GOOWEEL Q88 PRO A23 DUAL CORE TABLET PC",1,198,{"$f":"Table1[[#This Row],[Count]]*Table1[[#This Row],[Price]]","v":198}]
["2013-01-29",2013,1,"USA","Camera & Photo","FUJIFILM FINEPIX SL1000",2,330,{"$f":"Table1[[#This Row],[Count]]*Table1[[#This Row],[Price]]","v":660}]
["2013-01-29",2013,1,"Australia","Workstations ","HIGH PERFORMANCE 4U LCD WORKSTATION C",2,366,{"$f":"Table1[[#This Row],[Count]]*Table1[[#This Row],[Price]]","v":732}]
["2013-01-30",2013,1,"USA","Laptops","THINKPAD E445",2,222,{"$f":"Table1[[#This Row],[Count]]*Table1[[#This Row],[Price]]","v":444}]
["2013-01-30",2013,1,"Denmark","Tablet PCs","7 INCH DUAL CORE ANDROID TABLET PC Q88",3,210,{"$f":"Table1[[#This Row],[Count]]*Table1[[#This Row],[Price]]","v":630}]
["2013-01-30",2013,1,"Denmark","Laptops","THINKPAD T440S",4,258,{"$f":"Table1[[#This Row],[Count]]*Table1[[#This Row],[Price]]","v":1032}]
["2013-01-30",2013,1,"Greece","Workstations ","HIGH PERFORMANCE 4U LCD WORKSTATION C",4,366,{"$f":"Table1[[#This Row],[Count]]*Table1[[#This Row],[Price]]","v":1464}]
["2013-01-31",2013,1,"USA","Workstations ","I7 MINI PC WITH HDMI QOTOM-T620",5,342,{"$f":"Table1[[#This Row],[Count]]*Table1[[#This Row],[Price]]","v":1710}]
["2013-01-31",2013,1,"Estonia","Camera & Photo","D3200 DIGITAL SLR",5,306,{"$f":"Table1[[#This Row],[Count]]*Table1[[#This Row],[Price]]","v":1530}]
["2013-01-31",2013,1,"USA","Laptops","THINKPAD E445",3,222,{"$f":"Table1[[#This Row],[Count]]*Table1[[#This Row],[Price]]","v":666}]
["2013-01-31",2013,1,"Serbien und Montenegro","Workstations ","HIGH PERFORMANCE 4U LCD WORKSTATION C",4,366,{"$f":"Table1[[#This Row],[Count]]*Table1[[#This Row],[Price]]","v":1464}]
["2013-02-01",2013,2,"USA","Tablet PCs","ONDA V975M TABLET PC",4,150,{"$f":"Table1[[#This Row],[Count]]*Table1[[#This Row],[Price]]","v":600}]
["2013-02-01",2013,2,"USA","Workstations ","CLOUD COMPUTER THIN STATION FL300",4,390,{"$f":"Table1[[#This Row],[Count]]*Table1[[#This Row],[Price]]","v":1560}]
["2013-02-01",2013,2,"Georgia","Workstations ","SUN BLADE 1500 WORKSTATION BASE SUN B1500",3,378,{"$f":"Table1[[#This Row],[Count]]*Table1[[#This Row],[Price]]","v":1134}]
["2013-02-01",2013,2,"USA","Tablet PCs","TABLET 10-INCH QUAD-CORE A9",2,162,{"$f":"Table1[[#This Row],[Count]]*Table1[[#This Row],[Price]]","v":324}]
["2013-02-02",2013,2,"USA","Laptops","14INCH ULTRABOOK",3,234,{"$f":"Table1[[#This Row],[Count]]*Table1[[#This Row],[Price]]","v":702}]
["2013-02-02",2013,2,"France","Tablet PCs","10 INCH TABLET HIGH QUALITY TABLET 1GB",5,174,{"$f":"Table1[[#This Row],[Count]]*Table1[[#This Row],[Price]]","v":870}]
["2013-02-02",2013,2,"Netherlands","Workstations ","CLOUD COMPUTER THIN STATION FL300",1,390,{"$f":"Table1[[#This Row],[Count]]*Table1[[#This Row],[Price]]","v":390}]
["2013-02-02",2013,2,"Finland","Laptops","Y10D 10 INCH VIA 8880",5,246,{"$f":"Table1[[#This Row],[Count]]*Table1[[#This Row],[Price]]","v":1230}]
["2013-02-03",2013,2,"USA","Laptops","VIA 8850 ANDROID 4.0",1,282,{"$f":"Table1[[#This Row],[Count]]*Table1[[#This Row],[Price]]","v":282}]
["2013-02-03",2013,2,"USA","Tablet PCs","7 INCH DUAL CORE ANDROID TABLET PC Q88",4,210,{"$f":"Table1[[#This Row],[Count]]*Table1[[#This Row],[Price]]","v":840}]
["2013-02-03",2013,2,"USA","Laptops","14.1\" AIR LAPTOP INTEL D2500",3,270,{"$f":"Table1[[#This Row],[Count]]*Table1[[#This Row],[Price]]","v":810}]
["2013-02-03",2013,2,"USA","Workstations ","I7 MINI PC WITH HDMI QOTOM-T620",5,342,{"$f":"Table1[[#This Row],[Count]]*Table1[[#This Row],[Price]]","v":1710}]
["2013-02-04",2013,2,"USA","Workstations ","HIGH PERFORMANCE 4U LCD WORKSTATION C",4,366,{"$f":"Table1[[#This Row],[Count]]*Table1[[#This Row],[Price]]","v":1464}]
["2013-02-04",2013,2,"USA","Laptops","14.1\" AIR LAPTOP INTEL D2500",4,270,{"$f":"Table1[[#This Row],[Count]]*Table1[[#This Row],[Price]]","v":1080}]
["2013-02-04",2013,2,"USA","Laptops","14INCH ULTRABOOK",3,234,{"$f":"Table1[[#This Row],[Count]]*Table1[[#This Row],[Price]]","v":702}]
["2013-02-04",2013,2,"Greece","Tablet PCs","TABLET 10-INCH QUAD-CORE A9",5,162,{"$f":"Table1[[#This Row],[Count]]*Table1[[#This Row],[Price]]","v":810}]
["2013-02-05",2013,2,"USA","Laptops","VIA 8850 ANDROID 4.0",3,282,{"$f":"Table1[[#This Row],[Count]]*Table1[[#This Row],[Price]]","v":846}]
["2013-02-05",2013,2,"Lithuania","Workstations ","I7 MINI PC WITH HDMI QOTOM-T620",3,342,{"$f":"Table1[[#This Row],[Count]]*Table1[[#This Row],[Price]]","v":1026}]
["2013-02-05",2013,2,"Czech Republic","Laptops","THINKPAD E445",2,222,{"$f":"Table1[[#This Row],[Count]]*Table1[[#This Row],[Price]]","v":444}]
["2013-02-05",2013,2,"USA","Tablet PCs","10 INCH TABLET HIGH QUALITY TABLET 1GB",2,174,{"$f":"Table1[[#This Row],[Count]]*Table1[[#This Row],[Price]]","v":348}]
["2013-02-06",2013,2,"USA","Laptops","14INCH ULTRABOOK",5,234,{"$f":"Table1[[#This Row],[Count]]*Table1[[#This Row],[Price]]","v":1170}]
["2013-02-06",2013,2,"USA","Workstations ","I7 MINI PC WITH HDMI QOTOM-T620",3,342,{"$f":"Table1[[#This Row],[Count]]*Table1[[#This Row],[Price]]","v":1026}]
["2013-02-06",2013,2,"USA","Camera & Photo","D3200 DIGITAL SLR",3,306,{"$f":"Table1[[#This Row],[Count]]*Table1[[#This Row],[Price]]","v":918}]
["2013-02-06",2013,2,"USA","Laptops","Y10D 10 INCH VIA 8880",5,246,{"$f":"Table1[[#This Row],[Count]]*Table1[[#This Row],[Price]]","v":1230}]
["2013-02-07",2013,2,"Denmark","Workstations ","CLOUD COMPUTER THIN STATION FL300",2,390,{"$f":"Table1[[#This Row],[Count]]*Table1[[#This Row],[Price]]","v":780}]
["2013-02-07",2013,2,"USA","Tablet PCs","PIPO M6 PRO 9.7 INCH 3G TABLET PC",4,186,{"$f":"Table1[[#This Row],[Count]]*Table1[[#This Row],[Price]]","v":744}]
["2013-02-07",2013,2,"Croatia","Tablet PCs","10 INCH TABLET HIGH QUALITY TABLET 1GB",4,174,{"$f":"Table1[[#This Row],[Count]]*Table1[[#This Row],[Price]]","v":696}]
["2013-02-07",2013,2,"USA","Camera & Photo","D3000 DIGITAL SLR",2,294,{"$f":"Table1[[#This Row],[Count]]*Table1[[#This Row],[Price]]","v":588}]
["2013-02-08",2013,2,"USA","Laptops","Y10D 10 INCH VIA 8880",4,246,{"$f":"Table1[[#This Row],[Count]]*Table1[[#This Row],[Price]]","v":984}]
["2013-02-08",2013,2,"USA","Camera & Photo","D3000 DIGITAL SLR",5,294,{"$f":"Table1[[#This Row],[Count]]*Table1[[#This Row],[Price]]","v":1470}]
["2013-02-08",2013,2,"Portugal","Workstations ","I7 MINI PC WITH HDMI QOTOM-T620",3,342,{"$f":"Table1[[#This Row],[Count]]*Table1[[#This Row],[Price]]","v":1026}]
["2013-02-08",2013,2,"USA","Laptops","Y10D 10 INCH VIA 8880",5,246,{"$f":"Table1[[#This Row],[Count]]*Table1[[#This Row],[Price]]","v":1230}]
["2013-02-09",2013,2,"Portugal","Tablet PCs","ONDA V975M TABLET PC",3,150,{"$f":"Table1[[#This Row],[Count]]*Table1[[#This Row],[Price]]","v":450}]
["2013-02-09",2013,2,"Italy","Tablet PCs","GOOWEEL Q88 PRO A23 DUAL CORE TABLET PC",3,198,{"$f":"Table1[[#This Row],[Count]]*Table1[[#This Row],[Price]]","v":594}]
["2013-02-09",2013,2,"USA","Tablet PCs","TABLET 10-INCH QUAD-CORE A9",1,162,{"$f":"Table1[[#This Row],[Count]]*Table1[[#This Row],[Price]]","v":162}]
["2013-02-09",2013,2,"Latvia","Camera & Photo","D3000 DIGITAL SLR",1,294,{"$f":"Table1[[#This Row],[Count]]*Table1[[#This Row],[Price]]","v":294}]
["2013-02-10",2013,2,"France","Camera & Photo","FUJIFILM FINEPIX SL1000",3,330,{"$f":"Table1[[#This Row],[Count]]*Table1[[#This Row],[Price]]","v":990}]
["2013-02-10",2013,2,"Czech Republic","Laptops","Y10D 10 INCH VIA 8880",1,246,{"$f":"Table1[[#This Row],[Count]]*Table1[[#This Row],[Price]]","v":246}]
["2013-02-10",2013,2,"USA","Camera & Photo","FUJIFILM FINEPIX SL1000",5,330,{"$f":"Table1[[#This Row],[Count]]*Table1[[#This Row],[Price]]","v":1650}]
["2013-02-10",2013,2,"USA","Tablet PCs","7 INCH DUAL CORE ANDROID TABLET PC Q88",3,210,{"$f":"Table1[[#This Row],[Count]]*Table1[[#This Row],[Price]]","v":630}]
["2013-02-11",2013,2,"USA","Laptops","14INCH ULTRABOOK",5,234,{"$f":"Table1[[#This Row],[Count]]*Table1[[#This Row],[Price]]","v":1170}]
["2013-02-11",2013,2,"Montenegro","Camera & Photo","FUJIFILM FINEPIX SL1000",3,330,{"$f":"Table1[[#This Row],[Count]]*Table1[[#This Row],[Price]]","v":990}]
["2013-02-11",2013,2,"USA","Workstations ","I7 MINI PC WITH HDMI QOTOM-T620",1,342,{"$f":"Table1[[#This Row],[Count]]*Table1[[#This Row],[Price]]","v":342}]
["2013-02-11",2013,2,"Norway","Workstations ","I7 MINI PC WITH HDMI QOTOM-T620",1,342,{"$f":"Table1[[#This Row],[Count]]*Table1[[#This Row],[Price]]","v":342}]
["2013-02-12",2013,2,"USA","Tablet PCs","10 INCH TABLET HIGH QUALITY TABLET 1GB",5,174,{"$f":"Table1[[#This Row],[Count]]*Table1[[#This Row],[Price]]","v":870}]
["2013-02-12",2013,2,"USA","Tablet PCs","GOOWEEL Q88 PRO A23 DUAL CORE TABLET PC",1,198,{"$f":"Table1[[#This Row],[Count]]*Table1[[#This Row],[Price]]","v":198}]
["2013-02-12",2013,2,"Georgia","Laptops","14INCH ULTRABOOK",3,234,{"$f":"Table1[[#This Row],[Count]]*Table1[[#This Row],[Price]]","v":702}]
["2013-02-12",2013,2,"USA","Camera & Photo","D3000 DIGITAL SLR",1,294,{"$f":"Table1[[#This Row],[Count]]*Table1[[#This Row],[Price]]","v":294}]
["2013-02-13",2013,2,"USA","Camera & Photo","SONY CYBERSHOT H200",2,318,{"$f":"Table1[[#This Row],[Count]]*Table1[[#This Row],[Price]]","v":636}]
["2013-02-13",2013,2,"United Kingdom","Laptops","THINKPAD T440S",5,258,{"$f":"Table1[[#This Row],[Count]]*Table1[[#This Row],[Price]]","v":1290}]
["2013-02-13",2013,2,"Monaco","Workstations ","HZONE NCOMPUTING L230",3,354,{"$f":"Table1[[#This Row],[Count]]*Table1[[#This Row],[Price]]","v":1062}]
["2013-02-13",2013,2,"Australia","Workstations ","HZONE NCOMPUTING L230",4,354,{"$f":"Table1[[#This Row],[Count]]*Table1[[#This Row],[Price]]","v":1416}]
["2013-02-14",2013,2,"Poland","Tablet PCs","GOOWEEL Q88 PRO A23 DUAL CORE TABLET PC",3,198,{"$f":"Table1[[#This Row],[Count]]*Table1[[#This Row],[Price]]","v":594}]
["2013-02-14",2013,2,"Croatia","Laptops","THINKPAD T440S",4,258,{"$f":"Table1[[#This Row],[Count]]*Table1[[#This Row],[Price]]","v":1032}]
["2013-02-14",2013,2,"USA","Laptops","THINKPAD E445",1,222,{"$f":"Table1[[#This Row],[Count]]*Table1[[#This Row],[Price]]","v":222}]
["2013-02-14",2013,2,"Sweden","Workstations ","SUN BLADE 1500 WORKSTATION BASE SUN B1500",5,378,{"$f":"Table1[[#This Row],[Count]]*Table1[[#This Row],[Price]]","v":1890}]
["2013-02-15",2013,2,"USA","Laptops","THINKPAD E445",3,222,{"$f":"Table1[[#This Row],[Count]]*Table1[[#This Row],[Price]]","v":666}]
["2013-02-15",2013,2,"USA","Camera & Photo","D3000 DIGITAL SLR",5,294,{"$f":"Table1[[#This Row],[Count]]*Table1[[#This Row],[Price]]","v":1470}]
["2013-02-15",2013,2,"Australia","Camera & Photo","FUJIFILM FINEPIX SL1000",5,330,{"$f":"Table1[[#This Row],[Count]]*Table1[[#This Row],[Price]]","v":1650}]
["2013-02-15",2013,2,"USA","Tablet PCs","GOOWEEL Q88 PRO A23 DUAL CORE TABLET PC",5,198,{"$f":"Table1[[#This Row],[Count]]*Table1[[#This Row],[Price]]","v":990}]
["2013-02-16",2013,2,"Albania","Workstations ","HZONE NCOMPUTING L230",3,354,{"$f":"Table1[[#This Row],[Count]]*Table1[[#This Row],[Price]]","v":1062}]
["2013-02-16",2013,2,"USA","Camera & Photo","D3000 DIGITAL SLR",5,294,{"$f":"Table1[[#This Row],[Count]]*Table1[[#This Row],[Price]]","v":1470}]
["2013-02-16",2013,2,"USA","Tablet PCs","7 INCH DUAL CORE ANDROID TABLET PC Q88",4,210,{"$f":"Table1[[#This Row],[Count]]*Table1[[#This Row],[Price]]","v":840}]
["2013-02-16",2013,2,"USA","Camera & Photo","FUJIFILM FINEPIX SL1000",1,330,{"$f":"Table1[[#This Row],[Count]]*Table1[[#This Row],[Price]]","v":330}]
["2013-02-17",2013,2,"Croatia","Laptops","VIA 8850 ANDROID 4.0",1,282,{"$f":"Table1[[#This Row],[Count]]*Table1[[#This Row],[Price]]","v":282}]
["2013-02-17",2013,2,"USA","Workstations ","HZONE NCOMPUTING L230",4,354,{"$f":"Table1[[#This Row],[Count]]*Table1[[#This Row],[Price]]","v":1416}]
["2013-02-17",2013,2,"USA","Laptops","14.1\" AIR LAPTOP INTEL D2500",3,270,{"$f":"Table1[[#This Row],[Count]]*Table1[[#This Row],[Price]]","v":810}]
["2013-02-17",2013,2,"USA","Workstations ","I7 MINI PC WITH HDMI QOTOM-T620",2,342,{"$f":"Table1[[#This Row],[Count]]*Table1[[#This Row],[Price]]","v":684}]
["2013-02-18",2013,2,"Albania","Workstations ","HZONE NCOMPUTING L230",2,354,{"$f":"Table1[[#This Row],[Count]]*Table1[[#This Row],[Price]]","v":708}]
["2013-02-18",2013,2,"Belgium","Camera & Photo","SONY CYBERSHOT H200",1,318,{"$f":"Table1[[#This Row],[Count]]*Table1[[#This Row],[Price]]","v":318}]
["2013-02-18",2013,2,"USA","Camera & Photo","SONY CYBERSHOT H200",2,318,{"$f":"Table1[[#This Row],[Count]]*Table1[[#This Row],[Price]]","v":636}]
["2013-02-18",2013,2,"United Kingdom","Laptops","THINKPAD E445",1,222,{"$f":"Table1[[#This Row],[Count]]*Table1[[#This Row],[Price]]","v":222}]
["2013-02-19",2013,2,"USA","Camera & Photo","D3200 DIGITAL SLR",3,306,{"$f":"Table1[[#This Row],[Count]]*Table1[[#This Row],[Price]]","v":918}]
["2013-02-19",2013,2,"USA","Laptops","14.1\" AIR LAPTOP INTEL D2500",5,270,{"$f":"Table1[[#This Row],[Count]]*Table1[[#This Row],[Price]]","v":1350}]
["2013-02-19",2013,2,"USA","Tablet PCs","ONDA V975M TABLET PC",5,150,{"$f":"Table1[[#This Row],[Count]]*Table1[[#This Row],[Price]]","v":750}]
["2013-02-19",2013,2,"Italy","Tablet PCs","10 INCH TABLET HIGH QUALITY TABLET 1GB",4,174,{"$f":"Table1[[#This Row],[Count]]*Table1[[#This Row],[Price]]","v":696}]
["2013-02-20",2013,2,"Czech Republic","Workstations ","HZONE NCOMPUTING L230",4,354,{"$f":"Table1[[#This Row],[Count]]*Table1[[#This Row],[Price]]","v":1416}]
["2013-02-20",2013,2,"USA","Tablet PCs","GOOWEEL Q88 PRO A23 DUAL CORE TABLET PC",1,198,{"$f":"Table1[[#This Row],[Count]]*Table1[[#This Row],[Price]]","v":198}]
["2013-02-20",2013,2,"Bulgaria","Camera & Photo","D3000 DIGITAL SLR",4,294,{"$f":"Table1[[#This Row],[Count]]*Table1[[#This Row],[Price]]","v":1176}]
["2013-02-20",2013,2,"USA","Laptops","14.1\" AIR LAPTOP INTEL D2500",3,270,{"$f":"Table1[[#This Row],[Count]]*Table1[[#This Row],[Price]]","v":810}]
["2013-02-21",2013,2,"USA","Laptops","VIA 8850 ANDROID 4.0",2,282,{"$f":"Table1[[#This Row],[Count]]*Table1[[#This Row],[Price]]","v":564}]
["2013-02-21",2013,2,"USA","Laptops","14INCH ULTRABOOK",5,234,{"$f":"Table1[[#This Row],[Count]]*Table1[[#This Row],[Price]]","v":1170}]
["2013-02-21",2013,2,"Australia","Workstations ","SUN BLADE 1500 WORKSTATION BASE SUN B1500",3,378,{"$f":"Table1[[#This Row],[Count]]*Table1[[#This Row],[Price]]","v":1134}]
["2013-02-21",2013,2,"USA","Camera & Photo","D3000 DIGITAL SLR",3,294,{"$f":"Table1[[#This Row],[Count]]*Table1[[#This Row],[Price]]","v":882}]
["2013-02-22",2013,2,"USA","Tablet PCs","ONDA V975M TABLET PC",4,150,{"$f":"Table1[[#This Row],[Count]]*Table1[[#This Row],[Price]]","v":600}]
["2013-02-22",2013,2,"USA","Laptops","14.1\" AIR LAPTOP INTEL D2500",4,270,{"$f":"Table1[[#This Row],[Count]]*Table1[[#This Row],[Price]]","v":1080}]
["2013-02-22",2013,2,"Portugal","Workstations ","I7 MINI PC WITH HDMI QOTOM-T620",4,342,{"$f":"Table1[[#This Row],[Count]]*Table1[[#This Row],[Price]]","v":1368}]
["2013-02-22",2013,2,"USA","Workstations ","SUN BLADE 1500 WORKSTATION BASE SUN B1500",4,378,{"$f":"Table1[[#This Row],[Count]]*Table1[[#This Row],[Price]]","v":1512}]
["2013-02-23",2013,2,"Luxembourg","Tablet PCs","PIPO M6 PRO 9.7 INCH 3G TABLET PC",3,186,{"$f":"Table1[[#This Row],[Count]]*Table1[[#This Row],[Price]]","v":558}]
["2013-02-23",2013,2,"USA","Tablet PCs","GOOWEEL Q88 PRO A23 DUAL CORE TABLET PC",4,198,{"$f":"Table1[[#This Row],[Count]]*Table1[[#This Row],[Price]]","v":792}]
["2013-02-23",2013,2,"Malta","Workstations ","HIGH PERFORMANCE 4U LCD WORKSTATION C",4,366,{"$f":"Table1[[#This Row],[Count]]*Table1[[#This Row],[Price]]","v":1464}]
["2013-02-23",2013,2,"Sweden","Tablet PCs","PIPO M6 PRO 9.7 INCH 3G TABLET PC",5,186,{"$f":"Table1[[#This Row],[Count]]*Table1[[#This Row],[Price]]","v":930}]
["2013-02-24",2013,2,"USA","Laptops","VIA 8850 ANDROID 4.0",4,282,{"$f":"Table1[[#This Row],[Count]]*Table1[[#This Row],[Price]]","v":1128}]
["2013-02-24",2013,2,"Hungary","Workstations ","HIGH PERFORMANCE 4U LCD WORKSTATION C",2,366,{"$f":"Table1[[#This Row],[Count]]*Table1[[#This Row],[Price]]","v":732}]
["2013-02-24",2013,2,"USA","Camera & Photo","D3200 DIGITAL SLR",4,306,{"$f":"Table1[[#This Row],[Count]]*Table1[[#This Row],[Price]]","v":1224}]
["2013-02-24",2013,2,"Germany","Workstations ","I7 MINI PC WITH HDMI QOTOM-T620",2,342,{"$f":"Table1[[#This Row],[Count]]*Table1[[#This Row],[Price]]","v":684}]
["2013-02-25",2013,2,"Malta","Laptops","VIA 8850 ANDROID 4.0",5,282,{"$f":"Table1[[#This Row],[Count]]*Table1[[#This Row],[Price]]","v":1410}]
["2013-02-25",2013,2,"USA","Tablet PCs","ONDA V975M TABLET PC",2,150,{"$f":"Table1[[#This Row],[Count]]*Table1[[#This Row],[Price]]","v":300}]
["2013-02-25",2013,2,"USA","Camera & Photo","SONY CYBERSHOT H200",4,318,{"$f":"Table1[[#This Row],[Count]]*Table1[[#This Row],[Price]]","v":1272}]
["2013-02-25",2013,2,"Greece","Laptops","14INCH ULTRABOOK",2,234,{"$f":"Table1[[#This Row],[Count]]*Table1[[#This Row],[Price]]","v":468}]
["2013-02-26",2013,2,"USA","Laptops","THINKPAD E445",1,222,{"$f":"Table1[[#This Row],[Count]]*Table1[[#This Row],[Price]]","v":222}]
["2013-02-26",2013,2,"Estonia","Camera & Photo","FUJIFILM FINEPIX SL1000",5,330,{"$f":"Table1[[#This Row],[Count]]*Table1[[#This Row],[Price]]","v":1650}]
["2013-02-26",2013,2,"USA","Laptops","THINKPAD E445",3,222,{"$f":"Table1[[#This Row],[Count]]*Table1[[#This Row],[Price]]","v":666}]
["2013-02-26",2013,2,"USA","Tablet PCs","GOOWEEL Q88 PRO A23 DUAL CORE TABLET PC",5,198,{"$f":"Table1[[#This Row],[Count]]*Table1[[#This Row],[Price]]","v":990}]
["2013-02-27",2013,2,"USA","Camera & Photo","FUJIFILM FINEPIX SL1000",2,330,{"$f":"Table1[[#This Row],[Count]]*Table1[[#This Row],[Price]]","v":660}]
["2013-02-27",2013,2,"Malta","Tablet PCs","ONDA V975M TABLET PC",3,150,{"$f":"Table1[[#This Row],[Count]]*Table1[[#This Row],[Price]]","v":450}]
["2013-02-27",2013,2,"Croatia","Workstations ","I7 MINI PC WITH HDMI QOTOM-T620",1,342,{"$f":"Table1[[#This Row],[Count]]*Table1[[#This Row],[Price]]","v":342}]
["2013-02-27",2013,2,"USA","Tablet PCs","ONDA V975M TABLET PC",4,150,{"$f":"Table1[[#This Row],[Count]]*Table1[[#This Row],[Price]]","v":600}]
["2013-02-28",2013,2,"Finland","Tablet PCs","7 INCH DUAL CORE ANDROID TABLET PC Q88",5,210,{"$f":"Table1[[#This Row],[Count]]*Table1[[#This Row],[Price]]","v":1050}]
["2013-02-28",2013,2,"France","Workstations ","SUN BLADE 1500 WORKSTATION BASE SUN B1500",4,378,{"$f":"Table1[[#This Row],[Count]]*Table1[[#This Row],[Price]]","v":1512}]
["2013-02-28",2013,2,"Czech Republic","Camera & Photo","D3000 DIGITAL SLR",3,294,{"$f":"Table1[[#This Row],[Count]]*Table1[[#This Row],[Price]]","v":882}]
["2013-02-28",2013,2,"USA","Workstations ","CLOUD COMPUTER THIN STATION FL300",3,390,{"$f":"Table1[[#This Row],[Count]]*Table1[[#This Row],[Price]]","v":1170}]
["2013-03-01",2013,3,"Hungary","Workstations ","I7 MINI PC WITH HDMI QOTOM-T620",1,342,{"$f":"Table1[[#This Row],[Count]]*Table1[[#This Row],[Price]]","v":342}]
["2013-03-01",2013,3,"USA","Camera & Photo","D3000 DIGITAL SLR",2,294,{"$f":"Table1[[#This Row],[Count]]*Table1[[#This Row],[Price]]","v":588}]
["2013-03-01",2013,3,"USA","Workstations ","HZONE NCOMPUTING L230",3,354,{"$f":"Table1[[#This Row],[Count]]*Table1[[#This Row],[Price]]","v":1062}]
["2013-03-01",2013,3,"Liechtenstein","Laptops","Y10D 10 INCH VIA 8880",3,246,{"$f":"Table1[[#This Row],[Count]]*Table1[[#This Row],[Price]]","v":738}]
["2013-03-02",2013,3,"Spain","Laptops","VIA 8850 ANDROID 4.0",3,282,{"$f":"Table1[[#This Row],[Count]]*Table1[[#This Row],[Price]]","v":846}]
["2013-03-02",2013,3,"USA","Workstations ","SUN BLADE 1500 WORKSTATION BASE SUN B1500",4,378,{"$f":"Table1[[#This Row],[Count]]*Table1[[#This Row],[Price]]","v":1512}]
["2013-03-02",2013,3,"Denmark","Tablet PCs","GOOWEEL Q88 PRO A23 DUAL CORE TABLET PC",1,198,{"$f":"Table1[[#This Row],[Count]]*Table1[[#This Row],[Price]]","v":198}]
["2013-03-02",2013,3,"Czech Republic","Tablet PCs","TABLET 10-INCH QUAD-CORE A9",2,162,{"$f":"Table1[[#This Row],[Count]]*Table1[[#This Row],[Price]]","v":324}]
["2013-03-03",2013,3,"USA","Workstations ","HZONE NCOMPUTING L230",4,354,{"$f":"Table1[[#This Row],[Count]]*Table1[[#This Row],[Price]]","v":1416}]
["2013-03-03",2013,3,"USA","Tablet PCs","PIPO M6 PRO 9.7 INCH 3G TABLET PC",4,186,{"$f":"Table1[[#This Row],[Count]]*Table1[[#This Row],[Price]]","v":744}]
["2013-03-03",2013,3,"USA","Tablet PCs","ONDA V975M TABLET PC",1,150,{"$f":"Table1[[#This Row],[Count]]*Table1[[#This Row],[Price]]","v":150}]
["2013-03-03",2013,3,"USA","Laptops","Y10D 10 INCH VIA 8880",1,246,{"$f":"Table1[[#This Row],[Count]]*Table1[[#This Row],[Price]]","v":246}]
["2013-03-04",2013,3,"USA","Workstations ","HZONE NCOMPUTING L230",3,354,{"$f":"Table1[[#This Row],[Count]]*Table1[[#This Row],[Price]]","v":1062}]
["2013-03-04",2013,3,"Andorra","Laptops","THINKPAD E445",2,222,{"$f":"Table1[[#This Row],[Count]]*Table1[[#This Row],[Price]]","v":444}]
["2013-03-04",2013,3,"Australia","Laptops","VIA 8850 ANDROID 4.0",4,282,{"$f":"Table1[[#This Row],[Count]]*Table1[[#This Row],[Price]]","v":1128}]
["2013-03-04",2013,3,"USA","Workstations ","SUN BLADE 1500 WORKSTATION BASE SUN B1500",5,378,{"$f":"Table1[[#This Row],[Count]]*Table1[[#This Row],[Price]]","v":1890}]
["2013-03-05",2013,3,"USA","Laptops","THINKPAD T440S",1,258,{"$f":"Table1[[#This Row],[Count]]*Table1[[#This Row],[Price]]","v":258}]
["2013-03-05",2013,3,"Georgia","Camera & Photo","SONY CYBERSHOT H200",4,318,{"$f":"Table1[[#This Row],[Count]]*Table1[[#This Row],[Price]]","v":1272}]
["2013-03-05",2013,3,"USA","Workstations ","I7 MINI PC WITH HDMI QOTOM-T620",1,342,{"$f":"Table1[[#This Row],[Count]]*Table1[[#This Row],[Price]]","v":342}]
["2013-03-05",2013,3,"Moldova","Camera & Photo","D3000 DIGITAL SLR",2,294,{"$f":"Table1[[#This Row],[Count]]*Table1[[#This Row],[Price]]","v":588}]
["2013-03-06",2013,3,"USA","Workstations ","HZONE NCOMPUTING L230",2,354,{"$f":"Table1[[#This Row],[Count]]*Table1[[#This Row],[Price]]","v":708}]
["2013-03-06",2013,3,"Romania","Laptops","14.1\" AIR LAPTOP INTEL D2500",3,270,{"$f":"Table1[[#This Row],[Count]]*Table1[[#This Row],[Price]]","v":810}]
["2013-03-06",2013,3,"USA","Tablet PCs","10 INCH TABLET HIGH QUALITY TABLET 1GB",5,174,{"$f":"Table1[[#This Row],[Count]]*Table1[[#This Row],[Price]]","v":870}]
["2013-03-06",2013,3,"Poland","Tablet PCs","GOOWEEL Q88 PRO A23 DUAL CORE TABLET PC",1,198,{"$f":"Table1[[#This Row],[Count]]*Table1[[#This Row],[Price]]","v":198}]
["2013-03-07",2013,3,"USA","Workstations ","HZONE NCOMPUTING L230",2,354,{"$f":"Table1[[#This Row],[Count]]*Table1[[#This Row],[Price]]","v":708}]
["2013-03-07",2013,3,"Germany","Camera & Photo","D3000 DIGITAL SLR",5,294,{"$f":"Table1[[#This Row],[Count]]*Table1[[#This Row],[Price]]","v":1470}]
["2013-03-07",2013,3,"USA","Tablet PCs","PIPO M6 PRO 9.7 INCH 3G TABLET PC",4,186,{"$f":"Table1[[#This Row],[Count]]*Table1[[#This Row],[Price]]","v":744}]
["2013-03-07",2013,3,"Georgia","Camera & Photo","FUJIFILM FINEPIX SL1000",4,330,{"$f":"Table1[[#This Row],[Count]]*Table1[[#This Row],[Price]]","v":1320}]
["2013-03-08",2013,3,"Norway","Workstations ","CLOUD COMPUTER THIN STATION FL300",2,390,{"$f":"Table1[[#This Row],[Count]]*Table1[[#This Row],[Price]]","v":780}]
["2013-03-08",2013,3,"Latvia","Tablet PCs","TABLET 10-INCH QUAD-CORE A9",5,162,{"$f":"Table1[[#This Row],[Count]]*Table1[[#This Row],[Price]]","v":810}]
["2013-03-08",2013,3,"USA","Laptops","Y10D 10 INCH VIA 8880",2,246,{"$f":"Table1[[#This Row],[Count]]*Table1[[#This Row],[Price]]","v":492}]
["2013-03-08",2013,3,"Moldova","Laptops","14.1\" AIR LAPTOP INTEL D2500",3,270,{"$f":"Table1[[#This Row],[Count]]*Table1[[#This Row],[Price]]","v":810}]
["2013-03-09",2013,3,"Lithuania","Workstations ","I7 MINI PC WITH HDMI QOTOM-T620",3,342,{"$f":"Table1[[#This Row],[Count]]*Table1[[#This Row],[Price]]","v":1026}]
["2013-03-09",2013,3,"Monaco","Workstations ","HIGH PERFORMANCE 4U LCD WORKSTATION C",3,366,{"$f":"Table1[[#This Row],[Count]]*Table1[[#This Row],[Price]]","v":1098}]
["2013-03-09",2013,3,"USA","Tablet PCs","PIPO M6 PRO 9.7 INCH 3G TABLET PC",5,186,{"$f":"Table1[[#This Row],[Count]]*Table1[[#This Row],[Price]]","v":930}]
["2013-03-09",2013,3,"USA","Tablet PCs","PIPO M6 PRO 9.7 INCH 3G TABLET PC",3,186,{"$f":"Table1[[#This Row],[Count]]*Table1[[#This Row],[Price]]","v":558}]
["2013-03-10",2013,3,"USA","Workstations ","CLOUD COMPUTER THIN STATION FL300",3,390,{"$f":"Table1[[#This Row],[Count]]*Table1[[#This Row],[Price]]","v":1170}]
["2013-03-10",2013,3,"Montenegro","Camera & Photo","D3200 DIGITAL SLR",1,306,{"$f":"Table1[[#This Row],[Count]]*Table1[[#This Row],[Price]]","v":306}]
["2013-03-10",2013,3,"USA","Camera & Photo","D3200 DIGITAL SLR",4,306,{"$f":"Table1[[#This Row],[Count]]*Table1[[#This Row],[Price]]","v":1224}]
["2013-03-10",2013,3,"USA","Laptops","14INCH ULTRABOOK",5,234,{"$f":"Table1[[#This Row],[Count]]*Table1[[#This Row],[Price]]","v":1170}]
["2013-03-11",2013,3,"Austria","Tablet PCs","TABLET 10-INCH QUAD-CORE A9",5,162,{"$f":"Table1[[#This Row],[Count]]*Table1[[#This Row],[Price]]","v":810}]
["2013-03-11",2013,3,"Macedonia","Workstations ","HIGH PERFORMANCE 4U LCD WORKSTATION C",5,366,{"$f":"Table1[[#This Row],[Count]]*Table1[[#This Row],[Price]]","v":1830}]
["2013-03-11",2013,3,"USA","Camera & Photo","FUJIFILM FINEPIX SL1000",3,330,{"$f":"Table1[[#This Row],[Count]]*Table1[[#This Row],[Price]]","v":990}]
["2013-03-11",2013,3,"USA","Camera & Photo","FUJIFILM FINEPIX SL1000",3,330,{"$f":"Table1[[#This Row],[Count]]*Table1[[#This Row],[Price]]","v":990}]
["2013-03-12",2013,3,"Ireland","Laptops","THINKPAD T440S",2,258,{"$f":"Table1[[#This Row],[Count]]*Table1[[#This Row],[Price]]","v":516}]
["2013-03-12",2013,3,"Hungary","Laptops","VIA 8850 ANDROID 4.0",5,282,{"$f":"Table1[[#This Row],[Count]]*Table1[[#This Row],[Price]]","v":1410}]
["2013-03-12",2013,3,"USA","Workstations ","I7 MINI PC WITH HDMI QOTOM-T620",3,342,{"$f":"Table1[[#This Row],[Count]]*Table1[[#This Row],[Price]]","v":1026}]
["2013-03-12",2013,3,"Slovakia","Laptops","14.1\" AIR LAPTOP INTEL D2500",1,270,{"$f":"Table1[[#This Row],[Count]]*Table1[[#This Row],[Price]]","v":270}]
["2013-03-13",2013,3,"USA","Laptops","Y10D 10 INCH VIA 8880",2,246,{"$f":"Table1[[#This Row],[Count]]*Table1[[#This Row],[Price]]","v":492}]
["2013-03-13",2013,3,"USA","Camera & Photo","SONY CYBERSHOT H200",1,318,{"$f":"Table1[[#This Row],[Count]]*Table1[[#This Row],[Price]]","v":318}]
["2013-03-13",2013,3,"USA","Tablet PCs","GOOWEEL Q88 PRO A23 DUAL CORE TABLET PC",4,198,{"$f":"Table1[[#This Row],[Count]]*Table1[[#This Row],[Price]]","v":792}]
["2013-03-13",2013,3,"Poland","Camera & Photo","SONY CYBERSHOT H200",2,318,{"$f":"Table1[[#This Row],[Count]]*Table1[[#This Row],[Price]]","v":636}]
["2013-03-14",2013,3,"Portugal","Workstations ","HIGH PERFORMANCE 4U LCD WORKSTATION C",1,366,{"$f":"Table1[[#This Row],[Count]]*Table1[[#This Row],[Price]]","v":366}]
["2013-03-14",2013,3,"Australia","Camera & Photo","SONY CYBERSHOT H200",3,318,{"$f":"Table1[[#This Row],[Count]]*Table1[[#This Row],[Price]]","v":954}]
["2013-03-14",2013,3,"Denmark","Laptops","THINKPAD E445",4,222,{"$f":"Table1[[#This Row],[Count]]*Table1[[#This Row],[Price]]","v":888}]
["2013-03-14",2013,3,"Bosnia And Herzegovina","Workstations ","HIGH PERFORMANCE 4U LCD WORKSTATION C",4,366,{"$f":"Table1[[#This Row],[Count]]*Table1[[#This Row],[Price]]","v":1464}]
["2013-03-15",2013,3,"Luxembourg","Tablet PCs","TABLET 10-INCH QUAD-CORE A9",4,162,{"$f":"Table1[[#This Row],[Count]]*Table1[[#This Row],[Price]]","v":648}]
["2013-03-15",2013,3,"Latvia","Workstations ","I7 MINI PC WITH HDMI QOTOM-T620",5,342,{"$f":"Table1[[#This Row],[Count]]*Table1[[#This Row],[Price]]","v":1710}]
["2013-03-15",2013,3,"Serbien und Montenegro","Tablet PCs","TABLET 10-INCH QUAD-CORE A9",4,162,{"$f":"Table1[[#This Row],[Count]]*Table1[[#This Row],[Price]]","v":648}]
["2013-03-15",2013,3,"USA","Workstations ","I7 MINI PC WITH HDMI QOTOM-T620",5,342,{"$f":"Table1[[#This Row],[Count]]*Table1[[#This Row],[Price]]","v":1710}]
["2013-03-16",2013,3,"USA","Tablet PCs","PIPO M6 PRO 9.7 INCH 3G TABLET PC",4,186,{"$f":"Table1[[#This Row],[Count]]*Table1[[#This Row],[Price]]","v":744}]
["2013-03-16",2013,3,"USA","Tablet PCs","PIPO M6 PRO 9.7 INCH 3G TABLET PC",4,186,{"$f":"Table1[[#This Row],[Count]]*Table1[[#This Row],[Price]]","v":744}]
["2013-03-16",2013,3,"Netherlands","Laptops","Y10D 10 INCH VIA 8880",1,246,{"$f":"Table1[[#This Row],[Count]]*Table1[[#This Row],[Price]]","v":246}]
["2013-03-16",2013,3,"Portugal","Workstations ","HZONE NCOMPUTING L230",3,354,{"$f":"Table1[[#This Row],[Count]]*Table1[[#This Row],[Price]]","v":1062}]
["2013-03-17",2013,3,"Poland","Laptops","THINKPAD E445",5,222,{"$f":"Table1[[#This Row],[Count]]*Table1[[#This Row],[Price]]","v":1110}]
["2013-03-17",2013,3,"Bosnia And Herzegovina","Camera & Photo","FUJIFILM FINEPIX SL1000",5,330,{"$f":"Table1[[#This Row],[Count]]*Table1[[#This Row],[Price]]","v":1650}]
["2013-03-17",2013,3,"USA","Tablet PCs","7 INCH DUAL CORE ANDROID TABLET PC Q88",2,210,{"$f":"Table1[[#This Row],[Count]]*Table1[[#This Row],[Price]]","v":420}]
["2013-03-17",2013,3,"USA","Tablet PCs","7 INCH DUAL CORE ANDROID TABLET PC Q88",3,210,{"$f":"Table1[[#This Row],[Count]]*Table1[[#This Row],[Price]]","v":630}]
["2013-03-18",2013,3,"Norway","Workstations ","HZONE NCOMPUTING L230",2,354,{"$f":"Table1[[#This Row],[Count]]*Table1[[#This Row],[Price]]","v":708}]
["2013-03-18",2013,3,"Malta","Tablet PCs","GOOWEEL Q88 PRO A23 DUAL CORE TABLET PC",2,198,{"$f":"Table1[[#This Row],[Count]]*Table1[[#This Row],[Price]]","v":396}]
["2013-03-18",2013,3,"USA","Camera & Photo","D3200 DIGITAL SLR",5,306,{"$f":"Table1[[#This Row],[Count]]*Table1[[#This Row],[Price]]","v":1530}]
["2013-03-18",2013,3,"USA","Laptops","14INCH ULTRABOOK",2,234,{"$f":"Table1[[#This Row],[Count]]*Table1[[#This Row],[Price]]","v":468}]
["2013-03-19",2013,3,"Malta","Laptops","THINKPAD E445",4,222,{"$f":"Table1[[#This Row],[Count]]*Table1[[#This Row],[Price]]","v":888}]
["2013-03-19",2013,3,"Australia","Tablet PCs","ONDA V975M TABLET PC",2,150,{"$f":"Table1[[#This Row],[Count]]*Table1[[#This Row],[Price]]","v":300}]
["2013-03-19",2013,3,"USA","Laptops","THINKPAD T440S",2,258,{"$f":"Table1[[#This Row],[Count]]*Table1[[#This Row],[Price]]","v":516}]
["2013-03-19",2013,3,"USA","Tablet PCs","10 INCH TABLET HIGH QUALITY TABLET 1GB",1,174,{"$f":"Table1[[#This Row],[Count]]*Table1[[#This Row],[Price]]","v":174}]
["2013-03-20",2013,3,"USA","Laptops","VIA 8850 ANDROID 4.0",3,282,{"$f":"Table1[[#This Row],[Count]]*Table1[[#This Row],[Price]]","v":846}]
["2013-03-20",2013,3,"Netherlands","Tablet PCs","7 INCH DUAL CORE ANDROID TABLET PC Q88",3,210,{"$f":"Table1[[#This Row],[Count]]*Table1[[#This Row],[Price]]","v":630}]
["2013-03-20",2013,3,"USA","Laptops","THINKPAD T440S",4,258,{"$f":"Table1[[#This Row],[Count]]*Table1[[#This Row],[Price]]","v":1032}]
["2013-03-20",2013,3,"Latvia","Tablet PCs","7 INCH DUAL CORE ANDROID TABLET PC Q88",3,210,{"$f":"Table1[[#This Row],[Count]]*Table1[[#This Row],[Price]]","v":630}]
["2013-03-21",2013,3,"USA","Workstations ","HIGH PERFORMANCE 4U LCD WORKSTATION C",1,366,{"$f":"Table1[[#This Row],[Count]]*Table1[[#This Row],[Price]]","v":366}]
["2013-03-21",2013,3,"USA","Camera & Photo","SONY CYBERSHOT H200",5,318,{"$f":"Table1[[#This Row],[Count]]*Table1[[#This Row],[Price]]","v":1590}]
["2013-03-21",2013,3,"Portugal","Laptops","Y10D 10 INCH VIA 8880",2,246,{"$f":"Table1[[#This Row],[Count]]*Table1[[#This Row],[Price]]","v":492}]
["2013-03-21",2013,3,"Monaco","Workstations ","CLOUD COMPUTER THIN STATION FL300",3,390,{"$f":"Table1[[#This Row],[Count]]*Table1[[#This Row],[Price]]","v":1170}]
["2013-03-22",2013,3,"USA","Tablet PCs","ONDA V975M TABLET PC",2,150,{"$f":"Table1[[#This Row],[Count]]*Table1[[#This Row],[Price]]","v":300}]
["2013-03-22",2013,3,"Montenegro","Workstations ","HIGH PERFORMANCE 4U LCD WORKSTATION C",2,366,{"$f":"Table1[[#This Row],[Count]]*Table1[[#This Row],[Price]]","v":732}]
["2013-03-22",2013,3,"France","Workstations ","I7 MINI PC WITH HDMI QOTOM-T620",4,342,{"$f":"Table1[[#This Row],[Count]]*Table1[[#This Row],[Price]]","v":1368}]
["2013-03-22",2013,3,"USA","Laptops","14INCH ULTRABOOK",2,234,{"$f":"Table1[[#This Row],[Count]]*Table1[[#This Row],[Price]]","v":468}]
["2013-03-23",2013,3,"Czech Republic","Tablet PCs","7 INCH DUAL CORE ANDROID TABLET PC Q88",1,210,{"$f":"Table1[[#This Row],[Count]]*Table1[[#This Row],[Price]]","v":210}]
["2013-03-23",2013,3,"Poland","Tablet PCs","PIPO M6 PRO 9.7 INCH 3G TABLET PC",1,186,{"$f":"Table1[[#This Row],[Count]]*Table1[[#This Row],[Price]]","v":186}]
["2013-03-23",2013,3,"USA","Tablet PCs","7 INCH DUAL CORE ANDROID TABLET PC Q88",1,210,{"$f":"Table1[[#This Row],[Count]]*Table1[[#This Row],[Price]]","v":210}]
["2013-03-23",2013,3,"USA","Tablet PCs","7 INCH DUAL CORE ANDROID TABLET PC Q88",3,210,{"$f":"Table1[[#This Row],[Count]]*Table1[[#This Row],[Price]]","v":630}]
["2013-03-24",2013,3,"USA","Tablet PCs","GOOWEEL Q88 PRO A23 DUAL CORE TABLET PC",5,198,{"$f":"Table1[[#This Row],[Count]]*Table1[[#This Row],[Price]]","v":990}]
["2013-03-24",2013,3,"Ukraine","Laptops","Y10D 10 INCH VIA 8880",5,246,{"$f":"Table1[[#This Row],[Count]]*Table1[[#This Row],[Price]]","v":1230}]
["2013-03-24",2013,3,"USA","Laptops","Y10D 10 INCH VIA 8880",3,246,{"$f":"Table1[[#This Row],[Count]]*Table1[[#This Row],[Price]]","v":738}]
["2013-03-24",2013,3,"Ireland","Workstations ","I7 MINI PC WITH HDMI QOTOM-T620",2,342,{"$f":"Table1[[#This Row],[Count]]*Table1[[#This Row],[Price]]","v":684}]
["2013-03-25",2013,3,"Belgium","Workstations ","I7 MINI PC WITH HDMI QOTOM-T620",5,342,{"$f":"Table1[[#This Row],[Count]]*Table1[[#This Row],[Price]]","v":1710}]
["2013-03-25",2013,3,"Australia","Camera & Photo","D3000 DIGITAL SLR",5,294,{"$f":"Table1[[#This Row],[Count]]*Table1[[#This Row],[Price]]","v":1470}]
["2013-03-25",2013,3,"Sweden","Laptops","Y10D 10 INCH VIA 8880",5,246,{"$f":"Table1[[#This Row],[Count]]*Table1[[#This Row],[Price]]","v":1230}]
["2013-03-25",2013,3,"Romania","Laptops","THINKPAD E445",4,222,{"$f":"Table1[[#This Row],[Count]]*Table1[[#This Row],[Price]]","v":888}]
["2013-03-26",2013,3,"USA","Laptops","THINKPAD E445",5,222,{"$f":"Table1[[#This Row],[Count]]*Table1[[#This Row],[Price]]","v":1110}]
["2013-03-26",2013,3,"USA","Laptops","Y10D 10 INCH VIA 8880",1,246,{"$f":"Table1[[#This Row],[Count]]*Table1[[#This Row],[Price]]","v":246}]
["2013-03-26",2013,3,"Germany","Tablet PCs","ONDA V975M TABLET PC",5,150,{"$f":"Table1[[#This Row],[Count]]*Table1[[#This Row],[Price]]","v":750}]
["2013-03-26",2013,3,"Sweden","Tablet PCs","PIPO M6 PRO 9.7 INCH 3G TABLET PC",4,186,{"$f":"Table1[[#This Row],[Count]]*Table1[[#This Row],[Price]]","v":744}]
["2013-03-27",2013,3,"Slovakia","Workstations ","I7 MINI PC WITH HDMI QOTOM-T620",4,342,{"$f":"Table1[[#This Row],[Count]]*Table1[[#This Row],[Price]]","v":1368}]
["2013-03-27",2013,3,"USA","Workstations ","I7 MINI PC WITH HDMI QOTOM-T620",2,342,{"$f":"Table1[[#This Row],[Count]]*Table1[[#This Row],[Price]]","v":684}]
["2013-03-27",2013,3,"USA","Tablet PCs","PIPO M6 PRO 9.7 INCH 3G TABLET PC",2,186,{"$f":"Table1[[#This Row],[Count]]*Table1[[#This Row],[Price]]","v":372}]
["2013-03-27",2013,3,"France","Tablet PCs","7 INCH DUAL CORE ANDROID TABLET PC Q88",2,210,{"$f":"Table1[[#This Row],[Count]]*Table1[[#This Row],[Price]]","v":420}]
["2013-03-28",2013,3,"USA","Workstations ","I7 MINI PC WITH HDMI QOTOM-T620",4,342,{"$f":"Table1[[#This Row],[Count]]*Table1[[#This Row],[Price]]","v":1368}]
["2013-03-28",2013,3,"Lithuania","Laptops","THINKPAD T440S",5,258,{"$f":"Table1[[#This Row],[Count]]*Table1[[#This Row],[Price]]","v":1290}]
["2013-03-28",2013,3,"Australia","Laptops","THINKPAD T440S",1,258,{"$f":"Table1[[#This Row],[Count]]*Table1[[#This Row],[Price]]","v":258}]
["2013-03-28",2013,3,"USA","Camera & Photo","SONY CYBERSHOT H200",3,318,{"$f":"Table1[[#This Row],[Count]]*Table1[[#This Row],[Price]]","v":954}]
["2013-03-29",2013,3,"USA","Laptops","VIA 8850 ANDROID 4.0",5,282,{"$f":"Table1[[#This Row],[Count]]*Table1[[#This Row],[Price]]","v":1410}]
["2013-03-29",2013,3,"Denmark","Camera & Photo","D3000 DIGITAL SLR",5,294,{"$f":"Table1[[#This Row],[Count]]*Table1[[#This Row],[Price]]","v":1470}]
["2013-03-29",2013,3,"Finland","Laptops","14INCH ULTRABOOK",3,234,{"$f":"Table1[[#This Row],[Count]]*Table1[[#This Row],[Price]]","v":702}]
["2013-03-29",2013,3,"USA","Camera & Photo","SONY CYBERSHOT H200",3,318,{"$f":"Table1[[#This Row],[Count]]*Table1[[#This Row],[Price]]","v":954}]
["2013-03-30",2013,3,"Australia","Laptops","THINKPAD E445",3,222,{"$f":"Table1[[#This Row],[Count]]*Table1[[#This Row],[Price]]","v":666}]
["2013-03-30",2013,3,"USA","Laptops","14INCH ULTRABOOK",1,234,{"$f":"Table1[[#This Row],[Count]]*Table1[[#This Row],[Price]]","v":234}]
["2013-03-30",2013,3,"USA","Workstations ","SUN BLADE 1500 WORKSTATION BASE SUN B1500",1,378,{"$f":"Table1[[#This Row],[Count]]*Table1[[#This Row],[Price]]","v":378}]
["2013-03-30",2013,3,"Slovakia","Tablet PCs","10 INCH TABLET HIGH QUALITY TABLET 1GB",3,174,{"$f":"Table1[[#This Row],[Count]]*Table1[[#This Row],[Price]]","v":522}]
["2013-03-31",2013,3,"Bulgaria","Workstations ","HZONE NCOMPUTING L230",1,354,{"$f":"Table1[[#This Row],[Count]]*Table1[[#This Row],[Price]]","v":354}]
["2013-03-31",2013,3,"USA","Workstations ","SUN BLADE 1500 WORKSTATION BASE SUN B1500",4,378,{"$f":"Table1[[#This Row],[Count]]*Table1[[#This Row],[Price]]","v":1512}]
["2013-03-31",2013,3,"USA","Laptops","Y10D 10 INCH VIA 8880",1,246,{"$f":"Table1[[#This Row],[Count]]*Table1[[#This Row],[Price]]","v":246}]
["2013-03-31",2013,3,"USA","Tablet PCs","PIPO M6 PRO 9.7 INCH 3G TABLET PC",3,186,{"$f":"Table1[[#This Row],[Count]]*Table1[[#This Row],[Price]]","v":558}]
["2013-04-01",2013,4,"Australia","Laptops","14.1\" AIR LAPTOP INTEL D2500",1,270,{"$f":"Table1[[#This Row],[Count]]*Table1[[#This Row],[Price]]","v":270}]
["2013-04-01",2013,4,"Finland","Tablet PCs","10 INCH TABLET HIGH QUALITY TABLET 1GB",5,174,{"$f":"Table1[[#This Row],[Count]]*Table1[[#This Row],[Price]]","v":870}]
["2013-04-01",2013,4,"USA","Laptops","14.1\" AIR LAPTOP INTEL D2500",5,270,{"$f":"Table1[[#This Row],[Count]]*Table1[[#This Row],[Price]]","v":1350}]
["2013-04-01",2013,4,"USA","Workstations ","CLOUD COMPUTER THIN STATION FL300",4,390,{"$f":"Table1[[#This Row],[Count]]*Table1[[#This Row],[Price]]","v":1560}]
["2013-04-02",2013,4,"Luxembourg","Camera & Photo","SONY CYBERSHOT H200",5,318,{"$f":"Table1[[#This Row],[Count]]*Table1[[#This Row],[Price]]","v":1590}]
["2013-04-02",2013,4,"Montenegro","Camera & Photo","FUJIFILM FINEPIX SL1000",5,330,{"$f":"Table1[[#This Row],[Count]]*Table1[[#This Row],[Price]]","v":1650}]
["2013-04-02",2013,4,"Luxembourg","Workstations ","SUN BLADE 1500 WORKSTATION BASE SUN B1500",4,378,{"$f":"Table1[[#This Row],[Count]]*Table1[[#This Row],[Price]]","v":1512}]
["2013-04-02",2013,4,"USA","Tablet PCs","7 INCH DUAL CORE ANDROID TABLET PC Q88",4,210,{"$f":"Table1[[#This Row],[Count]]*Table1[[#This Row],[Price]]","v":840}]
["2013-04-03",2013,4,"Andorra","Tablet PCs","ONDA V975M TABLET PC",1,150,{"$f":"Table1[[#This Row],[Count]]*Table1[[#This Row],[Price]]","v":150}]
["2013-04-03",2013,4,"Germany","Laptops","THINKPAD E445",5,222,{"$f":"Table1[[#This Row],[Count]]*Table1[[#This Row],[Price]]","v":1110}]
["2013-04-03",2013,4,"USA","Workstations ","HIGH PERFORMANCE 4U LCD WORKSTATION C",5,366,{"$f":"Table1[[#This Row],[Count]]*Table1[[#This Row],[Price]]","v":1830}]
["2013-04-03",2013,4,"Ireland","Camera & Photo","D3000 DIGITAL SLR",1,294,{"$f":"Table1[[#This Row],[Count]]*Table1[[#This Row],[Price]]","v":294}]
["2013-04-04",2013,4,"USA","Laptops","THINKPAD T440S",1,258,{"$f":"Table1[[#This Row],[Count]]*Table1[[#This Row],[Price]]","v":258}]
["2013-04-04",2013,4,"Switzerland","Workstations ","HIGH PERFORMANCE 4U LCD WORKSTATION C",3,366,{"$f":"Table1[[#This Row],[Count]]*Table1[[#This Row],[Price]]","v":1098}]
["2013-04-04",2013,4,"USA","Laptops","THINKPAD E445",4,222,{"$f":"Table1[[#This Row],[Count]]*Table1[[#This Row],[Price]]","v":888}]
["2013-04-04",2013,4,"Netherlands","Workstations ","SUN BLADE 1500 WORKSTATION BASE SUN B1500",3,378,{"$f":"Table1[[#This Row],[Count]]*Table1[[#This Row],[Price]]","v":1134}]
["2013-04-05",2013,4,"USA","Tablet PCs","TABLET 10-INCH QUAD-CORE A9",5,162,{"$f":"Table1[[#This Row],[Count]]*Table1[[#This Row],[Price]]","v":810}]
["2013-04-05",2013,4,"USA","Tablet PCs","GOOWEEL Q88 PRO A23 DUAL CORE TABLET PC",3,198,{"$f":"Table1[[#This Row],[Count]]*Table1[[#This Row],[Price]]","v":594}]
["2013-04-05",2013,4,"Australia","Workstations ","HZONE NCOMPUTING L230",5,354,{"$f":"Table1[[#This Row],[Count]]*Table1[[#This Row],[Price]]","v":1770}]
["2013-04-05",2013,4,"USA","Tablet PCs","7 INCH DUAL CORE ANDROID TABLET PC Q88",2,210,{"$f":"Table1[[#This Row],[Count]]*Table1[[#This Row],[Price]]","v":420}]
["2013-04-06",2013,4,"Denmark","Workstations ","CLOUD COMPUTER THIN STATION FL300",1,390,{"$f":"Table1[[#This Row],[Count]]*Table1[[#This Row],[Price]]","v":390}]
["2013-04-06",2013,4,"USA","Workstations ","CLOUD COMPUTER THIN STATION FL300",4,390,{"$f":"Table1[[#This Row],[Count]]*Table1[[#This Row],[Price]]","v":1560}]
["2013-04-06",2013,4,"USA","Tablet PCs","GOOWEEL Q88 PRO A23 DUAL CORE TABLET PC",4,198,{"$f":"Table1[[#This Row],[Count]]*Table1[[#This Row],[Price]]","v":792}]
["2013-04-06",2013,4,"Montenegro","Workstations ","HIGH PERFORMANCE 4U LCD WORKSTATION C",1,366,{"$f":"Table1[[#This Row],[Count]]*Table1[[#This Row],[Price]]","v":366}]
["2013-04-07",2013,4,"Montenegro","Laptops","14INCH ULTRABOOK",3,234,{"$f":"Table1[[#This Row],[Count]]*Table1[[#This Row],[Price]]","v":702}]
["2013-04-07",2013,4,"USA","Laptops","THINKPAD T440S",4,258,{"$f":"Table1[[#This Row],[Count]]*Table1[[#This Row],[Price]]","v":1032}]
["2013-04-07",2013,4,"USA","Laptops","14.1\" AIR LAPTOP INTEL D2500",2,270,{"$f":"Table1[[#This Row],[Count]]*Table1[[#This Row],[Price]]","v":540}]
["2013-04-07",2013,4,"Australia","Laptops","THINKPAD E445",5,222,{"$f":"Table1[[#This Row],[Count]]*Table1[[#This Row],[Price]]","v":1110}]
["2013-04-08",2013,4,"USA","Tablet PCs","TABLET 10-INCH QUAD-CORE A9",3,162,{"$f":"Table1[[#This Row],[Count]]*Table1[[#This Row],[Price]]","v":486}]
["2013-04-08",2013,4,"Netherlands","Tablet PCs","7 INCH DUAL CORE ANDROID TABLET PC Q88",3,210,{"$f":"Table1[[#This Row],[Count]]*Table1[[#This Row],[Price]]","v":630}]
["2013-04-08",2013,4,"USA","Tablet PCs","TABLET 10-INCH QUAD-CORE A9",1,162,{"$f":"Table1[[#This Row],[Count]]*Table1[[#This Row],[Price]]","v":162}]
["2013-04-08",2013,4,"USA","Tablet PCs","GOOWEEL Q88 PRO A23 DUAL CORE TABLET PC",2,198,{"$f":"Table1[[#This Row],[Count]]*Table1[[#This Row],[Price]]","v":396}]
["2013-04-09",2013,4,"Ireland","Laptops","THINKPAD E445",5,222,{"$f":"Table1[[#This Row],[Count]]*Table1[[#This Row],[Price]]","v":1110}]
["2013-04-09",2013,4,"USA","Workstations ","HIGH PERFORMANCE 4U LCD WORKSTATION C",4,366,{"$f":"Table1[[#This Row],[Count]]*Table1[[#This Row],[Price]]","v":1464}]
["2013-04-09",2013,4,"Italy","Tablet PCs","GOOWEEL Q88 PRO A23 DUAL CORE TABLET PC",4,198,{"$f":"Table1[[#This Row],[Count]]*Table1[[#This Row],[Price]]","v":792}]
["2013-04-09",2013,4,"USA","Laptops","VIA 8850 ANDROID 4.0",3,282,{"$f":"Table1[[#This Row],[Count]]*Table1[[#This Row],[Price]]","v":846}]
["2013-04-10",2013,4,"USA","Camera & Photo","D3200 DIGITAL SLR",4,306,{"$f":"Table1[[#This Row],[Count]]*Table1[[#This Row],[Price]]","v":1224}]
["2013-04-10",2013,4,"USA","Workstations ","SUN BLADE 1500 WORKSTATION BASE SUN B1500",5,378,{"$f":"Table1[[#This Row],[Count]]*Table1[[#This Row],[Price]]","v":1890}]
["2013-04-10",2013,4,"Australia","Laptops","14INCH ULTRABOOK",5,234,{"$f":"Table1[[#This Row],[Count]]*Table1[[#This Row],[Price]]","v":1170}]
["2013-04-10",2013,4,"USA","Tablet PCs","TABLET 10-INCH QUAD-CORE A9",5,162,{"$f":"Table1[[#This Row],[Count]]*Table1[[#This Row],[Price]]","v":810}]
["2013-04-11",2013,4,"USA","Workstations ","HZONE NCOMPUTING L230",1,354,{"$f":"Table1[[#This Row],[Count]]*Table1[[#This Row],[Price]]","v":354}]
["2013-04-11",2013,4,"Denmark","Workstations ","CLOUD COMPUTER THIN STATION FL300",3,390,{"$f":"Table1[[#This Row],[Count]]*Table1[[#This Row],[Price]]","v":1170}]
["2013-04-11",2013,4,"USA","Workstations ","HIGH PERFORMANCE 4U LCD WORKSTATION C",4,366,{"$f":"Table1[[#This Row],[Count]]*Table1[[#This Row],[Price]]","v":1464}]
["2013-04-11",2013,4,"USA","Laptops","14.1\" AIR LAPTOP INTEL D2500",3,270,{"$f":"Table1[[#This Row],[Count]]*Table1[[#This Row],[Price]]","v":810}]
["2013-04-12",2013,4,"USA","Tablet PCs","7 INCH DUAL CORE ANDROID TABLET PC Q88",2,210,{"$f":"Table1[[#This Row],[Count]]*Table1[[#This Row],[Price]]","v":420}]
["2013-04-12",2013,4,"USA","Camera & Photo","D3000 DIGITAL SLR",3,294,{"$f":"Table1[[#This Row],[Count]]*Table1[[#This Row],[Price]]","v":882}]
["2013-04-12",2013,4,"USA","Tablet PCs","ONDA V975M TABLET PC",2,150,{"$f":"Table1[[#This Row],[Count]]*Table1[[#This Row],[Price]]","v":300}]
["2013-04-12",2013,4,"Portugal","Laptops","Y10D 10 INCH VIA 8880",4,246,{"$f":"Table1[[#This Row],[Count]]*Table1[[#This Row],[Price]]","v":984}]
["2013-04-13",2013,4,"USA","Workstations ","HIGH PERFORMANCE 4U LCD WORKSTATION C",1,366,{"$f":"Table1[[#This Row],[Count]]*Table1[[#This Row],[Price]]","v":366}]
["2013-04-13",2013,4,"Lithuania","Workstations ","I7 MINI PC WITH HDMI QOTOM-T620",3,342,{"$f":"Table1[[#This Row],[Count]]*Table1[[#This Row],[Price]]","v":1026}]
["2013-04-13",2013,4,"Andorra","Laptops","THINKPAD E445",3,222,{"$f":"Table1[[#This Row],[Count]]*Table1[[#This Row],[Price]]","v":666}]
["2013-04-13",2013,4,"Australia","Camera & Photo","SONY CYBERSHOT H200",5,318,{"$f":"Table1[[#This Row],[Count]]*Table1[[#This Row],[Price]]","v":1590}]
["2013-04-14",2013,4,"USA","Tablet PCs","ONDA V975M TABLET PC",3,150,{"$f":"Table1[[#This Row],[Count]]*Table1[[#This Row],[Price]]","v":450}]
["2013-04-14",2013,4,"USA","Laptops","VIA 8850 ANDROID 4.0",4,282,{"$f":"Table1[[#This Row],[Count]]*Table1[[#This Row],[Price]]","v":1128}]
["2013-04-14",2013,4,"Australia","Tablet PCs","7 INCH DUAL CORE ANDROID TABLET PC Q88",2,210,{"$f":"Table1[[#This Row],[Count]]*Table1[[#This Row],[Price]]","v":420}]
["2013-04-14",2013,4,"Australia","Laptops","14.1\" AIR LAPTOP INTEL D2500",2,270,{"$f":"Table1[[#This Row],[Count]]*Table1[[#This Row],[Price]]","v":540}]
["2013-04-15",2013,4,"Latvia","Workstations ","HZONE NCOMPUTING L230",1,354,{"$f":"Table1[[#This Row],[Count]]*Table1[[#This Row],[Price]]","v":354}]
["2013-04-15",2013,4,"Bosnia And Herzegovina","Tablet PCs","ONDA V975M TABLET PC",1,150,{"$f":"Table1[[#This Row],[Count]]*Table1[[#This Row],[Price]]","v":150}]
["2013-04-15",2013,4,"USA","Workstations ","HIGH PERFORMANCE 4U LCD WORKSTATION C",3,366,{"$f":"Table1[[#This Row],[Count]]*Table1[[#This Row],[Price]]","v":1098}]
["2013-04-15",2013,4,"USA","Workstations ","I7 MINI PC WITH HDMI QOTOM-T620",1,342,{"$f":"Table1[[#This Row],[Count]]*Table1[[#This Row],[Price]]","v":342}]
["2013-04-16",2013,4,"Ukraine","Workstations ","I7 MINI PC WITH HDMI QOTOM-T620",2,342,{"$f":"Table1[[#This Row],[Count]]*Table1[[#This Row],[Price]]","v":684}]
["2013-04-16",2013,4,"Lithuania","Workstations ","HIGH PERFORMANCE 4U LCD WORKSTATION C",3,366,{"$f":"Table1[[#This Row],[Count]]*Table1[[#This Row],[Price]]","v":1098}]
["2013-04-16",2013,4,"USA","Camera & Photo","SONY CYBERSHOT H200",1,318,{"$f":"Table1[[#This Row],[Count]]*Table1[[#This Row],[Price]]","v":318}]
["2013-04-16",2013,4,"USA","Workstations ","HZONE NCOMPUTING L230",2,354,{"$f":"Table1[[#This Row],[Count]]*Table1[[#This Row],[Price]]","v":708}]
["2013-04-17",2013,4,"Serbien und Montenegro","Workstations ","HIGH PERFORMANCE 4U LCD WORKSTATION C",3,366,{"$f":"Table1[[#This Row],[Count]]*Table1[[#This Row],[Price]]","v":1098}]
["2013-04-17",2013,4,"Switzerland","Tablet PCs","TABLET 10-INCH QUAD-CORE A9",4,162,{"$f":"Table1[[#This Row],[Count]]*Table1[[#This Row],[Price]]","v":648}]
["2013-04-17",2013,4,"Lithuania","Tablet PCs","PIPO M6 PRO 9.7 INCH 3G TABLET PC",1,186,{"$f":"Table1[[#This Row],[Count]]*Table1[[#This Row],[Price]]","v":186}]
["2013-04-17",2013,4,"Spain","Camera & Photo","D3200 DIGITAL SLR",5,306,{"$f":"Table1[[#This Row],[Count]]*Table1[[#This Row],[Price]]","v":1530}]
["2013-04-18",2013,4,"Spain","Tablet PCs","PIPO M6 PRO 9.7 INCH 3G TABLET PC",1,186,{"$f":"Table1[[#This Row],[Count]]*Table1[[#This Row],[Price]]","v":186}]
["2013-04-18",2013,4,"Belgium","Laptops","14.1\" AIR LAPTOP INTEL D2500",1,270,{"$f":"Table1[[#This Row],[Count]]*Table1[[#This Row],[Price]]","v":270}]
["2013-04-18",2013,4,"Australia","Camera & Photo","FUJIFILM FINEPIX SL1000",4,330,{"$f":"Table1[[#This Row],[Count]]*Table1[[#This Row],[Price]]","v":1320}]
["2013-04-18",2013,4,"Slovenia","Laptops","14.1\" AIR LAPTOP INTEL D2500",5,270,{"$f":"Table1[[#This Row],[Count]]*Table1[[#This Row],[Price]]","v":1350}]
["2013-04-19",2013,4,"Andorra","Tablet PCs","10 INCH TABLET HIGH QUALITY TABLET 1GB",5,174,{"$f":"Table1[[#This Row],[Count]]*Table1[[#This Row],[Price]]","v":870}]
["2013-04-19",2013,4,"Romania","Tablet PCs","GOOWEEL Q88 PRO A23 DUAL CORE TABLET PC",1,198,{"$f":"Table1[[#This Row],[Count]]*Table1[[#This Row],[Price]]","v":198}]
["2013-04-19",2013,4,"USA","Workstations ","I7 MINI PC WITH HDMI QOTOM-T620",2,342,{"$f":"Table1[[#This Row],[Count]]*Table1[[#This Row],[Price]]","v":684}]
["2013-04-19",2013,4,"Slovakia","Workstations ","CLOUD COMPUTER THIN STATION FL300",1,390,{"$f":"Table1[[#This Row],[Count]]*Table1[[#This Row],[Price]]","v":390}]
["2013-04-20",2013,4,"Australia","Camera & Photo","SONY CYBERSHOT H200",1,318,{"$f":"Table1[[#This Row],[Count]]*Table1[[#This Row],[Price]]","v":318}]
["2013-04-20",2013,4,"France","Tablet PCs","ONDA V975M TABLET PC",4,150,{"$f":"Table1[[#This Row],[Count]]*Table1[[#This Row],[Price]]","v":600}]
["2013-04-20",2013,4,"USA","Workstations ","SUN BLADE 1500 WORKSTATION BASE SUN B1500",2,378,{"$f":"Table1[[#This Row],[Count]]*Table1[[#This Row],[Price]]","v":756}]
["2013-04-20",2013,4,"USA","Tablet PCs","TABLET 10-INCH QUAD-CORE A9",1,162,{"$f":"Table1[[#This Row],[Count]]*Table1[[#This Row],[Price]]","v":162}]
["2013-04-21",2013,4,"USA","Camera & Photo","FUJIFILM FINEPIX SL1000",2,330,{"$f":"Table1[[#This Row],[Count]]*Table1[[#This Row],[Price]]","v":660}]
["2013-04-21",2013,4,"USA","Laptops","Y10D 10 INCH VIA 8880",5,246,{"$f":"Table1[[#This Row],[Count]]*Table1[[#This Row],[Price]]","v":1230}]
["2013-04-21",2013,4,"USA","Workstations ","I7 MINI PC WITH HDMI QOTOM-T620",2,342,{"$f":"Table1[[#This Row],[Count]]*Table1[[#This Row],[Price]]","v":684}]
["2013-04-21",2013,4,"USA","Laptops","Y10D 10 INCH VIA 8880",2,246,{"$f":"Table1[[#This Row],[Count]]*Table1[[#This Row],[Price]]","v":492}]
["2013-04-22",2013,4,"USA","Laptops","14.1\" AIR LAPTOP INTEL D2500",5,270,{"$f":"Table1[[#This Row],[Count]]*Table1[[#This Row],[Price]]","v":1350}]
["2013-04-22",2013,4,"USA","Tablet PCs","GOOWEEL Q88 PRO A23 DUAL CORE TABLET PC",4,198,{"$f":"Table1[[#This Row],[Count]]*Table1[[#This Row],[Price]]","v":792}]
["2013-04-22",2013,4,"Montenegro","Laptops","THINKPAD T440S",1,258,{"$f":"Table1[[#This Row],[Count]]*Table1[[#This Row],[Price]]","v":258}]
["2013-04-22",2013,4,"Australia","Tablet PCs","TABLET 10-INCH QUAD-CORE A9",5,162,{"$f":"Table1[[#This Row],[Count]]*Table1[[#This Row],[Price]]","v":810}]
["2013-04-23",2013,4,"USA","Tablet PCs","ONDA V975M TABLET PC",4,150,{"$f":"Table1[[#This Row],[Count]]*Table1[[#This Row],[Price]]","v":600}]
["2013-04-23",2013,4,"Andorra","Tablet PCs","PIPO M6 PRO 9.7 INCH 3G TABLET PC",2,186,{"$f":"Table1[[#This Row],[Count]]*Table1[[#This Row],[Price]]","v":372}]
["2013-04-23",2013,4,"Andorra","Workstations ","I7 MINI PC WITH HDMI QOTOM-T620",3,342,{"$f":"Table1[[#This Row],[Count]]*Table1[[#This Row],[Price]]","v":1026}]
["2013-04-23",2013,4,"USA","Camera & Photo","D3000 DIGITAL SLR",2,294,{"$f":"Table1[[#This Row],[Count]]*Table1[[#This Row],[Price]]","v":588}]
["2013-04-24",2013,4,"Moldova","Workstations ","HIGH PERFORMANCE 4U LCD WORKSTATION C",2,366,{"$f":"Table1[[#This Row],[Count]]*Table1[[#This Row],[Price]]","v":732}]
["2013-04-24",2013,4,"Switzerland","Camera & Photo","FUJIFILM FINEPIX SL1000",4,330,{"$f":"Table1[[#This Row],[Count]]*Table1[[#This Row],[Price]]","v":1320}]
["2013-04-24",2013,4,"Andorra","Laptops","THINKPAD E445",1,222,{"$f":"Table1[[#This Row],[Count]]*Table1[[#This Row],[Price]]","v":222}]
["2013-04-24",2013,4,"Netherlands","Camera & Photo","SONY CYBERSHOT H200",5,318,{"$f":"Table1[[#This Row],[Count]]*Table1[[#This Row],[Price]]","v":1590}]
["2013-04-25",2013,4,"United Kingdom","Laptops","Y10D 10 INCH VIA 8880",3,246,{"$f":"Table1[[#This Row],[Count]]*Table1[[#This Row],[Price]]","v":738}]
["2013-04-25",2013,4,"Estonia","Tablet PCs","7 INCH DUAL CORE ANDROID TABLET PC Q88",4,210,{"$f":"Table1[[#This Row],[Count]]*Table1[[#This Row],[Price]]","v":840}]
["2013-04-25",2013,4,"Italy","Workstations ","CLOUD COMPUTER THIN STATION FL300",3,390,{"$f":"Table1[[#This Row],[Count]]*Table1[[#This Row],[Price]]","v":1170}]
["2013-04-25",2013,4,"USA","Camera & Photo","D3200 DIGITAL SLR",1,306,{"$f":"Table1[[#This Row],[Count]]*Table1[[#This Row],[Price]]","v":306}]
["2013-04-26",2013,4,"Portugal","Tablet PCs","7 INCH DUAL CORE ANDROID TABLET PC Q88",2,210,{"$f":"Table1[[#This Row],[Count]]*Table1[[#This Row],[Price]]","v":420}]
["2013-04-26",2013,4,"USA","Laptops","THINKPAD E445",1,222,{"$f":"Table1[[#This Row],[Count]]*Table1[[#This Row],[Price]]","v":222}]
["2013-04-26",2013,4,"Ukraine","Tablet PCs","10 INCH TABLET HIGH QUALITY TABLET 1GB",5,174,{"$f":"Table1[[#This Row],[Count]]*Table1[[#This Row],[Price]]","v":870}]
["2013-04-26",2013,4,"USA","Camera & Photo","D3000 DIGITAL SLR",3,294,{"$f":"Table1[[#This Row],[Count]]*Table1[[#This Row],[Price]]","v":882}]
["2013-04-27",2013,4,"Switzerland","Laptops","14.1\" AIR LAPTOP INTEL D2500",4,270,{"$f":"Table1[[#This Row],[Count]]*Table1[[#This Row],[Price]]","v":1080}]
["2013-04-27",2013,4,"Croatia","Workstations ","SUN BLADE 1500 WORKSTATION BASE SUN B1500",1,378,{"$f":"Table1[[#This Row],[Count]]*Table1[[#This Row],[Price]]","v":378}]
["2013-04-27",2013,4,"Slovakia","Tablet PCs","TABLET 10-INCH QUAD-CORE A9",3,162,{"$f":"Table1[[#This Row],[Count]]*Table1[[#This Row],[Price]]","v":486}]
["2013-04-27",2013,4,"Moldova","Camera & Photo","SONY CYBERSHOT H200",1,318,{"$f":"Table1[[#This Row],[Count]]*Table1[[#This Row],[Price]]","v":318}]
["2013-04-28",2013,4,"Ireland","Tablet PCs","PIPO M6 PRO 9.7 INCH 3G TABLET PC",5,186,{"$f":"Table1[[#This Row],[Count]]*Table1[[#This Row],[Price]]","v":930}]
["2013-04-28",2013,4,"USA","Tablet PCs","7 INCH DUAL CORE ANDROID TABLET PC Q88",1,210,{"$f":"Table1[[#This Row],[Count]]*Table1[[#This Row],[Price]]","v":210}]
["2013-04-28",2013,4,"Germany","Tablet PCs","10 INCH TABLET HIGH QUALITY TABLET 1GB",5,174,{"$f":"Table1[[#This Row],[Count]]*Table1[[#This Row],[Price]]","v":870}]
["2013-04-28",2013,4,"Norway","Laptops","14INCH ULTRABOOK",5,234,{"$f":"Table1[[#This Row],[Count]]*Table1[[#This Row],[Price]]","v":1170}]
["2013-04-29",2013,4,"Estonia","Laptops","VIA 8850 ANDROID 4.0",4,282,{"$f":"Table1[[#This Row],[Count]]*Table1[[#This Row],[Price]]","v":1128}]
["2013-04-29",2013,4,"USA","Tablet PCs","ONDA V975M TABLET PC",4,150,{"$f":"Table1[[#This Row],[Count]]*Table1[[#This Row],[Price]]","v":600}]
["2013-04-29",2013,4,"France","Laptops","14.1\" AIR LAPTOP INTEL D2500",5,270,{"$f":"Table1[[#This Row],[Count]]*Table1[[#This Row],[Price]]","v":1350}]
["2013-04-29",2013,4,"USA","Laptops","14.1\" AIR LAPTOP INTEL D2500",3,270,{"$f":"Table1[[#This Row],[Count]]*Table1[[#This Row],[Price]]","v":810}]
["2013-04-30",2013,4,"France","Tablet PCs","PIPO M6 PRO 9.7 INCH 3G TABLET PC",1,186,{"$f":"Table1[[#This Row],[Count]]*Table1[[#This Row],[Price]]","v":186}]
["2013-04-30",2013,4,"Belarus","Workstations ","HZONE NCOMPUTING L230",1,354,{"$f":"Table1[[#This Row],[Count]]*Table1[[#This Row],[Price]]","v":354}]
["2013-04-30",2013,4,"Switzerland","Workstations ","SUN BLADE 1500 WORKSTATION BASE SUN B1500",4,378,{"$f":"Table1[[#This Row],[Count]]*Table1[[#This Row],[Price]]","v":1512}]
["2013-04-30",2013,4,"Andorra","Workstations ","SUN BLADE 1500 WORKSTATION BASE SUN B1500",5,378,{"$f":"Table1[[#This Row],[Count]]*Table1[[#This Row],[Price]]","v":1890}]
["2013-05-01",2013,5,"USA","Tablet PCs","TABLET 10-INCH QUAD-CORE A9",4,162,{"$f":"Table1[[#This Row],[Count]]*Table1[[#This Row],[Price]]","v":648}]
["2013-05-01",2013,5,"USA","Workstations ","HIGH PERFORMANCE 4U LCD WORKSTATION C",5,366,{"$f":"Table1[[#This Row],[Count]]*Table1[[#This Row],[Price]]","v":1830}]
["2013-05-01",2013,5,"Ireland","Tablet PCs","ONDA V975M TABLET PC",4,150,{"$f":"Table1[[#This Row],[Count]]*Table1[[#This Row],[Price]]","v":600}]
["2013-05-01",2013,5,"Poland","Camera & Photo","FUJIFILM FINEPIX SL1000",1,330,{"$f":"Table1[[#This Row],[Count]]*Table1[[#This Row],[Price]]","v":330}]
["2013-05-02",2013,5,"USA","Laptops","14INCH ULTRABOOK",5,234,{"$f":"Table1[[#This Row],[Count]]*Table1[[#This Row],[Price]]","v":1170}]
["2013-05-02",2013,5,"Lithuania","Laptops","14INCH ULTRABOOK",4,234,{"$f":"Table1[[#This Row],[Count]]*Table1[[#This Row],[Price]]","v":936}]
["2013-05-02",2013,5,"USA","Workstations ","SUN BLADE 1500 WORKSTATION BASE SUN B1500",5,378,{"$f":"Table1[[#This Row],[Count]]*Table1[[#This Row],[Price]]","v":1890}]
["2013-05-02",2013,5,"USA","Camera & Photo","SONY CYBERSHOT H200",3,318,{"$f":"Table1[[#This Row],[Count]]*Table1[[#This Row],[Price]]","v":954}]
["2013-05-03",2013,5,"Belarus","Laptops","Y10D 10 INCH VIA 8880",3,246,{"$f":"Table1[[#This Row],[Count]]*Table1[[#This Row],[Price]]","v":738}]
["2013-05-03",2013,5,"Croatia","Camera & Photo","SONY CYBERSHOT H200",3,318,{"$f":"Table1[[#This Row],[Count]]*Table1[[#This Row],[Price]]","v":954}]
["2013-05-03",2013,5,"USA","Laptops","THINKPAD E445",4,222,{"$f":"Table1[[#This Row],[Count]]*Table1[[#This Row],[Price]]","v":888}]
["2013-05-03",2013,5,"Finland","Tablet PCs","GOOWEEL Q88 PRO A23 DUAL CORE TABLET PC",5,198,{"$f":"Table1[[#This Row],[Count]]*Table1[[#This Row],[Price]]","v":990}]
["2013-05-04",2013,5,"USA","Laptops","THINKPAD E445",2,222,{"$f":"Table1[[#This Row],[Count]]*Table1[[#This Row],[Price]]","v":444}]
["2013-05-04",2013,5,"Hungary","Tablet PCs","7 INCH DUAL CORE ANDROID TABLET PC Q88",1,210,{"$f":"Table1[[#This Row],[Count]]*Table1[[#This Row],[Price]]","v":210}]
["2013-05-04",2013,5,"USA","Workstations ","SUN BLADE 1500 WORKSTATION BASE SUN B1500",4,378,{"$f":"Table1[[#This Row],[Count]]*Table1[[#This Row],[Price]]","v":1512}]
["2013-05-04",2013,5,"Australia","Tablet PCs","GOOWEEL Q88 PRO A23 DUAL CORE TABLET PC",1,198,{"$f":"Table1[[#This Row],[Count]]*Table1[[#This Row],[Price]]","v":198}]
["2013-05-05",2013,5,"Belgium","Laptops","THINKPAD T440S",2,258,{"$f":"Table1[[#This Row],[Count]]*Table1[[#This Row],[Price]]","v":516}]
["2013-05-05",2013,5,"Moldova","Workstations ","HZONE NCOMPUTING L230",2,354,{"$f":"Table1[[#This Row],[Count]]*Table1[[#This Row],[Price]]","v":708}]
["2013-05-05",2013,5,"Albania","Tablet PCs","PIPO M6 PRO 9.7 INCH 3G TABLET PC",4,186,{"$f":"Table1[[#This Row],[Count]]*Table1[[#This Row],[Price]]","v":744}]
["2013-05-05",2013,5,"Montenegro","Laptops","Y10D 10 INCH VIA 8880",4,246,{"$f":"Table1[[#This Row],[Count]]*Table1[[#This Row],[Price]]","v":984}]
["2013-05-06",2013,5,"USA","Laptops","Y10D 10 INCH VIA 8880",4,246,{"$f":"Table1[[#This Row],[Count]]*Table1[[#This Row],[Price]]","v":984}]
["2013-05-06",2013,5,"USA","Camera & Photo","D3000 DIGITAL SLR",3,294,{"$f":"Table1[[#This Row],[Count]]*Table1[[#This Row],[Price]]","v":882}]
["2013-05-06",2013,5,"Finland","Workstations ","HZONE NCOMPUTING L230",1,354,{"$f":"Table1[[#This Row],[Count]]*Table1[[#This Row],[Price]]","v":354}]
["2013-05-06",2013,5,"USA","Camera & Photo","FUJIFILM FINEPIX SL1000",2,330,{"$f":"Table1[[#This Row],[Count]]*Table1[[#This Row],[Price]]","v":660}]
["2013-05-07",2013,5,"Ukraine","Tablet PCs","TABLET 10-INCH QUAD-CORE A9",3,162,{"$f":"Table1[[#This Row],[Count]]*Table1[[#This Row],[Price]]","v":486}]
["2013-05-07",2013,5,"Moldova","Tablet PCs","GOOWEEL Q88 PRO A23 DUAL CORE TABLET PC",2,198,{"$f":"Table1[[#This Row],[Count]]*Table1[[#This Row],[Price]]","v":396}]
["2013-05-07",2013,5,"USA","Tablet PCs","ONDA V975M TABLET PC",3,150,{"$f":"Table1[[#This Row],[Count]]*Table1[[#This Row],[Price]]","v":450}]
["2013-05-07",2013,5,"Italy","Tablet PCs","GOOWEEL Q88 PRO A23 DUAL CORE TABLET PC",3,198,{"$f":"Table1[[#This Row],[Count]]*Table1[[#This Row],[Price]]","v":594}]
["2013-05-08",2013,5,"Moldova","Workstations ","HZONE NCOMPUTING L230",4,354,{"$f":"Table1[[#This Row],[Count]]*Table1[[#This Row],[Price]]","v":1416}]
["2013-05-08",2013,5,"USA","Laptops","THINKPAD T440S",4,258,{"$f":"Table1[[#This Row],[Count]]*Table1[[#This Row],[Price]]","v":1032}]
["2013-05-08",2013,5,"USA","Workstations ","HIGH PERFORMANCE 4U LCD WORKSTATION C",1,366,{"$f":"Table1[[#This Row],[Count]]*Table1[[#This Row],[Price]]","v":366}]
["2013-05-08",2013,5,"Italy","Workstations ","CLOUD COMPUTER THIN STATION FL300",1,390,{"$f":"Table1[[#This Row],[Count]]*Table1[[#This Row],[Price]]","v":390}]
["2013-05-09",2013,5,"Monaco","Tablet PCs","GOOWEEL Q88 PRO A23 DUAL CORE TABLET PC",1,198,{"$f":"Table1[[#This Row],[Count]]*Table1[[#This Row],[Price]]","v":198}]
["2013-05-09",2013,5,"Lithuania","Tablet PCs","ONDA V975M TABLET PC",3,150,{"$f":"Table1[[#This Row],[Count]]*Table1[[#This Row],[Price]]","v":450}]
["2013-05-09",2013,5,"USA","Tablet PCs","GOOWEEL Q88 PRO A23 DUAL CORE TABLET PC",4,198,{"$f":"Table1[[#This Row],[Count]]*Table1[[#This Row],[Price]]","v":792}]
["2013-05-09",2013,5,"USA","Camera & Photo","D3000 DIGITAL SLR",4,294,{"$f":"Table1[[#This Row],[Count]]*Table1[[#This Row],[Price]]","v":1176}]
["2013-05-10",2013,5,"Bosnia And Herzegovina","Tablet PCs","7 INCH DUAL CORE ANDROID TABLET PC Q88",4,210,{"$f":"Table1[[#This Row],[Count]]*Table1[[#This Row],[Price]]","v":840}]
["2013-05-10",2013,5,"Liechtenstein","Tablet PCs","10 INCH TABLET HIGH QUALITY TABLET 1GB",4,174,{"$f":"Table1[[#This Row],[Count]]*Table1[[#This Row],[Price]]","v":696}]
["2013-05-10",2013,5,"USA","Tablet PCs","PIPO M6 PRO 9.7 INCH 3G TABLET PC",4,186,{"$f":"Table1[[#This Row],[Count]]*Table1[[#This Row],[Price]]","v":744}]
["2013-05-10",2013,5,"Ireland","Workstations ","HZONE NCOMPUTING L230",1,354,{"$f":"Table1[[#This Row],[Count]]*Table1[[#This Row],[Price]]","v":354}]
["2013-05-11",2013,5,"USA","Tablet PCs","10 INCH TABLET HIGH QUALITY TABLET 1GB",2,174,{"$f":"Table1[[#This Row],[Count]]*Table1[[#This Row],[Price]]","v":348}]
["2013-05-11",2013,5,"Bulgaria","Workstations ","HIGH PERFORMANCE 4U LCD WORKSTATION C",4,366,{"$f":"Table1[[#This Row],[Count]]*Table1[[#This Row],[Price]]","v":1464}]
["2013-05-11",2013,5,"Slovenia","Laptops","14INCH ULTRABOOK",2,234,{"$f":"Table1[[#This Row],[Count]]*Table1[[#This Row],[Price]]","v":468}]
["2013-05-11",2013,5,"United Kingdom","Laptops","VIA 8850 ANDROID 4.0",5,282,{"$f":"Table1[[#This Row],[Count]]*Table1[[#This Row],[Price]]","v":1410}]
["2013-05-12",2013,5,"Netherlands","Laptops","THINKPAD T440S",2,258,{"$f":"Table1[[#This Row],[Count]]*Table1[[#This Row],[Price]]","v":516}]
["2013-05-12",2013,5,"USA","Workstations ","I7 MINI PC WITH HDMI QOTOM-T620",4,342,{"$f":"Table1[[#This Row],[Count]]*Table1[[#This Row],[Price]]","v":1368}]
["2013-05-12",2013,5,"Romania","Camera & Photo","SONY CYBERSHOT H200",2,318,{"$f":"Table1[[#This Row],[Count]]*Table1[[#This Row],[Price]]","v":636}]
["2013-05-12",2013,5,"Czech Republic","Tablet PCs","TABLET 10-INCH QUAD-CORE A9",2,162,{"$f":"Table1[[#This Row],[Count]]*Table1[[#This Row],[Price]]","v":324}]
["2013-05-13",2013,5,"USA","Tablet PCs","PIPO M6 PRO 9.7 INCH 3G TABLET PC",3,186,{"$f":"Table1[[#This Row],[Count]]*Table1[[#This Row],[Price]]","v":558}]
["2013-05-13",2013,5,"USA","Workstations ","I7 MINI PC WITH HDMI QOTOM-T620",4,342,{"$f":"Table1[[#This Row],[Count]]*Table1[[#This Row],[Price]]","v":1368}]
["2013-05-13",2013,5,"Netherlands","Tablet PCs","GOOWEEL Q88 PRO A23 DUAL CORE TABLET PC",3,198,{"$f":"Table1[[#This Row],[Count]]*Table1[[#This Row],[Price]]","v":594}]
["2013-05-13",2013,5,"Montenegro","Tablet PCs","PIPO M6 PRO 9.7 INCH 3G TABLET PC",1,186,{"$f":"Table1[[#This Row],[Count]]*Table1[[#This Row],[Price]]","v":186}]
["2013-05-14",2013,5,"Ireland","Workstations ","HIGH PERFORMANCE 4U LCD WORKSTATION C",4,366,{"$f":"Table1[[#This Row],[Count]]*Table1[[#This Row],[Price]]","v":1464}]
["2013-05-14",2013,5,"Norway","Camera & Photo","SONY CYBERSHOT H200",5,318,{"$f":"Table1[[#This Row],[Count]]*Table1[[#This Row],[Price]]","v":1590}]
["2013-05-14",2013,5,"USA","Laptops","THINKPAD E445",3,222,{"$f":"Table1[[#This Row],[Count]]*Table1[[#This Row],[Price]]","v":666}]
["2013-05-14",2013,5,"Slovenia","Tablet PCs","GOOWEEL Q88 PRO A23 DUAL CORE TABLET PC",3,198,{"$f":"Table1[[#This Row],[Count]]*Table1[[#This Row],[Price]]","v":594}]
["2013-05-15",2013,5,"Macedonia","Workstations ","I7 MINI PC WITH HDMI QOTOM-T620",3,342,{"$f":"Table1[[#This Row],[Count]]*Table1[[#This Row],[Price]]","v":1026}]
["2013-05-15",2013,5,"Belgium","Tablet PCs","GOOWEEL Q88 PRO A23 DUAL CORE TABLET PC",3,198,{"$f":"Table1[[#This Row],[Count]]*Table1[[#This Row],[Price]]","v":594}]
["2013-05-15",2013,5,"USA","Laptops","THINKPAD E445",5,222,{"$f":"Table1[[#This Row],[Count]]*Table1[[#This Row],[Price]]","v":1110}]
["2013-05-15",2013,5,"USA","Workstations ","I7 MINI PC WITH HDMI QOTOM-T620",3,342,{"$f":"Table1[[#This Row],[Count]]*Table1[[#This Row],[Price]]","v":1026}]
["2013-05-16",2013,5,"Australia","Camera & Photo","FUJIFILM FINEPIX SL1000",4,330,{"$f":"Table1[[#This Row],[Count]]*Table1[[#This Row],[Price]]","v":1320}]
["2013-05-16",2013,5,"Moldova","Camera & Photo","D3000 DIGITAL SLR",3,294,{"$f":"Table1[[#This Row],[Count]]*Table1[[#This Row],[Price]]","v":882}]
["2013-05-16",2013,5,"Norway","Workstations ","CLOUD COMPUTER THIN STATION FL300",1,390,{"$f":"Table1[[#This Row],[Count]]*Table1[[#This Row],[Price]]","v":390}]
["2013-05-16",2013,5,"USA","Laptops","THINKPAD T440S",5,258,{"$f":"Table1[[#This Row],[Count]]*Table1[[#This Row],[Price]]","v":1290}]
["2013-05-17",2013,5,"USA","Workstations ","I7 MINI PC WITH HDMI QOTOM-T620",2,342,{"$f":"Table1[[#This Row],[Count]]*Table1[[#This Row],[Price]]","v":684}]
["2013-05-17",2013,5,"USA","Camera & Photo","D3200 DIGITAL SLR",4,306,{"$f":"Table1[[#This Row],[Count]]*Table1[[#This Row],[Price]]","v":1224}]
["2013-05-17",2013,5,"Australia","Camera & Photo","FUJIFILM FINEPIX SL1000",2,330,{"$f":"Table1[[#This Row],[Count]]*Table1[[#This Row],[Price]]","v":660}]
["2013-05-17",2013,5,"USA","Laptops","THINKPAD T440S",4,258,{"$f":"Table1[[#This Row],[Count]]*Table1[[#This Row],[Price]]","v":1032}]
["2013-05-18",2013,5,"USA","Tablet PCs","ONDA V975M TABLET PC",5,150,{"$f":"Table1[[#This Row],[Count]]*Table1[[#This Row],[Price]]","v":750}]
["2013-05-18",2013,5,"Netherlands","Workstations ","CLOUD COMPUTER THIN STATION FL300",4,390,{"$f":"Table1[[#This Row],[Count]]*Table1[[#This Row],[Price]]","v":1560}]
["2013-05-18",2013,5,"Finland","Workstations ","CLOUD COMPUTER THIN STATION FL300",2,390,{"$f":"Table1[[#This Row],[Count]]*Table1[[#This Row],[Price]]","v":780}]
["2013-05-18",2013,5,"Australia","Laptops","THINKPAD E445",3,222,{"$f":"Table1[[#This Row],[Count]]*Table1[[#This Row],[Price]]","v":666}]
["2013-05-19",2013,5,"USA","Camera & Photo","D3200 DIGITAL SLR",2,306,{"$f":"Table1[[#This Row],[Count]]*Table1[[#This Row],[Price]]","v":612}]
["2013-05-19",2013,5,"USA","Laptops","Y10D 10 INCH VIA 8880",2,246,{"$f":"Table1[[#This Row],[Count]]*Table1[[#This Row],[Price]]","v":492}]
["2013-05-19",2013,5,"Malta","Workstations ","CLOUD COMPUTER THIN STATION FL300",3,390,{"$f":"Table1[[#This Row],[Count]]*Table1[[#This Row],[Price]]","v":1170}]
["2013-05-19",2013,5,"USA","Laptops","14.1\" AIR LAPTOP INTEL D2500",5,270,{"$f":"Table1[[#This Row],[Count]]*Table1[[#This Row],[Price]]","v":1350}]
["2013-05-20",2013,5,"Montenegro","Workstations ","HIGH PERFORMANCE 4U LCD WORKSTATION C",1,366,{"$f":"Table1[[#This Row],[Count]]*Table1[[#This Row],[Price]]","v":366}]
["2013-05-20",2013,5,"USA","Workstations ","SUN BLADE 1500 WORKSTATION BASE SUN B1500",3,378,{"$f":"Table1[[#This Row],[Count]]*Table1[[#This Row],[Price]]","v":1134}]
["2013-05-20",2013,5,"Denmark","Tablet PCs","GOOWEEL Q88 PRO A23 DUAL CORE TABLET PC",1,198,{"$f":"Table1[[#This Row],[Count]]*Table1[[#This Row],[Price]]","v":198}]
["2013-05-20",2013,5,"Hungary","Tablet PCs","7 INCH DUAL CORE ANDROID TABLET PC Q88",3,210,{"$f":"Table1[[#This Row],[Count]]*Table1[[#This Row],[Price]]","v":630}]
["2013-05-21",2013,5,"Monaco","Laptops","THINKPAD T440S",1,258,{"$f":"Table1[[#This Row],[Count]]*Table1[[#This Row],[Price]]","v":258}]
["2013-05-21",2013,5,"USA","Tablet PCs","GOOWEEL Q88 PRO A23 DUAL CORE TABLET PC",2,198,{"$f":"Table1[[#This Row],[Count]]*Table1[[#This Row],[Price]]","v":396}]
["2013-05-21",2013,5,"USA","Laptops","THINKPAD E445",1,222,{"$f":"Table1[[#This Row],[Count]]*Table1[[#This Row],[Price]]","v":222}]
["2013-05-21",2013,5,"USA","Camera & Photo","D3000 DIGITAL SLR",1,294,{"$f":"Table1[[#This Row],[Count]]*Table1[[#This Row],[Price]]","v":294}]
["2013-05-22",2013,5,"Australia","Workstations ","HIGH PERFORMANCE 4U LCD WORKSTATION C",3,366,{"$f":"Table1[[#This Row],[Count]]*Table1[[#This Row],[Price]]","v":1098}]
["2013-05-22",2013,5,"USA","Tablet PCs","PIPO M6 PRO 9.7 INCH 3G TABLET PC",2,186,{"$f":"Table1[[#This Row],[Count]]*Table1[[#This Row],[Price]]","v":372}]
["2013-05-22",2013,5,"Spain","Laptops","14INCH ULTRABOOK",3,234,{"$f":"Table1[[#This Row],[Count]]*Table1[[#This Row],[Price]]","v":702}]
["2013-05-22",2013,5,"Austria","Tablet PCs","PIPO M6 PRO 9.7 INCH 3G TABLET PC",5,186,{"$f":"Table1[[#This Row],[Count]]*Table1[[#This Row],[Price]]","v":930}]
["2013-05-23",2013,5,"Belarus","Workstations ","HZONE NCOMPUTING L230",4,354,{"$f":"Table1[[#This Row],[Count]]*Table1[[#This Row],[Price]]","v":1416}]
["2013-05-23",2013,5,"USA","Laptops","VIA 8850 ANDROID 4.0",1,282,{"$f":"Table1[[#This Row],[Count]]*Table1[[#This Row],[Price]]","v":282}]
["2013-05-23",2013,5,"USA","Workstations ","I7 MINI PC WITH HDMI QOTOM-T620",1,342,{"$f":"Table1[[#This Row],[Count]]*Table1[[#This Row],[Price]]","v":342}]
["2013-05-23",2013,5,"Belarus","Workstations ","HIGH PERFORMANCE 4U LCD WORKSTATION C",3,366,{"$f":"Table1[[#This Row],[Count]]*Table1[[#This Row],[Price]]","v":1098}]
["2013-05-24",2013,5,"USA","Tablet PCs","10 INCH TABLET HIGH QUALITY TABLET 1GB",3,174,{"$f":"Table1[[#This Row],[Count]]*Table1[[#This Row],[Price]]","v":522}]
["2013-05-24",2013,5,"Netherlands","Tablet PCs","GOOWEEL Q88 PRO A23 DUAL CORE TABLET PC",5,198,{"$f":"Table1[[#This Row],[Count]]*Table1[[#This Row],[Price]]","v":990}]
["2013-05-24",2013,5,"USA","Laptops","14.1\" AIR LAPTOP INTEL D2500",5,270,{"$f":"Table1[[#This Row],[Count]]*Table1[[#This Row],[Price]]","v":1350}]
["2013-05-24",2013,5,"USA","Camera & Photo","D3200 DIGITAL SLR",2,306,{"$f":"Table1[[#This Row],[Count]]*Table1[[#This Row],[Price]]","v":612}]
["2013-05-25",2013,5,"USA","Workstations ","HZONE NCOMPUTING L230",1,354,{"$f":"Table1[[#This Row],[Count]]*Table1[[#This Row],[Price]]","v":354}]
["2013-05-25",2013,5,"USA","Workstations ","HIGH PERFORMANCE 4U LCD WORKSTATION C",1,366,{"$f":"Table1[[#This Row],[Count]]*Table1[[#This Row],[Price]]","v":366}]
["2013-05-25",2013,5,"USA","Camera & Photo","FUJIFILM FINEPIX SL1000",4,330,{"$f":"Table1[[#This Row],[Count]]*Table1[[#This Row],[Price]]","v":1320}]
["2013-05-25",2013,5,"Portugal","Camera & Photo","D3000 DIGITAL SLR",5,294,{"$f":"Table1[[#This Row],[Count]]*Table1[[#This Row],[Price]]","v":1470}]
["2013-05-26",2013,5,"USA","Workstations ","HZONE NCOMPUTING L230",5,354,{"$f":"Table1[[#This Row],[Count]]*Table1[[#This Row],[Price]]","v":1770}]
["2013-05-26",2013,5,"Lithuania","Workstations ","CLOUD COMPUTER THIN STATION FL300",3,390,{"$f":"Table1[[#This Row],[Count]]*Table1[[#This Row],[Price]]","v":1170}]
["2013-05-26",2013,5,"USA","Laptops","THINKPAD T440S",3,258,{"$f":"Table1[[#This Row],[Count]]*Table1[[#This Row],[Price]]","v":774}]
["2013-05-26",2013,5,"USA","Laptops","Y10D 10 INCH VIA 8880",1,246,{"$f":"Table1[[#This Row],[Count]]*Table1[[#This Row],[Price]]","v":246}]
["2013-05-27",2013,5,"USA","Laptops","Y10D 10 INCH VIA 8880",1,246,{"$f":"Table1[[#This Row],[Count]]*Table1[[#This Row],[Price]]","v":246}]
["2013-05-27",2013,5,"USA","Tablet PCs","TABLET 10-INCH QUAD-CORE A9",4,162,{"$f":"Table1[[#This Row],[Count]]*Table1[[#This Row],[Price]]","v":648}]
["2013-05-27",2013,5,"USA","Camera & Photo","FUJIFILM FINEPIX SL1000",2,330,{"$f":"Table1[[#This Row],[Count]]*Table1[[#This Row],[Price]]","v":660}]
["2013-05-27",2013,5,"USA","Tablet PCs","PIPO M6 PRO 9.7 INCH 3G TABLET PC",4,186,{"$f":"Table1[[#This Row],[Count]]*Table1[[#This Row],[Price]]","v":744}]
["2013-05-28",2013,5,"Belgium","Laptops","14INCH ULTRABOOK",3,234,{"$f":"Table1[[#This Row],[Count]]*Table1[[#This Row],[Price]]","v":702}]
["2013-05-28",2013,5,"Georgia","Tablet PCs","10 INCH TABLET HIGH QUALITY TABLET 1GB",1,174,{"$f":"Table1[[#This Row],[Count]]*Table1[[#This Row],[Price]]","v":174}]
["2013-05-28",2013,5,"USA","Tablet PCs","GOOWEEL Q88 PRO A23 DUAL CORE TABLET PC",3,198,{"$f":"Table1[[#This Row],[Count]]*Table1[[#This Row],[Price]]","v":594}]
["2013-05-28",2013,5,"USA","Laptops","14INCH ULTRABOOK",1,234,{"$f":"Table1[[#This Row],[Count]]*Table1[[#This Row],[Price]]","v":234}]
["2013-05-29",2013,5,"Ireland","Camera & Photo","SONY CYBERSHOT H200",2,318,{"$f":"Table1[[#This Row],[Count]]*Table1[[#This Row],[Price]]","v":636}]
["2013-05-29",2013,5,"USA","Tablet PCs","10 INCH TABLET HIGH QUALITY TABLET 1GB",1,174,{"$f":"Table1[[#This Row],[Count]]*Table1[[#This Row],[Price]]","v":174}]
["2013-05-29",2013,5,"USA","Tablet PCs","ONDA V975M TABLET PC",2,150,{"$f":"Table1[[#This Row],[Count]]*Table1[[#This Row],[Price]]","v":300}]
["2013-05-29",2013,5,"Andorra","Tablet PCs","PIPO M6 PRO 9.7 INCH 3G TABLET PC",3,186,{"$f":"Table1[[#This Row],[Count]]*Table1[[#This Row],[Price]]","v":558}]
["2013-05-30",2013,5,"Macedonia","Workstations ","HIGH PERFORMANCE 4U LCD WORKSTATION C",3,366,{"$f":"Table1[[#This Row],[Count]]*Table1[[#This Row],[Price]]","v":1098}]
["2013-05-30",2013,5,"Italy","Workstations ","HZONE NCOMPUTING L230",5,354,{"$f":"Table1[[#This Row],[Count]]*Table1[[#This Row],[Price]]","v":1770}]
["2013-05-30",2013,5,"USA","Workstations ","HZONE NCOMPUTING L230",4,354,{"$f":"Table1[[#This Row],[Count]]*Table1[[#This Row],[Price]]","v":1416}]
["2013-05-30",2013,5,"USA","Laptops","THINKPAD T440S",1,258,{"$f":"Table1[[#This Row],[Count]]*Table1[[#This Row],[Price]]","v":258}]
["2013-05-31",2013,5,"USA","Tablet PCs","7 INCH DUAL CORE ANDROID TABLET PC Q88",1,210,{"$f":"Table1[[#This Row],[Count]]*Table1[[#This Row],[Price]]","v":210}]
["2013-05-31",2013,5,"Ukraine","Camera & Photo","D3000 DIGITAL SLR",2,294,{"$f":"Table1[[#This Row],[Count]]*Table1[[#This Row],[Price]]","v":588}]
["2013-05-31",2013,5,"USA","Laptops","14.1\" AIR LAPTOP INTEL D2500",5,270,{"$f":"Table1[[#This Row],[Count]]*Table1[[#This Row],[Price]]","v":1350}]
["2013-05-31",2013,5,"Austria","Laptops","VIA 8850 ANDROID 4.0",2,282,{"$f":"Table1[[#This Row],[Count]]*Table1[[#This Row],[Price]]","v":564}]
["2013-06-01",2013,6,"Australia","Camera & Photo","SONY CYBERSHOT H200",3,318,{"$f":"Table1[[#This Row],[Count]]*Table1[[#This Row],[Price]]","v":954}]
["2013-06-01",2013,6,"USA","Workstations ","SUN BLADE 1500 WORKSTATION BASE SUN B1500",3,378,{"$f":"Table1[[#This Row],[Count]]*Table1[[#This Row],[Price]]","v":1134}]
["2013-06-01",2013,6,"USA","Workstations ","SUN BLADE 1500 WORKSTATION BASE SUN B1500",4,378,{"$f":"Table1[[#This Row],[Count]]*Table1[[#This Row],[Price]]","v":1512}]
["2013-06-01",2013,6,"USA","Tablet PCs","7 INCH DUAL CORE ANDROID TABLET PC Q88",1,210,{"$f":"Table1[[#This Row],[Count]]*Table1[[#This Row],[Price]]","v":210}]
["2013-06-02",2013,6,"Denmark","Laptops","THINKPAD E445",1,222,{"$f":"Table1[[#This Row],[Count]]*Table1[[#This Row],[Price]]","v":222}]
["2013-06-02",2013,6,"Bosnia And Herzegovina","Camera & Photo","D3000 DIGITAL SLR",2,294,{"$f":"Table1[[#This Row],[Count]]*Table1[[#This Row],[Price]]","v":588}]
["2013-06-02",2013,6,"Australia","Tablet PCs","ONDA V975M TABLET PC",1,150,{"$f":"Table1[[#This Row],[Count]]*Table1[[#This Row],[Price]]","v":150}]
["2013-06-02",2013,6,"USA","Tablet PCs","10 INCH TABLET HIGH QUALITY TABLET 1GB",4,174,{"$f":"Table1[[#This Row],[Count]]*Table1[[#This Row],[Price]]","v":696}]
["2013-06-03",2013,6,"Spain","Laptops","THINKPAD E445",5,222,{"$f":"Table1[[#This Row],[Count]]*Table1[[#This Row],[Price]]","v":1110}]
["2013-06-03",2013,6,"Australia","Tablet PCs","TABLET 10-INCH QUAD-CORE A9",4,162,{"$f":"Table1[[#This Row],[Count]]*Table1[[#This Row],[Price]]","v":648}]
["2013-06-03",2013,6,"USA","Camera & Photo","SONY CYBERSHOT H200",1,318,{"$f":"Table1[[#This Row],[Count]]*Table1[[#This Row],[Price]]","v":318}]
["2013-06-03",2013,6,"Austria","Tablet PCs","ONDA V975M TABLET PC",1,150,{"$f":"Table1[[#This Row],[Count]]*Table1[[#This Row],[Price]]","v":150}]
["2013-06-04",2013,6,"USA","Laptops","THINKPAD T440S",3,258,{"$f":"Table1[[#This Row],[Count]]*Table1[[#This Row],[Price]]","v":774}]
["2013-06-04",2013,6,"Croatia","Workstations ","SUN BLADE 1500 WORKSTATION BASE SUN B1500",2,378,{"$f":"Table1[[#This Row],[Count]]*Table1[[#This Row],[Price]]","v":756}]
["2013-06-04",2013,6,"United Kingdom","Laptops","Y10D 10 INCH VIA 8880",2,246,{"$f":"Table1[[#This Row],[Count]]*Table1[[#This Row],[Price]]","v":492}]
["2013-06-04",2013,6,"USA","Tablet PCs","ONDA V975M TABLET PC",4,150,{"$f":"Table1[[#This Row],[Count]]*Table1[[#This Row],[Price]]","v":600}]
["2013-06-05",2013,6,"Slovenia","Tablet PCs","7 INCH DUAL CORE ANDROID TABLET PC Q88",3,210,{"$f":"Table1[[#This Row],[Count]]*Table1[[#This Row],[Price]]","v":630}]
["2013-06-05",2013,6,"USA","Tablet PCs","PIPO M6 PRO 9.7 INCH 3G TABLET PC",2,186,{"$f":"Table1[[#This Row],[Count]]*Table1[[#This Row],[Price]]","v":372}]
["2013-06-05",2013,6,"Portugal","Laptops","14INCH ULTRABOOK",4,234,{"$f":"Table1[[#This Row],[Count]]*Table1[[#This Row],[Price]]","v":936}]
["2013-06-05",2013,6,"Andorra","Camera & Photo","D3000 DIGITAL SLR",5,294,{"$f":"Table1[[#This Row],[Count]]*Table1[[#This Row],[Price]]","v":1470}]
["2013-06-06",2013,6,"Czech Republic","Tablet PCs","7 INCH DUAL CORE ANDROID TABLET PC Q88",2,210,{"$f":"Table1[[#This Row],[Count]]*Table1[[#This Row],[Price]]","v":420}]
["2013-06-06",2013,6,"Monaco","Camera & Photo","D3200 DIGITAL SLR",1,306,{"$f":"Table1[[#This Row],[Count]]*Table1[[#This Row],[Price]]","v":306}]
["2013-06-06",2013,6,"Sweden","Workstations ","I7 MINI PC WITH HDMI QOTOM-T620",4,342,{"$f":"Table1[[#This Row],[Count]]*Table1[[#This Row],[Price]]","v":1368}]
["2013-06-06",2013,6,"Greece","Laptops","THINKPAD T440S",5,258,{"$f":"Table1[[#This Row],[Count]]*Table1[[#This Row],[Price]]","v":1290}]
["2013-06-07",2013,6,"Italy","Tablet PCs","PIPO M6 PRO 9.7 INCH 3G TABLET PC",3,186,{"$f":"Table1[[#This Row],[Count]]*Table1[[#This Row],[Price]]","v":558}]
["2013-06-07",2013,6,"Moldova","Tablet PCs","ONDA V975M TABLET PC",5,150,{"$f":"Table1[[#This Row],[Count]]*Table1[[#This Row],[Price]]","v":750}]
["2013-06-07",2013,6,"USA","Workstations ","SUN BLADE 1500 WORKSTATION BASE SUN B1500",4,378,{"$f":"Table1[[#This Row],[Count]]*Table1[[#This Row],[Price]]","v":1512}]
["2013-06-07",2013,6,"USA","Workstations ","HIGH PERFORMANCE 4U LCD WORKSTATION C",1,366,{"$f":"Table1[[#This Row],[Count]]*Table1[[#This Row],[Price]]","v":366}]
["2013-06-08",2013,6,"Croatia","Tablet PCs","PIPO M6 PRO 9.7 INCH 3G TABLET PC",4,186,{"$f":"Table1[[#This Row],[Count]]*Table1[[#This Row],[Price]]","v":744}]
["2013-06-08",2013,6,"USA","Laptops","14.1\" AIR LAPTOP INTEL D2500",4,270,{"$f":"Table1[[#This Row],[Count]]*Table1[[#This Row],[Price]]","v":1080}]
["2013-06-08",2013,6,"USA","Workstations ","HIGH PERFORMANCE 4U LCD WORKSTATION C",4,366,{"$f":"Table1[[#This Row],[Count]]*Table1[[#This Row],[Price]]","v":1464}]
["2013-06-08",2013,6,"Australia","Tablet PCs","7 INCH DUAL CORE ANDROID TABLET PC Q88",4,210,{"$f":"Table1[[#This Row],[Count]]*Table1[[#This Row],[Price]]","v":840}]
["2013-06-09",2013,6,"Ireland","Tablet PCs","PIPO M6 PRO 9.7 INCH 3G TABLET PC",5,186,{"$f":"Table1[[#This Row],[Count]]*Table1[[#This Row],[Price]]","v":930}]
["2013-06-09",2013,6,"Australia","Tablet PCs","TABLET 10-INCH QUAD-CORE A9",3,162,{"$f":"Table1[[#This Row],[Count]]*Table1[[#This Row],[Price]]","v":486}]
["2013-06-09",2013,6,"Spain","Laptops","14INCH ULTRABOOK",4,234,{"$f":"Table1[[#This Row],[Count]]*Table1[[#This Row],[Price]]","v":936}]
["2013-06-09",2013,6,"USA","Tablet PCs","GOOWEEL Q88 PRO A23 DUAL CORE TABLET PC",2,198,{"$f":"Table1[[#This Row],[Count]]*Table1[[#This Row],[Price]]","v":396}]
["2013-06-10",2013,6,"USA","Workstations ","SUN BLADE 1500 WORKSTATION BASE SUN B1500",1,378,{"$f":"Table1[[#This Row],[Count]]*Table1[[#This Row],[Price]]","v":378}]
["2013-06-10",2013,6,"Andorra","Camera & Photo","D3200 DIGITAL SLR",5,306,{"$f":"Table1[[#This Row],[Count]]*Table1[[#This Row],[Price]]","v":1530}]
["2013-06-10",2013,6,"USA","Workstations ","HZONE NCOMPUTING L230",2,354,{"$f":"Table1[[#This Row],[Count]]*Table1[[#This Row],[Price]]","v":708}]
["2013-06-10",2013,6,"USA","Tablet PCs","GOOWEEL Q88 PRO A23 DUAL CORE TABLET PC",4,198,{"$f":"Table1[[#This Row],[Count]]*Table1[[#This Row],[Price]]","v":792}]
["2013-06-11",2013,6,"France","Workstations ","HZONE NCOMPUTING L230",3,354,{"$f":"Table1[[#This Row],[Count]]*Table1[[#This Row],[Price]]","v":1062}]
["2013-06-11",2013,6,"USA","Laptops","THINKPAD E445",1,222,{"$f":"Table1[[#This Row],[Count]]*Table1[[#This Row],[Price]]","v":222}]
["2013-06-11",2013,6,"USA","Laptops","THINKPAD T440S",2,258,{"$f":"Table1[[#This Row],[Count]]*Table1[[#This Row],[Price]]","v":516}]
["2013-06-11",2013,6,"Malta","Workstations ","CLOUD COMPUTER THIN STATION FL300",4,390,{"$f":"Table1[[#This Row],[Count]]*Table1[[#This Row],[Price]]","v":1560}]
["2013-06-12",2013,6,"USA","Laptops","VIA 8850 ANDROID 4.0",4,282,{"$f":"Table1[[#This Row],[Count]]*Table1[[#This Row],[Price]]","v":1128}]
["2013-06-12",2013,6,"Poland","Workstations ","SUN BLADE 1500 WORKSTATION BASE SUN B1500",5,378,{"$f":"Table1[[#This Row],[Count]]*Table1[[#This Row],[Price]]","v":1890}]
["2013-06-12",2013,6,"USA","Workstations ","HZONE NCOMPUTING L230",3,354,{"$f":"Table1[[#This Row],[Count]]*Table1[[#This Row],[Price]]","v":1062}]
["2013-06-12",2013,6,"Czech Republic","Camera & Photo","FUJIFILM FINEPIX SL1000",1,330,{"$f":"Table1[[#This Row],[Count]]*Table1[[#This Row],[Price]]","v":330}]
["2013-06-13",2013,6,"Bulgaria","Tablet PCs","7 INCH DUAL CORE ANDROID TABLET PC Q88",1,210,{"$f":"Table1[[#This Row],[Count]]*Table1[[#This Row],[Price]]","v":210}]
["2013-06-13",2013,6,"Sweden","Laptops","VIA 8850 ANDROID 4.0",1,282,{"$f":"Table1[[#This Row],[Count]]*Table1[[#This Row],[Price]]","v":282}]
["2013-06-13",2013,6,"USA","Laptops","THINKPAD E445",1,222,{"$f":"Table1[[#This Row],[Count]]*Table1[[#This Row],[Price]]","v":222}]
["2013-06-13",2013,6,"Germany","Tablet PCs","PIPO M6 PRO 9.7 INCH 3G TABLET PC",2,186,{"$f":"Table1[[#This Row],[Count]]*Table1[[#This Row],[Price]]","v":372}]
["2013-06-14",2013,6,"Spain","Camera & Photo","D3000 DIGITAL SLR",1,294,{"$f":"Table1[[#This Row],[Count]]*Table1[[#This Row],[Price]]","v":294}]
["2013-06-14",2013,6,"USA","Tablet PCs","ONDA V975M TABLET PC",1,150,{"$f":"Table1[[#This Row],[Count]]*Table1[[#This Row],[Price]]","v":150}]
["2013-06-14",2013,6,"Austria","Laptops","THINKPAD T440S",2,258,{"$f":"Table1[[#This Row],[Count]]*Table1[[#This Row],[Price]]","v":516}]
["2013-06-14",2013,6,"USA","Tablet PCs","10 INCH TABLET HIGH QUALITY TABLET 1GB",3,174,{"$f":"Table1[[#This Row],[Count]]*Table1[[#This Row],[Price]]","v":522}]
["2013-06-15",2013,6,"Greece","Camera & Photo","D3000 DIGITAL SLR",5,294,{"$f":"Table1[[#This Row],[Count]]*Table1[[#This Row],[Price]]","v":1470}]
["2013-06-15",2013,6,"USA","Workstations ","CLOUD COMPUTER THIN STATION FL300",4,390,{"$f":"Table1[[#This Row],[Count]]*Table1[[#This Row],[Price]]","v":1560}]
["2013-06-15",2013,6,"Australia","Tablet PCs","TABLET 10-INCH QUAD-CORE A9",1,162,{"$f":"Table1[[#This Row],[Count]]*Table1[[#This Row],[Price]]","v":162}]
["2013-06-15",2013,6,"Bulgaria","Workstations ","SUN BLADE 1500 WORKSTATION BASE SUN B1500",1,378,{"$f":"Table1[[#This Row],[Count]]*Table1[[#This Row],[Price]]","v":378}]
["2013-06-16",2013,6,"USA","Camera & Photo","SONY CYBERSHOT H200",5,318,{"$f":"Table1[[#This Row],[Count]]*Table1[[#This Row],[Price]]","v":1590}]
["2013-06-16",2013,6,"Ireland","Tablet PCs","7 INCH DUAL CORE ANDROID TABLET PC Q88",3,210,{"$f":"Table1[[#This Row],[Count]]*Table1[[#This Row],[Price]]","v":630}]
["2013-06-16",2013,6,"USA","Tablet PCs","ONDA V975M TABLET PC",2,150,{"$f":"Table1[[#This Row],[Count]]*Table1[[#This Row],[Price]]","v":300}]
["2013-06-16",2013,6,"USA","Workstations ","I7 MINI PC WITH HDMI QOTOM-T620",2,342,{"$f":"Table1[[#This Row],[Count]]*Table1[[#This Row],[Price]]","v":684}]
["2013-06-17",2013,6,"USA","Tablet PCs","TABLET 10-INCH QUAD-CORE A9",4,162,{"$f":"Table1[[#This Row],[Count]]*Table1[[#This Row],[Price]]","v":648}]
["2013-06-17",2013,6,"USA","Tablet PCs","7 INCH DUAL CORE ANDROID TABLET PC Q88",5,210,{"$f":"Table1[[#This Row],[Count]]*Table1[[#This Row],[Price]]","v":1050}]
["2013-06-17",2013,6,"Georgia","Camera & Photo","D3000 DIGITAL SLR",4,294,{"$f":"Table1[[#This Row],[Count]]*Table1[[#This Row],[Price]]","v":1176}]
["2013-06-17",2013,6,"Liechtenstein","Laptops","THINKPAD E445",2,222,{"$f":"Table1[[#This Row],[Count]]*Table1[[#This Row],[Price]]","v":444}]
["2013-06-18",2013,6,"USA","Workstations ","HIGH PERFORMANCE 4U LCD WORKSTATION C",3,366,{"$f":"Table1[[#This Row],[Count]]*Table1[[#This Row],[Price]]","v":1098}]
["2013-06-18",2013,6,"Lithuania","Camera & Photo","D3000 DIGITAL SLR",5,294,{"$f":"Table1[[#This Row],[Count]]*Table1[[#This Row],[Price]]","v":1470}]
["2013-06-18",2013,6,"Liechtenstein","Camera & Photo","SONY CYBERSHOT H200",3,318,{"$f":"Table1[[#This Row],[Count]]*Table1[[#This Row],[Price]]","v":954}]
["2013-06-18",2013,6,"Austria","Tablet PCs","ONDA V975M TABLET PC",2,150,{"$f":"Table1[[#This Row],[Count]]*Table1[[#This Row],[Price]]","v":300}]
["2013-06-19",2013,6,"USA","Workstations ","CLOUD COMPUTER THIN STATION FL300",4,390,{"$f":"Table1[[#This Row],[Count]]*Table1[[#This Row],[Price]]","v":1560}]
["2013-06-19",2013,6,"Poland","Camera & Photo","D3000 DIGITAL SLR",5,294,{"$f":"Table1[[#This Row],[Count]]*Table1[[#This Row],[Price]]","v":1470}]
["2013-06-19",2013,6,"Australia","Laptops","THINKPAD T440S",3,258,{"$f":"Table1[[#This Row],[Count]]*Table1[[#This Row],[Price]]","v":774}]
["2013-06-19",2013,6,"USA","Tablet PCs","ONDA V975M TABLET PC",4,150,{"$f":"Table1[[#This Row],[Count]]*Table1[[#This Row],[Price]]","v":600}]
["2013-06-20",2013,6,"Hungary","Laptops","THINKPAD E445",2,222,{"$f":"Table1[[#This Row],[Count]]*Table1[[#This Row],[Price]]","v":444}]
["2013-06-20",2013,6,"USA","Laptops","Y10D 10 INCH VIA 8880",3,246,{"$f":"Table1[[#This Row],[Count]]*Table1[[#This Row],[Price]]","v":738}]
["2013-06-20",2013,6,"USA","Camera & Photo","D3000 DIGITAL SLR",1,294,{"$f":"Table1[[#This Row],[Count]]*Table1[[#This Row],[Price]]","v":294}]
["2013-06-20",2013,6,"Australia","Laptops","VIA 8850 ANDROID 4.0",1,282,{"$f":"Table1[[#This Row],[Count]]*Table1[[#This Row],[Price]]","v":282}]
["2013-06-21",2013,6,"Poland","Tablet PCs","7 INCH DUAL CORE ANDROID TABLET PC Q88",2,210,{"$f":"Table1[[#This Row],[Count]]*Table1[[#This Row],[Price]]","v":420}]
["2013-06-21",2013,6,"USA","Tablet PCs","7 INCH DUAL CORE ANDROID TABLET PC Q88",4,210,{"$f":"Table1[[#This Row],[Count]]*Table1[[#This Row],[Price]]","v":840}]
["2013-06-21",2013,6,"Macedonia","Laptops","THINKPAD E445",3,222,{"$f":"Table1[[#This Row],[Count]]*Table1[[#This Row],[Price]]","v":666}]
["2013-06-21",2013,6,"USA","Camera & Photo","FUJIFILM FINEPIX SL1000",3,330,{"$f":"Table1[[#This Row],[Count]]*Table1[[#This Row],[Price]]","v":990}]
["2013-06-22",2013,6,"Ireland","Workstations ","SUN BLADE 1500 WORKSTATION BASE SUN B1500",3,378,{"$f":"Table1[[#This Row],[Count]]*Table1[[#This Row],[Price]]","v":1134}]
["2013-06-22",2013,6,"USA","Workstations ","HZONE NCOMPUTING L230",4,354,{"$f":"Table1[[#This Row],[Count]]*Table1[[#This Row],[Price]]","v":1416}]
["2013-06-22",2013,6,"Bulgaria","Laptops","14.1\" AIR LAPTOP INTEL D2500",3,270,{"$f":"Table1[[#This Row],[Count]]*Table1[[#This Row],[Price]]","v":810}]
["2013-06-22",2013,6,"Italy","Workstations ","SUN BLADE 1500 WORKSTATION BASE SUN B1500",4,378,{"$f":"Table1[[#This Row],[Count]]*Table1[[#This Row],[Price]]","v":1512}]
["2013-06-23",2013,6,"USA","Laptops","14.1\" AIR LAPTOP INTEL D2500",4,270,{"$f":"Table1[[#This Row],[Count]]*Table1[[#This Row],[Price]]","v":1080}]
["2013-06-23",2013,6,"Moldova","Tablet PCs","TABLET 10-INCH QUAD-CORE A9",3,162,{"$f":"Table1[[#This Row],[Count]]*Table1[[#This Row],[Price]]","v":486}]
["2013-06-23",2013,6,"Lithuania","Workstations ","CLOUD COMPUTER THIN STATION FL300",4,390,{"$f":"Table1[[#This Row],[Count]]*Table1[[#This Row],[Price]]","v":1560}]
["2013-06-23",2013,6,"Bulgaria","Tablet PCs","GOOWEEL Q88 PRO A23 DUAL CORE TABLET PC",1,198,{"$f":"Table1[[#This Row],[Count]]*Table1[[#This Row],[Price]]","v":198}]
["2013-06-24",2013,6,"Latvia","Workstations ","HIGH PERFORMANCE 4U LCD WORKSTATION C",1,366,{"$f":"Table1[[#This Row],[Count]]*Table1[[#This Row],[Price]]","v":366}]
["2013-06-24",2013,6,"USA","Laptops","VIA 8850 ANDROID 4.0",4,282,{"$f":"Table1[[#This Row],[Count]]*Table1[[#This Row],[Price]]","v":1128}]
["2013-06-24",2013,6,"Georgia","Tablet PCs","GOOWEEL Q88 PRO A23 DUAL CORE TABLET PC",4,198,{"$f":"Table1[[#This Row],[Count]]*Table1[[#This Row],[Price]]","v":792}]
["2013-06-24",2013,6,"Croatia","Laptops","VIA 8850 ANDROID 4.0",2,282,{"$f":"Table1[[#This Row],[Count]]*Table1[[#This Row],[Price]]","v":564}]
["2013-06-25",2013,6,"Slovenia","Tablet PCs","TABLET 10-INCH QUAD-CORE A9",5,162,{"$f":"Table1[[#This Row],[Count]]*Table1[[#This Row],[Price]]","v":810}]
["2013-06-25",2013,6,"Belgium","Laptops","VIA 8850 ANDROID 4.0",4,282,{"$f":"Table1[[#This Row],[Count]]*Table1[[#This Row],[Price]]","v":1128}]
["2013-06-25",2013,6,"USA","Tablet PCs","PIPO M6 PRO 9.7 INCH 3G TABLET PC",5,186,{"$f":"Table1[[#This Row],[Count]]*Table1[[#This Row],[Price]]","v":930}]
["2013-06-25",2013,6,"USA","Workstations ","HZONE NCOMPUTING L230",2,354,{"$f":"Table1[[#This Row],[Count]]*Table1[[#This Row],[Price]]","v":708}]
["2013-06-26",2013,6,"USA","Tablet PCs","ONDA V975M TABLET PC",2,150,{"$f":"Table1[[#This Row],[Count]]*Table1[[#This Row],[Price]]","v":300}]
["2013-06-26",2013,6,"USA","Workstations ","CLOUD COMPUTER THIN STATION FL300",5,390,{"$f":"Table1[[#This Row],[Count]]*Table1[[#This Row],[Price]]","v":1950}]
["2013-06-26",2013,6,"Georgia","Camera & Photo","SONY CYBERSHOT H200",3,318,{"$f":"Table1[[#This Row],[Count]]*Table1[[#This Row],[Price]]","v":954}]
["2013-06-26",2013,6,"Romania","Tablet PCs","GOOWEEL Q88 PRO A23 DUAL CORE TABLET PC",4,198,{"$f":"Table1[[#This Row],[Count]]*Table1[[#This Row],[Price]]","v":792}]
["2013-06-27",2013,6,"Germany","Camera & Photo","FUJIFILM FINEPIX SL1000",5,330,{"$f":"Table1[[#This Row],[Count]]*Table1[[#This Row],[Price]]","v":1650}]
["2013-06-27",2013,6,"Bosnia And Herzegovina","Tablet PCs","ONDA V975M TABLET PC",5,150,{"$f":"Table1[[#This Row],[Count]]*Table1[[#This Row],[Price]]","v":750}]
["2013-06-27",2013,6,"Finland","Laptops","VIA 8850 ANDROID 4.0",1,282,{"$f":"Table1[[#This Row],[Count]]*Table1[[#This Row],[Price]]","v":282}]
["2013-06-27",2013,6,"Hungary","Tablet PCs","10 INCH TABLET HIGH QUALITY TABLET 1GB",2,174,{"$f":"Table1[[#This Row],[Count]]*Table1[[#This Row],[Price]]","v":348}]
["2013-06-28",2013,6,"USA","Camera & Photo","D3000 DIGITAL SLR",2,294,{"$f":"Table1[[#This Row],[Count]]*Table1[[#This Row],[Price]]","v":588}]
["2013-06-28",2013,6,"USA","Laptops","14.1\" AIR LAPTOP INTEL D2500",2,270,{"$f":"Table1[[#This Row],[Count]]*Table1[[#This Row],[Price]]","v":540}]
["2013-06-28",2013,6,"USA","Tablet PCs","ONDA V975M TABLET PC",5,150,{"$f":"Table1[[#This Row],[Count]]*Table1[[#This Row],[Price]]","v":750}]
["2013-06-28",2013,6,"Greece","Workstations ","I7 MINI PC WITH HDMI QOTOM-T620",5,342,{"$f":"Table1[[#This Row],[Count]]*Table1[[#This Row],[Price]]","v":1710}]
["2013-06-29",2013,6,"Hungary","Workstations ","HIGH PERFORMANCE 4U LCD WORKSTATION C",3,366,{"$f":"Table1[[#This Row],[Count]]*Table1[[#This Row],[Price]]","v":1098}]
["2013-06-29",2013,6,"Germany","Workstations ","HZONE NCOMPUTING L230",1,354,{"$f":"Table1[[#This Row],[Count]]*Table1[[#This Row],[Price]]","v":354}]
["2013-06-29",2013,6,"USA","Camera & Photo","SONY CYBERSHOT H200",2,318,{"$f":"Table1[[#This Row],[Count]]*Table1[[#This Row],[Price]]","v":636}]
["2013-06-29",2013,6,"USA","Laptops","THINKPAD T440S",5,258,{"$f":"Table1[[#This Row],[Count]]*Table1[[#This Row],[Price]]","v":1290}]
["2013-06-30",2013,6,"Bosnia And Herzegovina","Camera & Photo","SONY CYBERSHOT H200",3,318,{"$f":"Table1[[#This Row],[Count]]*Table1[[#This Row],[Price]]","v":954}]
["2013-06-30",2013,6,"Finland","Laptops","THINKPAD T440S",1,258,{"$f":"Table1[[#This Row],[Count]]*Table1[[#This Row],[Price]]","v":258}]
["2013-06-30",2013,6,"Liechtenstein","Workstations ","CLOUD COMPUTER THIN STATION FL300",1,390,{"$f":"Table1[[#This Row],[Count]]*Table1[[#This Row],[Price]]","v":390}]
["2013-06-30",2013,6,"USA","Laptops","VIA 8850 ANDROID 4.0",2,282,{"$f":"Table1[[#This Row],[Count]]*Table1[[#This Row],[Price]]","v":564}]
["2013-07-01",2013,7,"USA","Workstations ","CLOUD COMPUTER THIN STATION FL300",4,390,{"$f":"Table1[[#This Row],[Count]]*Table1[[#This Row],[Price]]","v":1560}]
["2013-07-01",2013,7,"USA","Tablet PCs","TABLET 10-INCH QUAD-CORE A9",4,162,{"$f":"Table1[[#This Row],[Count]]*Table1[[#This Row],[Price]]","v":648}]
["2013-07-01",2013,7,"USA","Workstations ","I7 MINI PC WITH HDMI QOTOM-T620",1,342,{"$f":"Table1[[#This Row],[Count]]*Table1[[#This Row],[Price]]","v":342}]
["2013-07-01",2013,7,"Luxembourg","Tablet PCs","PIPO M6 PRO 9.7 INCH 3G TABLET PC",2,186,{"$f":"Table1[[#This Row],[Count]]*Table1[[#This Row],[Price]]","v":372}]
["2013-07-02",2013,7,"Ukraine","Workstations ","CLOUD COMPUTER THIN STATION FL300",1,390,{"$f":"Table1[[#This Row],[Count]]*Table1[[#This Row],[Price]]","v":390}]
["2013-07-02",2013,7,"USA","Tablet PCs","GOOWEEL Q88 PRO A23 DUAL CORE TABLET PC",3,198,{"$f":"Table1[[#This Row],[Count]]*Table1[[#This Row],[Price]]","v":594}]
["2013-07-02",2013,7,"Hungary","Camera & Photo","D3000 DIGITAL SLR",5,294,{"$f":"Table1[[#This Row],[Count]]*Table1[[#This Row],[Price]]","v":1470}]
["2013-07-02",2013,7,"Switzerland","Laptops","Y10D 10 INCH VIA 8880",4,246,{"$f":"Table1[[#This Row],[Count]]*Table1[[#This Row],[Price]]","v":984}]
["2013-07-03",2013,7,"Australia","Workstations ","CLOUD COMPUTER THIN STATION FL300",2,390,{"$f":"Table1[[#This Row],[Count]]*Table1[[#This Row],[Price]]","v":780}]
["2013-07-03",2013,7,"Italy","Tablet PCs","TABLET 10-INCH QUAD-CORE A9",4,162,{"$f":"Table1[[#This Row],[Count]]*Table1[[#This Row],[Price]]","v":648}]
["2013-07-03",2013,7,"Bosnia And Herzegovina","Camera & Photo","SONY CYBERSHOT H200",1,318,{"$f":"Table1[[#This Row],[Count]]*Table1[[#This Row],[Price]]","v":318}]
["2013-07-03",2013,7,"USA","Laptops","14.1\" AIR LAPTOP INTEL D2500",1,270,{"$f":"Table1[[#This Row],[Count]]*Table1[[#This Row],[Price]]","v":270}]
["2013-07-04",2013,7,"USA","Laptops","Y10D 10 INCH VIA 8880",2,246,{"$f":"Table1[[#This Row],[Count]]*Table1[[#This Row],[Price]]","v":492}]
["2013-07-04",2013,7,"Ireland","Tablet PCs","PIPO M6 PRO 9.7 INCH 3G TABLET PC",1,186,{"$f":"Table1[[#This Row],[Count]]*Table1[[#This Row],[Price]]","v":186}]
["2013-07-04",2013,7,"United Kingdom","Workstations ","SUN BLADE 1500 WORKSTATION BASE SUN B1500",2,378,{"$f":"Table1[[#This Row],[Count]]*Table1[[#This Row],[Price]]","v":756}]
["2013-07-04",2013,7,"Bulgaria","Workstations ","SUN BLADE 1500 WORKSTATION BASE SUN B1500",3,378,{"$f":"Table1[[#This Row],[Count]]*Table1[[#This Row],[Price]]","v":1134}]
["2013-07-05",2013,7,"Sweden","Tablet PCs","10 INCH TABLET HIGH QUALITY TABLET 1GB",4,174,{"$f":"Table1[[#This Row],[Count]]*Table1[[#This Row],[Price]]","v":696}]
["2013-07-05",2013,7,"Slovakia","Tablet PCs","TABLET 10-INCH QUAD-CORE A9",3,162,{"$f":"Table1[[#This Row],[Count]]*Table1[[#This Row],[Price]]","v":486}]
["2013-07-05",2013,7,"Liechtenstein","Camera & Photo","D3000 DIGITAL SLR",4,294,{"$f":"Table1[[#This Row],[Count]]*Table1[[#This Row],[Price]]","v":1176}]
["2013-07-05",2013,7,"Spain","Laptops","14INCH ULTRABOOK",1,234,{"$f":"Table1[[#This Row],[Count]]*Table1[[#This Row],[Price]]","v":234}]
["2013-07-06",2013,7,"Malta","Tablet PCs","TABLET 10-INCH QUAD-CORE A9",5,162,{"$f":"Table1[[#This Row],[Count]]*Table1[[#This Row],[Price]]","v":810}]
["2013-07-06",2013,7,"USA","Laptops","VIA 8850 ANDROID 4.0",5,282,{"$f":"Table1[[#This Row],[Count]]*Table1[[#This Row],[Price]]","v":1410}]
["2013-07-06",2013,7,"Ukraine","Workstations ","I7 MINI PC WITH HDMI QOTOM-T620",3,342,{"$f":"Table1[[#This Row],[Count]]*Table1[[#This Row],[Price]]","v":1026}]
["2013-07-06",2013,7,"USA","Laptops","Y10D 10 INCH VIA 8880",5,246,{"$f":"Table1[[#This Row],[Count]]*Table1[[#This Row],[Price]]","v":1230}]
["2013-07-07",2013,7,"USA","Tablet PCs","10 INCH TABLET HIGH QUALITY TABLET 1GB",2,174,{"$f":"Table1[[#This Row],[Count]]*Table1[[#This Row],[Price]]","v":348}]
["2013-07-07",2013,7,"Hungary","Camera & Photo","FUJIFILM FINEPIX SL1000",3,330,{"$f":"Table1[[#This Row],[Count]]*Table1[[#This Row],[Price]]","v":990}]
["2013-07-07",2013,7,"Ukraine","Laptops","THINKPAD E445",4,222,{"$f":"Table1[[#This Row],[Count]]*Table1[[#This Row],[Price]]","v":888}]
["2013-07-07",2013,7,"Slovenia","Tablet PCs","GOOWEEL Q88 PRO A23 DUAL CORE TABLET PC",1,198,{"$f":"Table1[[#This Row],[Count]]*Table1[[#This Row],[Price]]","v":198}]
["2013-07-08",2013,7,"USA","Laptops","THINKPAD T440S",2,258,{"$f":"Table1[[#This Row],[Count]]*Table1[[#This Row],[Price]]","v":516}]
["2013-07-08",2013,7,"Finland","Tablet PCs","10 INCH TABLET HIGH QUALITY TABLET 1GB",2,174,{"$f":"Table1[[#This Row],[Count]]*Table1[[#This Row],[Price]]","v":348}]
["2013-07-08",2013,7,"USA","Tablet PCs","TABLET 10-INCH QUAD-CORE A9",4,162,{"$f":"Table1[[#This Row],[Count]]*Table1[[#This Row],[Price]]","v":648}]
["2013-07-08",2013,7,"USA","Workstations ","CLOUD COMPUTER THIN STATION FL300",4,390,{"$f":"Table1[[#This Row],[Count]]*Table1[[#This Row],[Price]]","v":1560}]
["2013-07-09",2013,7,"Greece","Laptops","THINKPAD E445",4,222,{"$f":"Table1[[#This Row],[Count]]*Table1[[#This Row],[Price]]","v":888}]
["2013-07-09",2013,7,"Belgium","Camera & Photo","FUJIFILM FINEPIX SL1000",3,330,{"$f":"Table1[[#This Row],[Count]]*Table1[[#This Row],[Price]]","v":990}]
["2013-07-09",2013,7,"Luxembourg","Laptops","THINKPAD E445",4,222,{"$f":"Table1[[#This Row],[Count]]*Table1[[#This Row],[Price]]","v":888}]
["2013-07-09",2013,7,"USA","Tablet PCs","7 INCH DUAL CORE ANDROID TABLET PC Q88",3,210,{"$f":"Table1[[#This Row],[Count]]*Table1[[#This Row],[Price]]","v":630}]
["2013-07-10",2013,7,"Malta","Workstations ","HZONE NCOMPUTING L230",1,354,{"$f":"Table1[[#This Row],[Count]]*Table1[[#This Row],[Price]]","v":354}]
["2013-07-10",2013,7,"Luxembourg","Laptops","14.1\" AIR LAPTOP INTEL D2500",3,270,{"$f":"Table1[[#This Row],[Count]]*Table1[[#This Row],[Price]]","v":810}]
["2013-07-10",2013,7,"USA","Tablet PCs","7 INCH DUAL CORE ANDROID TABLET PC Q88",3,210,{"$f":"Table1[[#This Row],[Count]]*Table1[[#This Row],[Price]]","v":630}]
["2013-07-10",2013,7,"Belgium","Camera & Photo","FUJIFILM FINEPIX SL1000",1,330,{"$f":"Table1[[#This Row],[Count]]*Table1[[#This Row],[Price]]","v":330}]
["2013-07-11",2013,7,"Monaco","Laptops","14.1\" AIR LAPTOP INTEL D2500",1,270,{"$f":"Table1[[#This Row],[Count]]*Table1[[#This Row],[Price]]","v":270}]
["2013-07-11",2013,7,"Slovakia","Tablet PCs","ONDA V975M TABLET PC",5,150,{"$f":"Table1[[#This Row],[Count]]*Table1[[#This Row],[Price]]","v":750}]
["2013-07-11",2013,7,"Italy","Laptops","THINKPAD T440S",2,258,{"$f":"Table1[[#This Row],[Count]]*Table1[[#This Row],[Price]]","v":516}]
["2013-07-11",2013,7,"USA","Tablet PCs","GOOWEEL Q88 PRO A23 DUAL CORE TABLET PC",2,198,{"$f":"Table1[[#This Row],[Count]]*Table1[[#This Row],[Price]]","v":396}]
["2013-07-12",2013,7,"USA","Tablet PCs","ONDA V975M TABLET PC",5,150,{"$f":"Table1[[#This Row],[Count]]*Table1[[#This Row],[Price]]","v":750}]
["2013-07-12",2013,7,"Liechtenstein","Laptops","VIA 8850 ANDROID 4.0",3,282,{"$f":"Table1[[#This Row],[Count]]*Table1[[#This Row],[Price]]","v":846}]
["2013-07-12",2013,7,"USA","Camera & Photo","D3200 DIGITAL SLR",5,306,{"$f":"Table1[[#This Row],[Count]]*Table1[[#This Row],[Price]]","v":1530}]
["2013-07-12",2013,7,"USA","Tablet PCs","ONDA V975M TABLET PC",2,150,{"$f":"Table1[[#This Row],[Count]]*Table1[[#This Row],[Price]]","v":300}]
["2013-07-13",2013,7,"Czech Republic","Laptops","VIA 8850 ANDROID 4.0",4,282,{"$f":"Table1[[#This Row],[Count]]*Table1[[#This Row],[Price]]","v":1128}]
["2013-07-13",2013,7,"Lithuania","Camera & Photo","SONY CYBERSHOT H200",2,318,{"$f":"Table1[[#This Row],[Count]]*Table1[[#This Row],[Price]]","v":636}]
["2013-07-13",2013,7,"Greece","Tablet PCs","GOOWEEL Q88 PRO A23 DUAL CORE TABLET PC",4,198,{"$f":"Table1[[#This Row],[Count]]*Table1[[#This Row],[Price]]","v":792}]
["2013-07-13",2013,7,"Andorra","Tablet PCs","PIPO M6 PRO 9.7 INCH 3G TABLET PC",2,186,{"$f":"Table1[[#This Row],[Count]]*Table1[[#This Row],[Price]]","v":372}]
["2013-07-14",2013,7,"USA","Camera & Photo","SONY CYBERSHOT H200",5,318,{"$f":"Table1[[#This Row],[Count]]*Table1[[#This Row],[Price]]","v":1590}]
["2013-07-14",2013,7,"Moldova","Laptops","THINKPAD T440S",2,258,{"$f":"Table1[[#This Row],[Count]]*Table1[[#This Row],[Price]]","v":516}]
["2013-07-14",2013,7,"USA","Tablet PCs","GOOWEEL Q88 PRO A23 DUAL CORE TABLET PC",3,198,{"$f":"Table1[[#This Row],[Count]]*Table1[[#This Row],[Price]]","v":594}]
["2013-07-14",2013,7,"Poland","Tablet PCs","GOOWEEL Q88 PRO A23 DUAL CORE TABLET PC",3,198,{"$f":"Table1[[#This Row],[Count]]*Table1[[#This Row],[Price]]","v":594}]
["2013-07-15",2013,7,"USA","Tablet PCs","ONDA V975M TABLET PC",3,150,{"$f":"Table1[[#This Row],[Count]]*Table1[[#This Row],[Price]]","v":450}]
["2013-07-15",2013,7,"Ireland","Camera & Photo","FUJIFILM FINEPIX SL1000",1,330,{"$f":"Table1[[#This Row],[Count]]*Table1[[#This Row],[Price]]","v":330}]
["2013-07-15",2013,7,"Malta","Tablet PCs","ONDA V975M TABLET PC",5,150,{"$f":"Table1[[#This Row],[Count]]*Table1[[#This Row],[Price]]","v":750}]
["2013-07-15",2013,7,"USA","Workstations ","CLOUD COMPUTER THIN STATION FL300",5,390,{"$f":"Table1[[#This Row],[Count]]*Table1[[#This Row],[Price]]","v":1950}]
["2013-07-16",2013,7,"USA","Laptops","VIA 8850 ANDROID 4.0",3,282,{"$f":"Table1[[#This Row],[Count]]*Table1[[#This Row],[Price]]","v":846}]
["2013-07-16",2013,7,"Estonia","Workstations ","HIGH PERFORMANCE 4U LCD WORKSTATION C",3,366,{"$f":"Table1[[#This Row],[Count]]*Table1[[#This Row],[Price]]","v":1098}]
["2013-07-16",2013,7,"Luxembourg","Workstations ","SUN BLADE 1500 WORKSTATION BASE SUN B1500",3,378,{"$f":"Table1[[#This Row],[Count]]*Table1[[#This Row],[Price]]","v":1134}]
["2013-07-16",2013,7,"Croatia","Laptops","14.1\" AIR LAPTOP INTEL D2500",4,270,{"$f":"Table1[[#This Row],[Count]]*Table1[[#This Row],[Price]]","v":1080}]
["2013-07-17",2013,7,"USA","Camera & Photo","D3200 DIGITAL SLR",1,306,{"$f":"Table1[[#This Row],[Count]]*Table1[[#This Row],[Price]]","v":306}]
["2013-07-17",2013,7,"Moldova","Tablet PCs","10 INCH TABLET HIGH QUALITY TABLET 1GB",3,174,{"$f":"Table1[[#This Row],[Count]]*Table1[[#This Row],[Price]]","v":522}]
["2013-07-17",2013,7,"Latvia","Tablet PCs","GOOWEEL Q88 PRO A23 DUAL CORE TABLET PC",3,198,{"$f":"Table1[[#This Row],[Count]]*Table1[[#This Row],[Price]]","v":594}]
["2013-07-17",2013,7,"USA","Tablet PCs","ONDA V975M TABLET PC",1,150,{"$f":"Table1[[#This Row],[Count]]*Table1[[#This Row],[Price]]","v":150}]
["2013-07-18",2013,7,"Ukraine","Laptops","VIA 8850 ANDROID 4.0",2,282,{"$f":"Table1[[#This Row],[Count]]*Table1[[#This Row],[Price]]","v":564}]
["2013-07-18",2013,7,"USA","Tablet PCs","GOOWEEL Q88 PRO A23 DUAL CORE TABLET PC",3,198,{"$f":"Table1[[#This Row],[Count]]*Table1[[#This Row],[Price]]","v":594}]
["2013-07-18",2013,7,"Estonia","Camera & Photo","SONY CYBERSHOT H200",1,318,{"$f":"Table1[[#This Row],[Count]]*Table1[[#This Row],[Price]]","v":318}]
["2013-07-18",2013,7,"Italy","Laptops","THINKPAD T440S",5,258,{"$f":"Table1[[#This Row],[Count]]*Table1[[#This Row],[Price]]","v":1290}]
["2013-07-19",2013,7,"USA","Tablet PCs","ONDA V975M TABLET PC",1,150,{"$f":"Table1[[#This Row],[Count]]*Table1[[#This Row],[Price]]","v":150}]
["2013-07-19",2013,7,"Greece","Workstations ","SUN BLADE 1500 WORKSTATION BASE SUN B1500",2,378,{"$f":"Table1[[#This Row],[Count]]*Table1[[#This Row],[Price]]","v":756}]
["2013-07-19",2013,7,"Greece","Tablet PCs","ONDA V975M TABLET PC",3,150,{"$f":"Table1[[#This Row],[Count]]*Table1[[#This Row],[Price]]","v":450}]
["2013-07-19",2013,7,"USA","Laptops","VIA 8850 ANDROID 4.0",2,282,{"$f":"Table1[[#This Row],[Count]]*Table1[[#This Row],[Price]]","v":564}]
["2013-07-20",2013,7,"Luxembourg","Tablet PCs","ONDA V975M TABLET PC",4,150,{"$f":"Table1[[#This Row],[Count]]*Table1[[#This Row],[Price]]","v":600}]
["2013-07-20",2013,7,"Ukraine","Laptops","VIA 8850 ANDROID 4.0",1,282,{"$f":"Table1[[#This Row],[Count]]*Table1[[#This Row],[Price]]","v":282}]
["2013-07-20",2013,7,"Switzerland","Workstations ","HIGH PERFORMANCE 4U LCD WORKSTATION C",1,366,{"$f":"Table1[[#This Row],[Count]]*Table1[[#This Row],[Price]]","v":366}]
["2013-07-20",2013,7,"Georgia","Camera & Photo","D3000 DIGITAL SLR",1,294,{"$f":"Table1[[#This Row],[Count]]*Table1[[#This Row],[Price]]","v":294}]
["2013-07-21",2013,7,"Australia","Camera & Photo","SONY CYBERSHOT H200",1,318,{"$f":"Table1[[#This Row],[Count]]*Table1[[#This Row],[Price]]","v":318}]
["2013-07-21",2013,7,"USA","Workstations ","HZONE NCOMPUTING L230",3,354,{"$f":"Table1[[#This Row],[Count]]*Table1[[#This Row],[Price]]","v":1062}]
["2013-07-21",2013,7,"Liechtenstein","Camera & Photo","SONY CYBERSHOT H200",4,318,{"$f":"Table1[[#This Row],[Count]]*Table1[[#This Row],[Price]]","v":1272}]
["2013-07-21",2013,7,"Czech Republic","Workstations ","SUN BLADE 1500 WORKSTATION BASE SUN B1500",2,378,{"$f":"Table1[[#This Row],[Count]]*Table1[[#This Row],[Price]]","v":756}]
["2013-07-22",2013,7,"USA","Camera & Photo","SONY CYBERSHOT H200",1,318,{"$f":"Table1[[#This Row],[Count]]*Table1[[#This Row],[Price]]","v":318}]
["2013-07-22",2013,7,"USA","Workstations ","HZONE NCOMPUTING L230",2,354,{"$f":"Table1[[#This Row],[Count]]*Table1[[#This Row],[Price]]","v":708}]
["2013-07-22",2013,7,"USA","Camera & Photo","FUJIFILM FINEPIX SL1000",5,330,{"$f":"Table1[[#This Row],[Count]]*Table1[[#This Row],[Price]]","v":1650}]
["2013-07-22",2013,7,"USA","Camera & Photo","FUJIFILM FINEPIX SL1000",3,330,{"$f":"Table1[[#This Row],[Count]]*Table1[[#This Row],[Price]]","v":990}]
["2013-07-23",2013,7,"Greece","Camera & Photo","D3200 DIGITAL SLR",3,306,{"$f":"Table1[[#This Row],[Count]]*Table1[[#This Row],[Price]]","v":918}]
["2013-07-23",2013,7,"Georgia","Workstations ","HZONE NCOMPUTING L230",5,354,{"$f":"Table1[[#This Row],[Count]]*Table1[[#This Row],[Price]]","v":1770}]
["2013-07-23",2013,7,"Malta","Tablet PCs","GOOWEEL Q88 PRO A23 DUAL CORE TABLET PC",4,198,{"$f":"Table1[[#This Row],[Count]]*Table1[[#This Row],[Price]]","v":792}]
["2013-07-23",2013,7,"USA","Camera & Photo","FUJIFILM FINEPIX SL1000",4,330,{"$f":"Table1[[#This Row],[Count]]*Table1[[#This Row],[Price]]","v":1320}]
["2013-07-24",2013,7,"Australia","Workstations ","CLOUD COMPUTER THIN STATION FL300",5,390,{"$f":"Table1[[#This Row],[Count]]*Table1[[#This Row],[Price]]","v":1950}]
["2013-07-24",2013,7,"Czech Republic","Workstations ","SUN BLADE 1500 WORKSTATION BASE SUN B1500",3,378,{"$f":"Table1[[#This Row],[Count]]*Table1[[#This Row],[Price]]","v":1134}]
["2013-07-24",2013,7,"USA","Laptops","VIA 8850 ANDROID 4.0",2,282,{"$f":"Table1[[#This Row],[Count]]*Table1[[#This Row],[Price]]","v":564}]
["2013-07-24",2013,7,"USA","Laptops","Y10D 10 INCH VIA 8880",4,246,{"$f":"Table1[[#This Row],[Count]]*Table1[[#This Row],[Price]]","v":984}]
["2013-07-25",2013,7,"USA","Tablet PCs","10 INCH TABLET HIGH QUALITY TABLET 1GB",1,174,{"$f":"Table1[[#This Row],[Count]]*Table1[[#This Row],[Price]]","v":174}]
["2013-07-25",2013,7,"USA","Workstations ","HZONE NCOMPUTING L230",2,354,{"$f":"Table1[[#This Row],[Count]]*Table1[[#This Row],[Price]]","v":708}]
["2013-07-25",2013,7,"USA","Laptops","THINKPAD T440S",4,258,{"$f":"Table1[[#This Row],[Count]]*Table1[[#This Row],[Price]]","v":1032}]
["2013-07-25",2013,7,"Lithuania","Workstations ","HIGH PERFORMANCE 4U LCD WORKSTATION C",3,366,{"$f":"Table1[[#This Row],[Count]]*Table1[[#This Row],[Price]]","v":1098}]
["2013-07-26",2013,7,"Croatia","Laptops","14.1\" AIR LAPTOP INTEL D2500",1,270,{"$f":"Table1[[#This Row],[Count]]*Table1[[#This Row],[Price]]","v":270}]
["2013-07-26",2013,7,"Sweden","Camera & Photo","D3000 DIGITAL SLR",5,294,{"$f":"Table1[[#This Row],[Count]]*Table1[[#This Row],[Price]]","v":1470}]
["2013-07-26",2013,7,"Malta","Laptops","THINKPAD E445",5,222,{"$f":"Table1[[#This Row],[Count]]*Table1[[#This Row],[Price]]","v":1110}]
["2013-07-26",2013,7,"Germany","Workstations ","HIGH PERFORMANCE 4U LCD WORKSTATION C",3,366,{"$f":"Table1[[#This Row],[Count]]*Table1[[#This Row],[Price]]","v":1098}]
["2013-07-27",2013,7,"Austria","Laptops","14.1\" AIR LAPTOP INTEL D2500",3,270,{"$f":"Table1[[#This Row],[Count]]*Table1[[#This Row],[Price]]","v":810}]
["2013-07-27",2013,7,"USA","Workstations ","HZONE NCOMPUTING L230",3,354,{"$f":"Table1[[#This Row],[Count]]*Table1[[#This Row],[Price]]","v":1062}]
["2013-07-27",2013,7,"Australia","Camera & Photo","SONY CYBERSHOT H200",4,318,{"$f":"Table1[[#This Row],[Count]]*Table1[[#This Row],[Price]]","v":1272}]
["2013-07-27",2013,7,"USA","Laptops","14.1\" AIR LAPTOP INTEL D2500",2,270,{"$f":"Table1[[#This Row],[Count]]*Table1[[#This Row],[Price]]","v":540}]
["2013-07-28",2013,7,"France","Workstations ","I7 MINI PC WITH HDMI QOTOM-T620",2,342,{"$f":"Table1[[#This Row],[Count]]*Table1[[#This Row],[Price]]","v":684}]
["2013-07-28",2013,7,"USA","Laptops","14.1\" AIR LAPTOP INTEL D2500",5,270,{"$f":"Table1[[#This Row],[Count]]*Table1[[#This Row],[Price]]","v":1350}]
["2013-07-28",2013,7,"USA","Camera & Photo","D3000 DIGITAL SLR",5,294,{"$f":"Table1[[#This Row],[Count]]*Table1[[#This Row],[Price]]","v":1470}]
["2013-07-28",2013,7,"USA","Tablet PCs","ONDA V975M TABLET PC",1,150,{"$f":"Table1[[#This Row],[Count]]*Table1[[#This Row],[Price]]","v":150}]
["2013-07-29",2013,7,"Greece","Laptops","Y10D 10 INCH VIA 8880",1,246,{"$f":"Table1[[#This Row],[Count]]*Table1[[#This Row],[Price]]","v":246}]
["2013-07-29",2013,7,"USA","Camera & Photo","D3000 DIGITAL SLR",4,294,{"$f":"Table1[[#This Row],[Count]]*Table1[[#This Row],[Price]]","v":1176}]
["2013-07-29",2013,7,"USA","Workstations ","HIGH PERFORMANCE 4U LCD WORKSTATION C",2,366,{"$f":"Table1[[#This Row],[Count]]*Table1[[#This Row],[Price]]","v":732}]
["2013-07-29",2013,7,"Australia","Workstations ","I7 MINI PC WITH HDMI QOTOM-T620",5,342,{"$f":"Table1[[#This Row],[Count]]*Table1[[#This Row],[Price]]","v":1710}]
["2013-07-30",2013,7,"Australia","Workstations ","SUN BLADE 1500 WORKSTATION BASE SUN B1500",3,378,{"$f":"Table1[[#This Row],[Count]]*Table1[[#This Row],[Price]]","v":1134}]
["2013-07-30",2013,7,"Slovakia","Workstations ","CLOUD COMPUTER THIN STATION FL300",2,390,{"$f":"Table1[[#This Row],[Count]]*Table1[[#This Row],[Price]]","v":780}]
["2013-07-30",2013,7,"USA","Laptops","VIA 8850 ANDROID 4.0",1,282,{"$f":"Table1[[#This Row],[Count]]*Table1[[#This Row],[Price]]","v":282}]
["2013-07-30",2013,7,"USA","Workstations ","I7 MINI PC WITH HDMI QOTOM-T620",1,342,{"$f":"Table1[[#This Row],[Count]]*Table1[[#This Row],[Price]]","v":342}]
["2013-07-31",2013,7,"Czech Republic","Laptops","THINKPAD E445",3,222,{"$f":"Table1[[#This Row],[Count]]*Table1[[#This Row],[Price]]","v":666}]
["2013-07-31",2013,7,"Serbien und Montenegro","Workstations ","HZONE NCOMPUTING L230",5,354,{"$f":"Table1[[#This Row],[Count]]*Table1[[#This Row],[Price]]","v":1770}]
["2013-07-31",2013,7,"USA","Workstations ","CLOUD COMPUTER THIN STATION FL300",3,390,{"$f":"Table1[[#This Row],[Count]]*Table1[[#This Row],[Price]]","v":1170}]
["2013-07-31",2013,7,"Monaco","Workstations ","I7 MINI PC WITH HDMI QOTOM-T620",1,342,{"$f":"Table1[[#This Row],[Count]]*Table1[[#This Row],[Price]]","v":342}]
["2013-08-01",2013,8,"USA","Tablet PCs","7 INCH DUAL CORE ANDROID TABLET PC Q88",4,210,{"$f":"Table1[[#This Row],[Count]]*Table1[[#This Row],[Price]]","v":840}]
["2013-08-01",2013,8,"USA","Laptops","14INCH ULTRABOOK",1,234,{"$f":"Table1[[#This Row],[Count]]*Table1[[#This Row],[Price]]","v":234}]
["2013-08-01",2013,8,"USA","Laptops","THINKPAD T440S",1,258,{"$f":"Table1[[#This Row],[Count]]*Table1[[#This Row],[Price]]","v":258}]
["2013-08-01",2013,8,"Poland","Workstations ","HIGH PERFORMANCE 4U LCD WORKSTATION C",5,366,{"$f":"Table1[[#This Row],[Count]]*Table1[[#This Row],[Price]]","v":1830}]
["2013-08-02",2013,8,"Australia","Laptops","THINKPAD E445",1,222,{"$f":"Table1[[#This Row],[Count]]*Table1[[#This Row],[Price]]","v":222}]
["2013-08-02",2013,8,"USA","Camera & Photo","FUJIFILM FINEPIX SL1000",4,330,{"$f":"Table1[[#This Row],[Count]]*Table1[[#This Row],[Price]]","v":1320}]
["2013-08-02",2013,8,"Portugal","Tablet PCs","GOOWEEL Q88 PRO A23 DUAL CORE TABLET PC",1,198,{"$f":"Table1[[#This Row],[Count]]*Table1[[#This Row],[Price]]","v":198}]
["2013-08-02",2013,8,"USA","Camera & Photo","FUJIFILM FINEPIX SL1000",5,330,{"$f":"Table1[[#This Row],[Count]]*Table1[[#This Row],[Price]]","v":1650}]
["2013-08-03",2013,8,"USA","Workstations ","CLOUD COMPUTER THIN STATION FL300",2,390,{"$f":"Table1[[#This Row],[Count]]*Table1[[#This Row],[Price]]","v":780}]
["2013-08-03",2013,8,"USA","Laptops","THINKPAD T440S",4,258,{"$f":"Table1[[#This Row],[Count]]*Table1[[#This Row],[Price]]","v":1032}]
["2013-08-03",2013,8,"USA","Camera & Photo","D3200 DIGITAL SLR",3,306,{"$f":"Table1[[#This Row],[Count]]*Table1[[#This Row],[Price]]","v":918}]
["2013-08-03",2013,8,"USA","Camera & Photo","FUJIFILM FINEPIX SL1000",4,330,{"$f":"Table1[[#This Row],[Count]]*Table1[[#This Row],[Price]]","v":1320}]
["2013-08-04",2013,8,"USA","Workstations ","I7 MINI PC WITH HDMI QOTOM-T620",5,342,{"$f":"Table1[[#This Row],[Count]]*Table1[[#This Row],[Price]]","v":1710}]
["2013-08-04",2013,8,"Moldova","Laptops","THINKPAD T440S",2,258,{"$f":"Table1[[#This Row],[Count]]*Table1[[#This Row],[Price]]","v":516}]
["2013-08-04",2013,8,"Australia","Tablet PCs","ONDA V975M TABLET PC",5,150,{"$f":"Table1[[#This Row],[Count]]*Table1[[#This Row],[Price]]","v":750}]
["2013-08-04",2013,8,"USA","Tablet PCs","PIPO M6 PRO 9.7 INCH 3G TABLET PC",5,186,{"$f":"Table1[[#This Row],[Count]]*Table1[[#This Row],[Price]]","v":930}]
["2013-08-05",2013,8,"USA","Workstations ","CLOUD COMPUTER THIN STATION FL300",4,390,{"$f":"Table1[[#This Row],[Count]]*Table1[[#This Row],[Price]]","v":1560}]
["2013-08-05",2013,8,"USA","Camera & Photo","D3000 DIGITAL SLR",1,294,{"$f":"Table1[[#This Row],[Count]]*Table1[[#This Row],[Price]]","v":294}]
["2013-08-05",2013,8,"USA","Laptops","THINKPAD T440S",1,258,{"$f":"Table1[[#This Row],[Count]]*Table1[[#This Row],[Price]]","v":258}]
["2013-08-05",2013,8,"Liechtenstein","Tablet PCs","TABLET 10-INCH QUAD-CORE A9",2,162,{"$f":"Table1[[#This Row],[Count]]*Table1[[#This Row],[Price]]","v":324}]
["2013-08-06",2013,8,"Greece","Workstations ","CLOUD COMPUTER THIN STATION FL300",3,390,{"$f":"Table1[[#This Row],[Count]]*Table1[[#This Row],[Price]]","v":1170}]
["2013-08-06",2013,8,"Lithuania","Tablet PCs","10 INCH TABLET HIGH QUALITY TABLET 1GB",5,174,{"$f":"Table1[[#This Row],[Count]]*Table1[[#This Row],[Price]]","v":870}]
["2013-08-06",2013,8,"Macedonia","Tablet PCs","TABLET 10-INCH QUAD-CORE A9",3,162,{"$f":"Table1[[#This Row],[Count]]*Table1[[#This Row],[Price]]","v":486}]
["2013-08-06",2013,8,"Poland","Laptops","14.1\" AIR LAPTOP INTEL D2500",4,270,{"$f":"Table1[[#This Row],[Count]]*Table1[[#This Row],[Price]]","v":1080}]
["2013-08-07",2013,8,"Australia","Camera & Photo","D3000 DIGITAL SLR",4,294,{"$f":"Table1[[#This Row],[Count]]*Table1[[#This Row],[Price]]","v":1176}]
["2013-08-07",2013,8,"USA","Laptops","VIA 8850 ANDROID 4.0",3,282,{"$f":"Table1[[#This Row],[Count]]*Table1[[#This Row],[Price]]","v":846}]
["2013-08-07",2013,8,"USA","Laptops","THINKPAD E445",3,222,{"$f":"Table1[[#This Row],[Count]]*Table1[[#This Row],[Price]]","v":666}]
["2013-08-07",2013,8,"USA","Tablet PCs","7 INCH DUAL CORE ANDROID TABLET PC Q88",1,210,{"$f":"Table1[[#This Row],[Count]]*Table1[[#This Row],[Price]]","v":210}]
["2013-08-08",2013,8,"Albania","Tablet PCs","PIPO M6 PRO 9.7 INCH 3G TABLET PC",2,186,{"$f":"Table1[[#This Row],[Count]]*Table1[[#This Row],[Price]]","v":372}]
["2013-08-08",2013,8,"Australia","Camera & Photo","D3200 DIGITAL SLR",3,306,{"$f":"Table1[[#This Row],[Count]]*Table1[[#This Row],[Price]]","v":918}]
["2013-08-08",2013,8,"Albania","Laptops","Y10D 10 INCH VIA 8880",3,246,{"$f":"Table1[[#This Row],[Count]]*Table1[[#This Row],[Price]]","v":738}]
["2013-08-08",2013,8,"USA","Laptops","Y10D 10 INCH VIA 8880",2,246,{"$f":"Table1[[#This Row],[Count]]*Table1[[#This Row],[Price]]","v":492}]
["2013-08-09",2013,8,"Finland","Workstations ","HIGH PERFORMANCE 4U LCD WORKSTATION C",2,366,{"$f":"Table1[[#This Row],[Count]]*Table1[[#This Row],[Price]]","v":732}]
["2013-08-09",2013,8,"USA","Workstations ","SUN BLADE 1500 WORKSTATION BASE SUN B1500",1,378,{"$f":"Table1[[#This Row],[Count]]*Table1[[#This Row],[Price]]","v":378}]
["2013-08-09",2013,8,"USA","Workstations ","I7 MINI PC WITH HDMI QOTOM-T620",2,342,{"$f":"Table1[[#This Row],[Count]]*Table1[[#This Row],[Price]]","v":684}]
["2013-08-09",2013,8,"Denmark","Workstations ","CLOUD COMPUTER THIN STATION FL300",4,390,{"$f":"Table1[[#This Row],[Count]]*Table1[[#This Row],[Price]]","v":1560}]
["2013-08-10",2013,8,"USA","Tablet PCs","10 INCH TABLET HIGH QUALITY TABLET 1GB",2,174,{"$f":"Table1[[#This Row],[Count]]*Table1[[#This Row],[Price]]","v":348}]
["2013-08-10",2013,8,"USA","Workstations ","SUN BLADE 1500 WORKSTATION BASE SUN B1500",5,378,{"$f":"Table1[[#This Row],[Count]]*Table1[[#This Row],[Price]]","v":1890}]
["2013-08-10",2013,8,"USA","Camera & Photo","FUJIFILM FINEPIX SL1000",5,330,{"$f":"Table1[[#This Row],[Count]]*Table1[[#This Row],[Price]]","v":1650}]
["2013-08-10",2013,8,"USA","Laptops","VIA 8850 ANDROID 4.0",1,282,{"$f":"Table1[[#This Row],[Count]]*Table1[[#This Row],[Price]]","v":282}]
["2013-08-11",2013,8,"USA","Camera & Photo","D3200 DIGITAL SLR",1,306,{"$f":"Table1[[#This Row],[Count]]*Table1[[#This Row],[Price]]","v":306}]
["2013-08-11",2013,8,"United Kingdom","Workstations ","I7 MINI PC WITH HDMI QOTOM-T620",4,342,{"$f":"Table1[[#This Row],[Count]]*Table1[[#This Row],[Price]]","v":1368}]
["2013-08-11",2013,8,"USA","Laptops","THINKPAD E445",4,222,{"$f":"Table1[[#This Row],[Count]]*Table1[[#This Row],[Price]]","v":888}]
["2013-08-11",2013,8,"USA","Camera & Photo","D3200 DIGITAL SLR",5,306,{"$f":"Table1[[#This Row],[Count]]*Table1[[#This Row],[Price]]","v":1530}]
["2013-08-12",2013,8,"Australia","Tablet PCs","TABLET 10-INCH QUAD-CORE A9",3,162,{"$f":"Table1[[#This Row],[Count]]*Table1[[#This Row],[Price]]","v":486}]
["2013-08-12",2013,8,"USA","Tablet PCs","7 INCH DUAL CORE ANDROID TABLET PC Q88",1,210,{"$f":"Table1[[#This Row],[Count]]*Table1[[#This Row],[Price]]","v":210}]
["2013-08-12",2013,8,"Georgia","Laptops","THINKPAD E445",1,222,{"$f":"Table1[[#This Row],[Count]]*Table1[[#This Row],[Price]]","v":222}]
["2013-08-12",2013,8,"USA","Tablet PCs","ONDA V975M TABLET PC",1,150,{"$f":"Table1[[#This Row],[Count]]*Table1[[#This Row],[Price]]","v":150}]
["2013-08-13",2013,8,"Romania","Workstations ","SUN BLADE 1500 WORKSTATION BASE SUN B1500",3,378,{"$f":"Table1[[#This Row],[Count]]*Table1[[#This Row],[Price]]","v":1134}]
["2013-08-13",2013,8,"USA","Camera & Photo","D3000 DIGITAL SLR",1,294,{"$f":"Table1[[#This Row],[Count]]*Table1[[#This Row],[Price]]","v":294}]
["2013-08-13",2013,8,"Australia","Laptops","Y10D 10 INCH VIA 8880",5,246,{"$f":"Table1[[#This Row],[Count]]*Table1[[#This Row],[Price]]","v":1230}]
["2013-08-13",2013,8,"Albania","Tablet PCs","ONDA V975M TABLET PC",4,150,{"$f":"Table1[[#This Row],[Count]]*Table1[[#This Row],[Price]]","v":600}]
["2013-08-14",2013,8,"USA","Tablet PCs","PIPO M6 PRO 9.7 INCH 3G TABLET PC",1,186,{"$f":"Table1[[#This Row],[Count]]*Table1[[#This Row],[Price]]","v":186}]
["2013-08-14",2013,8,"USA","Laptops","THINKPAD E445",3,222,{"$f":"Table1[[#This Row],[Count]]*Table1[[#This Row],[Price]]","v":666}]
["2013-08-14",2013,8,"Finland","Camera & Photo","D3000 DIGITAL SLR",1,294,{"$f":"Table1[[#This Row],[Count]]*Table1[[#This Row],[Price]]","v":294}]
["2013-08-14",2013,8,"USA","Laptops","14.1\" AIR LAPTOP INTEL D2500",4,270,{"$f":"Table1[[#This Row],[Count]]*Table1[[#This Row],[Price]]","v":1080}]
["2013-08-15",2013,8,"USA","Tablet PCs","10 INCH TABLET HIGH QUALITY TABLET 1GB",3,174,{"$f":"Table1[[#This Row],[Count]]*Table1[[#This Row],[Price]]","v":522}]
["2013-08-15",2013,8,"Spain","Camera & Photo","D3200 DIGITAL SLR",2,306,{"$f":"Table1[[#This Row],[Count]]*Table1[[#This Row],[Price]]","v":612}]
["2013-08-15",2013,8,"Slovakia","Tablet PCs","ONDA V975M TABLET PC",4,150,{"$f":"Table1[[#This Row],[Count]]*Table1[[#This Row],[Price]]","v":600}]
["2013-08-15",2013,8,"Slovakia","Camera & Photo","SONY CYBERSHOT H200",5,318,{"$f":"Table1[[#This Row],[Count]]*Table1[[#This Row],[Price]]","v":1590}]
["2013-08-16",2013,8,"USA","Tablet PCs","10 INCH TABLET HIGH QUALITY TABLET 1GB",1,174,{"$f":"Table1[[#This Row],[Count]]*Table1[[#This Row],[Price]]","v":174}]
["2013-08-16",2013,8,"USA","Laptops","VIA 8850 ANDROID 4.0",2,282,{"$f":"Table1[[#This Row],[Count]]*Table1[[#This Row],[Price]]","v":564}]
["2013-08-16",2013,8,"Belgium","Workstations ","I7 MINI PC WITH HDMI QOTOM-T620",5,342,{"$f":"Table1[[#This Row],[Count]]*Table1[[#This Row],[Price]]","v":1710}]
["2013-08-16",2013,8,"USA","Tablet PCs","GOOWEEL Q88 PRO A23 DUAL CORE TABLET PC",4,198,{"$f":"Table1[[#This Row],[Count]]*Table1[[#This Row],[Price]]","v":792}]
["2013-08-17",2013,8,"Belarus","Camera & Photo","D3000 DIGITAL SLR",3,294,{"$f":"Table1[[#This Row],[Count]]*Table1[[#This Row],[Price]]","v":882}]
["2013-08-17",2013,8,"Malta","Camera & Photo","D3200 DIGITAL SLR",5,306,{"$f":"Table1[[#This Row],[Count]]*Table1[[#This Row],[Price]]","v":1530}]
["2013-08-17",2013,8,"USA","Tablet PCs","7 INCH DUAL CORE ANDROID TABLET PC Q88",5,210,{"$f":"Table1[[#This Row],[Count]]*Table1[[#This Row],[Price]]","v":1050}]
["2013-08-17",2013,8,"Australia","Camera & Photo","SONY CYBERSHOT H200",2,318,{"$f":"Table1[[#This Row],[Count]]*Table1[[#This Row],[Price]]","v":636}]
["2013-08-18",2013,8,"Poland","Tablet PCs","ONDA V975M TABLET PC",1,150,{"$f":"Table1[[#This Row],[Count]]*Table1[[#This Row],[Price]]","v":150}]
["2013-08-18",2013,8,"USA","Laptops","Y10D 10 INCH VIA 8880",2,246,{"$f":"Table1[[#This Row],[Count]]*Table1[[#This Row],[Price]]","v":492}]
["2013-08-18",2013,8,"USA","Laptops","THINKPAD E445",3,222,{"$f":"Table1[[#This Row],[Count]]*Table1[[#This Row],[Price]]","v":666}]
["2013-08-18",2013,8,"USA","Tablet PCs","10 INCH TABLET HIGH QUALITY TABLET 1GB",2,174,{"$f":"Table1[[#This Row],[Count]]*Table1[[#This Row],[Price]]","v":348}]
["2013-08-19",2013,8,"Austria","Tablet PCs","ONDA V975M TABLET PC",3,150,{"$f":"Table1[[#This Row],[Count]]*Table1[[#This Row],[Price]]","v":450}]
["2013-08-19",2013,8,"Estonia","Camera & Photo","D3200 DIGITAL SLR",2,306,{"$f":"Table1[[#This Row],[Count]]*Table1[[#This Row],[Price]]","v":612}]
["2013-08-19",2013,8,"Australia","Workstations ","SUN BLADE 1500 WORKSTATION BASE SUN B1500",4,378,{"$f":"Table1[[#This Row],[Count]]*Table1[[#This Row],[Price]]","v":1512}]
["2013-08-19",2013,8,"Belgium","Laptops","VIA 8850 ANDROID 4.0",1,282,{"$f":"Table1[[#This Row],[Count]]*Table1[[#This Row],[Price]]","v":282}]
["2013-08-20",2013,8,"USA","Workstations ","CLOUD COMPUTER THIN STATION FL300",2,390,{"$f":"Table1[[#This Row],[Count]]*Table1[[#This Row],[Price]]","v":780}]
["2013-08-20",2013,8,"USA","Laptops","THINKPAD E445",2,222,{"$f":"Table1[[#This Row],[Count]]*Table1[[#This Row],[Price]]","v":444}]
["2013-08-20",2013,8,"USA","Workstations ","SUN BLADE 1500 WORKSTATION BASE SUN B1500",2,378,{"$f":"Table1[[#This Row],[Count]]*Table1[[#This Row],[Price]]","v":756}]
["2013-08-20",2013,8,"Italy","Workstations ","SUN BLADE 1500 WORKSTATION BASE SUN B1500",1,378,{"$f":"Table1[[#This Row],[Count]]*Table1[[#This Row],[Price]]","v":378}]
["2013-08-21",2013,8,"Luxembourg","Tablet PCs","GOOWEEL Q88 PRO A23 DUAL CORE TABLET PC",5,198,{"$f":"Table1[[#This Row],[Count]]*Table1[[#This Row],[Price]]","v":990}]
["2013-08-21",2013,8,"USA","Tablet PCs","10 INCH TABLET HIGH QUALITY TABLET 1GB",3,174,{"$f":"Table1[[#This Row],[Count]]*Table1[[#This Row],[Price]]","v":522}]
["2013-08-21",2013,8,"Denmark","Camera & Photo","D3000 DIGITAL SLR",1,294,{"$f":"Table1[[#This Row],[Count]]*Table1[[#This Row],[Price]]","v":294}]
["2013-08-21",2013,8,"Belgium","Tablet PCs","GOOWEEL Q88 PRO A23 DUAL CORE TABLET PC",1,198,{"$f":"Table1[[#This Row],[Count]]*Table1[[#This Row],[Price]]","v":198}]
["2013-08-22",2013,8,"USA","Laptops","14.1\" AIR LAPTOP INTEL D2500",5,270,{"$f":"Table1[[#This Row],[Count]]*Table1[[#This Row],[Price]]","v":1350}]
["2013-08-22",2013,8,"Liechtenstein","Workstations ","I7 MINI PC WITH HDMI QOTOM-T620",4,342,{"$f":"Table1[[#This Row],[Count]]*Table1[[#This Row],[Price]]","v":1368}]
["2013-08-22",2013,8,"Germany","Laptops","THINKPAD T440S",4,258,{"$f":"Table1[[#This Row],[Count]]*Table1[[#This Row],[Price]]","v":1032}]
["2013-08-22",2013,8,"Australia","Laptops","THINKPAD E445",5,222,{"$f":"Table1[[#This Row],[Count]]*Table1[[#This Row],[Price]]","v":1110}]
["2013-08-23",2013,8,"USA","Camera & Photo","D3000 DIGITAL SLR",2,294,{"$f":"Table1[[#This Row],[Count]]*Table1[[#This Row],[Price]]","v":588}]
["2013-08-23",2013,8,"Spain","Workstations ","SUN BLADE 1500 WORKSTATION BASE SUN B1500",5,378,{"$f":"Table1[[#This Row],[Count]]*Table1[[#This Row],[Price]]","v":1890}]
["2013-08-23",2013,8,"USA","Laptops","VIA 8850 ANDROID 4.0",1,282,{"$f":"Table1[[#This Row],[Count]]*Table1[[#This Row],[Price]]","v":282}]
["2013-08-23",2013,8,"USA","Workstations ","CLOUD COMPUTER THIN STATION FL300",4,390,{"$f":"Table1[[#This Row],[Count]]*Table1[[#This Row],[Price]]","v":1560}]
["2013-08-24",2013,8,"USA","Tablet PCs","ONDA V975M TABLET PC",4,150,{"$f":"Table1[[#This Row],[Count]]*Table1[[#This Row],[Price]]","v":600}]
["2013-08-24",2013,8,"Germany","Workstations ","I7 MINI PC WITH HDMI QOTOM-T620",4,342,{"$f":"Table1[[#This Row],[Count]]*Table1[[#This Row],[Price]]","v":1368}]
["2013-08-24",2013,8,"Belgium","Camera & Photo","FUJIFILM FINEPIX SL1000",5,330,{"$f":"Table1[[#This Row],[Count]]*Table1[[#This Row],[Price]]","v":1650}]
["2013-08-24",2013,8,"Finland","Workstations ","SUN BLADE 1500 WORKSTATION BASE SUN B1500",2,378,{"$f":"Table1[[#This Row],[Count]]*Table1[[#This Row],[Price]]","v":756}]
["2013-08-25",2013,8,"USA","Tablet PCs","GOOWEEL Q88 PRO A23 DUAL CORE TABLET PC",5,198,{"$f":"Table1[[#This Row],[Count]]*Table1[[#This Row],[Price]]","v":990}]
["2013-08-25",2013,8,"USA","Camera & Photo","FUJIFILM FINEPIX SL1000",5,330,{"$f":"Table1[[#This Row],[Count]]*Table1[[#This Row],[Price]]","v":1650}]
["2013-08-25",2013,8,"Australia","Laptops","THINKPAD T440S",4,258,{"$f":"Table1[[#This Row],[Count]]*Table1[[#This Row],[Price]]","v":1032}]
["2013-08-25",2013,8,"Norway","Tablet PCs","PIPO M6 PRO 9.7 INCH 3G TABLET PC",2,186,{"$f":"Table1[[#This Row],[Count]]*Table1[[#This Row],[Price]]","v":372}]
["2013-08-26",2013,8,"USA","Laptops","14.1\" AIR LAPTOP INTEL D2500",3,270,{"$f":"Table1[[#This Row],[Count]]*Table1[[#This Row],[Price]]","v":810}]
["2013-08-26",2013,8,"USA","Laptops","THINKPAD T440S",4,258,{"$f":"Table1[[#This Row],[Count]]*Table1[[#This Row],[Price]]","v":1032}]
["2013-08-26",2013,8,"USA","Workstations ","SUN BLADE 1500 WORKSTATION BASE SUN B1500",5,378,{"$f":"Table1[[#This Row],[Count]]*Table1[[#This Row],[Price]]","v":1890}]
["2013-08-26",2013,8,"Australia","Camera & Photo","SONY CYBERSHOT H200",2,318,{"$f":"Table1[[#This Row],[Count]]*Table1[[#This Row],[Price]]","v":636}]
["2013-08-27",2013,8,"USA","Camera & Photo","D3200 DIGITAL SLR",1,306,{"$f":"Table1[[#This Row],[Count]]*Table1[[#This Row],[Price]]","v":306}]
["2013-08-27",2013,8,"Romania","Tablet PCs","GOOWEEL Q88 PRO A23 DUAL CORE TABLET PC",4,198,{"$f":"Table1[[#This Row],[Count]]*Table1[[#This Row],[Price]]","v":792}]
["2013-08-27",2013,8,"Bosnia And Herzegovina","Laptops","VIA 8850 ANDROID 4.0",3,282,{"$f":"Table1[[#This Row],[Count]]*Table1[[#This Row],[Price]]","v":846}]
["2013-08-27",2013,8,"Finland","Tablet PCs","PIPO M6 PRO 9.7 INCH 3G TABLET PC",3,186,{"$f":"Table1[[#This Row],[Count]]*Table1[[#This Row],[Price]]","v":558}]
["2013-08-28",2013,8,"Sweden","Tablet PCs","10 INCH TABLET HIGH QUALITY TABLET 1GB",1,174,{"$f":"Table1[[#This Row],[Count]]*Table1[[#This Row],[Price]]","v":174}]
["2013-08-28",2013,8,"France","Workstations ","CLOUD COMPUTER THIN STATION FL300",4,390,{"$f":"Table1[[#This Row],[Count]]*Table1[[#This Row],[Price]]","v":1560}]
["2013-08-28",2013,8,"USA","Tablet PCs","PIPO M6 PRO 9.7 INCH 3G TABLET PC",2,186,{"$f":"Table1[[#This Row],[Count]]*Table1[[#This Row],[Price]]","v":372}]
["2013-08-28",2013,8,"Norway","Workstations ","I7 MINI PC WITH HDMI QOTOM-T620",1,342,{"$f":"Table1[[#This Row],[Count]]*Table1[[#This Row],[Price]]","v":342}]
["2013-08-29",2013,8,"USA","Workstations ","I7 MINI PC WITH HDMI QOTOM-T620",2,342,{"$f":"Table1[[#This Row],[Count]]*Table1[[#This Row],[Price]]","v":684}]
["2013-08-29",2013,8,"Montenegro","Tablet PCs","PIPO M6 PRO 9.7 INCH 3G TABLET PC",4,186,{"$f":"Table1[[#This Row],[Count]]*Table1[[#This Row],[Price]]","v":744}]
["2013-08-29",2013,8,"USA","Workstations ","I7 MINI PC WITH HDMI QOTOM-T620",1,342,{"$f":"Table1[[#This Row],[Count]]*Table1[[#This Row],[Price]]","v":342}]
["2013-08-29",2013,8,"Macedonia","Tablet PCs","ONDA V975M TABLET PC",2,150,{"$f":"Table1[[#This Row],[Count]]*Table1[[#This Row],[Price]]","v":300}]
["2013-08-30",2013,8,"Albania","Laptops","14INCH ULTRABOOK",1,234,{"$f":"Table1[[#This Row],[Count]]*Table1[[#This Row],[Price]]","v":234}]
["2013-08-30",2013,8,"Montenegro","Camera & Photo","SONY CYBERSHOT H200",2,318,{"$f":"Table1[[#This Row],[Count]]*Table1[[#This Row],[Price]]","v":636}]
["2013-08-30",2013,8,"Georgia","Laptops","THINKPAD T440S",5,258,{"$f":"Table1[[#This Row],[Count]]*Table1[[#This Row],[Price]]","v":1290}]
["2013-08-30",2013,8,"Australia","Tablet PCs","7 INCH DUAL CORE ANDROID TABLET PC Q88",5,210,{"$f":"Table1[[#This Row],[Count]]*Table1[[#This Row],[Price]]","v":1050}]
["2013-08-31",2013,8,"Macedonia","Workstations ","HZONE NCOMPUTING L230",2,354,{"$f":"Table1[[#This Row],[Count]]*Table1[[#This Row],[Price]]","v":708}]
["2013-08-31",2013,8,"USA","Workstations ","SUN BLADE 1500 WORKSTATION BASE SUN B1500",2,378,{"$f":"Table1[[#This Row],[Count]]*Table1[[#This Row],[Price]]","v":756}]
["2013-08-31",2013,8,"USA","Workstations ","HIGH PERFORMANCE 4U LCD WORKSTATION C",5,366,{"$f":"Table1[[#This Row],[Count]]*Table1[[#This Row],[Price]]","v":1830}]
["2013-08-31",2013,8,"USA","Workstations ","HIGH PERFORMANCE 4U LCD WORKSTATION C",5,366,{"$f":"Table1[[#This Row],[Count]]*Table1[[#This Row],[Price]]","v":1830}]
["2013-09-01",2013,9,"USA","Workstations ","I7 MINI PC WITH HDMI QOTOM-T620",5,342,{"$f":"Table1[[#This Row],[Count]]*Table1[[#This Row],[Price]]","v":1710}]
["2013-09-01",2013,9,"Bosnia And Herzegovina","Tablet PCs","PIPO M6 PRO 9.7 INCH 3G TABLET PC",1,186,{"$f":"Table1[[#This Row],[Count]]*Table1[[#This Row],[Price]]","v":186}]
["2013-09-01",2013,9,"Lithuania","Tablet PCs","TABLET 10-INCH QUAD-CORE A9",1,162,{"$f":"Table1[[#This Row],[Count]]*Table1[[#This Row],[Price]]","v":162}]
["2013-09-01",2013,9,"USA","Laptops","THINKPAD E445",4,222,{"$f":"Table1[[#This Row],[Count]]*Table1[[#This Row],[Price]]","v":888}]
["2013-09-02",2013,9,"USA","Workstations ","I7 MINI PC WITH HDMI QOTOM-T620",3,342,{"$f":"Table1[[#This Row],[Count]]*Table1[[#This Row],[Price]]","v":1026}]
["2013-09-02",2013,9,"Croatia","Tablet PCs","ONDA V975M TABLET PC",1,150,{"$f":"Table1[[#This Row],[Count]]*Table1[[#This Row],[Price]]","v":150}]
["2013-09-02",2013,9,"Netherlands","Camera & Photo","D3000 DIGITAL SLR",2,294,{"$f":"Table1[[#This Row],[Count]]*Table1[[#This Row],[Price]]","v":588}]
["2013-09-02",2013,9,"USA","Workstations ","HZONE NCOMPUTING L230",3,354,{"$f":"Table1[[#This Row],[Count]]*Table1[[#This Row],[Price]]","v":1062}]
["2013-09-03",2013,9,"Belarus","Workstations ","HZONE NCOMPUTING L230",4,354,{"$f":"Table1[[#This Row],[Count]]*Table1[[#This Row],[Price]]","v":1416}]
["2013-09-03",2013,9,"Georgia","Laptops","THINKPAD E445",4,222,{"$f":"Table1[[#This Row],[Count]]*Table1[[#This Row],[Price]]","v":888}]
["2013-09-03",2013,9,"Andorra","Camera & Photo","SONY CYBERSHOT H200",1,318,{"$f":"Table1[[#This Row],[Count]]*Table1[[#This Row],[Price]]","v":318}]
["2013-09-03",2013,9,"USA","Laptops","VIA 8850 ANDROID 4.0",1,282,{"$f":"Table1[[#This Row],[Count]]*Table1[[#This Row],[Price]]","v":282}]
["2013-09-04",2013,9,"USA","Workstations ","CLOUD COMPUTER THIN STATION FL300",3,390,{"$f":"Table1[[#This Row],[Count]]*Table1[[#This Row],[Price]]","v":1170}]
["2013-09-04",2013,9,"Estonia","Workstations ","HZONE NCOMPUTING L230",5,354,{"$f":"Table1[[#This Row],[Count]]*Table1[[#This Row],[Price]]","v":1770}]
["2013-09-04",2013,9,"Belarus","Tablet PCs","GOOWEEL Q88 PRO A23 DUAL CORE TABLET PC",4,198,{"$f":"Table1[[#This Row],[Count]]*Table1[[#This Row],[Price]]","v":792}]
["2013-09-04",2013,9,"USA","Workstations ","I7 MINI PC WITH HDMI QOTOM-T620",2,342,{"$f":"Table1[[#This Row],[Count]]*Table1[[#This Row],[Price]]","v":684}]
["2013-09-05",2013,9,"USA","Laptops","Y10D 10 INCH VIA 8880",5,246,{"$f":"Table1[[#This Row],[Count]]*Table1[[#This Row],[Price]]","v":1230}]
["2013-09-05",2013,9,"Australia","Laptops","Y10D 10 INCH VIA 8880",5,246,{"$f":"Table1[[#This Row],[Count]]*Table1[[#This Row],[Price]]","v":1230}]
["2013-09-05",2013,9,"Georgia","Laptops","Y10D 10 INCH VIA 8880",5,246,{"$f":"Table1[[#This Row],[Count]]*Table1[[#This Row],[Price]]","v":1230}]
["2013-09-05",2013,9,"Hungary","Tablet PCs","7 INCH DUAL CORE ANDROID TABLET PC Q88",3,210,{"$f":"Table1[[#This Row],[Count]]*Table1[[#This Row],[Price]]","v":630}]
["2013-09-06",2013,9,"USA","Workstations ","CLOUD COMPUTER THIN STATION FL300",4,390,{"$f":"Table1[[#This Row],[Count]]*Table1[[#This Row],[Price]]","v":1560}]
["2013-09-06",2013,9,"Serbien und Montenegro","Camera & Photo","D3200 DIGITAL SLR",2,306,{"$f":"Table1[[#This Row],[Count]]*Table1[[#This Row],[Price]]","v":612}]
["2013-09-06",2013,9,"USA","Workstations ","CLOUD COMPUTER THIN STATION FL300",1,390,{"$f":"Table1[[#This Row],[Count]]*Table1[[#This Row],[Price]]","v":390}]
["2013-09-06",2013,9,"Ireland","Workstations ","CLOUD COMPUTER THIN STATION FL300",3,390,{"$f":"Table1[[#This Row],[Count]]*Table1[[#This Row],[Price]]","v":1170}]
["2013-09-07",2013,9,"Norway","Tablet PCs","PIPO M6 PRO 9.7 INCH 3G TABLET PC",2,186,{"$f":"Table1[[#This Row],[Count]]*Table1[[#This Row],[Price]]","v":372}]
["2013-09-07",2013,9,"Albania","Tablet PCs","7 INCH DUAL CORE ANDROID TABLET PC Q88",3,210,{"$f":"Table1[[#This Row],[Count]]*Table1[[#This Row],[Price]]","v":630}]
["2013-09-07",2013,9,"Norway","Laptops","THINKPAD T440S",1,258,{"$f":"Table1[[#This Row],[Count]]*Table1[[#This Row],[Price]]","v":258}]
["2013-09-07",2013,9,"Moldova","Workstations ","I7 MINI PC WITH HDMI QOTOM-T620",3,342,{"$f":"Table1[[#This Row],[Count]]*Table1[[#This Row],[Price]]","v":1026}]
["2013-09-08",2013,9,"Ukraine","Workstations ","CLOUD COMPUTER THIN STATION FL300",1,390,{"$f":"Table1[[#This Row],[Count]]*Table1[[#This Row],[Price]]","v":390}]
["2013-09-08",2013,9,"USA","Laptops","14INCH ULTRABOOK",1,234,{"$f":"Table1[[#This Row],[Count]]*Table1[[#This Row],[Price]]","v":234}]
["2013-09-08",2013,9,"Australia","Laptops","14INCH ULTRABOOK",4,234,{"$f":"Table1[[#This Row],[Count]]*Table1[[#This Row],[Price]]","v":936}]
["2013-09-08",2013,9,"Georgia","Laptops","Y10D 10 INCH VIA 8880",2,246,{"$f":"Table1[[#This Row],[Count]]*Table1[[#This Row],[Price]]","v":492}]
["2013-09-09",2013,9,"Romania","Workstations ","CLOUD COMPUTER THIN STATION FL300",3,390,{"$f":"Table1[[#This Row],[Count]]*Table1[[#This Row],[Price]]","v":1170}]
["2013-09-09",2013,9,"Austria","Tablet PCs","TABLET 10-INCH QUAD-CORE A9",3,162,{"$f":"Table1[[#This Row],[Count]]*Table1[[#This Row],[Price]]","v":486}]
["2013-09-09",2013,9,"USA","Tablet PCs","7 INCH DUAL CORE ANDROID TABLET PC Q88",3,210,{"$f":"Table1[[#This Row],[Count]]*Table1[[#This Row],[Price]]","v":630}]
["2013-09-09",2013,9,"USA","Laptops","14INCH ULTRABOOK",3,234,{"$f":"Table1[[#This Row],[Count]]*Table1[[#This Row],[Price]]","v":702}]
["2013-09-10",2013,9,"Austria","Camera & Photo","SONY CYBERSHOT H200",1,318,{"$f":"Table1[[#This Row],[Count]]*Table1[[#This Row],[Price]]","v":318}]
["2013-09-10",2013,9,"USA","Tablet PCs","7 INCH DUAL CORE ANDROID TABLET PC Q88",4,210,{"$f":"Table1[[#This Row],[Count]]*Table1[[#This Row],[Price]]","v":840}]
["2013-09-10",2013,9,"Denmark","Workstations ","SUN BLADE 1500 WORKSTATION BASE SUN B1500",3,378,{"$f":"Table1[[#This Row],[Count]]*Table1[[#This Row],[Price]]","v":1134}]
["2013-09-10",2013,9,"Romania","Camera & Photo","D3200 DIGITAL SLR",2,306,{"$f":"Table1[[#This Row],[Count]]*Table1[[#This Row],[Price]]","v":612}]
["2013-09-11",2013,9,"Estonia","Laptops","Y10D 10 INCH VIA 8880",5,246,{"$f":"Table1[[#This Row],[Count]]*Table1[[#This Row],[Price]]","v":1230}]
["2013-09-11",2013,9,"Bulgaria","Laptops","THINKPAD T440S",4,258,{"$f":"Table1[[#This Row],[Count]]*Table1[[#This Row],[Price]]","v":1032}]
["2013-09-11",2013,9,"Greece","Laptops","14.1\" AIR LAPTOP INTEL D2500",3,270,{"$f":"Table1[[#This Row],[Count]]*Table1[[#This Row],[Price]]","v":810}]
["2013-09-11",2013,9,"USA","Tablet PCs","GOOWEEL Q88 PRO A23 DUAL CORE TABLET PC",5,198,{"$f":"Table1[[#This Row],[Count]]*Table1[[#This Row],[Price]]","v":990}]
["2013-09-12",2013,9,"USA","Laptops","VIA 8850 ANDROID 4.0",5,282,{"$f":"Table1[[#This Row],[Count]]*Table1[[#This Row],[Price]]","v":1410}]
["2013-09-12",2013,9,"Germany","Laptops","VIA 8850 ANDROID 4.0",3,282,{"$f":"Table1[[#This Row],[Count]]*Table1[[#This Row],[Price]]","v":846}]
["2013-09-12",2013,9,"Moldova","Laptops","14.1\" AIR LAPTOP INTEL D2500",4,270,{"$f":"Table1[[#This Row],[Count]]*Table1[[#This Row],[Price]]","v":1080}]
["2013-09-12",2013,9,"Czech Republic","Camera & Photo","SONY CYBERSHOT H200",3,318,{"$f":"Table1[[#This Row],[Count]]*Table1[[#This Row],[Price]]","v":954}]
["2013-09-13",2013,9,"USA","Tablet PCs","TABLET 10-INCH QUAD-CORE A9",3,162,{"$f":"Table1[[#This Row],[Count]]*Table1[[#This Row],[Price]]","v":486}]
["2013-09-13",2013,9,"Monaco","Laptops","VIA 8850 ANDROID 4.0",2,282,{"$f":"Table1[[#This Row],[Count]]*Table1[[#This Row],[Price]]","v":564}]
["2013-09-13",2013,9,"Australia","Laptops","THINKPAD T440S",1,258,{"$f":"Table1[[#This Row],[Count]]*Table1[[#This Row],[Price]]","v":258}]
["2013-09-13",2013,9,"Malta","Tablet PCs","TABLET 10-INCH QUAD-CORE A9",1,162,{"$f":"Table1[[#This Row],[Count]]*Table1[[#This Row],[Price]]","v":162}]
["2013-09-14",2013,9,"USA","Camera & Photo","FUJIFILM FINEPIX SL1000",5,330,{"$f":"Table1[[#This Row],[Count]]*Table1[[#This Row],[Price]]","v":1650}]
["2013-09-14",2013,9,"United Kingdom","Tablet PCs","PIPO M6 PRO 9.7 INCH 3G TABLET PC",1,186,{"$f":"Table1[[#This Row],[Count]]*Table1[[#This Row],[Price]]","v":186}]
["2013-09-14",2013,9,"Bulgaria","Laptops","14INCH ULTRABOOK",1,234,{"$f":"Table1[[#This Row],[Count]]*Table1[[#This Row],[Price]]","v":234}]
["2013-09-14",2013,9,"Greece","Laptops","THINKPAD E445",4,222,{"$f":"Table1[[#This Row],[Count]]*Table1[[#This Row],[Price]]","v":888}]
["2013-09-15",2013,9,"Macedonia","Camera & Photo","D3000 DIGITAL SLR",4,294,{"$f":"Table1[[#This Row],[Count]]*Table1[[#This Row],[Price]]","v":1176}]
["2013-09-15",2013,9,"USA","Workstations ","HIGH PERFORMANCE 4U LCD WORKSTATION C",2,366,{"$f":"Table1[[#This Row],[Count]]*Table1[[#This Row],[Price]]","v":732}]
["2013-09-15",2013,9,"USA","Tablet PCs","GOOWEEL Q88 PRO A23 DUAL CORE TABLET PC",4,198,{"$f":"Table1[[#This Row],[Count]]*Table1[[#This Row],[Price]]","v":792}]
["2013-09-15",2013,9,"USA","Laptops","14.1\" AIR LAPTOP INTEL D2500",5,270,{"$f":"Table1[[#This Row],[Count]]*Table1[[#This Row],[Price]]","v":1350}]
["2013-09-16",2013,9,"Bulgaria","Workstations ","HIGH PERFORMANCE 4U LCD WORKSTATION C",1,366,{"$f":"Table1[[#This Row],[Count]]*Table1[[#This Row],[Price]]","v":366}]
["2013-09-16",2013,9,"USA","Laptops","THINKPAD E445",1,222,{"$f":"Table1[[#This Row],[Count]]*Table1[[#This Row],[Price]]","v":222}]
["2013-09-16",2013,9,"USA","Laptops","THINKPAD E445",4,222,{"$f":"Table1[[#This Row],[Count]]*Table1[[#This Row],[Price]]","v":888}]
["2013-09-16",2013,9,"Poland","Laptops","Y10D 10 INCH VIA 8880",4,246,{"$f":"Table1[[#This Row],[Count]]*Table1[[#This Row],[Price]]","v":984}]
["2013-09-17",2013,9,"USA","Laptops","14INCH ULTRABOOK",3,234,{"$f":"Table1[[#This Row],[Count]]*Table1[[#This Row],[Price]]","v":702}]
["2013-09-17",2013,9,"Slovakia","Workstations ","SUN BLADE 1500 WORKSTATION BASE SUN B1500",4,378,{"$f":"Table1[[#This Row],[Count]]*Table1[[#This Row],[Price]]","v":1512}]
["2013-09-17",2013,9,"USA","Laptops","14.1\" AIR LAPTOP INTEL D2500",2,270,{"$f":"Table1[[#This Row],[Count]]*Table1[[#This Row],[Price]]","v":540}]
["2013-09-17",2013,9,"Monaco","Tablet PCs","PIPO M6 PRO 9.7 INCH 3G TABLET PC",2,186,{"$f":"Table1[[#This Row],[Count]]*Table1[[#This Row],[Price]]","v":372}]
["2013-09-18",2013,9,"USA","Tablet PCs","PIPO M6 PRO 9.7 INCH 3G TABLET PC",1,186,{"$f":"Table1[[#This Row],[Count]]*Table1[[#This Row],[Price]]","v":186}]
["2013-09-18",2013,9,"Moldova","Laptops","THINKPAD E445",5,222,{"$f":"Table1[[#This Row],[Count]]*Table1[[#This Row],[Price]]","v":1110}]
["2013-09-18",2013,9,"USA","Camera & Photo","FUJIFILM FINEPIX SL1000",1,330,{"$f":"Table1[[#This Row],[Count]]*Table1[[#This Row],[Price]]","v":330}]
["2013-09-18",2013,9,"USA","Tablet PCs","TABLET 10-INCH QUAD-CORE A9",5,162,{"$f":"Table1[[#This Row],[Count]]*Table1[[#This Row],[Price]]","v":810}]
["2013-09-19",2013,9,"Lithuania","Workstations ","HIGH PERFORMANCE 4U LCD WORKSTATION C",3,366,{"$f":"Table1[[#This Row],[Count]]*Table1[[#This Row],[Price]]","v":1098}]
["2013-09-19",2013,9,"Moldova","Tablet PCs","7 INCH DUAL CORE ANDROID TABLET PC Q88",1,210,{"$f":"Table1[[#This Row],[Count]]*Table1[[#This Row],[Price]]","v":210}]
["2013-09-19",2013,9,"Monaco","Laptops","14INCH ULTRABOOK",3,234,{"$f":"Table1[[#This Row],[Count]]*Table1[[#This Row],[Price]]","v":702}]
["2013-09-19",2013,9,"Bulgaria","Workstations ","I7 MINI PC WITH HDMI QOTOM-T620",3,342,{"$f":"Table1[[#This Row],[Count]]*Table1[[#This Row],[Price]]","v":1026}]
["2013-09-20",2013,9,"USA","Laptops","VIA 8850 ANDROID 4.0",4,282,{"$f":"Table1[[#This Row],[Count]]*Table1[[#This Row],[Price]]","v":1128}]
["2013-09-20",2013,9,"Denmark","Laptops","THINKPAD T440S",2,258,{"$f":"Table1[[#This Row],[Count]]*Table1[[#This Row],[Price]]","v":516}]
["2013-09-20",2013,9,"USA","Tablet PCs","PIPO M6 PRO 9.7 INCH 3G TABLET PC",5,186,{"$f":"Table1[[#This Row],[Count]]*Table1[[#This Row],[Price]]","v":930}]
["2013-09-20",2013,9,"United Kingdom","Tablet PCs","ONDA V975M TABLET PC",1,150,{"$f":"Table1[[#This Row],[Count]]*Table1[[#This Row],[Price]]","v":150}]
["2013-09-21",2013,9,"France","Workstations ","HIGH PERFORMANCE 4U LCD WORKSTATION C",1,366,{"$f":"Table1[[#This Row],[Count]]*Table1[[#This Row],[Price]]","v":366}]
["2013-09-21",2013,9,"Albania","Workstations ","HZONE NCOMPUTING L230",1,354,{"$f":"Table1[[#This Row],[Count]]*Table1[[#This Row],[Price]]","v":354}]
["2013-09-21",2013,9,"USA","Workstations ","SUN BLADE 1500 WORKSTATION BASE SUN B1500",5,378,{"$f":"Table1[[#This Row],[Count]]*Table1[[#This Row],[Price]]","v":1890}]
["2013-09-21",2013,9,"USA","Camera & Photo","FUJIFILM FINEPIX SL1000",2,330,{"$f":"Table1[[#This Row],[Count]]*Table1[[#This Row],[Price]]","v":660}]
["2013-09-22",2013,9,"USA","Tablet PCs","ONDA V975M TABLET PC",2,150,{"$f":"Table1[[#This Row],[Count]]*Table1[[#This Row],[Price]]","v":300}]
["2013-09-22",2013,9,"United Kingdom","Tablet PCs","7 INCH DUAL CORE ANDROID TABLET PC Q88",4,210,{"$f":"Table1[[#This Row],[Count]]*Table1[[#This Row],[Price]]","v":840}]
["2013-09-22",2013,9,"Latvia","Workstations ","HZONE NCOMPUTING L230",1,354,{"$f":"Table1[[#This Row],[Count]]*Table1[[#This Row],[Price]]","v":354}]
["2013-09-22",2013,9,"USA","Tablet PCs","10 INCH TABLET HIGH QUALITY TABLET 1GB",1,174,{"$f":"Table1[[#This Row],[Count]]*Table1[[#This Row],[Price]]","v":174}]
["2013-09-23",2013,9,"USA","Tablet PCs","GOOWEEL Q88 PRO A23 DUAL CORE TABLET PC",2,198,{"$f":"Table1[[#This Row],[Count]]*Table1[[#This Row],[Price]]","v":396}]
["2013-09-23",2013,9,"Bosnia And Herzegovina","Tablet PCs","PIPO M6 PRO 9.7 INCH 3G TABLET PC",1,186,{"$f":"Table1[[#This Row],[Count]]*Table1[[#This Row],[Price]]","v":186}]
["2013-09-23",2013,9,"USA","Camera & Photo","D3000 DIGITAL SLR",1,294,{"$f":"Table1[[#This Row],[Count]]*Table1[[#This Row],[Price]]","v":294}]
["2013-09-23",2013,9,"USA","Laptops","VIA 8850 ANDROID 4.0",3,282,{"$f":"Table1[[#This Row],[Count]]*Table1[[#This Row],[Price]]","v":846}]
["2013-09-24",2013,9,"Croatia","Laptops","VIA 8850 ANDROID 4.0",3,282,{"$f":"Table1[[#This Row],[Count]]*Table1[[#This Row],[Price]]","v":846}]
["2013-09-24",2013,9,"USA","Camera & Photo","D3200 DIGITAL SLR",2,306,{"$f":"Table1[[#This Row],[Count]]*Table1[[#This Row],[Price]]","v":612}]
["2013-09-24",2013,9,"USA","Workstations ","SUN BLADE 1500 WORKSTATION BASE SUN B1500",1,378,{"$f":"Table1[[#This Row],[Count]]*Table1[[#This Row],[Price]]","v":378}]
["2013-09-24",2013,9,"USA","Tablet PCs","7 INCH DUAL CORE ANDROID TABLET PC Q88",5,210,{"$f":"Table1[[#This Row],[Count]]*Table1[[#This Row],[Price]]","v":1050}]
["2013-09-25",2013,9,"USA","Workstations ","SUN BLADE 1500 WORKSTATION BASE SUN B1500",1,378,{"$f":"Table1[[#This Row],[Count]]*Table1[[#This Row],[Price]]","v":378}]
["2013-09-25",2013,9,"Belarus","Camera & Photo","FUJIFILM FINEPIX SL1000",2,330,{"$f":"Table1[[#This Row],[Count]]*Table1[[#This Row],[Price]]","v":660}]
["2013-09-25",2013,9,"Australia","Camera & Photo","FUJIFILM FINEPIX SL1000",1,330,{"$f":"Table1[[#This Row],[Count]]*Table1[[#This Row],[Price]]","v":330}]
["2013-09-25",2013,9,"Macedonia","Workstations ","SUN BLADE 1500 WORKSTATION BASE SUN B1500",4,378,{"$f":"Table1[[#This Row],[Count]]*Table1[[#This Row],[Price]]","v":1512}]
["2013-09-26",2013,9,"USA","Workstations ","HZONE NCOMPUTING L230",5,354,{"$f":"Table1[[#This Row],[Count]]*Table1[[#This Row],[Price]]","v":1770}]
["2013-09-26",2013,9,"Norway","Workstations ","HZONE NCOMPUTING L230",4,354,{"$f":"Table1[[#This Row],[Count]]*Table1[[#This Row],[Price]]","v":1416}]
["2013-09-26",2013,9,"USA","Camera & Photo","D3200 DIGITAL SLR",5,306,{"$f":"Table1[[#This Row],[Count]]*Table1[[#This Row],[Price]]","v":1530}]
["2013-09-26",2013,9,"USA","Laptops","THINKPAD T440S",3,258,{"$f":"Table1[[#This Row],[Count]]*Table1[[#This Row],[Price]]","v":774}]
["2013-09-27",2013,9,"Poland","Workstations ","I7 MINI PC WITH HDMI QOTOM-T620",2,342,{"$f":"Table1[[#This Row],[Count]]*Table1[[#This Row],[Price]]","v":684}]
["2013-09-27",2013,9,"Liechtenstein","Tablet PCs","7 INCH DUAL CORE ANDROID TABLET PC Q88",4,210,{"$f":"Table1[[#This Row],[Count]]*Table1[[#This Row],[Price]]","v":840}]
["2013-09-27",2013,9,"Liechtenstein","Laptops","THINKPAD T440S",4,258,{"$f":"Table1[[#This Row],[Count]]*Table1[[#This Row],[Price]]","v":1032}]
["2013-09-27",2013,9,"USA","Tablet PCs","ONDA V975M TABLET PC",4,150,{"$f":"Table1[[#This Row],[Count]]*Table1[[#This Row],[Price]]","v":600}]
["2013-09-28",2013,9,"USA","Laptops","VIA 8850 ANDROID 4.0",2,282,{"$f":"Table1[[#This Row],[Count]]*Table1[[#This Row],[Price]]","v":564}]
["2013-09-28",2013,9,"USA","Laptops","THINKPAD E445",3,222,{"$f":"Table1[[#This Row],[Count]]*Table1[[#This Row],[Price]]","v":666}]
["2013-09-28",2013,9,"Belarus","Camera & Photo","D3000 DIGITAL SLR",3,294,{"$f":"Table1[[#This Row],[Count]]*Table1[[#This Row],[Price]]","v":882}]
["2013-09-28",2013,9,"USA","Workstations ","I7 MINI PC WITH HDMI QOTOM-T620",2,342,{"$f":"Table1[[#This Row],[Count]]*Table1[[#This Row],[Price]]","v":684}]
["2013-09-29",2013,9,"USA","Laptops","VIA 8850 ANDROID 4.0",5,282,{"$f":"Table1[[#This Row],[Count]]*Table1[[#This Row],[Price]]","v":1410}]
["2013-09-29",2013,9,"Lithuania","Laptops","THINKPAD T440S",2,258,{"$f":"Table1[[#This Row],[Count]]*Table1[[#This Row],[Price]]","v":516}]
["2013-09-29",2013,9,"Romania","Camera & Photo","SONY CYBERSHOT H200",4,318,{"$f":"Table1[[#This Row],[Count]]*Table1[[#This Row],[Price]]","v":1272}]
["2013-09-29",2013,9,"Portugal","Laptops","14.1\" AIR LAPTOP INTEL D2500",3,270,{"$f":"Table1[[#This Row],[Count]]*Table1[[#This Row],[Price]]","v":810}]
["2013-09-30",2013,9,"Australia","Camera & Photo","D3000 DIGITAL SLR",4,294,{"$f":"Table1[[#This Row],[Count]]*Table1[[#This Row],[Price]]","v":1176}]
["2013-09-30",2013,9,"Portugal","Laptops","14.1\" AIR LAPTOP INTEL D2500",5,270,{"$f":"Table1[[#This Row],[Count]]*Table1[[#This Row],[Price]]","v":1350}]
["2013-09-30",2013,9,"Albania","Laptops","Y10D 10 INCH VIA 8880",1,246,{"$f":"Table1[[#This Row],[Count]]*Table1[[#This Row],[Price]]","v":246}]
["2013-09-30",2013,9,"USA","Tablet PCs","10 INCH TABLET HIGH QUALITY TABLET 1GB",5,174,{"$f":"Table1[[#This Row],[Count]]*Table1[[#This Row],[Price]]","v":870}]
["2013-10-01",2013,10,"Slovenia","Camera & Photo","SONY CYBERSHOT H200",1,318,{"$f":"Table1[[#This Row],[Count]]*Table1[[#This Row],[Price]]","v":318}]
["2013-10-01",2013,10,"Monaco","Camera & Photo","FUJIFILM FINEPIX SL1000",1,330,{"$f":"Table1[[#This Row],[Count]]*Table1[[#This Row],[Price]]","v":330}]
["2013-10-01",2013,10,"USA","Camera & Photo","SONY CYBERSHOT H200",1,318,{"$f":"Table1[[#This Row],[Count]]*Table1[[#This Row],[Price]]","v":318}]
["2013-10-01",2013,10,"USA","Tablet PCs","7 INCH DUAL CORE ANDROID TABLET PC Q88",1,210,{"$f":"Table1[[#This Row],[Count]]*Table1[[#This Row],[Price]]","v":210}]
["2013-10-02",2013,10,"Netherlands","Laptops","THINKPAD T440S",5,258,{"$f":"Table1[[#This Row],[Count]]*Table1[[#This Row],[Price]]","v":1290}]
["2013-10-02",2013,10,"Portugal","Laptops","THINKPAD E445",5,222,{"$f":"Table1[[#This Row],[Count]]*Table1[[#This Row],[Price]]","v":1110}]
["2013-10-02",2013,10,"Belgium","Laptops","14.1\" AIR LAPTOP INTEL D2500",4,270,{"$f":"Table1[[#This Row],[Count]]*Table1[[#This Row],[Price]]","v":1080}]
["2013-10-02",2013,10,"USA","Tablet PCs","10 INCH TABLET HIGH QUALITY TABLET 1GB",1,174,{"$f":"Table1[[#This Row],[Count]]*Table1[[#This Row],[Price]]","v":174}]
["2013-10-03",2013,10,"USA","Tablet PCs","7 INCH DUAL CORE ANDROID TABLET PC Q88",1,210,{"$f":"Table1[[#This Row],[Count]]*Table1[[#This Row],[Price]]","v":210}]
["2013-10-03",2013,10,"USA","Laptops","Y10D 10 INCH VIA 8880",5,246,{"$f":"Table1[[#This Row],[Count]]*Table1[[#This Row],[Price]]","v":1230}]
["2013-10-03",2013,10,"USA","Workstations ","I7 MINI PC WITH HDMI QOTOM-T620",1,342,{"$f":"Table1[[#This Row],[Count]]*Table1[[#This Row],[Price]]","v":342}]
["2013-10-03",2013,10,"Finland","Laptops","Y10D 10 INCH VIA 8880",1,246,{"$f":"Table1[[#This Row],[Count]]*Table1[[#This Row],[Price]]","v":246}]
["2013-10-04",2013,10,"USA","Laptops","VIA 8850 ANDROID 4.0",4,282,{"$f":"Table1[[#This Row],[Count]]*Table1[[#This Row],[Price]]","v":1128}]
["2013-10-04",2013,10,"USA","Laptops","14.1\" AIR LAPTOP INTEL D2500",5,270,{"$f":"Table1[[#This Row],[Count]]*Table1[[#This Row],[Price]]","v":1350}]
["2013-10-04",2013,10,"Montenegro","Tablet PCs","GOOWEEL Q88 PRO A23 DUAL CORE TABLET PC",2,198,{"$f":"Table1[[#This Row],[Count]]*Table1[[#This Row],[Price]]","v":396}]
["2013-10-04",2013,10,"Sweden","Camera & Photo","D3200 DIGITAL SLR",4,306,{"$f":"Table1[[#This Row],[Count]]*Table1[[#This Row],[Price]]","v":1224}]
["2013-10-05",2013,10,"Latvia","Camera & Photo","D3000 DIGITAL SLR",5,294,{"$f":"Table1[[#This Row],[Count]]*Table1[[#This Row],[Price]]","v":1470}]
["2013-10-05",2013,10,"Belarus","Tablet PCs","PIPO M6 PRO 9.7 INCH 3G TABLET PC",3,186,{"$f":"Table1[[#This Row],[Count]]*Table1[[#This Row],[Price]]","v":558}]
["2013-10-05",2013,10,"Lithuania","Tablet PCs","TABLET 10-INCH QUAD-CORE A9",3,162,{"$f":"Table1[[#This Row],[Count]]*Table1[[#This Row],[Price]]","v":486}]
["2013-10-05",2013,10,"USA","Camera & Photo","D3000 DIGITAL SLR",4,294,{"$f":"Table1[[#This Row],[Count]]*Table1[[#This Row],[Price]]","v":1176}]
["2013-10-06",2013,10,"USA","Tablet PCs","PIPO M6 PRO 9.7 INCH 3G TABLET PC",1,186,{"$f":"Table1[[#This Row],[Count]]*Table1[[#This Row],[Price]]","v":186}]
["2013-10-06",2013,10,"USA","Laptops","THINKPAD E445",4,222,{"$f":"Table1[[#This Row],[Count]]*Table1[[#This Row],[Price]]","v":888}]
["2013-10-06",2013,10,"USA","Tablet PCs","10 INCH TABLET HIGH QUALITY TABLET 1GB",1,174,{"$f":"Table1[[#This Row],[Count]]*Table1[[#This Row],[Price]]","v":174}]
["2013-10-06",2013,10,"Portugal","Workstations ","HZONE NCOMPUTING L230",1,354,{"$f":"Table1[[#This Row],[Count]]*Table1[[#This Row],[Price]]","v":354}]
["2013-10-07",2013,10,"Albania","Camera & Photo","SONY CYBERSHOT H200",3,318,{"$f":"Table1[[#This Row],[Count]]*Table1[[#This Row],[Price]]","v":954}]
["2013-10-07",2013,10,"Sweden","Camera & Photo","FUJIFILM FINEPIX SL1000",4,330,{"$f":"Table1[[#This Row],[Count]]*Table1[[#This Row],[Price]]","v":1320}]
["2013-10-07",2013,10,"Moldova","Laptops","Y10D 10 INCH VIA 8880",3,246,{"$f":"Table1[[#This Row],[Count]]*Table1[[#This Row],[Price]]","v":738}]
["2013-10-07",2013,10,"Estonia","Camera & Photo","D3000 DIGITAL SLR",4,294,{"$f":"Table1[[#This Row],[Count]]*Table1[[#This Row],[Price]]","v":1176}]
["2013-10-08",2013,10,"USA","Laptops","THINKPAD T440S",3,258,{"$f":"Table1[[#This Row],[Count]]*Table1[[#This Row],[Price]]","v":774}]
["2013-10-08",2013,10,"Luxembourg","Laptops","14INCH ULTRABOOK",5,234,{"$f":"Table1[[#This Row],[Count]]*Table1[[#This Row],[Price]]","v":1170}]
["2013-10-08",2013,10,"USA","Laptops","THINKPAD T440S",4,258,{"$f":"Table1[[#This Row],[Count]]*Table1[[#This Row],[Price]]","v":1032}]
["2013-10-08",2013,10,"USA","Tablet PCs","PIPO M6 PRO 9.7 INCH 3G TABLET PC",3,186,{"$f":"Table1[[#This Row],[Count]]*Table1[[#This Row],[Price]]","v":558}]
["2013-10-09",2013,10,"USA","Camera & Photo","SONY CYBERSHOT H200",1,318,{"$f":"Table1[[#This Row],[Count]]*Table1[[#This Row],[Price]]","v":318}]
["2013-10-09",2013,10,"USA","Camera & Photo","FUJIFILM FINEPIX SL1000",1,330,{"$f":"Table1[[#This Row],[Count]]*Table1[[#This Row],[Price]]","v":330}]
["2013-10-09",2013,10,"Croatia","Camera & Photo","D3000 DIGITAL SLR",4,294,{"$f":"Table1[[#This Row],[Count]]*Table1[[#This Row],[Price]]","v":1176}]
["2013-10-09",2013,10,"Estonia","Tablet PCs","GOOWEEL Q88 PRO A23 DUAL CORE TABLET PC",4,198,{"$f":"Table1[[#This Row],[Count]]*Table1[[#This Row],[Price]]","v":792}]
["2013-10-10",2013,10,"Portugal","Tablet PCs","TABLET 10-INCH QUAD-CORE A9",1,162,{"$f":"Table1[[#This Row],[Count]]*Table1[[#This Row],[Price]]","v":162}]
["2013-10-10",2013,10,"Greece","Laptops","14INCH ULTRABOOK",3,234,{"$f":"Table1[[#This Row],[Count]]*Table1[[#This Row],[Price]]","v":702}]
["2013-10-10",2013,10,"USA","Workstations ","HZONE NCOMPUTING L230",3,354,{"$f":"Table1[[#This Row],[Count]]*Table1[[#This Row],[Price]]","v":1062}]
["2013-10-10",2013,10,"USA","Camera & Photo","D3000 DIGITAL SLR",5,294,{"$f":"Table1[[#This Row],[Count]]*Table1[[#This Row],[Price]]","v":1470}]
["2013-10-11",2013,10,"USA","Laptops","THINKPAD E445",4,222,{"$f":"Table1[[#This Row],[Count]]*Table1[[#This Row],[Price]]","v":888}]
["2013-10-11",2013,10,"Spain","Tablet PCs","7 INCH DUAL CORE ANDROID TABLET PC Q88",1,210,{"$f":"Table1[[#This Row],[Count]]*Table1[[#This Row],[Price]]","v":210}]
["2013-10-11",2013,10,"USA","Tablet PCs","ONDA V975M TABLET PC",2,150,{"$f":"Table1[[#This Row],[Count]]*Table1[[#This Row],[Price]]","v":300}]
["2013-10-11",2013,10,"USA","Camera & Photo","FUJIFILM FINEPIX SL1000",2,330,{"$f":"Table1[[#This Row],[Count]]*Table1[[#This Row],[Price]]","v":660}]
["2013-10-12",2013,10,"Macedonia","Laptops","Y10D 10 INCH VIA 8880",3,246,{"$f":"Table1[[#This Row],[Count]]*Table1[[#This Row],[Price]]","v":738}]
["2013-10-12",2013,10,"Denmark","Tablet PCs","ONDA V975M TABLET PC",4,150,{"$f":"Table1[[#This Row],[Count]]*Table1[[#This Row],[Price]]","v":600}]
["2013-10-12",2013,10,"Albania","Camera & Photo","D3200 DIGITAL SLR",1,306,{"$f":"Table1[[#This Row],[Count]]*Table1[[#This Row],[Price]]","v":306}]
["2013-10-12",2013,10,"USA","Workstations ","HIGH PERFORMANCE 4U LCD WORKSTATION C",1,366,{"$f":"Table1[[#This Row],[Count]]*Table1[[#This Row],[Price]]","v":366}]
["2013-10-13",2013,10,"USA","Laptops","THINKPAD E445",5,222,{"$f":"Table1[[#This Row],[Count]]*Table1[[#This Row],[Price]]","v":1110}]
["2013-10-13",2013,10,"Germany","Camera & Photo","D3200 DIGITAL SLR",3,306,{"$f":"Table1[[#This Row],[Count]]*Table1[[#This Row],[Price]]","v":918}]
["2013-10-13",2013,10,"Australia","Workstations ","HZONE NCOMPUTING L230",4,354,{"$f":"Table1[[#This Row],[Count]]*Table1[[#This Row],[Price]]","v":1416}]
["2013-10-13",2013,10,"USA","Laptops","THINKPAD E445",5,222,{"$f":"Table1[[#This Row],[Count]]*Table1[[#This Row],[Price]]","v":1110}]
["2013-10-14",2013,10,"USA","Camera & Photo","D3200 DIGITAL SLR",1,306,{"$f":"Table1[[#This Row],[Count]]*Table1[[#This Row],[Price]]","v":306}]
["2013-10-14",2013,10,"Montenegro","Workstations ","HIGH PERFORMANCE 4U LCD WORKSTATION C",4,366,{"$f":"Table1[[#This Row],[Count]]*Table1[[#This Row],[Price]]","v":1464}]
["2013-10-14",2013,10,"USA","Laptops","VIA 8850 ANDROID 4.0",1,282,{"$f":"Table1[[#This Row],[Count]]*Table1[[#This Row],[Price]]","v":282}]
["2013-10-14",2013,10,"Switzerland","Laptops","Y10D 10 INCH VIA 8880",2,246,{"$f":"Table1[[#This Row],[Count]]*Table1[[#This Row],[Price]]","v":492}]
["2013-10-15",2013,10,"USA","Laptops","VIA 8850 ANDROID 4.0",1,282,{"$f":"Table1[[#This Row],[Count]]*Table1[[#This Row],[Price]]","v":282}]
["2013-10-15",2013,10,"Georgia","Laptops","14.1\" AIR LAPTOP INTEL D2500",5,270,{"$f":"Table1[[#This Row],[Count]]*Table1[[#This Row],[Price]]","v":1350}]
["2013-10-15",2013,10,"France","Tablet PCs","ONDA V975M TABLET PC",4,150,{"$f":"Table1[[#This Row],[Count]]*Table1[[#This Row],[Price]]","v":600}]
["2013-10-15",2013,10,"USA","Tablet PCs","10 INCH TABLET HIGH QUALITY TABLET 1GB",4,174,{"$f":"Table1[[#This Row],[Count]]*Table1[[#This Row],[Price]]","v":696}]
["2013-10-16",2013,10,"USA","Workstations ","I7 MINI PC WITH HDMI QOTOM-T620",4,342,{"$f":"Table1[[#This Row],[Count]]*Table1[[#This Row],[Price]]","v":1368}]
["2013-10-16",2013,10,"USA","Workstations ","CLOUD COMPUTER THIN STATION FL300",4,390,{"$f":"Table1[[#This Row],[Count]]*Table1[[#This Row],[Price]]","v":1560}]
["2013-10-16",2013,10,"Australia","Laptops","VIA 8850 ANDROID 4.0",5,282,{"$f":"Table1[[#This Row],[Count]]*Table1[[#This Row],[Price]]","v":1410}]
["2013-10-16",2013,10,"Serbien und Montenegro","Tablet PCs","TABLET 10-INCH QUAD-CORE A9",5,162,{"$f":"Table1[[#This Row],[Count]]*Table1[[#This Row],[Price]]","v":810}]
["2013-10-17",2013,10,"USA","Tablet PCs","TABLET 10-INCH QUAD-CORE A9",3,162,{"$f":"Table1[[#This Row],[Count]]*Table1[[#This Row],[Price]]","v":486}]
["2013-10-17",2013,10,"USA","Camera & Photo","D3000 DIGITAL SLR",5,294,{"$f":"Table1[[#This Row],[Count]]*Table1[[#This Row],[Price]]","v":1470}]
["2013-10-17",2013,10,"USA","Workstations ","CLOUD COMPUTER THIN STATION FL300",4,390,{"$f":"Table1[[#This Row],[Count]]*Table1[[#This Row],[Price]]","v":1560}]
["2013-10-17",2013,10,"USA","Tablet PCs","PIPO M6 PRO 9.7 INCH 3G TABLET PC",1,186,{"$f":"Table1[[#This Row],[Count]]*Table1[[#This Row],[Price]]","v":186}]
["2013-10-18",2013,10,"USA","Laptops","THINKPAD E445",1,222,{"$f":"Table1[[#This Row],[Count]]*Table1[[#This Row],[Price]]","v":222}]
["2013-10-18",2013,10,"USA","Workstations ","HZONE NCOMPUTING L230",5,354,{"$f":"Table1[[#This Row],[Count]]*Table1[[#This Row],[Price]]","v":1770}]
["2013-10-18",2013,10,"Australia","Camera & Photo","D3000 DIGITAL SLR",3,294,{"$f":"Table1[[#This Row],[Count]]*Table1[[#This Row],[Price]]","v":882}]
["2013-10-18",2013,10,"Greece","Workstations ","HIGH PERFORMANCE 4U LCD WORKSTATION C",5,366,{"$f":"Table1[[#This Row],[Count]]*Table1[[#This Row],[Price]]","v":1830}]
["2013-10-19",2013,10,"United Kingdom","Camera & Photo","FUJIFILM FINEPIX SL1000",2,330,{"$f":"Table1[[#This Row],[Count]]*Table1[[#This Row],[Price]]","v":660}]
["2013-10-19",2013,10,"Latvia","Workstations ","CLOUD COMPUTER THIN STATION FL300",1,390,{"$f":"Table1[[#This Row],[Count]]*Table1[[#This Row],[Price]]","v":390}]
["2013-10-19",2013,10,"USA","Tablet PCs","PIPO M6 PRO 9.7 INCH 3G TABLET PC",1,186,{"$f":"Table1[[#This Row],[Count]]*Table1[[#This Row],[Price]]","v":186}]
["2013-10-19",2013,10,"USA","Camera & Photo","D3000 DIGITAL SLR",2,294,{"$f":"Table1[[#This Row],[Count]]*Table1[[#This Row],[Price]]","v":588}]
["2013-10-20",2013,10,"Bosnia And Herzegovina","Tablet PCs","7 INCH DUAL CORE ANDROID TABLET PC Q88",1,210,{"$f":"Table1[[#This Row],[Count]]*Table1[[#This Row],[Price]]","v":210}]
["2013-10-20",2013,10,"Bulgaria","Laptops","14.1\" AIR LAPTOP INTEL D2500",2,270,{"$f":"Table1[[#This Row],[Count]]*Table1[[#This Row],[Price]]","v":540}]
["2013-10-20",2013,10,"Romania","Laptops","14INCH ULTRABOOK",1,234,{"$f":"Table1[[#This Row],[Count]]*Table1[[#This Row],[Price]]","v":234}]
["2013-10-20",2013,10,"Belgium","Tablet PCs","TABLET 10-INCH QUAD-CORE A9",2,162,{"$f":"Table1[[#This Row],[Count]]*Table1[[#This Row],[Price]]","v":324}]
["2013-10-21",2013,10,"USA","Laptops","14INCH ULTRABOOK",2,234,{"$f":"Table1[[#This Row],[Count]]*Table1[[#This Row],[Price]]","v":468}]
["2013-10-21",2013,10,"Croatia","Tablet PCs","TABLET 10-INCH QUAD-CORE A9",1,162,{"$f":"Table1[[#This Row],[Count]]*Table1[[#This Row],[Price]]","v":162}]
["2013-10-21",2013,10,"Australia","Camera & Photo","D3000 DIGITAL SLR",2,294,{"$f":"Table1[[#This Row],[Count]]*Table1[[#This Row],[Price]]","v":588}]
["2013-10-21",2013,10,"USA","Laptops","THINKPAD T440S",4,258,{"$f":"Table1[[#This Row],[Count]]*Table1[[#This Row],[Price]]","v":1032}]
["2013-10-22",2013,10,"Sweden","Workstations ","I7 MINI PC WITH HDMI QOTOM-T620",3,342,{"$f":"Table1[[#This Row],[Count]]*Table1[[#This Row],[Price]]","v":1026}]
["2013-10-22",2013,10,"USA","Tablet PCs","7 INCH DUAL CORE ANDROID TABLET PC Q88",5,210,{"$f":"Table1[[#This Row],[Count]]*Table1[[#This Row],[Price]]","v":1050}]
["2013-10-22",2013,10,"USA","Camera & Photo","FUJIFILM FINEPIX SL1000",2,330,{"$f":"Table1[[#This Row],[Count]]*Table1[[#This Row],[Price]]","v":660}]
["2013-10-22",2013,10,"USA","Laptops","Y10D 10 INCH VIA 8880",2,246,{"$f":"Table1[[#This Row],[Count]]*Table1[[#This Row],[Price]]","v":492}]
["2013-10-23",2013,10,"United Kingdom","Laptops","14.1\" AIR LAPTOP INTEL D2500",5,270,{"$f":"Table1[[#This Row],[Count]]*Table1[[#This Row],[Price]]","v":1350}]
["2013-10-23",2013,10,"Italy","Camera & Photo","SONY CYBERSHOT H200",1,318,{"$f":"Table1[[#This Row],[Count]]*Table1[[#This Row],[Price]]","v":318}]
["2013-10-23",2013,10,"Finland","Tablet PCs","7 INCH DUAL CORE ANDROID TABLET PC Q88",3,210,{"$f":"Table1[[#This Row],[Count]]*Table1[[#This Row],[Price]]","v":630}]
["2013-10-23",2013,10,"USA","Workstations ","SUN BLADE 1500 WORKSTATION BASE SUN B1500",2,378,{"$f":"Table1[[#This Row],[Count]]*Table1[[#This Row],[Price]]","v":756}]
["2013-10-24",2013,10,"Bosnia And Herzegovina","Tablet PCs","PIPO M6 PRO 9.7 INCH 3G TABLET PC",5,186,{"$f":"Table1[[#This Row],[Count]]*Table1[[#This Row],[Price]]","v":930}]
["2013-10-24",2013,10,"USA","Laptops","14INCH ULTRABOOK",5,234,{"$f":"Table1[[#This Row],[Count]]*Table1[[#This Row],[Price]]","v":1170}]
["2013-10-24",2013,10,"USA","Tablet PCs","TABLET 10-INCH QUAD-CORE A9",3,162,{"$f":"Table1[[#This Row],[Count]]*Table1[[#This Row],[Price]]","v":486}]
["2013-10-24",2013,10,"Albania","Camera & Photo","FUJIFILM FINEPIX SL1000",5,330,{"$f":"Table1[[#This Row],[Count]]*Table1[[#This Row],[Price]]","v":1650}]
["2013-10-25",2013,10,"Malta","Tablet PCs","GOOWEEL Q88 PRO A23 DUAL CORE TABLET PC",3,198,{"$f":"Table1[[#This Row],[Count]]*Table1[[#This Row],[Price]]","v":594}]
["2013-10-25",2013,10,"Greece","Workstations ","I7 MINI PC WITH HDMI QOTOM-T620",3,342,{"$f":"Table1[[#This Row],[Count]]*Table1[[#This Row],[Price]]","v":1026}]
["2013-10-25",2013,10,"USA","Camera & Photo","D3200 DIGITAL SLR",2,306,{"$f":"Table1[[#This Row],[Count]]*Table1[[#This Row],[Price]]","v":612}]
["2013-10-25",2013,10,"Australia","Tablet PCs","PIPO M6 PRO 9.7 INCH 3G TABLET PC",4,186,{"$f":"Table1[[#This Row],[Count]]*Table1[[#This Row],[Price]]","v":744}]
["2013-10-26",2013,10,"Poland","Laptops","THINKPAD E445",5,222,{"$f":"Table1[[#This Row],[Count]]*Table1[[#This Row],[Price]]","v":1110}]
["2013-10-26",2013,10,"France","Laptops","Y10D 10 INCH VIA 8880",5,246,{"$f":"Table1[[#This Row],[Count]]*Table1[[#This Row],[Price]]","v":1230}]
["2013-10-26",2013,10,"USA","Laptops","14INCH ULTRABOOK",5,234,{"$f":"Table1[[#This Row],[Count]]*Table1[[#This Row],[Price]]","v":1170}]
["2013-10-26",2013,10,"USA","Tablet PCs","10 INCH TABLET HIGH QUALITY TABLET 1GB",2,174,{"$f":"Table1[[#This Row],[Count]]*Table1[[#This Row],[Price]]","v":348}]
["2013-10-27",2013,10,"USA","Tablet PCs","ONDA V975M TABLET PC",3,150,{"$f":"Table1[[#This Row],[Count]]*Table1[[#This Row],[Price]]","v":450}]
["2013-10-27",2013,10,"France","Camera & Photo","SONY CYBERSHOT H200",5,318,{"$f":"Table1[[#This Row],[Count]]*Table1[[#This Row],[Price]]","v":1590}]
["2013-10-27",2013,10,"Portugal","Laptops","14.1\" AIR LAPTOP INTEL D2500",3,270,{"$f":"Table1[[#This Row],[Count]]*Table1[[#This Row],[Price]]","v":810}]
["2013-10-27",2013,10,"USA","Workstations ","I7 MINI PC WITH HDMI QOTOM-T620",4,342,{"$f":"Table1[[#This Row],[Count]]*Table1[[#This Row],[Price]]","v":1368}]
["2013-10-28",2013,10,"United Kingdom","Camera & Photo","D3000 DIGITAL SLR",3,294,{"$f":"Table1[[#This Row],[Count]]*Table1[[#This Row],[Price]]","v":882}]
["2013-10-28",2013,10,"Macedonia","Tablet PCs","PIPO M6 PRO 9.7 INCH 3G TABLET PC",2,186,{"$f":"Table1[[#This Row],[Count]]*Table1[[#This Row],[Price]]","v":372}]
["2013-10-28",2013,10,"Netherlands","Tablet PCs","7 INCH DUAL CORE ANDROID TABLET PC Q88",5,210,{"$f":"Table1[[#This Row],[Count]]*Table1[[#This Row],[Price]]","v":1050}]
["2013-10-28",2013,10,"United Kingdom","Tablet PCs","7 INCH DUAL CORE ANDROID TABLET PC Q88",4,210,{"$f":"Table1[[#This Row],[Count]]*Table1[[#This Row],[Price]]","v":840}]
["2013-10-29",2013,10,"Andorra","Camera & Photo","D3000 DIGITAL SLR",5,294,{"$f":"Table1[[#This Row],[Count]]*Table1[[#This Row],[Price]]","v":1470}]
["2013-10-29",2013,10,"USA","Workstations ","CLOUD COMPUTER THIN STATION FL300",4,390,{"$f":"Table1[[#This Row],[Count]]*Table1[[#This Row],[Price]]","v":1560}]
["2013-10-29",2013,10,"USA","Camera & Photo","SONY CYBERSHOT H200",2,318,{"$f":"Table1[[#This Row],[Count]]*Table1[[#This Row],[Price]]","v":636}]
["2013-10-29",2013,10,"Australia","Camera & Photo","D3200 DIGITAL SLR",4,306,{"$f":"Table1[[#This Row],[Count]]*Table1[[#This Row],[Price]]","v":1224}]
["2013-10-30",2013,10,"Serbien und Montenegro","Workstations ","HZONE NCOMPUTING L230",1,354,{"$f":"Table1[[#This Row],[Count]]*Table1[[#This Row],[Price]]","v":354}]
["2013-10-30",2013,10,"Czech Republic","Camera & Photo","D3200 DIGITAL SLR",5,306,{"$f":"Table1[[#This Row],[Count]]*Table1[[#This Row],[Price]]","v":1530}]
["2013-10-30",2013,10,"Belarus","Laptops","VIA 8850 ANDROID 4.0",2,282,{"$f":"Table1[[#This Row],[Count]]*Table1[[#This Row],[Price]]","v":564}]
["2013-10-30",2013,10,"Ukraine","Workstations ","CLOUD COMPUTER THIN STATION FL300",5,390,{"$f":"Table1[[#This Row],[Count]]*Table1[[#This Row],[Price]]","v":1950}]
["2013-10-31",2013,10,"USA","Laptops","THINKPAD T440S",3,258,{"$f":"Table1[[#This Row],[Count]]*Table1[[#This Row],[Price]]","v":774}]
["2013-10-31",2013,10,"USA","Camera & Photo","D3200 DIGITAL SLR",1,306,{"$f":"Table1[[#This Row],[Count]]*Table1[[#This Row],[Price]]","v":306}]
["2013-10-31",2013,10,"Norway","Tablet PCs","7 INCH DUAL CORE ANDROID TABLET PC Q88",3,210,{"$f":"Table1[[#This Row],[Count]]*Table1[[#This Row],[Price]]","v":630}]
["2013-10-31",2013,10,"USA","Camera & Photo","D3000 DIGITAL SLR",5,294,{"$f":"Table1[[#This Row],[Count]]*Table1[[#This Row],[Price]]","v":1470}]
["2013-11-01",2013,11,"Ireland","Tablet PCs","ONDA V975M TABLET PC",5,150,{"$f":"Table1[[#This Row],[Count]]*Table1[[#This Row],[Price]]","v":750}]
["2013-11-01",2013,11,"USA","Workstations ","HZONE NCOMPUTING L230",1,354,{"$f":"Table1[[#This Row],[Count]]*Table1[[#This Row],[Price]]","v":354}]
["2013-11-01",2013,11,"Estonia","Laptops","THINKPAD T440S",4,258,{"$f":"Table1[[#This Row],[Count]]*Table1[[#This Row],[Price]]","v":1032}]
["2013-11-01",2013,11,"USA","Tablet PCs","PIPO M6 PRO 9.7 INCH 3G TABLET PC",2,186,{"$f":"Table1[[#This Row],[Count]]*Table1[[#This Row],[Price]]","v":372}]
["2013-11-02",2013,11,"USA","Laptops","THINKPAD E445",1,222,{"$f":"Table1[[#This Row],[Count]]*Table1[[#This Row],[Price]]","v":222}]
["2013-11-02",2013,11,"USA","Tablet PCs","PIPO M6 PRO 9.7 INCH 3G TABLET PC",5,186,{"$f":"Table1[[#This Row],[Count]]*Table1[[#This Row],[Price]]","v":930}]
["2013-11-02",2013,11,"USA","Workstations ","CLOUD COMPUTER THIN STATION FL300",4,390,{"$f":"Table1[[#This Row],[Count]]*Table1[[#This Row],[Price]]","v":1560}]
["2013-11-02",2013,11,"Luxembourg","Laptops","14INCH ULTRABOOK",5,234,{"$f":"Table1[[#This Row],[Count]]*Table1[[#This Row],[Price]]","v":1170}]
["2013-11-03",2013,11,"USA","Laptops","THINKPAD E445",5,222,{"$f":"Table1[[#This Row],[Count]]*Table1[[#This Row],[Price]]","v":1110}]
["2013-11-03",2013,11,"Sweden","Tablet PCs","PIPO M6 PRO 9.7 INCH 3G TABLET PC",5,186,{"$f":"Table1[[#This Row],[Count]]*Table1[[#This Row],[Price]]","v":930}]
["2013-11-03",2013,11,"Croatia","Laptops","THINKPAD E445",1,222,{"$f":"Table1[[#This Row],[Count]]*Table1[[#This Row],[Price]]","v":222}]
["2013-11-03",2013,11,"USA","Camera & Photo","D3200 DIGITAL SLR",4,306,{"$f":"Table1[[#This Row],[Count]]*Table1[[#This Row],[Price]]","v":1224}]
["2013-11-04",2013,11,"Moldova","Tablet PCs","10 INCH TABLET HIGH QUALITY TABLET 1GB",1,174,{"$f":"Table1[[#This Row],[Count]]*Table1[[#This Row],[Price]]","v":174}]
["2013-11-04",2013,11,"Germany","Laptops","14.1\" AIR LAPTOP INTEL D2500",3,270,{"$f":"Table1[[#This Row],[Count]]*Table1[[#This Row],[Price]]","v":810}]
["2013-11-04",2013,11,"Bulgaria","Laptops","14INCH ULTRABOOK",1,234,{"$f":"Table1[[#This Row],[Count]]*Table1[[#This Row],[Price]]","v":234}]
["2013-11-04",2013,11,"USA","Camera & Photo","D3200 DIGITAL SLR",2,306,{"$f":"Table1[[#This Row],[Count]]*Table1[[#This Row],[Price]]","v":612}]
["2013-11-05",2013,11,"USA","Laptops","VIA 8850 ANDROID 4.0",3,282,{"$f":"Table1[[#This Row],[Count]]*Table1[[#This Row],[Price]]","v":846}]
["2013-11-05",2013,11,"Macedonia","Tablet PCs","GOOWEEL Q88 PRO A23 DUAL CORE TABLET PC",2,198,{"$f":"Table1[[#This Row],[Count]]*Table1[[#This Row],[Price]]","v":396}]
["2013-11-05",2013,11,"USA","Laptops","THINKPAD T440S",4,258,{"$f":"Table1[[#This Row],[Count]]*Table1[[#This Row],[Price]]","v":1032}]
["2013-11-05",2013,11,"Spain","Tablet PCs","ONDA V975M TABLET PC",3,150,{"$f":"Table1[[#This Row],[Count]]*Table1[[#This Row],[Price]]","v":450}]
["2013-11-06",2013,11,"USA","Camera & Photo","D3000 DIGITAL SLR",5,294,{"$f":"Table1[[#This Row],[Count]]*Table1[[#This Row],[Price]]","v":1470}]
["2013-11-06",2013,11,"USA","Laptops","14INCH ULTRABOOK",1,234,{"$f":"Table1[[#This Row],[Count]]*Table1[[#This Row],[Price]]","v":234}]
["2013-11-06",2013,11,"Austria","Tablet PCs","TABLET 10-INCH QUAD-CORE A9",3,162,{"$f":"Table1[[#This Row],[Count]]*Table1[[#This Row],[Price]]","v":486}]
["2013-11-06",2013,11,"Austria","Tablet PCs","ONDA V975M TABLET PC",5,150,{"$f":"Table1[[#This Row],[Count]]*Table1[[#This Row],[Price]]","v":750}]
["2013-11-07",2013,11,"USA","Camera & Photo","D3000 DIGITAL SLR",1,294,{"$f":"Table1[[#This Row],[Count]]*Table1[[#This Row],[Price]]","v":294}]
["2013-11-07",2013,11,"USA","Camera & Photo","SONY CYBERSHOT H200",2,318,{"$f":"Table1[[#This Row],[Count]]*Table1[[#This Row],[Price]]","v":636}]
["2013-11-07",2013,11,"Slovakia","Workstations ","HIGH PERFORMANCE 4U LCD WORKSTATION C",4,366,{"$f":"Table1[[#This Row],[Count]]*Table1[[#This Row],[Price]]","v":1464}]
["2013-11-07",2013,11,"USA","Laptops","VIA 8850 ANDROID 4.0",4,282,{"$f":"Table1[[#This Row],[Count]]*Table1[[#This Row],[Price]]","v":1128}]
["2013-11-08",2013,11,"Ireland","Camera & Photo","D3200 DIGITAL SLR",2,306,{"$f":"Table1[[#This Row],[Count]]*Table1[[#This Row],[Price]]","v":612}]
["2013-11-08",2013,11,"Poland","Workstations ","HIGH PERFORMANCE 4U LCD WORKSTATION C",4,366,{"$f":"Table1[[#This Row],[Count]]*Table1[[#This Row],[Price]]","v":1464}]
["2013-11-08",2013,11,"USA","Laptops","Y10D 10 INCH VIA 8880",3,246,{"$f":"Table1[[#This Row],[Count]]*Table1[[#This Row],[Price]]","v":738}]
["2013-11-08",2013,11,"Ireland","Workstations ","HIGH PERFORMANCE 4U LCD WORKSTATION C",4,366,{"$f":"Table1[[#This Row],[Count]]*Table1[[#This Row],[Price]]","v":1464}]
["2013-11-09",2013,11,"Serbien und Montenegro","Tablet PCs","PIPO M6 PRO 9.7 INCH 3G TABLET PC",1,186,{"$f":"Table1[[#This Row],[Count]]*Table1[[#This Row],[Price]]","v":186}]
["2013-11-09",2013,11,"Italy","Workstations ","I7 MINI PC WITH HDMI QOTOM-T620",5,342,{"$f":"Table1[[#This Row],[Count]]*Table1[[#This Row],[Price]]","v":1710}]
["2013-11-09",2013,11,"Luxembourg","Laptops","VIA 8850 ANDROID 4.0",1,282,{"$f":"Table1[[#This Row],[Count]]*Table1[[#This Row],[Price]]","v":282}]
["2013-11-09",2013,11,"Slovenia","Workstations ","I7 MINI PC WITH HDMI QOTOM-T620",3,342,{"$f":"Table1[[#This Row],[Count]]*Table1[[#This Row],[Price]]","v":1026}]
["2013-11-10",2013,11,"United Kingdom","Laptops","THINKPAD E445",4,222,{"$f":"Table1[[#This Row],[Count]]*Table1[[#This Row],[Price]]","v":888}]
["2013-11-10",2013,11,"Sweden","Camera & Photo","D3200 DIGITAL SLR",2,306,{"$f":"Table1[[#This Row],[Count]]*Table1[[#This Row],[Price]]","v":612}]
["2013-11-10",2013,11,"USA","Workstations ","SUN BLADE 1500 WORKSTATION BASE SUN B1500",3,378,{"$f":"Table1[[#This Row],[Count]]*Table1[[#This Row],[Price]]","v":1134}]
["2013-11-10",2013,11,"Norway","Tablet PCs","TABLET 10-INCH QUAD-CORE A9",3,162,{"$f":"Table1[[#This Row],[Count]]*Table1[[#This Row],[Price]]","v":486}]
["2013-11-11",2013,11,"Australia","Camera & Photo","D3000 DIGITAL SLR",3,294,{"$f":"Table1[[#This Row],[Count]]*Table1[[#This Row],[Price]]","v":882}]
["2013-11-11",2013,11,"USA","Camera & Photo","SONY CYBERSHOT H200",2,318,{"$f":"Table1[[#This Row],[Count]]*Table1[[#This Row],[Price]]","v":636}]
["2013-11-11",2013,11,"Montenegro","Tablet PCs","PIPO M6 PRO 9.7 INCH 3G TABLET PC",4,186,{"$f":"Table1[[#This Row],[Count]]*Table1[[#This Row],[Price]]","v":744}]
["2013-11-11",2013,11,"USA","Tablet PCs","ONDA V975M TABLET PC",3,150,{"$f":"Table1[[#This Row],[Count]]*Table1[[#This Row],[Price]]","v":450}]
["2013-11-12",2013,11,"USA","Tablet PCs","7 INCH DUAL CORE ANDROID TABLET PC Q88",3,210,{"$f":"Table1[[#This Row],[Count]]*Table1[[#This Row],[Price]]","v":630}]
["2013-11-12",2013,11,"USA","Tablet PCs","10 INCH TABLET HIGH QUALITY TABLET 1GB",3,174,{"$f":"Table1[[#This Row],[Count]]*Table1[[#This Row],[Price]]","v":522}]
["2013-11-12",2013,11,"Austria","Tablet PCs","GOOWEEL Q88 PRO A23 DUAL CORE TABLET PC",1,198,{"$f":"Table1[[#This Row],[Count]]*Table1[[#This Row],[Price]]","v":198}]
["2013-11-12",2013,11,"USA","Workstations ","HZONE NCOMPUTING L230",4,354,{"$f":"Table1[[#This Row],[Count]]*Table1[[#This Row],[Price]]","v":1416}]
["2013-11-13",2013,11,"USA","Tablet PCs","10 INCH TABLET HIGH QUALITY TABLET 1GB",1,174,{"$f":"Table1[[#This Row],[Count]]*Table1[[#This Row],[Price]]","v":174}]
["2013-11-13",2013,11,"Luxembourg","Tablet PCs","10 INCH TABLET HIGH QUALITY TABLET 1GB",3,174,{"$f":"Table1[[#This Row],[Count]]*Table1[[#This Row],[Price]]","v":522}]
["2013-11-13",2013,11,"USA","Laptops","VIA 8850 ANDROID 4.0",4,282,{"$f":"Table1[[#This Row],[Count]]*Table1[[#This Row],[Price]]","v":1128}]
["2013-11-13",2013,11,"Liechtenstein","Laptops","Y10D 10 INCH VIA 8880",1,246,{"$f":"Table1[[#This Row],[Count]]*Table1[[#This Row],[Price]]","v":246}]
["2013-11-14",2013,11,"Germany","Workstations ","HZONE NCOMPUTING L230",1,354,{"$f":"Table1[[#This Row],[Count]]*Table1[[#This Row],[Price]]","v":354}]
["2013-11-14",2013,11,"USA","Tablet PCs","7 INCH DUAL CORE ANDROID TABLET PC Q88",1,210,{"$f":"Table1[[#This Row],[Count]]*Table1[[#This Row],[Price]]","v":210}]
["2013-11-14",2013,11,"Monaco","Laptops","14.1\" AIR LAPTOP INTEL D2500",5,270,{"$f":"Table1[[#This Row],[Count]]*Table1[[#This Row],[Price]]","v":1350}]
["2013-11-14",2013,11,"Netherlands","Tablet PCs","7 INCH DUAL CORE ANDROID TABLET PC Q88",2,210,{"$f":"Table1[[#This Row],[Count]]*Table1[[#This Row],[Price]]","v":420}]
["2013-11-15",2013,11,"France","Camera & Photo","D3000 DIGITAL SLR",1,294,{"$f":"Table1[[#This Row],[Count]]*Table1[[#This Row],[Price]]","v":294}]
["2013-11-15",2013,11,"USA","Workstations ","CLOUD COMPUTER THIN STATION FL300",1,390,{"$f":"Table1[[#This Row],[Count]]*Table1[[#This Row],[Price]]","v":390}]
["2013-11-15",2013,11,"Sweden","Tablet PCs","GOOWEEL Q88 PRO A23 DUAL CORE TABLET PC",5,198,{"$f":"Table1[[#This Row],[Count]]*Table1[[#This Row],[Price]]","v":990}]
["2013-11-15",2013,11,"USA","Tablet PCs","10 INCH TABLET HIGH QUALITY TABLET 1GB",1,174,{"$f":"Table1[[#This Row],[Count]]*Table1[[#This Row],[Price]]","v":174}]
["2013-11-16",2013,11,"USA","Workstations ","SUN BLADE 1500 WORKSTATION BASE SUN B1500",3,378,{"$f":"Table1[[#This Row],[Count]]*Table1[[#This Row],[Price]]","v":1134}]
["2013-11-16",2013,11,"Albania","Laptops","THINKPAD E445",5,222,{"$f":"Table1[[#This Row],[Count]]*Table1[[#This Row],[Price]]","v":1110}]
["2013-11-16",2013,11,"Portugal","Camera & Photo","D3000 DIGITAL SLR",5,294,{"$f":"Table1[[#This Row],[Count]]*Table1[[#This Row],[Price]]","v":1470}]
["2013-11-16",2013,11,"USA","Tablet PCs","10 INCH TABLET HIGH QUALITY TABLET 1GB",1,174,{"$f":"Table1[[#This Row],[Count]]*Table1[[#This Row],[Price]]","v":174}]
["2013-11-17",2013,11,"USA","Laptops","THINKPAD E445",2,222,{"$f":"Table1[[#This Row],[Count]]*Table1[[#This Row],[Price]]","v":444}]
["2013-11-17",2013,11,"USA","Laptops","Y10D 10 INCH VIA 8880",2,246,{"$f":"Table1[[#This Row],[Count]]*Table1[[#This Row],[Price]]","v":492}]
["2013-11-17",2013,11,"Australia","Laptops","THINKPAD T440S",2,258,{"$f":"Table1[[#This Row],[Count]]*Table1[[#This Row],[Price]]","v":516}]
["2013-11-17",2013,11,"Slovakia","Workstations ","CLOUD COMPUTER THIN STATION FL300",5,390,{"$f":"Table1[[#This Row],[Count]]*Table1[[#This Row],[Price]]","v":1950}]
["2013-11-18",2013,11,"Belgium","Tablet PCs","PIPO M6 PRO 9.7 INCH 3G TABLET PC",2,186,{"$f":"Table1[[#This Row],[Count]]*Table1[[#This Row],[Price]]","v":372}]
["2013-11-18",2013,11,"Lithuania","Workstations ","SUN BLADE 1500 WORKSTATION BASE SUN B1500",1,378,{"$f":"Table1[[#This Row],[Count]]*Table1[[#This Row],[Price]]","v":378}]
["2013-11-18",2013,11,"USA","Workstations ","HIGH PERFORMANCE 4U LCD WORKSTATION C",4,366,{"$f":"Table1[[#This Row],[Count]]*Table1[[#This Row],[Price]]","v":1464}]
["2013-11-18",2013,11,"USA","Laptops","14INCH ULTRABOOK",5,234,{"$f":"Table1[[#This Row],[Count]]*Table1[[#This Row],[Price]]","v":1170}]
["2013-11-19",2013,11,"USA","Tablet PCs","ONDA V975M TABLET PC",1,150,{"$f":"Table1[[#This Row],[Count]]*Table1[[#This Row],[Price]]","v":150}]
["2013-11-19",2013,11,"USA","Workstations ","I7 MINI PC WITH HDMI QOTOM-T620",4,342,{"$f":"Table1[[#This Row],[Count]]*Table1[[#This Row],[Price]]","v":1368}]
["2013-11-19",2013,11,"USA","Workstations ","HIGH PERFORMANCE 4U LCD WORKSTATION C",3,366,{"$f":"Table1[[#This Row],[Count]]*Table1[[#This Row],[Price]]","v":1098}]
["2013-11-19",2013,11,"USA","Camera & Photo","FUJIFILM FINEPIX SL1000",1,330,{"$f":"Table1[[#This Row],[Count]]*Table1[[#This Row],[Price]]","v":330}]
["2013-11-20",2013,11,"Australia","Tablet PCs","ONDA V975M TABLET PC",4,150,{"$f":"Table1[[#This Row],[Count]]*Table1[[#This Row],[Price]]","v":600}]
["2013-11-20",2013,11,"Georgia","Workstations ","HIGH PERFORMANCE 4U LCD WORKSTATION C",1,366,{"$f":"Table1[[#This Row],[Count]]*Table1[[#This Row],[Price]]","v":366}]
["2013-11-20",2013,11,"Ireland","Workstations ","I7 MINI PC WITH HDMI QOTOM-T620",3,342,{"$f":"Table1[[#This Row],[Count]]*Table1[[#This Row],[Price]]","v":1026}]
["2013-11-20",2013,11,"USA","Laptops","14.1\" AIR LAPTOP INTEL D2500",2,270,{"$f":"Table1[[#This Row],[Count]]*Table1[[#This Row],[Price]]","v":540}]
["2013-11-21",2013,11,"Australia","Laptops","Y10D 10 INCH VIA 8880",4,246,{"$f":"Table1[[#This Row],[Count]]*Table1[[#This Row],[Price]]","v":984}]
["2013-11-21",2013,11,"USA","Tablet PCs","7 INCH DUAL CORE ANDROID TABLET PC Q88",5,210,{"$f":"Table1[[#This Row],[Count]]*Table1[[#This Row],[Price]]","v":1050}]
["2013-11-21",2013,11,"Portugal","Laptops","14INCH ULTRABOOK",4,234,{"$f":"Table1[[#This Row],[Count]]*Table1[[#This Row],[Price]]","v":936}]
["2013-11-21",2013,11,"Czech Republic","Workstations ","HZONE NCOMPUTING L230",4,354,{"$f":"Table1[[#This Row],[Count]]*Table1[[#This Row],[Price]]","v":1416}]
["2013-11-22",2013,11,"Belarus","Workstations ","SUN BLADE 1500 WORKSTATION BASE SUN B1500",1,378,{"$f":"Table1[[#This Row],[Count]]*Table1[[#This Row],[Price]]","v":378}]
["2013-11-22",2013,11,"Monaco","Workstations ","HIGH PERFORMANCE 4U LCD WORKSTATION C",3,366,{"$f":"Table1[[#This Row],[Count]]*Table1[[#This Row],[Price]]","v":1098}]
["2013-11-22",2013,11,"Finland","Tablet PCs","7 INCH DUAL CORE ANDROID TABLET PC Q88",2,210,{"$f":"Table1[[#This Row],[Count]]*Table1[[#This Row],[Price]]","v":420}]
["2013-11-22",2013,11,"USA","Tablet PCs","PIPO M6 PRO 9.7 INCH 3G TABLET PC",2,186,{"$f":"Table1[[#This Row],[Count]]*Table1[[#This Row],[Price]]","v":372}]
["2013-11-23",2013,11,"USA","Tablet PCs","10 INCH TABLET HIGH QUALITY TABLET 1GB",5,174,{"$f":"Table1[[#This Row],[Count]]*Table1[[#This Row],[Price]]","v":870}]
["2013-11-23",2013,11,"Italy","Workstations ","CLOUD COMPUTER THIN STATION FL300",2,390,{"$f":"Table1[[#This Row],[Count]]*Table1[[#This Row],[Price]]","v":780}]
["2013-11-23",2013,11,"Germany","Tablet PCs","GOOWEEL Q88 PRO A23 DUAL CORE TABLET PC",4,198,{"$f":"Table1[[#This Row],[Count]]*Table1[[#This Row],[Price]]","v":792}]
["2013-11-23",2013,11,"USA","Laptops","VIA 8850 ANDROID 4.0",3,282,{"$f":"Table1[[#This Row],[Count]]*Table1[[#This Row],[Price]]","v":846}]
["2013-11-24",2013,11,"Croatia","Camera & Photo","FUJIFILM FINEPIX SL1000",1,330,{"$f":"Table1[[#This Row],[Count]]*Table1[[#This Row],[Price]]","v":330}]
["2013-11-24",2013,11,"Serbien und Montenegro","Camera & Photo","SONY CYBERSHOT H200",4,318,{"$f":"Table1[[#This Row],[Count]]*Table1[[#This Row],[Price]]","v":1272}]
["2013-11-24",2013,11,"Australia","Tablet PCs","10 INCH TABLET HIGH QUALITY TABLET 1GB",2,174,{"$f":"Table1[[#This Row],[Count]]*Table1[[#This Row],[Price]]","v":348}]
["2013-11-24",2013,11,"USA","Tablet PCs","10 INCH TABLET HIGH QUALITY TABLET 1GB",2,174,{"$f":"Table1[[#This Row],[Count]]*Table1[[#This Row],[Price]]","v":348}]
["2013-11-25",2013,11,"USA","Camera & Photo","D3200 DIGITAL SLR",2,306,{"$f":"Table1[[#This Row],[Count]]*Table1[[#This Row],[Price]]","v":612}]
["2013-11-25",2013,11,"USA","Tablet PCs","7 INCH DUAL CORE ANDROID TABLET PC Q88",5,210,{"$f":"Table1[[#This Row],[Count]]*Table1[[#This Row],[Price]]","v":1050}]
["2013-11-25",2013,11,"Latvia","Tablet PCs","GOOWEEL Q88 PRO A23 DUAL CORE TABLET PC",1,198,{"$f":"Table1[[#This Row],[Count]]*Table1[[#This Row],[Price]]","v":198}]
["2013-11-25",2013,11,"Greece","Tablet PCs","ONDA V975M TABLET PC",1,150,{"$f":"Table1[[#This Row],[Count]]*Table1[[#This Row],[Price]]","v":150}]
["2013-11-26",2013,11,"Luxembourg","Workstations ","I7 MINI PC WITH HDMI QOTOM-T620",3,342,{"$f":"Table1[[#This Row],[Count]]*Table1[[#This Row],[Price]]","v":1026}]
["2013-11-26",2013,11,"Denmark","Workstations ","CLOUD COMPUTER THIN STATION FL300",3,390,{"$f":"Table1[[#This Row],[Count]]*Table1[[#This Row],[Price]]","v":1170}]
["2013-11-26",2013,11,"USA","Camera & Photo","D3000 DIGITAL SLR",5,294,{"$f":"Table1[[#This Row],[Count]]*Table1[[#This Row],[Price]]","v":1470}]
["2013-11-26",2013,11,"Latvia","Tablet PCs","7 INCH DUAL CORE ANDROID TABLET PC Q88",2,210,{"$f":"Table1[[#This Row],[Count]]*Table1[[#This Row],[Price]]","v":420}]
["2013-11-27",2013,11,"USA","Camera & Photo","SONY CYBERSHOT H200",3,318,{"$f":"Table1[[#This Row],[Count]]*Table1[[#This Row],[Price]]","v":954}]
["2013-11-27",2013,11,"USA","Camera & Photo","SONY CYBERSHOT H200",4,318,{"$f":"Table1[[#This Row],[Count]]*Table1[[#This Row],[Price]]","v":1272}]
["2013-11-27",2013,11,"Slovakia","Tablet PCs","10 INCH TABLET HIGH QUALITY TABLET 1GB",5,174,{"$f":"Table1[[#This Row],[Count]]*Table1[[#This Row],[Price]]","v":870}]
["2013-11-27",2013,11,"Switzerland","Tablet PCs","PIPO M6 PRO 9.7 INCH 3G TABLET PC",5,186,{"$f":"Table1[[#This Row],[Count]]*Table1[[#This Row],[Price]]","v":930}]
["2013-11-28",2013,11,"Slovakia","Tablet PCs","7 INCH DUAL CORE ANDROID TABLET PC Q88",5,210,{"$f":"Table1[[#This Row],[Count]]*Table1[[#This Row],[Price]]","v":1050}]
["2013-11-28",2013,11,"Australia","Workstations ","CLOUD COMPUTER THIN STATION FL300",5,390,{"$f":"Table1[[#This Row],[Count]]*Table1[[#This Row],[Price]]","v":1950}]
["2013-11-28",2013,11,"USA","Workstations ","CLOUD COMPUTER THIN STATION FL300",4,390,{"$f":"Table1[[#This Row],[Count]]*Table1[[#This Row],[Price]]","v":1560}]
["2013-11-28",2013,11,"USA","Tablet PCs","10 INCH TABLET HIGH QUALITY TABLET 1GB",2,174,{"$f":"Table1[[#This Row],[Count]]*Table1[[#This Row],[Price]]","v":348}]
["2013-11-29",2013,11,"USA","Camera & Photo","FUJIFILM FINEPIX SL1000",5,330,{"$f":"Table1[[#This Row],[Count]]*Table1[[#This Row],[Price]]","v":1650}]
["2013-11-29",2013,11,"Slovakia","Laptops","VIA 8850 ANDROID 4.0",3,282,{"$f":"Table1[[#This Row],[Count]]*Table1[[#This Row],[Price]]","v":846}]
["2013-11-29",2013,11,"Poland","Laptops","Y10D 10 INCH VIA 8880",4,246,{"$f":"Table1[[#This Row],[Count]]*Table1[[#This Row],[Price]]","v":984}]
["2013-11-29",2013,11,"USA","Workstations ","HIGH PERFORMANCE 4U LCD WORKSTATION C",4,366,{"$f":"Table1[[#This Row],[Count]]*Table1[[#This Row],[Price]]","v":1464}]
["2013-11-30",2013,11,"Australia","Laptops","THINKPAD E445",2,222,{"$f":"Table1[[#This Row],[Count]]*Table1[[#This Row],[Price]]","v":444}]
["2013-11-30",2013,11,"Spain","Tablet PCs","TABLET 10-INCH QUAD-CORE A9",3,162,{"$f":"Table1[[#This Row],[Count]]*Table1[[#This Row],[Price]]","v":486}]
["2013-11-30",2013,11,"USA","Laptops","VIA 8850 ANDROID 4.0",2,282,{"$f":"Table1[[#This Row],[Count]]*Table1[[#This Row],[Price]]","v":564}]
["2013-11-30",2013,11,"Netherlands","Camera & Photo","D3000 DIGITAL SLR",4,294,{"$f":"Table1[[#This Row],[Count]]*Table1[[#This Row],[Price]]","v":1176}]
["2013-12-01",2013,12,"Italy","Laptops","VIA 8850 ANDROID 4.0",1,282,{"$f":"Table1[[#This Row],[Count]]*Table1[[#This Row],[Price]]","v":282}]
["2013-12-01",2013,12,"Macedonia","Laptops","14INCH ULTRABOOK",2,234,{"$f":"Table1[[#This Row],[Count]]*Table1[[#This Row],[Price]]","v":468}]
["2013-12-01",2013,12,"Croatia","Workstations ","CLOUD COMPUTER THIN STATION FL300",2,390,{"$f":"Table1[[#This Row],[Count]]*Table1[[#This Row],[Price]]","v":780}]
["2013-12-01",2013,12,"USA","Tablet PCs","7 INCH DUAL CORE ANDROID TABLET PC Q88",4,210,{"$f":"Table1[[#This Row],[Count]]*Table1[[#This Row],[Price]]","v":840}]
["2013-12-02",2013,12,"USA","Camera & Photo","D3000 DIGITAL SLR",2,294,{"$f":"Table1[[#This Row],[Count]]*Table1[[#This Row],[Price]]","v":588}]
["2013-12-02",2013,12,"Austria","Workstations ","HZONE NCOMPUTING L230",4,354,{"$f":"Table1[[#This Row],[Count]]*Table1[[#This Row],[Price]]","v":1416}]
["2013-12-02",2013,12,"Moldova","Workstations ","SUN BLADE 1500 WORKSTATION BASE SUN B1500",1,378,{"$f":"Table1[[#This Row],[Count]]*Table1[[#This Row],[Price]]","v":378}]
["2013-12-02",2013,12,"Romania","Laptops","VIA 8850 ANDROID 4.0",2,282,{"$f":"Table1[[#This Row],[Count]]*Table1[[#This Row],[Price]]","v":564}]
["2013-12-03",2013,12,"USA","Tablet PCs","TABLET 10-INCH QUAD-CORE A9",2,162,{"$f":"Table1[[#This Row],[Count]]*Table1[[#This Row],[Price]]","v":324}]
["2013-12-03",2013,12,"USA","Tablet PCs","GOOWEEL Q88 PRO A23 DUAL CORE TABLET PC",3,198,{"$f":"Table1[[#This Row],[Count]]*Table1[[#This Row],[Price]]","v":594}]
["2013-12-03",2013,12,"Croatia","Tablet PCs","7 INCH DUAL CORE ANDROID TABLET PC Q88",4,210,{"$f":"Table1[[#This Row],[Count]]*Table1[[#This Row],[Price]]","v":840}]
["2013-12-03",2013,12,"USA","Laptops","14INCH ULTRABOOK",2,234,{"$f":"Table1[[#This Row],[Count]]*Table1[[#This Row],[Price]]","v":468}]
["2013-12-04",2013,12,"Finland","Workstations ","SUN BLADE 1500 WORKSTATION BASE SUN B1500",2,378,{"$f":"Table1[[#This Row],[Count]]*Table1[[#This Row],[Price]]","v":756}]
["2013-12-04",2013,12,"Romania","Laptops","Y10D 10 INCH VIA 8880",1,246,{"$f":"Table1[[#This Row],[Count]]*Table1[[#This Row],[Price]]","v":246}]
["2013-12-04",2013,12,"Spain","Laptops","THINKPAD T440S",1,258,{"$f":"Table1[[#This Row],[Count]]*Table1[[#This Row],[Price]]","v":258}]
["2013-12-04",2013,12,"USA","Workstations ","HZONE NCOMPUTING L230",3,354,{"$f":"Table1[[#This Row],[Count]]*Table1[[#This Row],[Price]]","v":1062}]
["2013-12-05",2013,12,"Switzerland","Tablet PCs","TABLET 10-INCH QUAD-CORE A9",2,162,{"$f":"Table1[[#This Row],[Count]]*Table1[[#This Row],[Price]]","v":324}]
["2013-12-05",2013,12,"Latvia","Tablet PCs","ONDA V975M TABLET PC",2,150,{"$f":"Table1[[#This Row],[Count]]*Table1[[#This Row],[Price]]","v":300}]
["2013-12-05",2013,12,"Switzerland","Camera & Photo","FUJIFILM FINEPIX SL1000",4,330,{"$f":"Table1[[#This Row],[Count]]*Table1[[#This Row],[Price]]","v":1320}]
["2013-12-05",2013,12,"USA","Tablet PCs","7 INCH DUAL CORE ANDROID TABLET PC Q88",4,210,{"$f":"Table1[[#This Row],[Count]]*Table1[[#This Row],[Price]]","v":840}]
["2013-12-06",2013,12,"Australia","Workstations ","I7 MINI PC WITH HDMI QOTOM-T620",2,342,{"$f":"Table1[[#This Row],[Count]]*Table1[[#This Row],[Price]]","v":684}]
["2013-12-06",2013,12,"USA","Laptops","THINKPAD T440S",4,258,{"$f":"Table1[[#This Row],[Count]]*Table1[[#This Row],[Price]]","v":1032}]
["2013-12-06",2013,12,"USA","Laptops","THINKPAD T440S",3,258,{"$f":"Table1[[#This Row],[Count]]*Table1[[#This Row],[Price]]","v":774}]
["2013-12-06",2013,12,"Luxembourg","Workstations ","SUN BLADE 1500 WORKSTATION BASE SUN B1500",1,378,{"$f":"Table1[[#This Row],[Count]]*Table1[[#This Row],[Price]]","v":378}]
["2013-12-07",2013,12,"Australia","Tablet PCs","ONDA V975M TABLET PC",3,150,{"$f":"Table1[[#This Row],[Count]]*Table1[[#This Row],[Price]]","v":450}]
["2013-12-07",2013,12,"USA","Workstations ","I7 MINI PC WITH HDMI QOTOM-T620",5,342,{"$f":"Table1[[#This Row],[Count]]*Table1[[#This Row],[Price]]","v":1710}]
["2013-12-07",2013,12,"Liechtenstein","Camera & Photo","D3000 DIGITAL SLR",3,294,{"$f":"Table1[[#This Row],[Count]]*Table1[[#This Row],[Price]]","v":882}]
["2013-12-07",2013,12,"USA","Laptops","Y10D 10 INCH VIA 8880",4,246,{"$f":"Table1[[#This Row],[Count]]*Table1[[#This Row],[Price]]","v":984}]
["2013-12-08",2013,12,"Moldova","Workstations ","HIGH PERFORMANCE 4U LCD WORKSTATION C",1,366,{"$f":"Table1[[#This Row],[Count]]*Table1[[#This Row],[Price]]","v":366}]
["2013-12-08",2013,12,"USA","Workstations ","CLOUD COMPUTER THIN STATION FL300",2,390,{"$f":"Table1[[#This Row],[Count]]*Table1[[#This Row],[Price]]","v":780}]
["2013-12-08",2013,12,"Greece","Camera & Photo","D3200 DIGITAL SLR",3,306,{"$f":"Table1[[#This Row],[Count]]*Table1[[#This Row],[Price]]","v":918}]
["2013-12-08",2013,12,"USA","Camera & Photo","D3000 DIGITAL SLR",4,294,{"$f":"Table1[[#This Row],[Count]]*Table1[[#This Row],[Price]]","v":1176}]
["2013-12-09",2013,12,"Netherlands","Laptops","14.1\" AIR LAPTOP INTEL D2500",1,270,{"$f":"Table1[[#This Row],[Count]]*Table1[[#This Row],[Price]]","v":270}]
["2013-12-09",2013,12,"Malta","Tablet PCs","10 INCH TABLET HIGH QUALITY TABLET 1GB",5,174,{"$f":"Table1[[#This Row],[Count]]*Table1[[#This Row],[Price]]","v":870}]
["2013-12-09",2013,12,"USA","Workstations ","SUN BLADE 1500 WORKSTATION BASE SUN B1500",4,378,{"$f":"Table1[[#This Row],[Count]]*Table1[[#This Row],[Price]]","v":1512}]
["2013-12-09",2013,12,"Lithuania","Laptops","THINKPAD E445",3,222,{"$f":"Table1[[#This Row],[Count]]*Table1[[#This Row],[Price]]","v":666}]
["2013-12-10",2013,12,"Romania","Laptops","14INCH ULTRABOOK",2,234,{"$f":"Table1[[#This Row],[Count]]*Table1[[#This Row],[Price]]","v":468}]
["2013-12-10",2013,12,"USA","Workstations ","SUN BLADE 1500 WORKSTATION BASE SUN B1500",4,378,{"$f":"Table1[[#This Row],[Count]]*Table1[[#This Row],[Price]]","v":1512}]
["2013-12-10",2013,12,"Monaco","Workstations ","HZONE NCOMPUTING L230",3,354,{"$f":"Table1[[#This Row],[Count]]*Table1[[#This Row],[Price]]","v":1062}]
["2013-12-10",2013,12,"Denmark","Laptops","THINKPAD T440S",3,258,{"$f":"Table1[[#This Row],[Count]]*Table1[[#This Row],[Price]]","v":774}]
["2013-12-11",2013,12,"Slovakia","Laptops","Y10D 10 INCH VIA 8880",1,246,{"$f":"Table1[[#This Row],[Count]]*Table1[[#This Row],[Price]]","v":246}]
["2013-12-11",2013,12,"Ukraine","Tablet PCs","TABLET 10-INCH QUAD-CORE A9",2,162,{"$f":"Table1[[#This Row],[Count]]*Table1[[#This Row],[Price]]","v":324}]
["2013-12-11",2013,12,"Latvia","Camera & Photo","D3200 DIGITAL SLR",2,306,{"$f":"Table1[[#This Row],[Count]]*Table1[[#This Row],[Price]]","v":612}]
["2013-12-11",2013,12,"Italy","Workstations ","SUN BLADE 1500 WORKSTATION BASE SUN B1500",3,378,{"$f":"Table1[[#This Row],[Count]]*Table1[[#This Row],[Price]]","v":1134}]
["2013-12-12",2013,12,"Netherlands","Tablet PCs","GOOWEEL Q88 PRO A23 DUAL CORE TABLET PC",2,198,{"$f":"Table1[[#This Row],[Count]]*Table1[[#This Row],[Price]]","v":396}]
["2013-12-12",2013,12,"Slovenia","Camera & Photo","D3000 DIGITAL SLR",2,294,{"$f":"Table1[[#This Row],[Count]]*Table1[[#This Row],[Price]]","v":588}]
["2013-12-12",2013,12,"USA","Tablet PCs","10 INCH TABLET HIGH QUALITY TABLET 1GB",3,174,{"$f":"Table1[[#This Row],[Count]]*Table1[[#This Row],[Price]]","v":522}]
["2013-12-12",2013,12,"Ireland","Laptops","VIA 8850 ANDROID 4.0",3,282,{"$f":"Table1[[#This Row],[Count]]*Table1[[#This Row],[Price]]","v":846}]
["2013-12-13",2013,12,"USA","Camera & Photo","FUJIFILM FINEPIX SL1000",4,330,{"$f":"Table1[[#This Row],[Count]]*Table1[[#This Row],[Price]]","v":1320}]
["2013-12-13",2013,12,"Sweden","Tablet PCs","10 INCH TABLET HIGH QUALITY TABLET 1GB",1,174,{"$f":"Table1[[#This Row],[Count]]*Table1[[#This Row],[Price]]","v":174}]
["2013-12-13",2013,12,"Serbien und Montenegro","Laptops","14INCH ULTRABOOK",5,234,{"$f":"Table1[[#This Row],[Count]]*Table1[[#This Row],[Price]]","v":1170}]
["2013-12-13",2013,12,"Spain","Tablet PCs","PIPO M6 PRO 9.7 INCH 3G TABLET PC",2,186,{"$f":"Table1[[#This Row],[Count]]*Table1[[#This Row],[Price]]","v":372}]
["2013-12-14",2013,12,"Montenegro","Laptops","THINKPAD T440S",1,258,{"$f":"Table1[[#This Row],[Count]]*Table1[[#This Row],[Price]]","v":258}]
["2013-12-14",2013,12,"Lithuania","Workstations ","HIGH PERFORMANCE 4U LCD WORKSTATION C",1,366,{"$f":"Table1[[#This Row],[Count]]*Table1[[#This Row],[Price]]","v":366}]
["2013-12-14",2013,12,"USA","Tablet PCs","TABLET 10-INCH QUAD-CORE A9",3,162,{"$f":"Table1[[#This Row],[Count]]*Table1[[#This Row],[Price]]","v":486}]
["2013-12-14",2013,12,"Australia","Laptops","VIA 8850 ANDROID 4.0",1,282,{"$f":"Table1[[#This Row],[Count]]*Table1[[#This Row],[Price]]","v":282}]
["2013-12-15",2013,12,"Croatia","Tablet PCs","ONDA V975M TABLET PC",4,150,{"$f":"Table1[[#This Row],[Count]]*Table1[[#This Row],[Price]]","v":600}]
["2013-12-15",2013,12,"Poland","Laptops","14.1\" AIR LAPTOP INTEL D2500",5,270,{"$f":"Table1[[#This Row],[Count]]*Table1[[#This Row],[Price]]","v":1350}]
["2013-12-15",2013,12,"USA","Workstations ","I7 MINI PC WITH HDMI QOTOM-T620",4,342,{"$f":"Table1[[#This Row],[Count]]*Table1[[#This Row],[Price]]","v":1368}]
["2013-12-15",2013,12,"USA","Workstations ","SUN BLADE 1500 WORKSTATION BASE SUN B1500",5,378,{"$f":"Table1[[#This Row],[Count]]*Table1[[#This Row],[Price]]","v":1890}]
["2013-12-16",2013,12,"Latvia","Laptops","Y10D 10 INCH VIA 8880",4,246,{"$f":"Table1[[#This Row],[Count]]*Table1[[#This Row],[Price]]","v":984}]
["2013-12-16",2013,12,"Luxembourg","Workstations ","HZONE NCOMPUTING L230",5,354,{"$f":"Table1[[#This Row],[Count]]*Table1[[#This Row],[Price]]","v":1770}]
["2013-12-16",2013,12,"USA","Camera & Photo","FUJIFILM FINEPIX SL1000",5,330,{"$f":"Table1[[#This Row],[Count]]*Table1[[#This Row],[Price]]","v":1650}]
["2013-12-16",2013,12,"Ireland","Camera & Photo","D3200 DIGITAL SLR",2,306,{"$f":"Table1[[#This Row],[Count]]*Table1[[#This Row],[Price]]","v":612}]
["2013-12-17",2013,12,"Liechtenstein","Workstations ","HIGH PERFORMANCE 4U LCD WORKSTATION C",5,366,{"$f":"Table1[[#This Row],[Count]]*Table1[[#This Row],[Price]]","v":1830}]
["2013-12-17",2013,12,"Estonia","Tablet PCs","TABLET 10-INCH QUAD-CORE A9",5,162,{"$f":"Table1[[#This Row],[Count]]*Table1[[#This Row],[Price]]","v":810}]
["2013-12-17",2013,12,"USA","Tablet PCs","10 INCH TABLET HIGH QUALITY TABLET 1GB",3,174,{"$f":"Table1[[#This Row],[Count]]*Table1[[#This Row],[Price]]","v":522}]
["2013-12-17",2013,12,"United Kingdom","Workstations ","CLOUD COMPUTER THIN STATION FL300",2,390,{"$f":"Table1[[#This Row],[Count]]*Table1[[#This Row],[Price]]","v":780}]
["2013-12-18",2013,12,"Australia","Laptops","14INCH ULTRABOOK",2,234,{"$f":"Table1[[#This Row],[Count]]*Table1[[#This Row],[Price]]","v":468}]
["2013-12-18",2013,12,"Estonia","Workstations ","CLOUD COMPUTER THIN STATION FL300",4,390,{"$f":"Table1[[#This Row],[Count]]*Table1[[#This Row],[Price]]","v":1560}]
["2013-12-18",2013,12,"Monaco","Workstations ","HIGH PERFORMANCE 4U LCD WORKSTATION C",5,366,{"$f":"Table1[[#This Row],[Count]]*Table1[[#This Row],[Price]]","v":1830}]
["2013-12-18",2013,12,"USA","Tablet PCs","PIPO M6 PRO 9.7 INCH 3G TABLET PC",4,186,{"$f":"Table1[[#This Row],[Count]]*Table1[[#This Row],[Price]]","v":744}]
["2013-12-19",2013,12,"USA","Workstations ","HIGH PERFORMANCE 4U LCD WORKSTATION C",4,366,{"$f":"Table1[[#This Row],[Count]]*Table1[[#This Row],[Price]]","v":1464}]
["2013-12-19",2013,12,"Moldova","Tablet PCs","7 INCH DUAL CORE ANDROID TABLET PC Q88",2,210,{"$f":"Table1[[#This Row],[Count]]*Table1[[#This Row],[Price]]","v":420}]
["2013-12-19",2013,12,"USA","Workstations ","CLOUD COMPUTER THIN STATION FL300",5,390,{"$f":"Table1[[#This Row],[Count]]*Table1[[#This Row],[Price]]","v":1950}]
["2013-12-19",2013,12,"Malta","Workstations ","HZONE NCOMPUTING L230",2,354,{"$f":"Table1[[#This Row],[Count]]*Table1[[#This Row],[Price]]","v":708}]
["2013-12-20",2013,12,"USA","Camera & Photo","D3000 DIGITAL SLR",4,294,{"$f":"Table1[[#This Row],[Count]]*Table1[[#This Row],[Price]]","v":1176}]
["2013-12-20",2013,12,"Poland","Workstations ","HZONE NCOMPUTING L230",1,354,{"$f":"Table1[[#This Row],[Count]]*Table1[[#This Row],[Price]]","v":354}]
["2013-12-20",2013,12,"Bosnia And Herzegovina","Laptops","VIA 8850 ANDROID 4.0",4,282,{"$f":"Table1[[#This Row],[Count]]*Table1[[#This Row],[Price]]","v":1128}]
["2013-12-20",2013,12,"USA","Workstations ","I7 MINI PC WITH HDMI QOTOM-T620",1,342,{"$f":"Table1[[#This Row],[Count]]*Table1[[#This Row],[Price]]","v":342}]
["2013-12-21",2013,12,"Hungary","Laptops","VIA 8850 ANDROID 4.0",1,282,{"$f":"Table1[[#This Row],[Count]]*Table1[[#This Row],[Price]]","v":282}]
["2013-12-21",2013,12,"USA","Workstations ","HZONE NCOMPUTING L230",1,354,{"$f":"Table1[[#This Row],[Count]]*Table1[[#This Row],[Price]]","v":354}]
["2013-12-21",2013,12,"Ukraine","Laptops","14INCH ULTRABOOK",4,234,{"$f":"Table1[[#This Row],[Count]]*Table1[[#This Row],[Price]]","v":936}]
["2013-12-21",2013,12,"Macedonia","Camera & Photo","FUJIFILM FINEPIX SL1000",2,330,{"$f":"Table1[[#This Row],[Count]]*Table1[[#This Row],[Price]]","v":660}]
["2013-12-22",2013,12,"USA","Camera & Photo","SONY CYBERSHOT H200",5,318,{"$f":"Table1[[#This Row],[Count]]*Table1[[#This Row],[Price]]","v":1590}]
["2013-12-22",2013,12,"USA","Workstations ","CLOUD COMPUTER THIN STATION FL300",3,390,{"$f":"Table1[[#This Row],[Count]]*Table1[[#This Row],[Price]]","v":1170}]
["2013-12-22",2013,12,"USA","Tablet PCs","TABLET 10-INCH QUAD-CORE A9",5,162,{"$f":"Table1[[#This Row],[Count]]*Table1[[#This Row],[Price]]","v":810}]
["2013-12-22",2013,12,"Netherlands","Laptops","THINKPAD E445",3,222,{"$f":"Table1[[#This Row],[Count]]*Table1[[#This Row],[Price]]","v":666}]
["2013-12-23",2013,12,"USA","Laptops","Y10D 10 INCH VIA 8880",2,246,{"$f":"Table1[[#This Row],[Count]]*Table1[[#This Row],[Price]]","v":492}]
["2013-12-23",2013,12,"Norway","Laptops","Y10D 10 INCH VIA 8880",1,246,{"$f":"Table1[[#This Row],[Count]]*Table1[[#This Row],[Price]]","v":246}]
["2013-12-23",2013,12,"Lithuania","Laptops","THINKPAD E445",1,222,{"$f":"Table1[[#This Row],[Count]]*Table1[[#This Row],[Price]]","v":222}]
["2013-12-23",2013,12,"USA","Laptops","THINKPAD E445",3,222,{"$f":"Table1[[#This Row],[Count]]*Table1[[#This Row],[Price]]","v":666}]
["2013-12-24",2013,12,"Austria","Tablet PCs","GOOWEEL Q88 PRO A23 DUAL CORE TABLET PC",4,198,{"$f":"Table1[[#This Row],[Count]]*Table1[[#This Row],[Price]]","v":792}]
["2013-12-24",2013,12,"USA","Camera & Photo","D3200 DIGITAL SLR",4,306,{"$f":"Table1[[#This Row],[Count]]*Table1[[#This Row],[Price]]","v":1224}]
["2013-12-24",2013,12,"Australia","Workstations ","SUN BLADE 1500 WORKSTATION BASE SUN B1500",5,378,{"$f":"Table1[[#This Row],[Count]]*Table1[[#This Row],[Price]]","v":1890}]
["2013-12-24",2013,12,"Albania","Workstations ","CLOUD COMPUTER THIN STATION FL300",2,390,{"$f":"Table1[[#This Row],[Count]]*Table1[[#This Row],[Price]]","v":780}]
["2013-12-25",2013,12,"USA","Camera & Photo","D3200 DIGITAL SLR",4,306,{"$f":"Table1[[#This Row],[Count]]*Table1[[#This Row],[Price]]","v":1224}]
["2013-12-25",2013,12,"Germany","Camera & Photo","SONY CYBERSHOT H200",3,318,{"$f":"Table1[[#This Row],[Count]]*Table1[[#This Row],[Price]]","v":954}]
["2013-12-25",2013,12,"Australia","Tablet PCs","7 INCH DUAL CORE ANDROID TABLET PC Q88",4,210,{"$f":"Table1[[#This Row],[Count]]*Table1[[#This Row],[Price]]","v":840}]
["2013-12-25",2013,12,"Croatia","Tablet PCs","7 INCH DUAL CORE ANDROID TABLET PC Q88",5,210,{"$f":"Table1[[#This Row],[Count]]*Table1[[#This Row],[Price]]","v":1050}]
["2013-12-26",2013,12,"Australia","Workstations ","HIGH PERFORMANCE 4U LCD WORKSTATION C",2,366,{"$f":"Table1[[#This Row],[Count]]*Table1[[#This Row],[Price]]","v":732}]
["2013-12-26",2013,12,"Romania","Workstations ","HZONE NCOMPUTING L230",2,354,{"$f":"Table1[[#This Row],[Count]]*Table1[[#This Row],[Price]]","v":708}]
["2013-12-26",2013,12,"Austria","Laptops","THINKPAD T440S",3,258,{"$f":"Table1[[#This Row],[Count]]*Table1[[#This Row],[Price]]","v":774}]
["2013-12-26",2013,12,"USA","Tablet PCs","ONDA V975M TABLET PC",5,150,{"$f":"Table1[[#This Row],[Count]]*Table1[[#This Row],[Price]]","v":750}]
["2013-12-27",2013,12,"USA","Camera & Photo","FUJIFILM FINEPIX SL1000",3,330,{"$f":"Table1[[#This Row],[Count]]*Table1[[#This Row],[Price]]","v":990}]
["2013-12-27",2013,12,"USA","Tablet PCs","10 INCH TABLET HIGH QUALITY TABLET 1GB",2,174,{"$f":"Table1[[#This Row],[Count]]*Table1[[#This Row],[Price]]","v":348}]
["2013-12-27",2013,12,"Australia","Laptops","THINKPAD E445",4,222,{"$f":"Table1[[#This Row],[Count]]*Table1[[#This Row],[Price]]","v":888}]
["2013-12-27",2013,12,"Serbien und Montenegro","Workstations ","HIGH PERFORMANCE 4U LCD WORKSTATION C",5,366,{"$f":"Table1[[#This Row],[Count]]*Table1[[#This Row],[Price]]","v":1830}]
["2013-12-28",2013,12,"USA","Camera & Photo","SONY CYBERSHOT H200",3,318,{"$f":"Table1[[#This Row],[Count]]*Table1[[#This Row],[Price]]","v":954}]
["2013-12-28",2013,12,"USA","Tablet PCs","PIPO M6 PRO 9.7 INCH 3G TABLET PC",1,186,{"$f":"Table1[[#This Row],[Count]]*Table1[[#This Row],[Price]]","v":186}]
["2013-12-28",2013,12,"Czech Republic","Workstations ","SUN BLADE 1500 WORKSTATION BASE SUN B1500",3,378,{"$f":"Table1[[#This Row],[Count]]*Table1[[#This Row],[Price]]","v":1134}]
["2013-12-28",2013,12,"USA","Tablet PCs","ONDA V975M TABLET PC",4,150,{"$f":"Table1[[#This Row],[Count]]*Table1[[#This Row],[Price]]","v":600}]
["2013-12-29",2013,12,"Sweden","Workstations ","SUN BLADE 1500 WORKSTATION BASE SUN B1500",5,378,{"$f":"Table1[[#This Row],[Count]]*Table1[[#This Row],[Price]]","v":1890}]
["2013-12-29",2013,12,"Denmark","Workstations ","HIGH PERFORMANCE 4U LCD WORKSTATION C",3,366,{"$f":"Table1[[#This Row],[Count]]*Table1[[#This Row],[Price]]","v":1098}]
["2013-12-29",2013,12,"Albania","Laptops","14.1\" AIR LAPTOP INTEL D2500",2,270,{"$f":"Table1[[#This Row],[Count]]*Table1[[#This Row],[Price]]","v":540}]
["2013-12-29",2013,12,"USA","Tablet PCs","GOOWEEL Q88 PRO A23 DUAL CORE TABLET PC",1,198,{"$f":"Table1[[#This Row],[Count]]*Table1[[#This Row],[Price]]","v":198}]
["2013-12-30",2013,12,"USA","Tablet PCs","10 INCH TABLET HIGH QUALITY TABLET 1GB",3,174,{"$f":"Table1[[#This Row],[Count]]*Table1[[#This Row],[Price]]","v":522}]
["2013-12-30",2013,12,"USA","Laptops","14.1\" AIR LAPTOP INTEL D2500",2,270,{"$f":"Table1[[#This Row],[Count]]*Table1[[#This Row],[Price]]","v":540}]
["2013-12-30",2013,12,"Portugal","Tablet PCs","PIPO M6 PRO 9.7 INCH 3G TABLET PC",5,186,{"$f":"Table1[[#This Row],[Count]]*Table1[[#This Row],[Price]]","v":930}]
["2013-12-30",2013,12,"Romania","Workstations ","SUN BLADE 1500 WORKSTATION BASE SUN B1500",4,378,{"$f":"Table1[[#This Row],[Count]]*Table1[[#This Row],[Price]]","v":1512}]
["2013-12-31",2013,12,"Netherlands","Laptops","THINKPAD E445",1,222,{"$f":"Table1[[#This Row],[Count]]*Table1[[#This Row],[Price]]","v":222}]
["2013-12-31",2013,12,"USA","Workstations ","CLOUD COMPUTER THIN STATION FL300",4,390,{"$f":"Table1[[#This Row],[Count]]*Table1[[#This Row],[Price]]","v":1560}]
["2013-12-31",2013,12,"USA","Tablet PCs","PIPO M6 PRO 9.7 INCH 3G TABLET PC",2,186,{"$f":"Table1[[#This Row],[Count]]*Table1[[#This Row],[Price]]","v":372}]
["2013-12-31",2013,12,"Georgia","Tablet PCs","PIPO M6 PRO 9.7 INCH 3G TABLET PC",5,186,{"$f":"Table1[[#This Row],[Count]]*Table1[[#This Row],[Price]]","v":930}]
["2014-01-01",2014,1,"USA","Camera & Photo","SONY CYBERSHOT H200",1,318,{"$f":"Table1[[#This Row],[Count]]*Table1[[#This Row],[Price]]","v":318}]
["2014-01-01",2014,1,"Hungary","Camera & Photo","D3000 DIGITAL SLR",5,294,{"$f":"Table1[[#This Row],[Count]]*Table1[[#This Row],[Price]]","v":1470}]
["2014-01-01",2014,1,"Germany","Laptops","14INCH ULTRABOOK",3,234,{"$f":"Table1[[#This Row],[Count]]*Table1[[#This Row],[Price]]","v":702}]
["2014-01-01",2014,1,"USA","Camera & Photo","SONY CYBERSHOT H200",2,318,{"$f":"Table1[[#This Row],[Count]]*Table1[[#This Row],[Price]]","v":636}]
["2014-01-02",2014,1,"Australia","Workstations ","HIGH PERFORMANCE 4U LCD WORKSTATION C",2,366,{"$f":"Table1[[#This Row],[Count]]*Table1[[#This Row],[Price]]","v":732}]
["2014-01-02",2014,1,"Switzerland","Workstations ","HZONE NCOMPUTING L230",5,354,{"$f":"Table1[[#This Row],[Count]]*Table1[[#This Row],[Price]]","v":1770}]
["2014-01-02",2014,1,"Slovenia","Workstations ","HIGH PERFORMANCE 4U LCD WORKSTATION C",5,366,{"$f":"Table1[[#This Row],[Count]]*Table1[[#This Row],[Price]]","v":1830}]
["2014-01-02",2014,1,"Lithuania","Tablet PCs","PIPO M6 PRO 9.7 INCH 3G TABLET PC",1,186,{"$f":"Table1[[#This Row],[Count]]*Table1[[#This Row],[Price]]","v":186}]
["2014-01-03",2014,1,"Bosnia And Herzegovina","Workstations ","HIGH PERFORMANCE 4U LCD WORKSTATION C",2,366,{"$f":"Table1[[#This Row],[Count]]*Table1[[#This Row],[Price]]","v":732}]
["2014-01-03",2014,1,"Norway","Workstations ","HZONE NCOMPUTING L230",5,354,{"$f":"Table1[[#This Row],[Count]]*Table1[[#This Row],[Price]]","v":1770}]
["2014-01-03",2014,1,"Switzerland","Camera & Photo","SONY CYBERSHOT H200",4,318,{"$f":"Table1[[#This Row],[Count]]*Table1[[#This Row],[Price]]","v":1272}]
["2014-01-03",2014,1,"USA","Workstations ","HZONE NCOMPUTING L230",1,354,{"$f":"Table1[[#This Row],[Count]]*Table1[[#This Row],[Price]]","v":354}]
["2014-01-04",2014,1,"Belarus","Laptops","THINKPAD E445",2,222,{"$f":"Table1[[#This Row],[Count]]*Table1[[#This Row],[Price]]","v":444}]
["2014-01-04",2014,1,"Montenegro","Camera & Photo","SONY CYBERSHOT H200",1,318,{"$f":"Table1[[#This Row],[Count]]*Table1[[#This Row],[Price]]","v":318}]
["2014-01-04",2014,1,"Latvia","Laptops","VIA 8850 ANDROID 4.0",4,282,{"$f":"Table1[[#This Row],[Count]]*Table1[[#This Row],[Price]]","v":1128}]
["2014-01-04",2014,1,"Ukraine","Workstations ","I7 MINI PC WITH HDMI QOTOM-T620",5,342,{"$f":"Table1[[#This Row],[Count]]*Table1[[#This Row],[Price]]","v":1710}]
["2014-01-05",2014,1,"USA","Tablet PCs","ONDA V975M TABLET PC",1,150,{"$f":"Table1[[#This Row],[Count]]*Table1[[#This Row],[Price]]","v":150}]
["2014-01-05",2014,1,"Austria","Tablet PCs","10 INCH TABLET HIGH QUALITY TABLET 1GB",1,174,{"$f":"Table1[[#This Row],[Count]]*Table1[[#This Row],[Price]]","v":174}]
["2014-01-05",2014,1,"USA","Tablet PCs","GOOWEEL Q88 PRO A23 DUAL CORE TABLET PC",1,198,{"$f":"Table1[[#This Row],[Count]]*Table1[[#This Row],[Price]]","v":198}]
["2014-01-05",2014,1,"Australia","Tablet PCs","GOOWEEL Q88 PRO A23 DUAL CORE TABLET PC",4,198,{"$f":"Table1[[#This Row],[Count]]*Table1[[#This Row],[Price]]","v":792}]
["2014-01-06",2014,1,"Georgia","Camera & Photo","D3000 DIGITAL SLR",4,294,{"$f":"Table1[[#This Row],[Count]]*Table1[[#This Row],[Price]]","v":1176}]
["2014-01-06",2014,1,"Italy","Workstations ","CLOUD COMPUTER THIN STATION FL300",3,390,{"$f":"Table1[[#This Row],[Count]]*Table1[[#This Row],[Price]]","v":1170}]
["2014-01-06",2014,1,"Moldova","Workstations ","HIGH PERFORMANCE 4U LCD WORKSTATION C",5,366,{"$f":"Table1[[#This Row],[Count]]*Table1[[#This Row],[Price]]","v":1830}]
["2014-01-06",2014,1,"Estonia","Tablet PCs","TABLET 10-INCH QUAD-CORE A9",3,162,{"$f":"Table1[[#This Row],[Count]]*Table1[[#This Row],[Price]]","v":486}]
["2014-01-07",2014,1,"USA","Tablet PCs","TABLET 10-INCH QUAD-CORE A9",2,162,{"$f":"Table1[[#This Row],[Count]]*Table1[[#This Row],[Price]]","v":324}]
["2014-01-07",2014,1,"USA","Camera & Photo","FUJIFILM FINEPIX SL1000",3,330,{"$f":"Table1[[#This Row],[Count]]*Table1[[#This Row],[Price]]","v":990}]
["2014-01-07",2014,1,"Bulgaria","Tablet PCs","TABLET 10-INCH QUAD-CORE A9",5,162,{"$f":"Table1[[#This Row],[Count]]*Table1[[#This Row],[Price]]","v":810}]
["2014-01-07",2014,1,"Switzerland","Laptops","VIA 8850 ANDROID 4.0",1,282,{"$f":"Table1[[#This Row],[Count]]*Table1[[#This Row],[Price]]","v":282}]
["2014-01-08",2014,1,"USA","Camera & Photo","D3000 DIGITAL SLR",5,294,{"$f":"Table1[[#This Row],[Count]]*Table1[[#This Row],[Price]]","v":1470}]
["2014-01-08",2014,1,"USA","Workstations ","HZONE NCOMPUTING L230",5,354,{"$f":"Table1[[#This Row],[Count]]*Table1[[#This Row],[Price]]","v":1770}]
["2014-01-08",2014,1,"Netherlands","Camera & Photo","FUJIFILM FINEPIX SL1000",3,330,{"$f":"Table1[[#This Row],[Count]]*Table1[[#This Row],[Price]]","v":990}]
["2014-01-08",2014,1,"Norway","Camera & Photo","D3000 DIGITAL SLR",1,294,{"$f":"Table1[[#This Row],[Count]]*Table1[[#This Row],[Price]]","v":294}]
["2014-01-09",2014,1,"Denmark","Workstations ","I7 MINI PC WITH HDMI QOTOM-T620",3,342,{"$f":"Table1[[#This Row],[Count]]*Table1[[#This Row],[Price]]","v":1026}]
["2014-01-09",2014,1,"Albania","Tablet PCs","10 INCH TABLET HIGH QUALITY TABLET 1GB",1,174,{"$f":"Table1[[#This Row],[Count]]*Table1[[#This Row],[Price]]","v":174}]
["2014-01-09",2014,1,"USA","Laptops","14INCH ULTRABOOK",4,234,{"$f":"Table1[[#This Row],[Count]]*Table1[[#This Row],[Price]]","v":936}]
["2014-01-09",2014,1,"Belgium","Camera & Photo","D3000 DIGITAL SLR",2,294,{"$f":"Table1[[#This Row],[Count]]*Table1[[#This Row],[Price]]","v":588}]
["2014-01-10",2014,1,"USA","Tablet PCs","GOOWEEL Q88 PRO A23 DUAL CORE TABLET PC",2,198,{"$f":"Table1[[#This Row],[Count]]*Table1[[#This Row],[Price]]","v":396}]
["2014-01-10",2014,1,"Serbien und Montenegro","Camera & Photo","SONY CYBERSHOT H200",1,318,{"$f":"Table1[[#This Row],[Count]]*Table1[[#This Row],[Price]]","v":318}]
["2014-01-10",2014,1,"USA","Laptops","THINKPAD T440S",3,258,{"$f":"Table1[[#This Row],[Count]]*Table1[[#This Row],[Price]]","v":774}]
["2014-01-10",2014,1,"Denmark","Laptops","14.1\" AIR LAPTOP INTEL D2500",3,270,{"$f":"Table1[[#This Row],[Count]]*Table1[[#This Row],[Price]]","v":810}]
["2014-01-11",2014,1,"USA","Laptops","Y10D 10 INCH VIA 8880",1,246,{"$f":"Table1[[#This Row],[Count]]*Table1[[#This Row],[Price]]","v":246}]
["2014-01-11",2014,1,"USA","Tablet PCs","PIPO M6 PRO 9.7 INCH 3G TABLET PC",1,186,{"$f":"Table1[[#This Row],[Count]]*Table1[[#This Row],[Price]]","v":186}]
["2014-01-11",2014,1,"USA","Tablet PCs","PIPO M6 PRO 9.7 INCH 3G TABLET PC",2,186,{"$f":"Table1[[#This Row],[Count]]*Table1[[#This Row],[Price]]","v":372}]
["2014-01-11",2014,1,"USA","Workstations ","HZONE NCOMPUTING L230",2,354,{"$f":"Table1[[#This Row],[Count]]*Table1[[#This Row],[Price]]","v":708}]
["2014-01-12",2014,1,"Bosnia And Herzegovina","Camera & Photo","D3200 DIGITAL SLR",2,306,{"$f":"Table1[[#This Row],[Count]]*Table1[[#This Row],[Price]]","v":612}]
["2014-01-12",2014,1,"USA","Workstations ","HIGH PERFORMANCE 4U LCD WORKSTATION C",3,366,{"$f":"Table1[[#This Row],[Count]]*Table1[[#This Row],[Price]]","v":1098}]
["2014-01-12",2014,1,"Czech Republic","Laptops","14.1\" AIR LAPTOP INTEL D2500",4,270,{"$f":"Table1[[#This Row],[Count]]*Table1[[#This Row],[Price]]","v":1080}]
["2014-01-12",2014,1,"Finland","Camera & Photo","FUJIFILM FINEPIX SL1000",1,330,{"$f":"Table1[[#This Row],[Count]]*Table1[[#This Row],[Price]]","v":330}]
["2014-01-13",2014,1,"Italy","Laptops","14INCH ULTRABOOK",3,234,{"$f":"Table1[[#This Row],[Count]]*Table1[[#This Row],[Price]]","v":702}]
["2014-01-13",2014,1,"Italy","Tablet PCs","10 INCH TABLET HIGH QUALITY TABLET 1GB",5,174,{"$f":"Table1[[#This Row],[Count]]*Table1[[#This Row],[Price]]","v":870}]
["2014-01-13",2014,1,"Lithuania","Workstations ","CLOUD COMPUTER THIN STATION FL300",4,390,{"$f":"Table1[[#This Row],[Count]]*Table1[[#This Row],[Price]]","v":1560}]
["2014-01-13",2014,1,"Germany","Workstations ","HZONE NCOMPUTING L230",2,354,{"$f":"Table1[[#This Row],[Count]]*Table1[[#This Row],[Price]]","v":708}]
["2014-01-14",2014,1,"Liechtenstein","Tablet PCs","ONDA V975M TABLET PC",4,150,{"$f":"Table1[[#This Row],[Count]]*Table1[[#This Row],[Price]]","v":600}]
["2014-01-14",2014,1,"USA","Workstations ","I7 MINI PC WITH HDMI QOTOM-T620",4,342,{"$f":"Table1[[#This Row],[Count]]*Table1[[#This Row],[Price]]","v":1368}]
["2014-01-14",2014,1,"Belarus","Laptops","THINKPAD E445",5,222,{"$f":"Table1[[#This Row],[Count]]*Table1[[#This Row],[Price]]","v":1110}]
["2014-01-14",2014,1,"Netherlands","Workstations ","HZONE NCOMPUTING L230",2,354,{"$f":"Table1[[#This Row],[Count]]*Table1[[#This Row],[Price]]","v":708}]
["2014-01-15",2014,1,"Australia","Tablet PCs","TABLET 10-INCH QUAD-CORE A9",3,162,{"$f":"Table1[[#This Row],[Count]]*Table1[[#This Row],[Price]]","v":486}]
["2014-01-15",2014,1,"Liechtenstein","Workstations ","CLOUD COMPUTER THIN STATION FL300",5,390,{"$f":"Table1[[#This Row],[Count]]*Table1[[#This Row],[Price]]","v":1950}]
["2014-01-15",2014,1,"USA","Tablet PCs","ONDA V975M TABLET PC",2,150,{"$f":"Table1[[#This Row],[Count]]*Table1[[#This Row],[Price]]","v":300}]
["2014-01-15",2014,1,"USA","Workstations ","SUN BLADE 1500 WORKSTATION BASE SUN B1500",4,378,{"$f":"Table1[[#This Row],[Count]]*Table1[[#This Row],[Price]]","v":1512}]
["2014-01-16",2014,1,"Ireland","Camera & Photo","D3000 DIGITAL SLR",4,294,{"$f":"Table1[[#This Row],[Count]]*Table1[[#This Row],[Price]]","v":1176}]
["2014-01-16",2014,1,"Poland","Camera & Photo","FUJIFILM FINEPIX SL1000",1,330,{"$f":"Table1[[#This Row],[Count]]*Table1[[#This Row],[Price]]","v":330}]
["2014-01-16",2014,1,"USA","Laptops","THINKPAD E445",3,222,{"$f":"Table1[[#This Row],[Count]]*Table1[[#This Row],[Price]]","v":666}]
["2014-01-16",2014,1,"USA","Laptops","14INCH ULTRABOOK",1,234,{"$f":"Table1[[#This Row],[Count]]*Table1[[#This Row],[Price]]","v":234}]
["2014-01-17",2014,1,"USA","Tablet PCs","PIPO M6 PRO 9.7 INCH 3G TABLET PC",3,186,{"$f":"Table1[[#This Row],[Count]]*Table1[[#This Row],[Price]]","v":558}]
["2014-01-17",2014,1,"Germany","Camera & Photo","SONY CYBERSHOT H200",4,318,{"$f":"Table1[[#This Row],[Count]]*Table1[[#This Row],[Price]]","v":1272}]
["2014-01-17",2014,1,"USA","Tablet PCs","10 INCH TABLET HIGH QUALITY TABLET 1GB",3,174,{"$f":"Table1[[#This Row],[Count]]*Table1[[#This Row],[Price]]","v":522}]
["2014-01-17",2014,1,"USA","Workstations ","HIGH PERFORMANCE 4U LCD WORKSTATION C",1,366,{"$f":"Table1[[#This Row],[Count]]*Table1[[#This Row],[Price]]","v":366}]
["2014-01-18",2014,1,"Lithuania","Laptops","Y10D 10 INCH VIA 8880",5,246,{"$f":"Table1[[#This Row],[Count]]*Table1[[#This Row],[Price]]","v":1230}]
["2014-01-18",2014,1,"Ireland","Tablet PCs","GOOWEEL Q88 PRO A23 DUAL CORE TABLET PC",4,198,{"$f":"Table1[[#This Row],[Count]]*Table1[[#This Row],[Price]]","v":792}]
["2014-01-18",2014,1,"USA","Camera & Photo","SONY CYBERSHOT H200",3,318,{"$f":"Table1[[#This Row],[Count]]*Table1[[#This Row],[Price]]","v":954}]
["2014-01-18",2014,1,"USA","Laptops","14.1\" AIR LAPTOP INTEL D2500",1,270,{"$f":"Table1[[#This Row],[Count]]*Table1[[#This Row],[Price]]","v":270}]
["2014-01-19",2014,1,"USA","Camera & Photo","SONY CYBERSHOT H200",1,318,{"$f":"Table1[[#This Row],[Count]]*Table1[[#This Row],[Price]]","v":318}]
["2014-01-19",2014,1,"Italy","Tablet PCs","7 INCH DUAL CORE ANDROID TABLET PC Q88",3,210,{"$f":"Table1[[#This Row],[Count]]*Table1[[#This Row],[Price]]","v":630}]
["2014-01-19",2014,1,"Slovakia","Laptops","14.1\" AIR LAPTOP INTEL D2500",5,270,{"$f":"Table1[[#This Row],[Count]]*Table1[[#This Row],[Price]]","v":1350}]
["2014-01-19",2014,1,"Austria","Workstations ","I7 MINI PC WITH HDMI QOTOM-T620",1,342,{"$f":"Table1[[#This Row],[Count]]*Table1[[#This Row],[Price]]","v":342}]
["2014-01-20",2014,1,"USA","Workstations ","SUN BLADE 1500 WORKSTATION BASE SUN B1500",3,378,{"$f":"Table1[[#This Row],[Count]]*Table1[[#This Row],[Price]]","v":1134}]
["2014-01-20",2014,1,"Australia","Tablet PCs","10 INCH TABLET HIGH QUALITY TABLET 1GB",1,174,{"$f":"Table1[[#This Row],[Count]]*Table1[[#This Row],[Price]]","v":174}]
["2014-01-20",2014,1,"Belgium","Laptops","VIA 8850 ANDROID 4.0",5,282,{"$f":"Table1[[#This Row],[Count]]*Table1[[#This Row],[Price]]","v":1410}]
["2014-01-20",2014,1,"USA","Laptops","THINKPAD E445",3,222,{"$f":"Table1[[#This Row],[Count]]*Table1[[#This Row],[Price]]","v":666}]
["2014-01-21",2014,1,"USA","Camera & Photo","SONY CYBERSHOT H200",1,318,{"$f":"Table1[[#This Row],[Count]]*Table1[[#This Row],[Price]]","v":318}]
["2014-01-21",2014,1,"Estonia","Tablet PCs","TABLET 10-INCH QUAD-CORE A9",2,162,{"$f":"Table1[[#This Row],[Count]]*Table1[[#This Row],[Price]]","v":324}]
["2014-01-21",2014,1,"Estonia","Laptops","14INCH ULTRABOOK",3,234,{"$f":"Table1[[#This Row],[Count]]*Table1[[#This Row],[Price]]","v":702}]
["2014-01-21",2014,1,"USA","Tablet PCs","7 INCH DUAL CORE ANDROID TABLET PC Q88",3,210,{"$f":"Table1[[#This Row],[Count]]*Table1[[#This Row],[Price]]","v":630}]
["2014-01-22",2014,1,"Switzerland","Camera & Photo","SONY CYBERSHOT H200",5,318,{"$f":"Table1[[#This Row],[Count]]*Table1[[#This Row],[Price]]","v":1590}]
["2014-01-22",2014,1,"Slovenia","Tablet PCs","GOOWEEL Q88 PRO A23 DUAL CORE TABLET PC",2,198,{"$f":"Table1[[#This Row],[Count]]*Table1[[#This Row],[Price]]","v":396}]
["2014-01-22",2014,1,"Switzerland","Laptops","14INCH ULTRABOOK",4,234,{"$f":"Table1[[#This Row],[Count]]*Table1[[#This Row],[Price]]","v":936}]
["2014-01-22",2014,1,"USA","Camera & Photo","D3200 DIGITAL SLR",3,306,{"$f":"Table1[[#This Row],[Count]]*Table1[[#This Row],[Price]]","v":918}]
["2014-01-23",2014,1,"Romania","Workstations ","HIGH PERFORMANCE 4U LCD WORKSTATION C",5,366,{"$f":"Table1[[#This Row],[Count]]*Table1[[#This Row],[Price]]","v":1830}]
["2014-01-23",2014,1,"Sweden","Workstations ","HZONE NCOMPUTING L230",2,354,{"$f":"Table1[[#This Row],[Count]]*Table1[[#This Row],[Price]]","v":708}]
["2014-01-23",2014,1,"USA","Laptops","THINKPAD T440S",2,258,{"$f":"Table1[[#This Row],[Count]]*Table1[[#This Row],[Price]]","v":516}]
["2014-01-23",2014,1,"USA","Tablet PCs","TABLET 10-INCH QUAD-CORE A9",5,162,{"$f":"Table1[[#This Row],[Count]]*Table1[[#This Row],[Price]]","v":810}]
["2014-01-24",2014,1,"Poland","Laptops","THINKPAD E445",3,222,{"$f":"Table1[[#This Row],[Count]]*Table1[[#This Row],[Price]]","v":666}]
["2014-01-24",2014,1,"United Kingdom","Camera & Photo","D3000 DIGITAL SLR",5,294,{"$f":"Table1[[#This Row],[Count]]*Table1[[#This Row],[Price]]","v":1470}]
["2014-01-24",2014,1,"Australia","Laptops","14.1\" AIR LAPTOP INTEL D2500",4,270,{"$f":"Table1[[#This Row],[Count]]*Table1[[#This Row],[Price]]","v":1080}]
["2014-01-24",2014,1,"Czech Republic","Workstations ","HIGH PERFORMANCE 4U LCD WORKSTATION C",3,366,{"$f":"Table1[[#This Row],[Count]]*Table1[[#This Row],[Price]]","v":1098}]
["2014-01-25",2014,1,"USA","Laptops","14INCH ULTRABOOK",1,234,{"$f":"Table1[[#This Row],[Count]]*Table1[[#This Row],[Price]]","v":234}]
["2014-01-25",2014,1,"Portugal","Laptops","THINKPAD T440S",1,258,{"$f":"Table1[[#This Row],[Count]]*Table1[[#This Row],[Price]]","v":258}]
["2014-01-25",2014,1,"Romania","Laptops","14INCH ULTRABOOK",4,234,{"$f":"Table1[[#This Row],[Count]]*Table1[[#This Row],[Price]]","v":936}]
["2014-01-25",2014,1,"USA","Tablet PCs","PIPO M6 PRO 9.7 INCH 3G TABLET PC",5,186,{"$f":"Table1[[#This Row],[Count]]*Table1[[#This Row],[Price]]","v":930}]
["2014-01-26",2014,1,"USA","Laptops","Y10D 10 INCH VIA 8880",4,246,{"$f":"Table1[[#This Row],[Count]]*Table1[[#This Row],[Price]]","v":984}]
["2014-01-26",2014,1,"USA","Laptops","VIA 8850 ANDROID 4.0",1,282,{"$f":"Table1[[#This Row],[Count]]*Table1[[#This Row],[Price]]","v":282}]
["2014-01-26",2014,1,"USA","Tablet PCs","7 INCH DUAL CORE ANDROID TABLET PC Q88",2,210,{"$f":"Table1[[#This Row],[Count]]*Table1[[#This Row],[Price]]","v":420}]
["2014-01-26",2014,1,"Australia","Tablet PCs","PIPO M6 PRO 9.7 INCH 3G TABLET PC",1,186,{"$f":"Table1[[#This Row],[Count]]*Table1[[#This Row],[Price]]","v":186}]
["2014-01-27",2014,1,"USA","Tablet PCs","PIPO M6 PRO 9.7 INCH 3G TABLET PC",5,186,{"$f":"Table1[[#This Row],[Count]]*Table1[[#This Row],[Price]]","v":930}]
["2014-01-27",2014,1,"Belarus","Camera & Photo","D3200 DIGITAL SLR",3,306,{"$f":"Table1[[#This Row],[Count]]*Table1[[#This Row],[Price]]","v":918}]
["2014-01-27",2014,1,"Australia","Laptops","THINKPAD T440S",1,258,{"$f":"Table1[[#This Row],[Count]]*Table1[[#This Row],[Price]]","v":258}]
["2014-01-27",2014,1,"USA","Tablet PCs","ONDA V975M TABLET PC",4,150,{"$f":"Table1[[#This Row],[Count]]*Table1[[#This Row],[Price]]","v":600}]
["2014-01-28",2014,1,"Finland","Tablet PCs","PIPO M6 PRO 9.7 INCH 3G TABLET PC",1,186,{"$f":"Table1[[#This Row],[Count]]*Table1[[#This Row],[Price]]","v":186}]
["2014-01-28",2014,1,"USA","Laptops","Y10D 10 INCH VIA 8880",1,246,{"$f":"Table1[[#This Row],[Count]]*Table1[[#This Row],[Price]]","v":246}]
["2014-01-28",2014,1,"USA","Laptops","Y10D 10 INCH VIA 8880",2,246,{"$f":"Table1[[#This Row],[Count]]*Table1[[#This Row],[Price]]","v":492}]
["2014-01-28",2014,1,"USA","Camera & Photo","D3000 DIGITAL SLR",5,294,{"$f":"Table1[[#This Row],[Count]]*Table1[[#This Row],[Price]]","v":1470}]
["2014-01-29",2014,1,"Montenegro","Laptops","THINKPAD T440S",5,258,{"$f":"Table1[[#This Row],[Count]]*Table1[[#This Row],[Price]]","v":1290}]
["2014-01-29",2014,1,"Netherlands","Laptops","VIA 8850 ANDROID 4.0",2,282,{"$f":"Table1[[#This Row],[Count]]*Table1[[#This Row],[Price]]","v":564}]
["2014-01-29",2014,1,"USA","Tablet PCs","PIPO M6 PRO 9.7 INCH 3G TABLET PC",4,186,{"$f":"Table1[[#This Row],[Count]]*Table1[[#This Row],[Price]]","v":744}]
["2014-01-29",2014,1,"USA","Camera & Photo","D3200 DIGITAL SLR",2,306,{"$f":"Table1[[#This Row],[Count]]*Table1[[#This Row],[Price]]","v":612}]
["2014-01-30",2014,1,"Austria","Camera & Photo","D3000 DIGITAL SLR",5,294,{"$f":"Table1[[#This Row],[Count]]*Table1[[#This Row],[Price]]","v":1470}]
["2014-01-30",2014,1,"USA","Laptops","THINKPAD E445",2,222,{"$f":"Table1[[#This Row],[Count]]*Table1[[#This Row],[Price]]","v":444}]
["2014-01-30",2014,1,"USA","Laptops","14.1\" AIR LAPTOP INTEL D2500",1,270,{"$f":"Table1[[#This Row],[Count]]*Table1[[#This Row],[Price]]","v":270}]
["2014-01-30",2014,1,"Netherlands","Workstations ","CLOUD COMPUTER THIN STATION FL300",1,390,{"$f":"Table1[[#This Row],[Count]]*Table1[[#This Row],[Price]]","v":390}]
["2014-01-31",2014,1,"Croatia","Tablet PCs","7 INCH DUAL CORE ANDROID TABLET PC Q88",2,210,{"$f":"Table1[[#This Row],[Count]]*Table1[[#This Row],[Price]]","v":420}]
["2014-01-31",2014,1,"Liechtenstein","Workstations ","SUN BLADE 1500 WORKSTATION BASE SUN B1500",2,378,{"$f":"Table1[[#This Row],[Count]]*Table1[[#This Row],[Price]]","v":756}]
["2014-01-31",2014,1,"USA","Workstations ","I7 MINI PC WITH HDMI QOTOM-T620",3,342,{"$f":"Table1[[#This Row],[Count]]*Table1[[#This Row],[Price]]","v":1026}]
["2014-01-31",2014,1,"USA","Tablet PCs","ONDA V975M TABLET PC",4,150,{"$f":"Table1[[#This Row],[Count]]*Table1[[#This Row],[Price]]","v":600}]
["2014-02-01",2014,2,"Belgium","Camera & Photo","D3200 DIGITAL SLR",5,306,{"$f":"Table1[[#This Row],[Count]]*Table1[[#This Row],[Price]]","v":1530}]
["2014-02-01",2014,2,"USA","Workstations ","SUN BLADE 1500 WORKSTATION BASE SUN B1500",1,378,{"$f":"Table1[[#This Row],[Count]]*Table1[[#This Row],[Price]]","v":378}]
["2014-02-01",2014,2,"Romania","Tablet PCs","TABLET 10-INCH QUAD-CORE A9",5,162,{"$f":"Table1[[#This Row],[Count]]*Table1[[#This Row],[Price]]","v":810}]
["2014-02-01",2014,2,"Slovakia","Tablet PCs","PIPO M6 PRO 9.7 INCH 3G TABLET PC",1,186,{"$f":"Table1[[#This Row],[Count]]*Table1[[#This Row],[Price]]","v":186}]
["2014-02-02",2014,2,"Monaco","Workstations ","HZONE NCOMPUTING L230",5,354,{"$f":"Table1[[#This Row],[Count]]*Table1[[#This Row],[Price]]","v":1770}]
["2014-02-02",2014,2,"Sweden","Workstations ","I7 MINI PC WITH HDMI QOTOM-T620",1,342,{"$f":"Table1[[#This Row],[Count]]*Table1[[#This Row],[Price]]","v":342}]
["2014-02-02",2014,2,"USA","Tablet PCs","7 INCH DUAL CORE ANDROID TABLET PC Q88",5,210,{"$f":"Table1[[#This Row],[Count]]*Table1[[#This Row],[Price]]","v":1050}]
["2014-02-02",2014,2,"Norway","Tablet PCs","TABLET 10-INCH QUAD-CORE A9",2,162,{"$f":"Table1[[#This Row],[Count]]*Table1[[#This Row],[Price]]","v":324}]
["2014-02-03",2014,2,"USA","Camera & Photo","D3200 DIGITAL SLR",2,306,{"$f":"Table1[[#This Row],[Count]]*Table1[[#This Row],[Price]]","v":612}]
["2014-02-03",2014,2,"Finland","Tablet PCs","ONDA V975M TABLET PC",2,150,{"$f":"Table1[[#This Row],[Count]]*Table1[[#This Row],[Price]]","v":300}]
["2014-02-03",2014,2,"Liechtenstein","Tablet PCs","ONDA V975M TABLET PC",4,150,{"$f":"Table1[[#This Row],[Count]]*Table1[[#This Row],[Price]]","v":600}]
["2014-02-03",2014,2,"Albania","Tablet PCs","7 INCH DUAL CORE ANDROID TABLET PC Q88",5,210,{"$f":"Table1[[#This Row],[Count]]*Table1[[#This Row],[Price]]","v":1050}]
["2014-02-04",2014,2,"Australia","Workstations ","I7 MINI PC WITH HDMI QOTOM-T620",5,342,{"$f":"Table1[[#This Row],[Count]]*Table1[[#This Row],[Price]]","v":1710}]
["2014-02-04",2014,2,"USA","Camera & Photo","D3000 DIGITAL SLR",3,294,{"$f":"Table1[[#This Row],[Count]]*Table1[[#This Row],[Price]]","v":882}]
["2014-02-04",2014,2,"Luxembourg","Workstations ","HIGH PERFORMANCE 4U LCD WORKSTATION C",3,366,{"$f":"Table1[[#This Row],[Count]]*Table1[[#This Row],[Price]]","v":1098}]
["2014-02-04",2014,2,"Italy","Workstations ","I7 MINI PC WITH HDMI QOTOM-T620",3,342,{"$f":"Table1[[#This Row],[Count]]*Table1[[#This Row],[Price]]","v":1026}]
["2014-02-05",2014,2,"Albania","Workstations ","HZONE NCOMPUTING L230",4,354,{"$f":"Table1[[#This Row],[Count]]*Table1[[#This Row],[Price]]","v":1416}]
["2014-02-05",2014,2,"France","Camera & Photo","SONY CYBERSHOT H200",4,318,{"$f":"Table1[[#This Row],[Count]]*Table1[[#This Row],[Price]]","v":1272}]
["2014-02-05",2014,2,"Czech Republic","Laptops","14INCH ULTRABOOK",1,234,{"$f":"Table1[[#This Row],[Count]]*Table1[[#This Row],[Price]]","v":234}]
["2014-02-05",2014,2,"Poland","Workstations ","CLOUD COMPUTER THIN STATION FL300",5,390,{"$f":"Table1[[#This Row],[Count]]*Table1[[#This Row],[Price]]","v":1950}]
["2014-02-06",2014,2,"Finland","Workstations ","SUN BLADE 1500 WORKSTATION BASE SUN B1500",4,378,{"$f":"Table1[[#This Row],[Count]]*Table1[[#This Row],[Price]]","v":1512}]
["2014-02-06",2014,2,"United Kingdom","Workstations ","HIGH PERFORMANCE 4U LCD WORKSTATION C",1,366,{"$f":"Table1[[#This Row],[Count]]*Table1[[#This Row],[Price]]","v":366}]
["2014-02-06",2014,2,"Hungary","Tablet PCs","10 INCH TABLET HIGH QUALITY TABLET 1GB",3,174,{"$f":"Table1[[#This Row],[Count]]*Table1[[#This Row],[Price]]","v":522}]
["2014-02-06",2014,2,"United Kingdom","Tablet PCs","GOOWEEL Q88 PRO A23 DUAL CORE TABLET PC",5,198,{"$f":"Table1[[#This Row],[Count]]*Table1[[#This Row],[Price]]","v":990}]
["2014-02-07",2014,2,"Sweden","Workstations ","CLOUD COMPUTER THIN STATION FL300",5,390,{"$f":"Table1[[#This Row],[Count]]*Table1[[#This Row],[Price]]","v":1950}]
["2014-02-07",2014,2,"Malta","Workstations ","HIGH PERFORMANCE 4U LCD WORKSTATION C",2,366,{"$f":"Table1[[#This Row],[Count]]*Table1[[#This Row],[Price]]","v":732}]
["2014-02-07",2014,2,"USA","Tablet PCs","10 INCH TABLET HIGH QUALITY TABLET 1GB",2,174,{"$f":"Table1[[#This Row],[Count]]*Table1[[#This Row],[Price]]","v":348}]
["2014-02-07",2014,2,"Macedonia","Tablet PCs","GOOWEEL Q88 PRO A23 DUAL CORE TABLET PC",4,198,{"$f":"Table1[[#This Row],[Count]]*Table1[[#This Row],[Price]]","v":792}]
["2014-02-08",2014,2,"Spain","Laptops","THINKPAD E445",2,222,{"$f":"Table1[[#This Row],[Count]]*Table1[[#This Row],[Price]]","v":444}]
["2014-02-08",2014,2,"USA","Workstations ","HZONE NCOMPUTING L230",4,354,{"$f":"Table1[[#This Row],[Count]]*Table1[[#This Row],[Price]]","v":1416}]
["2014-02-08",2014,2,"Bosnia And Herzegovina","Workstations ","HIGH PERFORMANCE 4U LCD WORKSTATION C",3,366,{"$f":"Table1[[#This Row],[Count]]*Table1[[#This Row],[Price]]","v":1098}]
["2014-02-08",2014,2,"Macedonia","Workstations ","I7 MINI PC WITH HDMI QOTOM-T620",4,342,{"$f":"Table1[[#This Row],[Count]]*Table1[[#This Row],[Price]]","v":1368}]
["2014-02-09",2014,2,"USA","Tablet PCs","ONDA V975M TABLET PC",5,150,{"$f":"Table1[[#This Row],[Count]]*Table1[[#This Row],[Price]]","v":750}]
["2014-02-09",2014,2,"USA","Tablet PCs","ONDA V975M TABLET PC",5,150,{"$f":"Table1[[#This Row],[Count]]*Table1[[#This Row],[Price]]","v":750}]
["2014-02-09",2014,2,"Andorra","Workstations ","HIGH PERFORMANCE 4U LCD WORKSTATION C",1,366,{"$f":"Table1[[#This Row],[Count]]*Table1[[#This Row],[Price]]","v":366}]
["2014-02-09",2014,2,"Slovakia","Laptops","THINKPAD E445",4,222,{"$f":"Table1[[#This Row],[Count]]*Table1[[#This Row],[Price]]","v":888}]
["2014-02-10",2014,2,"Australia","Camera & Photo","D3200 DIGITAL SLR",4,306,{"$f":"Table1[[#This Row],[Count]]*Table1[[#This Row],[Price]]","v":1224}]
["2014-02-10",2014,2,"Monaco","Tablet PCs","GOOWEEL Q88 PRO A23 DUAL CORE TABLET PC",2,198,{"$f":"Table1[[#This Row],[Count]]*Table1[[#This Row],[Price]]","v":396}]
["2014-02-10",2014,2,"USA","Laptops","VIA 8850 ANDROID 4.0",5,282,{"$f":"Table1[[#This Row],[Count]]*Table1[[#This Row],[Price]]","v":1410}]
["2014-02-10",2014,2,"Estonia","Tablet PCs","GOOWEEL Q88 PRO A23 DUAL CORE TABLET PC",3,198,{"$f":"Table1[[#This Row],[Count]]*Table1[[#This Row],[Price]]","v":594}]
["2014-02-11",2014,2,"USA","Tablet PCs","TABLET 10-INCH QUAD-CORE A9",4,162,{"$f":"Table1[[#This Row],[Count]]*Table1[[#This Row],[Price]]","v":648}]
["2014-02-11",2014,2,"USA","Camera & Photo","SONY CYBERSHOT H200",2,318,{"$f":"Table1[[#This Row],[Count]]*Table1[[#This Row],[Price]]","v":636}]
["2014-02-11",2014,2,"USA","Workstations ","HZONE NCOMPUTING L230",4,354,{"$f":"Table1[[#This Row],[Count]]*Table1[[#This Row],[Price]]","v":1416}]
["2014-02-11",2014,2,"Portugal","Laptops","14INCH ULTRABOOK",1,234,{"$f":"Table1[[#This Row],[Count]]*Table1[[#This Row],[Price]]","v":234}]
["2014-02-12",2014,2,"USA","Workstations ","I7 MINI PC WITH HDMI QOTOM-T620",1,342,{"$f":"Table1[[#This Row],[Count]]*Table1[[#This Row],[Price]]","v":342}]
["2014-02-12",2014,2,"USA","Camera & Photo","FUJIFILM FINEPIX SL1000",3,330,{"$f":"Table1[[#This Row],[Count]]*Table1[[#This Row],[Price]]","v":990}]
["2014-02-12",2014,2,"Georgia","Tablet PCs","10 INCH TABLET HIGH QUALITY TABLET 1GB",1,174,{"$f":"Table1[[#This Row],[Count]]*Table1[[#This Row],[Price]]","v":174}]
["2014-02-12",2014,2,"USA","Workstations ","HZONE NCOMPUTING L230",2,354,{"$f":"Table1[[#This Row],[Count]]*Table1[[#This Row],[Price]]","v":708}]
["2014-02-13",2014,2,"Netherlands","Laptops","14INCH ULTRABOOK",2,234,{"$f":"Table1[[#This Row],[Count]]*Table1[[#This Row],[Price]]","v":468}]
["2014-02-13",2014,2,"Australia","Tablet PCs","7 INCH DUAL CORE ANDROID TABLET PC Q88",4,210,{"$f":"Table1[[#This Row],[Count]]*Table1[[#This Row],[Price]]","v":840}]
["2014-02-13",2014,2,"Spain","Workstations ","HIGH PERFORMANCE 4U LCD WORKSTATION C",3,366,{"$f":"Table1[[#This Row],[Count]]*Table1[[#This Row],[Price]]","v":1098}]
["2014-02-13",2014,2,"USA","Tablet PCs","TABLET 10-INCH QUAD-CORE A9",1,162,{"$f":"Table1[[#This Row],[Count]]*Table1[[#This Row],[Price]]","v":162}]
["2014-02-14",2014,2,"Hungary","Laptops","Y10D 10 INCH VIA 8880",3,246,{"$f":"Table1[[#This Row],[Count]]*Table1[[#This Row],[Price]]","v":738}]
["2014-02-14",2014,2,"USA","Camera & Photo","D3000 DIGITAL SLR",5,294,{"$f":"Table1[[#This Row],[Count]]*Table1[[#This Row],[Price]]","v":1470}]
["2014-02-14",2014,2,"Portugal","Workstations ","SUN BLADE 1500 WORKSTATION BASE SUN B1500",3,378,{"$f":"Table1[[#This Row],[Count]]*Table1[[#This Row],[Price]]","v":1134}]
["2014-02-14",2014,2,"USA","Workstations ","CLOUD COMPUTER THIN STATION FL300",5,390,{"$f":"Table1[[#This Row],[Count]]*Table1[[#This Row],[Price]]","v":1950}]
["2014-02-15",2014,2,"USA","Laptops","THINKPAD T440S",3,258,{"$f":"Table1[[#This Row],[Count]]*Table1[[#This Row],[Price]]","v":774}]
["2014-02-15",2014,2,"USA","Tablet PCs","PIPO M6 PRO 9.7 INCH 3G TABLET PC",2,186,{"$f":"Table1[[#This Row],[Count]]*Table1[[#This Row],[Price]]","v":372}]
["2014-02-15",2014,2,"USA","Tablet PCs","7 INCH DUAL CORE ANDROID TABLET PC Q88",3,210,{"$f":"Table1[[#This Row],[Count]]*Table1[[#This Row],[Price]]","v":630}]
["2014-02-15",2014,2,"Macedonia","Laptops","VIA 8850 ANDROID 4.0",1,282,{"$f":"Table1[[#This Row],[Count]]*Table1[[#This Row],[Price]]","v":282}]
["2014-02-16",2014,2,"Georgia","Tablet PCs","GOOWEEL Q88 PRO A23 DUAL CORE TABLET PC",1,198,{"$f":"Table1[[#This Row],[Count]]*Table1[[#This Row],[Price]]","v":198}]
["2014-02-16",2014,2,"USA","Laptops","Y10D 10 INCH VIA 8880",1,246,{"$f":"Table1[[#This Row],[Count]]*Table1[[#This Row],[Price]]","v":246}]
["2014-02-16",2014,2,"USA","Camera & Photo","SONY CYBERSHOT H200",1,318,{"$f":"Table1[[#This Row],[Count]]*Table1[[#This Row],[Price]]","v":318}]
["2014-02-16",2014,2,"Montenegro","Laptops","14INCH ULTRABOOK",5,234,{"$f":"Table1[[#This Row],[Count]]*Table1[[#This Row],[Price]]","v":1170}]
["2014-02-17",2014,2,"Andorra","Workstations ","SUN BLADE 1500 WORKSTATION BASE SUN B1500",3,378,{"$f":"Table1[[#This Row],[Count]]*Table1[[#This Row],[Price]]","v":1134}]
["2014-02-17",2014,2,"Belarus","Laptops","THINKPAD E445",3,222,{"$f":"Table1[[#This Row],[Count]]*Table1[[#This Row],[Price]]","v":666}]
["2014-02-17",2014,2,"USA","Camera & Photo","FUJIFILM FINEPIX SL1000",1,330,{"$f":"Table1[[#This Row],[Count]]*Table1[[#This Row],[Price]]","v":330}]
["2014-02-17",2014,2,"USA","Laptops","14.1\" AIR LAPTOP INTEL D2500",2,270,{"$f":"Table1[[#This Row],[Count]]*Table1[[#This Row],[Price]]","v":540}]
["2014-02-18",2014,2,"USA","Workstations ","SUN BLADE 1500 WORKSTATION BASE SUN B1500",1,378,{"$f":"Table1[[#This Row],[Count]]*Table1[[#This Row],[Price]]","v":378}]
["2014-02-18",2014,2,"Latvia","Tablet PCs","7 INCH DUAL CORE ANDROID TABLET PC Q88",5,210,{"$f":"Table1[[#This Row],[Count]]*Table1[[#This Row],[Price]]","v":1050}]
["2014-02-18",2014,2,"Greece","Workstations ","CLOUD COMPUTER THIN STATION FL300",4,390,{"$f":"Table1[[#This Row],[Count]]*Table1[[#This Row],[Price]]","v":1560}]
["2014-02-18",2014,2,"USA","Laptops","Y10D 10 INCH VIA 8880",3,246,{"$f":"Table1[[#This Row],[Count]]*Table1[[#This Row],[Price]]","v":738}]
["2014-02-19",2014,2,"USA","Workstations ","HIGH PERFORMANCE 4U LCD WORKSTATION C",3,366,{"$f":"Table1[[#This Row],[Count]]*Table1[[#This Row],[Price]]","v":1098}]
["2014-02-19",2014,2,"USA","Tablet PCs","7 INCH DUAL CORE ANDROID TABLET PC Q88",1,210,{"$f":"Table1[[#This Row],[Count]]*Table1[[#This Row],[Price]]","v":210}]
["2014-02-19",2014,2,"Estonia","Tablet PCs","10 INCH TABLET HIGH QUALITY TABLET 1GB",2,174,{"$f":"Table1[[#This Row],[Count]]*Table1[[#This Row],[Price]]","v":348}]
["2014-02-19",2014,2,"USA","Laptops","14.1\" AIR LAPTOP INTEL D2500",5,270,{"$f":"Table1[[#This Row],[Count]]*Table1[[#This Row],[Price]]","v":1350}]
["2014-02-20",2014,2,"Sweden","Laptops","Y10D 10 INCH VIA 8880",2,246,{"$f":"Table1[[#This Row],[Count]]*Table1[[#This Row],[Price]]","v":492}]
["2014-02-20",2014,2,"Portugal","Laptops","Y10D 10 INCH VIA 8880",1,246,{"$f":"Table1[[#This Row],[Count]]*Table1[[#This Row],[Price]]","v":246}]
["2014-02-20",2014,2,"USA","Camera & Photo","FUJIFILM FINEPIX SL1000",3,330,{"$f":"Table1[[#This Row],[Count]]*Table1[[#This Row],[Price]]","v":990}]
["2014-02-20",2014,2,"USA","Laptops","14INCH ULTRABOOK",4,234,{"$f":"Table1[[#This Row],[Count]]*Table1[[#This Row],[Price]]","v":936}]
["2014-02-21",2014,2,"USA","Tablet PCs","ONDA V975M TABLET PC",4,150,{"$f":"Table1[[#This Row],[Count]]*Table1[[#This Row],[Price]]","v":600}]
["2014-02-21",2014,2,"Poland","Tablet PCs","PIPO M6 PRO 9.7 INCH 3G TABLET PC",5,186,{"$f":"Table1[[#This Row],[Count]]*Table1[[#This Row],[Price]]","v":930}]
["2014-02-21",2014,2,"Slovakia","Camera & Photo","SONY CYBERSHOT H200",2,318,{"$f":"Table1[[#This Row],[Count]]*Table1[[#This Row],[Price]]","v":636}]
["2014-02-21",2014,2,"USA","Laptops","THINKPAD T440S",4,258,{"$f":"Table1[[#This Row],[Count]]*Table1[[#This Row],[Price]]","v":1032}]
["2014-02-22",2014,2,"Portugal","Laptops","14.1\" AIR LAPTOP INTEL D2500",4,270,{"$f":"Table1[[#This Row],[Count]]*Table1[[#This Row],[Price]]","v":1080}]
["2014-02-22",2014,2,"Bulgaria","Laptops","THINKPAD E445",5,222,{"$f":"Table1[[#This Row],[Count]]*Table1[[#This Row],[Price]]","v":1110}]
["2014-02-22",2014,2,"Spain","Camera & Photo","FUJIFILM FINEPIX SL1000",5,330,{"$f":"Table1[[#This Row],[Count]]*Table1[[#This Row],[Price]]","v":1650}]
["2014-02-22",2014,2,"Netherlands","Tablet PCs","PIPO M6 PRO 9.7 INCH 3G TABLET PC",2,186,{"$f":"Table1[[#This Row],[Count]]*Table1[[#This Row],[Price]]","v":372}]
["2014-02-23",2014,2,"USA","Camera & Photo","D3200 DIGITAL SLR",3,306,{"$f":"Table1[[#This Row],[Count]]*Table1[[#This Row],[Price]]","v":918}]
["2014-02-23",2014,2,"Spain","Workstations ","I7 MINI PC WITH HDMI QOTOM-T620",4,342,{"$f":"Table1[[#This Row],[Count]]*Table1[[#This Row],[Price]]","v":1368}]
["2014-02-23",2014,2,"Lithuania","Camera & Photo","D3000 DIGITAL SLR",2,294,{"$f":"Table1[[#This Row],[Count]]*Table1[[#This Row],[Price]]","v":588}]
["2014-02-23",2014,2,"Spain","Workstations ","SUN BLADE 1500 WORKSTATION BASE SUN B1500",5,378,{"$f":"Table1[[#This Row],[Count]]*Table1[[#This Row],[Price]]","v":1890}]
["2014-02-24",2014,2,"Netherlands","Tablet PCs","10 INCH TABLET HIGH QUALITY TABLET 1GB",2,174,{"$f":"Table1[[#This Row],[Count]]*Table1[[#This Row],[Price]]","v":348}]
["2014-02-24",2014,2,"Bosnia And Herzegovina","Camera & Photo","SONY CYBERSHOT H200",2,318,{"$f":"Table1[[#This Row],[Count]]*Table1[[#This Row],[Price]]","v":636}]
["2014-02-24",2014,2,"USA","Tablet PCs","GOOWEEL Q88 PRO A23 DUAL CORE TABLET PC",5,198,{"$f":"Table1[[#This Row],[Count]]*Table1[[#This Row],[Price]]","v":990}]
["2014-02-24",2014,2,"Sweden","Tablet PCs","GOOWEEL Q88 PRO A23 DUAL CORE TABLET PC",1,198,{"$f":"Table1[[#This Row],[Count]]*Table1[[#This Row],[Price]]","v":198}]
["2014-02-25",2014,2,"USA","Camera & Photo","FUJIFILM FINEPIX SL1000",1,330,{"$f":"Table1[[#This Row],[Count]]*Table1[[#This Row],[Price]]","v":330}]
["2014-02-25",2014,2,"Croatia","Workstations ","I7 MINI PC WITH HDMI QOTOM-T620",3,342,{"$f":"Table1[[#This Row],[Count]]*Table1[[#This Row],[Price]]","v":1026}]
["2014-02-25",2014,2,"USA","Camera & Photo","FUJIFILM FINEPIX SL1000",2,330,{"$f":"Table1[[#This Row],[Count]]*Table1[[#This Row],[Price]]","v":660}]
["2014-02-25",2014,2,"Ireland","Workstations ","HZONE NCOMPUTING L230",2,354,{"$f":"Table1[[#This Row],[Count]]*Table1[[#This Row],[Price]]","v":708}]
["2014-02-26",2014,2,"USA","Laptops","THINKPAD T440S",1,258,{"$f":"Table1[[#This Row],[Count]]*Table1[[#This Row],[Price]]","v":258}]
["2014-02-26",2014,2,"Serbien und Montenegro","Laptops","THINKPAD E445",5,222,{"$f":"Table1[[#This Row],[Count]]*Table1[[#This Row],[Price]]","v":1110}]
["2014-02-26",2014,2,"Belarus","Laptops","14.1\" AIR LAPTOP INTEL D2500",1,270,{"$f":"Table1[[#This Row],[Count]]*Table1[[#This Row],[Price]]","v":270}]
["2014-02-26",2014,2,"USA","Tablet PCs","ONDA V975M TABLET PC",1,150,{"$f":"Table1[[#This Row],[Count]]*Table1[[#This Row],[Price]]","v":150}]
["2014-02-27",2014,2,"Bulgaria","Workstations ","CLOUD COMPUTER THIN STATION FL300",4,390,{"$f":"Table1[[#This Row],[Count]]*Table1[[#This Row],[Price]]","v":1560}]
["2014-02-27",2014,2,"Luxembourg","Camera & Photo","SONY CYBERSHOT H200",4,318,{"$f":"Table1[[#This Row],[Count]]*Table1[[#This Row],[Price]]","v":1272}]
["2014-02-27",2014,2,"Malta","Camera & Photo","D3200 DIGITAL SLR",4,306,{"$f":"Table1[[#This Row],[Count]]*Table1[[#This Row],[Price]]","v":1224}]
["2014-02-27",2014,2,"Switzerland","Camera & Photo","D3000 DIGITAL SLR",5,294,{"$f":"Table1[[#This Row],[Count]]*Table1[[#This Row],[Price]]","v":1470}]
["2014-02-28",2014,2,"Austria","Workstations ","I7 MINI PC WITH HDMI QOTOM-T620",2,342,{"$f":"Table1[[#This Row],[Count]]*Table1[[#This Row],[Price]]","v":684}]
["2014-02-28",2014,2,"Albania","Camera & Photo","D3000 DIGITAL SLR",4,294,{"$f":"Table1[[#This Row],[Count]]*Table1[[#This Row],[Price]]","v":1176}]
["2014-02-28",2014,2,"Austria","Camera & Photo","D3000 DIGITAL SLR",1,294,{"$f":"Table1[[#This Row],[Count]]*Table1[[#This Row],[Price]]","v":294}]
["2014-02-28",2014,2,"USA","Laptops","THINKPAD T440S",5,258,{"$f":"Table1[[#This Row],[Count]]*Table1[[#This Row],[Price]]","v":1290}]
["2014-03-01",2014,3,"Serbien und Montenegro","Laptops","14INCH ULTRABOOK",3,234,{"$f":"Table1[[#This Row],[Count]]*Table1[[#This Row],[Price]]","v":702}]
["2014-03-01",2014,3,"USA","Camera & Photo","D3000 DIGITAL SLR",1,294,{"$f":"Table1[[#This Row],[Count]]*Table1[[#This Row],[Price]]","v":294}]
["2014-03-01",2014,3,"Switzerland","Workstations ","SUN BLADE 1500 WORKSTATION BASE SUN B1500",2,378,{"$f":"Table1[[#This Row],[Count]]*Table1[[#This Row],[Price]]","v":756}]
["2014-03-01",2014,3,"Albania","Laptops","14.1\" AIR LAPTOP INTEL D2500",4,270,{"$f":"Table1[[#This Row],[Count]]*Table1[[#This Row],[Price]]","v":1080}]
["2014-03-02",2014,3,"USA","Tablet PCs","GOOWEEL Q88 PRO A23 DUAL CORE TABLET PC",2,198,{"$f":"Table1[[#This Row],[Count]]*Table1[[#This Row],[Price]]","v":396}]
["2014-03-02",2014,3,"Romania","Tablet PCs","ONDA V975M TABLET PC",5,150,{"$f":"Table1[[#This Row],[Count]]*Table1[[#This Row],[Price]]","v":750}]
["2014-03-02",2014,3,"USA","Laptops","VIA 8850 ANDROID 4.0",2,282,{"$f":"Table1[[#This Row],[Count]]*Table1[[#This Row],[Price]]","v":564}]
["2014-03-02",2014,3,"Lithuania","Workstations ","CLOUD COMPUTER THIN STATION FL300",5,390,{"$f":"Table1[[#This Row],[Count]]*Table1[[#This Row],[Price]]","v":1950}]
["2014-03-03",2014,3,"USA","Laptops","VIA 8850 ANDROID 4.0",4,282,{"$f":"Table1[[#This Row],[Count]]*Table1[[#This Row],[Price]]","v":1128}]
["2014-03-03",2014,3,"Belgium","Camera & Photo","D3000 DIGITAL SLR",4,294,{"$f":"Table1[[#This Row],[Count]]*Table1[[#This Row],[Price]]","v":1176}]
["2014-03-03",2014,3,"USA","Laptops","Y10D 10 INCH VIA 8880",2,246,{"$f":"Table1[[#This Row],[Count]]*Table1[[#This Row],[Price]]","v":492}]
["2014-03-03",2014,3,"Denmark","Tablet PCs","ONDA V975M TABLET PC",2,150,{"$f":"Table1[[#This Row],[Count]]*Table1[[#This Row],[Price]]","v":300}]
["2014-03-04",2014,3,"USA","Camera & Photo","FUJIFILM FINEPIX SL1000",2,330,{"$f":"Table1[[#This Row],[Count]]*Table1[[#This Row],[Price]]","v":660}]
["2014-03-04",2014,3,"Poland","Tablet PCs","TABLET 10-INCH QUAD-CORE A9",2,162,{"$f":"Table1[[#This Row],[Count]]*Table1[[#This Row],[Price]]","v":324}]
["2014-03-04",2014,3,"Hungary","Workstations ","CLOUD COMPUTER THIN STATION FL300",2,390,{"$f":"Table1[[#This Row],[Count]]*Table1[[#This Row],[Price]]","v":780}]
["2014-03-04",2014,3,"Norway","Workstations ","CLOUD COMPUTER THIN STATION FL300",3,390,{"$f":"Table1[[#This Row],[Count]]*Table1[[#This Row],[Price]]","v":1170}]
["2014-03-05",2014,3,"USA","Workstations ","I7 MINI PC WITH HDMI QOTOM-T620",5,342,{"$f":"Table1[[#This Row],[Count]]*Table1[[#This Row],[Price]]","v":1710}]
["2014-03-05",2014,3,"Monaco","Workstations ","SUN BLADE 1500 WORKSTATION BASE SUN B1500",5,378,{"$f":"Table1[[#This Row],[Count]]*Table1[[#This Row],[Price]]","v":1890}]
["2014-03-05",2014,3,"Serbien und Montenegro","Laptops","THINKPAD E445",3,222,{"$f":"Table1[[#This Row],[Count]]*Table1[[#This Row],[Price]]","v":666}]
["2014-03-05",2014,3,"USA","Workstations ","CLOUD COMPUTER THIN STATION FL300",3,390,{"$f":"Table1[[#This Row],[Count]]*Table1[[#This Row],[Price]]","v":1170}]
["2014-03-06",2014,3,"USA","Laptops","14INCH ULTRABOOK",4,234,{"$f":"Table1[[#This Row],[Count]]*Table1[[#This Row],[Price]]","v":936}]
["2014-03-06",2014,3,"USA","Laptops","THINKPAD E445",3,222,{"$f":"Table1[[#This Row],[Count]]*Table1[[#This Row],[Price]]","v":666}]
["2014-03-06",2014,3,"Monaco","Tablet PCs","TABLET 10-INCH QUAD-CORE A9",1,162,{"$f":"Table1[[#This Row],[Count]]*Table1[[#This Row],[Price]]","v":162}]
["2014-03-06",2014,3,"Czech Republic","Tablet PCs","PIPO M6 PRO 9.7 INCH 3G TABLET PC",5,186,{"$f":"Table1[[#This Row],[Count]]*Table1[[#This Row],[Price]]","v":930}]
["2014-03-07",2014,3,"USA","Tablet PCs","7 INCH DUAL CORE ANDROID TABLET PC Q88",3,210,{"$f":"Table1[[#This Row],[Count]]*Table1[[#This Row],[Price]]","v":630}]
["2014-03-07",2014,3,"USA","Laptops","14.1\" AIR LAPTOP INTEL D2500",4,270,{"$f":"Table1[[#This Row],[Count]]*Table1[[#This Row],[Price]]","v":1080}]
["2014-03-07",2014,3,"Croatia","Laptops","THINKPAD E445",2,222,{"$f":"Table1[[#This Row],[Count]]*Table1[[#This Row],[Price]]","v":444}]
["2014-03-07",2014,3,"United Kingdom","Tablet PCs","10 INCH TABLET HIGH QUALITY TABLET 1GB",4,174,{"$f":"Table1[[#This Row],[Count]]*Table1[[#This Row],[Price]]","v":696}]
["2014-03-08",2014,3,"Denmark","Workstations ","SUN BLADE 1500 WORKSTATION BASE SUN B1500",2,378,{"$f":"Table1[[#This Row],[Count]]*Table1[[#This Row],[Price]]","v":756}]
["2014-03-08",2014,3,"Croatia","Laptops","THINKPAD T440S",3,258,{"$f":"Table1[[#This Row],[Count]]*Table1[[#This Row],[Price]]","v":774}]
["2014-03-08",2014,3,"Spain","Laptops","Y10D 10 INCH VIA 8880",2,246,{"$f":"Table1[[#This Row],[Count]]*Table1[[#This Row],[Price]]","v":492}]
["2014-03-08",2014,3,"Malta","Laptops","THINKPAD T440S",4,258,{"$f":"Table1[[#This Row],[Count]]*Table1[[#This Row],[Price]]","v":1032}]
["2014-03-09",2014,3,"Austria","Tablet PCs","10 INCH TABLET HIGH QUALITY TABLET 1GB",4,174,{"$f":"Table1[[#This Row],[Count]]*Table1[[#This Row],[Price]]","v":696}]
["2014-03-09",2014,3,"Luxembourg","Camera & Photo","FUJIFILM FINEPIX SL1000",1,330,{"$f":"Table1[[#This Row],[Count]]*Table1[[#This Row],[Price]]","v":330}]
["2014-03-09",2014,3,"Australia","Camera & Photo","FUJIFILM FINEPIX SL1000",2,330,{"$f":"Table1[[#This Row],[Count]]*Table1[[#This Row],[Price]]","v":660}]
["2014-03-09",2014,3,"USA","Laptops","14.1\" AIR LAPTOP INTEL D2500",1,270,{"$f":"Table1[[#This Row],[Count]]*Table1[[#This Row],[Price]]","v":270}]
["2014-03-10",2014,3,"Lithuania","Tablet PCs","GOOWEEL Q88 PRO A23 DUAL CORE TABLET PC",5,198,{"$f":"Table1[[#This Row],[Count]]*Table1[[#This Row],[Price]]","v":990}]
["2014-03-10",2014,3,"Czech Republic","Laptops","14INCH ULTRABOOK",1,234,{"$f":"Table1[[#This Row],[Count]]*Table1[[#This Row],[Price]]","v":234}]
["2014-03-10",2014,3,"Moldova","Tablet PCs","7 INCH DUAL CORE ANDROID TABLET PC Q88",2,210,{"$f":"Table1[[#This Row],[Count]]*Table1[[#This Row],[Price]]","v":420}]
["2014-03-10",2014,3,"Bulgaria","Tablet PCs","TABLET 10-INCH QUAD-CORE A9",2,162,{"$f":"Table1[[#This Row],[Count]]*Table1[[#This Row],[Price]]","v":324}]
["2014-03-11",2014,3,"Czech Republic","Camera & Photo","D3000 DIGITAL SLR",5,294,{"$f":"Table1[[#This Row],[Count]]*Table1[[#This Row],[Price]]","v":1470}]
["2014-03-11",2014,3,"Moldova","Camera & Photo","FUJIFILM FINEPIX SL1000",1,330,{"$f":"Table1[[#This Row],[Count]]*Table1[[#This Row],[Price]]","v":330}]
["2014-03-11",2014,3,"Moldova","Tablet PCs","7 INCH DUAL CORE ANDROID TABLET PC Q88",4,210,{"$f":"Table1[[#This Row],[Count]]*Table1[[#This Row],[Price]]","v":840}]
["2014-03-11",2014,3,"USA","Workstations ","CLOUD COMPUTER THIN STATION FL300",2,390,{"$f":"Table1[[#This Row],[Count]]*Table1[[#This Row],[Price]]","v":780}]
["2014-03-12",2014,3,"USA","Laptops","14INCH ULTRABOOK",5,234,{"$f":"Table1[[#This Row],[Count]]*Table1[[#This Row],[Price]]","v":1170}]
["2014-03-12",2014,3,"Montenegro","Laptops","14INCH ULTRABOOK",5,234,{"$f":"Table1[[#This Row],[Count]]*Table1[[#This Row],[Price]]","v":1170}]
["2014-03-12",2014,3,"Australia","Tablet PCs","TABLET 10-INCH QUAD-CORE A9",3,162,{"$f":"Table1[[#This Row],[Count]]*Table1[[#This Row],[Price]]","v":486}]
["2014-03-12",2014,3,"Monaco","Camera & Photo","D3200 DIGITAL SLR",2,306,{"$f":"Table1[[#This Row],[Count]]*Table1[[#This Row],[Price]]","v":612}]
["2014-03-13",2014,3,"USA","Laptops","VIA 8850 ANDROID 4.0",4,282,{"$f":"Table1[[#This Row],[Count]]*Table1[[#This Row],[Price]]","v":1128}]
["2014-03-13",2014,3,"Greece","Laptops","VIA 8850 ANDROID 4.0",2,282,{"$f":"Table1[[#This Row],[Count]]*Table1[[#This Row],[Price]]","v":564}]
["2014-03-13",2014,3,"USA","Tablet PCs","7 INCH DUAL CORE ANDROID TABLET PC Q88",2,210,{"$f":"Table1[[#This Row],[Count]]*Table1[[#This Row],[Price]]","v":420}]
["2014-03-13",2014,3,"Serbien und Montenegro","Laptops","14INCH ULTRABOOK",1,234,{"$f":"Table1[[#This Row],[Count]]*Table1[[#This Row],[Price]]","v":234}]
["2014-03-14",2014,3,"Slovakia","Tablet PCs","7 INCH DUAL CORE ANDROID TABLET PC Q88",1,210,{"$f":"Table1[[#This Row],[Count]]*Table1[[#This Row],[Price]]","v":210}]
["2014-03-14",2014,3,"Norway","Laptops","THINKPAD T440S",5,258,{"$f":"Table1[[#This Row],[Count]]*Table1[[#This Row],[Price]]","v":1290}]
["2014-03-14",2014,3,"USA","Camera & Photo","FUJIFILM FINEPIX SL1000",4,330,{"$f":"Table1[[#This Row],[Count]]*Table1[[#This Row],[Price]]","v":1320}]
["2014-03-14",2014,3,"Belarus","Tablet PCs","ONDA V975M TABLET PC",1,150,{"$f":"Table1[[#This Row],[Count]]*Table1[[#This Row],[Price]]","v":150}]
["2014-03-15",2014,3,"USA","Workstations ","I7 MINI PC WITH HDMI QOTOM-T620",4,342,{"$f":"Table1[[#This Row],[Count]]*Table1[[#This Row],[Price]]","v":1368}]
["2014-03-15",2014,3,"Italy","Tablet PCs","ONDA V975M TABLET PC",3,150,{"$f":"Table1[[#This Row],[Count]]*Table1[[#This Row],[Price]]","v":450}]
["2014-03-15",2014,3,"Portugal","Camera & Photo","D3200 DIGITAL SLR",4,306,{"$f":"Table1[[#This Row],[Count]]*Table1[[#This Row],[Price]]","v":1224}]
["2014-03-15",2014,3,"Slovakia","Camera & Photo","SONY CYBERSHOT H200",2,318,{"$f":"Table1[[#This Row],[Count]]*Table1[[#This Row],[Price]]","v":636}]
["2014-03-16",2014,3,"Netherlands","Camera & Photo","D3000 DIGITAL SLR",5,294,{"$f":"Table1[[#This Row],[Count]]*Table1[[#This Row],[Price]]","v":1470}]
["2014-03-16",2014,3,"Bosnia And Herzegovina","Camera & Photo","D3000 DIGITAL SLR",2,294,{"$f":"Table1[[#This Row],[Count]]*Table1[[#This Row],[Price]]","v":588}]
["2014-03-16",2014,3,"USA","Camera & Photo","D3200 DIGITAL SLR",2,306,{"$f":"Table1[[#This Row],[Count]]*Table1[[#This Row],[Price]]","v":612}]
["2014-03-16",2014,3,"Monaco","Tablet PCs","PIPO M6 PRO 9.7 INCH 3G TABLET PC",1,186,{"$f":"Table1[[#This Row],[Count]]*Table1[[#This Row],[Price]]","v":186}]
["2014-03-17",2014,3,"Belarus","Tablet PCs","10 INCH TABLET HIGH QUALITY TABLET 1GB",1,174,{"$f":"Table1[[#This Row],[Count]]*Table1[[#This Row],[Price]]","v":174}]
["2014-03-17",2014,3,"USA","Workstations ","SUN BLADE 1500 WORKSTATION BASE SUN B1500",5,378,{"$f":"Table1[[#This Row],[Count]]*Table1[[#This Row],[Price]]","v":1890}]
["2014-03-17",2014,3,"USA","Laptops","THINKPAD T440S",1,258,{"$f":"Table1[[#This Row],[Count]]*Table1[[#This Row],[Price]]","v":258}]
["2014-03-17",2014,3,"Australia","Tablet PCs","PIPO M6 PRO 9.7 INCH 3G TABLET PC",4,186,{"$f":"Table1[[#This Row],[Count]]*Table1[[#This Row],[Price]]","v":744}]
["2014-03-18",2014,3,"USA","Camera & Photo","SONY CYBERSHOT H200",3,318,{"$f":"Table1[[#This Row],[Count]]*Table1[[#This Row],[Price]]","v":954}]
["2014-03-18",2014,3,"Romania","Tablet PCs","TABLET 10-INCH QUAD-CORE A9",5,162,{"$f":"Table1[[#This Row],[Count]]*Table1[[#This Row],[Price]]","v":810}]
["2014-03-18",2014,3,"Czech Republic","Camera & Photo","SONY CYBERSHOT H200",4,318,{"$f":"Table1[[#This Row],[Count]]*Table1[[#This Row],[Price]]","v":1272}]
["2014-03-18",2014,3,"USA","Tablet PCs","PIPO M6 PRO 9.7 INCH 3G TABLET PC",3,186,{"$f":"Table1[[#This Row],[Count]]*Table1[[#This Row],[Price]]","v":558}]
["2014-03-19",2014,3,"Australia","Tablet PCs","10 INCH TABLET HIGH QUALITY TABLET 1GB",4,174,{"$f":"Table1[[#This Row],[Count]]*Table1[[#This Row],[Price]]","v":696}]
["2014-03-19",2014,3,"USA","Tablet PCs","7 INCH DUAL CORE ANDROID TABLET PC Q88",5,210,{"$f":"Table1[[#This Row],[Count]]*Table1[[#This Row],[Price]]","v":1050}]
["2014-03-19",2014,3,"USA","Camera & Photo","FUJIFILM FINEPIX SL1000",2,330,{"$f":"Table1[[#This Row],[Count]]*Table1[[#This Row],[Price]]","v":660}]
["2014-03-19",2014,3,"Georgia","Camera & Photo","SONY CYBERSHOT H200",5,318,{"$f":"Table1[[#This Row],[Count]]*Table1[[#This Row],[Price]]","v":1590}]
["2014-03-20",2014,3,"USA","Workstations ","I7 MINI PC WITH HDMI QOTOM-T620",5,342,{"$f":"Table1[[#This Row],[Count]]*Table1[[#This Row],[Price]]","v":1710}]
["2014-03-20",2014,3,"Bosnia And Herzegovina","Laptops","THINKPAD T440S",2,258,{"$f":"Table1[[#This Row],[Count]]*Table1[[#This Row],[Price]]","v":516}]
["2014-03-20",2014,3,"Italy","Workstations ","SUN BLADE 1500 WORKSTATION BASE SUN B1500",1,378,{"$f":"Table1[[#This Row],[Count]]*Table1[[#This Row],[Price]]","v":378}]
["2014-03-20",2014,3,"Hungary","Workstations ","HZONE NCOMPUTING L230",2,354,{"$f":"Table1[[#This Row],[Count]]*Table1[[#This Row],[Price]]","v":708}]
["2014-03-21",2014,3,"USA","Tablet PCs","GOOWEEL Q88 PRO A23 DUAL CORE TABLET PC",3,198,{"$f":"Table1[[#This Row],[Count]]*Table1[[#This Row],[Price]]","v":594}]
["2014-03-21",2014,3,"Latvia","Laptops","VIA 8850 ANDROID 4.0",4,282,{"$f":"Table1[[#This Row],[Count]]*Table1[[#This Row],[Price]]","v":1128}]
["2014-03-21",2014,3,"USA","Camera & Photo","SONY CYBERSHOT H200",3,318,{"$f":"Table1[[#This Row],[Count]]*Table1[[#This Row],[Price]]","v":954}]
["2014-03-21",2014,3,"USA","Camera & Photo","D3200 DIGITAL SLR",1,306,{"$f":"Table1[[#This Row],[Count]]*Table1[[#This Row],[Price]]","v":306}]
["2014-03-22",2014,3,"Denmark","Laptops","THINKPAD E445",4,222,{"$f":"Table1[[#This Row],[Count]]*Table1[[#This Row],[Price]]","v":888}]
["2014-03-22",2014,3,"Poland","Laptops","14.1\" AIR LAPTOP INTEL D2500",1,270,{"$f":"Table1[[#This Row],[Count]]*Table1[[#This Row],[Price]]","v":270}]
["2014-03-22",2014,3,"Ireland","Tablet PCs","TABLET 10-INCH QUAD-CORE A9",1,162,{"$f":"Table1[[#This Row],[Count]]*Table1[[#This Row],[Price]]","v":162}]
["2014-03-22",2014,3,"Italy","Tablet PCs","10 INCH TABLET HIGH QUALITY TABLET 1GB",4,174,{"$f":"Table1[[#This Row],[Count]]*Table1[[#This Row],[Price]]","v":696}]
["2014-03-23",2014,3,"Montenegro","Laptops","14.1\" AIR LAPTOP INTEL D2500",1,270,{"$f":"Table1[[#This Row],[Count]]*Table1[[#This Row],[Price]]","v":270}]
["2014-03-23",2014,3,"Belgium","Camera & Photo","SONY CYBERSHOT H200",2,318,{"$f":"Table1[[#This Row],[Count]]*Table1[[#This Row],[Price]]","v":636}]
["2014-03-23",2014,3,"Andorra","Tablet PCs","10 INCH TABLET HIGH QUALITY TABLET 1GB",2,174,{"$f":"Table1[[#This Row],[Count]]*Table1[[#This Row],[Price]]","v":348}]
["2014-03-23",2014,3,"Germany","Laptops","VIA 8850 ANDROID 4.0",3,282,{"$f":"Table1[[#This Row],[Count]]*Table1[[#This Row],[Price]]","v":846}]
["2014-03-24",2014,3,"Bosnia And Herzegovina","Tablet PCs","TABLET 10-INCH QUAD-CORE A9",5,162,{"$f":"Table1[[#This Row],[Count]]*Table1[[#This Row],[Price]]","v":810}]
["2014-03-24",2014,3,"USA","Laptops","VIA 8850 ANDROID 4.0",1,282,{"$f":"Table1[[#This Row],[Count]]*Table1[[#This Row],[Price]]","v":282}]
["2014-03-24",2014,3,"Estonia","Tablet PCs","10 INCH TABLET HIGH QUALITY TABLET 1GB",1,174,{"$f":"Table1[[#This Row],[Count]]*Table1[[#This Row],[Price]]","v":174}]
["2014-03-24",2014,3,"Slovakia","Laptops","14INCH ULTRABOOK",3,234,{"$f":"Table1[[#This Row],[Count]]*Table1[[#This Row],[Price]]","v":702}]
["2014-03-25",2014,3,"Ireland","Workstations ","HIGH PERFORMANCE 4U LCD WORKSTATION C",4,366,{"$f":"Table1[[#This Row],[Count]]*Table1[[#This Row],[Price]]","v":1464}]
["2014-03-25",2014,3,"USA","Workstations ","HZONE NCOMPUTING L230",4,354,{"$f":"Table1[[#This Row],[Count]]*Table1[[#This Row],[Price]]","v":1416}]
["2014-03-25",2014,3,"Austria","Workstations ","HIGH PERFORMANCE 4U LCD WORKSTATION C",1,366,{"$f":"Table1[[#This Row],[Count]]*Table1[[#This Row],[Price]]","v":366}]
["2014-03-25",2014,3,"USA","Tablet PCs","TABLET 10-INCH QUAD-CORE A9",1,162,{"$f":"Table1[[#This Row],[Count]]*Table1[[#This Row],[Price]]","v":162}]
["2014-03-26",2014,3,"Australia","Workstations ","HZONE NCOMPUTING L230",4,354,{"$f":"Table1[[#This Row],[Count]]*Table1[[#This Row],[Price]]","v":1416}]
["2014-03-26",2014,3,"France","Laptops","THINKPAD E445",5,222,{"$f":"Table1[[#This Row],[Count]]*Table1[[#This Row],[Price]]","v":1110}]
["2014-03-26",2014,3,"USA","Camera & Photo","D3200 DIGITAL SLR",1,306,{"$f":"Table1[[#This Row],[Count]]*Table1[[#This Row],[Price]]","v":306}]
["2014-03-26",2014,3,"USA","Camera & Photo","D3000 DIGITAL SLR",3,294,{"$f":"Table1[[#This Row],[Count]]*Table1[[#This Row],[Price]]","v":882}]
["2014-03-27",2014,3,"USA","Camera & Photo","SONY CYBERSHOT H200",4,318,{"$f":"Table1[[#This Row],[Count]]*Table1[[#This Row],[Price]]","v":1272}]
["2014-03-27",2014,3,"Poland","Tablet PCs","ONDA V975M TABLET PC",1,150,{"$f":"Table1[[#This Row],[Count]]*Table1[[#This Row],[Price]]","v":150}]
["2014-03-27",2014,3,"Finland","Workstations ","HIGH PERFORMANCE 4U LCD WORKSTATION C",5,366,{"$f":"Table1[[#This Row],[Count]]*Table1[[#This Row],[Price]]","v":1830}]
["2014-03-27",2014,3,"Belgium","Laptops","VIA 8850 ANDROID 4.0",5,282,{"$f":"Table1[[#This Row],[Count]]*Table1[[#This Row],[Price]]","v":1410}]
["2014-03-28",2014,3,"Sweden","Laptops","THINKPAD T440S",5,258,{"$f":"Table1[[#This Row],[Count]]*Table1[[#This Row],[Price]]","v":1290}]
["2014-03-28",2014,3,"Moldova","Workstations ","I7 MINI PC WITH HDMI QOTOM-T620",1,342,{"$f":"Table1[[#This Row],[Count]]*Table1[[#This Row],[Price]]","v":342}]
["2014-03-28",2014,3,"Croatia","Tablet PCs","10 INCH TABLET HIGH QUALITY TABLET 1GB",1,174,{"$f":"Table1[[#This Row],[Count]]*Table1[[#This Row],[Price]]","v":174}]
["2014-03-28",2014,3,"Poland","Laptops","THINKPAD E445",2,222,{"$f":"Table1[[#This Row],[Count]]*Table1[[#This Row],[Price]]","v":444}]
["2014-03-29",2014,3,"Georgia","Workstations ","HIGH PERFORMANCE 4U LCD WORKSTATION C",2,366,{"$f":"Table1[[#This Row],[Count]]*Table1[[#This Row],[Price]]","v":732}]
["2014-03-29",2014,3,"USA","Tablet PCs","ONDA V975M TABLET PC",1,150,{"$f":"Table1[[#This Row],[Count]]*Table1[[#This Row],[Price]]","v":150}]
["2014-03-29",2014,3,"United Kingdom","Workstations ","I7 MINI PC WITH HDMI QOTOM-T620",3,342,{"$f":"Table1[[#This Row],[Count]]*Table1[[#This Row],[Price]]","v":1026}]
["2014-03-29",2014,3,"Georgia","Tablet PCs","GOOWEEL Q88 PRO A23 DUAL CORE TABLET PC",2,198,{"$f":"Table1[[#This Row],[Count]]*Table1[[#This Row],[Price]]","v":396}]
["2014-03-30",2014,3,"Albania","Camera & Photo","FUJIFILM FINEPIX SL1000",4,330,{"$f":"Table1[[#This Row],[Count]]*Table1[[#This Row],[Price]]","v":1320}]
["2014-03-30",2014,3,"Hungary","Laptops","14.1\" AIR LAPTOP INTEL D2500",5,270,{"$f":"Table1[[#This Row],[Count]]*Table1[[#This Row],[Price]]","v":1350}]
["2014-03-30",2014,3,"USA","Camera & Photo","FUJIFILM FINEPIX SL1000",5,330,{"$f":"Table1[[#This Row],[Count]]*Table1[[#This Row],[Price]]","v":1650}]
["2014-03-30",2014,3,"Lithuania","Laptops","Y10D 10 INCH VIA 8880",2,246,{"$f":"Table1[[#This Row],[Count]]*Table1[[#This Row],[Price]]","v":492}]

{"sheet":"Filter","index":1,"n_rows":22,"n_cols":9,"rows_kept":22,"cut":false,"hidden":false,"merged":[[0,0,0,8],[3,6,3,8],[4,6,6,8]]}
["Advanced Filter"]
[]
[null,null,"Year",2014]
[null,null,"Month",null,null,null,"www.excely.com"]
[null,null,"Country","USA",null,null,"More Excel Templates, Arcticles about Excel and VBA development"]
[null,null,"Category"]
[null,null,"Product","VIA"]
[]
["Date","Year","Month","Country","Category","Product","Count","Price","Total"]
["2014-01-11",2014,1,"USA","Laptops","Y10D 10 INCH VIA 8880",1,246,246]
["2014-01-26",2014,1,"USA","Laptops","Y10D 10 INCH VIA 8880",4,246,984]
["2014-01-26",2014,1,"USA","Laptops","VIA 8850 ANDROID 4.0",1,282,282]
["2014-01-28",2014,1,"USA","Laptops","Y10D 10 INCH VIA 8880",1,246,246]
["2014-01-28",2014,1,"USA","Laptops","Y10D 10 INCH VIA 8880",2,246,492]
["2014-02-10",2014,2,"USA","Laptops","VIA 8850 ANDROID 4.0",5,282,1410]
["2014-02-16",2014,2,"USA","Laptops","Y10D 10 INCH VIA 8880",1,246,246]
["2014-02-18",2014,2,"USA","Laptops","Y10D 10 INCH VIA 8880",3,246,738]
["2014-03-02",2014,3,"USA","Laptops","VIA 8850 ANDROID 4.0",2,282,564]
["2014-03-03",2014,3,"USA","Laptops","VIA 8850 ANDROID 4.0",4,282,1128]
["2014-03-03",2014,3,"USA","Laptops","Y10D 10 INCH VIA 8880",2,246,492]
["2014-03-13",2014,3,"USA","Laptops","VIA 8850 ANDROID 4.0",4,282,1128]
["2014-03-24",2014,3,"USA","Laptops","VIA 8850 ANDROID 4.0",1,282,282]