{"text_format":"1","workbook":"xlsx","n_sheets":4,"sheets":["      ID       ","    RASPORED   ","za stampu ","isto sve macro "],"not_rendered":{"charts":0,"images":0,"macros":1,"external_links":0,"defined_names":3,"comments":0,"pivot_tables":0},"unopened":[],"bounds":{"document_bytes":16777216,"sheet_cells":100000,"rows_first":2000,"rows_last":500,"rows_between":2000,"halvings":0,"cell_chars":16384,"cell_head_chars":4096},"cells_cut":0,"cells_raw":0,"read":"whole","date_system":"1900"}

{"sheet":"      ID       ","index":0,"n_rows":39,"n_cols":49,"rows_kept":39,"cut":false,"hidden":false,"merged":[[3,3,3,20],[5,1,6,1],[5,2,6,2],[5,0,6,0],[5,44,6,44],[5,45,6,45],[5,46,6,46],[5,47,6,47],[5,39,6,39],[5,40,6,40],[5,41,6,41],[5,42,6,42],[5,43,6,43]]}
[null,null,null,null,null,"U ovu tabelu se rucno unose smjene, u ostale sheetove se preko formula automatski pravi spisak za smjenski rad "]
[null,null,null,null,null,"Bitno je unijeti ID broj i IME, kasnije ih mozete sakriti, a gledati u tabelu sa punim imenom i prezimenom."]
["Unesite rucno mjesec ili godinu"]
[2013,null,null,"Veliko hvala!!!   ib.kroki,elektroing i Jpeci.",null,null,null,null,null,null,null,null,null,null,null,null,null,null,null,null,null,null,null,null,null,null,null,null,null,null,null,null,null,null,"Nastavlja se 5 dana novembra, kome ne treba neka ih sakrije"]
[10]
["Ime i Prezime","ID BROJ","Ime",{"$f":"DATE($A$4,$A$5,1)","v":"2013-10-01"},{"$f":"D6+1","v":"2013-10-02"},{"$f":"E6+1","v":"2013-10-03"},"2013-10-04","2013-10-05","2013-10-06","2013-10-07","2013-10-08","2013-10-09","2013-10-10","2013-10-11","2013-10-12","2013-10-13","2013-10-14","2013-10-15","2013-10-16","2013-10-17","2013-10-18","2013-10-19","2013-10-20","2013-10-21","2013-10-22","2013-10-23","2013-10-24","2013-10-25","2013-10-26","2013-10-27","2013-10-28","2013-10-29","2013-10-30","2013-10-31",{"$f":"AH6+1","v":"2013-11-01"},{"$f":"AI6+1","v":"2013-11-02"},{"$f":"AJ6+1","v":"2013-11-03"},{"$f":"AK6+1","v":"2013-11-04"},{"$f":"AL6+1","v":"2013-11-05"},"00-08"," 08-16 "," 16-24 ","Bol.","Od/sl.","Pra.","Pre.","Uk. (h)","Uk. (d)","Ovdje se zbirno sve sabira, svi"]
[null,null,null,{"$f":"D6","v":"2013-10-01"},{"$f":"E6","v":"2013-10-02"},"2013-10-03","2013-10-04","2013-10-05","2013-10-06","2013-10-07","2013-10-08","2013-10-09","2013-10-10","2013-10-11","2013-10-12","2013-10-13","2013-10-14","2013-10-15","2013-10-16","2013-10-17","2013-10-18","2013-10-19","2013-10-20","2013-10-21","2013-10-22","2013-10-23","2013-10-24","2013-10-25","2013-10-26","2013-10-27","2013-10-28","2013-10-29","2013-10-30","2013-10-31",{"$f":"AI6","v":"2013-11-01"},"2013-11-02","2013-11-03","2013-11-04","2013-11-05",null,null,null,null,null,null,null,null,null," zaposleni, ukljucujuci :"]
["Marko Markovic",1111,"Marko",1,1,null,2,2,3,3,null,1,1,null,2,2,3,3,null,1,1,null,2,2,3,3,null,null,"pr1",1,"pr2",2,"pr3",3,null,null,null,null,null,{"$f":"COUNTIF(D8:AH8,1)*8+COUNTIF(I8:AM8,\"PR1\")*8","v":64},{"$f":"COUNTIF(D8:AH8,2)*8","v":56},{"$f":"COUNTIF(D8:AH8,3)*8","v":56},{"$f":"COUNTIF(D8:AH8,\"BO\")*8","v":0},{"$f":"COUNTIF(D8:AH8,\"GO\")*8+COUNTIF(I8:AM8,\"SL\")*8","v":0},{"$f":"COUNTIF(D8:AH8,\"PR2\")*8+COUNTIF(I8:AM8,\"PR3\")*8+COUNTIF(I8:AM8,\"PR1\")*8","v":24},null,{"$f":"SUM(AN8:AS8)-COUNTIF(D8:AM8,\"PR1\")*8","v":192},{"$f":"AU8/8","v":24},"PR1- kao praznicni rad "]
["Ognjen Ognjenovic",2222,"Ognjen",1,1,null,2,2,3,3,null,1,1,null,2,2,3,3,null,1,1,null,2,2,3,3,null,null,"pr1",1,"pr2",2,"pr3",3,null,null,null,null,null,{"$f":"COUNTIF(D9:AH9,1)*8+COUNTIF(I9:AM9,\"PR1\")*8","v":64},{"$f":"COUNTIF(D9:AH9,2)*8","v":56},{"$f":"COUNTIF(D9:AH9,3)*8","v":56},{"$f":"COUNTIF(D9:AH9,\"BO\")*8","v":0},{"$f":"COUNTIF(D9:AH9,\"GO\")*8+COUNTIF(I9:AM9,\"SL\")*8","v":0},{"$f":"COUNTIF(D9:AH9,\"PR2\")*8+COUNTIF(I9:AM9,\"PR3\")*8+COUNTIF(I9:AM9,\"PR1\")*8","v":24},null,{"$f":"SUM(AN9:AS9)-COUNTIF(D9:AM9,\"PR1\")*8","v":192},{"$f":"AU9/8","v":24},"u 1 smjeni, PR2 id."]
["itd.",3333,"Petar",1,1,null,2,2,3,3,null,1,1,null,2,2,3,3,null,1,1,null,2,2,3,3,null,null,"pr1",1,"pr2",2,"pr3",3,null,null,null,null,null,64,56,56,0,0,24,null,192,24,"GO- Odmor"]
["itd.",4444,"Veselin",1,1,null,2,2,3,3,null,1,1,null,2,2,3,3,null,1,1,null,2,2,3,3,null,null,"pr1",1,"pr2",2,"pr3",3,null,null,null,null,null,64,56,56,0,0,24,null,192,24,"BO- Bolovanje"]
["itd.",5555,"Slavko",1,1,null,2,2,3,3,null,1,1,null,2,2,3,3,null,1,1,null,2,2,3,3,null,null,"pr1",1,"pr2",2,"pr3",3,null,null,null,null,null,64,56,56,0,0,24,null,192,24,"SL- Slava"]
["itd.",6666,"Danilo",1,1,null,2,2,3,3,null,1,1,null,2,2,3,3,null,1,1,null,2,2,3,3,null,null,"pr1",1,"pr2",2,"pr3",3,null,null,null,null,null,64,56,56,0,0,24,null,192,24]
[null,null,null,null,null,null,null,null,null,null,null,null,null,null,null,null,null,null,null,null,null,null,null,null,null,null,null,null,null,null,null,null,null,null,null,null,null,null,null,0,0,0,0,0,0,null,0,0]
[null,null,null,null,null,null,null,null,null,null,null,null,null,null,null,null,null,null,null,null,null,null,null,null,null,null,null,null,null,null,null,null,null,null,null,null,null,null,null,0,0,0,0,0,0,null,0,0]
[null,null,null,null,null,null,null,null,null,null,null,null,null,null,null,null,null,null,null,null,null,null,null,null,null,null,null,null,null,null,null,null,null,null,null,null,null,null,null,0,0,0,0,0,0,null,0,0]
[null,null,null,null,null,null,null,null,null,null,null,null,null,null,null,null,null,null,null,null,null,null,null,null,null,null,null,null,null,null,null,null,null,null,null,null,null,null,null,0,0,0,0,0,0,null,0,0]
[null,null,null,null,null,null,null,null,null,null,null,null,null,null,null,null,null,null,null,null,null,null,null,null,null,null,null,null,null,null,null,null,null,null,null,null,null,null,null,0,0,0,0,0,0,null,0,0]
[null,null,null,null,null,null,null,null,null,null,null,null,null,null,null,null,null,null,null,null,null,null,null,null,null,null,null,null,null,null,null,null,null,null,null,null,null,null,null,0,0,0,0,0,0,null,0,0]
[null,null,null,null,null,null,null,null,null,null,null,null,null,null,null,null,null,null,null,null,null,null,null,null,null,null,null,null,null,null,null,null,null,null,null,null,null,null,null,0,0,0,0,0,0,null,0,0]
[null,null,null,null,null,null,null,null,null,null,null,null,null,null,null,null,null,null,null,null,null,null,null,null,null,null,null,null,null,null,null,null,null,null,null,null,null,null,null,0,0,0,0,0,0,null,0,0]
[null,null,null,null,null,null,null,null,null,null,null,null,null,null,null,null,null,null,null,null,null,null,null,null,null,null,null,null,null,null,null,null,null,null,null,null,null,null,null,0,0,0,0,0,0,null,0,0]
[null,null,null,null,null,null,null,null,null,null,null,null,null,null,null,null,null,null,null,null,null,null,null,null,null,null,null,null,null,null,null,null,null,null,null,null,null,null,null,0,0,0,0,0,0,null,0,0]
[null,null,null,null,null,null,null,null,null,null,null,null,null,null,null,null,null,null,null,null,null,null,null,null,null,null,null,null,null,null,null,null,null,null,null,null,null,null,null,0,0,0,0,0,0,null,0,0]
[null,null,null,null,null,null,null,null,null,null,null,null,null,null,null,null,null,null,null,null,null,null,null,null,null,null,null,null,null,null,null,null,null,null,null,null,null,null,null,0,0,0,0,0,0,null,0,0]
[null,null,null,null,null,null,null,null,null,null,null,null,null,null,null,null,null,null,null,null,null,null,null,null,null,null,null,null,null,null,null,null,null,null,null,null,null,null,null,0,0,0,0,0,0,null,0,0]
[null,null,null,null,null,null,null,null,null,null,null,null,null,null,null,null,null,null,null,null,null,null,null,null,null,null,null,null,null,null,null,null,null,null,null,null,null,null,null,0,0,0,0,0,0,null,0,0]
[null,null,null,null,null,null,null,null,null,null,null,null,null,null,null,null,null,null,null,null,null,null,null,null,null,null,null,null,null,null,null,null,null,null,null,null,null,null,null,0,0,0,0,0,0,null,0,0]
[null,null,null,null,null,null,null,null,null,null,null,null,null,null,null,null,null,null,null,null,null,null,null,null,null,null,null,null,null,null,null,null,null,null,null,null,null,null,null,0,0,0,0,0,0,null,0,0]
[null,null,null,null,null,null,null,null,null,null,null,null,null,null,null,null,null,null,null,null,null,null,null,null,null,null,null,null,null,null,null,null,null,null,null,null,null,null,null,0,0,0,0,0,0,null,0,0]
[null,null,null,null,null,null,null,null,null,null,null,null,null,null,null,null,null,null,null,null,null,null,null,null,null,null,null,null,null,null,null,null,null,null,null,null,null,null,null,0,0,0,0,0,0,null,0,0]
[null,null,null,null,null,null,null,null,null,null,null,null,null,null,null,null,null,null,null,null,null,null,null,null,null,null,null,null,null,null,null,null,null,null,null,null,null,null,null,0,0,0,0,0,0,null,0,0]
[null,null,null,null,null,null,null,null,null,null,null,null,null,null,null,null,null,null,null,null,null,null,null,null,null,null,null,null,null,null,null,null,null,null,null,null,null,null,null,0,0,0,0,0,0,null,0,0]
[null,null,null,null,null,null,null,null,null,null,null,null,null,null,null,null,null,null,null,null,null,null,null,null,null,null,null,null,null,null,null,null,null,null,null,null,null,null,null,0,0,0,0,0,0,null,0,0]
[null,null,null,null,null,null,null,null,null,null,null,null,null,null,null,null,null,null,null,null,null,null,null,null,null,null,null,null,null,null,null,null,null,null,null,null,null,null,null,0,0,0,0,0,0,null,0,0]
[null,null,null,null,null,null,null,null,null,null,null,null,null,null,null,null,null,null,null,null,null,null,null,null,null,null,null,null,null,null,null,null,null,null,null,null,null,null,null,0,0,0,0,0,0,null,0,0]
[null,null,null,null,null,null,null,null,null,null,null,null,null,null,null,null,null,null,null,null,null,null,null,null,null,null,null,null,null,null,null,null,null,null,null,null,null,null,null,{"$f":"COUNTIF(D37:AM37,1)*8+COUNTIF(I37:AM37,\"PR1\")*8","v":0},{"$f":"COUNTIF(D37:AM37,2)*8","v":0},{"$f":"COUNTIF(D37:AM37,3)*8","v":0},{"$f":"COUNTIF(D37:AM37,\"BO\")*8","v":0},{"$f":"COUNTIF(D37:AM37,\"GO\")*8+COUNTIF(I37:AM37,\"SL\")*8","v":0},{"$f":"COUNTIF(D37:AM37,\"PR2\")*8+COUNTIF(I37:AM37,\"PR3\")*8+COUNTIF(I37:AM37,\"PR1\")*8","v":0},null,{"$f":"SUM(AN37:AS37)-COUNTIF(D37:AM37,\"PR1\")*8","v":0},{"$f":"AU37/8","v":0}]
[null,null,null,null,null,null,null,null,null,null,null,null,null,null,null,null,null,null,null,null,null,null,null,null,null,null,null,null,null,null,null,null,null,null,null,null,null,null,null,0,0,0,0,0,0,null,0,0]
[null,null,null,null,null,null,null,null,null,null,null,null,null,null,null,null,null,null,null,null,null,null,null,null,null,null,null,null,null,null,null,null,null,null,null,null,null,null,null,0,0,0,0,0,0,null,0,0]

{"sheet":"    RASPORED   ","index":1,"n_rows":20,"n_cols":81,"rows_kept":20,"cut":false,"hidden":false,"merged":[]}
[null,"smena","rbr",{"$f":"'      ID       '!D6","v":"2013-10-01"},{"$f":"D1+1","v":"2013-10-02"},{"$f":"E1+1","v":"2013-10-03"},"2013-10-04","2013-10-05","2013-10-06","2013-10-07","2013-10-08","2013-10-09","2013-10-10","2013-10-11","2013-10-12","2013-10-13","2013-10-14","2013-10-15","2013-10-16","2013-10-17","2013-10-18","2013-10-19","2013-10-20","2013-10-21","2013-10-22","2013-10-23","2013-10-24","2013-10-25","2013-10-26","2013-10-27","2013-10-28","2013-10-29","2013-10-30","2013-10-31","2013-11-01","2013-11-02","2013-11-03","2013-11-04","2013-11-05","2013-11-06","2013-11-07","2013-11-08","2013-11-09","2013-11-10","2013-11-11","2013-11-12","2013-11-13","2013-11-14","2013-11-15","2013-11-16","2013-11-17","2013-11-18","2013-11-19","2013-11-20","2013-11-21","2013-11-22","2013-11-23","2013-11-24","2013-11-25","2013-11-26","2013-11-27","2013-11-28","2013-11-29","2013-11-30","2013-12-01","2013-12-02","2013-12-03","2013-12-04","2013-12-05",{"$f":"BQ1+1","v":"2013-12-06"},"2013-12-07","2013-12-08","2013-12-09","2013-12-10","2013-12-11","2013-12-12","2013-12-13","2013-12-14","2013-12-15","2013-12-16","2013-12-17"]
[null,1,1,{"$f":"IFERROR(Nth_Occurrence('      ID       '!D$7:D$406,$B2,$C2,0,3-COLUMN()), \"\")","v":"Marko"},{"$f":"IFERROR(Nth_Occurrence('      ID       '!E$7:E$406,$B2,$C2,0,3-COLUMN()), \"\")","v":"Marko"},{"$f":"IFERROR(Nth_Occurrence('      ID       '!F$7:F$406,$B2,$C2,0,3-COLUMN()), \"\")","v":""},{"$f":"IFERROR(Nth_Occurrence('      ID       '!G$7:G$406,$B2,$C2,0,3-COLUMN()), \"\")","v":""},{"$f":"IFERROR(Nth_Occurrence('      ID       '!H$7:H$406,$B2,$C2,0,3-COLUMN()), \"\")","v":""},{"$f":"IFERROR(Nth_Occurrence('      ID       '!I$7:I$406,$B2,$C2,0,3-COLUMN()), \"\")","v":""},{"$f":"IFERROR(Nth_Occurrence('      ID       '!J$7:J$406,$B2,$C2,0,3-COLUMN()), \"\")","v":""},{"$f":"IFERROR(Nth_Occurrence('      ID       '!K$7:K$406,$B2,$C2,0,3-COLUMN()), \"\")","v":""},{"$f":"IFERROR(Nth_Occurrence('      ID       '!L$7:L$406,$B2,$C2,0,3-COLUMN()), \"\")","v":"Marko"},{"$f":"IFERROR(Nth_Occurrence('      ID       '!M$7:M$406,$B2,$C2,0,3-COLUMN()), \"\")","v":"Marko"},{"$f":"IFERROR(Nth_Occurrence('      ID       '!N$7:N$406,$B2,$C2,0,3-COLUMN()), \"\")","v":""},{"$f":"IFERROR(Nth_Occurrence('      ID       '!O$7:O$406,$B2,$C2,0,3-COLUMN()), \"\")","v":""},{"$f":"IFERROR(Nth_Occurrence('      ID       '!P$7:P$406,$B2,$C2,0,3-COLUMN()), \"\")","v":""},{"$f":"IFERROR(Nth_Occurrence('      ID       '!Q$7:Q$406,$B2,$C2,0,3-COLUMN()), \"\")","v":""},{"$f":"IFERROR(Nth_Occurrence('      ID       '!R$7:R$406,$B2,$C2,0,3-COLUMN()), \"\")","v":""},{"$f":"IFERROR(Nth_Occurrence('      ID       '!S$7:S$406,$B2,$C2,0,3-COLUMN()), \"\")","v":""},{"$f":"IFERROR(Nth_Occurrence('      ID       '!T$7:T$406,$B2,$C2,0,3-COLUMN()), \"\")","v":"Marko"},{"$f":"IFERROR(Nth_Occurrence('      ID       '!U$7:U$406,$B2,$C2,0,3-COLUMN()), \"\")","v":"Marko"},{"$f":"IFERROR(Nth_Occurrence('      ID       '!V$7:V$406,$B2,$C2,0,3-COLUMN()), \"\")","v":""},{"$f":"IFERROR(Nth_Occurrence('      ID       '!W$7:W$406,$B2,$C2,0,3-COLUMN()), \"\")","v":""},{"$f":"IFERROR(Nth_Occurrence('      ID       '!X$7:X$406,$B2,$C2,0,3-COLUMN()), \"\")","v":""},{"$f":"IFERROR(Nth_Occurrence('      ID       '!Y$7:Y$406,$B2,$C2,0,3-COLUMN()), \"\")","v":""},{"$f":"IFERROR(Nth_Occurrence('      ID       '!Z$7:Z$406,$B2,$C2,0,3-COLUMN()), \"\")","v":""},{"$f":"IFERROR(Nth_Occurrence('      ID       '!AA$7:AA$406,$B2,$C2,0,3-COLUMN()), \"\")","v":""},{"$f":"IFERROR(Nth_Occurrence('      ID       '!AB$7:AB$406,$B2,$C2,0,3-COLUMN()), \"\")","v":""},{"$f":"IFERROR(Nth_Occurrence('      ID       '!AC$7:AC$406,$B2,$C2,0,3-COLUMN()), \"\")","v":"Marko"},{"$f":"IFERROR(Nth_Occurrence('      ID       '!AD$7:AD$406,$B2,$C2,0,3-COLUMN()), \"\")","v":"Marko"},{"$f":"IFERROR(Nth_Occurrence('      ID       '!AE$7:AE$406,$B2,$C2,0,3-COLUMN()), \"\")","v":""},{"$f":"IFERROR(Nth_Occurrence('      ID       '!AF$7:AF$406,$B2,$C2,0,3-COLUMN()), \"\")","v":""},{"$f":"IFERROR(Nth_Occurrence('      ID       '!AG$7:AG$406,$B2,$C2,0,3-COLUMN()), \"\")","v":""},{"$f":"IFERROR(Nth_Occurrence('      ID       '!AH$7:AH$406,$B2,$C2,0,3-COLUMN()), \"\")","v":""},{"$f":"IFERROR(Nth_Occurrence('      ID       '!AI$7:AI$406,$B2,$C2,0,3-COLUMN()), \"\")","v":""},{"$f":"IFERROR(Nth_Occurrence('      ID       '!AJ$7:AJ$406,$B2,$C2,0,3-COLUMN()), \"\")","v":""},{"$f":"IFERROR(Nth_Occurrence('      ID       '!AK$7:AK$406,$B2,$C2,0,3-COLUMN()), \"\")","v":""},{"$f":"IFERROR(Nth_Occurrence('      ID       '!AL$7:AL$406,$B2,$C2,0,3-COLUMN()), \"\")","v":""},{"$f":"IFERROR(Nth_Occurrence('      ID       '!AM$7:AM$406,$B2,$C2,0,3-COLUMN()), \"\")","v":""},{"$f":"IFERROR(Nth_Occurrence('      ID       '!AN$7:AN$406,$B2,$C2,0,3-COLUMN()), \"\")","v":""},{"$f":"IFERROR(Nth_Occurrence('      ID       '!AO$7:AO$406,$B2,$C2,0,3-COLUMN()), \"\")","v":""},{"$f":"IFERROR(Nth_Occurrence('      ID       '!AP$7:AP$406,$B2,$C2,0,3-COLUMN()), \"\")","v":""},{"$f":"IFERROR(Nth_Occurrence('      ID       '!AQ$7:AQ$406,$B2,$C2,0,3-COLUMN()), \"\")","v":""},{"$f":"IFERROR(Nth_Occurrence('      ID       '!AR$7:AR$406,$B2,$C2,0,3-COLUMN()), \"\")","v":""},{"$f":"IFERROR(Nth_Occurrence('      ID       '!AS$7:AS$406,$B2,$C2,0,3-COLUMN()), \"\")","v":""},{"$f":"IFERROR(Nth_Occurrence('      ID       '!AT$7:AT$406,$B2,$C2,0,3-COLUMN()), \"\")","v":""},{"$f":"IFERROR(Nth_Occurrence('      ID       '!AU$7:AU$406,$B2,$C2,0,3-COLUMN()), \"\")","v":"Marko"},{"$f":"IFERROR(Nth_Occurrence('      ID       '!AV$7:AV$406,$B2,$C2,0,3-COLUMN()), \"\")","v":""},{"$f":"IFERROR(Nth_Occurrence('      ID       '!AW$7:AW$406,$B2,$C2,0,3-COLUMN()), \"\")","v":"Marko"},{"$f":"IFERROR(Nth_Occurrence('      ID       '!AX$7:AX$406,$B2,$C2,0,3-COLUMN()), \"\")","v":""},{"$f":"IFERROR(Nth_Occurrence('      ID       '!AY$7:AY$406,$B2,$C2,0,3-COLUMN()), \"\")","v":""},{"$f":"IFERROR(Nth_Occurrence('      ID       '!AZ$7:AZ$406,$B2,$C2,0,3-COLUMN()), \"\")","v":""},{"$f":"IFERROR(Nth_Occurrence('      ID       '!BA$7:BA$406,$B2,$C2,0,3-COLUMN()), \"\")","v":""},{"$f":"IFERROR(Nth_Occurrence('      ID       '!BB$7:BB$406,$B2,$C2,0,3-COLUMN()), \"\")","v":""},{"$f":"IFERROR(Nth_Occurrence('      ID       '!BC$7:BC$406,$B2,$C2,0,3-COLUMN()), \"\")","v":""},{"$f":"IFERROR(Nth_Occurrence('      ID       '!BD$7:BD$406,$B2,$C2,0,3-COLUMN()), \"\")","v":""},{"$f":"IFERROR(Nth_Occurrence('      ID       '!BE$7:BE$406,$B2,$C2,0,3-COLUMN()), \"\")","v":""},{"$f":"IFERROR(Nth_Occurrence('      ID       '!BF$7:BF$406,$B2,$C2,0,3-COLUMN()), \"\")","v":""},{"$f":"IFERROR(Nth_Occurrence('      ID       '!BG$7:BG$406,$B2,$C2,0,3-COLUMN()), \"\")","v":""},{"$f":"IFERROR(Nth_Occurrence('      ID       '!BH$7:BH$406,$B2,$C2,0,3-COLUMN()), \"\")","v":""},{"$f":"IFERROR(Nth_Occurrence('      ID       '!BI$7:BI$406,$B2,$C2,0,3-COLUMN()), \"\")","v":""},{"$f":"IFERROR(Nth_Occurrence('      ID       '!BJ$7:BJ$406,$B2,$C2,0,3-COLUMN()), \"\")","v":""},{"$f":"IFERROR(Nth_Occurrence('      ID       '!BK$7:BK$406,$B2,$C2,0,3-COLUMN()), \"\")","v":""},{"$f":"IFERROR(Nth_Occurrence('      ID       '!BL$7:BL$406,$B2,$C2,0,3-COLUMN()), \"\")","v":""},{"$f":"IFERROR(Nth_Occurrence('      ID       '!BM$7:BM$406,$B2,$C2,0,3-COLUMN()), \"\")","v":""},{"$f":"IFERROR(Nth_Occurrence('      ID       '!BN$7:BN$406,$B2,$C2,0,3-COLUMN()), \"\")","v":""},{"$f":"IFERROR(Nth_Occurrence('      ID       '!BO$7:BO$406,$B2,$C2,0,3-COLUMN()), \"\")","v":""},{"$f":"IFERROR(Nth_Occurrence('      ID       '!BP$7:BP$406,$B2,$C2,0,3-COLUMN()), \"\")","v":""},{"$f":"IFERROR(Nth_Occurrence('      ID       '!BQ$7:BQ$406,$B2,$C2,0,3-COLUMN()), \"\")","v":""},{"$f":"IFERROR(Nth_Occurrence('      ID       '!BR$7:BR$406,$B2,$C2,0,3-COLUMN()), \"\")","v":""},{"$f":"IFERROR(Nth_Occurrence('      ID       '!BS$7:BS$406,$B2,$C2,0,3-COLUMN()), \"\")","v":""},{"$f":"IFERROR(Nth_Occurrence('      ID       '!BT$7:BT$406,$B2,$C2,0,3-COLUMN()), \"\")","v":""},{"$f":"IFERROR(Nth_Occurrence('      ID       '!BU$7:BU$406,$B2,$C2,0,3-COLUMN()), \"\")","v":""},{"$f":"IFERROR(Nth_Occurrence('      ID       '!BV$7:BV$406,$B2,$C2,0,3-COLUMN()), \"\")","v":""},{"$f":"IFERROR(Nth_Occurrence('      ID       '!BW$7:BW$406,$B2,$C2,0,3-COLUMN()), \"\")","v":""},{"$f":"IFERROR(Nth_Occurrence('      ID       '!BX$7:BX$406,$B2,$C2,0,3-COLUMN()), \"\")","v":""},{"$f":"IFERROR(Nth_Occurrence('      ID       '!BY$7:BY$406,$B2,$C2,0,3-COLUMN()), \"\")","v":""},{"$f":"IFERROR(Nth_Occurrence('      ID       '!BZ$7:BZ$406,$B2,$C2,0,3-COLUMN()), \"\")","v":""},{"$f":"IFERROR(Nth_Occurrence('      ID       '!CA$7:CA$406,$B2,$C2,0,3-COLUMN()), \"\")","v":""},{"$f":"IFERROR(Nth_Occurrence('      ID       '!CB$7:CB$406,$B2,$C2,0,3-COLUMN()), \"\")","v":""},{"$f":"IFERROR(Nth_Occurrence('      ID       '!CC$7:CC$406,$B2,$C2,0,3-COLUMN()), \"\")","v":""}]
[null,1,2,{"$f":"IFERROR(Nth_Occurrence('      ID       '!D$7:D$406,$B3,$C3,0,3-COLUMN()), \"\")","v":"Ognjen"},{"$f":"IFERROR(Nth_Occurrence('      ID       '!E$7:E$406,$B3,$C3,0,3-COLUMN()), \"\")","v":"Ognjen"},{"$f":"IFERROR(Nth_Occurrence('      ID       '!F$7:F$406,$B3,$C3,0,3-COLUMN()), \"\")","v":""},{"$f":"IFERROR(Nth_Occurrence('      ID       '!G$7:G$406,$B3,$C3,0,3-COLUMN()), \"\")","v":""},{"$f":"IFERROR(Nth_Occurrence('      ID       '!H$7:H$406,$B3,$C3,0,3-COLUMN()), \"\")","v":""},{"$f":"IFERROR(Nth_Occurrence('      ID       '!I$7:I$406,$B3,$C3,0,3-COLUMN()), \"\")","v":""},{"$f":"IFERROR(Nth_Occurrence('      ID       '!J$7:J$406,$B3,$C3,0,3-COLUMN()), \"\")","v":""},{"$f":"IFERROR(Nth_Occurrence('      ID       '!K$7:K$406,$B3,$C3,0,3-COLUMN()), \"\")","v":""},{"$f":"IFERROR(Nth_Occurrence('      ID       '!L$7:L$406,$B3,$C3,0,3-COLUMN()), \"\")","v":"Ognjen"},{"$f":"IFERROR(Nth_Occurrence('      ID       '!M$7:M$406,$B3,$C3,0,3-COLUMN()), \"\")","v":"Ognjen"},{"$f":"IFERROR(Nth_Occurrence('      ID       '!N$7:N$406,$B3,$C3,0,3-COLUMN()), \"\")","v":""},{"$f":"IFERROR(Nth_Occurrence('      ID       '!O$7:O$406,$B3,$C3,0,3-COLUMN()), \"\")","v":""},{"$f":"IFERROR(Nth_Occurrence('      ID       '!P$7:P$406,$B3,$C3,0,3-COLUMN()), \"\")","v":""},{"$f":"IFERROR(Nth_Occurrence('      ID       '!Q$7:Q$406,$B3,$C3,0,3-COLUMN()), \"\")","v":""},{"$f":"IFERROR(Nth_Occurrence('      ID       '!R$7:R$406,$B3,$C3,0,3-COLUMN()), \"\")","v":""},{"$f":"IFERROR(Nth_Occurrence('      ID       '!S$7:S$406,$B3,$C3,0,3-COLUMN()), \"\")","v":""},{"$f":"IFERROR(Nth_Occurrence('      ID       '!T$7:T$406,$B3,$C3,0,3-COLUMN()), \"\")","v":"Ognjen"},{"$f":"IFERROR(Nth_Occurrence('      ID       '!U$7:U$406,$B3,$C3,0,3-COLUMN()), \"\")","v":"Ognjen"},{"$f":"IFERROR(Nth_Occurrence('      ID       '!V$7:V$406,$B3,$C3,0,3-COLUMN()), \"\")","v":""},{"$f":"IFERROR(Nth_Occurrence('      ID       '!W$7:W$406,$B3,$C3,0,3-COLUMN()), \"\")","v":""},{"$f":"IFERROR(Nth_Occurrence('      ID       '!X$7:X$406,$B3,$C3,0,3-COLUMN()), \"\")","v":""},{"$f":"IFERROR(Nth_Occurrence('      ID       '!Y$7:Y$406,$B3,$C3,0,3-COLUMN()), \"\")","v":""},{"$f":"IFERROR(Nth_Occurrence('      ID       '!Z$7:Z$406,$B3,$C3,0,3-COLUMN()), \"\")","v":""},{"$f":"IFERROR(Nth_Occurrence('      ID       '!AA$7:AA$406,$B3,$C3,0,3-COLUMN()), \"\")","v":""},{"$f":"IFERROR(Nth_Occurrence('      ID       '!AB$7:AB$406,$B3,$C3,0,3-COLUMN()), \"\")","v":""},{"$f":"IFERROR(Nth_Occurrence('      ID       '!AC$7:AC$406,$B3,$C3,0,3-COLUMN()), \"\")","v":"Ognjen"},{"$f":"IFERROR(Nth_Occurrence('      ID       '!AD$7:AD$406,$B3,$C3,0,3-COLUMN()), \"\")","v":"Ognjen"},{"$f":"IFERROR(Nth_Occurrence('      ID       '!AE$7:AE$406,$B3,$C3,0,3-COLUMN()), \"\")","v":""},{"$f":"IFERROR(Nth_Occurrence('      ID       '!AF$7:AF$406,$B3,$C3,0,3-COLUMN()), \"\")","v":""},{"$f":"IFERROR(Nth_Occurrence('      ID       '!AG$7:AG$406,$B3,$C3,0,3-COLUMN()), \"\")","v":""},{"$f":"IFERROR(Nth_Occurrence('      ID       '!AH$7:AH$406,$B3,$C3,0,3-COLUMN()), \"\")","v":""},{"$f":"IFERROR(Nth_Occurrence('      ID       '!AI$7:AI$406,$B3,$C3,0,3-COLUMN()), \"\")","v":""},{"$f":"IFERROR(Nth_Occurrence('      ID       '!AJ$7:AJ$406,$B3,$C3,0,3-COLUMN()), \"\")","v":""},{"$f":"IFERROR(Nth_Occurrence('      ID       '!AK$7:AK$406,$B3,$C3,0,3-COLUMN()), \"\")","v":""},{"$f":"IFERROR(Nth_Occurrence('      ID       '!AL$7:AL$406,$B3,$C3,0,3-COLUMN()), \"\")","v":""},{"$f":"IFERROR(Nth_Occurrence('      ID       '!AM$7:AM$406,$B3,$C3,0,3-COLUMN()), \"\")","v":""},{"$f":"IFERROR(Nth_Occurrence('      ID       '!AN$7:AN$406,$B3,$C3,0,3-COLUMN()), \"\")","v":""},{"$f":"IFERROR(Nth_Occurrence('      ID       '!AO$7:AO$406,$B3,$C3,0,3-COLUMN()), \"\")","v":""},{"$f":"IFERROR(Nth_Occurrence('      ID       '!AP$7:AP$406,$B3,$C3,0,3-COLUMN()), \"\")","v":""},{"$f":"IFERROR(Nth_Occurrence('      ID       '!AQ$7:AQ$406,$B3,$C3,0,3-COLUMN()), \"\")","v":""},{"$f":"IFERROR(Nth_Occurrence('      ID       '!AR$7:AR$406,$B3,$C3,0,3-COLUMN()), \"\")","v":""},{"$f":"IFERROR(Nth_Occurrence('      ID       '!AS$7:AS$406,$B3,$C3,0,3-COLUMN()), \"\")","v":""},{"$f":"IFERROR(Nth_Occurrence('      ID       '!AT$7:AT$406,$B3,$C3,0,3-COLUMN()), \"\")","v":""},{"$f":"IFERROR(Nth_Occurrence('      ID       '!AU$7:AU$406,$B3,$C3,0,3-COLUMN()), \"\")","v":"Ognjen"},{"$f":"IFERROR(Nth_Occurrence('      ID       '!AV$7:AV$406,$B3,$C3,0,3-COLUMN()), \"\")","v":""},{"$f":"IFERROR(Nth_Occurrence('      ID       '!AW$7:AW$406,$B3,$C3,0,3-COLUMN()), \"\")","v":"Ognjen"},{"$f":"IFERROR(Nth_Occurrence('      ID       '!AX$7:AX$406,$B3,$C3,0,3-COLUMN()), \"\")","v":""},{"$f":"IFERROR(Nth_Occurrence('      ID       '!AY$7:AY$406,$B3,$C3,0,3-COLUMN()), \"\")","v":""},{"$f":"IFERROR(Nth_Occurrence('      ID       '!AZ$7:AZ$406,$B3,$C3,0,3-COLUMN()), \"\")","v":""},{"$f":"IFERROR(Nth_Occurrence('      ID       '!BA$7:BA$406,$B3,$C3,0,3-COLUMN()), \"\")","v":""},{"$f":"IFERROR(Nth_Occurrence('      ID       '!BB$7:BB$406,$B3,$C3,0,3-COLUMN()), \"\")","v":""},{"$f":"IFERROR(Nth_Occurrence('      ID       '!BC$7:BC$406,$B3,$C3,0,3-COLUMN()), \"\")","v":""},{"$f":"IFERROR(Nth_Occurrence('      ID       '!BD$7:BD$406,$B3,$C3,0,3-COLUMN()), \"\")","v":""},{"$f":"IFERROR(Nth_Occurrence('      ID       '!BE$7:BE$406,$B3,$C3,0,3-COLUMN()), \"\")","v":""},{"$f":"IFERROR(Nth_Occurrence('      ID       '!BF$7:BF$406,$B3,$C3,0,3-COLUMN()), \"\")","v":""},{"$f":"IFERROR(Nth_Occurrence('      ID       '!BG$7:BG$406,$B3,$C3,0,3-COLUMN()), \"\")","v":""},{"$f":"IFERROR(Nth_Occurrence('      ID       '!BH$7:BH$406,$B3,$C3,0,3-COLUMN()), \"\")","v":""},{"$f":"IFERROR(Nth_Occurrence('      ID       '!BI$7:BI$406,$B3,$C3,0,3-COLUMN()), \"\")","v":""},{"$f":"IFERROR(Nth_Occurrence('      ID       '!BJ$7:BJ$406,$B3,$C3,0,3-COLUMN()), \"\")","v":""},{"$f":"IFERROR(Nth_Occurrence('      ID       '!BK$7:BK$406,$B3,$C3,0,3-COLUMN()), \"\")","v":""},{"$f":"IFERROR(Nth_Occurrence('      ID       '!BL$7:BL$406,$B3,$C3,0,3-COLUMN()), \"\")","v":""},{"$f":"IFERROR(Nth_Occurrence('      ID       '!BM$7:BM$406,$B3,$C3,0,3-COLUMN()), \"\")","v":""},{"$f":"IFERROR(Nth_Occurrence('      ID       '!BN$7:BN$406,$B3,$C3,0,3-COLUMN()), \"\")","v":""},{"$f":"IFERROR(Nth_Occurrence('      ID       '!BO$7:BO$406,$B3,$C3,0,3-COLUMN()), \"\")","v":""},{"$f":"IFERROR(Nth_Occurrence('      ID       '!BP$7:BP$406,$B3,$C3,0,3-COLUMN()), \"\")","v":""},{"$f":"IFERROR(Nth_Occurrence('      ID       '!BQ$7:BQ$406,$B3,$C3,0,3-COLUMN()), \"\")","v":""},{"$f":"IFERROR(Nth_Occurrence('      ID       '!BR$7:BR$406,$B3,$C3,0,3-COLUMN()), \"\")","v":""},{"$f":"IFERROR(Nth_Occurrence('      ID       '!BS$7:BS$406,$B3,$C3,0,3-COLUMN()), \"\")","v":""},{"$f":"IFERROR(Nth_Occurrence('      ID       '!BT$7:BT$406,$B3,$C3,0,3-COLUMN()), \"\")","v":""},{"$f":"IFERROR(Nth_Occurrence('      ID       '!BU$7:BU$406,$B3,$C3,0,3-COLUMN()), \"\")","v":""},{"$f":"IFERROR(Nth_Occurrence('      ID       '!BV$7:BV$406,$B3,$C3,0,3-COLUMN()), \"\")","v":""},{"$f":"IFERROR(Nth_Occurrence('      ID       '!BW$7:BW$406,$B3,$C3,0,3-COLUMN()), \"\")","v":""},{"$f":"IFERROR(Nth_Occurrence('      ID       '!BX$7:BX$406,$B3,$C3,0,3-COLUMN()), \"\")","v":""},{"$f":"IFERROR(Nth_Occurrence('      ID       '!BY$7:BY$406,$B3,$C3,0,3-COLUMN()), \"\")","v":""},{"$f":"IFERROR(Nth_Occurrence('      ID       '!BZ$7:BZ$406,$B3,$C3,0,3-COLUMN()), \"\")","v":""},{"$f":"IFERROR(Nth_Occurrence('      ID       '!CA$7:CA$406,$B3,$C3,0,3-COLUMN()), \"\")","v":""},{"$f":"IFERROR(Nth_Occurrence('      ID       '!CB$7:CB$406,$B3,$C3,0,3-COLUMN()), \"\")","v":""},{"$f":"IFERROR(Nth_Occurrence('      ID       '!CC$7:CC$406,$B3,$C3,0,3-COLUMN()), \"\")","v":""}]
["I",1,3,{"$f":"IFERROR(Nth_Occurrence('      ID       '!D$7:D$406,$B4,$C4,0,3-COLUMN()), \"\")","v":"Petar"},{"$f":"IFERROR(Nth_Occurrence('      ID       '!E$7:E$406,$B4,$C4,0,3-COLUMN()), \"\")","v":"Petar"},{"$f":"IFERROR(Nth_Occurrence('      ID       '!F$7:F$406,$B4,$C4,0,3-COLUMN()), \"\")","v":""},{"$f":"IFERROR(Nth_Occurrence('      ID       '!G$7:G$406,$B4,$C4,0,3-COLUMN()), \"\")","v":""},{"$f":"IFERROR(Nth_Occurrence('      ID       '!H$7:H$406,$B4,$C4,0,3-COLUMN()), \"\")","v":""},{"$f":"IFERROR(Nth_Occurrence('      ID       '!I$7:I$406,$B4,$C4,0,3-COLUMN()), \"\")","v":""},{"$f":"IFERROR(Nth_Occurrence('      ID       '!J$7:J$406,$B4,$C4,0,3-COLUMN()), \"\")","v":""},{"$f":"IFERROR(Nth_Occurrence('      ID       '!K$7:K$406,$B4,$C4,0,3-COLUMN()), \"\")","v":""},{"$f":"IFERROR(Nth_Occurrence('      ID       '!L$7:L$406,$B4,$C4,0,3-COLUMN()), \"\")","v":"Petar"},{"$f":"IFERROR(Nth_Occurrence('      ID       '!M$7:M$406,$B4,$C4,0,3-COLUMN()), \"\")","v":"Petar"},{"$f":"IFERROR(Nth_Occurrence('      ID       '!N$7:N$406,$B4,$C4,0,3-COLUMN()), \"\")","v":""},{"$f":"IFERROR(Nth_Occurrence('      ID       '!O$7:O$406,$B4,$C4,0,3-COLUMN()), \"\")","v":""},{"$f":"IFERROR(Nth_Occurrence('      ID       '!P$7:P$406,$B4,$C4,0,3-COLUMN()), \"\")","v":""},{"$f":"IFERROR(Nth_Occurrence('      ID       '!Q$7:Q$406,$B4,$C4,0,3-COLUMN()), \"\")","v":""},{"$f":"IFERROR(Nth_Occurrence('      ID       '!R$7:R$406,$B4,$C4,0,3-COLUMN()), \"\")","v":""},{"$f":"IFERROR(Nth_Occurrence('      ID       '!S$7:S$406,$B4,$C4,0,3-COLUMN()), \"\")","v":""},{"$f":"IFERROR(Nth_Occurrence('      ID       '!T$7:T$406,$B4,$C4,0,3-COLUMN()), \"\")","v":"Petar"},{"$f":"IFERROR(Nth_Occurrence('      ID       '!U$7:U$406,$B4,$C4,0,3-COLUMN()), \"\")","v":"Petar"},{"$f":"IFERROR(Nth_Occurrence('      ID       '!V$7:V$406,$B4,$C4,0,3-COLUMN()), \"\")","v":""},{"$f":"IFERROR(Nth_Occurrence('      ID       '!W$7:W$406,$B4,$C4,0,3-COLUMN()), \"\")","v":""},{"$f":"IFERROR(Nth_Occurrence('      ID       '!X$7:X$406,$B4,$C4,0,3-COLUMN()), \"\")","v":""},{"$f":"IFERROR(Nth_Occurrence('      ID       '!Y$7:Y$406,$B4,$C4,0,3-COLUMN()), \"\")","v":""},{"$f":"IFERROR(Nth_Occurrence('      ID       '!Z$7:Z$406,$B4,$C4,0,3-COLUMN()), \"\")","v":""},{"$f":"IFERROR(Nth_Occurrence('      ID       '!AA$7:AA$406,$B4,$C4,0,3-COLUMN()), \"\")","v":""},{"$f":"IFERROR(Nth_Occurrence('      ID       '!AB$7:AB$406,$B4,$C4,0,3-COLUMN()), \"\")","v":""},{"$f":"IFERROR(Nth_Occurrence('      ID       '!AC$7:AC$406,$B4,$C4,0,3-COLUMN()), \"\")","v":"Petar"},{"$f":"IFERROR(Nth_Occurrence('      ID       '!AD$7:AD$406,$B4,$C4,0,3-COLUMN()), \"\")","v":"Petar"},{"$f":"IFERROR(Nth_Occurrence('      ID       '!AE$7:AE$406,$B4,$C4,0,3-COLUMN()), \"\")","v":""},{"$f":"IFERROR(Nth_Occurrence('      ID       '!AF$7:AF$406,$B4,$C4,0,3-COLUMN()), \"\")","v":""},{"$f":"IFERROR(Nth_Occurrence('      ID       '!AG$7:AG$406,$B4,$C4,0,3-COLUMN()), \"\")","v":""},{"$f":"IFERROR(Nth_Occurrence('      ID       '!AH$7:AH$406,$B4,$C4,0,3-COLUMN()), \"\")","v":""},{"$f":"IFERROR(Nth_Occurrence('      ID       '!AI$7:AI$406,$B4,$C4,0,3-COLUMN()), \"\")","v":""},{"$f":"IFERROR(Nth_Occurrence('      ID       '!AJ$7:AJ$406,$B4,$C4,0,3-COLUMN()), \"\")","v":""},{"$f":"IFERROR(Nth_Occurrence('      ID       '!AK$7:AK$406,$B4,$C4,0,3-COLUMN()), \"\")","v":""},{"$f":"IFERROR(Nth_Occurrence('      ID       '!AL$7:AL$406,$B4,$C4,0,3-COLUMN()), \"\")","v":""},{"$f":"IFERROR(Nth_Occurrence('      ID       '!AM$7:AM$406,$B4,$C4,0,3-COLUMN()), \"\")","v":""},{"$f":"IFERROR(Nth_Occurrence('      ID       '!AN$7:AN$406,$B4,$C4,0,3-COLUMN()), \"\")","v":""},{"$f":"IFERROR(Nth_Occurrence('      ID       '!AO$7:AO$406,$B4,$C4,0,3-COLUMN()), \"\")","v":""},{"$f":"IFERROR(Nth_Occurrence('      ID       '!AP$7:AP$406,$B4,$C4,0,3-COLUMN()), \"\")","v":""},{"$f":"IFERROR(Nth_Occurrence('      ID       '!AQ$7:AQ$406,$B4,$C4,0,3-COLUMN()), \"\")","v":""},{"$f":"IFERROR(Nth_Occurrence('      ID       '!AR$7:AR$406,$B4,$C4,0,3-COLUMN()), \"\")","v":""},{"$f":"IFERROR(Nth_Occurrence('      ID       '!AS$7:AS$406,$B4,$C4,0,3-COLUMN()), \"\")","v":""},{"$f":"IFERROR(Nth_Occurrence('      ID       '!AT$7:AT$406,$B4,$C4,0,3-COLUMN()), \"\")","v":""},{"$f":"IFERROR(Nth_Occurrence('      ID       '!AU$7:AU$406,$B4,$C4,0,3-COLUMN()), \"\")","v":"Petar"},{"$f":"IFERROR(Nth_Occurrence('      ID       '!AV$7:AV$406,$B4,$C4,0,3-COLUMN()), \"\")","v":""},{"$f":"IFERROR(Nth_Occurrence('      ID       '!AW$7:AW$406,$B4,$C4,0,3-COLUMN()), \"\")","v":""},{"$f":"IFERROR(Nth_Occurrence('      ID       '!AX$7:AX$406,$B4,$C4,0,3-COLUMN()), \"\")","v":""},{"$f":"IFERROR(Nth_Occurrence('      ID       '!AY$7:AY$406,$B4,$C4,0,3-COLUMN()), \"\")","v":""},{"$f":"IFERROR(Nth_Occurrence('      ID       '!AZ$7:AZ$406,$B4,$C4,0,3-COLUMN()), \"\")","v":""},{"$f":"IFERROR(Nth_Occurrence('      ID       '!BA$7:BA$406,$B4,$C4,0,3-COLUMN()), \"\")","v":""},{"$f":"IFERROR(Nth_Occurrence('      ID       '!BB$7:BB$406,$B4,$C4,0,3-COLUMN()), \"\")","v":""},{"$f":"IFERROR(Nth_Occurrence('      ID       '!BC$7:BC$406,$B4,$C4,0,3-COLUMN()), \"\")","v":""},{"$f":"IFERROR(Nth_Occurrence('      ID       '!BD$7:BD$406,$B4,$C4,0,3-COLUMN()), \"\")","v":""},{"$f":"IFERROR(Nth_Occurrence('      ID       '!BE$7:BE$406,$B4,$C4,0,3-COLUMN()), \"\")","v":""},{"$f":"IFERROR(Nth_Occurrence('      ID       '!BF$7:BF$406,$B4,$C4,0,3-COLUMN()), \"\")","v":""},{"$f":"IFERROR(Nth_Occurrence('      ID       '!BG$7:BG$406,$B4,$C4,0,3-COLUMN()), \"\")","v":""},{"$f":"IFERROR(Nth_Occurrence('      ID       '!BH$7:BH$406,$B4,$C4,0,3-COLUMN()), \"\")","v":""},{"$f":"IFERROR(Nth_Occurrence('      ID       '!BI$7:BI$406,$B4,$C4,0,3-COLUMN()), \"\")","v":""},{"$f":"IFERROR(Nth_Occurrence('      ID       '!BJ$7:BJ$406,$B4,$C4,0,3-COLUMN()), \"\")","v":""},{"$f":"IFERROR(Nth_Occurrence('      ID       '!BK$7:BK$406,$B4,$C4,0,3-COLUMN()), \"\")","v":""},{"$f":"IFERROR(Nth_Occurrence('      ID       '!BL$7:BL$406,$B4,$C4,0,3-COLUMN()), \"\")","v":""},{"$f":"IFERROR(Nth_Occurrence('      ID       '!BM$7:BM$406,$B4,$C4,0,3-COLUMN()), \"\")","v":""},{"$f":"IFERROR(Nth_Occurrence('      ID       '!BN$7:BN$406,$B4,$C4,0,3-COLUMN()), \"\")","v":""},{"$f":"IFERROR(Nth_Occurrence('      ID       '!BO$7:BO$406,$B4,$C4,0,3-COLUMN()), \"\")","v":""},{"$f":"IFERROR(Nth_Occurrence('      ID       '!BP$7:BP$406,$B4,$C4,0,3-COLUMN()), \"\")","v":""},{"$f":"IFERROR(Nth_Occurrence('      ID       '!BQ$7:BQ$406,$B4,$C4,0,3-COLUMN()), \"\")","v":""},{"$f":"IFERROR(Nth_Occurrence('      ID       '!BR$7:BR$406,$B4,$C4,0,3-COLUMN()), \"\")","v":""},{"$f":"IFERROR(Nth_Occurrence('      ID       '!BS$7:BS$406,$B4,$C4,0,3-COLUMN()), \"\")","v":""},{"$f":"IFERROR(Nth_Occurrence('      ID       '!BT$7:BT$406,$B4,$C4,0,3-COLUMN()), \"\")","v":""},{"$f":"IFERROR(Nth_Occurrence('      ID       '!BU$7:BU$406,$B4,$C4,0,3-COLUMN()), \"\")","v":""},{"$f":"IFERROR(Nth_Occurrence('      ID       '!BV$7:BV$406,$B4,$C4,0,3-COLUMN()), \"\")","v":""},{"$f":"IFERROR(Nth_Occurrence('      ID       '!BW$7:BW$406,$B4,$C4,0,3-COLUMN()), \"\")","v":""},{"$f":"IFERROR(Nth_Occurrence('      ID       '!BX$7:BX$406,$B4,$C4,0,3-COLUMN()), \"\")","v":""},{"$f":"IFERROR(Nth_Occurrence('      ID       '!BY$7:BY$406,$B4,$C4,0,3-COLUMN()), \"\")","v":""},{"$f":"IFERROR(Nth_Occurrence('      ID       '!BZ$7:BZ$406,$B4,$C4,0,3-COLUMN()), \"\")","v":""},{"$f":"IFERROR(Nth_Occurrence('      ID       '!CA$7:CA$406,$B4,$C4,0,3-COLUMN()), \"\")","v":""},{"$f":"IFERROR(Nth_Occurrence('      ID       '!CB$7:CB$406,$B4,$C4,0,3-COLUMN()), \"\")","v":""},{"$f":"IFERROR(Nth_Occurrence('      ID       '!CC$7:CC$406,$B4,$C4,0,3-COLUMN()), \"\")","v":""}]
[null,1,4,{"$f":"IFERROR(Nth_Occurrence('      ID       '!D$7:D$406,$B5,$C5,0,3-COLUMN()), \"\")","v":"Veselin"},{"$f":"IFERROR(Nth_Occurrence('      ID       '!E$7:E$406,$B5,$C5,0,3-COLUMN()), \"\")","v":"Veselin"},{"$f":"IFERROR(Nth_Occurrence('      ID       '!F$7:F$406,$B5,$C5,0,3-COLUMN()), \"\")","v":""},{"$f":"IFERROR(Nth_Occurrence('      ID       '!G$7:G$406,$B5,$C5,0,3-COLUMN()), \"\")","v":""},{"$f":"IFERROR(Nth_Occurrence('      ID       '!H$7:H$406,$B5,$C5,0,3-COLUMN()), \"\")","v":""},{"$f":"IFERROR(Nth_Occurrence('      ID       '!I$7:I$406,$B5,$C5,0,3-COLUMN()), \"\")","v":""},{"$f":"IFERROR(Nth_Occurrence('      ID       '!J$7:J$406,$B5,$C5,0,3-COLUMN()), \"\")","v":""},{"$f":"IFERROR(Nth_Occurrence('      ID       '!K$7:K$406,$B5,$C5,0,3-COLUMN()), \"\")","v":""},{"$f":"IFERROR(Nth_Occurrence('      ID       '!L$7:L$406,$B5,$C5,0,3-COLUMN()), \"\")","v":"Veselin"},{"$f":"IFERROR(Nth_Occurrence('      ID       '!M$7:M$406,$B5,$C5,0,3-COLUMN()), \"\")","v":"Veselin"},{"$f":"IFERROR(Nth_Occurrence('      ID       '!N$7:N$406,$B5,$C5,0,3-COLUMN()), \"\")","v":""},{"$f":"IFERROR(Nth_Occurrence('      ID       '!O$7:O$406,$B5,$C5,0,3-COLUMN()), \"\")","v":""},{"$f":"IFERROR(Nth_Occurrence('      ID       '!P$7:P$406,$B5,$C5,0,3-COLUMN()), \"\")","v":""},{"$f":"IFERROR(Nth_Occurrence('      ID       '!Q$7:Q$406,$B5,$C5,0,3-COLUMN()), \"\")","v":""},{"$f":"IFERROR(Nth_Occurrence('      ID       '!R$7:R$406,$B5,$C5,0,3-COLUMN()), \"\")","v":""},{"$f":"IFERROR(Nth_Occurrence('      ID       '!S$7:S$406,$B5,$C5,0,3-COLUMN()), \"\")","v":""},{"$f":"IFERROR(Nth_Occurrence('      ID       '!T$7:T$406,$B5,$C5,0,3-COLUMN()), \"\")","v":"Veselin"},{"$f":"IFERROR(Nth_Occurrence('      ID       '!U$7:U$406,$B5,$C5,0,3-COLUMN()), \"\")","v":"Veselin"},{"$f":"IFERROR(Nth_Occurrence('      ID       '!V$7:V$406,$B5,$C5,0,3-COLUMN()), \"\")","v":""},{"$f":"IFERROR(Nth_Occurrence('      ID       '!W$7:W$406,$B5,$C5,0,3-COLUMN()), \"\")","v":""},{"$f":"IFERROR(Nth_Occurrence('      ID       '!X$7:X$406,$B5,$C5,0,3-COLUMN()), \"\")","v":""},{"$f":"IFERROR(Nth_Occurrence('      ID       '!Y$7:Y$406,$B5,$C5,0,3-COLUMN()), \"\")","v":""},{"$f":"IFERROR(Nth_Occurrence('      ID       '!Z$7:Z$406,$B5,$C5,0,3-COLUMN()), \"\")","v":""},{"$f":"IFERROR(Nth_Occurrence('      ID       '!AA$7:AA$406,$B5,$C5,0,3-COLUMN()), \"\")","v":""},{"$f":"IFERROR(Nth_Occurrence('      ID       '!AB$7:AB$406,$B5,$C5,0,3-COLUMN()), \"\")","v":""},{"$f":"IFERROR(Nth_Occurrence('      ID       '!AC$7:AC$406,$B5,$C5,0,3-COLUMN()), \"\")","v":"Veselin"},{"$f":"IFERROR(Nth_Occurrence('      ID       '!AD$7:AD$406,$B5,$C5,0,3-COLUMN()), \"\")","v":"Veselin"},{"$f":"IFERROR(Nth_Occurrence('      ID       '!AE$7:AE$406,$B5,$C5,0,3-COLUMN()), \"\")","v":""},{"$f":"IFERROR(Nth_Occurrence('      ID       '!AF$7:AF$406,$B5,$C5,0,3-COLUMN()), \"\")","v":""},{"$f":"IFERROR(Nth_Occurrence('      ID       '!AG$7:AG$406,$B5,$C5,0,3-COLUMN()), \"\")","v":""},{"$f":"IFERROR(Nth_Occurrence('      ID       '!AH$7:AH$406,$B5,$C5,0,3-COLUMN()), \"\")","v":""},{"$f":"IFERROR(Nth_Occurrence('      ID       '!AI$7:AI$406,$B5,$C5,0,3-COLUMN()), \"\")","v":""},{"$f":"IFERROR(Nth_Occurrence('      ID       '!AJ$7:AJ$406,$B5,$C5,0,3-COLUMN()), \"\")","v":""},{"$f":"IFERROR(Nth_Occurrence('      ID       '!AK$7:AK$406,$B5,$C5,0,3-COLUMN()), \"\")","v":""},{"$f":"IFERROR(Nth_Occurrence('      ID       '!AL$7:AL$406,$B5,$C5,0,3-COLUMN()), \"\")","v":""},{"$f":"IFERROR(Nth_Occurrence('      ID       '!AM$7:AM$406,$B5,$C5,0,3-COLUMN()), \"\")","v":""},{"$f":"IFERROR(Nth_Occurrence('      ID       '!AN$7:AN$406,$B5,$C5,0,3-COLUMN()), \"\")","v":""},{"$f":"IFERROR(Nth_Occurrence('      ID       '!AO$7:AO$406,$B5,$C5,0,3-COLUMN()), \"\")","v":""},{"$f":"IFERROR(Nth_Occurrence('      ID       '!AP$7:AP$406,$B5,$C5,0,3-COLUMN()), \"\")","v":""},{"$f":"IFERROR(Nth_Occurrence('      ID       '!AQ$7:AQ$406,$B5,$C5,0,3-COLUMN()), \"\")","v":""},{"$f":"IFERROR(Nth_Occurrence('      ID       '!AR$7:AR$406,$B5,$C5,0,3-COLUMN()), \"\")","v":""},{"$f":"IFERROR(Nth_Occurrence('      ID       '!AS$7:AS$406,$B5,$C5,0,3-COLUMN()), \"\")","v":""},{"$f":"IFERROR(Nth_Occurrence('      ID       '!AT$7:AT$406,$B5,$C5,0,3-COLUMN()), \"\")","v":""},{"$f":"IFERROR(Nth_Occurrence('      ID       '!AU$7:AU$406,$B5,$C5,0,3-COLUMN()), \"\")","v":"Veselin"},{"$f":"IFERROR(Nth_Occurrence('      ID       '!AV$7:AV$406,$B5,$C5,0,3-COLUMN()), \"\")","v":""},{"$f":"IFERROR(Nth_Occurrence('      ID       '!AW$7:AW$406,$B5,$C5,0,3-COLUMN()), \"\")","v":""},{"$f":"IFERROR(Nth_Occurrence('      ID       '!AX$7:AX$406,$B5,$C5,0,3-COLUMN()), \"\")","v":""},{"$f":"IFERROR(Nth_Occurrence('      ID       '!AY$7:AY$406,$B5,$C5,0,3-COLUMN()), \"\")","v":""},{"$f":"IFERROR(Nth_Occurrence('      ID       '!AZ$7:AZ$406,$B5,$C5,0,3-COLUMN()), \"\")","v":""},{"$f":"IFERROR(Nth_Occurrence('      ID       '!BA$7:BA$406,$B5,$C5,0,3-COLUMN()), \"\")","v":""},{"$f":"IFERROR(Nth_Occurrence('      ID       '!BB$7:BB$406,$B5,$C5,0,3-COLUMN()), \"\")","v":""},{"$f":"IFERROR(Nth_Occurrence('      ID       '!BC$7:BC$406,$B5,$C5,0,3-COLUMN()), \"\")","v":""},{"$f":"IFERROR(Nth_Occurrence('      ID       '!BD$7:BD$406,$B5,$C5,0,3-COLUMN()), \"\")","v":""},{"$f":"IFERROR(Nth_Occurrence('      ID       '!BE$7:BE$406,$B5,$C5,0,3-COLUMN()), \"\")","v":""},{"$f":"IFERROR(Nth_Occurrence('      ID       '!BF$7:BF$406,$B5,$C5,0,3-COLUMN()), \"\")","v":""},{"$f":"IFERROR(Nth_Occurrence('      ID       '!BG$7:BG$406,$B5,$C5,0,3-COLUMN()), \"\")","v":""},{"$f":"IFERROR(Nth_Occurrence('      ID       '!BH$7:BH$406,$B5,$C5,0,3-COLUMN()), \"\")","v":""},{"$f":"IFERROR(Nth_Occurrence('      ID       '!BI$7:BI$406,$B5,$C5,0,3-COLUMN()), \"\")","v":""},{"$f":"IFERROR(Nth_Occurrence('      ID       '!BJ$7:BJ$406,$B5,$C5,0,3-COLUMN()), \"\")","v":""},{"$f":"IFERROR(Nth_Occurrence('      ID       '!BK$7:BK$406,$B5,$C5,0,3-COLUMN()), \"\")","v":""},{"$f":"IFERROR(Nth_Occurrence('      ID       '!BL$7:BL$406,$B5,$C5,0,3-COLUMN()), \"\")","v":""},{"$f":"IFERROR(Nth_Occurrence('      ID       '!BM$7:BM$406,$B5,$C5,0,3-COLUMN()), \"\")","v":""},{"$f":"IFERROR(Nth_Occurrence('      ID       '!BN$7:BN$406,$B5,$C5,0,3-COLUMN()), \"\")","v":""},{"$f":"IFERROR(Nth_Occurrence('      ID       '!BO$7:BO$406,$B5,$C5,0,3-COLUMN()), \"\")","v":""},{"$f":"IFERROR(Nth_Occurrence('      ID       '!BP$7:BP$406,$B5,$C5,0,3-COLUMN()), \"\")","v":""},{"$f":"IFERROR(Nth_Occurrence('      ID       '!BQ$7:BQ$406,$B5,$C5,0,3-COLUMN()), \"\")","v":""},{"$f":"IFERROR(Nth_Occurrence('      ID       '!BR$7:BR$406,$B5,$C5,0,3-COLUMN()), \"\")","v":""},{"$f":"IFERROR(Nth_Occurrence('      ID       '!BS$7:BS$406,$B5,$C5,0,3-COLUMN()), \"\")","v":""},{"$f":"IFERROR(Nth_Occurrence('      ID       '!BT$7:BT$406,$B5,$C5,0,3-COLUMN()), \"\")","v":""},{"$f":"IFERROR(Nth_Occurrence('      ID       '!BU$7:BU$406,$B5,$C5,0,3-COLUMN()), \"\")","v":""},{"$f":"IFERROR(Nth_Occurrence('      ID       '!BV$7:BV$406,$B5,$C5,0,3-COLUMN()), \"\")","v":""},{"$f":"IFERROR(Nth_Occurrence('      ID       '!BW$7:BW$406,$B5,$C5,0,3-COLUMN()), \"\")","v":""},{"$f":"IFERROR(Nth_Occurrence('      ID       '!BX$7:BX$406,$B5,$C5,0,3-COLUMN()), \"\")","v":""},{"$f":"IFERROR(Nth_Occurrence('      ID       '!BY$7:BY$406,$B5,$C5,0,3-COLUMN()), \"\")","v":""},{"$f":"IFERROR(Nth_Occurrence('      ID       '!BZ$7:BZ$406,$B5,$C5,0,3-COLUMN()), \"\")","v":""},{"$f":"IFERROR(Nth_Occurrence('      ID       '!CA$7:CA$406,$B5,$C5,0,3-COLUMN()), \"\")","v":""},{"$f":"IFERROR(Nth_Occurrence('      ID       '!CB$7:CB$406,$B5,$C5,0,3-COLUMN()), \"\")","v":""},{"$f":"IFERROR(Nth_Occurrence('      ID       '!CC$7:CC$406,$B5,$C5,0,3-COLUMN()), \"\")","v":""}]
[null,1,5,{"$f":"IFERROR(Nth_Occurrence('      ID       '!D$7:D$406,$B6,$C6,0,3-COLUMN()), \"\")","v":"Slavko"},{"$f":"IFERROR(Nth_Occurrence('      ID       '!E$7:E$406,$B6,$C6,0,3-COLUMN()), \"\")","v":"Slavko"},{"$f":"IFERROR(Nth_Occurrence('      ID       '!F$7:F$406,$B6,$C6,0,3-COLUMN()), \"\")","v":""},{"$f":"IFERROR(Nth_Occurrence('      ID       '!G$7:G$406,$B6,$C6,0,3-COLUMN()), \"\")","v":""},{"$f":"IFERROR(Nth_Occurrence('      ID       '!H$7:H$406,$B6,$C6,0,3-COLUMN()), \"\")","v":""},{"$f":"IFERROR(Nth_Occurrence('      ID       '!I$7:I$406,$B6,$C6,0,3-COLUMN()), \"\")","v":""},{"$f":"IFERROR(Nth_Occurrence('      ID       '!J$7:J$406,$B6,$C6,0,3-COLUMN()), \"\")","v":""},{"$f":"IFERROR(Nth_Occurrence('      ID       '!K$7:K$406,$B6,$C6,0,3-COLUMN()), \"\")","v":""},{"$f":"IFERROR(Nth_Occurrence('      ID       '!L$7:L$406,$B6,$C6,0,3-COLUMN()), \"\")","v":"Slavko"},{"$f":"IFERROR(Nth_Occurrence('      ID       '!M$7:M$406,$B6,$C6,0,3-COLUMN()), \"\")","v":"Slavko"},{"$f":"IFERROR(Nth_Occurrence('      ID       '!N$7:N$406,$B6,$C6,0,3-COLUMN()), \"\")","v":""},{"$f":"IFERROR(Nth_Occurrence('      ID       '!O$7:O$406,$B6,$C6,0,3-COLUMN()), \"\")","v":""},{"$f":"IFERROR(Nth_Occurrence('      ID       '!P$7:P$406,$B6,$C6,0,3-COLUMN()), \"\")","v":""},{"$f":"IFERROR(Nth_Occurrence('      ID       '!Q$7:Q$406,$B6,$C6,0,3-COLUMN()), \"\")","v":""},{"$f":"IFERROR(Nth_Occurrence('      ID       '!R$7:R$406,$B6,$C6,0,3-COLUMN()), \"\")","v":""},{"$f":"IFERROR(Nth_Occurrence('      ID       '!S$7:S$406,$B6,$C6,0,3-COLUMN()), \"\")","v":""},{"$f":"IFERROR(Nth_Occurrence('      ID       '!T$7:T$406,$B6,$C6,0,3-COLUMN()), \"\")","v":"Slavko"},{"$f":"IFERROR(Nth_Occurrence('      ID       '!U$7:U$406,$B6,$C6,0,3-COLUMN()), \"\")","v":"Slavko"},{"$f":"IFERROR(Nth_Occurrence('      ID       '!V$7:V$406,$B6,$C6,0,3-COLUMN()), \"\")","v":""},{"$f":"IFERROR(Nth_Occurrence('      ID       '!W$7:W$406,$B6,$C6,0,3-COLUMN()), \"\")","v":""},{"$f":"IFERROR(Nth_Occurrence('      ID       '!X$7:X$406,$B6,$C6,0,3-COLUMN()), \"\")","v":""},{"$f":"IFERROR(Nth_Occurrence('      ID       '!Y$7:Y$406,$B6,$C6,0,3-COLUMN()), \"\")","v":""},{"$f":"IFERROR(Nth_Occurrence('      ID       '!Z$7:Z$406,$B6,$C6,0,3-COLUMN()), \"\")","v":""},{"$f":"IFERROR(Nth_Occurrence('      ID       '!AA$7:AA$406,$B6,$C6,0,3-COLUMN()), \"\")","v":""},{"$f":"IFERROR(Nth_Occurrence('      ID       '!AB$7:AB$406,$B6,$C6,0,3-COLUMN()), \"\")","v":""},{"$f":"IFERROR(Nth_Occurrence('      ID       '!AC$7:AC$406,$B6,$C6,0,3-COLUMN()), \"\")","v":"Slavko"},{"$f":"IFERROR(Nth_Occurrence('      ID       '!AD$7:AD$406,$B6,$C6,0,3-COLUMN()), \"\")","v":"Slavko"},{"$f":"IFERROR(Nth_Occurrence('      ID       '!AE$7:AE$406,$B6,$C6,0,3-COLUMN()), \"\")","v":""},{"$f":"IFERROR(Nth_Occurrence('      ID       '!AF$7:AF$406,$B6,$C6,0,3-COLUMN()), \"\")","v":""},{"$f":"IFERROR(Nth_Occurrence('      ID       '!AG$7:AG$406,$B6,$C6,0,3-COLUMN()), \"\")","v":""},{"$f":"IFERROR(Nth_Occurrence('      ID       '!AH$7:AH$406,$B6,$C6,0,3-COLUMN()), \"\")","v":""},{"$f":"IFERROR(Nth_Occurrence('      ID       '!AI$7:AI$406,$B6,$C6,0,3-COLUMN()), \"\")","v":""},{"$f":"IFERROR(Nth_Occurrence('      ID       '!AJ$7:AJ$406,$B6,$C6,0,3-COLUMN()), \"\")","v":""},{"$f":"IFERROR(Nth_Occurrence('      ID       '!AK$7:AK$406,$B6,$C6,0,3-COLUMN()), \"\")","v":""},{"$f":"IFERROR(Nth_Occurrence('      ID       '!AL$7:AL$406,$B6,$C6,0,3-COLUMN()), \"\")","v":""},{"$f":"IFERROR(Nth_Occurrence('      ID       '!AM$7:AM$406,$B6,$C6,0,3-COLUMN()), \"\")","v":""},{"$f":"IFERROR(Nth_Occurrence('      ID       '!AN$7:AN$406,$B6,$C6,0,3-COLUMN()), \"\")","v":""},{"$f":"IFERROR(Nth_Occurrence('      ID       '!AO$7:AO$406,$B6,$C6,0,3-COLUMN()), \"\")","v":""},{"$f":"IFERROR(Nth_Occurrence('      ID       '!AP$7:AP$406,$B6,$C6,0,3-COLUMN()), \"\")","v":""},{"$f":"IFERROR(Nth_Occurrence('      ID       '!AQ$7:AQ$406,$B6,$C6,0,3-COLUMN()), \"\")","v":""},{"$f":"IFERROR(Nth_Occurrence('      ID       '!AR$7:AR$406,$B6,$C6,0,3-COLUMN()), \"\")","v":""},{"$f":"IFERROR(Nth_Occurrence('      ID       '!AS$7:AS$406,$B6,$C6,0,3-COLUMN()), \"\")","v":""},{"$f":"IFERROR(Nth_Occurrence('      ID       '!AT$7:AT$406,$B6,$C6,0,3-COLUMN()), \"\")","v":""},{"$f":"IFERROR(Nth_Occurrence('      ID       '!AU$7:AU$406,$B6,$C6,0,3-COLUMN()), \"\")","v":"Slavko"},{"$f":"IFERROR(Nth_Occurrence('      ID       '!AV$7:AV$406,$B6,$C6,0,3-COLUMN()), \"\")","v":""},{"$f":"IFERROR(Nth_Occurrence('      ID       '!AW$7:AW$406,$B6,$C6,0,3-COLUMN()), \"\")","v":""},{"$f":"IFERROR(Nth_Occurrence('      ID       '!AX$7:AX$406,$B6,$C6,0,3-COLUMN()), \"\")","v":""},{"$f":"IFERROR(Nth_Occurrence('      ID       '!AY$7:AY$406,$B6,$C6,0,3-COLUMN()), \"\")","v":""},{"$f":"IFERROR(Nth_Occurrence('      ID       '!AZ$7:AZ$406,$B6,$C6,0,3-COLUMN()), \"\")","v":""},{"$f":"IFERROR(Nth_Occurrence('      ID       '!BA$7:BA$406,$B6,$C6,0,3-COLUMN()), \"\")","v":""},{"$f":"IFERROR(Nth_Occurrence('      ID       '!BB$7:BB$406,$B6,$C6,0,3-COLUMN()), \"\")","v":""},{"$f":"IFERROR(Nth_Occurrence('      ID       '!BC$7:BC$406,$B6,$C6,0,3-COLUMN()), \"\")","v":""},{"$f":"IFERROR(Nth_Occurrence('      ID       '!BD$7:BD$406,$B6,$C6,0,3-COLUMN()), \"\")","v":""},{"$f":"IFERROR(Nth_Occurrence('      ID       '!BE$7:BE$406,$B6,$C6,0,3-COLUMN()), \"\")","v":""},{"$f":"IFERROR(Nth_Occurrence('      ID       '!BF$7:BF$406,$B6,$C6,0,3-COLUMN()), \"\")","v":""},{"$f":"IFERROR(Nth_Occurrence('      ID       '!BG$7:BG$406,$B6,$C6,0,3-COLUMN()), \"\")","v":""},{"$f":"IFERROR(Nth_Occurrence('      ID       '!BH$7:BH$406,$B6,$C6,0,3-COLUMN()), \"\")","v":""},{"$f":"IFERROR(Nth_Occurrence('      ID       '!BI$7:BI$406,$B6,$C6,0,3-COLUMN()), \"\")","v":""},{"$f":"IFERROR(Nth_Occurrence('      ID       '!BJ$7:BJ$406,$B6,$C6,0,3-COLUMN()), \"\")","v":""},{"$f":"IFERROR(Nth_Occurrence('      ID       '!BK$7:BK$406,$B6,$C6,0,3-COLUMN()), \"\")","v":""},{"$f":"IFERROR(Nth_Occurrence('      ID       '!BL$7:BL$406,$B6,$C6,0,3-COLUMN()), \"\")","v":""},{"$f":"IFERROR(Nth_Occurrence('      ID       '!BM$7:BM$406,$B6,$C6,0,3-COLUMN()), \"\")","v":""},{"$f":"IFERROR(Nth_Occurrence('      ID       '!BN$7:BN$406,$B6,$C6,0,3-COLUMN()), \"\")","v":""},{"$f":"IFERROR(Nth_Occurrence('      ID       '!BO$7:BO$406,$B6,$C6,0,3-COLUMN()), \"\")","v":""},{"$f":"IFERROR(Nth_Occurrence('      ID       '!BP$7:BP$406,$B6,$C6,0,3-COLUMN()), \"\")","v":""},{"$f":"IFERROR(Nth_Occurrence('      ID       '!BQ$7:BQ$406,$B6,$C6,0,3-COLUMN()), \"\")","v":""},{"$f":"IFERROR(Nth_Occurrence('      ID       '!BR$7:BR$406,$B6,$C6,0,3-COLUMN()), \"\")","v":""},{"$f":"IFERROR(Nth_Occurrence('      ID       '!BS$7:BS$406,$B6,$C6,0,3-COLUMN()), \"\")","v":""},{"$f":"IFERROR(Nth_Occurrence('      ID       '!BT$7:BT$406,$B6,$C6,0,3-COLUMN()), \"\")","v":""},{"$f":"IFERROR(Nth_Occurrence('      ID       '!BU$7:BU$406,$B6,$C6,0,3-COLUMN()), \"\")","v":""},{"$f":"IFERROR(Nth_Occurrence('      ID       '!BV$7:BV$406,$B6,$C6,0,3-COLUMN()), \"\")","v":""},{"$f":"IFERROR(Nth_Occurrence('      ID       '!BW$7:BW$406,$B6,$C6,0,3-COLUMN()), \"\")","v":""},{"$f":"IFERROR(Nth_Occurrence('      ID       '!BX$7:BX$406,$B6,$C6,0,3-COLUMN()), \"\")","v":""},{"$f":"IFERROR(Nth_Occurrence('      ID       '!BY$7:BY$406,$B6,$C6,0,3-COLUMN()), \"\")","v":""},{"$f":"IFERROR(Nth_Occurrence('      ID       '!BZ$7:BZ$406,$B6,$C6,0,3-COLUMN()), \"\")","v":""},{"$f":"IFERROR(Nth_Occurrence('      ID       '!CA$7:CA$406,$B6,$C6,0,3-COLUMN()), \"\")","v":""},{"$f":"IFERROR(Nth_Occurrence('      ID       '!CB$7:CB$406,$B6,$C6,0,3-COLUMN()), \"\")","v":""},{"$f":"IFERROR(Nth_Occurrence('      ID       '!CC$7:CC$406,$B6,$C6,0,3-COLUMN()), \"\")","v":""}]
[null,1,6,{"$f":"IFERROR(Nth_Occurrence('      ID       '!D$7:D$406,$B7,$C7,0,3-COLUMN()), \"\")","v":"Danilo"},{"$f":"IFERROR(Nth_Occurrence('      ID       '!E$7:E$406,$B7,$C7,0,3-COLUMN()), \"\")","v":"Danilo"},{"$f":"IFERROR(Nth_Occurrence('      ID       '!F$7:F$406,$B7,$C7,0,3-COLUMN()), \"\")","v":""},{"$f":"IFERROR(Nth_Occurrence('      ID       '!G$7:G$406,$B7,$C7,0,3-COLUMN()), \"\")","v":""},{"$f":"IFERROR(Nth_Occurrence('      ID       '!H$7:H$406,$B7,$C7,0,3-COLUMN()), \"\")","v":""},{"$f":"IFERROR(Nth_Occurrence('      ID       '!I$7:I$406,$B7,$C7,0,3-COLUMN()), \"\")","v":""},{"$f":"IFERROR(Nth_Occurrence('      ID       '!J$7:J$406,$B7,$C7,0,3-COLUMN()), \"\")","v":""},{"$f":"IFERROR(Nth_Occurrence('      ID       '!K$7:K$406,$B7,$C7,0,3-COLUMN()), \"\")","v":""},{"$f":"IFERROR(Nth_Occurrence('      ID       '!L$7:L$406,$B7,$C7,0,3-COLUMN()), \"\")","v":"Danilo"},{"$f":"IFERROR(Nth_Occurrence('      ID       '!M$7:M$406,$B7,$C7,0,3-COLUMN()), \"\")","v":"Danilo"},{"$f":"IFERROR(Nth_Occurrence('      ID       '!N$7:N$406,$B7,$C7,0,3-COLUMN()), \"\")","v":""},{"$f":"IFERROR(Nth_Occurrence('      ID       '!O$7:O$406,$B7,$C7,0,3-COLUMN()), \"\")","v":""},{"$f":"IFERROR(Nth_Occurrence('      ID       '!P$7:P$406,$B7,$C7,0,3-COLUMN()), \"\")","v":""},{"$f":"IFERROR(Nth_Occurrence('      ID       '!Q$7:Q$406,$B7,$C7,0,3-COLUMN()), \"\")","v":""},{"$f":"IFERROR(Nth_Occurrence('      ID       '!R$7:R$406,$B7,$C7,0,3-COLUMN()), \"\")","v":""},{"$f":"IFERROR(Nth_Occurrence('      ID       '!S$7:S$406,$B7,$C7,0,3-COLUMN()), \"\")","v":""},{"$f":"IFERROR(Nth_Occurrence('      ID       '!T$7:T$406,$B7,$C7,0,3-COLUMN()), \"\")","v":"Danilo"},{"$f":"IFERROR(Nth_Occurrence('      ID       '!U$7:U$406,$B7,$C7,0,3-COLUMN()), \"\")","v":"Danilo"},{"$f":"IFERROR(Nth_Occurrence('      ID       '!V$7:V$406,$B7,$C7,0,3-COLUMN()), \"\")","v":""},{"$f":"IFERROR(Nth_Occurrence('      ID       '!W$7:W$406,$B7,$C7,0,3-COLUMN()), \"\")","v":""},{"$f":"IFERROR(Nth_Occurrence('      ID       '!X$7:X$406,$B7,$C7,0,3-COLUMN()), \"\")","v":""},{"$f":"IFERROR(Nth_Occurrence('      ID       '!Y$7:Y$406,$B7,$C7,0,3-COLUMN()), \"\")","v":""},{"$f":"IFERROR(Nth_Occurrence('      ID       '!Z$7:Z$406,$B7,$C7,0,3-COLUMN()), \"\")","v":""},{"$f":"IFERROR(Nth_Occurrence('      ID       '!AA$7:AA$406,$B7,$C7,0,3-COLUMN()), \"\")","v":""},{"$f":"IFERROR(Nth_Occurrence('      ID       '!AB$7:AB$406,$B7,$C7,0,3-COLUMN()), \"\")","v":""},{"$f":"IFERROR(Nth_Occurrence('      ID       '!AC$7:AC$406,$B7,$C7,0,3-COLUMN()), \"\")","v":"Danilo"},{"$f":"IFERROR(Nth_Occurrence('      ID       '!AD$7:AD$406,$B7,$C7,0,3-COLUMN()), \"\")","v":"Danilo"},{"$f":"IFERROR(Nth_Occurrence('      ID       '!AE$7:AE$406,$B7,$C7,0,3-COLUMN()), \"\")","v":""},{"$f":"IFERROR(Nth_Occurrence('      ID       '!AF$7:AF$406,$B7,$C7,0,3-COLUMN()), \"\")","v":""},{"$f":"IFERROR(Nth_Occurrence('      ID       '!AG$7:AG$406,$B7,$C7,0,3-COLUMN()), \"\")","v":""},{"$f":"IFERROR(Nth_Occurrence('      ID       '!AH$7:AH$406,$B7,$C7,0,3-COLUMN()), \"\")","v":""},{"$f":"IFERROR(Nth_Occurrence('      ID       '!AI$7:AI$406,$B7,$C7,0,3-COLUMN()), \"\")","v":""},{"$f":"IFERROR(Nth_Occurrence('      ID       '!AJ$7:AJ$406,$B7,$C7,0,3-COLUMN()), \"\")","v":""},{"$f":"IFERROR(Nth_Occurrence('      ID       '!AK$7:AK$406,$B7,$C7,0,3-COLUMN()), \"\")","v":""},{"$f":"IFERROR(Nth_Occurrence('      ID       '!AL$7:AL$406,$B7,$C7,0,3-COLUMN()), \"\")","v":""},{"$f":"IFERROR(Nth_Occurrence('      ID       '!AM$7:AM$406,$B7,$C7,0,3-COLUMN()), \"\")","v":""},{"$f":"IFERROR(Nth_Occurrence('      ID       '!AN$7:AN$406,$B7,$C7,0,3-COLUMN()), \"\")","v":""},{"$f":"IFERROR(Nth_Occurrence('      ID       '!AO$7:AO$406,$B7,$C7,0,3-COLUMN()), \"\")","v":""},{"$f":"IFERROR(Nth_Occurrence('      ID       '!AP$7:AP$406,$B7,$C7,0,3-COLUMN()), \"\")","v":""},{"$f":"IFERROR(Nth_Occurrence('      ID       '!AQ$7:AQ$406,$B7,$C7,0,3-COLUMN()), \"\")","v":""},{"$f":"IFERROR(Nth_Occurrence('      ID       '!AR$7:AR$406,$B7,$C7,0,3-COLUMN()), \"\")","v":""},{"$f":"IFERROR(Nth_Occurrence('      ID       '!AS$7:AS$406,$B7,$C7,0,3-COLUMN()), \"\")","v":""},{"$f":"IFERROR(Nth_Occurrence('      ID       '!AT$7:AT$406,$B7,$C7,0,3-COLUMN()), \"\")","v":""},{"$f":"IFERROR(Nth_Occurrence('      ID       '!AU$7:AU$406,$B7,$C7,0,3-COLUMN()), \"\")","v":"Danilo"},{"$f":"IFERROR(Nth_Occurrence('      ID       '!AV$7:AV$406,$B7,$C7,0,3-COLUMN()), \"\")","v":""},{"$f":"IFERROR(Nth_Occurrence('      ID       '!AW$7:AW$406,$B7,$C7,0,3-COLUMN()), \"\")","v":""},{"$f":"IFERROR(Nth_Occurrence('      ID       '!AX$7:AX$406,$B7,$C7,0,3-COLUMN()), \"\")","v":""},{"$f":"IFERROR(Nth_Occurrence('      ID       '!AY$7:AY$406,$B7,$C7,0,3-COLUMN()), \"\")","v":""},{"$f":"IFERROR(Nth_Occurrence('      ID       '!AZ$7:AZ$406,$B7,$C7,0,3-COLUMN()), \"\")","v":""},{"$f":"IFERROR(Nth_Occurrence('      ID       '!BA$7:BA$406,$B7,$C7,0,3-COLUMN()), \"\")","v":""},{"$f":"IFERROR(Nth_Occurrence('      ID       '!BB$7:BB$406,$B7,$C7,0,3-COLUMN()), \"\")","v":""},{"$f":"IFERROR(Nth_Occurrence('      ID       '!BC$7:BC$406,$B7,$C7,0,3-COLUMN()), \"\")","v":""},{"$f":"IFERROR(Nth_Occurrence('      ID       '!BD$7:BD$406,$B7,$C7,0,3-COLUMN()), \"\")","v":""},{"$f":"IFERROR(Nth_Occurrence('      ID       '!BE$7:BE$406,$B7,$C7,0,3-COLUMN()), \"\")","v":""},{"$f":"IFERROR(Nth_Occurrence('      ID       '!BF$7:BF$406,$B7,$C7,0,3-COLUMN()), \"\")","v":""},{"$f":"IFERROR(Nth_Occurrence('      ID       '!BG$7:BG$406,$B7,$C7,0,3-COLUMN()), \"\")","v":""},{"$f":"IFERROR(Nth_Occurrence('      ID       '!BH$7:BH$406,$B7,$C7,0,3-COLUMN()), \"\")","v":""},{"$f":"IFERROR(Nth_Occurrence('      ID       '!BI$7:BI$406,$B7,$C7,0,3-COLUMN()), \"\")","v":""},{"$f":"IFERROR(Nth_Occurrence('      ID       '!BJ$7:BJ$406,$B7,$C7,0,3-COLUMN()), \"\")","v":""},{"$f":"IFERROR(Nth_Occurrence('      ID       '!BK$7:BK$406,$B7,$C7,0,3-COLUMN()), \"\")","v":""},{"$f":"IFERROR(Nth_Occurrence('      ID       '!BL$7:BL$406,$B7,$C7,0,3-COLUMN()), \"\")","v":""},{"$f":"IFERROR(Nth_Occurrence('      ID       '!BM$7:BM$406,$B7,$C7,0,3-COLUMN()), \"\")","v":""},{"$f":"IFERROR(Nth_Occurrence('      ID       '!BN$7:BN$406,$B7,$C7,0,3-COLUMN()), \"\")","v":""},{"$f":"IFERROR(Nth_Occurrence('      ID       '!BO$7:BO$406,$B7,$C7,0,3-COLUMN()), \"\")","v":""},{"$f":"IFERROR(Nth_Occurrence('      ID       '!BP$7:BP$406,$B7,$C7,0,3-COLUMN()), \"\")","v":""},{"$f":"IFERROR(Nth_Occurrence('      ID       '!BQ$7:BQ$406,$B7,$C7,0,3-COLUMN()), \"\")","v":""},{"$f":"IFERROR(Nth_Occurrence('      ID       '!BR$7:BR$406,$B7,$C7,0,3-COLUMN()), \"\")","v":""},{"$f":"IFERROR(Nth_Occurrence('      ID       '!BS$7:BS$406,$B7,$C7,0,3-COLUMN()), \"\")","v":""},{"$f":"IFERROR(Nth_Occurrence('      ID       '!BT$7:BT$406,$B7,$C7,0,3-COLUMN()), \"\")","v":""},{"$f":"IFERROR(Nth_Occurrence('      ID       '!BU$7:BU$406,$B7,$C7,0,3-COLUMN()), \"\")","v":""},{"$f":"IFERROR(Nth_Occurrence('      ID       '!BV$7:BV$406,$B7,$C7,0,3-COLUMN()), \"\")","v":""},{"$f":"IFERROR(Nth_Occurrence('      ID       '!BW$7:BW$406,$B7,$C7,0,3-COLUMN()), \"\")","v":""},{"$f":"IFERROR(Nth_Occurrence('      ID       '!BX$7:BX$406,$B7,$C7,0,3-COLUMN()), \"\")","v":""},{"$f":"IFERROR(Nth_Occurrence('      ID       '!BY$7:BY$406,$B7,$C7,0,3-COLUMN()), \"\")","v":""},{"$f":"IFERROR(Nth_Occurrence('      ID       '!BZ$7:BZ$406,$B7,$C7,0,3-COLUMN()), \"\")","v":""},{"$f":"IFERROR(Nth_Occurrence('      ID       '!CA$7:CA$406,$B7,$C7,0,3-COLUMN()), \"\")","v":""},{"$f":"IFERROR(Nth_Occurrence('      ID       '!CB$7:CB$406,$B7,$C7,0,3-COLUMN()), \"\")","v":""},{"$f":"IFERROR(Nth_Occurrence('      ID       '!CC$7:CC$406,$B7,$C7,0,3-COLUMN()), \"\")","v":""}]
[null,2,1,{"$f":"IFERROR(Nth_Occurrence('      ID       '!D$7:D$406,$B8,$C8,0,3-COLUMN()), \"\")","v":""},{"$f":"IFERROR(Nth_Occurrence('      ID       '!E$7:E$406,$B8,$C8,0,3-COLUMN()), \"\")","v":""},{"$f":"IFERROR(Nth_Occurrence('      ID       '!F$7:F$406,$B8,$C8,0,3-COLUMN()), \"\")","v":""},{"$f":"IFERROR(Nth_Occurrence('      ID       '!G$7:G$406,$B8,$C8,0,3-COLUMN()), \"\")","v":"Marko"},{"$f":"IFERROR(Nth_Occurrence('      ID       '!H$7:H$406,$B8,$C8,0,3-COLUMN()), \"\")","v":"Marko"},{"$f":"IFERROR(Nth_Occurrence('      ID       '!I$7:I$406,$B8,$C8,0,3-COLUMN()), \"\")","v":""},{"$f":"IFERROR(Nth_Occurrence('      ID       '!J$7:J$406,$B8,$C8,0,3-COLUMN()), \"\")","v":""},{"$f":"IFERROR(Nth_Occurrence('      ID       '!K$7:K$406,$B8,$C8,0,3-COLUMN()), \"\")","v":""},{"$f":"IFERROR(Nth_Occurrence('      ID       '!L$7:L$406,$B8,$C8,0,3-COLUMN()), \"\")","v":""},{"$f":"IFERROR(Nth_Occurrence('      ID       '!M$7:M$406,$B8,$C8,0,3-COLUMN()), \"\")","v":""},{"$f":"IFERROR(Nth_Occurrence('      ID       '!N$7:N$406,$B8,$C8,0,3-COLUMN()), \"\")","v":""},{"$f":"IFERROR(Nth_Occurrence('      ID       '!O$7:O$406,$B8,$C8,0,3-COLUMN()), \"\")","v":"Marko"},{"$f":"IFERROR(Nth_Occurrence('      ID       '!P$7:P$406,$B8,$C8,0,3-COLUMN()), \"\")","v":"Marko"},{"$f":"IFERROR(Nth_Occurrence('      ID       '!Q$7:Q$406,$B8,$C8,0,3-COLUMN()), \"\")","v":""},{"$f":"IFERROR(Nth_Occurrence('      ID       '!R$7:R$406,$B8,$C8,0,3-COLUMN()), \"\")","v":""},{"$f":"IFERROR(Nth_Occurrence('      ID       '!S$7:S$406,$B8,$C8,0,3-COLUMN()), \"\")","v":""},{"$f":"IFERROR(Nth_Occurrence('      ID       '!T$7:T$406,$B8,$C8,0,3-COLUMN()), \"\")","v":""},{"$f":"IFERROR(Nth_Occurrence('      ID       '!U$7:U$406,$B8,$C8,0,3-COLUMN()), \"\")","v":""},{"$f":"IFERROR(Nth_Occurrence('      ID       '!V$7:V$406,$B8,$C8,0,3-COLUMN()), \"\")","v":""},{"$f":"IFERROR(Nth_Occurrence('      ID       '!W$7:W$406,$B8,$C8,0,3-COLUMN()), \"\")","v":"Marko"},{"$f":"IFERROR(Nth_Occurrence('      ID       '!X$7:X$406,$B8,$C8,0,3-COLUMN()), \"\")","v":"Marko"},{"$f":"IFERROR(Nth_Occurrence('      ID       '!Y$7:Y$406,$B8,$C8,0,3-COLUMN()), \"\")","v":""},{"$f":"IFERROR(Nth_Occurrence('      ID       '!Z$7:Z$406,$B8,$C8,0,3-COLUMN()), \"\")","v":""},{"$f":"IFERROR(Nth_Occurrence('      ID       '!AA$7:AA$406,$B8,$C8,0,3-COLUMN()), \"\")","v":""},{"$f":"IFERROR(Nth_Occurrence('      ID       '!AB$7:AB$406,$B8,$C8,0,3-COLUMN()), \"\")","v":""},{"$f":"IFERROR(Nth_Occurrence('      ID       '!AC$7:AC$406,$B8,$C8,0,3-COLUMN()), \"\")","v":""},{"$f":"IFERROR(Nth_Occurrence('      ID       '!AD$7:AD$406,$B8,$C8,0,3-COLUMN()), \"\")","v":""},{"$f":"IFERROR(Nth_Occurrence('      ID       '!AE$7:AE$406,$B8,$C8,0,3-COLUMN()), \"\")","v":"Marko"},{"$f":"IFERROR(Nth_Occurrence('      ID       '!AF$7:AF$406,$B8,$C8,0,3-COLUMN()), \"\")","v":"Marko"},{"$f":"IFERROR(Nth_Occurrence('      ID       '!AG$7:AG$406,$B8,$C8,0,3-COLUMN()), \"\")","v":""},{"$f":"IFERROR(Nth_Occurrence('      ID       '!AH$7:AH$406,$B8,$C8,0,3-COLUMN()), \"\")","v":""},{"$f":"IFERROR(Nth_Occurrence('      ID       '!AI$7:AI$406,$B8,$C8,0,3-COLUMN()), \"\")","v":""},{"$f":"IFERROR(Nth_Occurrence('      ID       '!AJ$7:AJ$406,$B8,$C8,0,3-COLUMN()), \"\")","v":""},{"$f":"IFERROR(Nth_Occurrence('      ID       '!AK$7:AK$406,$B8,$C8,0,3-COLUMN()), \"\")","v":""},{"$f":"IFERROR(Nth_Occurrence('      ID       '!AL$7:AL$406,$B8,$C8,0,3-COLUMN()), \"\")","v":""},{"$f":"IFERROR(Nth_Occurrence('      ID       '!AM$7:AM$406,$B8,$C8,0,3-COLUMN()), \"\")","v":""},{"$f":"IFERROR(Nth_Occurrence('      ID       '!AN$7:AN$406,$B8,$C8,0,3-COLUMN()), \"\")","v":""},{"$f":"IFERROR(Nth_Occurrence('      ID       '!AO$7:AO$406,$B8,$C8,0,3-COLUMN()), \"\")","v":""},{"$f":"IFERROR(Nth_Occurrence('      ID       '!AP$7:AP$406,$B8,$C8,0,3-COLUMN()), \"\")","v":""},{"$f":"IFERROR(Nth_Occurrence('      ID       '!AQ$7:AQ$406,$B8,$C8,0,3-COLUMN()), \"\")","v":""},{"$f":"IFERROR(Nth_Occurrence('      ID       '!AR$7:AR$406,$B8,$C8,0,3-COLUMN()), \"\")","v":""},{"$f":"IFERROR(Nth_Occurrence('      ID       '!AS$7:AS$406,$B8,$C8,0,3-COLUMN()), \"\")","v":"Marko"},{"$f":"IFERROR(Nth_Occurrence('      ID       '!AT$7:AT$406,$B8,$C8,0,3-COLUMN()), \"\")","v":""},{"$f":"IFERROR(Nth_Occurrence('      ID       '!AU$7:AU$406,$B8,$C8,0,3-COLUMN()), \"\")","v":"Marko"},{"$f":"IFERROR(Nth_Occurrence('      ID       '!AV$7:AV$406,$B8,$C8,0,3-COLUMN()), \"\")","v":"Marko"},{"$f":"IFERROR(Nth_Occurrence('      ID       '!AW$7:AW$406,$B8,$C8,0,3-COLUMN()), \"\")","v":"Ognjen"},{"$f":"IFERROR(Nth_Occurrence('      ID       '!AX$7:AX$406,$B8,$C8,0,3-COLUMN()), \"\")","v":""},{"$f":"IFERROR(Nth_Occurrence('      ID       '!AY$7:AY$406,$B8,$C8,0,3-COLUMN()), \"\")","v":""},{"$f":"IFERROR(Nth_Occurrence('      ID       '!AZ$7:AZ$406,$B8,$C8,0,3-COLUMN()), \"\")","v":""},{"$f":"IFERROR(Nth_Occurrence('      ID       '!BA$7:BA$406,$B8,$C8,0,3-COLUMN()), \"\")","v":""},{"$f":"IFERROR(Nth_Occurrence('      ID       '!BB$7:BB$406,$B8,$C8,0,3-COLUMN()), \"\")","v":""},{"$f":"IFERROR(Nth_Occurrence('      ID       '!BC$7:BC$406,$B8,$C8,0,3-COLUMN()), \"\")","v":""},{"$f":"IFERROR(Nth_Occurrence('      ID       '!BD$7:BD$406,$B8,$C8,0,3-COLUMN()), \"\")","v":""},{"$f":"IFERROR(Nth_Occurrence('      ID       '!BE$7:BE$406,$B8,$C8,0,3-COLUMN()), \"\")","v":""},{"$f":"IFERROR(Nth_Occurrence('      ID       '!BF$7:BF$406,$B8,$C8,0,3-COLUMN()), \"\")","v":""},{"$f":"IFERROR(Nth_Occurrence('      ID       '!BG$7:BG$406,$B8,$C8,0,3-COLUMN()), \"\")","v":""},{"$f":"IFERROR(Nth_Occurrence('      ID       '!BH$7:BH$406,$B8,$C8,0,3-COLUMN()), \"\")","v":""},{"$f":"IFERROR(Nth_Occurrence('      ID       '!BI$7:BI$406,$B8,$C8,0,3-COLUMN()), \"\")","v":""},{"$f":"IFERROR(Nth_Occurrence('      ID       '!BJ$7:BJ$406,$B8,$C8,0,3-COLUMN()), \"\")","v":""},{"$f":"IFERROR(Nth_Occurrence('      ID       '!BK$7:BK$406,$B8,$C8,0,3-COLUMN()), \"\")","v":""},{"$f":"IFERROR(Nth_Occurrence('      ID       '!BL$7:BL$406,$B8,$C8,0,3-COLUMN()), \"\")","v":""},{"$f":"IFERROR(Nth_Occurrence('      ID       '!BM$7:BM$406,$B8,$C8,0,3-COLUMN()), \"\")","v":""},{"$f":"IFERROR(Nth_Occurrence('      ID       '!BN$7:BN$406,$B8,$C8,0,3-COLUMN()), \"\")","v":""},{"$f":"IFERROR(Nth_Occurrence('      ID       '!BO$7:BO$406,$B8,$C8,0,3-COLUMN()), \"\")","v":""},{"$f":"IFERROR(Nth_Occurrence('      ID       '!BP$7:BP$406,$B8,$C8,0,3-COLUMN()), \"\")","v":""},{"$f":"IFERROR(Nth_Occurrence('      ID       '!BQ$7:BQ$406,$B8,$C8,0,3-COLUMN()), \"\")","v":""},{"$f":"IFERROR(Nth_Occurrence('      ID       '!BR$7:BR$406,$B8,$C8,0,3-COLUMN()), \"\")","v":""},{"$f":"IFERROR(Nth_Occurrence('      ID       '!BS$7:BS$406,$B8,$C8,0,3-COLUMN()), \"\")","v":""},{"$f":"IFERROR(Nth_Occurrence('      ID       '!BT$7:BT$406,$B8,$C8,0,3-COLUMN()), \"\")","v":""},{"$f":"IFERROR(Nth_Occurrence('      ID       '!BU$7:BU$406,$B8,$C8,0,3-COLUMN()), \"\")","v":""},{"$f":"IFERROR(Nth_Occurrence('      ID       '!BV$7:BV$406,$B8,$C8,0,3-COLUMN()), \"\")","v":""},{"$f":"IFERROR(Nth_Occurrence('      ID       '!BW$7:BW$406,$B8,$C8,0,3-COLUMN()), \"\")","v":""},{"$f":"IFERROR(Nth_Occurrence('      ID       '!BX$7:BX$406,$B8,$C8,0,3-COLUMN()), \"\")","v":""},{"$f":"IFERROR(Nth_Occurrence('      ID       '!BY$7:BY$406,$B8,$C8,0,3-COLUMN()), \"\")","v":""},{"$f":"IFERROR(Nth_Occurrence('      ID       '!BZ$7:BZ$406,$B8,$C8,0,3-COLUMN()), \"\")","v":""},{"$f":"IFERROR(Nth_Occurrence('      ID       '!CA$7:CA$406,$B8,$C8,0,3-COLUMN()), \"\")","v":""},{"$f":"IFERROR(Nth_Occurrence('      ID       '!CB$7:CB$406,$B8,$C8,0,3-COLUMN()), \"\")","v":""},{"$f":"IFERROR(Nth_Occurrence('      ID       '!CC$7:CC$406,$B8,$C8,0,3-COLUMN()), \"\")","v":""}]
[null,2,2,{"$f":"IFERROR(Nth_Occurrence('      ID       '!D$7:D$406,$B9,$C9,0,3-COLUMN()), \"\")","v":""},{"$f":"IFERROR(Nth_Occurrence('      ID       '!E$7:E$406,$B9,$C9,0,3-COLUMN()), \"\")","v":""},{"$f":"IFERROR(Nth_Occurrence('      ID       '!F$7:F$406,$B9,$C9,0,3-COLUMN()), \"\")","v":""},{"$f":"IFERROR(Nth_Occurrence('      ID       '!G$7:G$406,$B9,$C9,0,3-COLUMN()), \"\")","v":"Ognjen"},{"$f":"IFERROR(Nth_Occurrence('      ID       '!H$7:H$406,$B9,$C9,0,3-COLUMN()), \"\")","v":"Ognjen"},{"$f":"IFERROR(Nth_Occurrence('      ID       '!I$7:I$406,$B9,$C9,0,3-COLUMN()), \"\")","v":""},{"$f":"IFERROR(Nth_Occurrence('      ID       '!J$7:J$406,$B9,$C9,0,3-COLUMN()), \"\")","v":""},{"$f":"IFERROR(Nth_Occurrence('      ID       '!K$7:K$406,$B9,$C9,0,3-COLUMN()), \"\")","v":""},{"$f":"IFERROR(Nth_Occurrence('      ID       '!L$7:L$406,$B9,$C9,0,3-COLUMN()), \"\")","v":""},{"$f":"IFERROR(Nth_Occurrence('      ID       '!M$7:M$406,$B9,$C9,0,3-COLUMN()), \"\")","v":""},{"$f":"IFERROR(Nth_Occurrence('      ID       '!N$7:N$406,$B9,$C9,0,3-COLUMN()), \"\")","v":""},{"$f":"IFERROR(Nth_Occurrence('      ID       '!O$7:O$406,$B9,$C9,0,3-COLUMN()), \"\")","v":"Ognjen"},{"$f":"IFERROR(Nth_Occurrence('      ID       '!P$7:P$406,$B9,$C9,0,3-COLUMN()), \"\")","v":"Ognjen"},{"$f":"IFERROR(Nth_Occurrence('      ID       '!Q$7:Q$406,$B9,$C9,0,3-COLUMN()), \"\")","v":""},{"$f":"IFERROR(Nth_Occurrence('      ID       '!R$7:R$406,$B9,$C9,0,3-COLUMN()), \"\")","v":""},{"$f":"IFERROR(Nth_Occurrence('      ID       '!S$7:S$406,$B9,$C9,0,3-COLUMN()), \"\")","v":""},{"$f":"IFERROR(Nth_Occurrence('      ID       '!T$7:T$406,$B9,$C9,0,3-COLUMN()), \"\")","v":""},{"$f":"IFERROR(Nth_Occurrence('      ID       '!U$7:U$406,$B9,$C9,0,3-COLUMN()), \"\")","v":""},{"$f":"IFERROR(Nth_Occurrence('      ID       '!V$7:V$406,$B9,$C9,0,3-COLUMN()), \"\")","v":""},{"$f":"IFERROR(Nth_Occurrence('      ID       '!W$7:W$406,$B9,$C9,0,3-COLUMN()), \"\")","v":"Ognjen"},{"$f":"IFERROR(Nth_Occurrence('      ID       '!X$7:X$406,$B9,$C9,0,3-COLUMN()), \"\")","v":"Ognjen"},{"$f":"IFERROR(Nth_Occurrence('      ID       '!Y$7:Y$406,$B9,$C9,0,3-COLUMN()), \"\")","v":""},{"$f":"IFERROR(Nth_Occurrence('      ID       '!Z$7:Z$406,$B9,$C9,0,3-COLUMN()), \"\")","v":""},{"$f":"IFERROR(Nth_Occurrence('      ID       '!AA$7:AA$406,$B9,$C9,0,3-COLUMN()), \"\")","v":""},{"$f":"IFERROR(Nth_Occurrence('      ID       '!AB$7:AB$406,$B9,$C9,0,3-COLUMN()), \"\")","v":""},{"$f":"IFERROR(Nth_Occurrence('      ID       '!AC$7:AC$406,$B9,$C9,0,3-COLUMN()), \"\")","v":""},{"$f":"IFERROR(Nth_Occurrence('      ID       '!AD$7:AD$406,$B9,$C9,0,3-COLUMN()), \"\")","v":""},{"$f":"IFERROR(Nth_Occurrence('      ID       '!AE$7:AE$406,$B9,$C9,0,3-COLUMN()), \"\")","v":"Ognjen"},{"$f":"IFERROR(Nth_Occurrence('      ID       '!AF$7:AF$406,$B9,$C9,0,3-COLUMN()), \"\")","v":"Ognjen"},{"$f":"IFERROR(Nth_Occurrence('      ID       '!AG$7:AG$406,$B9,$C9,0,3-COLUMN()), \"\")","v":""},{"$f":"IFERROR(Nth_Occurrence('      ID       '!AH$7:AH$406,$B9,$C9,0,3-COLUMN()), \"\")","v":""},{"$f":"IFERROR(Nth_Occurrence('      ID       '!AI$7:AI$406,$B9,$C9,0,3-COLUMN()), \"\")","v":""},{"$f":"IFERROR(Nth_Occurrence('      ID       '!AJ$7:AJ$406,$B9,$C9,0,3-COLUMN()), \"\")","v":""},{"$f":"IFERROR(Nth_Occurrence('      ID       '!AK$7:AK$406,$B9,$C9,0,3-COLUMN()), \"\")","v":""},{"$f":"IFERROR(Nth_Occurrence('      ID       '!AL$7:AL$406,$B9,$C9,0,3-COLUMN()), \"\")","v":""},{"$f":"IFERROR(Nth_Occurrence('      ID       '!AM$7:AM$406,$B9,$C9,0,3-COLUMN()), \"\")","v":""},{"$f":"IFERROR(Nth_Occurrence('      ID       '!AN$7:AN$406,$B9,$C9,0,3-COLUMN()), \"\")","v":""},{"$f":"IFERROR(Nth_Occurrence('      ID       '!AO$7:AO$406,$B9,$C9,0,3-COLUMN()), \"\")","v":""},{"$f":"IFERROR(Nth_Occurrence('      ID       '!AP$7:AP$406,$B9,$C9,0,3-COLUMN()), \"\")","v":""},{"$f":"IFERROR(Nth_Occurrence('      ID       '!AQ$7:AQ$406,$B9,$C9,0,3-COLUMN()), \"\")","v":""},{"$f":"IFERROR(Nth_Occurrence('      ID       '!AR$7:AR$406,$B9,$C9,0,3-COLUMN()), \"\")","v":""},{"$f":"IFERROR(Nth_Occurrence('      ID       '!AS$7:AS$406,$B9,$C9,0,3-COLUMN()), \"\")","v":"Ognjen"},{"$f":"IFERROR(Nth_Occurrence('      ID       '!AT$7:AT$406,$B9,$C9,0,3-COLUMN()), \"\")","v":""},{"$f":"IFERROR(Nth_Occurrence('      ID       '!AU$7:AU$406,$B9,$C9,0,3-COLUMN()), \"\")","v":"Ognjen"},{"$f":"IFERROR(Nth_Occurrence('      ID       '!AV$7:AV$406,$B9,$C9,0,3-COLUMN()), \"\")","v":"Ognjen"},{"$f":"IFERROR(Nth_Occurrence('      ID       '!AW$7:AW$406,$B9,$C9,0,3-COLUMN()), \"\")","v":""},{"$f":"IFERROR(Nth_Occurrence('      ID       '!AX$7:AX$406,$B9,$C9,0,3-COLUMN()), \"\")","v":""},{"$f":"IFERROR(Nth_Occurrence('      ID       '!AY$7:AY$406,$B9,$C9,0,3-COLUMN()), \"\")","v":""},{"$f":"IFERROR(Nth_Occurrence('      ID       '!AZ$7:AZ$406,$B9,$C9,0,3-COLUMN()), \"\")","v":""},{"$f":"IFERROR(Nth_Occurrence('      ID       '!BA$7:BA$406,$B9,$C9,0,3-COLUMN()), \"\")","v":""},{"$f":"IFERROR(Nth_Occurrence('      ID       '!BB$7:BB$406,$B9,$C9,0,3-COLUMN()), \"\")","v":""},{"$f":"IFERROR(Nth_Occurrence('      ID       '!BC$7:BC$406,$B9,$C9,0,3-COLUMN()), \"\")","v":""},{"$f":"IFERROR(Nth_Occurrence('      ID       '!BD$7:BD$406,$B9,$C9,0,3-COLUMN()), \"\")","v":""},{"$f":"IFERROR(Nth_Occurrence('      ID       '!BE$7:BE$406,$B9,$C9,0,3-COLUMN()), \"\")","v":""},{"$f":"IFERROR(Nth_Occurrence('      ID       '!BF$7:BF$406,$B9,$C9,0,3-COLUMN()), \"\")","v":""},{"$f":"IFERROR(Nth_Occurrence('      ID       '!BG$7:BG$406,$B9,$C9,0,3-COLUMN()), \"\")","v":""},{"$f":"IFERROR(Nth_Occurrence('      ID       '!BH$7:BH$406,$B9,$C9,0,3-COLUMN()), \"\")","v":""},{"$f":"IFERROR(Nth_Occurrence('      ID       '!BI$7:BI$406,$B9,$C9,0,3-COLUMN()), \"\")","v":""},{"$f":"IFERROR(Nth_Occurrence('      ID       '!BJ$7:BJ$406,$B9,$C9,0,3-COLUMN()), \"\")","v":""},{"$f":"IFERROR(Nth_Occurrence('      ID       '!BK$7:BK$406,$B9,$C9,0,3-COLUMN()), \"\")","v":""},{"$f":"IFERROR(Nth_Occurrence('      ID       '!BL$7:BL$406,$B9,$C9,0,3-COLUMN()), \"\")","v":""},{"$f":"IFERROR(Nth_Occurrence('      ID       '!BM$7:BM$406,$B9,$C9,0,3-COLUMN()), \"\")","v":""},{"$f":"IFERROR(Nth_Occurrence('      ID       '!BN$7:BN$406,$B9,$C9,0,3-COLUMN()), \"\")","v":""},{"$f":"IFERROR(Nth_Occurrence('      ID       '!BO$7:BO$406,$B9,$C9,0,3-COLUMN()), \"\")","v":""},{"$f":"IFERROR(Nth_Occurrence('      ID       '!BP$7:BP$406,$B9,$C9,0,3-COLUMN()), \"\")","v":""},{"$f":"IFERROR(Nth_Occurrence('      ID       '!BQ$7:BQ$406,$B9,$C9,0,3-COLUMN()), \"\")","v":""},{"$f":"IFERROR(Nth_Occurrence('      ID       '!BR$7:BR$406,$B9,$C9,0,3-COLUMN()), \"\")","v":""},{"$f":"IFERROR(Nth_Occurrence('      ID       '!BS$7:BS$406,$B9,$C9,0,3-COLUMN()), \"\")","v":""},{"$f":"IFERROR(Nth_Occurrence('      ID       '!BT$7:BT$406,$B9,$C9,0,3-COLUMN()), \"\")","v":""},{"$f":"IFERROR(Nth_Occurrence('      ID       '!BU$7:BU$406,$B9,$C9,0,3-COLUMN()), \"\")","v":""},{"$f":"IFERROR(Nth_Occurrence('      ID       '!BV$7:BV$406,$B9,$C9,0,3-COLUMN()), \"\")","v":""},{"$f":"IFERROR(Nth_Occurrence('      ID       '!BW$7:BW$406,$B9,$C9,0,3-COLUMN()), \"\")","v":""},{"$f":"IFERROR(Nth_Occurrence('      ID       '!BX$7:BX$406,$B9,$C9,0,3-COLUMN()), \"\")","v":""},{"$f":"IFERROR(Nth_Occurrence('      ID       '!BY$7:BY$406,$B9,$C9,0,3-COLUMN()), \"\")","v":""},{"$f":"IFERROR(Nth_Occurrence('      ID       '!BZ$7:BZ$406,$B9,$C9,0,3-COLUMN()), \"\")","v":""},{"$f":"IFERROR(Nth_Occurrence('      ID       '!CA$7:CA$406,$B9,$C9,0,3-COLUMN()), \"\")","v":""},{"$f":"IFERROR(Nth_Occurrence('      ID       '!CB$7:CB$406,$B9,$C9,0,3-COLUMN()), \"\")","v":""},{"$f":"IFERROR(Nth_Occurrence('      ID       '!CC$7:CC$406,$B9,$C9,0,3-COLUMN()), \"\")","v":""}]
["II",2,3,{"$f":"IFERROR(Nth_Occurrence('      ID       '!D$7:D$406,$B10,$C10,0,3-COLUMN()), \"\")","v":""},{"$f":"IFERROR(Nth_Occurrence('      ID       '!E$7:E$406,$B10,$C10,0,3-COLUMN()), \"\")","v":""},{"$f":"IFERROR(Nth_Occurrence('      ID       '!F$7:F$406,$B10,$C10,0,3-COLUMN()), \"\")","v":""},{"$f":"IFERROR(Nth_Occurrence('      ID       '!G$7:G$406,$B10,$C10,0,3-COLUMN()), \"\")","v":"Petar"},{"$f":"IFERROR(Nth_Occurrence('      ID       '!H$7:H$406,$B10,$C10,0,3-COLUMN()), \"\")","v":"Petar"},{"$f":"IFERROR(Nth_Occurrence('      ID       '!I$7:I$406,$B10,$C10,0,3-COLUMN()), \"\")","v":""},{"$f":"IFERROR(Nth_Occurrence('      ID       '!J$7:J$406,$B10,$C10,0,3-COLUMN()), \"\")","v":""},{"$f":"IFERROR(Nth_Occurrence('      ID       '!K$7:K$406,$B10,$C10,0,3-COLUMN()), \"\")","v":""},{"$f":"IFERROR(Nth_Occurrence('      ID       '!L$7:L$406,$B10,$C10,0,3-COLUMN()), \"\")","v":""},{"$f":"IFERROR(Nth_Occurrence('      ID       '!M$7:M$406,$B10,$C10,0,3-COLUMN()), \"\")","v":""},{"$f":"IFERROR(Nth_Occurrence('      ID       '!N$7:N$406,$B10,$C10,0,3-COLUMN()), \"\")","v":""},{"$f":"IFERROR(Nth_Occurrence('      ID       '!O$7:O$406,$B10,$C10,0,3-COLUMN()), \"\")","v":"Petar"},{"$f":"IFERROR(Nth_Occurrence('      ID       '!P$7:P$406,$B10,$C10,0,3-COLUMN()), \"\")","v":"Petar"},{"$f":"IFERROR(Nth_Occurrence('      ID       '!Q$7:Q$406,$B10,$C10,0,3-COLUMN()), \"\")","v":""},{"$f":"IFERROR(Nth_Occurrence('      ID       '!R$7:R$406,$B10,$C10,0,3-COLUMN()), \"\")","v":""},{"$f":"IFERROR(Nth_Occurrence('      ID       '!S$7:S$406,$B10,$C10,0,3-COLUMN()), \"\")","v":""},{"$f":"IFERROR(Nth_Occurrence('      ID       '!T$7:T$406,$B10,$C10,0,3-COLUMN()), \"\")","v":""},{"$f":"IFERROR(Nth_Occurrence('      ID       '!U$7:U$406,$B10,$C10,0,3-COLUMN()), \"\")","v":""},{"$f":"IFERROR(Nth_Occurrence('      ID       '!V$7:V$406,$B10,$C10,0,3-COLUMN()), \"\")","v":""},{"$f":"IFERROR(Nth_Occurrence('      ID       '!W$7:W$406,$B10,$C10,0,3-COLUMN()), \"\")","v":"Petar"},{"$f":"IFERROR(Nth_Occurrence('      ID       '!X$7:X$406,$B10,$C10,0,3-COLUMN()), \"\")","v":"Petar"},{"$f":"IFERROR(Nth_Occurrence('      ID       '!Y$7:Y$406,$B10,$C10,0,3-COLUMN()), \"\")","v":""},{"$f":"IFERROR(Nth_Occurrence('      ID       '!Z$7:Z$406,$B10,$C10,0,3-COLUMN()), \"\")","v":""},{"$f":"IFERROR(Nth_Occurrence('      ID       '!AA$7:AA$406,$B10,$C10,0,3-COLUMN()), \"\")","v":""},{"$f":"IFERROR(Nth_Occurrence('      ID       '!AB$7:AB$406,$B10,$C10,0,3-COLUMN()), \"\")","v":""},{"$f":"IFERROR(Nth_Occurrence('      ID       '!AC$7:AC$406,$B10,$C10,0,3-COLUMN()), \"\")","v":""},{"$f":"IFERROR(Nth_Occurrence('      ID       '!AD$7:AD$406,$B10,$C10,0,3-COLUMN()), \"\")","v":""},{"$f":"IFERROR(Nth_Occurrence('      ID       '!AE$7:AE$406,$B10,$C10,0,3-COLUMN()), \"\")","v":"Petar"},{"$f":"IFERROR(Nth_Occurrence('      ID       '!AF$7:AF$406,$B10,$C10,0,3-COLUMN()), \"\")","v":"Petar"},{"$f":"IFERROR(Nth_Occurrence('      ID       '!AG$7:AG$406,$B10,$C10,0,3-COLUMN()), \"\")","v":""},{"$f":"IFERROR(Nth_Occurrence('      ID       '!AH$7:AH$406,$B10,$C10,0,3-COLUMN()), \"\")","v":""},{"$f":"IFERROR(Nth_Occurrence('      ID       '!AI$7:AI$406,$B10,$C10,0,3-COLUMN()), \"\")","v":""},{"$f":"IFERROR(Nth_Occurrence('      ID       '!AJ$7:AJ$406,$B10,$C10,0,3-COLUMN()), \"\")","v":""},{"$f":"IFERROR(Nth_Occurrence('      ID       '!AK$7:AK$406,$B10,$C10,0,3-COLUMN()), \"\")","v":""},{"$f":"IFERROR(Nth_Occurrence('      ID       '!AL$7:AL$406,$B10,$C10,0,3-COLUMN()), \"\")","v":""},{"$f":"IFERROR(Nth_Occurrence('      ID       '!AM$7:AM$406,$B10,$C10,0,3-COLUMN()), \"\")","v":""},{"$f":"IFERROR(Nth_Occurrence('      ID       '!AN$7:AN$406,$B10,$C10,0,3-COLUMN()), \"\")","v":""},{"$f":"IFERROR(Nth_Occurrence('      ID       '!AO$7:AO$406,$B10,$C10,0,3-COLUMN()), \"\")","v":""},{"$f":"IFERROR(Nth_Occurrence('      ID       '!AP$7:AP$406,$B10,$C10,0,3-COLUMN()), \"\")","v":""},{"$f":"IFERROR(Nth_Occurrence('      ID       '!AQ$7:AQ$406,$B10,$C10,0,3-COLUMN()), \"\")","v":""},{"$f":"IFERROR(Nth_Occurrence('      ID       '!AR$7:AR$406,$B10,$C10,0,3-COLUMN()), \"\")","v":""},{"$f":"IFERROR(Nth_Occurrence('      ID       '!AS$7:AS$406,$B10,$C10,0,3-COLUMN()), \"\")","v":"Petar"},{"$f":"IFERROR(Nth_Occurrence('      ID       '!AT$7:AT$406,$B10,$C10,0,3-COLUMN()), \"\")","v":""},{"$f":"IFERROR(Nth_Occurrence('      ID       '!AU$7:AU$406,$B10,$C10,0,3-COLUMN()), \"\")","v":"Petar"},{"$f":"IFERROR(Nth_Occurrence('      ID       '!AV$7:AV$406,$B10,$C10,0,3-COLUMN()), \"\")","v":"Petar"},{"$f":"IFERROR(Nth_Occurrence('      ID       '!AW$7:AW$406,$B10,$C10,0,3-COLUMN()), \"\")","v":""},{"$f":"IFERROR(Nth_Occurrence('      ID       '!AX$7:AX$406,$B10,$C10,0,3-COLUMN()), \"\")","v":""},{"$f":"IFERROR(Nth_Occurrence('      ID       '!AY$7:AY$406,$B10,$C10,0,3-COLUMN()), \"\")","v":""},{"$f":"IFERROR(Nth_Occurrence('      ID       '!AZ$7:AZ$406,$B10,$C10,0,3-COLUMN()), \"\")","v":""},{"$f":"IFERROR(Nth_Occurrence('      ID       '!BA$7:BA$406,$B10,$C10,0,3-COLUMN()), \"\")","v":""},{"$f":"IFERROR(Nth_Occurrence('      ID       '!BB$7:BB$406,$B10,$C10,0,3-COLUMN()), \"\")","v":""},{"$f":"IFERROR(Nth_Occurrence('      ID       '!BC$7:BC$406,$B10,$C10,0,3-COLUMN()), \"\")","v":""},{"$f":"IFERROR(Nth_Occurrence('      ID       '!BD$7:BD$406,$B10,$C10,0,3-COLUMN()), \"\")","v":""},{"$f":"IFERROR(Nth_Occurrence('      ID       '!BE$7:BE$406,$B10,$C10,0,3-COLUMN()), \"\")","v":""},{"$f":"IFERROR(Nth_Occurrence('      ID       '!BF$7:BF$406,$B10,$C10,0,3-COLUMN()), \"\")","v":""},{"$f":"IFERROR(Nth_Occurrence('      ID       '!BG$7:BG$406,$B10,$C10,0,3-COLUMN()), \"\")","v":""},{"$f":"IFERROR(Nth_Occurrence('      ID       '!BH$7:BH$406,$B10,$C10,0,3-COLUMN()), \"\")","v":""},{"$f":"IFERROR(Nth_Occurrence('      ID       '!BI$7:BI$406,$B10,$C10,0,3-COLUMN()), \"\")","v":""},{"$f":"IFERROR(Nth_Occurrence('      ID       '!BJ$7:BJ$406,$B10,$C10,0,3-COLUMN()), \"\")","v":""},{"$f":"IFERROR(Nth_Occurrence('      ID       '!BK$7:BK$406,$B10,$C10,0,3-COLUMN()), \"\")","v":""},{"$f":"IFERROR(Nth_Occurrence('      ID       '!BL$7:BL$406,$B10,$C10,0,3-COLUMN()), \"\")","v":""},{"$f":"IFERROR(Nth_Occurrence('      ID       '!BM$7:BM$406,$B10,$C10,0,3-COLUMN()), \"\")","v":""},{"$f":"IFERROR(Nth_Occurrence('      ID       '!BN$7:BN$406,$B10,$C10,0,3-COLUMN()), \"\")","v":""},{"$f":"IFERROR(Nth_Occurrence('      ID       '!BO$7:BO$406,$B10,$C10,0,3-COLUMN()), \"\")","v":""},{"$f":"IFERROR(Nth_Occurrence('      ID       '!BP$7:BP$406,$B10,$C10,0,3-COLUMN()), \"\")","v":""},{"$f":"IFERROR(Nth_Occurrence('      ID       '!BQ$7:BQ$406,$B10,$C10,0,3-COLUMN()), \"\")","v":""},{"$f":"IFERROR(Nth_Occurrence('      ID       '!BR$7:BR$406,$B10,$C10,0,3-COLUMN()), \"\")","v":""},{"$f":"IFERROR(Nth_Occurrence('      ID       '!BS$7:BS$406,$B10,$C10,0,3-COLUMN()), \"\")","v":""},{"$f":"IFERROR(Nth_Occurrence('      ID       '!BT$7:BT$406,$B10,$C10,0,3-COLUMN()), \"\")","v":""},{"$f":"IFERROR(Nth_Occurrence('      ID       '!BU$7:BU$406,$B10,$C10,0,3-COLUMN()), \"\")","v":""},{"$f":"IFERROR(Nth_Occurrence('      ID       '!BV$7:BV$406,$B10,$C10,0,3-COLUMN()), \"\")","v":""},{"$f":"IFERROR(Nth_Occurrence('      ID       '!BW$7:BW$406,$B10,$C10,0,3-COLUMN()), \"\")","v":""},{"$f":"IFERROR(Nth_Occurrence('      ID       '!BX$7:BX$406,$B10,$C10,0,3-COLUMN()), \"\")","v":""},{"$f":"IFERROR(Nth_Occurrence('      ID       '!BY$7:BY$406,$B10,$C10,0,3-COLUMN()), \"\")","v":""},{"$f":"IFERROR(Nth_Occurrence('      ID       '!BZ$7:BZ$406,$B10,$C10,0,3-COLUMN()), \"\")","v":""},{"$f":"IFERROR(Nth_Occurrence('      ID       '!CA$7:CA$406,$B10,$C10,0,3-COLUMN()), \"\")","v":""},{"$f":"IFERROR(Nth_Occurrence('      ID       '!CB$7:CB$406,$B10,$C10,0,3-COLUMN()), \"\")","v":""},{"$f":"IFERROR(Nth_Occurrence('      ID       '!CC$7:CC$406,$B10,$C10,0,3-COLUMN()), \"\")","v":""}]
[null,2,4,{"$f":"IFERROR(Nth_Occurrence('      ID       '!D$7:D$406,$B11,$C11,0,3-COLUMN()), \"\")","v":""},{"$f":"IFERROR(Nth_Occurrence('      ID       '!E$7:E$406,$B11,$C11,0,3-COLUMN()), \"\")","v":""},{"$f":"IFERROR(Nth_Occurrence('      ID       '!F$7:F$406,$B11,$C11,0,3-COLUMN()), \"\")","v":""},{"$f":"IFERROR(Nth_Occurrence('      ID       '!G$7:G$406,$B11,$C11,0,3-COLUMN()), \"\")","v":"Veselin"},{"$f":"IFERROR(Nth_Occurrence('      ID       '!H$7:H$406,$B11,$C11,0,3-COLUMN()), \"\")","v":"Veselin"},{"$f":"IFERROR(Nth_Occurrence('      ID       '!I$7:I$406,$B11,$C11,0,3-COLUMN()), \"\")","v":""},{"$f":"IFERROR(Nth_Occurrence('      ID       '!J$7:J$406,$B11,$C11,0,3-COLUMN()), \"\")","v":""},{"$f":"IFERROR(Nth_Occurrence('      ID       '!K$7:K$406,$B11,$C11,0,3-COLUMN()), \"\")","v":""},{"$f":"IFERROR(Nth_Occurrence('      ID       '!L$7:L$406,$B11,$C11,0,3-COLUMN()), \"\")","v":""},{"$f":"IFERROR(Nth_Occurrence('      ID       '!M$7:M$406,$B11,$C11,0,3-COLUMN()), \"\")","v":""},{"$f":"IFERROR(Nth_Occurrence('      ID       '!N$7:N$406,$B11,$C11,0,3-COLUMN()), \"\")","v":""},{"$f":"IFERROR(Nth_Occurrence('      ID       '!O$7:O$406,$B11,$C11,0,3-COLUMN()), \"\")","v":"Veselin"},{"$f":"IFERROR(Nth_Occurrence('      ID       '!P$7:P$406,$B11,$C11,0,3-COLUMN()), \"\")","v":"Veselin"},{"$f":"IFERROR(Nth_Occurrence('      ID       '!Q$7:Q$406,$B11,$C11,0,3-COLUMN()), \"\")","v":""},{"$f":"IFERROR(Nth_Occurrence('      ID       '!R$7:R$406,$B11,$C11,0,3-COLUMN()), \"\")","v":""},{"$f":"IFERROR(Nth_Occurrence('      ID       '!S$7:S$406,$B11,$C11,0,3-COLUMN()), \"\")","v":""},{"$f":"IFERROR(Nth_Occurrence('      ID       '!T$7:T$406,$B11,$C11,0,3-COLUMN()), \"\")","v":""},{"$f":"IFERROR(Nth_Occurrence('      ID       '!U$7:U$406,$B11,$C11,0,3-COLUMN()), \"\")","v":""},{"$f":"IFERROR(Nth_Occurrence('      ID       '!V$7:V$406,$B11,$C11,0,3-COLUMN()), \"\")","v":""},{"$f":"IFERROR(Nth_Occurrence('      ID       '!W$7:W$406,$B11,$C11,0,3-COLUMN()), \"\")","v":"Veselin"},{"$f":"IFERROR(Nth_Occurrence('      ID       '!X$7:X$406,$B11,$C11,0,3-COLUMN()), \"\")","v":"Veselin"},{"$f":"IFERROR(Nth_Occurrence('      ID       '!Y$7:Y$406,$B11,$C11,0,3-COLUMN()), \"\")","v":""},{"$f":"IFERROR(Nth_Occurrence('      ID       '!Z$7:Z$406,$B11,$C11,0,3-COLUMN()), \"\")","v":""},{"$f":"IFERROR(Nth_Occurrence('      ID       '!AA$7:AA$406,$B11,$C11,0,3-COLUMN()), \"\")","v":""},{"$f":"IFERROR(Nth_Occurrence('      ID       '!AB$7:AB$406,$B11,$C11,0,3-COLUMN()), \"\")","v":""},{"$f":"IFERROR(Nth_Occurrence('      ID       '!AC$7:AC$406,$B11,$C11,0,3-COLUMN()), \"\")","v":""},{"$f":"IFERROR(Nth_Occurrence('      ID       '!AD$7:AD$406,$B11,$C11,0,3-COLUMN()), \"\")","v":""},{"$f":"IFERROR(Nth_Occurrence('      ID       '!AE$7:AE$406,$B11,$C11,0,3-COLUMN()), \"\")","v":"Veselin"},{"$f":"IFERROR(Nth_Occurrence('      ID       '!AF$7:AF$406,$B11,$C11,0,3-COLUMN()), \"\")","v":"Veselin"},{"$f":"IFERROR(Nth_Occurrence('      ID       '!AG$7:AG$406,$B11,$C11,0,3-COLUMN()), \"\")","v":""},{"$f":"IFERROR(Nth_Occurrence('      ID       '!AH$7:AH$406,$B11,$C11,0,3-COLUMN()), \"\")","v":""},{"$f":"IFERROR(Nth_Occurrence('      ID       '!AI$7:AI$406,$B11,$C11,0,3-COLUMN()), \"\")","v":""},{"$f":"IFERROR(Nth_Occurrence('      ID       '!AJ$7:AJ$406,$B11,$C11,0,3-COLUMN()), \"\")","v":""},{"$f":"IFERROR(Nth_Occurrence('      ID       '!AK$7:AK$406,$B11,$C11,0,3-COLUMN()), \"\")","v":""},{"$f":"IFERROR(Nth_Occurrence('      ID       '!AL$7:AL$406,$B11,$C11,0,3-COLUMN()), \"\")","v":""},{"$f":"IFERROR(Nth_Occurrence('      ID       '!AM$7:AM$406,$B11,$C11,0,3-COLUMN()), \"\")","v":""},{"$f":"IFERROR(Nth_Occurrence('      ID       '!AN$7:AN$406,$B11,$C11,0,3-COLUMN()), \"\")","v":""},{"$f":"IFERROR(Nth_Occurrence('      ID       '!AO$7:AO$406,$B11,$C11,0,3-COLUMN()), \"\")","v":""},{"$f":"IFERROR(Nth_Occurrence('      ID       '!AP$7:AP$406,$B11,$C11,0,3-COLUMN()), \"\")","v":""},{"$f":"IFERROR(Nth_Occurrence('      ID       '!AQ$7:AQ$406,$B11,$C11,0,3-COLUMN()), \"\")","v":""},{"$f":"IFERROR(Nth_Occurrence('      ID       '!AR$7:AR$406,$B11,$C11,0,3-COLUMN()), \"\")","v":""},{"$f":"IFERROR(Nth_Occurrence('      ID       '!AS$7:AS$406,$B11,$C11,0,3-COLUMN()), \"\")","v":"Veselin"},{"$f":"IFERROR(Nth_Occurrence('      ID       '!AT$7:AT$406,$B11,$C11,0,3-COLUMN()), \"\")","v":""},{"$f":"IFERROR(Nth_Occurrence('      ID       '!AU$7:AU$406,$B11,$C11,0,3-COLUMN()), \"\")","v":"Veselin"},{"$f":"IFERROR(Nth_Occurrence('      ID       '!AV$7:AV$406,$B11,$C11,0,3-COLUMN()), \"\")","v":"Veselin"},{"$f":"IFERROR(Nth_Occurrence('      ID       '!AW$7:AW$406,$B11,$C11,0,3-COLUMN()), \"\")","v":""},{"$f":"IFERROR(Nth_Occurrence('      ID       '!AX$7:AX$406,$B11,$C11,0,3-COLUMN()), \"\")","v":""},{"$f":"IFERROR(Nth_Occurrence('      ID       '!AY$7:AY$406,$B11,$C11,0,3-COLUMN()), \"\")","v":""},{"$f":"IFERROR(Nth_Occurrence('      ID       '!AZ$7:AZ$406,$B11,$C11,0,3-COLUMN()), \"\")","v":""},{"$f":"IFERROR(Nth_Occurrence('      ID       '!BA$7:BA$406,$B11,$C11,0,3-COLUMN()), \"\")","v":""},{"$f":"IFERROR(Nth_Occurrence('      ID       '!BB$7:BB$406,$B11,$C11,0,3-COLUMN()), \"\")","v":""},{"$f":"IFERROR(Nth_Occurrence('      ID       '!BC$7:BC$406,$B11,$C11,0,3-COLUMN()), \"\")","v":""},{"$f":"IFERROR(Nth_Occurrence('      ID       '!BD$7:BD$406,$B11,$C11,0,3-COLUMN()), \"\")","v":""},{"$f":"IFERROR(Nth_Occurrence('      ID       '!BE$7:BE$406,$B11,$C11,0,3-COLUMN()), \"\")","v":""},{"$f":"IFERROR(Nth_Occurrence('      ID       '!BF$7:BF$406,$B11,$C11,0,3-COLUMN()), \"\")","v":""},{"$f":"IFERROR(Nth_Occurrence('      ID       '!BG$7:BG$406,$B11,$C11,0,3-COLUMN()), \"\")","v":""},{"$f":"IFERROR(Nth_Occurrence('      ID       '!BH$7:BH$406,$B11,$C11,0,3-COLUMN()), \"\")","v":""},{"$f":"IFERROR(Nth_Occurrence('      ID       '!BI$7:BI$406,$B11,$C11,0,3-COLUMN()), \"\")","v":""},{"$f":"IFERROR(Nth_Occurrence('      ID       '!BJ$7:BJ$406,$B11,$C11,0,3-COLUMN()), \"\")","v":""},{"$f":"IFERROR(Nth_Occurrence('      ID       '!BK$7:BK$406,$B11,$C11,0,3-COLUMN()), \"\")","v":""},{"$f":"IFERROR(Nth_Occurrence('      ID       '!BL$7:BL$406,$B11,$C11,0,3-COLUMN()), \"\")","v":""},{"$f":"IFERROR(Nth_Occurrence('      ID       '!BM$7:BM$406,$B11,$C11,0,3-COLUMN()), \"\")","v":""},{"$f":"IFERROR(Nth_Occurrence('      ID       '!BN$7:BN$406,$B11,$C11,0,3-COLUMN()), \"\")","v":""},{"$f":"IFERROR(Nth_Occurrence('      ID       '!BO$7:BO$406,$B11,$C11,0,3-COLUMN()), \"\")","v":""},{"$f":"IFERROR(Nth_Occurrence('      ID       '!BP$7:BP$406,$B11,$C11,0,3-COLUMN()), \"\")","v":""},{"$f":"IFERROR(Nth_Occurrence('      ID       '!BQ$7:BQ$406,$B11,$C11,0,3-COLUMN()), \"\")","v":""},{"$f":"IFERROR(Nth_Occurrence('      ID       '!BR$7:BR$406,$B11,$C11,0,3-COLUMN()), \"\")","v":""},{"$f":"IFERROR(Nth_Occurrence('      ID       '!BS$7:BS$406,$B11,$C11,0,3-COLUMN()), \"\")","v":""},{"$f":"IFERROR(Nth_Occurrence('      ID       '!BT$7:BT$406,$B11,$C11,0,3-COLUMN()), \"\")","v":""},{"$f":"IFERROR(Nth_Occurrence('      ID       '!BU$7:BU$406,$B11,$C11,0,3-COLUMN()), \"\")","v":""},{"$f":"IFERROR(Nth_Occurrence('      ID       '!BV$7:BV$406,$B11,$C11,0,3-COLUMN()), \"\")","v":""},{"$f":"IFERROR(Nth_Occurrence('      ID       '!BW$7:BW$406,$B11,$C11,0,3-COLUMN()), \"\")","v":""},{"$f":"IFERROR(Nth_Occurrence('      ID       '!BX$7:BX$406,$B11,$C11,0,3-COLUMN()), \"\")","v":""},{"$f":"IFERROR(Nth_Occurrence('      ID       '!BY$7:BY$406,$B11,$C11,0,3-COLUMN()), \"\")","v":""},{"$f":"IFERROR(Nth_Occurrence('      ID       '!BZ$7:BZ$406,$B11,$C11,0,3-COLUMN()), \"\")","v":""},{"$f":"IFERROR(Nth_Occurrence('      ID       '!CA$7:CA$406,$B11,$C11,0,3-COLUMN()), \"\")","v":""},{"$f":"IFERROR(Nth_Occurrence('      ID       '!CB$7:CB$406,$B11,$C11,0,3-COLUMN()), \"\")","v":""},{"$f":"IFERROR(Nth_Occurrence('      ID       '!CC$7:CC$406,$B11,$C11,0,3-COLUMN()), \"\")","v":""}]
[null,2,5,{"$f":"IFERROR(Nth_Occurrence('      ID       '!D$7:D$406,$B12,$C12,0,3-COLUMN()), \"\")","v":""},{"$f":"IFERROR(Nth_Occurrence('      ID       '!E$7:E$406,$B12,$C12,0,3-COLUMN()), \"\")","v":""},{"$f":"IFERROR(Nth_Occurrence('      ID       '!F$7:F$406,$B12,$C12,0,3-COLUMN()), \"\")","v":""},{"$f":"IFERROR(Nth_Occurrence('      ID       '!G$7:G$406,$B12,$C12,0,3-COLUMN()), \"\")","v":"Slavko"},{"$f":"IFERROR(Nth_Occurrence('      ID       '!H$7:H$406,$B12,$C12,0,3-COLUMN()), \"\")","v":"Slavko"},{"$f":"IFERROR(Nth_Occurrence('      ID       '!I$7:I$406,$B12,$C12,0,3-COLUMN()), \"\")","v":""},{"$f":"IFERROR(Nth_Occurrence('      ID       '!J$7:J$406,$B12,$C12,0,3-COLUMN()), \"\")","v":""},{"$f":"IFERROR(Nth_Occurrence('      ID       '!K$7:K$406,$B12,$C12,0,3-COLUMN()), \"\")","v":""},{"$f":"IFERROR(Nth_Occurrence('      ID       '!L$7:L$406,$B12,$C12,0,3-COLUMN()), \"\")","v":""},{"$f":"IFERROR(Nth_Occurrence('      ID       '!M$7:M$406,$B12,$C12,0,3-COLUMN()), \"\")","v":""},{"$f":"IFERROR(Nth_Occurrence('      ID       '!N$7:N$406,$B12,$C12,0,3-COLUMN()), \"\")","v":""},{"$f":"IFERROR(Nth_Occurrence('      ID       '!O$7:O$406,$B12,$C12,0,3-COLUMN()), \"\")","v":"Slavko"},{"$f":"IFERROR(Nth_Occurrence('      ID       '!P$7:P$406,$B12,$C12,0,3-COLUMN()), \"\")","v":"Slavko"},{"$f":"IFERROR(Nth_Occurrence('      ID       '!Q$7:Q$406,$B12,$C12,0,3-COLUMN()), \"\")","v":""},{"$f":"IFERROR(Nth_Occurrence('      ID       '!R$7:R$406,$B12,$C12,0,3-COLUMN()), \"\")","v":""},{"$f":"IFERROR(Nth_Occurrence('      ID       '!S$7:S$406,$B12,$C12,0,3-COLUMN()), \"\")","v":""},{"$f":"IFERROR(Nth_Occurrence('      ID       '!T$7:T$406,$B12,$C12,0,3-COLUMN()), \"\")","v":""},{"$f":"IFERROR(Nth_Occurrence('      ID       '!U$7:U$406,$B12,$C12,0,3-COLUMN()), \"\")","v":""},{"$f":"IFERROR(Nth_Occurrence('      ID       '!V$7:V$406,$B12,$C12,0,3-COLUMN()), \"\")","v":""},{"$f":"IFERROR(Nth_Occurrence('      ID       '!W$7:W$406,$B12,$C12,0,3-COLUMN()), \"\")","v":"Slavko"},{"$f":"IFERROR(Nth_Occurrence('      ID       '!X$7:X$406,$B12,$C12,0,3-COLUMN()), \"\")","v":"Slavko"},{"$f":"IFERROR(Nth_Occurrence('      ID       '!Y$7:Y$406,$B12,$C12,0,3-COLUMN()), \"\")","v":""},{"$f":"IFERROR(Nth_Occurrence('      ID       '!Z$7:Z$406,$B12,$C12,0,3-COLUMN()), \"\")","v":""},{"$f":"IFERROR(Nth_Occurrence('      ID       '!AA$7:AA$406,$B12,$C12,0,3-COLUMN()), \"\")","v":""},{"$f":"IFERROR(Nth_Occurrence('      ID       '!AB$7:AB$406,$B12,$C12,0,3-COLUMN()), \"\")","v":""},{"$f":"IFERROR(Nth_Occurrence('      ID       '!AC$7:AC$406,$B12,$C12,0,3-COLUMN()), \"\")","v":""},{"$f":"IFERROR(Nth_Occurrence('      ID       '!AD$7:AD$406,$B12,$C12,0,3-COLUMN()), \"\")","v":""},{"$f":"IFERROR(Nth_Occurrence('      ID       '!AE$7:AE$406,$B12,$C12,0,3-COLUMN()), \"\")","v":"Slavko"},{"$f":"IFERROR(Nth_Occurrence('      ID       '!AF$7:AF$406,$B12,$C12,0,3-COLUMN()), \"\")","v":"Slavko"},{"$f":"IFERROR(Nth_Occurrence('      ID       '!AG$7:AG$406,$B12,$C12,0,3-COLUMN()), \"\")","v":""},{"$f":"IFERROR(Nth_Occurrence('      ID       '!AH$7:AH$406,$B12,$C12,0,3-COLUMN()), \"\")","v":""},{"$f":"IFERROR(Nth_Occurrence('      ID       '!AI$7:AI$406,$B12,$C12,0,3-COLUMN()), \"\")","v":""},{"$f":"IFERROR(Nth_Occurrence('      ID       '!AJ$7:AJ$406,$B12,$C12,0,3-COLUMN()), \"\")","v":""},{"$f":"IFERROR(Nth_Occurrence('      ID       '!AK$7:AK$406,$B12,$C12,0,3-COLUMN()), \"\")","v":""},{"$f":"IFERROR(Nth_Occurrence('      ID       '!AL$7:AL$406,$B12,$C12,0,3-COLUMN()), \"\")","v":""},{"$f":"IFERROR(Nth_Occurrence('      ID       '!AM$7:AM$406,$B12,$C12,0,3-COLUMN()), \"\")","v":""},{"$f":"IFERROR(Nth_Occurrence('      ID       '!AN$7:AN$406,$B12,$C12,0,3-COLUMN()), \"\")","v":""},{"$f":"IFERROR(Nth_Occurrence('      ID       '!AO$7:AO$406,$B12,$C12,0,3-COLUMN()), \"\")","v":""},{"$f":"IFERROR(Nth_Occurrence('      ID       '!AP$7:AP$406,$B12,$C12,0,3-COLUMN()), \"\")","v":""},{"$f":"IFERROR(Nth_Occurrence('      ID       '!AQ$7:AQ$406,$B12,$C12,0,3-COLUMN()), \"\")","v":""},{"$f":"IFERROR(Nth_Occurrence('      ID       '!AR$7:AR$406,$B12,$C12,0,3-COLUMN()), \"\")","v":""},{"$f":"IFERROR(Nth_Occurrence('      ID       '!AS$7:AS$406,$B12,$C12,0,3-COLUMN()), \"\")","v":"Slavko"},{"$f":"IFERROR(Nth_Occurrence('      ID       '!AT$7:AT$406,$B12,$C12,0,3-COLUMN()), \"\")","v":""},{"$f":"IFERROR(Nth_Occurrence('      ID       '!AU$7:AU$406,$B12,$C12,0,3-COLUMN()), \"\")","v":"Slavko"},{"$f":"IFERROR(Nth_Occurrence('      ID       '!AV$7:AV$406,$B12,$C12,0,3-COLUMN()), \"\")","v":"Slavko"},{"$f":"IFERROR(Nth_Occurrence('      ID       '!AW$7:AW$406,$B12,$C12,0,3-COLUMN()), \"\")","v":""},{"$f":"IFERROR(Nth_Occurrence('      ID       '!AX$7:AX$406,$B12,$C12,0,3-COLUMN()), \"\")","v":""},{"$f":"IFERROR(Nth_Occurrence('      ID       '!AY$7:AY$406,$B12,$C12,0,3-COLUMN()), \"\")","v":""},{"$f":"IFERROR(Nth_Occurrence('      ID       '!AZ$7:AZ$406,$B12,$C12,0,3-COLUMN()), \"\")","v":""},{"$f":"IFERROR(Nth_Occurrence('      ID       '!BA$7:BA$406,$B12,$C12,0,3-COLUMN()), \"\")","v":""},{"$f":"IFERROR(Nth_Occurrence('      ID       '!BB$7:BB$406,$B12,$C12,0,3-COLUMN()), \"\")","v":""},{"$f":"IFERROR(Nth_Occurrence('      ID       '!BC$7:BC$406,$B12,$C12,0,3-COLUMN()), \"\")","v":""},{"$f":"IFERROR(Nth_Occurrence('      ID       '!BD$7:BD$406,$B12,$C12,0,3-COLUMN()), \"\")","v":""},{"$f":"IFERROR(Nth_Occurrence('      ID       '!BE$7:BE$406,$B12,$C12,0,3-COLUMN()), \"\")","v":""},{"$f":"IFERROR(Nth_Occurrence('      ID       '!BF$7:BF$406,$B12,$C12,0,3-COLUMN()), \"\")","v":""},{"$f":"IFERROR(Nth_Occurrence('      ID       '!BG$7:BG$406,$B12,$C12,0,3-COLUMN()), \"\")","v":""},{"$f":"IFERROR(Nth_Occurrence('      ID       '!BH$7:BH$406,$B12,$C12,0,3-COLUMN()), \"\")","v":""},{"$f":"IFERROR(Nth_Occurrence('      ID       '!BI$7:BI$406,$B12,$C12,0,3-COLUMN()), \"\")","v":""},{"$f":"IFERROR(Nth_Occurrence('      ID       '!BJ$7:BJ$406,$B12,$C12,0,3-COLUMN()), \"\")","v":""},{"$f":"IFERROR(Nth_Occurrence('      ID       '!BK$7:BK$406,$B12,$C12,0,3-COLUMN()), \"\")","v":""},{"$f":"IFERROR(Nth_Occurrence('      ID       '!BL$7:BL$406,$B12,$C12,0,3-COLUMN()), \"\")","v":""},{"$f":"IFERROR(Nth_Occurrence('      ID       '!BM$7:BM$406,$B12,$C12,0,3-COLUMN()), \"\")","v":""},{"$f":"IFERROR(Nth_Occurrence('      ID       '!BN$7:BN$406,$B12,$C12,0,3-COLUMN()), \"\")","v":""},{"$f":"IFERROR(Nth_Occurrence('      ID       '!BO$7:BO$406,$B12,$C12,0,3-COLUMN()), \"\")","v":""},{"$f":"IFERROR(Nth_Occurrence('      ID       '!BP$7:BP$406,$B12,$C12,0,3-COLUMN()), \"\")","v":""},{"$f":"IFERROR(Nth_Occurrence('      ID       '!BQ$7:BQ$406,$B12,$C12,0,3-COLUMN()), \"\")","v":""},{"$f":"IFERROR(Nth_Occurrence('      ID       '!BR$7:BR$406,$B12,$C12,0,3-COLUMN()), \"\")","v":""},{"$f":"IFERROR(Nth_Occurrence('      ID       '!BS$7:BS$406,$B12,$C12,0,3-COLUMN()), \"\")","v":""},{"$f":"IFERROR(Nth_Occurrence('      ID       '!BT$7:BT$406,$B12,$C12,0,3-COLUMN()), \"\")","v":""},{"$f":"IFERROR(Nth_Occurrence('      ID       '!BU$7:BU$406,$B12,$C12,0,3-COLUMN()), \"\")","v":""},{"$f":"IFERROR(Nth_Occurrence('      ID       '!BV$7:BV$406,$B12,$C12,0,3-COLUMN()), \"\")","v":""},{"$f":"IFERROR(Nth_Occurrence('      ID       '!BW$7:BW$406,$B12,$C12,0,3-COLUMN()), \"\")","v":""},{"$f":"IFERROR(Nth_Occurrence('      ID       '!BX$7:BX$406,$B12,$C12,0,3-COLUMN()), \"\")","v":""},{"$f":"IFERROR(Nth_Occurrence('      ID       '!BY$7:BY$406,$B12,$C12,0,3-COLUMN()), \"\")","v":""},{"$f":"IFERROR(Nth_Occurrence('      ID       '!BZ$7:BZ$406,$B12,$C12,0,3-COLUMN()), \"\")","v":""},{"$f":"IFERROR(Nth_Occurrence('      ID       '!CA$7:CA$406,$B12,$C12,0,3-COLUMN()), \"\")","v":""},{"$f":"IFERROR(Nth_Occurrence('      ID       '!CB$7:CB$406,$B12,$C12,0,3-COLUMN()), \"\")","v":""},{"$f":"IFERROR(Nth_Occurrence('      ID       '!CC$7:CC$406,$B12,$C12,0,3-COLUMN()), \"\")","v":""}]
[null,2,6,{"$f":"IFERROR(Nth_Occurrence('      ID       '!D$7:D$406,$B13,$C13,0,3-COLUMN()), \"\")","v":""},{"$f":"IFERROR(Nth_Occurrence('      ID       '!E$7:E$406,$B13,$C13,0,3-COLUMN()), \"\")","v":""},{"$f":"IFERROR(Nth_Occurrence('      ID       '!F$7:F$406,$B13,$C13,0,3-COLUMN()), \"\")","v":""},{"$f":"IFERROR(Nth_Occurrence('      ID       '!G$7:G$406,$B13,$C13,0,3-COLUMN()), \"\")","v":"Danilo"},{"$f":"IFERROR(Nth_Occurrence('      ID       '!H$7:H$406,$B13,$C13,0,3-COLUMN()), \"\")","v":"Danilo"},{"$f":"IFERROR(Nth_Occurrence('      ID       '!I$7:I$406,$B13,$C13,0,3-COLUMN()), \"\")","v":""},{"$f":"IFERROR(Nth_Occurrence('      ID       '!J$7:J$406,$B13,$C13,0,3-COLUMN()), \"\")","v":""},{"$f":"IFERROR(Nth_Occurrence('      ID       '!K$7:K$406,$B13,$C13,0,3-COLUMN()), \"\")","v":""},{"$f":"IFERROR(Nth_Occurrence('      ID       '!L$7:L$406,$B13,$C13,0,3-COLUMN()), \"\")","v":""},{"$f":"IFERROR(Nth_Occurrence('      ID       '!M$7:M$406,$B13,$C13,0,3-COLUMN()), \"\")","v":""},{"$f":"IFERROR(Nth_Occurrence('      ID       '!N$7:N$406,$B13,$C13,0,3-COLUMN()), \"\")","v":""},{"$f":"IFERROR(Nth_Occurrence('      ID       '!O$7:O$406,$B13,$C13,0,3-COLUMN()), \"\")","v":"Danilo"},{"$f":"IFERROR(Nth_Occurrence('      ID       '!P$7:P$406,$B13,$C13,0,3-COLUMN()), \"\")","v":"Danilo"},{"$f":"IFERROR(Nth_Occurrence('      ID       '!Q$7:Q$406,$B13,$C13,0,3-COLUMN()), \"\")","v":""},{"$f":"IFERROR(Nth_Occurrence('      ID       '!R$7:R$406,$B13,$C13,0,3-COLUMN()), \"\")","v":""},{"$f":"IFERROR(Nth_Occurrence('      ID       '!S$7:S$406,$B13,$C13,0,3-COLUMN()), \"\")","v":""},{"$f":"IFERROR(Nth_Occurrence('      ID       '!T$7:T$406,$B13,$C13,0,3-COLUMN()), \"\")","v":""},{"$f":"IFERROR(Nth_Occurrence('      ID       '!U$7:U$406,$B13,$C13,0,3-COLUMN()), \"\")","v":""},{"$f":"IFERROR(Nth_Occurrence('      ID       '!V$7:V$406,$B13,$C13,0,3-COLUMN()), \"\")","v":""},{"$f":"IFERROR(Nth_Occurrence('      ID       '!W$7:W$406,$B13,$C13,0,3-COLUMN()), \"\")","v":"Danilo"},{"$f":"IFERROR(Nth_Occurrence('      ID       '!X$7:X$406,$B13,$C13,0,3-COLUMN()), \"\")","v":"Danilo"},{"$f":"IFERROR(Nth_Occurrence('      ID       '!Y$7:Y$406,$B13,$C13,0,3-COLUMN()), \"\")","v":""},{"$f":"IFERROR(Nth_Occurrence('      ID       '!Z$7:Z$406,$B13,$C13,0,3-COLUMN()), \"\")","v":""},{"$f":"IFERROR(Nth_Occurrence('      ID       '!AA$7:AA$406,$B13,$C13,0,3-COLUMN()), \"\")","v":""},{"$f":"IFERROR(Nth_Occurrence('      ID       '!AB$7:AB$406,$B13,$C13,0,3-COLUMN()), \"\")","v":""},{"$f":"IFERROR(Nth_Occurrence('      ID       '!AC$7:AC$406,$B13,$C13,0,3-COLUMN()), \"\")","v":""},{"$f":"IFERROR(Nth_Occurrence('      ID       '!AD$7:AD$406,$B13,$C13,0,3-COLUMN()), \"\")","v":""},{"$f":"IFERROR(Nth_Occurrence('      ID       '!AE$7:AE$406,$B13,$C13,0,3-COLUMN()), \"\")","v":"Danilo"},{"$f":"IFERROR(Nth_Occurrence('      ID       '!AF$7:AF$406,$B13,$C13,0,3-COLUMN()), \"\")","v":"Danilo"},{"$f":"IFERROR(Nth_Occurrence('      ID       '!AG$7:AG$406,$B13,$C13,0,3-COLUMN()), \"\")","v":""},{"$f":"IFERROR(Nth_Occurrence('      ID       '!AH$7:AH$406,$B13,$C13,0,3-COLUMN()), \"\")","v":""},{"$f":"IFERROR(Nth_Occurrence('      ID       '!AI$7:AI$406,$B13,$C13,0,3-COLUMN()), \"\")","v":""},{"$f":"IFERROR(Nth_Occurrence('      ID       '!AJ$7:AJ$406,$B13,$C13,0,3-COLUMN()), \"\")","v":""},{"$f":"IFERROR(Nth_Occurrence('      ID       '!AK$7:AK$406,$B13,$C13,0,3-COLUMN()), \"\")","v":""},{"$f":"IFERROR(Nth_Occurrence('      ID       '!AL$7:AL$406,$B13,$C13,0,3-COLUMN()), \"\")","v":""},{"$f":"IFERROR(Nth_Occurrence('      ID       '!AM$7:AM$406,$B13,$C13,0,3-COLUMN()), \"\")","v":""},{"$f":"IFERROR(Nth_Occurrence('      ID       '!AN$7:AN$406,$B13,$C13,0,3-COLUMN()), \"\")","v":""},{"$f":"IFERROR(Nth_Occurrence('      ID       '!AO$7:AO$406,$B13,$C13,0,3-COLUMN()), \"\")","v":""},{"$f":"IFERROR(Nth_Occurrence('      ID       '!AP$7:AP$406,$B13,$C13,0,3-COLUMN()), \"\")","v":""},{"$f":"IFERROR(Nth_Occurrence('      ID       '!AQ$7:AQ$406,$B13,$C13,0,3-COLUMN()), \"\")","v":""},{"$f":"IFERROR(Nth_Occurrence('      ID       '!AR$7:AR$406,$B13,$C13,0,3-COLUMN()), \"\")","v":""},{"$f":"IFERROR(Nth_Occurrence('      ID       '!AS$7:AS$406,$B13,$C13,0,3-COLUMN()), \"\")","v":"Danilo"},{"$f":"IFERROR(Nth_Occurrence('      ID       '!AT$7:AT$406,$B13,$C13,0,3-COLUMN()), \"\")","v":""},{"$f":"IFERROR(Nth_Occurrence('      ID       '!AU$7:AU$406,$B13,$C13,0,3-COLUMN()), \"\")","v":"Danilo"},{"$f":"IFERROR(Nth_Occurrence('      ID       '!AV$7:AV$406,$B13,$C13,0,3-COLUMN()), \"\")","v":"Danilo"},{"$f":"IFERROR(Nth_Occurrence('      ID       '!AW$7:AW$406,$B13,$C13,0,3-COLUMN()), \"\")","v":""},{"$f":"IFERROR(Nth_Occurrence('      ID       '!AX$7:AX$406,$B13,$C13,0,3-COLUMN()), \"\")","v":""},{"$f":"IFERROR(Nth_Occurrence('      ID       '!AY$7:AY$406,$B13,$C13,0,3-COLUMN()), \"\")","v":""},{"$f":"IFERROR(Nth_Occurrence('      ID       '!AZ$7:AZ$406,$B13,$C13,0,3-COLUMN()), \"\")","v":""},{"$f":"IFERROR(Nth_Occurrence('      ID       '!BA$7:BA$406,$B13,$C13,0,3-COLUMN()), \"\")","v":""},{"$f":"IFERROR(Nth_Occurrence('      ID       '!BB$7:BB$406,$B13,$C13,0,3-COLUMN()), \"\")","v":""},{"$f":"IFERROR(Nth_Occurrence('      ID       '!BC$7:BC$406,$B13,$C13,0,3-COLUMN()), \"\")","v":""},{"$f":"IFERROR(Nth_Occurrence('      ID       '!BD$7:BD$406,$B13,$C13,0,3-COLUMN()), \"\")","v":""},{"$f":"IFERROR(Nth_Occurrence('      ID       '!BE$7:BE$406,$B13,$C13,0,3-COLUMN()), \"\")","v":""},{"$f":"IFERROR(Nth_Occurrence('      ID       '!BF$7:BF$406,$B13,$C13,0,3-COLUMN()), \"\")","v":""},{"$f":"IFERROR(Nth_Occurrence('      ID       '!BG$7:BG$406,$B13,$C13,0,3-COLUMN()), \"\")","v":""},{"$f":"IFERROR(Nth_Occurrence('      ID       '!BH$7:BH$406,$B13,$C13,0,3-COLUMN()), \"\")","v":""},{"$f":"IFERROR(Nth_Occurrence('      ID       '!BI$7:BI$406,$B13,$C13,0,3-COLUMN()), \"\")","v":""},{"$f":"IFERROR(Nth_Occurrence('      ID       '!BJ$7:BJ$406,$B13,$C13,0,3-COLUMN()), \"\")","v":""},{"$f":"IFERROR(Nth_Occurrence('      ID       '!BK$7:BK$406,$B13,$C13,0,3-COLUMN()), \"\")","v":""},{"$f":"IFERROR(Nth_Occurrence('      ID       '!BL$7:BL$406,$B13,$C13,0,3-COLUMN()), \"\")","v":""},{"$f":"IFERROR(Nth_Occurrence('      ID       '!BM$7:BM$406,$B13,$C13,0,3-COLUMN()), \"\")","v":""},{"$f":"IFERROR(Nth_Occurrence('      ID       '!BN$7:BN$406,$B13,$C13,0,3-COLUMN()), \"\")","v":""},{"$f":"IFERROR(Nth_Occurrence('      ID       '!BO$7:BO$406,$B13,$C13,0,3-COLUMN()), \"\")","v":""},{"$f":"IFERROR(Nth_Occurrence('      ID       '!BP$7:BP$406,$B13,$C13,0,3-COLUMN()), \"\")","v":""},{"$f":"IFERROR(Nth_Occurrence('      ID       '!BQ$7:BQ$406,$B13,$C13,0,3-COLUMN()), \"\")","v":""},{"$f":"IFERROR(Nth_Occurrence('      ID       '!BR$7:BR$406,$B13,$C13,0,3-COLUMN()), \"\")","v":""},{"$f":"IFERROR(Nth_Occurrence('      ID       '!BS$7:BS$406,$B13,$C13,0,3-COLUMN()), \"\")","v":""},{"$f":"IFERROR(Nth_Occurrence('      ID       '!BT$7:BT$406,$B13,$C13,0,3-COLUMN()), \"\")","v":""},{"$f":"IFERROR(Nth_Occurrence('      ID       '!BU$7:BU$406,$B13,$C13,0,3-COLUMN()), \"\")","v":""},{"$f":"IFERROR(Nth_Occurrence('      ID       '!BV$7:BV$406,$B13,$C13,0,3-COLUMN()), \"\")","v":""},{"$f":"IFERROR(Nth_Occurrence('      ID       '!BW$7:BW$406,$B13,$C13,0,3-COLUMN()), \"\")","v":""},{"$f":"IFERROR(Nth_Occurrence('      ID       '!BX$7:BX$406,$B13,$C13,0,3-COLUMN()), \"\")","v":""},{"$f":"IFERROR(Nth_Occurrence('      ID       '!BY$7:BY$406,$B13,$C13,0,3-COLUMN()), \"\")","v":""},{"$f":"IFERROR(Nth_Occurrence('      ID       '!BZ$7:BZ$406,$B13,$C13,0,3-COLUMN()), \"\")","v":""},{"$f":"IFERROR(Nth_Occurrence('      ID       '!CA$7:CA$406,$B13,$C13,0,3-COLUMN()), \"\")","v":""},{"$f":"IFERROR(Nth_Occurrence('      ID       '!CB$7:CB$406,$B13,$C13,0,3-COLUMN()), \"\")","v":""},{"$f":"IFERROR(Nth_Occurrence('      ID       '!CC$7:CC$406,$B13,$C13,0,3-COLUMN()), \"\")","v":""}]
[null,3,1,{"$f":"IFERROR(Nth_Occurrence('      ID       '!D$7:D$406,$B14,$C14,0,3-COLUMN()), \"\")","v":""},{"$f":"IFERROR(Nth_Occurrence('      ID       '!E$7:E$406,$B14,$C14,0,3-COLUMN()), \"\")","v":""},{"$f":"IFERROR(Nth_Occurrence('      ID       '!F$7:F$406,$B14,$C14,0,3-COLUMN()), \"\")","v":""},{"$f":"IFERROR(Nth_Occurrence('      ID       '!G$7:G$406,$B14,$C14,0,3-COLUMN()), \"\")","v":""},{"$f":"IFERROR(Nth_Occurrence('      ID       '!H$7:H$406,$B14,$C14,0,3-COLUMN()), \"\")","v":""},{"$f":"IFERROR(Nth_Occurrence('      ID       '!I$7:I$406,$B14,$C14,0,3-COLUMN()), \"\")","v":"Marko"},{"$f":"IFERROR(Nth_Occurrence('      ID       '!J$7:J$406,$B14,$C14,0,3-COLUMN()), \"\")","v":"Marko"},{"$f":"IFERROR(Nth_Occurrence('      ID       '!K$7:K$406,$B14,$C14,0,3-COLUMN()), \"\")","v":""},{"$f":"IFERROR(Nth_Occurrence('      ID       '!L$7:L$406,$B14,$C14,0,3-COLUMN()), \"\")","v":""},{"$f":"IFERROR(Nth_Occurrence('      ID       '!M$7:M$406,$B14,$C14,0,3-COLUMN()), \"\")","v":""},{"$f":"IFERROR(Nth_Occurrence('      ID       '!N$7:N$406,$B14,$C14,0,3-COLUMN()), \"\")","v":""},{"$f":"IFERROR(Nth_Occurrence('      ID       '!O$7:O$406,$B14,$C14,0,3-COLUMN()), \"\")","v":""},{"$f":"IFERROR(Nth_Occurrence('      ID       '!P$7:P$406,$B14,$C14,0,3-COLUMN()), \"\")","v":""},{"$f":"IFERROR(Nth_Occurrence('      ID       '!Q$7:Q$406,$B14,$C14,0,3-COLUMN()), \"\")","v":"Marko"},{"$f":"IFERROR(Nth_Occurrence('      ID       '!R$7:R$406,$B14,$C14,0,3-COLUMN()), \"\")","v":"Marko"},{"$f":"IFERROR(Nth_Occurrence('      ID       '!S$7:S$406,$B14,$C14,0,3-COLUMN()), \"\")","v":""},{"$f":"IFERROR(Nth_Occurrence('      ID       '!T$7:T$406,$B14,$C14,0,3-COLUMN()), \"\")","v":""},{"$f":"IFERROR(Nth_Occurrence('      ID       '!U$7:U$406,$B14,$C14,0,3-COLUMN()), \"\")","v":""},{"$f":"IFERROR(Nth_Occurrence('      ID       '!V$7:V$406,$B14,$C14,0,3-COLUMN()), \"\")","v":""},{"$f":"IFERROR(Nth_Occurrence('      ID       '!W$7:W$406,$B14,$C14,0,3-COLUMN()), \"\")","v":""},{"$f":"IFERROR(Nth_Occurrence('      ID       '!X$7:X$406,$B14,$C14,0,3-COLUMN()), \"\")","v":""},{"$f":"IFERROR(Nth_Occurrence('      ID       '!Y$7:Y$406,$B14,$C14,0,3-COLUMN()), \"\")","v":"Marko"},{"$f":"IFERROR(Nth_Occurrence('      ID       '!Z$7:Z$406,$B14,$C14,0,3-COLUMN()), \"\")","v":"Marko"},{"$f":"IFERROR(Nth_Occurrence('      ID       '!AA$7:AA$406,$B14,$C14,0,3-COLUMN()), \"\")","v":""},{"$f":"IFERROR(Nth_Occurrence('      ID       '!AB$7:AB$406,$B14,$C14,0,3-COLUMN()), \"\")","v":""},{"$f":"IFERROR(Nth_Occurrence('      ID       '!AC$7:AC$406,$B14,$C14,0,3-COLUMN()), \"\")","v":""},{"$f":"IFERROR(Nth_Occurrence('      ID       '!AD$7:AD$406,$B14,$C14,0,3-COLUMN()), \"\")","v":""},{"$f":"IFERROR(Nth_Occurrence('      ID       '!AE$7:AE$406,$B14,$C14,0,3-COLUMN()), \"\")","v":""},{"$f":"IFERROR(Nth_Occurrence('      ID       '!AF$7:AF$406,$B14,$C14,0,3-COLUMN()), \"\")","v":""},{"$f":"IFERROR(Nth_Occurrence('      ID       '!AG$7:AG$406,$B14,$C14,0,3-COLUMN()), \"\")","v":"Marko"},{"$f":"IFERROR(Nth_Occurrence('      ID       '!AH$7:AH$406,$B14,$C14,0,3-COLUMN()), \"\")","v":"Marko"},{"$f":"IFERROR(Nth_Occurrence('      ID       '!AI$7:AI$406,$B14,$C14,0,3-COLUMN()), \"\")","v":""},{"$f":"IFERROR(Nth_Occurrence('      ID       '!AJ$7:AJ$406,$B14,$C14,0,3-COLUMN()), \"\")","v":""},{"$f":"IFERROR(Nth_Occurrence('      ID       '!AK$7:AK$406,$B14,$C14,0,3-COLUMN()), \"\")","v":""},{"$f":"IFERROR(Nth_Occurrence('      ID       '!AL$7:AL$406,$B14,$C14,0,3-COLUMN()), \"\")","v":""},{"$f":"IFERROR(Nth_Occurrence('      ID       '!AM$7:AM$406,$B14,$C14,0,3-COLUMN()), \"\")","v":""},{"$f":"IFERROR(Nth_Occurrence('      ID       '!AN$7:AN$406,$B14,$C14,0,3-COLUMN()), \"\")","v":""},{"$f":"IFERROR(Nth_Occurrence('      ID       '!AO$7:AO$406,$B14,$C14,0,3-COLUMN()), \"\")","v":""},{"$f":"IFERROR(Nth_Occurrence('      ID       '!AP$7:AP$406,$B14,$C14,0,3-COLUMN()), \"\")","v":""},{"$f":"IFERROR(Nth_Occurrence('      ID       '!AQ$7:AQ$406,$B14,$C14,0,3-COLUMN()), \"\")","v":""},{"$f":"IFERROR(Nth_Occurrence('      ID       '!AR$7:AR$406,$B14,$C14,0,3-COLUMN()), \"\")","v":""},{"$f":"IFERROR(Nth_Occurrence('      ID       '!AS$7:AS$406,$B14,$C14,0,3-COLUMN()), \"\")","v":""},{"$f":"IFERROR(Nth_Occurrence('      ID       '!AT$7:AT$406,$B14,$C14,0,3-COLUMN()), \"\")","v":""},{"$f":"IFERROR(Nth_Occurrence('      ID       '!AU$7:AU$406,$B14,$C14,0,3-COLUMN()), \"\")","v":""},{"$f":"IFERROR(Nth_Occurrence('      ID       '!AV$7:AV$406,$B14,$C14,0,3-COLUMN()), \"\")","v":""},{"$f":"IFERROR(Nth_Occurrence('      ID       '!AW$7:AW$406,$B14,$C14,0,3-COLUMN()), \"\")","v":""},{"$f":"IFERROR(Nth_Occurrence('      ID       '!AX$7:AX$406,$B14,$C14,0,3-COLUMN()), \"\")","v":""},{"$f":"IFERROR(Nth_Occurrence('      ID       '!AY$7:AY$406,$B14,$C14,0,3-COLUMN()), \"\")","v":""},{"$f":"IFERROR(Nth_Occurrence('      ID       '!AZ$7:AZ$406,$B14,$C14,0,3-COLUMN()), \"\")","v":""},{"$f":"IFERROR(Nth_Occurrence('      ID       '!BA$7:BA$406,$B14,$C14,0,3-COLUMN()), \"\")","v":""},{"$f":"IFERROR(Nth_Occurrence('      ID       '!BB$7:BB$406,$B14,$C14,0,3-COLUMN()), \"\")","v":""},{"$f":"IFERROR(Nth_Occurrence('      ID       '!BC$7:BC$406,$B14,$C14,0,3-COLUMN()), \"\")","v":""},{"$f":"IFERROR(Nth_Occurrence('      ID       '!BD$7:BD$406,$B14,$C14,0,3-COLUMN()), \"\")","v":""},{"$f":"IFERROR(Nth_Occurrence('      ID       '!BE$7:BE$406,$B14,$C14,0,3-COLUMN()), \"\")","v":""},{"$f":"IFERROR(Nth_Occurrence('      ID       '!BF$7:BF$406,$B14,$C14,0,3-COLUMN()), \"\")","v":""},{"$f":"IFERROR(Nth_Occurrence('      ID       '!BG$7:BG$406,$B14,$C14,0,3-COLUMN()), \"\")","v":""},{"$f":"IFERROR(Nth_Occurrence('      ID       '!BH$7:BH$406,$B14,$C14,0,3-COLUMN()), \"\")","v":""},{"$f":"IFERROR(Nth_Occurrence('      ID       '!BI$7:BI$406,$B14,$C14,0,3-COLUMN()), \"\")","v":""},{"$f":"IFERROR(Nth_Occurrence('      ID       '!BJ$7:BJ$406,$B14,$C14,0,3-COLUMN()), \"\")","v":""},{"$f":"IFERROR(Nth_Occurrence('      ID       '!BK$7:BK$406,$B14,$C14,0,3-COLUMN()), \"\")","v":""},{"$f":"IFERROR(Nth_Occurrence('      ID       '!BL$7:BL$406,$B14,$C14,0,3-COLUMN()), \"\")","v":""},{"$f":"IFERROR(Nth_Occurrence('      ID       '!BM$7:BM$406,$B14,$C14,0,3-COLUMN()), \"\")","v":""},{"$f":"IFERROR(Nth_Occurrence('      ID       '!BN$7:BN$406,$B14,$C14,0,3-COLUMN()), \"\")","v":""},{"$f":"IFERROR(Nth_Occurrence('      ID       '!BO$7:BO$406,$B14,$C14,0,3-COLUMN()), \"\")","v":""},{"$f":"IFERROR(Nth_Occurrence('      ID       '!BP$7:BP$406,$B14,$C14,0,3-COLUMN()), \"\")","v":""},{"$f":"IFERROR(Nth_Occurrence('      ID       '!BQ$7:BQ$406,$B14,$C14,0,3-COLUMN()), \"\")","v":""},{"$f":"IFERROR(Nth_Occurrence('      ID       '!BR$7:BR$406,$B14,$C14,0,3-COLUMN()), \"\")","v":""},{"$f":"IFERROR(Nth_Occurrence('      ID       '!BS$7:BS$406,$B14,$C14,0,3-COLUMN()), \"\")","v":""},{"$f":"IFERROR(Nth_Occurrence('      ID       '!BT$7:BT$406,$B14,$C14,0,3-COLUMN()), \"\")","v":""},{"$f":"IFERROR(Nth_Occurrence('      ID       '!BU$7:BU$406,$B14,$C14,0,3-COLUMN()), \"\")","v":""},{"$f":"IFERROR(Nth_Occurrence('      ID       '!BV$7:BV$406,$B14,$C14,0,3-COLUMN()), \"\")","v":""},{"$f":"IFERROR(Nth_Occurrence('      ID       '!BW$7:BW$406,$B14,$C14,0,3-COLUMN()), \"\")","v":""},{"$f":"IFERROR(Nth_Occurrence('      ID       '!BX$7:BX$406,$B14,$C14,0,3-COLUMN()), \"\")","v":""},{"$f":"IFERROR(Nth_Occurrence('      ID       '!BY$7:BY$406,$B14,$C14,0,3-COLUMN()), \"\")","v":""},{"$f":"IFERROR(Nth_Occurrence('      ID       '!BZ$7:BZ$406,$B14,$C14,0,3-COLUMN()), \"\")","v":""},{"$f":"IFERROR(Nth_Occurrence('      ID       '!CA$7:CA$406,$B14,$C14,0,3-COLUMN()), \"\")","v":""},{"$f":"IFERROR(Nth_Occurrence('      ID       '!CB$7:CB$406,$B14,$C14,0,3-COLUMN()), \"\")","v":""},{"$f":"IFERROR(Nth_Occurrence('      ID       '!CC$7:CC$406,$B14,$C14,0,3-COLUMN()), \"\")","v":""}]
[null,3,2,{"$f":"IFERROR(Nth_Occurrence('      ID       '!D$7:D$406,$B15,$C15,0,3-COLUMN()), \"\")","v":""},{"$f":"IFERROR(Nth_Occurrence('      ID       '!E$7:E$406,$B15,$C15,0,3-COLUMN()), \"\")","v":""},{"$f":"IFERROR(Nth_Occurrence('      ID       '!F$7:F$406,$B15,$C15,0,3-COLUMN()), \"\")","v":""},{"$f":"IFERROR(Nth_Occurrence('      ID       '!G$7:G$406,$B15,$C15,0,3-COLUMN()), \"\")","v":""},{"$f":"IFERROR(Nth_Occurrence('      ID       '!H$7:H$406,$B15,$C15,0,3-COLUMN()), \"\")","v":""},{"$f":"IFERROR(Nth_Occurrence('      ID       '!I$7:I$406,$B15,$C15,0,3-COLUMN()), \"\")","v":"Ognjen"},{"$f":"IFERROR(Nth_Occurrence('      ID       '!J$7:J$406,$B15,$C15,0,3-COLUMN()), \"\")","v":"Ognjen"},{"$f":"IFERROR(Nth_Occurrence('      ID       '!K$7:K$406,$B15,$C15,0,3-COLUMN()), \"\")","v":""},{"$f":"IFERROR(Nth_Occurrence('      ID       '!L$7:L$406,$B15,$C15,0,3-COLUMN()), \"\")","v":""},{"$f":"IFERROR(Nth_Occurrence('      ID       '!M$7:M$406,$B15,$C15,0,3-COLUMN()), \"\")","v":""},{"$f":"IFERROR(Nth_Occurrence('      ID       '!N$7:N$406,$B15,$C15,0,3-COLUMN()), \"\")","v":""},{"$f":"IFERROR(Nth_Occurrence('      ID       '!O$7:O$406,$B15,$C15,0,3-COLUMN()), \"\")","v":""},{"$f":"IFERROR(Nth_Occurrence('      ID       '!P$7:P$406,$B15,$C15,0,3-COLUMN()), \"\")","v":""},{"$f":"IFERROR(Nth_Occurrence('      ID       '!Q$7:Q$406,$B15,$C15,0,3-COLUMN()), \"\")","v":"Ognjen"},{"$f":"IFERROR(Nth_Occurrence('      ID       '!R$7:R$406,$B15,$C15,0,3-COLUMN()), \"\")","v":"Ognjen"},{"$f":"IFERROR(Nth_Occurrence('      ID       '!S$7:S$406,$B15,$C15,0,3-COLUMN()), \"\")","v":""},{"$f":"IFERROR(Nth_Occurrence('      ID       '!T$7:T$406,$B15,$C15,0,3-COLUMN()), \"\")","v":""},{"$f":"IFERROR(Nth_Occurrence('      ID       '!U$7:U$406,$B15,$C15,0,3-COLUMN()), \"\")","v":""},{"$f":"IFERROR(Nth_Occurrence('      ID       '!V$7:V$406,$B15,$C15,0,3-COLUMN()), \"\")","v":""},{"$f":"IFERROR(Nth_Occurrence('      ID       '!W$7:W$406,$B15,$C15,0,3-COLUMN()), \"\")","v":""},{"$f":"IFERROR(Nth_Occurrence('      ID       '!X$7:X$406,$B15,$C15,0,3-COLUMN()), \"\")","v":""},{"$f":"IFERROR(Nth_Occurrence('      ID       '!Y$7:Y$406,$B15,$C15,0,3-COLUMN()), \"\")","v":"Ognjen"},{"$f":"IFERROR(Nth_Occurrence('      ID       '!Z$7:Z$406,$B15,$C15,0,3-COLUMN()), \"\")","v":"Ognjen"},{"$f":"IFERROR(Nth_Occurrence('      ID       '!AA$7:AA$406,$B15,$C15,0,3-COLUMN()), \"\")","v":""},{"$f":"IFERROR(Nth_Occurrence('      ID       '!AB$7:AB$406,$B15,$C15,0,3-COLUMN()), \"\")","v":""},{"$f":"IFERROR(Nth_Occurrence('      ID       '!AC$7:AC$406,$B15,$C15,0,3-COLUMN()), \"\")","v":""},{"$f":"IFERROR(Nth_Occurrence('      ID       '!AD$7:AD$406,$B15,$C15,0,3-COLUMN()), \"\")","v":""},{"$f":"IFERROR(Nth_Occurrence('      ID       '!AE$7:AE$406,$B15,$C15,0,3-COLUMN()), \"\")","v":""},{"$f":"IFERROR(Nth_Occurrence('      ID       '!AF$7:AF$406,$B15,$C15,0,3-COLUMN()), \"\")","v":""},{"$f":"IFERROR(Nth_Occurrence('      ID       '!AG$7:AG$406,$B15,$C15,0,3-COLUMN()), \"\")","v":"Ognjen"},{"$f":"IFERROR(Nth_Occurrence('      ID       '!AH$7:AH$406,$B15,$C15,0,3-COLUMN()), \"\")","v":"Ognjen"},{"$f":"IFERROR(Nth_Occurrence('      ID       '!AI$7:AI$406,$B15,$C15,0,3-COLUMN()), \"\")","v":""},{"$f":"IFERROR(Nth_Occurrence('      ID       '!AJ$7:AJ$406,$B15,$C15,0,3-COLUMN()), \"\")","v":""},{"$f":"IFERROR(Nth_Occurrence('      ID       '!AK$7:AK$406,$B15,$C15,0,3-COLUMN()), \"\")","v":""},{"$f":"IFERROR(Nth_Occurrence('      ID       '!AL$7:AL$406,$B15,$C15,0,3-COLUMN()), \"\")","v":""},{"$f":"IFERROR(Nth_Occurrence('      ID       '!AM$7:AM$406,$B15,$C15,0,3-COLUMN()), \"\")","v":""},{"$f":"IFERROR(Nth_Occurrence('      ID       '!AN$7:AN$406,$B15,$C15,0,3-COLUMN()), \"\")","v":""},{"$f":"IFERROR(Nth_Occurrence('      ID       '!AO$7:AO$406,$B15,$C15,0,3-COLUMN()), \"\")","v":""},{"$f":"IFERROR(Nth_Occurrence('      ID       '!AP$7:AP$406,$B15,$C15,0,3-COLUMN()), \"\")","v":""},{"$f":"IFERROR(Nth_Occurrence('      ID       '!AQ$7:AQ$406,$B15,$C15,0,3-COLUMN()), \"\")","v":""},{"$f":"IFERROR(Nth_Occurrence('      ID       '!AR$7:AR$406,$B15,$C15,0,3-COLUMN()), \"\")","v":""},{"$f":"IFERROR(Nth_Occurrence('      ID       '!AS$7:AS$406,$B15,$C15,0,3-COLUMN()), \"\")","v":""},{"$f":"IFERROR(Nth_Occurrence('      ID       '!AT$7:AT$406,$B15,$C15,0,3-COLUMN()), \"\")","v":""},{"$f":"IFERROR(Nth_Occurrence('      ID       '!AU$7:AU$406,$B15,$C15,0,3-COLUMN()), \"\")","v":""},{"$f":"IFERROR(Nth_Occurrence('      ID       '!AV$7:AV$406,$B15,$C15,0,3-COLUMN()), \"\")","v":""},{"$f":"IFERROR(Nth_Occurrence('      ID       '!AW$7:AW$406,$B15,$C15,0,3-COLUMN()), \"\")","v":""},{"$f":"IFERROR(Nth_Occurrence('      ID       '!AX$7:AX$406,$B15,$C15,0,3-COLUMN()), \"\")","v":""},{"$f":"IFERROR(Nth_Occurrence('      ID       '!AY$7:AY$406,$B15,$C15,0,3-COLUMN()), \"\")","v":""},{"$f":"IFERROR(Nth_Occurrence('      ID       '!AZ$7:AZ$406,$B15,$C15,0,3-COLUMN()), \"\")","v":""},{"$f":"IFERROR(Nth_Occurrence('      ID       '!BA$7:BA$406,$B15,$C15,0,3-COLUMN()), \"\")","v":""},{"$f":"IFERROR(Nth_Occurrence('      ID       '!BB$7:BB$406,$B15,$C15,0,3-COLUMN()), \"\")","v":""},{"$f":"IFERROR(Nth_Occurrence('      ID       '!BC$7:BC$406,$B15,$C15,0,3-COLUMN()), \"\")","v":""},{"$f":"IFERROR(Nth_Occurrence('      ID       '!BD$7:BD$406,$B15,$C15,0,3-COLUMN()), \"\")","v":""},{"$f":"IFERROR(Nth_Occurrence('      ID       '!BE$7:BE$406,$B15,$C15,0,3-COLUMN()), \"\")","v":""},{"$f":"IFERROR(Nth_Occurrence('      ID       '!BF$7:BF$406,$B15,$C15,0,3-COLUMN()), \"\")","v":""},{"$f":"IFERROR(Nth_Occurrence('      ID       '!BG$7:BG$406,$B15,$C15,0,3-COLUMN()), \"\")","v":""},{"$f":"IFERROR(Nth_Occurrence('      ID       '!BH$7:BH$406,$B15,$C15,0,3-COLUMN()), \"\")","v":""},{"$f":"IFERROR(Nth_Occurrence('      ID       '!BI$7:BI$406,$B15,$C15,0,3-COLUMN()), \"\")","v":""},{"$f":"IFERROR(Nth_Occurrence('      ID       '!BJ$7:BJ$406,$B15,$C15,0,3-COLUMN()), \"\")","v":""},{"$f":"IFERROR(Nth_Occurrence('      ID       '!BK$7:BK$406,$B15,$C15,0,3-COLUMN()), \"\")","v":""},{"$f":"IFERROR(Nth_Occurrence('      ID       '!BL$7:BL$406,$B15,$C15,0,3-COLUMN()), \"\")","v":""},{"$f":"IFERROR(Nth_Occurrence('      ID       '!BM$7:BM$406,$B15,$C15,0,3-COLUMN()), \"\")","v":""},{"$f":"IFERROR(Nth_Occurrence('      ID       '!BN$7:BN$406,$B15,$C15,0,3-COLUMN()), \"\")","v":""},{"$f":"IFERROR(Nth_Occurrence('      ID       '!BO$7:BO$406,$B15,$C15,0,3-COLUMN()), \"\")","v":""},{"$f":"IFERROR(Nth_Occurrence('      ID       '!BP$7:BP$406,$B15,$C15,0,3-COLUMN()), \"\")","v":""},{"$f":"IFERROR(Nth_Occurrence('      ID       '!BQ$7:BQ$406,$B15,$C15,0,3-COLUMN()), \"\")","v":""},{"$f":"IFERROR(Nth_Occurrence('      ID       '!BR$7:BR$406,$B15,$C15,0,3-COLUMN()), \"\")","v":""},{"$f":"IFERROR(Nth_Occurrence('      ID       '!BS$7:BS$406,$B15,$C15,0,3-COLUMN()), \"\")","v":""},{"$f":"IFERROR(Nth_Occurrence('      ID       '!BT$7:BT$406,$B15,$C15,0,3-COLUMN()), \"\")","v":""},{"$f":"IFERROR(Nth_Occurrence('      ID       '!BU$7:BU$406,$B15,$C15,0,3-COLUMN()), \"\")","v":""},{"$f":"IFERROR(Nth_Occurrence('      ID       '!BV$7:BV$406,$B15,$C15,0,3-COLUMN()), \"\")","v":""},{"$f":"IFERROR(Nth_Occurrence('      ID       '!BW$7:BW$406,$B15,$C15,0,3-COLUMN()), \"\")","v":""},{"$f":"IFERROR(Nth_Occurrence('      ID       '!BX$7:BX$406,$B15,$C15,0,3-COLUMN()), \"\")","v":""},{"$f":"IFERROR(Nth_Occurrence('      ID       '!BY$7:BY$406,$B15,$C15,0,3-COLUMN()), \"\")","v":""},{"$f":"IFERROR(Nth_Occurrence('      ID       '!BZ$7:BZ$406,$B15,$C15,0,3-COLUMN()), \"\")","v":""},{"$f":"IFERROR(Nth_Occurrence('      ID       '!CA$7:CA$406,$B15,$C15,0,3-COLUMN()), \"\")","v":""},{"$f":"IFERROR(Nth_Occurrence('      ID       '!CB$7:CB$406,$B15,$C15,0,3-COLUMN()), \"\")","v":""},{"$f":"IFERROR(Nth_Occurrence('      ID       '!CC$7:CC$406,$B15,$C15,0,3-COLUMN()), \"\")","v":""}]
[null,3,3,{"$f":"IFERROR(Nth_Occurrence('      ID       '!D$7:D$406,$B16,$C16,0,3-COLUMN()), \"\")","v":""},{"$f":"IFERROR(Nth_Occurrence('      ID       '!E$7:E$406,$B16,$C16,0,3-COLUMN()), \"\")","v":""},{"$f":"IFERROR(Nth_Occurrence('      ID       '!F$7:F$406,$B16,$C16,0,3-COLUMN()), \"\")","v":""},{"$f":"IFERROR(Nth_Occurrence('      ID       '!G$7:G$406,$B16,$C16,0,3-COLUMN()), \"\")","v":""},{"$f":"IFERROR(Nth_Occurrence('      ID       '!H$7:H$406,$B16,$C16,0,3-COLUMN()), \"\")","v":""},{"$f":"IFERROR(Nth_Occurrence('      ID       '!I$7:I$406,$B16,$C16,0,3-COLUMN()), \"\")","v":"Petar"},{"$f":"IFERROR(Nth_Occurrence('      ID       '!J$7:J$406,$B16,$C16,0,3-COLUMN()), \"\")","v":"Petar"},{"$f":"IFERROR(Nth_Occurrence('      ID       '!K$7:K$406,$B16,$C16,0,3-COLUMN()), \"\")","v":""},{"$f":"IFERROR(Nth_Occurrence('      ID       '!L$7:L$406,$B16,$C16,0,3-COLUMN()), \"\")","v":""},{"$f":"IFERROR(Nth_Occurrence('      ID       '!M$7:M$406,$B16,$C16,0,3-COLUMN()), \"\")","v":""},{"$f":"IFERROR(Nth_Occurrence('      ID       '!N$7:N$406,$B16,$C16,0,3-COLUMN()), \"\")","v":""},{"$f":"IFERROR(Nth_Occurrence('      ID       '!O$7:O$406,$B16,$C16,0,3-COLUMN()), \"\")","v":""},{"$f":"IFERROR(Nth_Occurrence('      ID       '!P$7:P$406,$B16,$C16,0,3-COLUMN()), \"\")","v":""},{"$f":"IFERROR(Nth_Occurrence('      ID       '!Q$7:Q$406,$B16,$C16,0,3-COLUMN()), \"\")","v":"Petar"},{"$f":"IFERROR(Nth_Occurrence('      ID       '!R$7:R$406,$B16,$C16,0,3-COLUMN()), \"\")","v":"Petar"},{"$f":"IFERROR(Nth_Occurrence('      ID       '!S$7:S$406,$B16,$C16,0,3-COLUMN()), \"\")","v":""},{"$f":"IFERROR(Nth_Occurrence('      ID       '!T$7:T$406,$B16,$C16,0,3-COLUMN()), \"\")","v":""},{"$f":"IFERROR(Nth_Occurrence('      ID       '!U$7:U$406,$B16,$C16,0,3-COLUMN()), \"\")","v":""},{"$f":"IFERROR(Nth_Occurrence('      ID       '!V$7:V$406,$B16,$C16,0,3-COLUMN()), \"\")","v":""},{"$f":"IFERROR(Nth_Occurrence('      ID       '!W$7:W$406,$B16,$C16,0,3-COLUMN()), \"\")","v":""},{"$f":"IFERROR(Nth_Occurrence('      ID       '!X$7:X$406,$B16,$C16,0,3-COLUMN()), \"\")","v":""},{"$f":"IFERROR(Nth_Occurrence('      ID       '!Y$7:Y$406,$B16,$C16,0,3-COLUMN()), \"\")","v":"Petar"},{"$f":"IFERROR(Nth_Occurrence('      ID       '!Z$7:Z$406,$B16,$C16,0,3-COLUMN()), \"\")","v":"Petar"},{"$f":"IFERROR(Nth_Occurrence('      ID       '!AA$7:AA$406,$B16,$C16,0,3-COLUMN()), \"\")","v":""},{"$f":"IFERROR(Nth_Occurrence('      ID       '!AB$7:AB$406,$B16,$C16,0,3-COLUMN()), \"\")","v":""},{"$f":"IFERROR(Nth_Occurrence('      ID       '!AC$7:AC$406,$B16,$C16,0,3-COLUMN()), \"\")","v":""},{"$f":"IFERROR(Nth_Occurrence('      ID       '!AD$7:AD$406,$B16,$C16,0,3-COLUMN()), \"\")","v":""},{"$f":"IFERROR(Nth_Occurrence('      ID       '!AE$7:AE$406,$B16,$C16,0,3-COLUMN()), \"\")","v":""},{"$f":"IFERROR(Nth_Occurrence('      ID       '!AF$7:AF$406,$B16,$C16,0,3-COLUMN()), \"\")","v":""},{"$f":"IFERROR(Nth_Occurrence('      ID       '!AG$7:AG$406,$B16,$C16,0,3-COLUMN()), \"\")","v":"Petar"},{"$f":"IFERROR(Nth_Occurrence('      ID       '!AH$7:AH$406,$B16,$C16,0,3-COLUMN()), \"\")","v":"Petar"},{"$f":"IFERROR(Nth_Occurrence('      ID       '!AI$7:AI$406,$B16,$C16,0,3-COLUMN()), \"\")","v":""},{"$f":"IFERROR(Nth_Occurrence('      ID       '!AJ$7:AJ$406,$B16,$C16,0,3-COLUMN()), \"\")","v":""},{"$f":"IFERROR(Nth_Occurrence('      ID       '!AK$7:AK$406,$B16,$C16,0,3-COLUMN()), \"\")","v":""},{"$f":"IFERROR(Nth_Occurrence('      ID       '!AL$7:AL$406,$B16,$C16,0,3-COLUMN()), \"\")","v":""},{"$f":"IFERROR(Nth_Occurrence('      ID       '!AM$7:AM$406,$B16,$C16,0,3-COLUMN()), \"\")","v":""},{"$f":"IFERROR(Nth_Occurrence('      ID       '!AN$7:AN$406,$B16,$C16,0,3-COLUMN()), \"\")","v":""},{"$f":"IFERROR(Nth_Occurrence('      ID       '!AO$7:AO$406,$B16,$C16,0,3-COLUMN()), \"\")","v":""},{"$f":"IFERROR(Nth_Occurrence('      ID       '!AP$7:AP$406,$B16,$C16,0,3-COLUMN()), \"\")","v":""},{"$f":"IFERROR(Nth_Occurrence('      ID       '!AQ$7:AQ$406,$B16,$C16,0,3-COLUMN()), \"\")","v":""},{"$f":"IFERROR(Nth_Occurrence('      ID       '!AR$7:AR$406,$B16,$C16,0,3-COLUMN()), \"\")","v":""},{"$f":"IFERROR(Nth_Occurrence('      ID       '!AS$7:AS$406,$B16,$C16,0,3-COLUMN()), \"\")","v":""},{"$f":"IFERROR(Nth_Occurrence('      ID       '!AT$7:AT$406,$B16,$C16,0,3-COLUMN()), \"\")","v":""},{"$f":"IFERROR(Nth_Occurrence('      ID       '!AU$7:AU$406,$B16,$C16,0,3-COLUMN()), \"\")","v":""},{"$f":"IFERROR(Nth_Occurrence('      ID       '!AV$7:AV$406,$B16,$C16,0,3-COLUMN()), \"\")","v":""},{"$f":"IFERROR(Nth_Occurrence('      ID       '!AW$7:AW$406,$B16,$C16,0,3-COLUMN()), \"\")","v":""},{"$f":"IFERROR(Nth_Occurrence('      ID       '!AX$7:AX$406,$B16,$C16,0,3-COLUMN()), \"\")","v":""},{"$f":"IFERROR(Nth_Occurrence('      ID       '!AY$7:AY$406,$B16,$C16,0,3-COLUMN()), \"\")","v":""},{"$f":"IFERROR(Nth_Occurrence('      ID       '!AZ$7:AZ$406,$B16,$C16,0,3-COLUMN()), \"\")","v":""},{"$f":"IFERROR(Nth_Occurrence('      ID       '!BA$7:BA$406,$B16,$C16,0,3-COLUMN()), \"\")","v":""},{"$f":"IFERROR(Nth_Occurrence('      ID       '!BB$7:BB$406,$B16,$C16,0,3-COLUMN()), \"\")","v":""},{"$f":"IFERROR(Nth_Occurrence('      ID       '!BC$7:BC$406,$B16,$C16,0,3-COLUMN()), \"\")","v":""},{"$f":"IFERROR(Nth_Occurrence('      ID       '!BD$7:BD$406,$B16,$C16,0,3-COLUMN()), \"\")","v":""},{"$f":"IFERROR(Nth_Occurrence('      ID       '!BE$7:BE$406,$B16,$C16,0,3-COLUMN()), \"\")","v":""},{"$f":"IFERROR(Nth_Occurrence('      ID       '!BF$7:BF$406,$B16,$C16,0,3-COLUMN()), \"\")","v":""},{"$f":"IFERROR(Nth_Occurrence('      ID       '!BG$7:BG$406,$B16,$C16,0,3-COLUMN()), \"\")","v":""},{"$f":"IFERROR(Nth_Occurrence('      ID       '!BH$7:BH$406,$B16,$C16,0,3-COLUMN()), \"\")","v":""},{"$f":"IFERROR(Nth_Occurrence('      ID       '!BI$7:BI$406,$B16,$C16,0,3-COLUMN()), \"\")","v":""},{"$f":"IFERROR(Nth_Occurrence('      ID       '!BJ$7:BJ$406,$B16,$C16,0,3-COLUMN()), \"\")","v":""},{"$f":"IFERROR(Nth_Occurrence('      ID       '!BK$7:BK$406,$B16,$C16,0,3-COLUMN()), \"\")","v":""},{"$f":"IFERROR(Nth_Occurrence('      ID       '!BL$7:BL$406,$B16,$C16,0,3-COLUMN()), \"\")","v":""},{"$f":"IFERROR(Nth_Occurrence('      ID       '!BM$7:BM$406,$B16,$C16,0,3-COLUMN()), \"\")","v":""},{"$f":"IFERROR(Nth_Occurrence('      ID       '!BN$7:BN$406,$B16,$C16,0,3-COLUMN()), \"\")","v":""},{"$f":"IFERROR(Nth_Occurrence('      ID       '!BO$7:BO$406,$B16,$C16,0,3-COLUMN()), \"\")","v":""},{"$f":"IFERROR(Nth_Occurrence('      ID       '!BP$7:BP$406,$B16,$C16,0,3-COLUMN()), \"\")","v":""},{"$f":"IFERROR(Nth_Occurrence('      ID       '!BQ$7:BQ$406,$B16,$C16,0,3-COLUMN()), \"\")","v":""},{"$f":"IFERROR(Nth_Occurrence('      ID       '!BR$7:BR$406,$B16,$C16,0,3-COLUMN()), \"\")","v":""},{"$f":"IFERROR(Nth_Occurrence('      ID       '!BS$7:BS$406,$B16,$C16,0,3-COLUMN()), \"\")","v":""},{"$f":"IFERROR(Nth_Occurrence('      ID       '!BT$7:BT$406,$B16,$C16,0,3-COLUMN()), \"\")","v":""},{"$f":"IFERROR(Nth_Occurrence('      ID       '!BU$7:BU$406,$B16,$C16,0,3-COLUMN()), \"\")","v":""},{"$f":"IFERROR(Nth_Occurrence('      ID       '!BV$7:BV$406,$B16,$C16,0,3-COLUMN()), \"\")","v":""},{"$f":"IFERROR(Nth_Occurrence('      ID       '!BW$7:BW$406,$B16,$C16,0,3-COLUMN()), \"\")","v":""},{"$f":"IFERROR(Nth_Occurrence('      ID       '!BX$7:BX$406,$B16,$C16,0,3-COLUMN()), \"\")","v":""},{"$f":"IFERROR(Nth_Occurrence('      ID       '!BY$7:BY$406,$B16,$C16,0,3-COLUMN()), \"\")","v":""},{"$f":"IFERROR(Nth_Occurrence('      ID       '!BZ$7:BZ$406,$B16,$C16,0,3-COLUMN()), \"\")","v":""},{"$f":"IFERROR(Nth_Occurrence('      ID       '!CA$7:CA$406,$B16,$C16,0,3-COLUMN()), \"\")","v":""},{"$f":"IFERROR(Nth_Occurrence('      ID       '!CB$7:CB$406,$B16,$C16,0,3-COLUMN()), \"\")","v":""},{"$f":"IFERROR(Nth_Occurrence('      ID       '!CC$7:CC$406,$B16,$C16,0,3-COLUMN()), \"\")","v":""}]
["III",3,4,{"$f":"IFERROR(Nth_Occurrence('      ID       '!D$7:D$406,$B17,$C17,0,3-COLUMN()), \"\")","v":""},{"$f":"IFERROR(Nth_Occurrence('      ID       '!E$7:E$406,$B17,$C17,0,3-COLUMN()), \"\")","v":""},{"$f":"IFERROR(Nth_Occurrence('      ID       '!F$7:F$406,$B17,$C17,0,3-COLUMN()), \"\")","v":""},{"$f":"IFERROR(Nth_Occurrence('      ID       '!G$7:G$406,$B17,$C17,0,3-COLUMN()), \"\")","v":""},{"$f":"IFERROR(Nth_Occurrence('      ID       '!H$7:H$406,$B17,$C17,0,3-COLUMN()), \"\")","v":""},{"$f":"IFERROR(Nth_Occurrence('      ID       '!I$7:I$406,$B17,$C17,0,3-COLUMN()), \"\")","v":"Veselin"},{"$f":"IFERROR(Nth_Occurrence('      ID       '!J$7:J$406,$B17,$C17,0,3-COLUMN()), \"\")","v":"Veselin"},{"$f":"IFERROR(Nth_Occurrence('      ID       '!K$7:K$406,$B17,$C17,0,3-COLUMN()), \"\")","v":""},{"$f":"IFERROR(Nth_Occurrence('      ID       '!L$7:L$406,$B17,$C17,0,3-COLUMN()), \"\")","v":""},{"$f":"IFERROR(Nth_Occurrence('      ID       '!M$7:M$406,$B17,$C17,0,3-COLUMN()), \"\")","v":""},{"$f":"IFERROR(Nth_Occurrence('      ID       '!N$7:N$406,$B17,$C17,0,3-COLUMN()), \"\")","v":""},{"$f":"IFERROR(Nth_Occurrence('      ID       '!O$7:O$406,$B17,$C17,0,3-COLUMN()), \"\")","v":""},{"$f":"IFERROR(Nth_Occurrence('      ID       '!P$7:P$406,$B17,$C17,0,3-COLUMN()), \"\")","v":""},{"$f":"IFERROR(Nth_Occurrence('      ID       '!Q$7:Q$406,$B17,$C17,0,3-COLUMN()), \"\")","v":"Veselin"},{"$f":"IFERROR(Nth_Occurrence('      ID       '!R$7:R$406,$B17,$C17,0,3-COLUMN()), \"\")","v":"Veselin"},{"$f":"IFERROR(Nth_Occurrence('      ID       '!S$7:S$406,$B17,$C17,0,3-COLUMN()), \"\")","v":""},{"$f":"IFERROR(Nth_Occurrence('      ID       '!T$7:T$406,$B17,$C17,0,3-COLUMN()), \"\")","v":""},{"$f":"IFERROR(Nth_Occurrence('      ID       '!U$7:U$406,$B17,$C17,0,3-COLUMN()), \"\")","v":""},{"$f":"IFERROR(Nth_Occurrence('      ID       '!V$7:V$406,$B17,$C17,0,3-COLUMN()), \"\")","v":""},{"$f":"IFERROR(Nth_Occurrence('      ID       '!W$7:W$406,$B17,$C17,0,3-COLUMN()), \"\")","v":""},{"$f":"IFERROR(Nth_Occurrence('      ID       '!X$7:X$406,$B17,$C17,0,3-COLUMN()), \"\")","v":""},{"$f":"IFERROR(Nth_Occurrence('      ID       '!Y$7:Y$406,$B17,$C17,0,3-COLUMN()), \"\")","v":"Veselin"},{"$f":"IFERROR(Nth_Occurrence('      ID       '!Z$7:Z$406,$B17,$C17,0,3-COLUMN()), \"\")","v":"Veselin"},{"$f":"IFERROR(Nth_Occurrence('      ID       '!AA$7:AA$406,$B17,$C17,0,3-COLUMN()), \"\")","v":""},{"$f":"IFERROR(Nth_Occurrence('      ID       '!AB$7:AB$406,$B17,$C17,0,3-COLUMN()), \"\")","v":""},{"$f":"IFERROR(Nth_Occurrence('      ID       '!AC$7:AC$406,$B17,$C17,0,3-COLUMN()), \"\")","v":""},{"$f":"IFERROR(Nth_Occurrence('      ID       '!AD$7:AD$406,$B17,$C17,0,3-COLUMN()), \"\")","v":""},{"$f":"IFERROR(Nth_Occurrence('      ID       '!AE$7:AE$406,$B17,$C17,0,3-COLUMN()), \"\")","v":""},{"$f":"IFERROR(Nth_Occurrence('      ID       '!AF$7:AF$406,$B17,$C17,0,3-COLUMN()), \"\")","v":""},{"$f":"IFERROR(Nth_Occurrence('      ID       '!AG$7:AG$406,$B17,$C17,0,3-COLUMN()), \"\")","v":"Veselin"},{"$f":"IFERROR(Nth_Occurrence('      ID       '!AH$7:AH$406,$B17,$C17,0,3-COLUMN()), \"\")","v":"Veselin"},{"$f":"IFERROR(Nth_Occurrence('      ID       '!AI$7:AI$406,$B17,$C17,0,3-COLUMN()), \"\")","v":""},{"$f":"IFERROR(Nth_Occurrence('      ID       '!AJ$7:AJ$406,$B17,$C17,0,3-COLUMN()), \"\")","v":""},{"$f":"IFERROR(Nth_Occurrence('      ID       '!AK$7:AK$406,$B17,$C17,0,3-COLUMN()), \"\")","v":""},{"$f":"IFERROR(Nth_Occurrence('      ID       '!AL$7:AL$406,$B17,$C17,0,3-COLUMN()), \"\")","v":""},{"$f":"IFERROR(Nth_Occurrence('      ID       '!AM$7:AM$406,$B17,$C17,0,3-COLUMN()), \"\")","v":""},{"$f":"IFERROR(Nth_Occurrence('      ID       '!AN$7:AN$406,$B17,$C17,0,3-COLUMN()), \"\")","v":""},{"$f":"IFERROR(Nth_Occurrence('      ID       '!AO$7:AO$406,$B17,$C17,0,3-COLUMN()), \"\")","v":""},{"$f":"IFERROR(Nth_Occurrence('      ID       '!AP$7:AP$406,$B17,$C17,0,3-COLUMN()), \"\")","v":""},{"$f":"IFERROR(Nth_Occurrence('      ID       '!AQ$7:AQ$406,$B17,$C17,0,3-COLUMN()), \"\")","v":""},{"$f":"IFERROR(Nth_Occurrence('      ID       '!AR$7:AR$406,$B17,$C17,0,3-COLUMN()), \"\")","v":""},{"$f":"IFERROR(Nth_Occurrence('      ID       '!AS$7:AS$406,$B17,$C17,0,3-COLUMN()), \"\")","v":""},{"$f":"IFERROR(Nth_Occurrence('      ID       '!AT$7:AT$406,$B17,$C17,0,3-COLUMN()), \"\")","v":""},{"$f":"IFERROR(Nth_Occurrence('      ID       '!AU$7:AU$406,$B17,$C17,0,3-COLUMN()), \"\")","v":""},{"$f":"IFERROR(Nth_Occurrence('      ID       '!AV$7:AV$406,$B17,$C17,0,3-COLUMN()), \"\")","v":""},{"$f":"IFERROR(Nth_Occurrence('      ID       '!AW$7:AW$406,$B17,$C17,0,3-COLUMN()), \"\")","v":""},{"$f":"IFERROR(Nth_Occurrence('      ID       '!AX$7:AX$406,$B17,$C17,0,3-COLUMN()), \"\")","v":""},{"$f":"IFERROR(Nth_Occurrence('      ID       '!AY$7:AY$406,$B17,$C17,0,3-COLUMN()), \"\")","v":""},{"$f":"IFERROR(Nth_Occurrence('      ID       '!AZ$7:AZ$406,$B17,$C17,0,3-COLUMN()), \"\")","v":""},{"$f":"IFERROR(Nth_Occurrence('      ID       '!BA$7:BA$406,$B17,$C17,0,3-COLUMN()), \"\")","v":""},{"$f":"IFERROR(Nth_Occurrence('      ID       '!BB$7:BB$406,$B17,$C17,0,3-COLUMN()), \"\")","v":""},{"$f":"IFERROR(Nth_Occurrence('      ID       '!BC$7:BC$406,$B17,$C17,0,3-COLUMN()), \"\")","v":""},{"$f":"IFERROR(Nth_Occurrence('      ID       '!BD$7:BD$406,$B17,$C17,0,3-COLUMN()), \"\")","v":""},{"$f":"IFERROR(Nth_Occurrence('      ID       '!BE$7:BE$406,$B17,$C17,0,3-COLUMN()), \"\")","v":""},{"$f":"IFERROR(Nth_Occurrence('      ID       '!BF$7:BF$406,$B17,$C17,0,3-COLUMN()), \"\")","v":""},{"$f":"IFERROR(Nth_Occurrence('      ID       '!BG$7:BG$406,$B17,$C17,0,3-COLUMN()), \"\")","v":""},{"$f":"IFERROR(Nth_Occurrence('      ID       '!BH$7:BH$406,$B17,$C17,0,3-COLUMN()), \"\")","v":""},{"$f":"IFERROR(Nth_Occurrence('      ID       '!BI$7:BI$406,$B17,$C17,0,3-COLUMN()), \"\")","v":""},{"$f":"IFERROR(Nth_Occurrence('      ID       '!BJ$7:BJ$406,$B17,$C17,0,3-COLUMN()), \"\")","v":""},{"$f":"IFERROR(Nth_Occurrence('      ID       '!BK$7:BK$406,$B17,$C17,0,3-COLUMN()), \"\")","v":""},{"$f":"IFERROR(Nth_Occurrence('      ID       '!BL$7:BL$406,$B17,$C17,0,3-COLUMN()), \"\")","v":""},{"$f":"IFERROR(Nth_Occurrence('      ID       '!BM$7:BM$406,$B17,$C17,0,3-COLUMN()), \"\")","v":""},{"$f":"IFERROR(Nth_Occurrence('      ID       '!BN$7:BN$406,$B17,$C17,0,3-COLUMN()), \"\")","v":""},{"$f":"IFERROR(Nth_Occurrence('      ID       '!BO$7:BO$406,$B17,$C17,0,3-COLUMN()), \"\")","v":""},{"$f":"IFERROR(Nth_Occurrence('      ID       '!BP$7:BP$406,$B17,$C17,0,3-COLUMN()), \"\")","v":""},{"$f":"IFERROR(Nth_Occurrence('      ID       '!BQ$7:BQ$406,$B17,$C17,0,3-COLUMN()), \"\")","v":""},{"$f":"IFERROR(Nth_Occurrence('      ID       '!BR$7:BR$406,$B17,$C17,0,3-COLUMN()), \"\")","v":""},{"$f":"IFERROR(Nth_Occurrence('      ID       '!BS$7:BS$406,$B17,$C17,0,3-COLUMN()), \"\")","v":""},{"$f":"IFERROR(Nth_Occurrence('      ID       '!BT$7:BT$406,$B17,$C17,0,3-COLUMN()), \"\")","v":""},{"$f":"IFERROR(Nth_Occurrence('      ID       '!BU$7:BU$406,$B17,$C17,0,3-COLUMN()), \"\")","v":""},{"$f":"IFERROR(Nth_Occurrence('      ID       '!BV$7:BV$406,$B17,$C17,0,3-COLUMN()), \"\")","v":""},{"$f":"IFERROR(Nth_Occurrence('      ID       '!BW$7:BW$406,$B17,$C17,0,3-COLUMN()), \"\")","v":""},{"$f":"IFERROR(Nth_Occurrence('      ID       '!BX$7:BX$406,$B17,$C17,0,3-COLUMN()), \"\")","v":""},{"$f":"IFERROR(Nth_Occurrence('      ID       '!BY$7:BY$406,$B17,$C17,0,3-COLUMN()), \"\")","v":""},{"$f":"IFERROR(Nth_Occurrence('      ID       '!BZ$7:BZ$406,$B17,$C17,0,3-COLUMN()), \"\")","v":""},{"$f":"IFERROR(Nth_Occurrence('      ID       '!CA$7:CA$406,$B17,$C17,0,3-COLUMN()), \"\")","v":""},{"$f":"IFERROR(Nth_Occurrence('      ID       '!CB$7:CB$406,$B17,$C17,0,3-COLUMN()), \"\")","v":""},{"$f":"IFERROR(Nth_Occurrence('      ID       '!CC$7:CC$406,$B17,$C17,0,3-COLUMN()), \"\")","v":""}]
[null,3,5,{"$f":"IFERROR(Nth_Occurrence('      ID       '!D$7:D$406,$B18,$C18,0,3-COLUMN()), \"\")","v":""},{"$f":"IFERROR(Nth_Occurrence('      ID       '!E$7:E$406,$B18,$C18,0,3-COLUMN()), \"\")","v":""},{"$f":"IFERROR(Nth_Occurrence('      ID       '!F$7:F$406,$B18,$C18,0,3-COLUMN()), \"\")","v":""},{"$f":"IFERROR(Nth_Occurrence('      ID       '!G$7:G$406,$B18,$C18,0,3-COLUMN()), \"\")","v":""},{"$f":"IFERROR(Nth_Occurrence('      ID       '!H$7:H$406,$B18,$C18,0,3-COLUMN()), \"\")","v":""},{"$f":"IFERROR(Nth_Occurrence('      ID       '!I$7:I$406,$B18,$C18,0,3-COLUMN()), \"\")","v":"Slavko"},{"$f":"IFERROR(Nth_Occurrence('      ID       '!J$7:J$406,$B18,$C18,0,3-COLUMN()), \"\")","v":"Slavko"},{"$f":"IFERROR(Nth_Occurrence('      ID       '!K$7:K$406,$B18,$C18,0,3-COLUMN()), \"\")","v":""},{"$f":"IFERROR(Nth_Occurrence('      ID       '!L$7:L$406,$B18,$C18,0,3-COLUMN()), \"\")","v":""},{"$f":"IFERROR(Nth_Occurrence('      ID       '!M$7:M$406,$B18,$C18,0,3-COLUMN()), \"\")","v":""},{"$f":"IFERROR(Nth_Occurrence('      ID       '!N$7:N$406,$B18,$C18,0,3-COLUMN()), \"\")","v":""},{"$f":"IFERROR(Nth_Occurrence('      ID       '!O$7:O$406,$B18,$C18,0,3-COLUMN()), \"\")","v":""},{"$f":"IFERROR(Nth_Occurrence('      ID       '!P$7:P$406,$B18,$C18,0,3-COLUMN()), \"\")","v":""},{"$f":"IFERROR(Nth_Occurrence('      ID       '!Q$7:Q$406,$B18,$C18,0,3-COLUMN()), \"\")","v":"Slavko"},{"$f":"IFERROR(Nth_Occurrence('      ID       '!R$7:R$406,$B18,$C18,0,3-COLUMN()), \"\")","v":"Slavko"},{"$f":"IFERROR(Nth_Occurrence('      ID       '!S$7:S$406,$B18,$C18,0,3-COLUMN()), \"\")","v":""},{"$f":"IFERROR(Nth_Occurrence('      ID       '!T$7:T$406,$B18,$C18,0,3-COLUMN()), \"\")","v":""},{"$f":"IFERROR(Nth_Occurrence('      ID       '!U$7:U$406,$B18,$C18,0,3-COLUMN()), \"\")","v":""},{"$f":"IFERROR(Nth_Occurrence('      ID       '!V$7:V$406,$B18,$C18,0,3-COLUMN()), \"\")","v":""},{"$f":"IFERROR(Nth_Occurrence('      ID       '!W$7:W$406,$B18,$C18,0,3-COLUMN()), \"\")","v":""},{"$f":"IFERROR(Nth_Occurrence('      ID       '!X$7:X$406,$B18,$C18,0,3-COLUMN()), \"\")","v":""},{"$f":"IFERROR(Nth_Occurrence('      ID       '!Y$7:Y$406,$B18,$C18,0,3-COLUMN()), \"\")","v":"Slavko"},{"$f":"IFERROR(Nth_Occurrence('      ID       '!Z$7:Z$406,$B18,$C18,0,3-COLUMN()), \"\")","v":"Slavko"},{"$f":"IFERROR(Nth_Occurrence('      ID       '!AA$7:AA$406,$B18,$C18,0,3-COLUMN()), \"\")","v":""},{"$f":"IFERROR(Nth_Occurrence('      ID       '!AB$7:AB$406,$B18,$C18,0,3-COLUMN()), \"\")","v":""},{"$f":"IFERROR(Nth_Occurrence('      ID       '!AC$7:AC$406,$B18,$C18,0,3-COLUMN()), \"\")","v":""},{"$f":"IFERROR(Nth_Occurrence('      ID       '!AD$7:AD$406,$B18,$C18,0,3-COLUMN()), \"\")","v":""},{"$f":"IFERROR(Nth_Occurrence('      ID       '!AE$7:AE$406,$B18,$C18,0,3-COLUMN()), \"\")","v":""},{"$f":"IFERROR(Nth_Occurrence('      ID       '!AF$7:AF$406,$B18,$C18,0,3-COLUMN()), \"\")","v":""},{"$f":"IFERROR(Nth_Occurrence('      ID       '!AG$7:AG$406,$B18,$C18,0,3-COLUMN()), \"\")","v":"Slavko"},{"$f":"IFERROR(Nth_Occurrence('      ID       '!AH$7:AH$406,$B18,$C18,0,3-COLUMN()), \"\")","v":"Slavko"},{"$f":"IFERROR(Nth_Occurrence('      ID       '!AI$7:AI$406,$B18,$C18,0,3-COLUMN()), \"\")","v":""},{"$f":"IFERROR(Nth_Occurrence('      ID       '!AJ$7:AJ$406,$B18,$C18,0,3-COLUMN()), \"\")","v":""},{"$f":"IFERROR(Nth_Occurrence('      ID       '!AK$7:AK$406,$B18,$C18,0,3-COLUMN()), \"\")","v":""},{"$f":"IFERROR(Nth_Occurrence('      ID       '!AL$7:AL$406,$B18,$C18,0,3-COLUMN()), \"\")","v":""},{"$f":"IFERROR(Nth_Occurrence('      ID       '!AM$7:AM$406,$B18,$C18,0,3-COLUMN()), \"\")","v":""},{"$f":"IFERROR(Nth_Occurrence('      ID       '!AN$7:AN$406,$B18,$C18,0,3-COLUMN()), \"\")","v":""},{"$f":"IFERROR(Nth_Occurrence('      ID       '!AO$7:AO$406,$B18,$C18,0,3-COLUMN()), \"\")","v":""},{"$f":"IFERROR(Nth_Occurrence('      ID       '!AP$7:AP$406,$B18,$C18,0,3-COLUMN()), \"\")","v":""},{"$f":"IFERROR(Nth_Occurrence('      ID       '!AQ$7:AQ$406,$B18,$C18,0,3-COLUMN()), \"\")","v":""},{"$f":"IFERROR(Nth_Occurrence('      ID       '!AR$7:AR$406,$B18,$C18,0,3-COLUMN()), \"\")","v":""},{"$f":"IFERROR(Nth_Occurrence('      ID       '!AS$7:AS$406,$B18,$C18,0,3-COLUMN()), \"\")","v":""},{"$f":"IFERROR(Nth_Occurrence('      ID       '!AT$7:AT$406,$B18,$C18,0,3-COLUMN()), \"\")","v":""},{"$f":"IFERROR(Nth_Occurrence('      ID       '!AU$7:AU$406,$B18,$C18,0,3-COLUMN()), \"\")","v":""},{"$f":"IFERROR(Nth_Occurrence('      ID       '!AV$7:AV$406,$B18,$C18,0,3-COLUMN()), \"\")","v":""},{"$f":"IFERROR(Nth_Occurrence('      ID       '!AW$7:AW$406,$B18,$C18,0,3-COLUMN()), \"\")","v":""},{"$f":"IFERROR(Nth_Occurrence('      ID       '!AX$7:AX$406,$B18,$C18,0,3-COLUMN()), \"\")","v":""},{"$f":"IFERROR(Nth_Occurrence('      ID       '!AY$7:AY$406,$B18,$C18,0,3-COLUMN()), \"\")","v":""},{"$f":"IFERROR(Nth_Occurrence('      ID       '!AZ$7:AZ$406,$B18,$C18,0,3-COLUMN()), \"\")","v":""},{"$f":"IFERROR(Nth_Occurrence('      ID       '!BA$7:BA$406,$B18,$C18,0,3-COLUMN()), \"\")","v":""},{"$f":"IFERROR(Nth_Occurrence('      ID       '!BB$7:BB$406,$B18,$C18,0,3-COLUMN()), \"\")","v":""},{"$f":"IFERROR(Nth_Occurrence('      ID       '!BC$7:BC$406,$B18,$C18,0,3-COLUMN()), \"\")","v":""},{"$f":"IFERROR(Nth_Occurrence('      ID       '!BD$7:BD$406,$B18,$C18,0,3-COLUMN()), \"\")","v":""},{"$f":"IFERROR(Nth_Occurrence('      ID       '!BE$7:BE$406,$B18,$C18,0,3-COLUMN()), \"\")","v":""},{"$f":"IFERROR(Nth_Occurrence('      ID       '!BF$7:BF$406,$B18,$C18,0,3-COLUMN()), \"\")","v":""},{"$f":"IFERROR(Nth_Occurrence('      ID       '!BG$7:BG$406,$B18,$C18,0,3-COLUMN()), \"\")","v":""},{"$f":"IFERROR(Nth_Occurrence('      ID       '!BH$7:BH$406,$B18,$C18,0,3-COLUMN()), \"\")","v":""},{"$f":"IFERROR(Nth_Occurrence('      ID       '!BI$7:BI$406,$B18,$C18,0,3-COLUMN()), \"\")","v":""},{"$f":"IFERROR(Nth_Occurrence('      ID       '!BJ$7:BJ$406,$B18,$C18,0,3-COLUMN()), \"\")","v":""},{"$f":"IFERROR(Nth_Occurrence('      ID       '!BK$7:BK$406,$B18,$C18,0,3-COLUMN()), \"\")","v":""},{"$f":"IFERROR(Nth_Occurrence('      ID       '!BL$7:BL$406,$B18,$C18,0,3-COLUMN()), \"\")","v":""},{"$f":"IFERROR(Nth_Occurrence('      ID       '!BM$7:BM$406,$B18,$C18,0,3-COLUMN()), \"\")","v":""},{"$f":"IFERROR(Nth_Occurrence('      ID       '!BN$7:BN$406,$B18,$C18,0,3-COLUMN()), \"\")","v":""},{"$f":"IFERROR(Nth_Occurrence('      ID       '!BO$7:BO$406,$B18,$C18,0,3-COLUMN()), \"\")","v":""},{"$f":"IFERROR(Nth_Occurrence('      ID       '!BP$7:BP$406,$B18,$C18,0,3-COLUMN()), \"\")","v":""},{"$f":"IFERROR(Nth_Occurrence('      ID       '!BQ$7:BQ$406,$B18,$C18,0,3-COLUMN()), \"\")","v":""},{"$f":"IFERROR(Nth_Occurrence('      ID       '!BR$7:BR$406,$B18,$C18,0,3-COLUMN()), \"\")","v":""},{"$f":"IFERROR(Nth_Occurrence('      ID       '!BS$7:BS$406,$B18,$C18,0,3-COLUMN()), \"\")","v":""},{"$f":"IFERROR(Nth_Occurrence('      ID       '!BT$7:BT$406,$B18,$C18,0,3-COLUMN()), \"\")","v":""},{"$f":"IFERROR(Nth_Occurrence('      ID       '!BU$7:BU$406,$B18,$C18,0,3-COLUMN()), \"\")","v":""},{"$f":"IFERROR(Nth_Occurrence('      ID       '!BV$7:BV$406,$B18,$C18,0,3-COLUMN()), \"\")","v":""},{"$f":"IFERROR(Nth_Occurrence('      ID       '!BW$7:BW$406,$B18,$C18,0,3-COLUMN()), \"\")","v":""},{"$f":"IFERROR(Nth_Occurrence('      ID       '!BX$7:BX$406,$B18,$C18,0,3-COLUMN()), \"\")","v":""},{"$f":"IFERROR(Nth_Occurrence('      ID       '!BY$7:BY$406,$B18,$C18,0,3-COLUMN()), \"\")","v":""},{"$f":"IFERROR(Nth_Occurrence('      ID       '!BZ$7:BZ$406,$B18,$C18,0,3-COLUMN()), \"\")","v":""},{"$f":"IFERROR(Nth_Occurrence('      ID       '!CA$7:CA$406,$B18,$C18,0,3-COLUMN()), \"\")","v":""},{"$f":"IFERROR(Nth_Occurrence('      ID       '!CB$7:CB$406,$B18,$C18,0,3-COLUMN()), \"\")","v":""},{"$f":"IFERROR(Nth_Occurrence('      ID       '!CC$7:CC$406,$B18,$C18,0,3-COLUMN()), \"\")","v":""}]
[null,3,6,{"$f":"IFERROR(Nth_Occurrence('      ID       '!D$7:D$406,$B19,$C19,0,3-COLUMN()), \"\")","v":""},{"$f":"IFERROR(Nth_Occurrence('      ID       '!E$7:E$406,$B19,$C19,0,3-COLUMN()), \"\")","v":""},{"$f":"IFERROR(Nth_Occurrence('      ID       '!F$7:F$406,$B19,$C19,0,3-COLUMN()), \"\")","v":""},{"$f":"IFERROR(Nth_Occurrence('      ID       '!G$7:G$406,$B19,$C19,0,3-COLUMN()), \"\")","v":""},{"$f":"IFERROR(Nth_Occurrence('      ID       '!H$7:H$406,$B19,$C19,0,3-COLUMN()), \"\")","v":""},{"$f":"IFERROR(Nth_Occurrence('      ID       '!I$7:I$406,$B19,$C19,0,3-COLUMN()), \"\")","v":"Danilo"},{"$f":"IFERROR(Nth_Occurrence('      ID       '!J$7:J$406,$B19,$C19,0,3-COLUMN()), \"\")","v":"Danilo"},{"$f":"IFERROR(Nth_Occurrence('      ID       '!K$7:K$406,$B19,$C19,0,3-COLUMN()), \"\")","v":""},{"$f":"IFERROR(Nth_Occurrence('      ID       '!L$7:L$406,$B19,$C19,0,3-COLUMN()), \"\")","v":""},{"$f":"IFERROR(Nth_Occurrence('      ID       '!M$7:M$406,$B19,$C19,0,3-COLUMN()), \"\")","v":""},{"$f":"IFERROR(Nth_Occurrence('      ID       '!N$7:N$406,$B19,$C19,0,3-COLUMN()), \"\")","v":""},{"$f":"IFERROR(Nth_Occurrence('      ID       '!O$7:O$406,$B19,$C19,0,3-COLUMN()), \"\")","v":""},{"$f":"IFERROR(Nth_Occurrence('      ID       '!P$7:P$406,$B19,$C19,0,3-COLUMN()), \"\")","v":""},{"$f":"IFERROR(Nth_Occurrence('      ID       '!Q$7:Q$406,$B19,$C19,0,3-COLUMN()), \"\")","v":"Danilo"},{"$f":"IFERROR(Nth_Occurrence('      ID       '!R$7:R$406,$B19,$C19,0,3-COLUMN()), \"\")","v":"Danilo"},{"$f":"IFERROR(Nth_Occurrence('      ID       '!S$7:S$406,$B19,$C19,0,3-COLUMN()), \"\")","v":""},{"$f":"IFERROR(Nth_Occurrence('      ID       '!T$7:T$406,$B19,$C19,0,3-COLUMN()), \"\")","v":""},{"$f":"IFERROR(Nth_Occurrence('      ID       '!U$7:U$406,$B19,$C19,0,3-COLUMN()), \"\")","v":""},{"$f":"IFERROR(Nth_Occurrence('      ID       '!V$7:V$406,$B19,$C19,0,3-COLUMN()), \"\")","v":""},{"$f":"IFERROR(Nth_Occurrence('      ID       '!W$7:W$406,$B19,$C19,0,3-COLUMN()), \"\")","v":""},{"$f":"IFERROR(Nth_Occurrence('      ID       '!X$7:X$406,$B19,$C19,0,3-COLUMN()), \"\")","v":""},{"$f":"IFERROR(Nth_Occurrence('      ID       '!Y$7:Y$406,$B19,$C19,0,3-COLUMN()), \"\")","v":"Danilo"},{"$f":"IFERROR(Nth_Occurrence('      ID       '!Z$7:Z$406,$B19,$C19,0,3-COLUMN()), \"\")","v":"Danilo"},{"$f":"IFERROR(Nth_Occurrence('      ID       '!AA$7:AA$406,$B19,$C19,0,3-COLUMN()), \"\")","v":""},{"$f":"IFERROR(Nth_Occurrence('      ID       '!AB$7:AB$406,$B19,$C19,0,3-COLUMN()), \"\")","v":""},{"$f":"IFERROR(Nth_Occurrence('      ID       '!AC$7:AC$406,$B19,$C19,0,3-COLUMN()), \"\")","v":""},{"$f":"IFERROR(Nth_Occurrence('      ID       '!AD$7:AD$406,$B19,$C19,0,3-COLUMN()), \"\")","v":""},{"$f":"IFERROR(Nth_Occurrence('      ID       '!AE$7:AE$406,$B19,$C19,0,3-COLUMN()), \"\")","v":""},{"$f":"IFERROR(Nth_Occurrence('      ID       '!AF$7:AF$406,$B19,$C19,0,3-COLUMN()), \"\")","v":""},{"$f":"IFERROR(Nth_Occurrence('      ID       '!AG$7:AG$406,$B19,$C19,0,3-COLUMN()), \"\")","v":"Danilo"},{"$f":"IFERROR(Nth_Occurrence('      ID       '!AH$7:AH$406,$B19,$C19,0,3-COLUMN()), \"\")","v":"Danilo"},{"$f":"IFERROR(Nth_Occurrence('      ID       '!AI$7:AI$406,$B19,$C19,0,3-COLUMN()), \"\")","v":""},{"$f":"IFERROR(Nth_Occurrence('      ID       '!AJ$7:AJ$406,$B19,$C19,0,3-COLUMN()), \"\")","v":""},{"$f":"IFERROR(Nth_Occurrence('      ID       '!AK$7:AK$406,$B19,$C19,0,3-COLUMN()), \"\")","v":""},{"$f":"IFERROR(Nth_Occurrence('      ID       '!AL$7:AL$406,$B19,$C19,0,3-COLUMN()), \"\")","v":""},{"$f":"IFERROR(Nth_Occurrence('      ID       '!AM$7:AM$406,$B19,$C19,0,3-COLUMN()), \"\")","v":""},{"$f":"IFERROR(Nth_Occurrence('      ID       '!AN$7:AN$406,$B19,$C19,0,3-COLUMN()), \"\")","v":""},{"$f":"IFERROR(Nth_Occurrence('      ID       '!AO$7:AO$406,$B19,$C19,0,3-COLUMN()), \"\")","v":""},{"$f":"IFERROR(Nth_Occurrence('      ID       '!AP$7:AP$406,$B19,$C19,0,3-COLUMN()), \"\")","v":""},{"$f":"IFERROR(Nth_Occurrence('      ID       '!AQ$7:AQ$406,$B19,$C19,0,3-COLUMN()), \"\")","v":""},{"$f":"IFERROR(Nth_Occurrence('      ID       '!AR$7:AR$406,$B19,$C19,0,3-COLUMN()), \"\")","v":""},{"$f":"IFERROR(Nth_Occurrence('      ID       '!AS$7:AS$406,$B19,$C19,0,3-COLUMN()), \"\")","v":""},{"$f":"IFERROR(Nth_Occurrence('      ID       '!AT$7:AT$406,$B19,$C19,0,3-COLUMN()), \"\")","v":""},{"$f":"IFERROR(Nth_Occurrence('      ID       '!AU$7:AU$406,$B19,$C19,0,3-COLUMN()), \"\")","v":""},{"$f":"IFERROR(Nth_Occurrence('      ID       '!AV$7:AV$406,$B19,$C19,0,3-COLUMN()), \"\")","v":""},{"$f":"IFERROR(Nth_Occurrence('      ID       '!AW$7:AW$406,$B19,$C19,0,3-COLUMN()), \"\")","v":""},{"$f":"IFERROR(Nth_Occurrence('      ID       '!AX$7:AX$406,$B19,$C19,0,3-COLUMN()), \"\")","v":""},{"$f":"IFERROR(Nth_Occurrence('      ID       '!AY$7:AY$406,$B19,$C19,0,3-COLUMN()), \"\")","v":""},{"$f":"IFERROR(Nth_Occurrence('      ID       '!AZ$7:AZ$406,$B19,$C19,0,3-COLUMN()), \"\")","v":""},{"$f":"IFERROR(Nth_Occurrence('      ID       '!BA$7:BA$406,$B19,$C19,0,3-COLUMN()), \"\")","v":""},{"$f":"IFERROR(Nth_Occurrence('      ID       '!BB$7:BB$406,$B19,$C19,0,3-COLUMN()), \"\")","v":""},{"$f":"IFERROR(Nth_Occurrence('      ID       '!BC$7:BC$406,$B19,$C19,0,3-COLUMN()), \"\")","v":""},{"$f":"IFERROR(Nth_Occurrence('      ID       '!BD$7:BD$406,$B19,$C19,0,3-COLUMN()), \"\")","v":""},{"$f":"IFERROR(Nth_Occurrence('      ID       '!BE$7:BE$406,$B19,$C19,0,3-COLUMN()), \"\")","v":""},{"$f":"IFERROR(Nth_Occurrence('      ID       '!BF$7:BF$406,$B19,$C19,0,3-COLUMN()), \"\")","v":""},{"$f":"IFERROR(Nth_Occurrence('      ID       '!BG$7:BG$406,$B19,$C19,0,3-COLUMN()), \"\")","v":""},{"$f":"IFERROR(Nth_Occurrence('      ID       '!BH$7:BH$406,$B19,$C19,0,3-COLUMN()), \"\")","v":""},{"$f":"IFERROR(Nth_Occurrence('      ID       '!BI$7:BI$406,$B19,$C19,0,3-COLUMN()), \"\")","v":""},{"$f":"IFERROR(Nth_Occurrence('      ID       '!BJ$7:BJ$406,$B19,$C19,0,3-COLUMN()), \"\")","v":""},{"$f":"IFERROR(Nth_Occurrence('      ID       '!BK$7:BK$406,$B19,$C19,0,3-COLUMN()), \"\")","v":""},{"$f":"IFERROR(Nth_Occurrence('      ID       '!BL$7:BL$406,$B19,$C19,0,3-COLUMN()), \"\")","v":""},{"$f":"IFERROR(Nth_Occurrence('      ID       '!BM$7:BM$406,$B19,$C19,0,3-COLUMN()), \"\")","v":""},{"$f":"IFERROR(Nth_Occurrence('      ID       '!BN$7:BN$406,$B19,$C19,0,3-COLUMN()), \"\")","v":""},{"$f":"IFERROR(Nth_Occurrence('      ID       '!BO$7:BO$406,$B19,$C19,0,3-COLUMN()), \"\")","v":""},{"$f":"IFERROR(Nth_Occurrence('      ID       '!BP$7:BP$406,$B19,$C19,0,3-COLUMN()), \"\")","v":""},{"$f":"IFERROR(Nth_Occurrence('      ID       '!BQ$7:BQ$406,$B19,$C19,0,3-COLUMN()), \"\")","v":""},{"$f":"IFERROR(Nth_Occurrence('      ID       '!BR$7:BR$406,$B19,$C19,0,3-COLUMN()), \"\")","v":""},{"$f":"IFERROR(Nth_Occurrence('      ID       '!BS$7:BS$406,$B19,$C19,0,3-COLUMN()), \"\")","v":""},{"$f":"IFERROR(Nth_Occurrence('      ID       '!BT$7:BT$406,$B19,$C19,0,3-COLUMN()), \"\")","v":""},{"$f":"IFERROR(Nth_Occurrence('      ID       '!BU$7:BU$406,$B19,$C19,0,3-COLUMN()), \"\")","v":""},{"$f":"IFERROR(Nth_Occurrence('      ID       '!BV$7:BV$406,$B19,$C19,0,3-COLUMN()), \"\")","v":""},{"$f":"IFERROR(Nth_Occurrence('      ID       '!BW$7:BW$406,$B19,$C19,0,3-COLUMN()), \"\")","v":""},{"$f":"IFERROR(Nth_Occurrence('      ID       '!BX$7:BX$406,$B19,$C19,0,3-COLUMN()), \"\")","v":""},{"$f":"IFERROR(Nth_Occurrence('      ID       '!BY$7:BY$406,$B19,$C19,0,3-COLUMN()), \"\")","v":""},{"$f":"IFERROR(Nth_Occurrence('      ID       '!BZ$7:BZ$406,$B19,$C19,0,3-COLUMN()), \"\")","v":""},{"$f":"IFERROR(Nth_Occurrence('      ID       '!CA$7:CA$406,$B19,$C19,0,3-COLUMN()), \"\")","v":""},{"$f":"IFERROR(Nth_Occurrence('      ID       '!CB$7:CB$406,$B19,$C19,0,3-COLUMN()), \"\")","v":""},{"$f":"IFERROR(Nth_Occurrence('      ID       '!CC$7:CC$406,$B19,$C19,0,3-COLUMN()), \"\")","v":""}]
[null,null,null,null,null,null,"Ovo je izvjestaj sa formulama- ne dirati, prenosi sve smjene iz ID sheeta( sakrivenI B i C )."]

{"sheet":"za stampu ","index":2,"n_rows":23,"n_cols":103,"rows_kept":23,"cut":false,"hidden":false,"merged":[]}
[null,{"$f":"'      ID       '!D6","v":"2013-10-01"},null,{"$f":"B1+1","v":"2013-10-02"},null,{"$f":"D1+1","v":"2013-10-03"},null,{"$f":"F1+1","v":"2013-10-04"},null,{"$f":"H1+1","v":"2013-10-05"},null,{"$f":"J1+1","v":"2013-10-06"},null,{"$f":"L1+1","v":"2013-10-07"},null,{"$f":"N1+1","v":"2013-10-08"},null,{"$f":"P1+1","v":"2013-10-09"},null,{"$f":"R1+1","v":"2013-10-10"},null,{"$f":"T1+1","v":"2013-10-11"},null,{"$f":"V1+1","v":"2013-10-12"},null,{"$f":"X1+1","v":"2013-10-13"},null,{"$f":"Z1+1","v":"2013-10-14"},null,{"$f":"AB1+1","v":"2013-10-15"},null,{"$f":"AD1+1","v":"2013-10-16"},null,{"$f":"AF1+1","v":"2013-10-17"},null,{"$f":"AH1+1","v":"2013-10-18"},null,{"$f":"AJ1+1","v":"2013-10-19"},null,{"$f":"AL1+1","v":"2013-10-20"},null,{"$f":"AN1+1","v":"2013-10-21"},null,{"$f":"AP1+1","v":"2013-10-22"},null,{"$f":"AR1+1","v":"2013-10-23"},null,{"$f":"AT1+1","v":"2013-10-24"},null,{"$f":"AV1+1","v":"2013-10-25"},null,{"$f":"AX1+1","v":"2013-10-26"},null,{"$f":"AZ1+1","v":"2013-10-27"},null,{"$f":"BB1+1","v":"2013-10-28"},null,{"$f":"BD1+1","v":"2013-10-29"},null,{"$f":"BF1+1","v":"2013-10-30"},null,{"$f":"BH1+1","v":"2013-10-31"},null,{"$f":"BJ1+1","v":"2013-11-01"},null,{"$f":"BL1+1","v":"2013-11-02"},null,{"$f":"BN1+1","v":"2013-11-03"},null,{"$f":"BP1+1","v":"2013-11-04"},null,{"$f":"BR1+1","v":"2013-11-05"},null,{"$f":"BT1+1","v":"2013-11-06"},{"$f":"BV1+1","v":"2013-11-07"},"2013-11-08","2013-11-09","2013-11-10","2013-11-11","2013-11-12","2013-11-13","2013-11-14","2013-11-15","2013-11-16","2013-11-17","2013-11-18","2013-11-19","2013-11-20","2013-11-21","2013-11-22","2013-11-23","2013-11-24","2013-11-25","2013-11-26","2013-11-27","2013-11-28","2013-11-29","2013-11-30","2013-12-01","2013-12-02","2013-12-03","2013-12-04","2013-12-05"]
[null,{"$f":"'      ID       '!D7","v":"2013-10-01"},null,{"$f":"B2+1","v":"2013-10-02"},null,{"$f":"D2+1","v":"2013-10-03"},null,{"$f":"F2+1","v":"2013-10-04"},null,{"$f":"H2+1","v":"2013-10-05"},null,{"$f":"J2+1","v":"2013-10-06"},null,{"$f":"L2+1","v":"2013-10-07"},null,{"$f":"N2+1","v":"2013-10-08"},null,{"$f":"P2+1","v":"2013-10-09"},null,{"$f":"R2+1","v":"2013-10-10"},null,{"$f":"T2+1","v":"2013-10-11"},null,{"$f":"V2+1","v":"2013-10-12"},null,{"$f":"X2+1","v":"2013-10-13"},null,{"$f":"Z2+1","v":"2013-10-14"},null,{"$f":"AB2+1","v":"2013-10-15"},null,{"$f":"AD2+1","v":"2013-10-16"},null,{"$f":"AF2+1","v":"2013-10-17"},null,{"$f":"AH2+1","v":"2013-10-18"},null,{"$f":"AJ2+1","v":"2013-10-19"},null,{"$f":"AL2+1","v":"2013-10-20"},null,{"$f":"AN2+1","v":"2013-10-21"},null,{"$f":"AP2+1","v":"2013-10-22"},null,{"$f":"AR2+1","v":"2013-10-23"},null,{"$f":"AT2+1","v":"2013-10-24"},null,{"$f":"AV2+1","v":"2013-10-25"},null,{"$f":"AX2+1","v":"2013-10-26"},null,{"$f":"AZ2+1","v":"2013-10-27"},null,{"$f":"BB2+1","v":"2013-10-28"},null,{"$f":"BD2+1","v":"2013-10-29"},null,{"$f":"BF2+1","v":"2013-10-30"},null,{"$f":"BH2+1","v":"2013-10-31"},null,{"$f":"BJ2+1","v":"2013-11-01"},null,{"$f":"BL2+1","v":"2013-11-02"},null,{"$f":"BN2+1","v":"2013-11-03"},null,{"$f":"BP2+1","v":"2013-11-04"},null,{"$f":"BR2+1","v":"2013-11-05"},null,{"$f":"BT2+1","v":"2013-11-06"},{"$f":"BV2+1","v":"2013-11-07"},"2013-11-08","2013-11-09","2013-11-10","2013-11-11","2013-11-12","2013-11-13","2013-11-14","2013-11-15","2013-11-16","2013-11-17","2013-11-18","2013-11-19","2013-11-20","2013-11-21","2013-11-22","2013-11-23","2013-11-24","2013-11-25","2013-11-26","2013-11-27","2013-11-28","2013-11-29","2013-11-30","2013-12-01","2013-12-02","2013-12-03","2013-12-04","2013-12-05"]
[null,{"$f":"'    RASPORED   '!D2","v":"Marko"},null,{"$f":"'    RASPORED   '!E2","v":"Marko"},null,{"$f":"'    RASPORED   '!F2","v":""},null,{"$f":"'    RASPORED   '!G2","v":""},null,{"$f":"'    RASPORED   '!H2","v":""},null,{"$f":"'    RASPORED   '!I2","v":""},null,{"$f":"'    RASPORED   '!J2","v":""},null,{"$f":"'    RASPORED   '!K2","v":""},null,{"$f":"'    RASPORED   '!L2","v":"Marko"},null,{"$f":"'    RASPORED   '!M2","v":"Marko"},null,{"$f":"'    RASPORED   '!N2","v":""},null,{"$f":"'    RASPORED   '!O2","v":""},null,{"$f":"'    RASPORED   '!P2","v":""},null,{"$f":"'    RASPORED   '!Q2","v":""},null,{"$f":"'    RASPORED   '!R2","v":""},null,{"$f":"'    RASPORED   '!S2","v":""},null,{"$f":"'    RASPORED   '!T2","v":"Marko"},null,{"$f":"'    RASPORED   '!U2","v":"Marko"},null,{"$f":"'    RASPORED   '!V2","v":""},null,{"$f":"'    RASPORED   '!W2","v":""},null,{"$f":"'    RASPORED   '!X2","v":""},null,{"$f":"'    RASPORED   '!Y2","v":""},null,{"$f":"'    RASPORED   '!Z2","v":""},null,{"$f":"'    RASPORED   '!AA2","v":""},null,{"$f":"'    RASPORED   '!AB2","v":""},null,{"$f":"'    RASPORED   '!AC2","v":"Marko"},null,{"$f":"'    RASPORED   '!AD2","v":"Marko"},null,{"$f":"'    RASPORED   '!AE2","v":""},null,{"$f":"'    RASPORED   '!AF2","v":""},null,{"$f":"'    RASPORED   '!AG2","v":""},null,{"$f":"'    RASPORED   '!AH2","v":""},null,{"$f":"'    RASPORED   '!AI2","v":""},null,{"$f":"'    RASPORED   '!AJ2","v":""},null,{"$f":"'    RASPORED   '!AK2","v":""},null,{"$f":"'    RASPORED   '!AL2","v":""},null,{"$f":"'    RASPORED   '!AM2","v":""},null,{"$f":"'    RASPORED   '!AN2","v":""},{"$f":"'    RASPORED   '!AO2","v":""},{"$f":"'    RASPORED   '!AP2","v":""},{"$f":"'    RASPORED   '!AQ2","v":""},{"$f":"'    RASPORED   '!AR2","v":""},{"$f":"'    RASPORED   '!AS2","v":""},{"$f":"'    RASPORED   '!AT2","v":""},{"$f":"'    RASPORED   '!AU2","v":"Marko"},{"$f":"'    RASPORED   '!AV2","v":""},{"$f":"'    RASPORED   '!AW2","v":"Marko"},{"$f":"'    RASPORED   '!AX2","v":""},{"$f":"'    RASPORED   '!AY2","v":""},{"$f":"'    RASPORED   '!AZ2","v":""},{"$f":"'    RASPORED   '!BA2","v":""},{"$f":"'    RASPORED   '!BB2","v":""},{"$f":"'    RASPORED   '!BC2","v":""},{"$f":"'    RASPORED   '!BD2","v":""},{"$f":"'    RASPORED   '!BE2","v":""},{"$f":"'    RASPORED   '!BF2","v":""},{"$f":"'    RASPORED   '!BG2","v":""},{"$f":"'    RASPORED   '!BH2","v":""},{"$f":"'    RASPORED   '!BI2","v":""},{"$f":"'    RASPORED   '!BJ2","v":""},{"$f":"'    RASPORED   '!BK2","v":""},{"$f":"'    RASPORED   '!BL2","v":""},{"$f":"'    RASPORED   '!BM2","v":""},{"$f":"'    RASPORED   '!BN2","v":""},{"$f":"'    RASPORED   '!BO2","v":""},{"$f":"'    RASPORED   '!BP2","v":""},{"$f":"'    RASPORED   '!BQ2","v":""}]
[null,{"$f":"'    RASPORED   '!D3","v":"Ognjen"},null,{"$f":"'    RASPORED   '!E3","v":"Ognjen"},null,{"$f":"'    RASPORED   '!F3","v":""},null,{"$f":"'    RASPORED   '!G3","v":""},null,{"$f":"'    RASPORED   '!H3","v":""},null,{"$f":"'    RASPORED   '!I3","v":""},null,{"$f":"'    RASPORED   '!J3","v":""},null,{"$f":"'    RASPORED   '!K3","v":""},null,{"$f":"'    RASPORED   '!L3","v":"Ognjen"},null,{"$f":"'    RASPORED   '!M3","v":"Ognjen"},null,{"$f":"'    RASPORED   '!N3","v":""},null,{"$f":"'    RASPORED   '!O3","v":""},null,{"$f":"'    RASPORED   '!P3","v":""},null,{"$f":"'    RASPORED   '!Q3","v":""},null,{"$f":"'    RASPORED   '!R3","v":""},null,{"$f":"'    RASPORED   '!S3","v":""},null,{"$f":"'    RASPORED   '!T3","v":"Ognjen"},null,{"$f":"'    RASPORED   '!U3","v":"Ognjen"},null,{"$f":"'    RASPORED   '!V3","v":""},null,{"$f":"'    RASPORED   '!W3","v":""},null,{"$f":"'    RASPORED   '!X3","v":""},null,{"$f":"'    RASPORED   '!Y3","v":""},null,{"$f":"'    RASPORED   '!Z3","v":""},null,{"$f":"'    RASPORED   '!AA3","v":""},null,{"$f":"'    RASPORED   '!AB3","v":""},null,{"$f":"'    RASPORED   '!AC3","v":"Ognjen"},null,{"$f":"'    RASPORED   '!AD3","v":"Ognjen"},null,{"$f":"'    RASPORED   '!AE3","v":""},null,{"$f":"'    RASPORED   '!AF3","v":""},null,{"$f":"'    RASPORED   '!AG3","v":""},null,{"$f":"'    RASPORED   '!AH3","v":""},null,{"$f":"'    RASPORED   '!AI3","v":""},null,{"$f":"'    RASPORED   '!AJ3","v":""},null,{"$f":"'    RASPORED   '!AK3","v":""},null,{"$f":"'    RASPORED   '!AL3","v":""},null,{"$f":"'    RASPORED   '!AM3","v":""},null,{"$f":"'    RASPORED   '!AN3","v":""},{"$f":"'    RASPORED   '!AO3","v":""},{"$f":"'    RASPORED   '!AP3","v":""},{"$f":"'    RASPORED   '!AQ3","v":""},{"$f":"'    RASPORED   '!AR3","v":""},{"$f":"'    RASPORED   '!AS3","v":""},{"$f":"'    RASPORED   '!AT3","v":""},{"$f":"'    RASPORED   '!AU3","v":"Ognjen"},{"$f":"'    RASPORED   '!AV3","v":""},{"$f":"'    RASPORED   '!AW3","v":"Ognjen"},{"$f":"'    RASPORED   '!AX3","v":""},{"$f":"'    RASPORED   '!AY3","v":""},{"$f":"'    RASPORED   '!AZ3","v":""},{"$f":"'    RASPORED   '!BA3","v":""},{"$f":"'    RASPORED   '!BB3","v":""},{"$f":"'    RASPORED   '!BC3","v":""},{"$f":"'    RASPORED   '!BD3","v":""},{"$f":"'    RASPORED   '!BE3","v":""},{"$f":"'    RASPORED   '!BF3","v":""},{"$f":"'    RASPORED   '!BG3","v":""},{"$f":"'    RASPORED   '!BH3","v":""},{"$f":"'    RASPORED   '!BI3","v":""},{"$f":"'    RASPORED   '!BJ3","v":""},{"$f":"'    RASPORED   '!BK3","v":""},{"$f":"'    RASPORED   '!BL3","v":""},{"$f":"'    RASPORED   '!BM3","v":""},{"$f":"'    RASPORED   '!BN3","v":""},{"$f":"'    RASPORED   '!BO3","v":""},{"$f":"'    RASPORED   '!BP3","v":""},{"$f":"'    RASPORED   '!BQ3","v":""}]
["I",{"$f":"'    RASPORED   '!D4","v":"Petar"},null,{"$f":"'    RASPORED   '!E4","v":"Petar"},null,{"$f":"'    RASPORED   '!F4","v":""},null,{"$f":"'    RASPORED   '!G4","v":""},null,{"$f":"'    RASPORED   '!H4","v":""},null,{"$f":"'    RASPORED   '!I4","v":""},null,{"$f":"'    RASPORED   '!J4","v":""},null,{"$f":"'    RASPORED   '!K4","v":""},null,{"$f":"'    RASPORED   '!L4","v":"Petar"},null,{"$f":"'    RASPORED   '!M4","v":"Petar"},null,{"$f":"'    RASPORED   '!N4","v":""},null,{"$f":"'    RASPORED   '!O4","v":""},null,{"$f":"'    RASPORED   '!P4","v":""},null,{"$f":"'    RASPORED   '!Q4","v":""},null,{"$f":"'    RASPORED   '!R4","v":""},null,{"$f":"'    RASPORED   '!S4","v":""},null,{"$f":"'    RASPORED   '!T4","v":"Petar"},null,{"$f":"'    RASPORED   '!U4","v":"Petar"},null,{"$f":"'    RASPORED   '!V4","v":""},null,{"$f":"'    RASPORED   '!W4","v":""},null,{"$f":"'    RASPORED   '!X4","v":""},null,{"$f":"'    RASPORED   '!Y4","v":""},null,{"$f":"'    RASPORED   '!Z4","v":""},null,{"$f":"'    RASPORED   '!AA4","v":""},null,{"$f":"'    RASPORED   '!AB4","v":""},null,{"$f":"'    RASPORED   '!AC4","v":"Petar"},null,{"$f":"'    RASPORED   '!AD4","v":"Petar"},null,{"$f":"'    RASPORED   '!AE4","v":""},null,{"$f":"'    RASPORED   '!AF4","v":""},null,{"$f":"'    RASPORED   '!AG4","v":""},null,{"$f":"'    RASPORED   '!AH4","v":""},null,{"$f":"'    RASPORED   '!AI4","v":""},null,{"$f":"'    RASPORED   '!AJ4","v":""},null,{"$f":"'    RASPORED   '!AK4","v":""},null,{"$f":"'    RASPORED   '!AL4","v":""},null,{"$f":"'    RASPORED   '!AM4","v":""},null,{"$f":"'    RASPORED   '!AN4","v":""},{"$f":"'    RASPORED   '!AO4","v":""},{"$f":"'    RASPORED   '!AP4","v":""},{"$f":"'    RASPORED   '!AQ4","v":""},{"$f":"'    RASPORED   '!AR4","v":""},{"$f":"'    RASPORED   '!AS4","v":""},{"$f":"'    RASPORED   '!AT4","v":""},{"$f":"'    RASPORED   '!AU4","v":"Petar"},{"$f":"'    RASPORED   '!AV4","v":""},{"$f":"'    RASPORED   '!AW4","v":""},{"$f":"'    RASPORED   '!AX4","v":""},{"$f":"'    RASPORED   '!AY4","v":""},{"$f":"'    RASPORED   '!AZ4","v":""},{"$f":"'    RASPORED   '!BA4","v":""},{"$f":"'    RASPORED   '!BB4","v":""},{"$f":"'    RASPORED   '!BC4","v":""},{"$f":"'    RASPORED   '!BD4","v":""},{"$f":"'    RASPORED   '!BE4","v":""},{"$f":"'    RASPORED   '!BF4","v":""},{"$f":"'    RASPORED   '!BG4","v":""},{"$f":"'    RASPORED   '!BH4","v":""},{"$f":"'    RASPORED   '!BI4","v":""},{"$f":"'    RASPORED   '!BJ4","v":""},{"$f":"'    RASPORED   '!BK4","v":""},{"$f":"'    RASPORED   '!BL4","v":""},{"$f":"'    RASPORED   '!BM4","v":""},{"$f":"'    RASPORED   '!BN4","v":""},{"$f":"'    RASPORED   '!BO4","v":""},{"$f":"'    RASPORED   '!BP4","v":""},{"$f":"'    RASPORED   '!BQ4","v":""}]
[null,{"$f":"'    RASPORED   '!D5","v":"Veselin"},null,{"$f":"'    RASPORED   '!E5","v":"Veselin"},null,{"$f":"'    RASPORED   '!F5","v":""},null,{"$f":"'    RASPORED   '!G5","v":""},null,{"$f":"'    RASPORED   '!H5","v":""},null,{"$f":"'    RASPORED   '!I5","v":""},null,{"$f":"'    RASPORED   '!J5","v":""},null,{"$f":"'    RASPORED   '!K5","v":""},null,{"$f":"'    RASPORED   '!L5","v":"Veselin"},null,{"$f":"'    RASPORED   '!M5","v":"Veselin"},null,{"$f":"'    RASPORED   '!N5","v":""},null,{"$f":"'    RASPORED   '!O5","v":""},null,{"$f":"'    RASPORED   '!P5","v":""},null,{"$f":"'    RASPORED   '!Q5","v":""},null,{"$f":"'    RASPORED   '!R5","v":""},null,{"$f":"'    RASPORED   '!S5","v":""},null,{"$f":"'    RASPORED   '!T5","v":"Veselin"},null,{"$f":"'    RASPORED   '!U5","v":"Veselin"},null,{"$f":"'    RASPORED   '!V5","v":""},null,{"$f":"'    RASPORED   '!W5","v":""},null,{"$f":"'    RASPORED   '!X5","v":""},null,{"$f":"'    RASPORED   '!Y5","v":""},null,{"$f":"'    RASPORED   '!Z5","v":""},null,{"$f":"'    RASPORED   '!AA5","v":""},null,{"$f":"'    RASPORED   '!AB5","v":""},null,{"$f":"'    RASPORED   '!AC5","v":"Veselin"},null,{"$f":"'    RASPORED   '!AD5","v":"Veselin"},null,{"$f":"'    RASPORED   '!AE5","v":""},null,{"$f":"'    RASPORED   '!AF5","v":""},null,{"$f":"'    RASPORED   '!AG5","v":""},null,{"$f":"'    RASPORED   '!AH5","v":""},null,{"$f":"'    RASPORED   '!AI5","v":""},null,{"$f":"'    RASPORED   '!AJ5","v":""},null,{"$f":"'    RASPORED   '!AK5","v":""},null,{"$f":"'    RASPORED   '!AL5","v":""},null,{"$f":"'    RASPORED   '!AM5","v":""},null,{"$f":"'    RASPORED   '!AN5","v":""},{"$f":"'    RASPORED   '!AO5","v":""},{"$f":"'    RASPORED   '!AP5","v":""},{"$f":"'    RASPORED   '!AQ5","v":""},{"$f":"'    RASPORED   '!AR5","v":""},{"$f":"'    RASPORED   '!AS5","v":""},{"$f":"'    RASPORED   '!AT5","v":""},{"$f":"'    RASPORED   '!AU5","v":"Veselin"},{"$f":"'    RASPORED   '!AV5","v":""},{"$f":"'    RASPORED   '!AW5","v":""},{"$f":"'    RASPORED   '!AX5","v":""},{"$f":"'    RASPORED   '!AY5","v":""},{"$f":"'    RASPORED   '!AZ5","v":""},{"$f":"'    RASPORED   '!BA5","v":""},{"$f":"'    RASPORED   '!BB5","v":""},{"$f":"'    RASPORED   '!BC5","v":""},{"$f":"'    RASPORED   '!BD5","v":""},{"$f":"'    RASPORED   '!BE5","v":""},{"$f":"'    RASPORED   '!BF5","v":""},{"$f":"'    RASPORED   '!BG5","v":""},{"$f":"'    RASPORED   '!BH5","v":""},{"$f":"'    RASPORED   '!BI5","v":""},{"$f":"'    RASPORED   '!BJ5","v":""},{"$f":"'    RASPORED   '!BK5","v":""},{"$f":"'    RASPORED   '!BL5","v":""},{"$f":"'    RASPORED   '!BM5","v":""},{"$f":"'    RASPORED   '!BN5","v":""},{"$f":"'    RASPORED   '!BO5","v":""},{"$f":"'    RASPORED   '!BP5","v":""},{"$f":"'    RASPORED   '!BQ5","v":""}]
[null,{"$f":"'    RASPORED   '!D6","v":"Slavko"},null,{"$f":"'    RASPORED   '!E6","v":"Slavko"},null,{"$f":"'    RASPORED   '!F6","v":""},null,{"$f":"'    RASPORED   '!G6","v":""},null,{"$f":"'    RASPORED   '!H6","v":""},null,{"$f":"'    RASPORED   '!I6","v":""},null,{"$f":"'    RASPORED   '!J6","v":""},null,{"$f":"'    RASPORED   '!K6","v":""},null,{"$f":"'    RASPORED   '!L6","v":"Slavko"},null,{"$f":"'    RASPORED   '!M6","v":"Slavko"},null,{"$f":"'    RASPORED   '!N6","v":""},null,{"$f":"'    RASPORED   '!O6","v":""},null,{"$f":"'    RASPORED   '!P6","v":""},null,{"$f":"'    RASPORED   '!Q6","v":""},null,{"$f":"'    RASPORED   '!R6","v":""},null,{"$f":"'    RASPORED   '!S6","v":""},null,{"$f":"'    RASPORED   '!T6","v":"Slavko"},null,{"$f":"'    RASPORED   '!U6","v":"Slavko"},null,{"$f":"'    RASPORED   '!V6","v":""},null,{"$f":"'    RASPORED   '!W6","v":""},null,{"$f":"'    RASPORED   '!X6","v":""},null,{"$f":"'    RASPORED   '!Y6","v":""},null,{"$f":"'    RASPORED   '!Z6","v":""},null,{"$f":"'    RASPORED   '!AA6","v":""},null,{"$f":"'    RASPORED   '!AB6","v":""},null,{"$f":"'    RASPORED   '!AC6","v":"Slavko"},null,{"$f":"'    RASPORED   '!AD6","v":"Slavko"},null,{"$f":"'    RASPORED   '!AE6","v":""},null,{"$f":"'    RASPORED   '!AF6","v":""},null,{"$f":"'    RASPORED   '!AG6","v":""},null,{"$f":"'    RASPORED   '!AH6","v":""},null,{"$f":"'    RASPORED   '!AI6","v":""},null,{"$f":"'    RASPORED   '!AJ6","v":""},null,{"$f":"'    RASPORED   '!AK6","v":""},null,{"$f":"'    RASPORED   '!AL6","v":""},null,{"$f":"'    RASPORED   '!AM6","v":""},null,{"$f":"'    RASPORED   '!AN6","v":""},{"$f":"'    RASPORED   '!AO6","v":""},{"$f":"'    RASPORED   '!AP6","v":""},{"$f":"'    RASPORED   '!AQ6","v":""},{"$f":"'    RASPORED   '!AR6","v":""},{"$f":"'    RASPORED   '!AS6","v":""},{"$f":"'    RASPORED   '!AT6","v":""},{"$f":"'    RASPORED   '!AU6","v":"Slavko"},{"$f":"'    RASPORED   '!AV6","v":""},{"$f":"'    RASPORED   '!AW6","v":""},{"$f":"'    RASPORED   '!AX6","v":""},{"$f":"'    RASPORED   '!AY6","v":""},{"$f":"'    RASPORED   '!AZ6","v":""},{"$f":"'    RASPORED   '!BA6","v":""},{"$f":"'    RASPORED   '!BB6","v":""},{"$f":"'    RASPORED   '!BC6","v":""},{"$f":"'    RASPORED   '!BD6","v":""},{"$f":"'    RASPORED   '!BE6","v":""},{"$f":"'    RASPORED   '!BF6","v":""},{"$f":"'    RASPORED   '!BG6","v":""},{"$f":"'    RASPORED   '!BH6","v":""},{"$f":"'    RASPORED   '!BI6","v":""},{"$f":"'    RASPORED   '!BJ6","v":""},{"$f":"'    RASPORED   '!BK6","v":""},{"$f":"'    RASPORED   '!BL6","v":""},{"$f":"'    RASPORED   '!BM6","v":""},{"$f":"'    RASPORED   '!BN6","v":""},{"$f":"'    RASPORED   '!BO6","v":""},{"$f":"'    RASPORED   '!BP6","v":""},{"$f":"'    RASPORED   '!BQ6","v":""}]
[null,{"$f":"'    RASPORED   '!D7","v":"Danilo"},null,{"$f":"'    RASPORED   '!E7","v":"Danilo"},null,{"$f":"'    RASPORED   '!F7","v":""},null,{"$f":"'    RASPORED   '!G7","v":""},null,{"$f":"'    RASPORED   '!H7","v":""},null,{"$f":"'    RASPORED   '!I7","v":""},null,{"$f":"'    RASPORED   '!J7","v":""},null,{"$f":"'    RASPORED   '!K7","v":""},null,{"$f":"'    RASPORED   '!L7","v":"Danilo"},null,{"$f":"'    RASPORED   '!M7","v":"Danilo"},null,{"$f":"'    RASPORED   '!N7","v":""},null,{"$f":"'    RASPORED   '!O7","v":""},null,{"$f":"'    RASPORED   '!P7","v":""},null,{"$f":"'    RASPORED   '!Q7","v":""},null,{"$f":"'    RASPORED   '!R7","v":""},null,{"$f":"'    RASPORED   '!S7","v":""},null,{"$f":"'    RASPORED   '!T7","v":"Danilo"},null,{"$f":"'    RASPORED   '!U7","v":"Danilo"},null,{"$f":"'    RASPORED   '!V7","v":""},null,{"$f":"'    RASPORED   '!W7","v":""},null,{"$f":"'    RASPORED   '!X7","v":""},null,{"$f":"'    RASPORED   '!Y7","v":""},null,{"$f":"'    RASPORED   '!Z7","v":""},null,{"$f":"'    RASPORED   '!AA7","v":""},null,{"$f":"'    RASPORED   '!AB7","v":""},null,{"$f":"'    RASPORED   '!AC7","v":"Danilo"},null,{"$f":"'    RASPORED   '!AD7","v":"Danilo"},null,{"$f":"'    RASPORED   '!AE7","v":""},null,{"$f":"'    RASPORED   '!AF7","v":""},null,{"$f":"'    RASPORED   '!AG7","v":""},null,{"$f":"'    RASPORED   '!AH7","v":""},null,{"$f":"'    RASPORED   '!AI7","v":""},null,{"$f":"'    RASPORED   '!AJ7","v":""},null,{"$f":"'    RASPORED   '!AK7","v":""},null,{"$f":"'    RASPORED   '!AL7","v":""},null,{"$f":"'    RASPORED   '!AM7","v":""},null,{"$f":"'    RASPORED   '!AN7","v":""},{"$f":"'    RASPORED   '!AO7","v":""},{"$f":"'    RASPORED   '!AP7","v":""},{"$f":"'    RASPORED   '!AQ7","v":""},{"$f":"'    RASPORED   '!AR7","v":""},{"$f":"'    RASPORED   '!AS7","v":""},{"$f":"'    RASPORED   '!AT7","v":""},{"$f":"'    RASPORED   '!AU7","v":"Danilo"},{"$f":"'    RASPORED   '!AV7","v":""},{"$f":"'    RASPORED   '!AW7","v":""},{"$f":"'    RASPORED   '!AX7","v":""},{"$f":"'    RASPORED   '!AY7","v":""},{"$f":"'    RASPORED   '!AZ7","v":""},{"$f":"'    RASPORED   '!BA7","v":""},{"$f":"'    RASPORED   '!BB7","v":""},{"$f":"'    RASPORED   '!BC7","v":""},{"$f":"'    RASPORED   '!BD7","v":""},{"$f":"'    RASPORED   '!BE7","v":""},{"$f":"'    RASPORED   '!BF7","v":""},{"$f":"'    RASPORED   '!BG7","v":""},{"$f":"'    RASPORED   '!BH7","v":""},{"$f":"'    RASPORED   '!BI7","v":""},{"$f":"'    RASPORED   '!BJ7","v":""},{"$f":"'    RASPORED   '!BK7","v":""},{"$f":"'    RASPORED   '!BL7","v":""},{"$f":"'    RASPORED   '!BM7","v":""},{"$f":"'    RASPORED   '!BN7","v":""},{"$f":"'    RASPORED   '!BO7","v":""},{"$f":"'    RASPORED   '!BP7","v":""},{"$f":"'    RASPORED   '!BQ7","v":""}]
[null,{"$f":"'    RASPORED   '!D8","v":""},null,{"$f":"'    RASPORED   '!E8","v":""},null,{"$f":"'    RASPORED   '!F8","v":""},null,{"$f":"'    RASPORED   '!G8","v":"Marko"},null,{"$f":"'    RASPORED   '!H8","v":"Marko"},null,{"$f":"'    RASPORED   '!I8","v":""},null,{"$f":"'    RASPORED   '!J8","v":""},null,{"$f":"'    RASPORED   '!K8","v":""},null,{"$f":"'    RASPORED   '!L8","v":""},null,{"$f":"'    RASPORED   '!M8","v":""},null,{"$f":"'    RASPORED   '!N8","v":""},null,{"$f":"'    RASPORED   '!O8","v":"Marko"},null,{"$f":"'    RASPORED   '!P8","v":"Marko"},null,{"$f":"'    RASPORED   '!Q8","v":""},null,{"$f":"'    RASPORED   '!R8","v":""},null,{"$f":"'    RASPORED   '!S8","v":""},null,{"$f":"'    RASPORED   '!T8","v":""},null,{"$f":"'    RASPORED   '!U8","v":""},null,{"$f":"'    RASPORED   '!V8","v":""},null,{"$f":"'    RASPORED   '!W8","v":"Marko"},null,{"$f":"'    RASPORED   '!X8","v":"Marko"},null,{"$f":"'    RASPORED   '!Y8","v":""},null,{"$f":"'    RASPORED   '!Z8","v":""},null,{"$f":"'    RASPORED   '!AA8","v":""},null,{"$f":"'    RASPORED   '!AB8","v":""},null,{"$f":"'    RASPORED   '!AC8","v":""},null,{"$f":"'    RASPORED   '!AD8","v":""},null,{"$f":"'    RASPORED   '!AE8","v":"Marko"},null,{"$f":"'    RASPORED   '!AF8","v":"Marko"},null,{"$f":"'    RASPORED   '!AG8","v":""},null,{"$f":"'    RASPORED   '!AH8","v":""},null,{"$f":"'    RASPORED   '!AI8","v":""},null,{"$f":"'    RASPORED   '!AJ8","v":""},null,{"$f":"'    RASPORED   '!AK8","v":""},null,{"$f":"'    RASPORED   '!AL8","v":""},null,{"$f":"'    RASPORED   '!AM8","v":""},null,{"$f":"'    RASPORED   '!AN8","v":""},{"$f":"'    RASPORED   '!AO8","v":""},{"$f":"'    RASPORED   '!AP8","v":""},{"$f":"'    RASPORED   '!AQ8","v":""},{"$f":"'    RASPORED   '!AR8","v":""},{"$f":"'    RASPORED   '!AS8","v":"Marko"},{"$f":"'    RASPORED   '!AT8","v":""},{"$f":"'    RASPORED   '!AU8","v":"Marko"},{"$f":"'    RASPORED   '!AV8","v":"Marko"},{"$f":"'    RASPORED   '!AW8","v":"Ognjen"},{"$f":"'    RASPORED   '!AX8","v":""},{"$f":"'    RASPORED   '!AY8","v":""},{"$f":"'    RASPORED   '!AZ8","v":""},{"$f":"'    RASPORED   '!BA8","v":""},{"$f":"'    RASPORED   '!BB8","v":""},{"$f":"'    RASPORED   '!BC8","v":""},{"$f":"'    RASPORED   '!BD8","v":""},{"$f":"'    RASPORED   '!BE8","v":""},{"$f":"'    RASPORED   '!BF8","v":""},{"$f":"'    RASPORED   '!BG8","v":""},{"$f":"'    RASPORED   '!BH8","v":""},{"$f":"'    RASPORED   '!BI8","v":""},{"$f":"'    RASPORED   '!BJ8","v":""},{"$f":"'    RASPORED   '!BK8","v":""},{"$f":"'    RASPORED   '!BL8","v":""},{"$f":"'    RASPORED   '!BM8","v":""},{"$f":"'    RASPORED   '!BN8","v":""},{"$f":"'    RASPORED   '!BO8","v":""},{"$f":"'    RASPORED   '!BP8","v":""},{"$f":"'    RASPORED   '!BQ8","v":""}]
[null,{"$f":"'    RASPORED   '!D9","v":""},null,{"$f":"'    RASPORED   '!E9","v":""},null,{"$f":"'    RASPORED   '!F9","v":""},null,{"$f":"'    RASPORED   '!G9","v":"Ognjen"},null,{"$f":"'    RASPORED   '!H9","v":"Ognjen"},null,{"$f":"'    RASPORED   '!I9","v":""},null,{"$f":"'    RASPORED   '!J9","v":""},null,{"$f":"'    RASPORED   '!K9","v":""},null,{"$f":"'    RASPORED   '!L9","v":""},null,{"$f":"'    RASPORED   '!M9","v":""},null,{"$f":"'    RASPORED   '!N9","v":""},null,{"$f":"'    RASPORED   '!O9","v":"Ognjen"},null,{"$f":"'    RASPORED   '!P9","v":"Ognjen"},null,{"$f":"'    RASPORED   '!Q9","v":""},null,{"$f":"'    RASPORED   '!R9","v":""},null,{"$f":"'    RASPORED   '!S9","v":""},null,{"$f":"'    RASPORED   '!T9","v":""},null,{"$f":"'    RASPORED   '!U9","v":""},null,{"$f":"'    RASPORED   '!V9","v":""},null,{"$f":"'    RASPORED   '!W9","v":"Ognjen"},null,{"$f":"'    RASPORED   '!X9","v":"Ognjen"},null,{"$f":"'    RASPORED   '!Y9","v":""},null,{"$f":"'    RASPORED   '!Z9","v":""},null,{"$f":"'    RASPORED   '!AA9","v":""},null,{"$f":"'    RASPORED   '!AB9","v":""},null,{"$f":"'    RASPORED   '!AC9","v":""},null,{"$f":"'    RASPORED   '!AD9","v":""},null,{"$f":"'    RASPORED   '!AE9","v":"Ognjen"},null,{"$f":"'    RASPORED   '!AF9","v":"Ognjen"},null,{"$f":"'    RASPORED   '!AG9","v":""},null,{"$f":"'    RASPORED   '!AH9","v":""},null,{"$f":"'    RASPORED   '!AI9","v":""},null,{"$f":"'    RASPORED   '!AJ9","v":""},null,{"$f":"'    RASPORED   '!AK9","v":""},null,{"$f":"'    RASPORED   '!AL9","v":""},null,{"$f":"'    RASPORED   '!AM9","v":""},null,{"$f":"'    RASPORED   '!AN9","v":""},{"$f":"'    RASPORED   '!AO9","v":""},{"$f":"'    RASPORED   '!AP9","v":""},{"$f":"'    RASPORED   '!AQ9","v":""},{"$f":"'    RASPORED   '!AR9","v":""},{"$f":"'    RASPORED   '!AS9","v":"Ognjen"},{"$f":"'    RASPORED   '!AT9","v":""},{"$f":"'    RASPORED   '!AU9","v":"Ognjen"},{"$f":"'    RASPORED   '!AV9","v":"Ognjen"},{"$f":"'    RASPORED   '!AW9","v":""},{"$f":"'    RASPORED   '!AX9","v":""},{"$f":"'    RASPORED   '!AY9","v":""},{"$f":"'    RASPORED   '!AZ9","v":""},{"$f":"'    RASPORED   '!BA9","v":""},{"$f":"'    RASPORED   '!BB9","v":""},{"$f":"'    RASPORED   '!BC9","v":""},{"$f":"'    RASPORED   '!BD9","v":""},{"$f":"'    RASPORED   '!BE9","v":""},{"$f":"'    RASPORED   '!BF9","v":""},{"$f":"'    RASPORED   '!BG9","v":""},{"$f":"'    RASPORED   '!BH9","v":""},{"$f":"'    RASPORED   '!BI9","v":""},{"$f":"'    RASPORED   '!BJ9","v":""},{"$f":"'    RASPORED   '!BK9","v":""},{"$f":"'    RASPORED   '!BL9","v":""},{"$f":"'    RASPORED   '!BM9","v":""},{"$f":"'    RASPORED   '!BN9","v":""},{"$f":"'    RASPORED   '!BO9","v":""},{"$f":"'    RASPORED   '!BP9","v":""},{"$f":"'    RASPORED   '!BQ9","v":""}]
["II",{"$f":"'    RASPORED   '!D10","v":""},null,{"$f":"'    RASPORED   '!E10","v":""},null,{"$f":"'    RASPORED   '!F10","v":""},null,{"$f":"'    RASPORED   '!G10","v":"Petar"},null,{"$f":"'    RASPORED   '!H10","v":"Petar"},null,{"$f":"'    RASPORED   '!I10","v":""},null,{"$f":"'    RASPORED   '!J10","v":""},null,{"$f":"'    RASPORED   '!K10","v":""},null,{"$f":"'    RASPORED   '!L10","v":""},null,{"$f":"'    RASPORED   '!M10","v":""},null,{"$f":"'    RASPORED   '!N10","v":""},null,{"$f":"'    RASPORED   '!O10","v":"Petar"},null,{"$f":"'    RASPORED   '!P10","v":"Petar"},null,{"$f":"'    RASPORED   '!Q10","v":""},null,{"$f":"'    RASPORED   '!R10","v":""},null,{"$f":"'    RASPORED   '!S10","v":""},null,{"$f":"'    RASPORED   '!T10","v":""},null,{"$f":"'    RASPORED   '!U10","v":""},null,{"$f":"'    RASPORED   '!V10","v":""},null,{"$f":"'    RASPORED   '!W10","v":"Petar"},null,{"$f":"'    RASPORED   '!X10","v":"Petar"},null,{"$f":"'    RASPORED   '!Y10","v":""},null,{"$f":"'    RASPORED   '!Z10","v":""},null,{"$f":"'    RASPORED   '!AA10","v":""},null,{"$f":"'    RASPORED   '!AB10","v":""},null,{"$f":"'    RASPORED   '!AC10","v":""},null,{"$f":"'    RASPORED   '!AD10","v":""},null,{"$f":"'    RASPORED   '!AE10","v":"Petar"},null,{"$f":"'    RASPORED   '!AF10","v":"Petar"},null,{"$f":"'    RASPORED   '!AG10","v":""},null,{"$f":"'    RASPORED   '!AH10","v":""},null,{"$f":"'    RASPORED   '!AI10","v":""},null,{"$f":"'    RASPORED   '!AJ10","v":""},null,{"$f":"'    RASPORED   '!AK10","v":""},null,{"$f":"'    RASPORED   '!AL10","v":""},null,{"$f":"'    RASPORED   '!AM10","v":""},null,{"$f":"'    RASPORED   '!AN10","v":""},{"$f":"'    RASPORED   '!AO10","v":""},{"$f":"'    RASPORED   '!AP10","v":""},{"$f":"'    RASPORED   '!AQ10","v":""},{"$f":"'    RASPORED   '!AR10","v":""},{"$f":"'    RASPORED   '!AS10","v":"Petar"},{"$f":"'    RASPORED   '!AT10","v":""},{"$f":"'    RASPORED   '!AU10","v":"Petar"},{"$f":"'    RASPORED   '!AV10","v":"Petar"},{"$f":"'    RASPORED   '!AW10","v":""},{"$f":"'    RASPORED   '!AX10","v":""},{"$f":"'    RASPORED   '!AY10","v":""},{"$f":"'    RASPORED   '!AZ10","v":""},{"$f":"'    RASPORED   '!BA10","v":""},{"$f":"'    RASPORED   '!BB10","v":""},{"$f":"'    RASPORED   '!BC10","v":""},{"$f":"'    RASPORED   '!BD10","v":""},{"$f":"'    RASPORED   '!BE10","v":""},{"$f":"'    RASPORED   '!BF10","v":""},{"$f":"'    RASPORED   '!BG10","v":""},{"$f":"'    RASPORED   '!BH10","v":""},{"$f":"'    RASPORED   '!BI10","v":""},{"$f":"'    RASPORED   '!BJ10","v":""},{"$f":"'    RASPORED   '!BK10","v":""},{"$f":"'    RASPORED   '!BL10","v":""},{"$f":"'    RASPORED   '!BM10","v":""},{"$f":"'    RASPORED   '!BN10","v":""},{"$f":"'    RASPORED   '!BO10","v":""},{"$f":"'    RASPORED   '!BP10","v":""},{"$f":"'    RASPORED   '!BQ10","v":""}]
[null,{"$f":"'    RASPORED   '!D11","v":""},null,{"$f":"'    RASPORED   '!E11","v":""},null,{"$f":"'    RASPORED   '!F11","v":""},null,{"$f":"'    RASPORED   '!G11","v":"Veselin"},null,{"$f":"'    RASPORED   '!H11","v":"Veselin"},null,{"$f":"'    RASPORED   '!I11","v":""},null,{"$f":"'    RASPORED   '!J11","v":""},null,{"$f":"'    RASPORED   '!K11","v":""},null,{"$f":"'    RASPORED   '!L11","v":""},null,{"$f":"'    RASPORED   '!M11","v":""},null,{"$f":"'    RASPORED   '!N11","v":""},null,{"$f":"'    RASPORED   '!O11","v":"Veselin"},null,{"$f":"'    RASPORED   '!P11","v":"Veselin"},null,{"$f":"'    RASPORED   '!Q11","v":""},null,{"$f":"'    RASPORED   '!R11","v":""},null,{"$f":"'    RASPORED   '!S11","v":""},null,{"$f":"'    RASPORED   '!T11","v":""},null,{"$f":"'    RASPORED   '!U11","v":""},null,{"$f":"'    RASPORED   '!V11","v":""},null,{"$f":"'    RASPORED   '!W11","v":"Veselin"},null,{"$f":"'    RASPORED   '!X11","v":"Veselin"},null,{"$f":"'    RASPORED   '!Y11","v":""},null,{"$f":"'    RASPORED   '!Z11","v":""},null,{"$f":"'    RASPORED   '!AA11","v":""},null,{"$f":"'    RASPORED   '!AB11","v":""},null,{"$f":"'    RASPORED   '!AC11","v":""},null,{"$f":"'    RASPORED   '!AD11","v":""},null,{"$f":"'    RASPORED   '!AE11","v":"Veselin"},null,{"$f":"'    RASPORED   '!AF11","v":"Veselin"},null,{"$f":"'    RASPORED   '!AG11","v":""},null,{"$f":"'    RASPORED   '!AH11","v":""},null,{"$f":"'    RASPORED   '!AI11","v":""},null,{"$f":"'    RASPORED   '!AJ11","v":""},null,{"$f":"'    RASPORED   '!AK11","v":""},null,{"$f":"'    RASPORED   '!AL11","v":""},null,{"$f":"'    RASPORED   '!AM11","v":""},null,{"$f":"'    RASPORED   '!AN11","v":""},{"$f":"'    RASPORED   '!AO11","v":""},{"$f":"'    RASPORED   '!AP11","v":""},{"$f":"'    RASPORED   '!AQ11","v":""},{"$f":"'    RASPORED   '!AR11","v":""},{"$f":"'    RASPORED   '!AS11","v":"Veselin"},{"$f":"'    RASPORED   '!AT11","v":""},{"$f":"'    RASPORED   '!AU11","v":"Veselin"},{"$f":"'    RASPORED   '!AV11","v":"Veselin"},{"$f":"'    RASPORED   '!AW11","v":""},{"$f":"'    RASPORED   '!AX11","v":""},{"$f":"'    RASPORED   '!AY11","v":""},{"$f":"'    RASPORED   '!AZ11","v":""},{"$f":"'    RASPORED   '!BA11","v":""},{"$f":"'    RASPORED   '!BB11","v":""},{"$f":"'    RASPORED   '!BC11","v":""},{"$f":"'    RASPORED   '!BD11","v":""},{"$f":"'    RASPORED   '!BE11","v":""},{"$f":"'    RASPORED   '!BF11","v":""},{"$f":"'    RASPORED   '!BG11","v":""},{"$f":"'    RASPORED   '!BH11","v":""},{"$f":"'    RASPORED   '!BI11","v":""},{"$f":"'    RASPORED   '!BJ11","v":""},{"$f":"'    RASPORED   '!BK11","v":""},{"$f":"'    RASPORED   '!BL11","v":""},{"$f":"'    RASPORED   '!BM11","v":""},{"$f":"'    RASPORED   '!BN11","v":""},{"$f":"'    RASPORED   '!BO11","v":""},{"$f":"'    RASPORED   '!BP11","v":""},{"$f":"'    RASPORED   '!BQ11","v":""}]
[null,{"$f":"'    RASPORED   '!D12","v":""},null,{"$f":"'    RASPORED   '!E12","v":""},null,{"$f":"'    RASPORED   '!F12","v":""},null,{"$f":"'    RASPORED   '!G12","v":"Slavko"},null,{"$f":"'    RASPORED   '!H12","v":"Slavko"},null,{"$f":"'    RASPORED   '!I12","v":""},null,{"$f":"'    RASPORED   '!J12","v":""},null,{"$f":"'    RASPORED   '!K12","v":""},null,{"$f":"'    RASPORED   '!L12","v":""},null,{"$f":"'    RASPORED   '!M12","v":""},null,{"$f":"'    RASPORED   '!N12","v":""},null,{"$f":"'    RASPORED   '!O12","v":"Slavko"},null,{"$f":"'    RASPORED   '!P12","v":"Slavko"},null,{"$f":"'    RASPORED   '!Q12","v":""},null,{"$f":"'    RASPORED   '!R12","v":""},null,{"$f":"'    RASPORED   '!S12","v":""},null,{"$f":"'    RASPORED   '!T12","v":""},null,{"$f":"'    RASPORED   '!U12","v":""},null,{"$f":"'    RASPORED   '!V12","v":""},null,{"$f":"'    RASPORED   '!W12","v":"Slavko"},null,{"$f":"'    RASPORED   '!X12","v":"Slavko"},null,{"$f":"'    RASPORED   '!Y12","v":""},null,{"$f":"'    RASPORED   '!Z12","v":""},null,{"$f":"'    RASPORED   '!AA12","v":""},null,{"$f":"'    RASPORED   '!AB12","v":""},null,{"$f":"'    RASPORED   '!AC12","v":""},null,{"$f":"'    RASPORED   '!AD12","v":""},null,{"$f":"'    RASPORED   '!AE12","v":"Slavko"},null,{"$f":"'    RASPORED   '!AF12","v":"Slavko"},null,{"$f":"'    RASPORED   '!AG12","v":""},null,{"$f":"'    RASPORED   '!AH12","v":""},null,{"$f":"'    RASPORED   '!AI12","v":""},null,{"$f":"'    RASPORED   '!AJ12","v":""},null,{"$f":"'    RASPORED   '!AK12","v":""},null,{"$f":"'    RASPORED   '!AL12","v":""},null,{"$f":"'    RASPORED   '!AM12","v":""},null,{"$f":"'    RASPORED   '!AN12","v":""},{"$f":"'    RASPORED   '!AO12","v":""},{"$f":"'    RASPORED   '!AP12","v":""},{"$f":"'    RASPORED   '!AQ12","v":""},{"$f":"'    RASPORED   '!AR12","v":""},{"$f":"'    RASPORED   '!AS12","v":"Slavko"},{"$f":"'    RASPORED   '!AT12","v":""},{"$f":"'    RASPORED   '!AU12","v":"Slavko"},{"$f":"'    RASPORED   '!AV12","v":"Slavko"},{"$f":"'    RASPORED   '!AW12","v":""},{"$f":"'    RASPORED   '!AX12","v":""},{"$f":"'    RASPORED   '!AY12","v":""},{"$f":"'    RASPORED   '!AZ12","v":""},{"$f":"'    RASPORED   '!BA12","v":""},{"$f":"'    RASPORED   '!BB12","v":""},{"$f":"'    RASPORED   '!BC12","v":""},{"$f":"'    RASPORED   '!BD12","v":""},{"$f":"'    RASPORED   '!BE12","v":""},{"$f":"'    RASPORED   '!BF12","v":""},{"$f":"'    RASPORED   '!BG12","v":""},{"$f":"'    RASPORED   '!BH12","v":""},{"$f":"'    RASPORED   '!BI12","v":""},{"$f":"'    RASPORED   '!BJ12","v":""},{"$f":"'    RASPORED   '!BK12","v":""},{"$f":"'    RASPORED   '!BL12","v":""},{"$f":"'    RASPORED   '!BM12","v":""},{"$f":"'    RASPORED   '!BN12","v":""},{"$f":"'    RASPORED   '!BO12","v":""},{"$f":"'    RASPORED   '!BP12","v":""},{"$f":"'    RASPORED   '!BQ12","v":""}]
[null,{"$f":"'    RASPORED   '!D13","v":""},null,{"$f":"'    RASPORED   '!E13","v":""},null,{"$f":"'    RASPORED   '!F13","v":""},null,{"$f":"'    RASPORED   '!G13","v":"Danilo"},null,{"$f":"'    RASPORED   '!H13","v":"Danilo"},null,{"$f":"'    RASPORED   '!I13","v":""},null,{"$f":"'    RASPORED   '!J13","v":""},null,{"$f":"'    RASPORED   '!K13","v":""},null,{"$f":"'    RASPORED   '!L13","v":""},null,{"$f":"'    RASPORED   '!M13","v":""},null,{"$f":"'    RASPORED   '!N13","v":""},null,{"$f":"'    RASPORED   '!O13","v":"Danilo"},null,{"$f":"'    RASPORED   '!P13","v":"Danilo"},null,{"$f":"'    RASPORED   '!Q13","v":""},null,{"$f":"'    RASPORED   '!R13","v":""},null,{"$f":"'    RASPORED   '!S13","v":""},null,{"$f":"'    RASPORED   '!T13","v":""},null,{"$f":"'    RASPORED   '!U13","v":""},null,{"$f":"'    RASPORED   '!V13","v":""},null,{"$f":"'    RASPORED   '!W13","v":"Danilo"},null,{"$f":"'    RASPORED   '!X13","v":"Danilo"},null,{"$f":"'    RASPORED   '!Y13","v":""},null,{"$f":"'    RASPORED   '!Z13","v":""},null,{"$f":"'    RASPORED   '!AA13","v":""},null,{"$f":"'    RASPORED   '!AB13","v":""},null,{"$f":"'    RASPORED   '!AC13","v":""},null,{"$f":"'    RASPORED   '!AD13","v":""},null,{"$f":"'    RASPORED   '!AE13","v":"Danilo"},null,{"$f":"'    RASPORED   '!AF13","v":"Danilo"},null,{"$f":"'    RASPORED   '!AG13","v":""},null,{"$f":"'    RASPORED   '!AH13","v":""},null,{"$f":"'    RASPORED   '!AI13","v":""},null,{"$f":"'    RASPORED   '!AJ13","v":""},null,{"$f":"'    RASPORED   '!AK13","v":""},null,{"$f":"'    RASPORED   '!AL13","v":""},null,{"$f":"'    RASPORED   '!AM13","v":""},null,{"$f":"'    RASPORED   '!AN13","v":""},{"$f":"'    RASPORED   '!AO13","v":""},{"$f":"'    RASPORED   '!AP13","v":""},{"$f":"'    RASPORED   '!AQ13","v":""},{"$f":"'    RASPORED   '!AR13","v":""},{"$f":"'    RASPORED   '!AS13","v":"Danilo"},{"$f":"'    RASPORED   '!AT13","v":""},{"$f":"'    RASPORED   '!AU13","v":"Danilo"},{"$f":"'    RASPORED   '!AV13","v":"Danilo"},{"$f":"'    RASPORED   '!AW13","v":""},{"$f":"'    RASPORED   '!AX13","v":""},{"$f":"'    RASPORED   '!AY13","v":""},{"$f":"'    RASPORED   '!AZ13","v":""},{"$f":"'    RASPORED   '!BA13","v":""},{"$f":"'    RASPORED   '!BB13","v":""},{"$f":"'    RASPORED   '!BC13","v":""},{"$f":"'    RASPORED   '!BD13","v":""},{"$f":"'    RASPORED   '!BE13","v":""},{"$f":"'    RASPORED   '!BF13","v":""},{"$f":"'    RASPORED   '!BG13","v":""},{"$f":"'    RASPORED   '!BH13","v":""},{"$f":"'    RASPORED   '!BI13","v":""},{"$f":"'    RASPORED   '!BJ13","v":""},{"$f":"'    RASPORED   '!BK13","v":""},{"$f":"'    RASPORED   '!BL13","v":""},{"$f":"'    RASPORED   '!BM13","v":""},{"$f":"'    RASPORED   '!BN13","v":""},{"$f":"'    RASPORED   '!BO13","v":""},{"$f":"'    RASPORED   '!BP13","v":""},{"$f":"'    RASPORED   '!BQ13","v":""}]
[null,{"$f":"'    RASPORED   '!D14","v":""},null,{"$f":"'    RASPORED   '!E14","v":""},null,{"$f":"'    RASPORED   '!F14","v":""},null,{"$f":"'    RASPORED   '!G14","v":""},null,{"$f":"'    RASPORED   '!H14","v":""},null,{"$f":"'    RASPORED   '!I14","v":"Marko"},null,{"$f":"'    RASPORED   '!J14","v":"Marko"},null,{"$f":"'    RASPORED   '!K14","v":""},null,{"$f":"'    RASPORED   '!L14","v":""},null,{"$f":"'    RASPORED   '!M14","v":""},null,{"$f":"'    RASPORED   '!N14","v":""},null,{"$f":"'    RASPORED   '!O14","v":""},null,{"$f":"'    RASPORED   '!P14","v":""},null,{"$f":"'    RASPORED   '!Q14","v":"Marko"},null,{"$f":"'    RASPORED   '!R14","v":"Marko"},null,{"$f":"'    RASPORED   '!S14","v":""},null,{"$f":"'    RASPORED   '!T14","v":""},null,{"$f":"'    RASPORED   '!U14","v":""},null,{"$f":"'    RASPORED   '!V14","v":""},null,{"$f":"'    RASPORED   '!W14","v":""},null,{"$f":"'    RASPORED   '!X14","v":""},null,{"$f":"'    RASPORED   '!Y14","v":"Marko"},null,{"$f":"'    RASPORED   '!Z14","v":"Marko"},null,{"$f":"'    RASPORED   '!AA14","v":""},null,{"$f":"'    RASPORED   '!AB14","v":""},null,{"$f":"'    RASPORED   '!AC14","v":""},null,{"$f":"'    RASPORED   '!AD14","v":""},null,{"$f":"'    RASPORED   '!AE14","v":""},null,{"$f":"'    RASPORED   '!AF14","v":""},null,{"$f":"'    RASPORED   '!AG14","v":"Marko"},null,{"$f":"'    RASPORED   '!AH14","v":"Marko"},null,{"$f":"'    RASPORED   '!AI14","v":""},null,{"$f":"'    RASPORED   '!AJ14","v":""},null,{"$f":"'    RASPORED   '!AK14","v":""},null,{"$f":"'    RASPORED   '!AL14","v":""},null,{"$f":"'    RASPORED   '!AM14","v":""},null,{"$f":"'    RASPORED   '!AN14","v":""},{"$f":"'    RASPORED   '!AO14","v":""},{"$f":"'    RASPORED   '!AP14","v":""},{"$f":"'    RASPORED   '!AQ14","v":""},{"$f":"'    RASPORED   '!AR14","v":""},{"$f":"'    RASPORED   '!AS14","v":""},{"$f":"'    RASPORED   '!AT14","v":""},{"$f":"'    RASPORED   '!AU14","v":""},{"$f":"'    RASPORED   '!AV14","v":""},{"$f":"'    RASPORED   '!AW14","v":""},{"$f":"'    RASPORED   '!AX14","v":""},{"$f":"'    RASPORED   '!AY14","v":""},{"$f":"'    RASPORED   '!AZ14","v":""},{"$f":"'    RASPORED   '!BA14","v":""},{"$f":"'    RASPORED   '!BB14","v":""},{"$f":"'    RASPORED   '!BC14","v":""},{"$f":"'    RASPORED   '!BD14","v":""},{"$f":"'    RASPORED   '!BE14","v":""},{"$f":"'    RASPORED   '!BF14","v":""},{"$f":"'    RASPORED   '!BG14","v":""},{"$f":"'    RASPORED   '!BH14","v":""},{"$f":"'    RASPORED   '!BI14","v":""},{"$f":"'    RASPORED   '!BJ14","v":""},{"$f":"'    RASPORED   '!BK14","v":""},{"$f":"'    RASPORED   '!BL14","v":""},{"$f":"'    RASPORED   '!BM14","v":""},{"$f":"'    RASPORED   '!BN14","v":""},{"$f":"'    RASPORED   '!BO14","v":""},{"$f":"'    RASPORED   '!BP14","v":""},{"$f":"'    RASPORED   '!BQ14","v":""}]
[null,{"$f":"'    RASPORED   '!D15","v":""},null,{"$f":"'    RASPORED   '!E15","v":""},null,{"$f":"'    RASPORED   '!F15","v":""},null,{"$f":"'    RASPORED   '!G15","v":""},null,{"$f":"'    RASPORED   '!H15","v":""},null,{"$f":"'    RASPORED   '!I15","v":"Ognjen"},null,{"$f":"'    RASPORED   '!J15","v":"Ognjen"},null,{"$f":"'    RASPORED   '!K15","v":""},null,{"$f":"'    RASPORED   '!L15","v":""},null,{"$f":"'    RASPORED   '!M15","v":""},null,{"$f":"'    RASPORED   '!N15","v":""},null,{"$f":"'    RASPORED   '!O15","v":""},null,{"$f":"'    RASPORED   '!P15","v":""},null,{"$f":"'    RASPORED   '!Q15","v":"Ognjen"},null,{"$f":"'    RASPORED   '!R15","v":"Ognjen"},null,{"$f":"'    RASPORED   '!S15","v":""},null,{"$f":"'    RASPORED   '!T15","v":""},null,{"$f":"'    RASPORED   '!U15","v":""},null,{"$f":"'    RASPORED   '!V15","v":""},null,{"$f":"'    RASPORED   '!W15","v":""},null,{"$f":"'    RASPORED   '!X15","v":""},null,{"$f":"'    RASPORED   '!Y15","v":"Ognjen"},null,{"$f":"'    RASPORED   '!Z15","v":"Ognjen"},null,{"$f":"'    RASPORED   '!AA15","v":""},null,{"$f":"'    RASPORED   '!AB15","v":""},null,{"$f":"'    RASPORED   '!AC15","v":""},null,{"$f":"'    RASPORED   '!AD15","v":""},null,{"$f":"'    RASPORED   '!AE15","v":""},null,{"$f":"'    RASPORED   '!AF15","v":""},null,{"$f":"'    RASPORED   '!AG15","v":"Ognjen"},null,{"$f":"'    RASPORED   '!AH15","v":"Ognjen"},null,{"$f":"'    RASPORED   '!AI15","v":""},null,{"$f":"'    RASPORED   '!AJ15","v":""},null,{"$f":"'    RASPORED   '!AK15","v":""},null,{"$f":"'    RASPORED   '!AL15","v":""},null,{"$f":"'    RASPORED   '!AM15","v":""},null,{"$f":"'    RASPORED   '!AN15","v":""},{"$f":"'    RASPORED   '!AO15","v":""},{"$f":"'    RASPORED   '!AP15","v":""},{"$f":"'    RASPORED   '!AQ15","v":""},{"$f":"'    RASPORED   '!AR15","v":""},{"$f":"'    RASPORED   '!AS15","v":""},{"$f":"'    RASPORED   '!AT15","v":""},{"$f":"'    RASPORED   '!AU15","v":""},{"$f":"'    RASPORED   '!AV15","v":""},{"$f":"'    RASPORED   '!AW15","v":""},{"$f":"'    RASPORED   '!AX15","v":""},{"$f":"'    RASPORED   '!AY15","v":""},{"$f":"'    RASPORED   '!AZ15","v":""},{"$f":"'    RASPORED   '!BA15","v":""},{"$f":"'    RASPORED   '!BB15","v":""},{"$f":"'    RASPORED   '!BC15","v":""},{"$f":"'    RASPORED   '!BD15","v":""},{"$f":"'    RASPORED   '!BE15","v":""},{"$f":"'    RASPORED   '!BF15","v":""},{"$f":"'    RASPORED   '!BG15","v":""},{"$f":"'    RASPORED   '!BH15","v":""},{"$f":"'    RASPORED   '!BI15","v":""},{"$f":"'    RASPORED   '!BJ15","v":""},{"$f":"'    RASPORED   '!BK15","v":""},{"$f":"'    RASPORED   '!BL15","v":""},{"$f":"'    RASPORED   '!BM15","v":""},{"$f":"'    RASPORED   '!BN15","v":""},{"$f":"'    RASPORED   '!BO15","v":""},{"$f":"'    RASPORED   '!BP15","v":""},{"$f":"'    RASPORED   '!BQ15","v":""}]
[null,{"$f":"'    RASPORED   '!D16","v":""},null,{"$f":"'    RASPORED   '!E16","v":""},null,{"$f":"'    RASPORED   '!F16","v":""},null,{"$f":"'    RASPORED   '!G16","v":""},null,{"$f":"'    RASPORED   '!H16","v":""},null,{"$f":"'    RASPORED   '!I16","v":"Petar"},null,{"$f":"'    RASPORED   '!J16","v":"Petar"},null,{"$f":"'    RASPORED   '!K16","v":""},null,{"$f":"'    RASPORED   '!L16","v":""},null,{"$f":"'    RASPORED   '!M16","v":""},null,{"$f":"'    RASPORED   '!N16","v":""},null,{"$f":"'    RASPORED   '!O16","v":""},null,{"$f":"'    RASPORED   '!P16","v":""},null,{"$f":"'    RASPORED   '!Q16","v":"Petar"},null,{"$f":"'    RASPORED   '!R16","v":"Petar"},null,{"$f":"'    RASPORED   '!S16","v":""},null,{"$f":"'    RASPORED   '!T16","v":""},null,{"$f":"'    RASPORED   '!U16","v":""},null,{"$f":"'    RASPORED   '!V16","v":""},null,{"$f":"'    RASPORED   '!W16","v":""},null,{"$f":"'    RASPORED   '!X16","v":""},null,{"$f":"'    RASPORED   '!Y16","v":"Petar"},null,{"$f":"'    RASPORED   '!Z16","v":"Petar"},null,{"$f":"'    RASPORED   '!AA16","v":""},null,{"$f":"'    RASPORED   '!AB16","v":""},null,{"$f":"'    RASPORED   '!AC16","v":""},null,{"$f":"'    RASPORED   '!AD16","v":""},null,{"$f":"'    RASPORED   '!AE16","v":""},null,{"$f":"'    RASPORED   '!AF16","v":""},null,{"$f":"'    RASPORED   '!AG16","v":"Petar"},null,{"$f":"'    RASPORED   '!AH16","v":"Petar"},null,{"$f":"'    RASPORED   '!AI16","v":""},null,{"$f":"'    RASPORED   '!AJ16","v":""},null,{"$f":"'    RASPORED   '!AK16","v":""},null,{"$f":"'    RASPORED   '!AL16","v":""},null,{"$f":"'    RASPORED   '!AM16","v":""},null,{"$f":"'    RASPORED   '!AN16","v":""},{"$f":"'    RASPORED   '!AO16","v":""},{"$f":"'    RASPORED   '!AP16","v":""},{"$f":"'    RASPORED   '!AQ16","v":""},{"$f":"'    RASPORED   '!AR16","v":""},{"$f":"'    RASPORED   '!AS16","v":""},{"$f":"'    RASPORED   '!AT16","v":""},{"$f":"'    RASPORED   '!AU16","v":""},{"$f":"'    RASPORED   '!AV16","v":""},{"$f":"'    RASPORED   '!AW16","v":""},{"$f":"'    RASPORED   '!AX16","v":""},{"$f":"'    RASPORED   '!AY16","v":""},{"$f":"'    RASPORED   '!AZ16","v":""},{"$f":"'    RASPORED   '!BA16","v":""},{"$f":"'    RASPORED   '!BB16","v":""},{"$f":"'    RASPORED   '!BC16","v":""},{"$f":"'    RASPORED   '!BD16","v":""},{"$f":"'    RASPORED   '!BE16","v":""},{"$f":"'    RASPORED   '!BF16","v":""},{"$f":"'    RASPORED   '!BG16","v":""},{"$f":"'    RASPORED   '!BH16","v":""},{"$f":"'    RASPORED   '!BI16","v":""},{"$f":"'    RASPORED   '!BJ16","v":""},{"$f":"'    RASPORED   '!BK16","v":""},{"$f":"'    RASPORED   '!BL16","v":""},{"$f":"'    RASPORED   '!BM16","v":""},{"$f":"'    RASPORED   '!BN16","v":""},{"$f":"'    RASPORED   '!BO16","v":""},{"$f":"'    RASPORED   '!BP16","v":""},{"$f":"'    RASPORED   '!BQ16","v":""}]
["III",{"$f":"'    RASPORED   '!D17","v":""},null,{"$f":"'    RASPORED   '!E17","v":""},null,{"$f":"'    RASPORED   '!F17","v":""},null,{"$f":"'    RASPORED   '!G17","v":""},null,{"$f":"'    RASPORED   '!H17","v":""},null,{"$f":"'    RASPORED   '!I17","v":"Veselin"},null,{"$f":"'    RASPORED   '!J17","v":"Veselin"},null,{"$f":"'    RASPORED   '!K17","v":""},null,{"$f":"'    RASPORED   '!L17","v":""},null,{"$f":"'    RASPORED   '!M17","v":""},null,{"$f":"'    RASPORED   '!N17","v":""},null,{"$f":"'    RASPORED   '!O17","v":""},null,{"$f":"'    RASPORED   '!P17","v":""},null,{"$f":"'    RASPORED   '!Q17","v":"Veselin"},null,{"$f":"'    RASPORED   '!R17","v":"Veselin"},null,{"$f":"'    RASPORED   '!S17","v":""},null,{"$f":"'    RASPORED   '!T17","v":""},null,{"$f":"'    RASPORED   '!U17","v":""},null,{"$f":"'    RASPORED   '!V17","v":""},null,{"$f":"'    RASPORED   '!W17","v":""},null,{"$f":"'    RASPORED   '!X17","v":""},null,{"$f":"'    RASPORED   '!Y17","v":"Veselin"},null,{"$f":"'    RASPORED   '!Z17","v":"Veselin"},null,{"$f":"'    RASPORED   '!AA17","v":""},null,{"$f":"'    RASPORED   '!AB17","v":""},null,{"$f":"'    RASPORED   '!AC17","v":""},null,{"$f":"'    RASPORED   '!AD17","v":""},null,{"$f":"'    RASPORED   '!AE17","v":""},null,{"$f":"'    RASPORED   '!AF17","v":""},null,{"$f":"'    RASPORED   '!AG17","v":"Veselin"},null,{"$f":"'    RASPORED   '!AH17","v":"Veselin"},null,{"$f":"'    RASPORED   '!AI17","v":""},null,{"$f":"'    RASPORED   '!AJ17","v":""},null,{"$f":"'    RASPORED   '!AK17","v":""},null,{"$f":"'    RASPORED   '!AL17","v":""},null,{"$f":"'    RASPORED   '!AM17","v":""},null,{"$f":"'    RASPORED   '!AN17","v":""},{"$f":"'    RASPORED   '!AO17","v":""},{"$f":"'    RASPORED   '!AP17","v":""},{"$f":"'    RASPORED   '!AQ17","v":""},{"$f":"'    RASPORED   '!AR17","v":""},{"$f":"'    RASPORED   '!AS17","v":""},{"$f":"'    RASPORED   '!AT17","v":""},{"$f":"'    RASPORED   '!AU17","v":""},{"$f":"'    RASPORED   '!AV17","v":""},{"$f":"'    RASPORED   '!AW17","v":""},{"$f":"'    RASPORED   '!AX17","v":""},{"$f":"'    RASPORED   '!AY17","v":""},{"$f":"'    RASPORED   '!AZ17","v":""},{"$f":"'    RASPORED   '!BA17","v":""},{"$f":"'    RASPORED   '!BB17","v":""},{"$f":"'    RASPORED   '!BC17","v":""},{"$f":"'    RASPORED   '!BD17","v":""},{"$f":"'    RASPORED   '!BE17","v":""},{"$f":"'    RASPORED   '!BF17","v":""},{"$f":"'    RASPORED   '!BG17","v":""},{"$f":"'    RASPORED   '!BH17","v":""},{"$f":"'    RASPORED   '!BI17","v":""},{"$f":"'    RASPORED   '!BJ17","v":""},{"$f":"'    RASPORED   '!BK17","v":""},{"$f":"'    RASPORED   '!BL17","v":""},{"$f":"'    RASPORED   '!BM17","v":""},{"$f":"'    RASPORED   '!BN17","v":""},{"$f":"'    RASPORED   '!BO17","v":""},{"$f":"'    RASPORED   '!BP17","v":""},{"$f":"'    RASPORED   '!BQ17","v":""}]
[null,{"$f":"'    RASPORED   '!D18","v":""},null,{"$f":"'    RASPORED   '!E18","v":""},null,{"$f":"'    RASPORED   '!F18","v":""},null,{"$f":"'    RASPORED   '!G18","v":""},null,{"$f":"'    RASPORED   '!H18","v":""},null,{"$f":"'    RASPORED   '!I18","v":"Slavko"},null,{"$f":"'    RASPORED   '!J18","v":"Slavko"},null,{"$f":"'    RASPORED   '!K18","v":""},null,{"$f":"'    RASPORED   '!L18","v":""},null,{"$f":"'    RASPORED   '!M18","v":""},null,{"$f":"'    RASPORED   '!N18","v":""},null,{"$f":"'    RASPORED   '!O18","v":""},null,{"$f":"'    RASPORED   '!P18","v":""},null,{"$f":"'    RASPORED   '!Q18","v":"Slavko"},null,{"$f":"'    RASPORED   '!R18","v":"Slavko"},null,{"$f":"'    RASPORED   '!S18","v":""},null,{"$f":"'    RASPORED   '!T18","v":""},null,{"$f":"'    RASPORED   '!U18","v":""},null,{"$f":"'    RASPORED   '!V18","v":""},null,{"$f":"'    RASPORED   '!W18","v":""},null,{"$f":"'    RASPORED   '!X18","v":""},null,{"$f":"'    RASPORED   '!Y18","v":"Slavko"},null,{"$f":"'    RASPORED   '!Z18","v":"Slavko"},null,{"$f":"'    RASPORED   '!AA18","v":""},null,{"$f":"'    RASPORED   '!AB18","v":""},null,{"$f":"'    RASPORED   '!AC18","v":""},null,{"$f":"'    RASPORED   '!AD18","v":""},null,{"$f":"'    RASPORED   '!AE18","v":""},null,{"$f":"'    RASPORED   '!AF18","v":""},null,{"$f":"'    RASPORED   '!AG18","v":"Slavko"},null,{"$f":"'    RASPORED   '!AH18","v":"Slavko"},null,{"$f":"'    RASPORED   '!AI18","v":""},null,{"$f":"'    RASPORED   '!AJ18","v":""},null,{"$f":"'    RASPORED   '!AK18","v":""},null,{"$f":"'    RASPORED   '!AL18","v":""},null,{"$f":"'    RASPORED   '!AM18","v":""},null,{"$f":"'    RASPORED   '!AN18","v":""},{"$f":"'    RASPORED   '!AO18","v":""},{"$f":"'    RASPORED   '!AP18","v":""},{"$f":"'    RASPORED   '!AQ18","v":""},{"$f":"'    RASPORED   '!AR18","v":""},{"$f":"'    RASPORED   '!AS18","v":""},{"$f":"'    RASPORED   '!AT18","v":""},{"$f":"'    RASPORED   '!AU18","v":""},{"$f":"'    RASPORED   '!AV18","v":""},{"$f":"'    RASPORED   '!AW18","v":""},{"$f":"'    RASPORED   '!AX18","v":""},{"$f":"'    RASPORED   '!AY18","v":""},{"$f":"'    RASPORED   '!AZ18","v":""},{"$f":"'    RASPORED   '!BA18","v":""},{"$f":"'    RASPORED   '!BB18","v":""},{"$f":"'    RASPORED   '!BC18","v":""},{"$f":"'    RASPORED   '!BD18","v":""},{"$f":"'    RASPORED   '!BE18","v":""},{"$f":"'    RASPORED   '!BF18","v":""},{"$f":"'    RASPORED   '!BG18","v":""},{"$f":"'    RASPORED   '!BH18","v":""},{"$f":"'    RASPORED   '!BI18","v":""},{"$f":"'    RASPORED   '!BJ18","v":""},{"$f":"'    RASPORED   '!BK18","v":""},{"$f":"'    RASPORED   '!BL18","v":""},{"$f":"'    RASPORED   '!BM18","v":""},{"$f":"'    RASPORED   '!BN18","v":""},{"$f":"'    RASPORED   '!BO18","v":""},{"$f":"'    RASPORED   '!BP18","v":""},{"$f":"'    RASPORED   '!BQ18","v":""}]
[null,{"$f":"'    RASPORED   '!D19","v":""},null,{"$f":"'    RASPORED   '!E19","v":""},null,{"$f":"'    RASPORED   '!F19","v":""},null,{"$f":"'    RASPORED   '!G19","v":""},null,{"$f":"'    RASPORED   '!H19","v":""},null,{"$f":"'    RASPORED   '!I19","v":"Danilo"},null,{"$f":"'    RASPORED   '!J19","v":"Danilo"},null,{"$f":"'    RASPORED   '!K19","v":""},null,{"$f":"'    RASPORED   '!L19","v":""},null,{"$f":"'    RASPORED   '!M19","v":""},null,{"$f":"'    RASPORED   '!N19","v":""},null,{"$f":"'    RASPORED   '!O19","v":""},null,{"$f":"'    RASPORED   '!P19","v":""},null,{"$f":"'    RASPORED   '!Q19","v":"Danilo"},null,{"$f":"'    RASPORED   '!R19","v":"Danilo"},null,{"$f":"'    RASPORED   '!S19","v":""},null,{"$f":"'    RASPORED   '!T19","v":""},null,{"$f":"'    RASPORED   '!U19","v":""},null,{"$f":"'    RASPORED   '!V19","v":""},null,{"$f":"'    RASPORED   '!W19","v":""},null,{"$f":"'    RASPORED   '!X19","v":""},null,{"$f":"'    RASPORED   '!Y19","v":"Danilo"},null,{"$f":"'    RASPORED   '!Z19","v":"Danilo"},null,{"$f":"'    RASPORED   '!AA19","v":""},null,{"$f":"'    RASPORED   '!AB19","v":""},null,{"$f":"'    RASPORED   '!AC19","v":""},null,{"$f":"'    RASPORED   '!AD19","v":""},null,{"$f":"'    RASPORED   '!AE19","v":""},null,{"$f":"'    RASPORED   '!AF19","v":""},null,{"$f":"'    RASPORED   '!AG19","v":"Danilo"},null,{"$f":"'    RASPORED   '!AH19","v":"Danilo"},null,{"$f":"'    RASPORED   '!AI19","v":""},null,{"$f":"'    RASPORED   '!AJ19","v":""},null,{"$f":"'    RASPORED   '!AK19","v":""},null,{"$f":"'    RASPORED   '!AL19","v":""},null,{"$f":"'    RASPORED   '!AM19","v":""},null,{"$f":"'    RASPORED   '!AN19","v":""},{"$f":"'    RASPORED   '!AO19","v":""},{"$f":"'    RASPORED   '!AP19","v":""},{"$f":"'    RASPORED   '!AQ19","v":""},{"$f":"'    RASPORED   '!AR19","v":""},{"$f":"'    RASPORED   '!AS19","v":""},{"$f":"'    RASPORED   '!AT19","v":""},{"$f":"'    RASPORED   '!AU19","v":""},{"$f":"'    RASPORED   '!AV19","v":""},{"$f":"'    RASPORED   '!AW19","v":""},{"$f":"'    RASPORED   '!AX19","v":""},{"$f":"'    RASPORED   '!AY19","v":""},{"$f":"'    RASPORED   '!AZ19","v":""},{"$f":"'    RASPORED   '!BA19","v":""},{"$f":"'    RASPORED   '!BB19","v":""},{"$f":"'    RASPORED   '!BC19","v":""},{"$f":"'    RASPORED   '!BD19","v":""},{"$f":"'    RASPORED   '!BE19","v":""},{"$f":"'    RASPORED   '!BF19","v":""},{"$f":"'    RASPORED   '!BG19","v":""},{"$f":"'    RASPORED   '!BH19","v":""},{"$f":"'    RASPORED   '!BI19","v":""},{"$f":"'    RASPORED   '!BJ19","v":""},{"$f":"'    RASPORED   '!BK19","v":""},{"$f":"'    RASPORED   '!BL19","v":""},{"$f":"'    RASPORED   '!BM19","v":""},{"$f":"'    RASPORED   '!BN19","v":""},{"$f":"'    RASPORED   '!BO19","v":""},{"$f":"'    RASPORED   '!BP19","v":""},{"$f":"'    RASPORED   '!BQ19","v":""}]
[]
[]
[null,null,"Ovaj je izvjestaj isti kao na sheetu RASPORED, ja sam napravio i ovu trecu tabelu jer mene treba ovakva sa ovim redovima izmedju, vi je ne morate koristiti."]

{"sheet":"isto sve macro ","index":3,"n_rows":20,"n_cols":72,"rows_kept":20,"cut":false,"hidden":false,"merged":[]}
[null,{"$f":"'      ID       '!D6","v":"2013-10-01"},null,{"$f":"B1+1","v":"2013-10-02"},null,{"$f":"D1+1","v":"2013-10-03"},null,{"$f":"F1+1","v":"2013-10-04"},null,{"$f":"H1+1","v":"2013-10-05"},null,{"$f":"J1+1","v":"2013-10-06"},null,{"$f":"L1+1","v":"2013-10-07"},null,{"$f":"N1+1","v":"2013-10-08"},null,{"$f":"P1+1","v":"2013-10-09"},null,{"$f":"R1+1","v":"2013-10-10"},null,{"$f":"T1+1","v":"2013-10-11"},null,{"$f":"V1+1","v":"2013-10-12"},null,{"$f":"X1+1","v":"2013-10-13"},null,{"$f":"Z1+1","v":"2013-10-14"},null,{"$f":"AB1+1","v":"2013-10-15"},null,{"$f":"AD1+1","v":"2013-10-16"},null,{"$f":"AF1+1","v":"2013-10-17"},null,{"$f":"AH1+1","v":"2013-10-18"},null,{"$f":"AJ1+1","v":"2013-10-19"},null,{"$f":"AL1+1","v":"2013-10-20"},null,{"$f":"AN1+1","v":"2013-10-21"},null,{"$f":"AP1+1","v":"2013-10-22"},null,{"$f":"AR1+1","v":"2013-10-23"},null,{"$f":"AT1+1","v":"2013-10-24"},null,{"$f":"AV1+1","v":"2013-10-25"},null,{"$f":"AX1+1","v":"2013-10-26"},null,{"$f":"AZ1+1","v":"2013-10-27"},null,{"$f":"BB1+1","v":"2013-10-28"},null,{"$f":"BD1+1","v":"2013-10-29"},null,{"$f":"BF1+1","v":"2013-10-30"},null,{"$f":"BH1+1","v":"2013-10-31"},null,{"$f":"BJ1+1","v":"2013-11-01"},null,{"$f":"BL1+1","v":"2013-11-02"},null,{"$f":"BN1+1","v":"2013-11-03"},null,{"$f":"BP1+1","v":"2013-11-04"},null,{"$f":"BR1+1","v":"2013-11-05"}]
[null,{"$f":"'      ID       '!D7","v":"2013-10-01"},"r.stan.",{"$f":"B2+1","v":"2013-10-02"},null,{"$f":"D2+1","v":"2013-10-03"},null,{"$f":"F2+1","v":"2013-10-04"},null,{"$f":"H2+1","v":"2013-10-05"},null,{"$f":"J2+1","v":"2013-10-06"},null,{"$f":"L2+1","v":"2013-10-07"},null,{"$f":"N2+1","v":"2013-10-08"},null,{"$f":"P2+1","v":"2013-10-09"},null,{"$f":"R2+1","v":"2013-10-10"},null,{"$f":"T2+1","v":"2013-10-11"},null,{"$f":"V2+1","v":"2013-10-12"},null,{"$f":"X2+1","v":"2013-10-13"},null,{"$f":"Z2+1","v":"2013-10-14"},null,{"$f":"AB2+1","v":"2013-10-15"},null,{"$f":"AD2+1","v":"2013-10-16"},null,{"$f":"AF2+1","v":"2013-10-17"},null,{"$f":"AH2+1","v":"2013-10-18"},null,{"$f":"AJ2+1","v":"2013-10-19"},null,{"$f":"AL2+1","v":"2013-10-20"},null,{"$f":"AN2+1","v":"2013-10-21"},null,{"$f":"AP2+1","v":"2013-10-22"},null,{"$f":"AR2+1","v":"2013-10-23"},null,{"$f":"AT2+1","v":"2013-10-24"},null,{"$f":"AV2+1","v":"2013-10-25"},null,{"$f":"AX2+1","v":"2013-10-26"},null,{"$f":"AZ2+1","v":"2013-10-27"},null,{"$f":"BB2+1","v":"2013-10-28"},null,{"$f":"BD2+1","v":"2013-10-29"},null,{"$f":"BF2+1","v":"2013-10-30"},null,{"$f":"BH2+1","v":"2013-10-31"},null,{"$f":"BJ2+1","v":"2013-11-01"},null,{"$f":"BL2+1","v":"2013-11-02"},null,{"$f":"BN2+1","v":"2013-11-03"},null,{"$f":"BP2+1","v":"2013-11-04"},null,{"$f":"BR2+1","v":"2013-11-05"}]
[null,"Marko",10,"Marko",20,null,null,null,null,null,null,null,null,null,null,null,null,"Marko",null,"Marko",null,null,null,null,null,null,null,null,null,null,null,null,null,"Marko",null,"Marko",null,null,null,null,null,null,null,null,null,null,null,null,null,null,null,"Marko",null,"Marko"]
[null,"Ognjen",20,"Ognjen",null,null,null,null,null,null,null,null,null,null,null,null,null,"Ognjen",null,"Ognjen",null,null,null,null,null,null,null,null,null,null,null,null,null,"Ognjen",null,"Ognjen",null,null,null,null,null,null,null,null,null,null,null,null,null,null,null,"Ognjen",null,"Ognjen"]
["I","Petar",30,"Petar",null,null,null,null,null,null,null,null,null,null,null,null,null,"Petar",null,"Petar",null,null,null,null,null,null,null,null,null,null,null,null,null,"Petar",null,"Petar",null,null,null,null,null,null,null,null,null,null,null,null,null,null,null,"Petar",null,"Petar"]
[null,"Veselin",40,"Veselin",null,null,null,null,null,null,null,null,null,null,null,null,null,"Veselin",null,"Veselin",null,null,null,null,null,null,null,null,null,null,null,null,null,"Veselin",null,"Veselin",null,null,null,null,null,null,null,null,null,null,null,null,null,null,null,"Veselin",null,"Veselin"]
[null,"Slavko",50,"Slavko",null,null,null,null,null,null,null,null,null,null,null,null,null,"Slavko",null,"Slavko",null,null,null,null,null,null,null,null,null,null,null,null,null,"Slavko",null,"Slavko",null,null,null,null,null,null,null,null,null,null,null,null,null,null,null,"Slavko",null,"Slavko"]
[null,"Danilo",60,"Danilo",null,null,null,null,null,null,null,null,null,null,null,null,null,"Danilo",null,"Danilo",null,null,null,null,null,null,null,null,null,null,null,null,null,"Danilo",null,"Danilo",null,null,null,null,null,null,null,null,null,null,null,null,null,null,null,"Danilo",null,"Danilo"]
[null,null,null,null,null,null,null,"Marko",30,"Marko",40,null,null,null,null,null,null,null,null,null,null,null,null,"Marko",null,"Marko",null,null,null,null,null,null,null,null,null,null,null,null,null,"Marko",null,"Marko",null,null,null,null,null,null,null,null,null,null,null,null,null,"Marko",null,"Marko"]
[null,null,null,null,null,null,null,"Ognjen",null,"Ognjen",null,null,null,null,null,null,null,null,null,null,null,null,null,"Ognjen",null,"Ognjen",null,null,null,null,null,null,null,null,null,null,null,null,null,"Ognjen",null,"Ognjen",null,null,null,null,null,null,null,null,null,null,null,null,null,"Ognjen",null,"Ognjen"]
["II",null,null,null,null,null,null,"Petar",null,"Petar",null,null,null,null,null,null,null,null,null,null,null,null,null,"Petar",null,"Petar",null,null,null,null,null,null,null,null,null,null,null,null,null,"Petar",null,"Petar",null,null,null,null,null,null,null,null,null,null,null,null,null,"Petar",null,"Petar"]
[null,null,null,null,null,null,null,"Veselin",null,"Veselin",null,null,null,null,null,null,null,null,null,null,null,null,null,"Veselin",null,"Veselin",null,null,null,null,null,null,null,null,null,null,null,null,null,"Veselin",null,"Veselin",null,null,null,null,null,null,null,null,null,null,null,null,null,"Veselin",null,"Veselin"]
[null,null,null,null,null,null,null,"Slavko",null,"Slavko",null,null,null,null,null,null,null,null,null,null,null,null,null,"Slavko",null,"Slavko",null,null,null,null,null,null,null,null,null,null,null,null,null,"Slavko",null,"Slavko",null,null,null,null,null,null,null,null,null,null,null,null,null,"Slavko",null,"Slavko"]
[null,null,null,null,null,null,null,"Danilo",null,"Danilo",null,null,null,null,null,null,null,null,null,null,null,null,null,"Danilo",null,"Danilo",null,null,null,null,null,null,null,null,null,null,null,null,null,"Danilo",null,"Danilo",null,null,null,null,null,null,null,null,null,null,null,null,null,"Danilo",null,"Danilo"]
[null,null,null,null,null,null,null,null,null,null,null,"Marko",50,"Marko",60,null,null,null,null,null,null,null,null,null,null,null,null,"Marko",null,"Marko",null,null,null,null,null,null,null,null,null,null,null,null,null,"Marko",null,"Marko",null,null,null,null,null,null,null,null,null,null,null,null,null,"Marko",null,"Marko"]
[null,null,null,null,null,null,null,null,null,null,null,"Ognjen",null,"Ognjen",null,null,null,null,null,null,null,null,null,null,null,null,null,"Ognjen",null,"Ognjen",null,null,null,null,null,null,null,null,null,null,null,null,null,"Ognjen",null,"Ognjen",null,null,null,null,null,null,null,null,null,null,null,null,null,"Ognjen",null,"Ognjen"]
[null,null,null,null,null,null,null,null,null,null,null,"Petar",null,"Petar",null,null,null,null,null,null,null,null,null,null,null,null,null,"Petar",null,"Petar",null,null,null,null,null,null,null,null,null,null,null,null,null,"Petar",null,"Petar",null,null,null,null,null,null,null,null,null,null,null,null,null,"Petar",null,"Petar"]
["III",null,null,null,null,null,null,null,null,null,null,"Veselin",null,"Veselin",null,null,null,null,null,null,null,null,null,null,null,null,null,"Veselin",null,"Veselin",null,null,null,null,null,null,null,null,null,null,null,null,null,"Veselin",null,"Veselin",null,null,null,null,null,null,null,null,null,null,null,null,null,"Veselin",null,"Veselin"]
[null,null,null,null,null,null,null,null,null,null,null,"Slavko",null,"Slavko",null,null,null,null,null,null,null,null,null,null,null,null,null,"Slavko",null,"Slavko",null,null,null,null,null,null,null,null,null,null,null,null,null,"Slavko",null,"Slavko",null,null,null,null,null,null,null,null,null,null,null,null,null,"Slavko",null,"Slavko"]
[null,null,null,null,null,null,null,null,null,null,null,"Danilo",null,"Danilo",null,null,null,null,null,null,null,null,null,null,null,null,null,"Danilo",null,"Danilo",null,null,null,null,null,null,null,null,null,null,null,null,null,"Danilo",null,"Danilo",null,null,null,null,null,null,null,null,null,null,null,null,null,"Danilo",null,"Danilo"]