{"text_format":"1","workbook":"xlsx","n_sheets":2,"sheets":["Baza","Sheet2"],"not_rendered":{"charts":0,"images":0,"macros":1,"external_links":0,"defined_names":0,"comments":0,"pivot_tables":0},"unopened":[],"bounds":{"document_bytes":16777216,"sheet_cells":100000,"rows_first":2000,"rows_last":500,"rows_between":2000,"halvings":0,"cell_chars":16384,"cell_head_chars":4096},"cells_cut":0,"cells_raw":0,"read":"whole","date_system":"1900"}

{"sheet":"Baza","index":0,"n_rows":3,"n_cols":15,"rows_kept":3,"cut":false,"hidden":false,"merged":[]}
["ZS1406",375582,2,375583,2,375589,2,375586,1,375587,1]
["ZS216",394651,2,394652,2,394650,1,394653,1,394654,1,394655,1]
["ZS216E",394651,2,394652,2,394650,1,394653,1,394654,1,394655,1,384477,1]

{"sheet":"Sheet2","index":1,"n_rows":21,"n_cols":24,"rows_kept":21,"cut":false,"hidden":false,"merged":[]}
["Tip","Količina",null,null,null,null,null,null,null,null,null,null,null,null,null,null,null,null,null,null,null,null,"Šifra","Količina"]
[]
["ZS216",460,null,{"$f":"VLOOKUP($A3,Baza!$A:$T,2,)","v":394651},{"$f":"VLOOKUP($A3,Baza!$A:$T,3,)*$B3","v":920},{"$f":"VLOOKUP($A3,Baza!$A:$T,4,)","v":394652},{"$f":"VLOOKUP($A3,Baza!$A:$T,5,)*$B3","v":920},{"$f":"VLOOKUP($A3,Baza!$A:$T,6,)","v":394650},{"$f":"VLOOKUP($A3,Baza!$A:$T,7,)*$B3","v":460},{"$f":"VLOOKUP($A3,Baza!$A:$T,8,)","v":394653},{"$f":"VLOOKUP($A3,Baza!$A:$T,9,)*$B3","v":460},{"$f":"VLOOKUP($A3,Baza!$A:$T,10,)","v":394654},{"$f":"VLOOKUP($A3,Baza!$A:$T,11,)*$B3","v":460},{"$f":"VLOOKUP($A3,Baza!$A:$T,12,)","v":394655},{"$f":"VLOOKUP($A3,Baza!$A:$T,13,)*$B3","v":460},{"$f":"VLOOKUP($A3,Baza!$A:$T,14,)","v":0},{"$f":"VLOOKUP($A3,Baza!$A:$T,15,)*$B3","v":0},{"$f":"VLOOKUP($A3,Baza!$A:$T,16,)","v":0},{"$f":"VLOOKUP($A3,Baza!$A:$T,17,)*$B3","v":0},{"$f":"VLOOKUP($A3,Baza!$A:$T,18,)","v":0},{"$f":"VLOOKUP($A3,Baza!$A:$T,19,)*$B3","v":0},null,375582,{"$f":"Saberi(W3,$D$3:$U$7)","v":1660}]
["ZS1406",320,null,{"$f":"VLOOKUP($A4,Baza!$A:$T,2,)","v":375582},{"$f":"VLOOKUP($A4,Baza!$A:$T,3,)*$B4","v":640},{"$f":"VLOOKUP($A4,Baza!$A:$T,4,)","v":375583},{"$f":"VLOOKUP($A4,Baza!$A:$T,5,)*$B4","v":640},{"$f":"VLOOKUP($A4,Baza!$A:$T,6,)","v":375589},{"$f":"VLOOKUP($A4,Baza!$A:$T,7,)*$B4","v":640},{"$f":"VLOOKUP($A4,Baza!$A:$T,8,)","v":375586},{"$f":"VLOOKUP($A4,Baza!$A:$T,9,)*$B4","v":320},{"$f":"VLOOKUP($A4,Baza!$A:$T,10,)","v":375587},{"$f":"VLOOKUP($A4,Baza!$A:$T,11,)*$B4","v":320},{"$f":"VLOOKUP($A4,Baza!$A:$T,12,)","v":0},{"$f":"VLOOKUP($A4,Baza!$A:$T,13,)*$B4","v":0},{"$f":"VLOOKUP($A4,Baza!$A:$T,14,)","v":0},{"$f":"VLOOKUP($A4,Baza!$A:$T,15,)*$B4","v":0},{"$f":"VLOOKUP($A4,Baza!$A:$T,16,)","v":0},{"$f":"VLOOKUP($A4,Baza!$A:$T,17,)*$B4","v":0},{"$f":"VLOOKUP($A4,Baza!$A:$T,18,)","v":0},{"$f":"VLOOKUP($A4,Baza!$A:$T,19,)*$B4","v":0},null,375583,{"$f":"Saberi(W4,$D$3:$U$7)","v":1660}]
["ZS216",80,null,{"$f":"VLOOKUP($A5,Baza!$A:$T,2,)","v":394651},{"$f":"VLOOKUP($A5,Baza!$A:$T,3,)*$B5","v":160},{"$f":"VLOOKUP($A5,Baza!$A:$T,4,)","v":394652},{"$f":"VLOOKUP($A5,Baza!$A:$T,5,)*$B5","v":160},{"$f":"VLOOKUP($A5,Baza!$A:$T,6,)","v":394650},{"$f":"VLOOKUP($A5,Baza!$A:$T,7,)*$B5","v":80},{"$f":"VLOOKUP($A5,Baza!$A:$T,8,)","v":394653},{"$f":"VLOOKUP($A5,Baza!$A:$T,9,)*$B5","v":80},{"$f":"VLOOKUP($A5,Baza!$A:$T,10,)","v":394654},{"$f":"VLOOKUP($A5,Baza!$A:$T,11,)*$B5","v":80},{"$f":"VLOOKUP($A5,Baza!$A:$T,12,)","v":394655},{"$f":"VLOOKUP($A5,Baza!$A:$T,13,)*$B5","v":80},{"$f":"VLOOKUP($A5,Baza!$A:$T,14,)","v":0},{"$f":"VLOOKUP($A5,Baza!$A:$T,15,)*$B5","v":0},{"$f":"VLOOKUP($A5,Baza!$A:$T,16,)","v":0},{"$f":"VLOOKUP($A5,Baza!$A:$T,17,)*$B5","v":0},{"$f":"VLOOKUP($A5,Baza!$A:$T,18,)","v":0},{"$f":"VLOOKUP($A5,Baza!$A:$T,19,)*$B5","v":0},null,375586,830]
["ZS216e",150,null,{"$f":"VLOOKUP($A6,Baza!$A:$T,2,)","v":394651},{"$f":"VLOOKUP($A6,Baza!$A:$T,3,)*$B6","v":300},{"$f":"VLOOKUP($A6,Baza!$A:$T,4,)","v":394652},{"$f":"VLOOKUP($A6,Baza!$A:$T,5,)*$B6","v":300},{"$f":"VLOOKUP($A6,Baza!$A:$T,6,)","v":394650},{"$f":"VLOOKUP($A6,Baza!$A:$T,7,)*$B6","v":150},{"$f":"VLOOKUP($A6,Baza!$A:$T,8,)","v":394653},{"$f":"VLOOKUP($A6,Baza!$A:$T,9,)*$B6","v":150},{"$f":"VLOOKUP($A6,Baza!$A:$T,10,)","v":394654},{"$f":"VLOOKUP($A6,Baza!$A:$T,11,)*$B6","v":150},{"$f":"VLOOKUP($A6,Baza!$A:$T,12,)","v":394655},{"$f":"VLOOKUP($A6,Baza!$A:$T,13,)*$B6","v":150},{"$f":"VLOOKUP($A6,Baza!$A:$T,14,)","v":384477},{"$f":"VLOOKUP($A6,Baza!$A:$T,15,)*$B6","v":150},{"$f":"VLOOKUP($A6,Baza!$A:$T,16,)","v":0},{"$f":"VLOOKUP($A6,Baza!$A:$T,17,)*$B6","v":0},{"$f":"VLOOKUP($A6,Baza!$A:$T,18,)","v":0},{"$f":"VLOOKUP($A6,Baza!$A:$T,19,)*$B6","v":0},null,375587,830]
["ZS1406",510,null,{"$f":"VLOOKUP($A7,Baza!$A:$T,2,)","v":375582},{"$f":"VLOOKUP($A7,Baza!$A:$T,3,)*$B7","v":1020},{"$f":"VLOOKUP($A7,Baza!$A:$T,4,)","v":375583},{"$f":"VLOOKUP($A7,Baza!$A:$T,5,)*$B7","v":1020},{"$f":"VLOOKUP($A7,Baza!$A:$T,6,)","v":375589},{"$f":"VLOOKUP($A7,Baza!$A:$T,7,)*$B7","v":1020},{"$f":"VLOOKUP($A7,Baza!$A:$T,8,)","v":375586},{"$f":"VLOOKUP($A7,Baza!$A:$T,9,)*$B7","v":510},{"$f":"VLOOKUP($A7,Baza!$A:$T,10,)","v":375587},{"$f":"VLOOKUP($A7,Baza!$A:$T,11,)*$B7","v":510},{"$f":"VLOOKUP($A7,Baza!$A:$T,12,)","v":0},{"$f":"VLOOKUP($A7,Baza!$A:$T,13,)*$B7","v":0},{"$f":"VLOOKUP($A7,Baza!$A:$T,14,)","v":0},{"$f":"VLOOKUP($A7,Baza!$A:$T,15,)*$B7","v":0},{"$f":"VLOOKUP($A7,Baza!$A:$T,16,)","v":0},{"$f":"VLOOKUP($A7,Baza!$A:$T,17,)*$B7","v":0},{"$f":"VLOOKUP($A7,Baza!$A:$T,18,)","v":0},{"$f":"VLOOKUP($A7,Baza!$A:$T,19,)*$B7","v":0},null,375589,1660]
[null,null,null,null,null,null,null,null,null,null,null,null,null,null,null,null,null,null,null,null,null,null,384477,150]
[null,null,null,null,null,null,null,null,null,null,null,null,null,null,null,null,null,null,null,null,null,null,394650,690]
[null,null,null,null,null,null,null,null,null,null,null,null,null,null,null,null,null,null,null,null,null,null,394651,1380]
[null,null,null,null,null,null,null,null,null,null,null,null,null,null,null,null,null,null,null,null,null,null,394652,1380]
[null,null,null,null,null,null,null,null,null,null,null,null,null,null,null,null,null,null,null,null,null,null,394653,690]
[null,null,null,null,null,null,null,null,null,null,null,null,null,null,null,null,null,null,null,null,null,null,394654,690]
[null,null,null,null,null,null,null,null,null,null,null,null,null,null,null,null,null,null,null,null,null,null,394655,690]
[]
[null,null,null,null,null,null,null,null,null,null,null,null,null,null,null,null,null,null,null,null,null,"Opis funkcije"]
[null,null,null,null,null,null,null,null,null,null,null,null,null,null,null,null,null,null,null,null,null,"=Saberi(Sifra;Opseg)"]
[null,null,null,null,null,null,null,null,null,null,null,null,null,null,null,null,null,null,null,null,null,"Sifra","polje u kome ti se nalazi sifra za uslov sabiranja (u tvom slucaju to je recimo polje W1)"]
[null,null,null,null,null,null,null,null,null,null,null,null,null,null,null,null,null,null,null,null,null,"Opseg","opseg polja u kojima ti se nalaze sifre I vrednosti (u tvom slucaju to je opseg polja D3:U7)"]
[]
[null,null,null,null,null,null,null,null,null,null,null,null,null,null,null,null,null,null,null,null,null,"Napomena:","ovo je funkcija napisana u VBA (Alt+F11 I videti Module1) I poziva se kao I svaka druga ugradjena funkcija"]