{"text_format":"1","workbook":"xlsx","n_sheets":3,"sheets":["Utakmica","Igraci","Sheet3"],"not_rendered":{"charts":0,"images":0,"macros":1,"external_links":0,"defined_names":3,"comments":0,"pivot_tables":0},"unopened":[],"bounds":{"document_bytes":16777216,"sheet_cells":100000,"rows_first":2000,"rows_last":500,"rows_between":2000,"halvings":0,"cell_chars":16384,"cell_head_chars":4096},"cells_cut":0,"cells_raw":0,"read":"whole","date_system":"1900"}

{"sheet":"Utakmica","index":0,"n_rows":43,"n_cols":26,"rows_kept":43,"cut":false,"hidden":false,"merged":[[23,6,23,8],[23,9,23,11],[23,12,24,12],[3,3,3,5],[3,9,3,11],[3,6,3,8],[3,12,4,12],[22,3,22,12],[23,3,23,5],[0,5,0,17],[21,3,21,18],[1,3,1,18],[2,13,2,15],[3,15,4,15],[2,3,2,12],[3,13,4,13],[3,14,4,14],[2,16,4,16],[2,17,4,17],[2,18,4,18],[22,13,22,15],[22,16,24,16],[22,17,24,17],[13,21,16,27],[17,21,20,23],[17,25,20,27],[17,24,20,24],[21,21,26,23],[21,25,26,27],[21,24,26,24],[22,18,24,18],[23,13,24,13],[23,14,24,14],[23,15,24,15]]}
[null,null,null,null,null,{"$f":"IF(T43=0,\"\",\"GRESKA!\")","v":""}]
[null,null,null,{"$f":"IF(Igraci!D2=\"\",\"Domacin\",Igraci!D2)","v":"Domacin"}]
[null,null,null,"poeni",null,null,null,null,null,null,null,null,null,"skokovi",null,null,"assistencije","faulovi","izg.lopte"]
[null,null,null,"1poen",null,null,"2poena",null,null,"3poena",null,null,"ukupno","napad","odbrana","ukupno"]
[null,"Red. Broj",null,"pokusaj","pogodak","%","pokusaj","pogodak","%","pokusaj","pogodak","%"]
[null,{"$f":"Igraci!C4&\"\"&Igraci!D4&\"\"&Igraci!E4","v":"4."},null,null,null,{"$f":"IF(E6=0,0,E6/D6)","v":0},null,null,{"$f":"IF(H6=0,0,H6/G6)","v":0},null,null,{"$f":"IF(K6=0,0,K6/J6)","v":0},{"$f":"E6+2*H6+3*K6","v":0},null,null,{"$f":"N6+O6","v":0},null,null,null,{"$f":"IF(OR(F6>1,I6>1,L6>1),1,0)","v":0}]
[null,{"$f":"Igraci!C5&\"\"&Igraci!D5&\"\"&Igraci!E5","v":"5."},null,null,null,{"$f":"IF(E7=0,0,E7/D7)","v":0},null,null,{"$f":"IF(H7=0,0,H7/G7)","v":0},null,null,{"$f":"IF(K7=0,0,K7/J7)","v":0},{"$f":"E7+2*H7+3*K7","v":0},null,null,{"$f":"N7+O7","v":0},null,null,null,{"$f":"IF(OR(F7>1,I7>1,L7>1),1,0)","v":0}]
[null,{"$f":"Igraci!C6&\"\"&Igraci!D6&\"\"&Igraci!E6","v":"6."},null,null,null,0,null,null,0,null,null,0,0,null,null,0,null,null,null,0]
[null,{"$f":"Igraci!C7&\"\"&Igraci!D7&\"\"&Igraci!E7","v":"7."},null,null,null,0,null,null,0,null,null,0,0,null,null,0,null,null,null,0]
[null,{"$f":"Igraci!C8&\"\"&Igraci!D8&\"\"&Igraci!E8","v":"8."},null,null,null,0,null,null,0,null,null,0,0,null,null,0,null,null,null,0]
[null,{"$f":"Igraci!C9&\"\"&Igraci!D9&\"\"&Igraci!E9","v":"9."},null,null,null,0,null,null,0,null,null,0,0,null,null,0,null,null,null,0]
[null,{"$f":"Igraci!C10&\"\"&Igraci!D10&\"\"&Igraci!E10","v":"10."},null,null,null,0,null,null,0,null,null,0,0,null,null,0,null,null,null,0]
[null,{"$f":"Igraci!C11&\"\"&Igraci!D11&\"\"&Igraci!E11","v":"11."},null,null,null,0,null,null,0,null,null,0,0,null,null,0,null,null,null,0]
[null,{"$f":"Igraci!C12&\"\"&Igraci!D12&\"\"&Igraci!E12","v":"12."},null,null,null,0,null,null,0,null,null,0,0,null,null,0,null,null,null,0,null,"REZULTAT"]
[null,{"$f":"Igraci!C13&\"\"&Igraci!D13&\"\"&Igraci!E13","v":"13."},null,null,null,0,null,null,0,null,null,0,0,null,null,0,null,null,null,0]
[null,{"$f":"Igraci!C14&\"\"&Igraci!D14&\"\"&Igraci!E14","v":"14."},null,null,null,0,null,null,0,null,null,0,0,null,null,0,null,null,null,0]
[null,{"$f":"Igraci!C15&\"\"&Igraci!D15&\"\"&Igraci!E15","v":"15."},null,null,null,0,null,null,0,null,null,0,0,null,null,0,null,null,null,0]
[null,null,null,null,null,null,null,null,null,null,null,null,null,null,null,null,null,null,null,null,null,{"$f":"D2","v":"Domacin"},null,null,"-",{"$f":"D22","v":"Gost"}]
[null,"timski",null,{"$f":"SUM(D6:D17)","v":0},{"$f":"SUM(E6:E17)","v":0},0,{"$f":"SUM(G6:G17)","v":0},{"$f":"SUM(H6:H17)","v":0},{"$f":"IF(H19=0,0,H19/G19)","v":0},{"$f":"SUM(J6:J17)","v":0},{"$f":"SUM(K6:K17)","v":0},{"$f":"IF(K19=0,0,K19/J19)","v":0},0,{"$f":"SUM(N6:N17)","v":0},{"$f":"SUM(O6:O17)","v":0},0,{"$f":"SUM(Q6:Q17)","v":0},{"$f":"SUM(R6:R17)","v":0},{"$f":"SUM(S6:S17)","v":0}]
[]
[]
[null,null,null,{"$f":"IF(Igraci!H2=\"\",\"Gost\",Igraci!H2)","v":"Gost"},null,null,null,null,null,null,null,null,null,null,null,null,null,null,null,null,null,{"$f":"M19","v":0},null,null,"-",{"$f":"M39","v":0}]
[null,null,null,"poeni",null,null,null,null,null,null,null,null,null,"skokovi",null,null,"assistencije","faulovi","izg.lopte"]
[null,null,null,"1poen",null,null,"2poena",null,null,"3poena",null,null,"ukupno","napad","odbrana","ukupno"]
[null,"Red. Broj",null,"pokusaj","pogodak","%","pokusaj","pogodak","%","pokusaj","pogodak","%"]
[null,{"$f":"Igraci!G4&\"\"&Igraci!H4&\"\"&Igraci!I4","v":"4."},null,null,null,{"$f":"IF(E26=0,0,E26/D26)","v":0},null,null,{"$f":"IF(H26=0,0,H26/G26)","v":0},null,null,{"$f":"IF(K26=0,0,K26/J26)","v":0},{"$f":"E26+2*H26+3*K26","v":0},null,null,{"$f":"N26+O26","v":0},null,null,null,{"$f":"IF(OR(F26>1,I26>1,L26>1),1,0)","v":0}]
[null,{"$f":"Igraci!G5&\"\"&Igraci!H5&\"\"&Igraci!I5","v":"5."},null,null,null,{"$f":"IF(E27=0,0,E27/D27)","v":0},null,null,{"$f":"IF(H27=0,0,H27/G27)","v":0},null,null,{"$f":"IF(K27=0,0,K27/J27)","v":0},{"$f":"E27+2*H27+3*K27","v":0},null,null,{"$f":"N27+O27","v":0},null,null,null,{"$f":"IF(OR(F27>1,I27>1,L27>1),1,0)","v":0}]
[null,{"$f":"Igraci!G6&\"\"&Igraci!H6&\"\"&Igraci!I6","v":"6."},null,null,null,0,null,null,0,null,null,0,0,null,null,0,null,null,null,0]
[null,{"$f":"Igraci!G7&\"\"&Igraci!H7&\"\"&Igraci!I7","v":"7."},null,null,null,0,null,null,0,null,null,0,0,null,null,0,null,null,null,0]
[null,{"$f":"Igraci!G8&\"\"&Igraci!H8&\"\"&Igraci!I8","v":"8."},null,null,null,0,null,null,0,null,null,0,0,null,null,0,null,null,null,0]
[null,{"$f":"Igraci!G9&\"\"&Igraci!H9&\"\"&Igraci!I9","v":"9."},null,null,null,0,null,null,0,null,null,0,0,null,null,0,null,null,null,0]
[null,{"$f":"Igraci!G10&\"\"&Igraci!H10&\"\"&Igraci!I10","v":"10."},null,null,null,0,null,null,0,null,null,0,0,null,null,0,null,null,null,0]
[null,{"$f":"Igraci!G11&\"\"&Igraci!H11&\"\"&Igraci!I11","v":"11."},null,null,null,0,null,null,0,null,null,0,0,null,null,0,null,null,null,0]
[null,{"$f":"Igraci!G12&\"\"&Igraci!H12&\"\"&Igraci!I12","v":"12."},null,null,null,0,null,null,0,null,null,0,0,null,null,0,null,null,null,0]
[null,{"$f":"Igraci!G13&\"\"&Igraci!H13&\"\"&Igraci!I13","v":"13."},null,null,null,0,null,null,0,null,null,0,0,null,null,0,null,null,null,0]
[null,{"$f":"Igraci!G14&\"\"&Igraci!H14&\"\"&Igraci!I14","v":"14."},null,null,null,0,null,null,0,null,null,0,0,null,null,0,null,null,null,0]
[null,{"$f":"Igraci!G15&\"\"&Igraci!H15&\"\"&Igraci!I15","v":"15."},null,null,null,0,null,null,0,null,null,0,0,null,null,0,null,null,null,0]
[]
[null,"timski",null,{"$f":"SUM(D26:D37)","v":0},{"$f":"SUM(E26:E37)","v":0},{"$f":"IF(E39=0,0,E39/D39)","v":0},{"$f":"SUM(G26:G37)","v":0},{"$f":"SUM(H26:H37)","v":0},{"$f":"IF(H39=0,0,H39/G39)","v":0},{"$f":"SUM(J26:J37)","v":0},{"$f":"SUM(K26:K37)","v":0},{"$f":"IF(K39=0,0,K39/J39)","v":0},{"$f":"E39+2*H39+3*K39","v":0},{"$f":"SUM(N26:N37)","v":0},{"$f":"SUM(O26:O37)","v":0},{"$f":"N39+O39","v":0},{"$f":"SUM(Q26:Q37)","v":0},{"$f":"SUM(R26:R37)","v":0},{"$f":"SUM(S26:S37)","v":0}]
[]
[]
[]
[null,null,null,null,null,null,null,null,null,null,null,null,null,null,null,null,null,null,null,{"$f":"SUM(T6:T42)","v":0}]

{"sheet":"Igraci","index":1,"n_rows":101,"n_cols":9,"rows_kept":101,"cut":false,"hidden":false,"merged":[[1,3,1,4],[1,7,1,8]]}
[0,0]
[1,1,"Unesi naziv domaceg tima",null,null,null,"Unesi naziv gostujuceg tima"]
[2,2,"Redni broj","Ime","Prezime",null,"Redni broj","Ime","Prezime"]
[3,3,"4.",null,null,null,"4."]
[4,4,"5.",null,null,null,"5."]
[5,5,"6.",null,null,null,"6."]
[6,null,"7.",null,null,null,"7."]
[7,null,"8.",null,null,null,"8."]
[8,null,"9.",null,null,null,"9."]
[9,null,"10.",null,null,null,"10."]
[10,null,"11.",null,null,null,"11."]
[11,null,"12.",null,null,null,"12."]
[12,null,"13.",null,null,null,"13."]
[13,null,"14.",null,null,null,"14."]
[14,null,"15.",null,null,null,"15."]
[15]
[16]
[17]
[18]
[19]
[20]
[21]
[22]
[23]
[24]
[25]
[26]
[27]
[28]
[29]
[30]
[31]
[32]
[33]
[34]
[35]
[36]
[37]
[38]
[39]
[40]
[41]
[42]
[43]
[44]
[45]
[46]
[47]
[48]
[49]
[50]
[51]
[52]
[53]
[54]
[55]
[56]
[57]
[58]
[59]
[60]
[61]
[62]
[63]
[64]
[65]
[66]
[67]
[68]
[69]
[70]
[71]
[72]
[73]
[74]
[75]
[76]
[77]
[78]
[79]
[80]
[81]
[82]
[83]
[84]
[85]
[86]
[87]
[88]
[89]
[90]
[91]
[92]
[93]
[94]
[95]
[96]
[97]
[98]
[99]
[100]

{"sheet":"Sheet3","index":2,"n_rows":0,"n_cols":0,"rows_kept":0,"cut":false,"hidden":false,"merged":[]}