{"text_format":"1","workbook":"xlsx","n_sheets":3,"sheets":["Daten","Tabelle","chart"],"not_rendered":{"charts":2,"images":1,"macros":1,"external_links":0,"defined_names":11,"comments":1,"pivot_tables":0},"unopened":[],"bounds":{"document_bytes":16777216,"sheet_cells":100000,"rows_first":2000,"rows_last":500,"rows_between":2000,"halvings":0,"cell_chars":16384,"cell_head_chars":4096},"cells_cut":0,"cells_raw":0,"read":"whole","date_system":"1900"}

{"sheet":"Daten","index":0,"n_rows":48,"n_cols":103,"rows_kept":48,"cut":false,"hidden":false,"merged":[[1,96,6,96],[1,99,6,99]]}
["GDP",null,null,null,null,null,null,null,null,null,null,null,null,null,null,null,null,null,null,null,null,null,null,"Inflation",null,null,null,null,null,null,null,null,null,null,null,null,null,null,null,null,null,null,null,null,null,null,null,"Unemployment  Rate",null,null,null,null,null,null,null,null,null,null,null,null,null,null,null,null,null,null,null,null,null,null,null,"Industrial Production",null,null,null,null,null,null,null,null,null,null,null,null,null,null,null,null,null,null,null,null,null,null,null,null,"ew:uah09005",null,null,"ew:rol09005",null,null,"Serbia"]
["Croatia",null,"Bulgaria",null,"Czech Republic",null,"Hungary",null,"Romania",null,"Russia Real GDP",null,"Serbia",null,"Slovenia",null,"Ukraine",null,"Slovakia",null,"Poland",null,null,"Croatia",null,"Bulgaria",null,"Czech Republic",null,"Hungary",null,"Romania",null,"Russia",null,"Serbia Harmonized CPI",null,"Slovenia",null,"Ukraine",null,"Slovakia",null,"Poland",null,null,null,"Croatia",null,"Bulgaria",null,"Czech Republic",null,"Hungary",null,"Romania",null,"Russia ",null,"Serbia",null,"Slovenia",null,"Ukraine",null,"Slovakia",null,"Poland",null,null,null,"Croatia",null,"Bulgaria",null,"Czech Republic",null,"Hungary",null,"Romania",null,"Russia Industrial Production",null,"Serbia",null,"Slovenia Industrial Production",null,"Ukraine Industrial Production",null,"Slovakia Industrial Orders ",null,"Poland Sold Industrial Output ",null,null,null,null,"Ukraine, Unemployment, Registered rate",null,null,"Romania, Unemployment, Rate, Overall, Registered",null,null," Unemployment"]
["CQGRCOYY Index",null,"BUGSGDPQ Index",null,"CZGDPSAQ Index",null,"HUGSTQ Index",null,"ROGDPQOQ Index",null,"RUDPRYOY Index",null,"SEGDYTOT Index",null,"SVGDCYOY Index",null,"UADPRYOY Index",null,"SKGDLYOY Index",null,"POGDYOY Index",null,null,"CQPCIYOY Index",null,"BUCPIYOY Index",null,"CZCPYOY Index",null,"HUCPIYY Index",null,"ROCOPYOY Index",null,"RUCPIYOY Index",null,"SEHCYY Index",null,"SVCPYOY Index",null,"UACPTYOY Index",null,"SLCPLYOY Index",null,"POCPIYOY Index",null,null,null,"CQUER Index",null,"BUUERATE Index",null,"CZJLR Index",null,"HUEMUNR Index",null,null,null,"RUUER Index",null,null,null,"SVUER Index",null,null,null,"SLUER Index",null,"POUER Index",null,null,null,"CQIPTYOY Index",null,"BUIPYOY Index",null,"CZIPITYY Index",null,"HUIPIYOY Index",null,"ROIOUYOY Index",null,"RUIPRNYY Index",null,"SEIPYY Index",null,"SVIPTYOY Index",null,"UAIPYY Index",null,"SLIOINYY Index",null,"POISCYOY Index",null,null,null,null,null,null,null,null,null,null," Rate"]
["Date","PX_LAST","Date","PX_LAST","Date","PX_LAST","Date","PX_LAST","Date","PX_LAST","Date","PX_LAST","Date","PX_LAST","Date","PX_LAST","Date","PX_LAST","Date","PX_LAST","Date","PX_LAST",null,"Date","PX_LAST","Date","PX_LAST","Date","PX_LAST","Date","PX_LAST","Date","PX_LAST","Date","PX_LAST","Date","PX_LAST","Date","PX_LAST","Date","PX_LAST","Date","PX_LAST","Date","PX_LAST",null,null,"Date","PX_LAST","Date","PX_LAST","Date","PX_LAST","Date","PX_LAST",null,null,"Date","PX_LAST",null,null,"Date","PX_LAST",null,null,"Date","PX_LAST","Date","PX_LAST",null,null,"Date","PX_LAST","Date","PX_LAST","Date","PX_LAST","Date","PX_LAST","Date","PX_LAST","Date","PX_LAST","Date","PX_LAST","Date","PX_LAST","Date","PX_LAST","Date","PX_LAST","Date","PX_LAST"]
[{"$f":"_xll.BDH($A$3,$B$4:$B$4,\"11.03.2008\",\"11.04.2011\",\"Dir=V\",\"Dts=S\",\"Sort=A\",\"Quote=C\",\"QtTyp=Y\",\"Days=T\",\"Per=cd\",\"DtFmt=D\",\"UseDPDF=Y\",\"cols=2;rows=12\")","v":{"$error":"#NAME?"}},4.29,{"$f":"_xll.BDH($C$3,$D$4,\"11.03.2008\",\"11.04.2011\",\"Dir=V\",\"Dts=S\",\"Sort=A\",\"Quote=C\",\"QtTyp=Y\",\"Days=T\",\"Per=cd\",\"DtFmt=D\",\"UseDPDF=Y\",\"cols=2;rows=12\")","v":{"$error":"#NAME?"}},1.54,{"$f":"_xll.BDH($E$3,$F$4,\"11.03.2008\",\"11.04.2011\",\"Dir=V\",\"Dts=S\",\"Sort=A\",\"Quote=C\",\"QtTyp=Y\",\"Days=T\",\"Per=cd\",\"DtFmt=D\",\"UseDPDF=Y\",\"cols=2;rows=12\")","v":{"$error":"#NAME?"}},0.3,{"$f":"_xll.BDH($G$3,$H$4,\"11.03.2008\",\"11.04.2011\",\"Dir=V\",\"Dts=S\",\"Sort=A\",\"Quote=C\",\"QtTyp=Y\",\"Days=T\",\"Per=cd\",\"DtFmt=D\",\"UseDPDF=Y\",\"cols=2;rows=12\")","v":{"$error":"#NAME?"}},1.2,{"$f":"_xll.BDH($I$3,$J$4,\"11.03.2008\",\"11.04.2011\",\"Dir=V\",\"Dts=S\",\"Sort=A\",\"Quote=C\",\"QtTyp=Y\",\"Days=T\",\"Per=cd\",\"DtFmt=D\",\"UseDPDF=Y\",\"cols=2;rows=12\")","v":{"$error":"#NAME?"}},8.5500000000000007,{"$f":"_xll.BDH($K$3,$L$4,\"11.03.2008\",\"11.04.2011\",\"Dir=V\",\"Dts=S\",\"Sort=A\",\"Quote=C\",\"QtTyp=Y\",\"Days=T\",\"Per=cd\",\"DtFmt=D\",\"UseDPDF=Y\",\"cols=2;rows=12\")","v":{"$error":"#NAME?"}},9.1,{"$f":"_xll.BDH($M$3,$N$4,\"11.03.2008\",\"11.04.2011\",\"Dir=V\",\"Dts=S\",\"Sort=A\",\"Quote=C\",\"QtTyp=Y\",\"Days=T\",\"Per=cd\",\"DtFmt=D\",\"UseDPDF=Y\",\"cols=2;rows=12\")","v":{"$error":"#NAME?"}},8.9,{"$f":"_xll.BDH($O$3,$P$4,\"11.03.2008\",\"11.04.2011\",\"Dir=V\",\"Dts=S\",\"Sort=A\",\"Quote=C\",\"QtTyp=Y\",\"Days=T\",\"Per=cd\",\"DtFmt=D\",\"UseDPDF=Y\",\"cols=2;rows=12\")","v":{"$error":"#NAME?"}},5.7,{"$f":"_xll.BDH($Q$3,$R$4,\"11.03.2008\",\"11.04.2011\",\"Dir=V\",\"Dts=S\",\"Sort=A\",\"Quote=C\",\"QtTyp=Y\",\"Days=T\",\"Per=cd\",\"DtFmt=D\",\"UseDPDF=Y\",\"cols=2;rows=12\")","v":{"$error":"#NAME?"}},8.5,{"$f":"_xll.BDH($S$3,$T$4,\"11.03.2008\",\"11.04.2011\",\"Dir=V\",\"Dts=S\",\"Sort=A\",\"Quote=C\",\"QtTyp=Y\",\"Days=T\",\"Per=cd\",\"DtFmt=D\",\"UseDPDF=Y\",\"cols=2;rows=12\")","v":{"$error":"#NAME?"}},9.6999999999999993,{"$f":"_xll.BDH($U$3,$V$4,\"11.03.2008\",\"11.04.2011\",\"Dir=V\",\"Dts=S\",\"Sort=A\",\"Quote=C\",\"QtTyp=Y\",\"Days=T\",\"Per=cd\",\"DtFmt=D\",\"UseDPDF=Y\",\"cols=2;rows=12\")","v":{"$error":"#NAME?"}},6.3,null,{"$f":"_xll.BDH($X$3,$Y$4,\"11.03.2008\",\"11.04.2011\",\"Dir=V\",\"Dts=S\",\"Sort=A\",\"Quote=C\",\"QtTyp=Y\",\"Days=T\",\"Per=cd\",\"DtFmt=D\",\"UseDPDF=Y\",\"cols=2;rows=36\")","v":{"$error":"#NAME?"}},5.7,{"$f":"_xll.BDH($Z$3,$AA$4,\"11.03.2008\",\"11.04.2011\",\"Dir=V\",\"Dts=S\",\"Sort=A\",\"Quote=C\",\"QtTyp=Y\",\"Days=T\",\"Per=cd\",\"DtFmt=D\",\"UseDPDF=Y\",\"cols=2;rows=36\")","v":{"$error":"#NAME?"}},14.2,{"$f":"_xll.BDH($AB$3,$AC$4,\"11.03.2008\",\"11.04.2011\",\"Dir=V\",\"Dts=S\",\"Sort=A\",\"Quote=C\",\"QtTyp=Y\",\"Days=T\",\"Per=cd\",\"DtFmt=D\",\"UseDPDF=Y\",\"cols=2;rows=37\")","v":{"$error":"#NAME?"}},7.1,{"$f":"_xll.BDH($AD$3,$AE$4,\"11.03.2008\",\"11.04.2011\",\"Dir=V\",\"Dts=S\",\"Sort=A\",\"Quote=C\",\"QtTyp=Y\",\"Days=T\",\"Per=cd\",\"DtFmt=D\",\"UseDPDF=Y\",\"cols=2;rows=36\")","v":{"$error":"#NAME?"}},6.7,{"$f":"_xll.BDH($AF$3,$AG$4,\"11.03.2008\",\"11.04.2011\",\"Dir=V\",\"Dts=S\",\"Sort=A\",\"Quote=C\",\"QtTyp=Y\",\"Days=T\",\"Per=cd\",\"DtFmt=D\",\"UseDPDF=Y\",\"cols=2;rows=37\")","v":{"$error":"#NAME?"}},8.6300000000000008,{"$f":"_xll.BDH($AH$3,$AI$4,\"11.03.2008\",\"11.04.2011\",\"Dir=V\",\"Dts=S\",\"Sort=A\",\"Quote=C\",\"QtTyp=Y\",\"Days=T\",\"Per=cd\",\"DtFmt=D\",\"UseDPDF=Y\",\"cols=2;rows=37\")","v":{"$error":"#NAME?"}},13.3,{"$f":"_xll.BDH($AJ$3,$AK$4,\"11.03.2008\",\"11.04.2011\",\"Dir=V\",\"Dts=S\",\"Sort=A\",\"Quote=C\",\"QtTyp=Y\",\"Days=T\",\"Per=cd\",\"DtFmt=D\",\"UseDPDF=Y\",\"cols=2;rows=36\")","v":{"$error":"#NAME?"}},13.6,{"$f":"_xll.BDH($AL$3,$AM$4,\"11.03.2008\",\"11.04.2011\",\"Dir=V\",\"Dts=S\",\"Sort=A\",\"Quote=C\",\"QtTyp=Y\",\"Days=T\",\"Per=cd\",\"DtFmt=D\",\"UseDPDF=Y\",\"cols=2;rows=37\")","v":{"$error":"#NAME?"}},6.9,{"$f":"_xll.BDH($AN$3,$AO$4,\"11.03.2008\",\"11.04.2011\",\"Dir=V\",\"Dts=S\",\"Sort=A\",\"Quote=C\",\"QtTyp=Y\",\"Days=T\",\"Per=cd\",\"DtFmt=D\",\"UseDPDF=Y\",\"cols=2;rows=37\")","v":{"$error":"#NAME?"}},22.5,{"$f":"_xll.BDH($AP$3,$AQ$4,\"11.03.2008\",\"11.04.2011\",\"Dir=V\",\"Dts=S\",\"Sort=A\",\"Quote=C\",\"QtTyp=Y\",\"Days=T\",\"Per=cd\",\"DtFmt=D\",\"UseDPDF=Y\",\"cols=2;rows=36\")","v":{"$error":"#NAME?"}},4.2,{"$f":"_xll.BDH($AR$3,$AS$4,\"11.03.2008\",\"11.04.2011\",\"Dir=V\",\"Dts=S\",\"Sort=A\",\"Quote=C\",\"QtTyp=Y\",\"Days=T\",\"Per=cd\",\"DtFmt=D\",\"UseDPDF=Y\",\"cols=2;rows=36\")","v":{"$error":"#NAME?"}},4.0999999999999996,null,null,{"$f":"_xll.BDH($AV$3,$AW$4,\"11.03.2008\",\"11.04.2011\",\"Dir=V\",\"Dts=S\",\"Sort=A\",\"Quote=C\",\"QtTyp=Y\",\"Days=T\",\"Per=cd\",\"DtFmt=D\",\"UseDPDF=Y\",\"cols=2;rows=36\")","v":{"$error":"#NAME?"}},14.5,{"$f":"_xll.BDH($AX$3,$AY$4,\"11.03.2008\",\"11.04.2011\",\"Dir=V\",\"Dts=S\",\"Sort=A\",\"Quote=C\",\"QtTyp=Y\",\"Days=T\",\"Per=cd\",\"DtFmt=D\",\"UseDPDF=Y\",\"cols=2;rows=35\")","v":{"$error":"#NAME?"}},6.8,{"$f":"_xll.BDH($AZ$3,$BA$4,\"11.03.2008\",\"11.04.2011\",\"Dir=V\",\"Dts=S\",\"Sort=A\",\"Quote=C\",\"QtTyp=Y\",\"Days=T\",\"Per=cd\",\"DtFmt=D\",\"UseDPDF=Y\",\"cols=2;rows=37\")","v":{"$error":"#NAME?"}},5.6,{"$f":"_xll.BDH($BB$3,$BC$4,\"11.03.2008\",\"11.04.2011\",\"Dir=V\",\"Dts=S\",\"Sort=A\",\"Quote=C\",\"QtTyp=Y\",\"Days=T\",\"Per=cd\",\"DtFmt=D\",\"UseDPDF=Y\",\"cols=2;rows=36\")","v":{"$error":"#NAME?"}},8,null,null,{"$f":"_xll.BDH($BF$3,$BG$4,\"11.03.2008\",\"11.04.2011\",\"Dir=V\",\"Dts=S\",\"Sort=A\",\"Quote=C\",\"QtTyp=Y\",\"Days=T\",\"Per=cd\",\"DtFmt=D\",\"UseDPDF=Y\",\"cols=2;rows=36\")","v":{"$error":"#NAME?"}},6.5,null,null,{"$f":"_xll.BDH($BJ$3,$BK$4,\"11.03.2008\",\"11.04.2011\",\"Dir=V\",\"Dts=S\",\"Sort=A\",\"Quote=C\",\"QtTyp=Y\",\"Days=T\",\"Per=cd\",\"DtFmt=D\",\"UseDPDF=Y\",\"cols=2;rows=35\")","v":{"$error":"#NAME?"}},6.9,null,null,{"$f":"_xll.BDH($BN$3,$BO$4,\"11.03.2008\",\"11.04.2011\",\"Dir=V\",\"Dts=S\",\"Sort=A\",\"Quote=C\",\"QtTyp=Y\",\"Days=T\",\"Per=cd\",\"DtFmt=D\",\"UseDPDF=Y\",\"cols=2;rows=36\")","v":{"$error":"#NAME?"}},7.6,{"$f":"_xll.BDH($BP$3,$BQ$4,\"11.03.2008\",\"11.04.2011\",\"Dir=V\",\"Dts=S\",\"Sort=A\",\"Quote=C\",\"QtTyp=Y\",\"Days=T\",\"Per=cd\",\"DtFmt=D\",\"UseDPDF=Y\",\"cols=2;rows=36\")","v":{"$error":"#NAME?"}},10.9,null,null,{"$f":"_xll.BDH($BT$3,$BU$4,\"11.03.2008\",\"11.04.2011\",\"Dir=V\",\"Dts=S\",\"Sort=A\",\"Quote=C\",\"QtTyp=Y\",\"Days=T\",\"Per=cd\",\"DtFmt=D\",\"UseDPDF=Y\",\"cols=2;rows=36\")","v":{"$error":"#NAME?"}},2.2000000000000002,{"$f":"_xll.BDH($BV$3,$BW$4,\"11.03.2008\",\"11.04.2011\",\"Dir=V\",\"Dts=S\",\"Sort=A\",\"Quote=C\",\"QtTyp=Y\",\"Days=T\",\"Per=cd\",\"DtFmt=D\",\"UseDPDF=Y\",\"cols=2;rows=36\")","v":{"$error":"#NAME?"}},-1.1000000000000001,{"$f":"_xll.BDH($BX$3,$BY$4,\"11.03.2008\",\"11.04.2011\",\"Dir=V\",\"Dts=S\",\"Sort=A\",\"Quote=C\",\"QtTyp=Y\",\"Days=T\",\"Per=cd\",\"DtFmt=D\",\"UseDPDF=Y\",\"cols=2;rows=36\")","v":{"$error":"#NAME?"}},-4.5999999999999996,{"$f":"_xll.BDH($BZ$3,$CA$4,\"11.03.2008\",\"11.04.2011\",\"Dir=V\",\"Dts=S\",\"Sort=A\",\"Quote=C\",\"QtTyp=Y\",\"Days=T\",\"Per=cd\",\"DtFmt=D\",\"UseDPDF=Y\",\"cols=2;rows=36\")","v":{"$error":"#NAME?"}},4.8,{"$f":"_xll.BDH($CB$3,$CC$4,\"11.03.2008\",\"11.04.2011\",\"Dir=V\",\"Dts=S\",\"Sort=A\",\"Quote=C\",\"QtTyp=Y\",\"Days=T\",\"Per=cd\",\"DtFmt=D\",\"UseDPDF=Y\",\"cols=2;rows=26\")","v":{"$error":"#NAME?"}},-12.04,{"$f":"_xll.BDH($CD$3,$CE$4,\"11.03.2008\",\"11.04.2011\",\"Dir=V\",\"Dts=S\",\"Sort=A\",\"Quote=C\",\"QtTyp=Y\",\"Days=T\",\"Per=cd\",\"DtFmt=D\",\"UseDPDF=Y\",\"cols=2;rows=36\")","v":{"$error":"#NAME?"}},3.5,{"$f":"_xll.BDH($CF$3,$CG$4,\"11.03.2008\",\"11.04.2011\",\"Dir=V\",\"Dts=S\",\"Sort=A\",\"Quote=C\",\"QtTyp=Y\",\"Days=T\",\"Per=cd\",\"DtFmt=D\",\"UseDPDF=Y\",\"cols=2;rows=36\")","v":{"$error":"#NAME?"}},2.6,{"$f":"_xll.BDH($CH$3,$CI$4,\"11.03.2008\",\"11.04.2011\",\"Dir=V\",\"Dts=S\",\"Sort=A\",\"Quote=C\",\"QtTyp=Y\",\"Days=T\",\"Per=cd\",\"DtFmt=D\",\"UseDPDF=Y\",\"cols=2;rows=36\")","v":{"$error":"#NAME?"}},1,{"$f":"_xll.BDH($CJ$3,$CK$4,\"11.03.2008\",\"11.04.2011\",\"Dir=V\",\"Dts=S\",\"Sort=A\",\"Quote=C\",\"QtTyp=Y\",\"Days=T\",\"Per=cd\",\"DtFmt=D\",\"UseDPDF=Y\",\"cols=2;rows=36\")","v":{"$error":"#NAME?"}},5.8,{"$f":"_xll.BDH($CL$3,$CM$4,\"11.03.2008\",\"11.04.2011\",\"Dir=V\",\"Dts=S\",\"Sort=A\",\"Quote=C\",\"QtTyp=Y\",\"Days=T\",\"Per=cd\",\"DtFmt=D\",\"UseDPDF=Y\",\"cols=2;rows=25\")","v":{"$error":"#NAME?"}},-36.9,{"$f":"_xll.BDH($CN$3,$CO$4,\"11.03.2008\",\"11.04.2011\",\"Dir=V\",\"Dts=S\",\"Sort=A\",\"Quote=C\",\"QtTyp=Y\",\"Days=T\",\"Per=cd\",\"DtFmt=D\",\"UseDPDF=Y\",\"cols=2;rows=36\")","v":{"$error":"#NAME?"}},1]
["2008-06-30",0,"2008-06-30",1.29,"2008-06-30",0.7,"2008-06-30",-0.2,"2008-06-30",9.64,"2008-06-30",7.7,"2008-06-30",6.3,"2008-06-30",5.5,"2008-06-30",6.2,"2008-06-30",7.3,"2008-06-30",6.1,null,"2008-04-30",5.7,"2008-04-30",14.6,"2008-04-30",6.8,"2008-04-30",6.6,"2008-04-30",8.6199999999999992,"2008-04-30",14.3,"2008-04-30",14.6,"2008-04-30",6.5,"2008-04-30",24.4,"2008-04-30",4.3,"2008-04-30",4,null,null,"2008-04-30",13.9,"2008-04-30",6.5,"2008-04-30",5.2,"2008-04-30",7.7,null,null,"2008-04-30",6,null,null,"2008-04-30",6.6,null,null,"2008-04-30",7.4,"2008-04-30",10.3,null,null,"2008-04-30",3.7,"2008-04-30",8.9,"2008-04-30",10.1,"2008-04-30",6.3,"2009-02-28",-12,"2008-04-30",5.7,"2008-04-30",3.1,"2008-04-30",6.9,"2008-04-30",8.3000000000000007,"2009-02-28",-36.799999999999997,"2008-04-30",15.1]
["2008-09-30",1.6,"2008-09-30",1.37,"2008-09-30",0.2,"2008-09-30",-1,"2008-09-30",9.44,"2008-09-30",6.4,"2008-09-30",4.5999999999999996,"2008-09-30",3.9,"2008-09-30",4.3,"2008-09-30",6.8,"2008-09-30",5.2,null,"2008-05-31",6.4,"2008-05-31",15,"2008-05-31",6.8,"2008-05-31",7,"2008-05-31",8.4600000000000009,"2008-05-31",15.1,"2008-05-31",14.5,"2008-05-31",6.4,"2008-05-31",25.8,"2008-05-31",4.5999999999999996,"2008-05-31",4.4000000000000004,null,null,"2008-05-31",13.2,"2008-05-31",6.2,"2008-05-31",5,"2008-05-31",7.7,null,null,"2008-05-31",5.4,null,null,"2008-05-31",6.5,null,null,"2008-05-31",7.4,"2008-05-31",9.8000000000000007,null,null,"2008-05-31",-1.9,"2008-05-31",6.6,"2008-05-31",-0.1,"2008-05-31",6.5,"2009-03-31",-12.1,"2008-05-31",4.5,"2008-05-31",3.8,"2008-05-31",1.2,"2008-05-31",8.3000000000000007,"2009-03-31",-27.4,"2008-05-31",2.4]
["2008-12-31",0.2,"2008-12-31",0.55000000000000004,"2008-12-31",-0.9,"2008-12-31",-2.1,"2008-12-31",3.13,"2008-12-31",-1.1000000000000001,"2008-12-31",2.9,"2008-12-31",-0.8,"2008-12-31",-7.8,"2008-12-31",1.6,"2008-12-31",3.2,null,"2008-06-30",7.6,"2008-06-30",15.3,"2008-06-30",6.7,"2008-06-30",6.7,"2008-06-30",8.61,"2008-06-30",15.1,"2008-06-30",14.9,"2008-06-30",7,"2008-06-30",26.4,"2008-06-30",4.5999999999999996,"2008-06-30",4.5999999999999996,null,null,"2008-06-30",12.5,"2008-06-30",6,"2008-06-30",5,"2008-06-30",7.6,null,null,"2008-06-30",5.6,null,null,"2008-06-30",6.4,null,null,"2008-06-30",7.42,"2008-06-30",9.4,null,null,"2008-06-30",4.8,"2008-06-30",4.2,"2008-06-30",2,"2008-06-30",0.8,"2009-04-30",-9.5,"2008-06-30",2.8,"2008-06-30",1.8,"2008-06-30",1.9,"2008-06-30",5.2,"2009-04-30",-37.6,"2008-06-30",7.3]
["2009-03-31",-6.7,"2009-03-31",-6.33,"2009-03-31",-3.6,"2009-03-31",-3.2,"2009-03-31",-6.25,"2009-03-31",-9.3000000000000007,"2009-03-31",-4.3,"2009-03-31",-8.1999999999999993,"2009-03-31",-20.2,"2009-03-31",-5.6,"2009-03-31",0.5,null,"2008-07-31",8.4,"2008-07-31",14.5,"2008-07-31",6.9,"2008-07-31",6.7,"2008-07-31",9.0399999999999991,"2008-07-31",14.7,"2008-07-31",13.9,"2008-07-31",6.9,"2008-07-31",26.4,"2008-07-31",4.8,"2008-07-31",4.8,null,null,"2008-07-31",12.4,"2008-07-31",5.96,"2008-07-31",5.3,"2008-07-31",7.5,null,null,"2008-07-31",5.7,null,null,"2008-07-31",6.5,null,null,"2008-07-31",7.47,"2008-07-31",9.1999999999999993,null,null,"2008-07-31",0.3,"2008-07-31",4.4000000000000004,"2008-07-31",5,"2008-07-31",1.2,"2009-05-31",-9.8000000000000007,"2008-07-31",1.9,"2008-07-31",5.4,"2008-07-31",-4.5999999999999996,"2008-07-31",5.0999999999999996,"2009-05-31",-30.8,"2008-07-31",5.9]
["2009-06-30",-6.9,"2009-06-30",-0.04,"2009-06-30",-0.5,"2009-06-30",-1.3,"2009-06-30",-8.6999999999999993,"2009-06-30",-11,"2009-06-30",-4.5,"2009-06-30",-9.1999999999999993,"2009-06-30",-17.8,"2009-06-30",-5.5,"2009-06-30",1,null,"2008-08-31",7.4,"2008-08-31",11.2,"2008-08-31",6.5,"2008-08-31",6.5,"2008-08-31",8.02,"2008-08-31",15,"2008-08-31",11.5,"2008-08-31",6,"2008-08-31",26.4,"2008-08-31",5,"2008-08-31",4.8,null,null,"2008-08-31",12.3,"2008-08-31",5.89,"2008-08-31",5.3,"2008-08-31",7.5,null,null,"2008-08-31",5.8,null,null,"2008-08-31",6.5,null,null,"2008-08-31",7.36,"2008-08-31",9.1,null,null,"2008-08-31",-0.5,"2008-08-31",-6,"2008-08-31",-7.4,"2008-08-31",-5,"2009-06-30",-8.9,"2008-08-31",1,"2008-08-31",-4.4000000000000004,"2008-08-31",-2.5,"2008-08-31",-0.5,"2009-06-30",-23.6,"2008-08-31",-3.7,null,null,"2007-12-31",2.2999999999999998,null,"2007-12-31",4.0999999999999996,null,"2009-10-31",17.399999999999999]
["2009-09-30",-5.7,"2009-09-30",-0.15,"2009-09-30",0.5,"2009-09-30",-0.8,"2009-09-30",-7.1,"2009-09-30",-8.6,"2009-09-30",-2.2000000000000002,"2009-09-30",-8.8000000000000007,"2009-09-30",-16,"2009-09-30",-4.9000000000000004,"2009-09-30",1.7,null,"2008-09-30",6.4,"2008-09-30",11,"2008-09-30",6.6,"2008-09-30",5.7,"2008-09-30",7.3,"2008-09-30",15,"2008-09-30",10.9,"2008-09-30",5.5,"2008-09-30",26.2,"2008-09-30",5.4,"2008-09-30",4.5,null,null,"2008-09-30",12.6,"2008-09-30",5.8,"2008-09-30",5.3,"2008-09-30",7.7,null,null,"2008-09-30",6.2,null,null,"2008-09-30",6.3,null,null,"2008-09-30",7.54,"2008-09-30",8.9,null,null,"2008-09-30",0.5,"2008-09-30",2.5,"2008-09-30",4.3,"2008-09-30",-3.6,"2009-07-31",-6.9,"2008-09-30",2.8,"2008-09-30",2.1,"2008-09-30",1.5,"2008-09-30",-4.5,"2009-07-31",-25.5,"2008-09-30",6.8,null,null,"2008-01-31",2.4,null,"2008-01-31",4.2,null,"2010-04-30",20.100000000000001]
["2009-12-31",-4.5999999999999996,"2009-12-31",-0.17,"2009-12-31",0.4,"2009-12-31",0.1,"2009-12-31",-6.5,"2009-12-31",-2.9,"2009-12-31",-1.7,"2009-12-31",-5.7,"2009-12-31",-6.8,"2009-12-31",-2.6,"2009-12-31",3.2,null,"2008-10-31",5.9,"2008-10-31",10.9,"2008-10-31",6,"2008-10-31",5.0999999999999996,"2008-10-31",7.39,"2008-10-31",14.2,"2008-10-31",12.3,"2008-10-31",4.9000000000000004,"2008-10-31",25.8,"2008-10-31",5.0999999999999996,"2008-10-31",4.2,null,null,"2008-10-31",12.9,"2008-10-31",5.85,"2008-10-31",5.2,"2008-10-31",7.7,null,null,"2008-10-31",6.6,null,null,"2008-10-31",6.6,null,null,"2008-10-31",7.51,"2008-10-31",8.8000000000000007,null,null,"2008-10-31",0.1,"2008-10-31",-2.2999999999999998,"2008-10-31",-9.8000000000000007,"2008-10-31",-5.5,"2009-08-31",-5.9,"2008-10-31",-1.6,"2008-10-31",-3.4,"2008-10-31",-3.1,"2008-10-31",-19.8,"2009-08-31",-2.9,"2008-10-31",-0.1,null,null,"2008-02-29",2.4,null,"2008-02-29",4.2,null,"2010-10-31",20]
["2010-03-31",-2.2999999999999998,"2010-03-31",-0.5,"2010-03-31",0.7,"2010-03-31",1.4,"2010-03-31",-2.2000000000000002,"2010-03-31",3.1,"2010-03-31",0.4,"2010-03-31",-1.2,"2010-03-31",4.8,"2010-03-31",4.7,"2010-03-31",3,null,"2008-11-30",4.7,"2008-11-30",9.1,"2008-11-30",4.4000000000000004,"2008-11-30",4.2,"2008-11-30",6.74,"2008-11-30",13.8,"2008-11-30",10.9,"2008-11-30",3.1,"2008-11-30",25.5,"2008-11-30",4.9000000000000004,"2008-11-30",3.7,null,null,"2008-11-30",13.2,"2008-11-30",5.85,"2008-11-30",5.3,"2008-11-30",7.8,null,null,"2008-11-30",7,null,null,"2008-11-30",6.7,null,null,"2008-11-30",7.8,"2008-11-30",9.1,null,null,"2008-11-30",-1.7,"2008-11-30",-9.3000000000000007,"2008-11-30",-18,"2008-11-30",-8.4,"2009-09-30",-4,"2008-11-30",-12.5,"2008-11-30",-2.6,"2008-11-30",-12,"2008-11-30",-28.6,"2009-09-30",-11.9,"2008-11-30",-9.1999999999999993,null,null,"2008-03-31",2.2999999999999998,null,"2008-03-31",4.0999999999999996]
["2010-06-30",-2.2999999999999998,"2010-06-30",0.5,"2010-06-30",0.7,"2010-06-30",0.1,"2010-06-30",-0.4,"2010-06-30",5.2,"2010-06-30",1.7,"2010-06-30",2.1,"2010-06-30",5.5,"2010-06-30",4.2,"2010-06-30",3.5,null,"2008-12-31",2.9,"2008-12-31",7.8,"2008-12-31",3.6,"2008-12-31",3.5,"2008-12-31",6.3,"2008-12-31",13.3,"2008-12-31",8.6,"2008-12-31",2.1,"2008-12-31",25.2,"2008-12-31",4.4000000000000004,"2008-12-31",3.3,null,null,"2008-12-31",13.7,"2008-12-31",6.27,"2008-12-31",6,"2008-12-31",8,null,null,"2008-12-31",7.8,null,null,"2008-12-31",7,null,null,"2008-12-31",8.39,"2008-12-31",9.5,null,null,"2008-12-31",-5,"2008-12-31",-8.3000000000000007,"2008-12-31",-12.8,"2008-12-31",-23,"2009-10-31",-1.5,"2008-12-31",-12.8,"2008-12-31",-8.9,"2008-12-31",-17.5,"2008-12-31",-26.6,"2009-10-31",-6,"2008-12-31",-4.4000000000000004,null,null,"2008-04-30",2.2000000000000002,null,"2008-04-30",3.9]
["2010-09-30",0.3,"2010-09-30",0.7,"2010-09-30",0.9,"2010-09-30",0.5,"2010-09-30",-2.2000000000000002,"2010-09-30",3.1,"2010-09-30",3.1,"2010-09-30",1.7,"2010-09-30",3.6,"2010-09-30",3.8,"2010-09-30",4.2,null,"2009-01-31",3.4,"2009-01-31",7.1,"2009-01-31",2.2000000000000002,"2009-01-31",3.1,"2009-01-31",6.71,"2009-01-31",13.4,"2009-01-31",10,"2009-01-31",1.6,"2009-01-31",22.3,"2009-01-31",3.4,"2009-01-31",2.8,null,null,"2009-01-31",14.3,"2009-01-31",6.5,"2009-01-31",6.8,"2009-01-31",8.4,null,null,"2009-01-31",8.6999999999999993,null,null,"2009-01-31",7.8,null,null,"2009-01-31",9.0299999999999994,"2009-01-31",10.4,null,null,"2009-01-31",-11.5,"2009-01-31",-18.399999999999999,"2009-01-31",-22.8,"2009-01-31",-20.7,"2009-11-30",3,"2009-01-31",-16.899999999999999,"2009-01-31",-17.100000000000001,"2009-01-31",-17.399999999999999,"2009-01-31",-34.1,"2009-11-30",3.6,"2009-01-31",-15.3,null,null,"2008-05-30",2,null,"2008-05-30",3.7]
["2010-12-31",0.3,"2010-12-31",2.1,"2010-12-31",0.3,"2010-12-31",0.2,"2010-12-31",-0.6,"2010-12-31",4.5,"2010-12-31",1.7,"2010-12-31",2.1,"2010-12-31",3.3,"2010-12-31",3.5,"2010-12-31",4.4000000000000004,null,"2009-02-28",4.2,"2009-02-28",6,"2009-02-28",2,"2009-02-28",3,"2009-02-28",6.89,"2009-02-28",13.9,"2009-02-28",10.7,"2009-02-28",2.1,"2009-02-28",20.9,"2009-02-28",3,"2009-02-28",3.3,null,null,"2009-02-28",14.8,"2009-02-28",6.6899999999999995,"2009-02-28",7.4,"2009-02-28",9.1,null,null,"2009-02-28",9.4,null,null,"2009-02-28",8.1999999999999993,null,null,"2009-02-28",9.7200000000000006,"2009-02-28",10.9,null,null,"2009-02-28",-8.3000000000000007,"2009-02-28",-17.7,"2009-02-28",-23,"2009-02-28",-25.3,"2009-12-31",8.3000000000000007,"2009-02-28",-16.7,"2009-02-28",-19.7,"2009-02-28",-22.3,"2009-02-28",-31.6,"2009-12-31",22.8,"2009-02-28",-14.6,null,null,"2008-06-30",1.9,null,"2008-06-30",3.7]
[null,null,null,null,null,null,null,null,null,null,null,null,null,null,null,null,null,null,null,null,null,null,null,"2009-03-31",3.8,"2009-03-31",4.9000000000000004,"2009-03-31",2.2999999999999998,"2009-03-31",2.9,"2009-03-31",6.71,"2009-03-31",14,"2009-03-31",9.4,"2009-03-31",1.8,"2009-03-31",18.100000000000001,"2009-03-31",2.5,"2009-03-31",3.6,null,null,"2009-03-31",15,"2009-04-30",7.04,"2009-03-31",7.7,"2009-03-31",9.6999999999999993,null,null,"2009-03-31",9.1999999999999993,null,null,"2009-03-31",8.4,null,null,"2009-03-31",10.33,"2009-03-31",11.1,null,null,"2009-03-31",-10,"2009-03-31",-16.899999999999999,"2009-03-31",-12.2,"2009-03-31",-19.3,"2010-01-31",7.1,"2009-03-31",-13.2,"2009-03-31",-14.2,"2009-03-31",-18.5,"2009-03-31",-30.4,"2010-01-31",24.6,"2009-03-31",-1.9,null,null,"2008-07-31",1.8,null,"2008-07-31",3.7]
[null,null,null,null,null,null,null,null,null,null,null,null,null,null,null,null,null,null,null,null,null,null,null,"2009-04-30",3.9,"2009-04-30",4.8,"2009-04-30",1.8,"2009-04-30",3.4,"2009-04-30",6.45,"2009-04-30",13.2,"2009-04-30",8.8000000000000007,"2009-04-30",1.1000000000000001,"2009-04-30",15.6,"2009-04-30",2.1,"2009-04-30",4,null,null,"2009-04-30",14.8,"2009-05-31",7.08,"2009-04-30",7.9,"2009-04-30",9.9,null,null,"2009-04-30",8.8000000000000007,null,null,"2009-04-30",8.8000000000000007,null,null,"2009-04-30",10.92,"2009-04-30",10.9,null,null,"2009-04-30",-5,"2009-04-30",-20.2,"2009-04-30",-22.1,"2009-04-30",-25.4,"2010-02-28",1.4,"2009-04-30",-14.2,"2009-04-30",-21.1,"2009-04-30",-24.9,"2009-04-30",-31.8,"2010-02-28",32.299999999999997,"2009-04-30",-12.2,null,null,"2008-08-29",1.8,null,"2008-08-29",3.8]
[null,null,null,null,null,null,null,null,null,null,null,null,null,null,null,null,null,null,null,null,null,null,null,"2009-05-31",2.7,"2009-05-31",3.9,"2009-05-31",1.3,"2009-05-31",3.8,"2009-05-31",5.95,"2009-05-31",12.3,"2009-05-31",9.1,"2009-05-31",0.7,"2009-05-31",14.7,"2009-05-31",1.9,"2009-05-31",3.6,null,null,"2009-05-31",14.4,"2009-06-30",7.3,"2009-05-31",7.9,"2009-05-31",9.8000000000000007,null,null,"2009-05-31",8.5,null,null,"2009-05-31",8.9,null,null,"2009-05-31",11.39,"2009-05-31",10.7,null,null,"2009-05-31",-7.3,"2009-05-31",-22,"2009-05-31",-21.3,"2009-05-31",-22.1,"2010-03-31",5.2,"2009-05-31",-14.5,"2009-05-31",-19.5,"2009-05-31",-19.8,"2009-05-31",-31.8,"2010-03-31",31.9,"2009-05-31",-5.2,null,null,"2008-09-30",1.8,null,"2008-09-30",3.9]
[null,null,null,null,null,null,null,null,null,null,null,null,null,null,null,null,null,null,null,null,null,null,null,"2009-06-30",2.1,"2009-06-30",3.7,"2009-06-30",1.2,"2009-06-30",3.7,"2009-06-30",5.86,"2009-06-30",11.9,"2009-06-30",8.3000000000000007,"2009-06-30",0.3,"2009-06-30",15,"2009-06-30",1.8,"2009-06-30",3.5,null,null,"2009-06-30",14,"2009-07-31",7.62,"2009-06-30",8,"2009-06-30",9.6,null,null,"2009-06-30",8.3000000000000007,null,null,"2009-06-30",9.1,null,null,"2009-06-30",11.81,"2009-06-30",10.6,null,null,"2009-06-30",-12.4,"2009-06-30",-18.2,"2009-06-30",-11.8,"2009-06-30",-18.600000000000001,"2010-04-30",3,"2009-06-30",-12,"2009-06-30",-14.1,"2009-06-30",-22.3,"2009-06-30",-27.5,"2010-04-30",35.9,"2009-06-30",-4.5,null,null,"2008-10-31",1.9,null,"2008-10-31",4]
[null,null,null,null,null,null,null,null,null,null,null,null,null,null,null,null,null,null,null,null,null,null,null,"2009-07-31",1.2,"2009-07-31",1.6,"2009-07-31",0.3,"2009-07-31",5.0999999999999996,"2009-07-31",5.0599999999999996,"2009-07-31",12,"2009-07-31",8.5,"2009-07-31",-0.6,"2009-07-31",15.5,"2009-07-31",1.7,"2009-07-31",3.6,null,null,"2009-07-31",14,"2009-08-31",7.88,"2009-07-31",8.4,"2009-07-31",9.6999999999999993,null,null,"2009-07-31",8.5,null,null,"2009-07-31",9.4,null,null,"2009-07-31",12.07,"2009-07-31",10.7,null,null,"2009-07-31",-9.1,"2009-07-31",-18.7,"2009-07-31",-18.2,"2009-07-31",-19.399999999999999,"2010-05-31",4.0999999999999996,"2009-07-31",-9.8000000000000007,"2009-07-31",-15.4,"2009-07-31",-20.399999999999999,"2009-07-31",-26.7,"2010-05-31",41.8,"2009-07-31",-4.4000000000000004,null,null,"2008-11-28",2.2999999999999998,null,"2008-11-28",4.0999999999999996]
[null,null,null,null,null,null,null,null,null,null,null,null,null,null,null,null,null,null,null,null,null,null,null,"2009-08-31",1.5,"2009-08-31",1.3,"2009-08-31",0.2,"2009-08-31",5,"2009-08-31",4.96,"2009-08-31",11.6,"2009-08-31",8,"2009-08-31",0,"2009-08-31",15.3,"2009-08-31",1.3,"2009-08-31",3.7,null,null,"2009-08-31",14.2,"2009-09-30",8.0299999999999994,"2009-08-31",8.5,"2009-08-31",9.9,null,null,"2009-08-31",7.8,null,null,"2009-08-31",9.4,null,null,"2009-08-31",12.05,"2009-08-31",10.8,null,null,"2009-08-31",-9.6999999999999993,"2009-08-31",-15.9,"2009-08-31",-8.8000000000000007,"2009-08-31",-19.7,"2010-06-30",4.7,"2009-08-31",-10.7,"2009-08-31",-10,"2009-08-31",-18.399999999999999,"2009-08-31",-23.3,"2010-06-30",30.1,"2009-08-31",0.1,null,null,"2008-12-31",3,null,"2008-12-31",4.4000000000000004]
[null,null,null,null,null,null,null,null,null,null,null,null,null,null,null,null,null,null,null,null,null,null,null,"2009-09-30",1,"2009-09-30",0.2,"2009-09-30",0,"2009-09-30",4.9000000000000004,"2009-09-30",4.9399999999999995,"2009-09-30",10.7,"2009-09-30",7.3,"2009-09-30",-0.1,"2009-09-30",15,"2009-09-30",0.6,"2009-09-30",3.4,null,null,"2009-09-30",14.7,"2009-10-31",8.23,"2009-09-30",8.6,"2009-09-30",10.3,null,null,"2009-09-30",7.6,null,null,"2009-09-30",9.4,null,null,"2009-09-30",12.45,"2009-09-30",10.9,null,null,"2009-09-30",-9.5,"2009-09-30",-21.1,"2009-09-30",-11.5,"2009-09-30",-14.7,"2010-07-31",2.2999999999999998,"2009-09-30",-8.4,"2009-09-30",-6.3,"2009-09-30",-16.3,"2009-09-30",-18.399999999999999,"2010-07-31",22.8,"2009-09-30",-1.3,null,null,"2009-01-30",3.2,null,"2009-01-30",4.9000000000000004]
[null,null,null,null,null,null,null,null,null,null,null,null,null,null,null,null,null,null,null,null,null,null,null,"2009-10-31",1.3,"2009-10-31",-0.3,"2009-10-31",-0.2,"2009-10-31",4.7,"2009-10-31",4.3,"2009-10-31",9.6999999999999993,"2009-10-31",5.2,"2009-10-31",0,"2009-10-31",14.1,"2009-10-31",0.4,"2009-10-31",3.1,null,null,"2009-10-31",15.5,"2009-11-30",8.66,"2009-10-31",8.5,"2009-10-31",10.4,null,null,"2009-10-31",7.7,null,null,"2009-10-31",10,null,null,"2009-10-31",12.4,"2009-10-31",11.1,null,null,"2009-10-31",-7.2,"2009-10-31",-16.100000000000001,"2009-10-31",-7.2,"2009-10-31",-11.1,"2010-08-31",4.9000000000000004,"2009-10-31",-5.6,"2009-10-31",-5.8,"2009-10-31",-18.3,"2009-10-31",-6.2,"2010-08-31",12.8,"2009-10-31",-1.3,null,null,"2009-02-27",3.2,null,"2009-02-27",5.3]
[null,null,null,null,null,null,null,null,null,null,null,null,null,null,null,null,null,null,null,null,null,null,null,"2009-11-30",1.8,"2009-11-30",-0.1,"2009-11-30",0.5,"2009-11-30",5.2,"2009-11-30",4.7,"2009-11-30",9.1,"2009-11-30",5.9,"2009-11-30",1.6,"2009-11-30",13.6,"2009-11-30",0.4,"2009-11-30",3.3,null,null,"2009-11-30",16.100000000000001,"2009-12-31",9.1300000000000008,"2009-11-30",8.6,"2009-11-30",10.5,null,null,"2009-11-30",8.1999999999999993,null,null,"2009-11-30",10.1,null,null,"2009-11-30",12.4,"2009-11-30",11.4,null,null,"2009-11-30",-9.8000000000000007,"2009-11-30",-10.8,"2009-11-30",-0.2,"2009-11-30",-9,"2010-09-30",2.8,"2009-11-30",4.9000000000000004,"2009-11-30",-4.2,"2009-11-30",-2.2999999999999998,"2009-11-30",8.6,"2010-09-30",13.2,"2009-11-30",9.9,null,null,"2009-03-31",3.1,null,"2009-03-31",5.6]
[null,null,null,null,null,null,null,null,null,null,null,null,null,null,null,null,null,null,null,null,null,null,null,"2009-12-31",1.9,"2009-12-31",0.6,"2009-12-31",1,"2009-12-31",5.6,"2009-12-31",4.74,"2009-12-31",8.8000000000000007,"2009-12-31",6.6,"2009-12-31",1.8,"2009-12-31",12.3,"2009-12-31",0.5,"2009-12-31",3.5,null,null,"2009-12-31",16.7,"2010-01-31",9.9,"2009-12-31",9.1999999999999993,"2009-12-31",10.5,null,null,"2009-12-31",8.1999999999999993,null,null,"2009-12-31",10.3,null,null,"2009-12-31",12.66,"2009-12-31",12.1,null,null,"2009-12-31",-7.2,"2009-12-31",-12.1,"2009-12-31",1.8,"2009-12-31",-0.8,"2010-10-31",2,"2009-12-31",6.9,"2009-12-31",-1.3,"2009-12-31",2.7,"2009-12-31",7.4,"2010-10-31",23.7,"2009-12-31",7.4,null,null,"2009-04-30",2.9,null,"2009-04-30",5.7]
[null,null,null,null,null,null,null,null,null,null,null,null,null,null,null,null,null,null,null,null,null,null,null,"2010-01-31",1.1000000000000001,"2010-01-31",0.5,"2010-01-31",0.7,"2010-01-31",6.4,"2010-01-31",5.2,"2010-01-31",8,"2010-01-31",4.8,"2010-01-31",1.5,"2010-01-31",11.1,"2010-01-31",0.4,"2010-01-31",3.5,null,null,"2010-01-31",17.8,"2010-02-28",10.26,"2010-01-31",9.8000000000000007,"2010-01-31",10.8,null,null,"2010-01-31",9.1999999999999993,null,null,"2010-01-31",10.6,null,null,"2010-01-31",12.89,"2010-01-31",12.9,null,null,"2010-01-31",1.5,"2010-01-31",-0.9,"2010-01-31",4.9000000000000004,"2010-01-31",6,"2010-11-30",4,"2010-01-31",10.199999999999999,"2010-01-31",3.7,"2010-01-31",-7.9,"2010-01-31",11.8,"2010-11-30",22.6,"2010-01-31",8.5,null,null,"2009-05-29",2.6,null,"2009-05-29",5.8]
[null,null,null,null,null,null,null,null,null,null,null,null,null,null,null,null,null,null,null,null,null,null,null,"2010-02-28",0.7,"2010-02-28",0.9,"2010-02-28",0.6,"2010-02-28",5.7,"2010-02-28",4.49,"2010-02-28",7.2,"2010-02-28",3.9,"2010-02-28",1.3,"2010-02-28",11.5,"2010-02-28",0.4,"2010-02-28",2.9,null,null,"2010-02-28",18.3,"2010-03-31",10.14,"2010-02-28",9.9,"2010-02-28",11.4,null,null,"2010-02-28",8.6,null,null,"2010-02-28",10.7,null,null,"2010-02-28",12.97,"2010-02-28",13.2,null,null,"2010-02-28",0.1,"2010-02-28",-9.1,"2010-02-28",6.9,"2010-02-28",8.1999999999999993,"2010-12-31",6.5,"2010-02-28",8.4,"2010-02-28",2.8,"2010-02-28",1.5,"2010-02-28",5.6,"2010-12-31",34.6,"2010-02-28",9.1999999999999993,null,null,"2009-06-30",2.4,null,"2009-06-30",6]
[null,null,null,null,null,null,null,null,null,null,null,null,null,null,null,null,null,null,null,null,null,null,null,"2010-03-31",0.9,"2010-03-31",1.3,"2010-03-31",0.7,"2010-03-31",5.9,"2010-03-31",4.2,"2010-03-31",6.5,"2010-03-31",4.7,"2010-03-31",1.4,"2010-03-31",11,"2010-03-31",0.81,"2010-03-31",2.6,null,null,"2010-03-31",17.899999999999999,"2010-04-30",9.9499999999999993,"2010-03-31",9.6999999999999993,"2010-03-31",11.8,null,null,"2010-03-31",8.6,null,null,"2010-03-31",10.6,null,null,"2010-03-31",12.88,"2010-03-31",13,null,null,"2010-03-31",-0.6,"2010-03-31",1.7,"2010-03-31",10.199999999999999,"2010-03-31",4.2,"2011-01-31",10.6,"2010-03-31",9.8000000000000007,"2010-03-31",2.7,"2010-03-31",6.5,"2010-03-31",13.8,"2011-01-31",28.4,"2010-03-31",12.5,null,null,"2009-07-31",2.2000000000000002,null,"2009-07-31",6.3]
[null,null,null,null,null,null,null,null,null,null,null,null,null,null,null,null,null,null,null,null,null,null,null,"2010-04-30",0.6,"2010-04-30",1.8,"2010-04-30",1.1000000000000001,"2010-04-30",5.7,"2010-04-30",4.28,"2010-04-30",6,"2010-04-30",4.3,"2010-04-30",2.2999999999999998,"2010-04-30",9.6999999999999993,"2010-04-30",1.21,"2010-04-30",2.4,null,null,"2010-04-30",17.899999999999999,"2010-05-31",9.5299999999999994,"2010-04-30",9.1999999999999993,"2010-04-30",11.8,null,null,"2010-04-30",8.1999999999999993,null,null,"2010-04-30",10.6,null,null,"2010-04-30",12.52,"2010-04-30",12.4,null,null,"2010-04-30",-6.5,"2010-04-30",0.2,"2010-04-30",10.9,"2010-04-30",10,"2011-02-28",12.7,"2010-04-30",10.4,"2010-04-30",11.3,"2010-04-30",9.6999999999999993,"2010-04-30",17.399999999999999,null,null,"2010-04-30",9.6999999999999993,null,null,"2009-08-31",2,null,"2009-08-31",6.6]
[null,null,null,null,null,null,null,null,null,null,null,null,null,null,null,null,null,null,null,null,null,null,null,"2010-05-31",0.8,"2010-05-31",1.9,"2010-05-31",1.2,"2010-05-31",5.0999999999999996,"2010-05-31",4.42,"2010-05-31",6,"2010-05-31",3.7,"2010-05-31",2.1,"2010-05-31",8.5,"2010-05-31",1.21,"2010-05-31",2.2000000000000002,null,null,"2010-05-31",17.2,"2010-06-30",9.26,"2010-05-31",8.6999999999999993,"2010-05-31",11.4,null,null,"2010-05-31",7.3,null,null,"2010-05-31",10.5,null,null,"2010-05-31",12.24,"2010-05-31",12.1,null,null,"2010-05-31",-3.4,"2010-05-31",0.4,"2010-05-31",16.2,"2010-05-31",14.2,null,null,"2010-05-31",12.6,"2010-05-31",7,"2010-05-31",11.8,"2010-05-31",12.7,null,null,"2010-05-31",13.5,null,null,"2009-09-30",1.9,null,"2009-09-30",6.8]
[null,null,null,null,null,null,null,null,null,null,null,null,null,null,null,null,null,null,null,null,null,null,null,"2010-06-30",0.7,"2010-06-30",1.4,"2010-06-30",1.2,"2010-06-30",5.3,"2010-06-30",4.4000000000000004,"2010-06-30",5.8,"2010-06-30",4.2,"2010-06-30",1.9,"2010-06-30",6.9,"2010-06-30",0.94,"2010-06-30",2.2999999999999998,null,null,"2010-06-30",16.600000000000001,"2010-07-31",9.23,"2010-06-30",8.5,"2010-06-30",11.1,null,null,"2010-06-30",6.8,null,null,"2010-06-30",10.5,null,null,"2010-06-30",12.34,"2010-06-30",11.7,null,null,"2010-06-30",-4,"2010-06-30",3.6,"2010-06-30",9,"2010-06-30",12.6,null,null,"2010-06-30",9.6999999999999993,"2010-06-30",2.5,"2010-06-30",10.4,"2010-06-30",8.9,null,null,"2010-06-30",14.3,null,null,"2009-10-30",1.8,null,"2009-10-30",7.1]
[null,null,null,null,null,null,null,null,null,null,null,null,null,null,null,null,null,null,null,null,null,null,null,"2010-07-31",1,"2010-07-31",2.4,"2010-07-31",1.9,"2010-07-31",4,"2010-07-31",7.14,"2010-07-31",5.5,"2010-07-31",5.0999999999999996,"2010-07-31",2.1,"2010-07-31",6.8,"2010-07-31",1.07,"2010-07-31",2,null,null,"2010-07-31",16.399999999999999,"2010-08-31",9.14,"2010-07-31",8.6999999999999993,"2010-07-31",11,null,null,"2010-07-31",7,null,null,"2010-07-31",10.5,null,null,"2010-07-31",12.33,"2010-07-31",11.5,null,null,"2010-07-31",-1.8,"2010-07-31",2.4,"2010-07-31",5.3,"2010-07-31",12.1,null,null,"2010-07-31",5.9,"2010-07-31",5.0999999999999996,"2010-07-31",9.5,"2010-07-31",6.4,null,null,"2010-07-31",10.5,null,null,"2009-11-30",1.8,null,"2009-11-30",7.5]
[null,null,null,null,null,null,null,null,null,null,null,null,null,null,null,null,null,null,null,null,null,null,null,"2010-08-31",0.9,"2010-08-31",2.7,"2010-08-31",1.9,"2010-08-31",3.7,"2010-08-31",7.58,"2010-08-31",6.1,"2010-08-31",6.6,"2010-08-31",2.2999999999999998,"2010-08-31",8.3000000000000007,"2010-08-31",1.08,"2010-08-31",2,null,null,"2010-08-31",16.399999999999999,"2010-09-30",9,"2010-08-31",8.6,"2010-08-31",11,null,null,"2010-08-31",6.9,null,null,"2010-08-31",10.6,null,null,"2010-08-31",12.19,"2010-08-31",11.4,null,null,"2010-08-31",-0.7,"2010-08-31",4,"2010-08-31",14.1,"2010-08-31",15,null,null,"2010-08-31",7,"2010-08-31",3.4,"2010-08-31",11.5,"2010-08-31",9.1999999999999993,null,null,"2010-08-31",13.6,null,null,"2009-12-31",1.9,null,"2009-12-31",7.8]
[null,null,null,null,null,null,null,null,null,null,null,null,null,null,null,null,null,null,null,null,null,null,null,"2010-09-30",1.4,"2010-09-30",3.5,"2010-09-30",2,"2010-09-30",3.8,"2010-09-30",7.77,"2010-09-30",7,"2010-09-30",7.7,"2010-09-30",2,"2010-09-30",10.5,"2010-09-30",1.08,"2010-09-30",2.5,null,null,"2010-09-30",16.899999999999999,"2010-10-31",8.9,"2010-09-30",8.5,"2010-09-30",10.9,null,null,"2010-09-30",6.6,null,null,"2010-09-30",10.5,null,null,"2010-09-30",12.42,"2010-09-30",11.5,null,null,"2010-09-30",3.1,"2010-09-30",9.3000000000000007,"2010-09-30",12.4,"2010-09-30",11.2,null,null,"2010-09-30",6.2,"2010-09-30",2.6,"2010-09-30",5.0999999999999996,"2010-09-30",10.199999999999999,null,null,"2010-09-30",11.8,null,null,"2010-01-29",1.9,null,"2010-01-29",8.1]
[null,null,null,null,null,null,null,null,null,null,null,null,null,null,null,null,null,null,null,null,null,null,null,"2010-10-31",1.4,"2010-10-31",3.9,"2010-10-31",2,"2010-10-31",4.2,"2010-10-31",7.88,"2010-10-31",7.5,"2010-10-31",8.9,"2010-10-31",1.9,"2010-10-31",10.1,"2010-10-31",0.94,"2010-10-31",2.8,null,null,"2010-10-31",17.8,"2010-11-30",9.1,"2010-10-31",8.5,"2010-10-31",10.9,null,null,"2010-10-31",6.8,null,null,"2010-10-31",10.9,null,null,"2010-10-31",12.29,"2010-10-31",11.5,null,null,"2010-10-31",-4.5,"2010-10-31",4,"2010-10-31",6.9,"2010-10-31",8.5,null,null,"2010-10-31",6.6,"2010-10-31",-2.9,"2010-10-31",8.5,"2010-10-31",10.199999999999999,null,null,"2010-10-31",8,null,null,"2010-02-26",1.9,null,"2010-02-26",8.4]
[null,null,null,null,null,null,null,null,null,null,null,null,null,null,null,null,null,null,null,null,null,null,null,"2010-11-30",1.2,"2010-11-30",4.5999999999999996,"2010-11-30",2,"2010-11-30",4.2,"2010-11-30",7.73,"2010-11-30",8.1,"2010-11-30",9.6,"2010-11-30",1.4,"2010-11-30",9.1999999999999993,"2010-11-30",1,"2010-11-30",2.7,null,null,"2010-11-30",18.3,"2010-12-31",9.1999999999999993,"2010-11-30",8.6,"2010-11-30",10.7,null,null,"2010-11-30",6.7,null,null,"2010-11-30",11.1,null,null,"2010-11-30",12.2,"2010-11-30",11.7,null,null,"2010-11-30",0.2,"2010-11-30",5.8,"2010-11-30",15.2,"2010-11-30",14.7,null,null,"2010-11-30",6.7,"2010-11-30",-0.5,"2010-11-30",5.4,"2010-11-30",9.9,null,null,"2010-11-30",10,null,null,"2010-03-31",1.8,null,"2010-03-31",8.4]
[null,null,null,null,null,null,null,null,null,null,null,null,null,null,null,null,null,null,null,null,null,null,null,"2010-12-31",1.8,"2010-12-31",4.5,"2010-12-31",2.2999999999999998,"2010-12-31",4.7,"2010-12-31",7.96,"2010-12-31",8.8000000000000007,"2010-12-31",10.3,"2010-12-31",1.9,"2010-12-31",9.1,"2010-12-31",1.3,"2010-12-31",3.1,null,null,"2010-12-31",18.8,"2011-01-31",9.8000000000000007,"2010-12-31",9.6,"2010-12-31",10.8,null,null,"2010-12-31",7.2,null,null,"2010-12-31",11.8,null,null,"2010-12-31",12.46,"2010-12-31",12.3,null,null,"2010-12-31",-0.7,"2010-12-31",5.2,"2010-12-31",12,"2010-12-31",5.9,null,null,"2010-12-31",6.3,"2010-12-31",-0.8,"2010-12-31",10.8,"2010-12-31",12.5,null,null,"2010-12-31",11.4,null,null,"2010-04-30",1.6,null,"2010-04-30",8.1]
[null,null,null,null,null,null,null,null,null,null,null,null,null,null,null,null,null,null,null,null,null,null,null,"2011-01-31",1.9,"2011-01-31",4.5,"2011-01-31",1.7,"2011-01-31",4,"2011-01-31",6.99,"2011-01-31",9.6,"2011-01-31",11.2,"2011-01-31",1.8,"2011-01-31",8.1999999999999993,"2011-01-31",3,"2011-01-31",3.6,null,null,"2011-01-31",19.600000000000001,"2011-02-28",9.7799999999999994,"2011-01-31",9.6999999999999993,"2011-01-31",11.2,null,null,"2011-01-31",7.8,null,null,"2011-01-31",12.3,null,null,"2011-01-31",12.98,"2011-01-31",13,null,null,"2011-01-31",-6.7,"2011-01-31",8.6,"2011-01-31",16.399999999999999,"2011-01-31",10.7,null,null,"2011-01-31",6.7,"2011-01-31",3.8,"2011-01-31",12.7,"2011-01-31",9.6999999999999993,null,null,"2011-01-31",10.3,null,null,"2010-05-31",1.5,null,"2010-05-31",7.7]
[null,null,null,null,null,null,null,null,null,null,null,null,null,null,null,null,null,null,null,null,null,null,null,"2011-02-28",2.2000000000000002,"2011-02-28",5.2,"2011-02-28",1.8,"2011-02-28",4.0999999999999996,"2011-02-28",7.6,"2011-02-28",9.5,"2011-02-28",12.6,"2011-02-28",1.4,"2011-02-28",7.2,"2011-02-28",3.3,"2011-02-28",3.6,null,null,"2011-02-28",19.600000000000001,null,null,"2011-02-28",9.6,"2011-02-28",11.5,null,null,"2011-02-28",7.6,null,null,null,null,null,null,"2011-02-28",13.16,"2011-02-28",13.2,null,null,"2011-02-28",-4.0999999999999996,"2011-02-28",15.2,"2011-02-28",13,"2011-02-28",14.3,null,null,"2011-02-28",5.8,"2011-02-28",5.8,"2011-02-28",7.7,"2011-02-28",11.5,null,null,"2011-02-28",10.7,null,null,"2010-06-30",1.4,null,"2010-06-30",7.5]
[null,null,null,null,null,null,null,null,null,null,null,null,null,null,null,null,null,null,null,null,null,null,null,null,null,null,null,"2011-03-31",1.7,null,null,"2011-03-31",8.01,"2011-03-31",9.5,null,null,"2011-03-31",1.9,"2011-03-31",7.7,null,null,null,null,null,null,null,null,null,null,"2011-03-31",9.1999999999999993,null,null,null,null,null,null,null,null,null,null,null,null,null,null,null,null,null,null,null,null,null,null,null,null,null,null,null,null,null,null,null,null,null,null,null,null,null,null,null,null,null,null,"2010-07-30",1.4,null,"2010-07-30",7.5]
[null,null,null,null,null,null,null,null,null,null,null,null,null,null,null,null,null,null,null,null,null,null,null,null,null,null,null,null,null,null,null,null,null,null,null,null,null,null,null,null,null,null,null,null,null,null,null,null,null,null,null,null,null,null,null,null,null,null,null,null,null,null,null,null,null,null,null,null,null,null,null,null,null,null,null,null,null,null,null,null,null,null,null,null,null,null,null,null,null,null,null,null,null,null,null,"2010-08-31",1.4,null,"2010-08-31",7.4]
[null,null,null,null,null,null,null,null,null,null,null,null,null,null,null,null,null,null,null,null,null,null,null,null,null,null,null,null,null,null,null,null,null,null,null,null,null,null,null,null,null,null,null,null,null,null,null,null,null,null,null,null,null,null,null,null,null,null,null,null,null,null,null,null,null,null,null,null,null,null,null,null,null,null,null,null,null,null,null,null,null,null,null,null,null,null,null,null,null,null,null,null,null,null,null,"2010-09-30",1.5,null,"2010-09-30",7.3]
[null,null,null,null,null,null,null,null,null,null,null,null,null,null,null,null,null,null,null,null,null,null,null,null,null,null,null,null,null,null,null,null,null,null,null,null,null,null,null,null,null,null,null,null,null,null,null,null,null,null,null,null,null,null,null,null,null,null,null,null,null,null,null,null,null,null,null,null,null,null,null,null,null,null,null,null,null,null,null,null,null,null,null,null,null,null,null,null,null,null,null,null,null,null,null,"2010-10-29",1.4,null,"2010-10-29",7.1]
[null,null,null,null,null,null,null,null,null,null,null,null,null,null,null,null,null,null,null,null,null,null,null,null,null,null,null,null,null,null,null,null,null,null,null,null,null,null,null,null,null,null,null,null,null,null,null,null,null,null,null,null,null,null,null,null,null,null,null,null,null,null,null,null,null,null,null,null,null,null,null,null,null,null,null,null,null,null,null,null,null,null,null,null,null,null,null,null,null,null,null,null,null,null,null,"2010-11-30",1.6,null,"2010-11-30",6.9]
[null,null,null,null,null,null,null,null,null,null,null,null,null,null,null,null,null,null,null,null,null,null,null,null,null,null,null,null,null,null,null,null,null,null,null,null,null,null,null,null,null,null,null,null,null,null,null,null,null,null,null,null,null,null,null,null,null,null,null,null,null,null,null,null,null,null,null,null,null,null,null,null,null,null,null,null,null,null,null,null,null,null,null,null,null,null,null,null,null,null,null,null,null,null,null,"2010-12-31",2,null,"2010-12-31",6.9]
[null,null,null,null,null,null,null,null,null,null,null,null,null,null,null,null,null,null,null,null,null,null,null,null,null,null,null,null,null,null,null,null,null,null,null,null,null,null,null,null,null,null,null,null,null,null,null,null,null,null,null,null,null,null,null,null,null,null,null,null,null,null,null,null,null,null,null,null,null,null,null,null,null,null,null,null,null,null,null,null,null,null,null,null,null,null,null,null,null,null,null,null,null,null,null,"2011-01-31",2.1,null,"2011-01-31",6.74]
[null,null,null,null,null,null,null,null,null,null,null,null,null,null,null,null,null,null,null,null,null,null,null,null,null,null,null,null,null,null,null,null,null,null,null,null,null,null,null,null,null,null,null,null,null,null,null,null,null,null,null,null,null,null,null,null,null,null,null,null,null,null,null,null,null,null,null,null,null,null,null,null,null,null,null,null,null,null,null,null,null,null,null,null,null,null,null,null,null,null,null,null,null,null,null,"2011-02-28",2.2000000000000002,null,"2011-02-28",6.58]

{"sheet":"Tabelle","index":1,"n_rows":39,"n_cols":51,"rows_kept":39,"cut":false,"hidden":false,"merged":[]}
["Gross Domestic Product YoY",null,null,null,null,null,null,null,null,null,null,null,null,null,"Inflation",null,null,null,null,null,null,null,null,null,null,null,null,"Unemployment  Rate",null,null,null,null,null,null,null,null,null,null,null,null,"Industrial Production"]
[]
[null,"Croatia","Bulgaria","Serbia","Slovenia","Romania",null,null,"Czech Republic","Hungary","Russia Real GDP","Poland",null,null,"Croatia","Bulgaria","Serbia Harmonized CPI","Slovenia","Romania",null,null,"Czech Republic","Hungary","Russia","Poland",null,null,"Croatia","Bulgaria","Serbia ","Slovenia","Romania",null,null,"Czech Republic","Hungary","Russia","Poland",null,null,"Croatia","Bulgaria","Serbia ","Slovenia","Romania",null,null,"Czech Republic","Hungary","Russia","Poland"]
["2008-03-31",{"$f":"+Daten!B5","v":4.29},{"$f":"+Daten!D5","v":1.54},{"$f":"+Daten!N5","v":8.9},{"$f":"+Daten!P5","v":5.7},{"$f":"+Daten!J5","v":8.5500000000000007},null,"2008-03-31",{"$f":"+Daten!F5","v":0.3},{"$f":"+Daten!H5","v":1.2},{"$f":"+Daten!L5","v":9.1},{"$f":"+Daten!V5","v":6.3},null,"2008-03-31",{"$f":"+Daten!Y5","v":5.7},{"$f":"+Daten!AA5","v":14.2},{"$f":"+Daten!AK5","v":13.6},{"$f":"+Daten!AM5","v":6.9},{"$f":"+Daten!AG5","v":8.6300000000000008},null,"2008-03-31",{"$f":"+Daten!AC5","v":7.1},{"$f":"+Daten!AE5","v":6.7},{"$f":"+Daten!AI5","v":13.3},{"$f":"+Daten!AS5","v":4.0999999999999996},null,"2008-03-31",{"$f":"+Daten!AW5","v":14.5},{"$f":"+Daten!AY5","v":6.8},17.399999999999999,{"$f":"+Daten!BK5","v":6.9},{"$f":"+Daten!CV13","v":4.0999999999999996},null,"2008-03-31",{"$f":"+Daten!BA5","v":5.6},{"$f":"+Daten!BC5","v":8},{"$f":"+Daten!BG5","v":6.5},{"$f":"+Daten!BQ5","v":10.9},null,"2008-03-31",{"$f":"+Daten!BU5","v":2.2000000000000002},{"$f":"+Daten!BW5","v":-1.1000000000000001},{"$f":"+Daten!CG5","v":2.6},{"$f":"+Daten!CI5","v":1},null,null,"2008-03-31",{"$f":"+Daten!BY5","v":-4.5999999999999996},{"$f":"+Daten!CA5","v":4.8},{"$f":"+Daten!CE5","v":3.5},{"$f":"+Daten!CO5","v":1}]
[{"$f":"+Daten!A6","v":"2008-06-30"},{"$f":"+Daten!B6","v":0},{"$f":"+Daten!D6","v":1.29},{"$f":"+Daten!N6","v":6.3},{"$f":"+Daten!P6","v":5.5},{"$f":"+Daten!J6","v":9.64},null,{"$f":"+Daten!A6","v":"2008-06-30"},{"$f":"+Daten!F6","v":0.7},{"$f":"+Daten!H6","v":-0.2},{"$f":"+Daten!L6","v":7.7},{"$f":"+Daten!V6","v":6.1},null,{"$f":"+Daten!X6","v":"2008-04-30"},{"$f":"+Daten!Y6","v":5.7},{"$f":"+Daten!AA6","v":14.6},{"$f":"+Daten!AK6","v":14.6},{"$f":"+Daten!AM6","v":6.5},{"$f":"+Daten!AG6","v":8.6199999999999992},null,{"$f":"+Daten!AB6","v":"2008-04-30"},{"$f":"+Daten!AC6","v":6.8},{"$f":"+Daten!AE6","v":6.6},{"$f":"+Daten!AI6","v":14.3},{"$f":"+Daten!AS6","v":4},null,{"$f":"+Daten!AV6","v":"2008-04-30"},{"$f":"+Daten!AW6","v":13.9},{"$f":"+Daten!AY6","v":6.5},17.399999999999999,{"$f":"+Daten!BK6","v":6.6},{"$f":"+Daten!CV14","v":3.9},null,{"$f":"+Daten!AZ6","v":"2008-04-30"},{"$f":"+Daten!BA6","v":5.2},{"$f":"+Daten!BC6","v":7.7},{"$f":"+Daten!BG6","v":6},{"$f":"+Daten!BQ6","v":10.3},null,{"$f":"+Daten!BT6","v":"2008-04-30"},{"$f":"+Daten!BU6","v":3.7},{"$f":"+Daten!BW6","v":8.9},{"$f":"+Daten!CG6","v":3.1},{"$f":"+Daten!CI6","v":6.9},null,null,{"$f":"+Daten!BX6","v":"2008-04-30"},{"$f":"+Daten!BY6","v":10.1},{"$f":"+Daten!CA6","v":6.3},{"$f":"+Daten!CE6","v":5.7},{"$f":"+Daten!CO6","v":15.1}]
[{"$f":"+Daten!A7","v":"2008-09-30"},{"$f":"+Daten!B7","v":1.6},{"$f":"+Daten!D7","v":1.37},{"$f":"+Daten!N7","v":4.5999999999999996},{"$f":"+Daten!P7","v":3.9},{"$f":"+Daten!J7","v":9.44},null,{"$f":"+Daten!A7","v":"2008-09-30"},{"$f":"+Daten!F7","v":0.2},{"$f":"+Daten!H7","v":-1},{"$f":"+Daten!L7","v":6.4},{"$f":"+Daten!V7","v":5.2},null,{"$f":"+Daten!X7","v":"2008-05-31"},{"$f":"+Daten!Y7","v":6.4},{"$f":"+Daten!AA7","v":15},{"$f":"+Daten!AK7","v":14.5},{"$f":"+Daten!AM7","v":6.4},{"$f":"+Daten!AG7","v":8.4600000000000009},null,{"$f":"+Daten!AB7","v":"2008-05-31"},{"$f":"+Daten!AC7","v":6.8},{"$f":"+Daten!AE7","v":7},{"$f":"+Daten!AI7","v":15.1},{"$f":"+Daten!AS7","v":4.4000000000000004},null,{"$f":"+Daten!AV7","v":"2008-05-31"},{"$f":"+Daten!AW7","v":13.2},{"$f":"+Daten!AY7","v":6.2},17.399999999999999,{"$f":"+Daten!BK7","v":6.5},{"$f":"+Daten!CV15","v":3.7},null,{"$f":"+Daten!AZ7","v":"2008-05-31"},{"$f":"+Daten!BA7","v":5},{"$f":"+Daten!BC7","v":7.7},{"$f":"+Daten!BG7","v":5.4},{"$f":"+Daten!BQ7","v":9.8000000000000007},null,{"$f":"+Daten!BT7","v":"2008-05-31"},{"$f":"+Daten!BU7","v":-1.9},{"$f":"+Daten!BW7","v":6.6},{"$f":"+Daten!CG7","v":3.8},{"$f":"+Daten!CI7","v":1.2},null,null,{"$f":"+Daten!BX7","v":"2008-05-31"},{"$f":"+Daten!BY7","v":-0.1},{"$f":"+Daten!CA7","v":6.5},{"$f":"+Daten!CE7","v":4.5},{"$f":"+Daten!CO7","v":2.4}]
[{"$f":"+Daten!A8","v":"2008-12-31"},{"$f":"+Daten!B8","v":0.2},{"$f":"+Daten!D8","v":0.55000000000000004},{"$f":"+Daten!N8","v":2.9},{"$f":"+Daten!P8","v":-0.8},{"$f":"+Daten!J8","v":3.13},null,{"$f":"+Daten!A8","v":"2008-12-31"},{"$f":"+Daten!F8","v":-0.9},{"$f":"+Daten!H8","v":-2.1},{"$f":"+Daten!L8","v":-1.1000000000000001},{"$f":"+Daten!V8","v":3.2},null,{"$f":"+Daten!X8","v":"2008-06-30"},{"$f":"+Daten!Y8","v":7.6},{"$f":"+Daten!AA8","v":15.3},{"$f":"+Daten!AK8","v":14.9},{"$f":"+Daten!AM8","v":7},{"$f":"+Daten!AG8","v":8.61},null,{"$f":"+Daten!AB8","v":"2008-06-30"},{"$f":"+Daten!AC8","v":6.7},{"$f":"+Daten!AE8","v":6.7},{"$f":"+Daten!AI8","v":15.1},{"$f":"+Daten!AS8","v":4.5999999999999996},null,{"$f":"+Daten!AV8","v":"2008-06-30"},{"$f":"+Daten!AW8","v":12.5},{"$f":"+Daten!AY8","v":6},17.399999999999999,{"$f":"+Daten!BK8","v":6.4},{"$f":"+Daten!CV16","v":3.7},null,{"$f":"+Daten!AZ8","v":"2008-06-30"},{"$f":"+Daten!BA8","v":5},{"$f":"+Daten!BC8","v":7.6},{"$f":"+Daten!BG8","v":5.6},{"$f":"+Daten!BQ8","v":9.4},null,{"$f":"+Daten!BT8","v":"2008-06-30"},{"$f":"+Daten!BU8","v":4.8},{"$f":"+Daten!BW8","v":4.2},{"$f":"+Daten!CG8","v":1.8},{"$f":"+Daten!CI8","v":1.9},null,null,{"$f":"+Daten!BX8","v":"2008-06-30"},{"$f":"+Daten!BY8","v":2},{"$f":"+Daten!CA8","v":0.8},{"$f":"+Daten!CE8","v":2.8},{"$f":"+Daten!CO8","v":7.3}]
[{"$f":"+Daten!A9","v":"2009-03-31"},{"$f":"+Daten!B9","v":-6.7},{"$f":"+Daten!D9","v":-6.33},{"$f":"+Daten!N9","v":-4.3},{"$f":"+Daten!P9","v":-8.1999999999999993},{"$f":"+Daten!J9","v":-6.25},null,{"$f":"+Daten!A9","v":"2009-03-31"},{"$f":"+Daten!F9","v":-3.6},{"$f":"+Daten!H9","v":-3.2},{"$f":"+Daten!L9","v":-9.3000000000000007},{"$f":"+Daten!V9","v":0.5},null,{"$f":"+Daten!X9","v":"2008-07-31"},{"$f":"+Daten!Y9","v":8.4},{"$f":"+Daten!AA9","v":14.5},{"$f":"+Daten!AK9","v":13.9},{"$f":"+Daten!AM9","v":6.9},{"$f":"+Daten!AG9","v":9.0399999999999991},null,{"$f":"+Daten!AB9","v":"2008-07-31"},{"$f":"+Daten!AC9","v":6.9},{"$f":"+Daten!AE9","v":6.7},{"$f":"+Daten!AI9","v":14.7},{"$f":"+Daten!AS9","v":4.8},null,{"$f":"+Daten!AV9","v":"2008-07-31"},{"$f":"+Daten!AW9","v":12.4},{"$f":"+Daten!AY9","v":5.96},17.399999999999999,{"$f":"+Daten!BK9","v":6.5},{"$f":"+Daten!CV17","v":3.7},null,{"$f":"+Daten!AZ9","v":"2008-07-31"},{"$f":"+Daten!BA9","v":5.3},{"$f":"+Daten!BC9","v":7.5},{"$f":"+Daten!BG9","v":5.7},{"$f":"+Daten!BQ9","v":9.1999999999999993},null,{"$f":"+Daten!BT9","v":"2008-07-31"},{"$f":"+Daten!BU9","v":0.3},{"$f":"+Daten!BW9","v":4.4000000000000004},{"$f":"+Daten!CG9","v":5.4},{"$f":"+Daten!CI9","v":-4.5999999999999996},null,null,{"$f":"+Daten!BX9","v":"2008-07-31"},{"$f":"+Daten!BY9","v":5},{"$f":"+Daten!CA9","v":1.2},{"$f":"+Daten!CE9","v":1.9},{"$f":"+Daten!CO9","v":5.9}]
[{"$f":"+Daten!A10","v":"2009-06-30"},{"$f":"+Daten!B10","v":-6.9},{"$f":"+Daten!D10","v":-0.04},{"$f":"+Daten!N10","v":-4.5},{"$f":"+Daten!P10","v":-9.1999999999999993},{"$f":"+Daten!J10","v":-8.6999999999999993},null,{"$f":"+Daten!A10","v":"2009-06-30"},{"$f":"+Daten!F10","v":-0.5},{"$f":"+Daten!H10","v":-1.3},{"$f":"+Daten!L10","v":-11},{"$f":"+Daten!V10","v":1},null,{"$f":"+Daten!X10","v":"2008-08-31"},{"$f":"+Daten!Y10","v":7.4},{"$f":"+Daten!AA10","v":11.2},{"$f":"+Daten!AK10","v":11.5},{"$f":"+Daten!AM10","v":6},{"$f":"+Daten!AG10","v":8.02},null,{"$f":"+Daten!AB10","v":"2008-08-31"},{"$f":"+Daten!AC10","v":6.5},{"$f":"+Daten!AE10","v":6.5},{"$f":"+Daten!AI10","v":15},{"$f":"+Daten!AS10","v":4.8},null,{"$f":"+Daten!AV10","v":"2008-08-31"},{"$f":"+Daten!AW10","v":12.3},{"$f":"+Daten!AY10","v":5.89},17.399999999999999,{"$f":"+Daten!BK10","v":6.5},{"$f":"+Daten!CV18","v":3.8},null,{"$f":"+Daten!AZ10","v":"2008-08-31"},{"$f":"+Daten!BA10","v":5.3},{"$f":"+Daten!BC10","v":7.5},{"$f":"+Daten!BG10","v":5.8},{"$f":"+Daten!BQ10","v":9.1},null,{"$f":"+Daten!BT10","v":"2008-08-31"},{"$f":"+Daten!BU10","v":-0.5},{"$f":"+Daten!BW10","v":-6},{"$f":"+Daten!CG10","v":-4.4000000000000004},{"$f":"+Daten!CI10","v":-2.5},null,null,{"$f":"+Daten!BX10","v":"2008-08-31"},{"$f":"+Daten!BY10","v":-7.4},{"$f":"+Daten!CA10","v":-5},{"$f":"+Daten!CE10","v":1},{"$f":"+Daten!CO10","v":-3.7}]
[{"$f":"+Daten!A11","v":"2009-09-30"},{"$f":"+Daten!B11","v":-5.7},{"$f":"+Daten!D11","v":-0.15},{"$f":"+Daten!N11","v":-2.2000000000000002},{"$f":"+Daten!P11","v":-8.8000000000000007},{"$f":"+Daten!J11","v":-7.1},null,{"$f":"+Daten!A11","v":"2009-09-30"},{"$f":"+Daten!F11","v":0.5},{"$f":"+Daten!H11","v":-0.8},{"$f":"+Daten!L11","v":-8.6},{"$f":"+Daten!V11","v":1.7},null,{"$f":"+Daten!X11","v":"2008-09-30"},{"$f":"+Daten!Y11","v":6.4},{"$f":"+Daten!AA11","v":11},{"$f":"+Daten!AK11","v":10.9},{"$f":"+Daten!AM11","v":5.5},{"$f":"+Daten!AG11","v":7.3},null,{"$f":"+Daten!AB11","v":"2008-09-30"},{"$f":"+Daten!AC11","v":6.6},{"$f":"+Daten!AE11","v":5.7},{"$f":"+Daten!AI11","v":15},{"$f":"+Daten!AS11","v":4.5},null,{"$f":"+Daten!AV11","v":"2008-09-30"},{"$f":"+Daten!AW11","v":12.6},{"$f":"+Daten!AY11","v":5.8},17.399999999999999,{"$f":"+Daten!BK11","v":6.3},{"$f":"+Daten!CV19","v":3.9},null,{"$f":"+Daten!AZ11","v":"2008-09-30"},{"$f":"+Daten!BA11","v":5.3},{"$f":"+Daten!BC11","v":7.7},{"$f":"+Daten!BG11","v":6.2},{"$f":"+Daten!BQ11","v":8.9},null,{"$f":"+Daten!BT11","v":"2008-09-30"},{"$f":"+Daten!BU11","v":0.5},{"$f":"+Daten!BW11","v":2.5},{"$f":"+Daten!CG11","v":2.1},{"$f":"+Daten!CI11","v":1.5},null,null,{"$f":"+Daten!BX11","v":"2008-09-30"},{"$f":"+Daten!BY11","v":4.3},{"$f":"+Daten!CA11","v":-3.6},{"$f":"+Daten!CE11","v":2.8},{"$f":"+Daten!CO11","v":6.8}]
[{"$f":"+Daten!A12","v":"2009-12-31"},{"$f":"+Daten!B12","v":-4.5999999999999996},{"$f":"+Daten!D12","v":-0.17},{"$f":"+Daten!N12","v":-1.7},{"$f":"+Daten!P12","v":-5.7},{"$f":"+Daten!J12","v":-6.5},null,{"$f":"+Daten!A12","v":"2009-12-31"},{"$f":"+Daten!F12","v":0.4},{"$f":"+Daten!H12","v":0.1},{"$f":"+Daten!L12","v":-2.9},{"$f":"+Daten!V12","v":3.2},null,{"$f":"+Daten!X12","v":"2008-10-31"},{"$f":"+Daten!Y12","v":5.9},{"$f":"+Daten!AA12","v":10.9},{"$f":"+Daten!AK12","v":12.3},{"$f":"+Daten!AM12","v":4.9000000000000004},{"$f":"+Daten!AG12","v":7.39},null,{"$f":"+Daten!AB12","v":"2008-10-31"},{"$f":"+Daten!AC12","v":6},{"$f":"+Daten!AE12","v":5.0999999999999996},{"$f":"+Daten!AI12","v":14.2},{"$f":"+Daten!AS12","v":4.2},null,{"$f":"+Daten!AV12","v":"2008-10-31"},{"$f":"+Daten!AW12","v":12.9},{"$f":"+Daten!AY12","v":5.85},17.399999999999999,{"$f":"+Daten!BK12","v":6.6},{"$f":"+Daten!CV20","v":4},null,{"$f":"+Daten!AZ12","v":"2008-10-31"},{"$f":"+Daten!BA12","v":5.2},{"$f":"+Daten!BC12","v":7.7},{"$f":"+Daten!BG12","v":6.6},{"$f":"+Daten!BQ12","v":8.8000000000000007},null,{"$f":"+Daten!BT12","v":"2008-10-31"},{"$f":"+Daten!BU12","v":0.1},{"$f":"+Daten!BW12","v":-2.2999999999999998},{"$f":"+Daten!CG12","v":-3.4},{"$f":"+Daten!CI12","v":-3.1},null,null,{"$f":"+Daten!BX12","v":"2008-10-31"},{"$f":"+Daten!BY12","v":-9.8000000000000007},{"$f":"+Daten!CA12","v":-5.5},{"$f":"+Daten!CE12","v":-1.6},{"$f":"+Daten!CO12","v":-0.1}]
[{"$f":"+Daten!A13","v":"2010-03-31"},{"$f":"+Daten!B13","v":-2.2999999999999998},{"$f":"+Daten!D13","v":-0.5},{"$f":"+Daten!N13","v":0.4},{"$f":"+Daten!P13","v":-1.2},{"$f":"+Daten!J13","v":-2.2000000000000002},null,{"$f":"+Daten!A13","v":"2010-03-31"},{"$f":"+Daten!F13","v":0.7},{"$f":"+Daten!H13","v":1.4},{"$f":"+Daten!L13","v":3.1},{"$f":"+Daten!V13","v":3},null,{"$f":"+Daten!X13","v":"2008-11-30"},{"$f":"+Daten!Y13","v":4.7},{"$f":"+Daten!AA13","v":9.1},{"$f":"+Daten!AK13","v":10.9},{"$f":"+Daten!AM13","v":3.1},{"$f":"+Daten!AG13","v":6.74},null,{"$f":"+Daten!AB13","v":"2008-11-30"},{"$f":"+Daten!AC13","v":4.4000000000000004},{"$f":"+Daten!AE13","v":4.2},{"$f":"+Daten!AI13","v":13.8},{"$f":"+Daten!AS13","v":3.7},null,{"$f":"+Daten!AV13","v":"2008-11-30"},{"$f":"+Daten!AW13","v":13.2},{"$f":"+Daten!AY13","v":5.85},17.399999999999999,{"$f":"+Daten!BK13","v":6.7},{"$f":"+Daten!CV21","v":4.0999999999999996},null,{"$f":"+Daten!AZ13","v":"2008-11-30"},{"$f":"+Daten!BA13","v":5.3},{"$f":"+Daten!BC13","v":7.8},{"$f":"+Daten!BG13","v":7},{"$f":"+Daten!BQ13","v":9.1},null,{"$f":"+Daten!BT13","v":"2008-11-30"},{"$f":"+Daten!BU13","v":-1.7},{"$f":"+Daten!BW13","v":-9.3000000000000007},{"$f":"+Daten!CG13","v":-2.6},{"$f":"+Daten!CI13","v":-12},null,null,{"$f":"+Daten!BX13","v":"2008-11-30"},{"$f":"+Daten!BY13","v":-18},{"$f":"+Daten!CA13","v":-8.4},{"$f":"+Daten!CE13","v":-12.5},{"$f":"+Daten!CO13","v":-9.1999999999999993}]
[{"$f":"+Daten!A14","v":"2010-06-30"},{"$f":"+Daten!B14","v":-2.2999999999999998},{"$f":"+Daten!D14","v":0.5},{"$f":"+Daten!N14","v":1.7},{"$f":"+Daten!P14","v":2.1},{"$f":"+Daten!J14","v":-0.4},null,{"$f":"+Daten!A14","v":"2010-06-30"},{"$f":"+Daten!F14","v":0.7},{"$f":"+Daten!H14","v":0.1},{"$f":"+Daten!L14","v":5.2},{"$f":"+Daten!V14","v":3.5},null,{"$f":"+Daten!X14","v":"2008-12-31"},{"$f":"+Daten!Y14","v":2.9},{"$f":"+Daten!AA14","v":7.8},{"$f":"+Daten!AK14","v":8.6},{"$f":"+Daten!AM14","v":2.1},{"$f":"+Daten!AG14","v":6.3},null,{"$f":"+Daten!AB14","v":"2008-12-31"},{"$f":"+Daten!AC14","v":3.6},{"$f":"+Daten!AE14","v":3.5},{"$f":"+Daten!AI14","v":13.3},{"$f":"+Daten!AS14","v":3.3},null,{"$f":"+Daten!AV14","v":"2008-12-31"},{"$f":"+Daten!AW14","v":13.7},{"$f":"+Daten!AY14","v":6.27},17.399999999999999,{"$f":"+Daten!BK14","v":7},{"$f":"+Daten!CV22","v":4.4000000000000004},null,{"$f":"+Daten!AZ14","v":"2008-12-31"},{"$f":"+Daten!BA14","v":6},{"$f":"+Daten!BC14","v":8},{"$f":"+Daten!BG14","v":7.8},{"$f":"+Daten!BQ14","v":9.5},null,{"$f":"+Daten!BT14","v":"2008-12-31"},{"$f":"+Daten!BU14","v":-5},{"$f":"+Daten!BW14","v":-8.3000000000000007},{"$f":"+Daten!CG14","v":-8.9},{"$f":"+Daten!CI14","v":-17.5},null,null,{"$f":"+Daten!BX14","v":"2008-12-31"},{"$f":"+Daten!BY14","v":-12.8},{"$f":"+Daten!CA14","v":-23},{"$f":"+Daten!CE14","v":-12.8},{"$f":"+Daten!CO14","v":-4.4000000000000004}]
[{"$f":"+Daten!A15","v":"2010-09-30"},{"$f":"+Daten!B15","v":0.3},{"$f":"+Daten!D15","v":0.7},{"$f":"+Daten!N15","v":3.1},{"$f":"+Daten!P15","v":1.7},{"$f":"+Daten!J15","v":-2.2000000000000002},null,{"$f":"+Daten!A15","v":"2010-09-30"},{"$f":"+Daten!F15","v":0.9},{"$f":"+Daten!H15","v":0.5},{"$f":"+Daten!L15","v":3.1},{"$f":"+Daten!V15","v":4.2},null,{"$f":"+Daten!X15","v":"2009-01-31"},{"$f":"+Daten!Y15","v":3.4},{"$f":"+Daten!AA15","v":7.1},{"$f":"+Daten!AK15","v":10},{"$f":"+Daten!AM15","v":1.6},{"$f":"+Daten!AG15","v":6.71},null,{"$f":"+Daten!AB15","v":"2009-01-31"},{"$f":"+Daten!AC15","v":2.2000000000000002},{"$f":"+Daten!AE15","v":3.1},{"$f":"+Daten!AI15","v":13.4},{"$f":"+Daten!AS15","v":2.8},null,{"$f":"+Daten!AV15","v":"2009-01-31"},{"$f":"+Daten!AW15","v":14.3},{"$f":"+Daten!AY15","v":6.5},17.399999999999999,{"$f":"+Daten!BK15","v":7.8},{"$f":"+Daten!CV23","v":4.9000000000000004},null,{"$f":"+Daten!AZ15","v":"2009-01-31"},{"$f":"+Daten!BA15","v":6.8},{"$f":"+Daten!BC15","v":8.4},{"$f":"+Daten!BG15","v":8.6999999999999993},{"$f":"+Daten!BQ15","v":10.4},null,{"$f":"+Daten!BT15","v":"2009-01-31"},{"$f":"+Daten!BU15","v":-11.5},{"$f":"+Daten!BW15","v":-18.399999999999999},{"$f":"+Daten!CG15","v":-17.100000000000001},{"$f":"+Daten!CI15","v":-17.399999999999999},{"$f":"+Daten!CC5","v":-12.04},null,{"$f":"+Daten!BX15","v":"2009-01-31"},{"$f":"+Daten!BY15","v":-22.8},{"$f":"+Daten!CA15","v":-20.7},{"$f":"+Daten!CE15","v":-16.899999999999999},{"$f":"+Daten!CO15","v":-15.3}]
[{"$f":"+Daten!A16","v":"2010-12-31"},{"$f":"+Daten!B16","v":0.3},{"$f":"+Daten!D16","v":2.1},{"$f":"+Daten!N16","v":1.7},{"$f":"+Daten!P16","v":2.1},{"$f":"+Daten!J16","v":-0.6},null,{"$f":"+Daten!A16","v":"2010-12-31"},{"$f":"+Daten!F16","v":0.3},{"$f":"+Daten!H16","v":0.2},{"$f":"+Daten!L16","v":4.5},{"$f":"+Daten!V16","v":4.4000000000000004},null,{"$f":"+Daten!X16","v":"2009-02-28"},{"$f":"+Daten!Y16","v":4.2},{"$f":"+Daten!AA16","v":6},{"$f":"+Daten!AK16","v":10.7},{"$f":"+Daten!AM16","v":2.1},{"$f":"+Daten!AG16","v":6.89},null,{"$f":"+Daten!AB16","v":"2009-02-28"},{"$f":"+Daten!AC16","v":2},{"$f":"+Daten!AE16","v":3},{"$f":"+Daten!AI16","v":13.9},{"$f":"+Daten!AS16","v":3.3},null,{"$f":"+Daten!AV16","v":"2009-02-28"},{"$f":"+Daten!AW16","v":14.8},{"$f":"+Daten!AY16","v":6.6899999999999995},17.399999999999999,{"$f":"+Daten!BK16","v":8.1999999999999993},{"$f":"+Daten!CV24","v":5.3},null,{"$f":"+Daten!AZ16","v":"2009-02-28"},{"$f":"+Daten!BA16","v":7.4},{"$f":"+Daten!BC16","v":9.1},{"$f":"+Daten!BG16","v":9.4},{"$f":"+Daten!BQ16","v":10.9},null,{"$f":"+Daten!BT16","v":"2009-02-28"},{"$f":"+Daten!BU16","v":-8.3000000000000007},{"$f":"+Daten!BW16","v":-17.7},{"$f":"+Daten!CG16","v":-19.7},{"$f":"+Daten!CI16","v":-22.3},{"$f":"+Daten!CC6","v":-12},null,{"$f":"+Daten!BX16","v":"2009-02-28"},{"$f":"+Daten!BY16","v":-23},{"$f":"+Daten!CA16","v":-25.3},{"$f":"+Daten!CE16","v":-16.7},{"$f":"+Daten!CO16","v":-14.6}]
[null,null,null,null,null,null,null,null,null,null,null,null,null,{"$f":"+Daten!X17","v":"2009-03-31"},{"$f":"+Daten!Y17","v":3.8},{"$f":"+Daten!AA17","v":4.9000000000000004},{"$f":"+Daten!AK17","v":9.4},{"$f":"+Daten!AM17","v":1.8},{"$f":"+Daten!AG17","v":6.71},null,{"$f":"+Daten!AB17","v":"2009-03-31"},{"$f":"+Daten!AC17","v":2.2999999999999998},{"$f":"+Daten!AE17","v":2.9},{"$f":"+Daten!AI17","v":14},{"$f":"+Daten!AS17","v":3.6},null,{"$f":"+Daten!AV17","v":"2009-03-31"},{"$f":"+Daten!AW17","v":15},{"$f":"+Daten!AY17","v":7.04},17.399999999999999,{"$f":"+Daten!BK17","v":8.4},{"$f":"+Daten!CV25","v":5.6},null,{"$f":"+Daten!AZ17","v":"2009-03-31"},{"$f":"+Daten!BA17","v":7.7},{"$f":"+Daten!BC17","v":9.6999999999999993},{"$f":"+Daten!BG17","v":9.1999999999999993},{"$f":"+Daten!BQ17","v":11.1},null,{"$f":"+Daten!BT17","v":"2009-03-31"},{"$f":"+Daten!BU17","v":-10},{"$f":"+Daten!BW17","v":-16.899999999999999},{"$f":"+Daten!CG17","v":-14.2},{"$f":"+Daten!CI17","v":-18.5},{"$f":"+Daten!CC7","v":-12.1},null,{"$f":"+Daten!BX17","v":"2009-03-31"},{"$f":"+Daten!BY17","v":-12.2},{"$f":"+Daten!CA17","v":-19.3},{"$f":"+Daten!CE17","v":-13.2},{"$f":"+Daten!CO17","v":-1.9}]
[null,null,null,null,null,null,null,null,null,null,null,null,null,{"$f":"+Daten!X18","v":"2009-04-30"},{"$f":"+Daten!Y18","v":3.9},{"$f":"+Daten!AA18","v":4.8},{"$f":"+Daten!AK18","v":8.8000000000000007},{"$f":"+Daten!AM18","v":1.1000000000000001},{"$f":"+Daten!AG18","v":6.45},null,{"$f":"+Daten!AB18","v":"2009-04-30"},{"$f":"+Daten!AC18","v":1.8},{"$f":"+Daten!AE18","v":3.4},{"$f":"+Daten!AI18","v":13.2},{"$f":"+Daten!AS18","v":4},null,{"$f":"+Daten!AV18","v":"2009-04-30"},{"$f":"+Daten!AW18","v":14.8},{"$f":"+Daten!AY18","v":7.08},17.399999999999999,{"$f":"+Daten!BK18","v":8.8000000000000007},{"$f":"+Daten!CV26","v":5.7},null,{"$f":"+Daten!AZ18","v":"2009-04-30"},{"$f":"+Daten!BA18","v":7.9},{"$f":"+Daten!BC18","v":9.9},{"$f":"+Daten!BG18","v":8.8000000000000007},{"$f":"+Daten!BQ18","v":10.9},null,{"$f":"+Daten!BT18","v":"2009-04-30"},{"$f":"+Daten!BU18","v":-5},{"$f":"+Daten!BW18","v":-20.2},{"$f":"+Daten!CG18","v":-21.1},{"$f":"+Daten!CI18","v":-24.9},{"$f":"+Daten!CC8","v":-9.5},null,{"$f":"+Daten!BX18","v":"2009-04-30"},{"$f":"+Daten!BY18","v":-22.1},{"$f":"+Daten!CA18","v":-25.4},{"$f":"+Daten!CE18","v":-14.2},{"$f":"+Daten!CO18","v":-12.2}]
[null,null,null,null,null,null,null,null,null,null,null,null,null,{"$f":"+Daten!X19","v":"2009-05-31"},{"$f":"+Daten!Y19","v":2.7},{"$f":"+Daten!AA19","v":3.9},{"$f":"+Daten!AK19","v":9.1},{"$f":"+Daten!AM19","v":0.7},{"$f":"+Daten!AG19","v":5.95},null,{"$f":"+Daten!AB19","v":"2009-05-31"},{"$f":"+Daten!AC19","v":1.3},{"$f":"+Daten!AE19","v":3.8},{"$f":"+Daten!AI19","v":12.3},{"$f":"+Daten!AS19","v":3.6},null,{"$f":"+Daten!AV19","v":"2009-05-31"},{"$f":"+Daten!AW19","v":14.4},{"$f":"+Daten!AY19","v":7.3},17.399999999999999,{"$f":"+Daten!BK19","v":8.9},{"$f":"+Daten!CV27","v":5.8},null,{"$f":"+Daten!AZ19","v":"2009-05-31"},{"$f":"+Daten!BA19","v":7.9},{"$f":"+Daten!BC19","v":9.8000000000000007},{"$f":"+Daten!BG19","v":8.5},{"$f":"+Daten!BQ19","v":10.7},null,{"$f":"+Daten!BT19","v":"2009-05-31"},{"$f":"+Daten!BU19","v":-7.3},{"$f":"+Daten!BW19","v":-22},{"$f":"+Daten!CG19","v":-19.5},{"$f":"+Daten!CI19","v":-19.8},{"$f":"+Daten!CC9","v":-9.8000000000000007},null,{"$f":"+Daten!BX19","v":"2009-05-31"},{"$f":"+Daten!BY19","v":-21.3},{"$f":"+Daten!CA19","v":-22.1},{"$f":"+Daten!CE19","v":-14.5},{"$f":"+Daten!CO19","v":-5.2}]
[null,null,null,null,null,null,null,null,null,null,null,null,null,{"$f":"+Daten!X20","v":"2009-06-30"},{"$f":"+Daten!Y20","v":2.1},{"$f":"+Daten!AA20","v":3.7},{"$f":"+Daten!AK20","v":8.3000000000000007},{"$f":"+Daten!AM20","v":0.3},{"$f":"+Daten!AG20","v":5.86},null,{"$f":"+Daten!AB20","v":"2009-06-30"},{"$f":"+Daten!AC20","v":1.2},{"$f":"+Daten!AE20","v":3.7},{"$f":"+Daten!AI20","v":11.9},{"$f":"+Daten!AS20","v":3.5},null,{"$f":"+Daten!AV20","v":"2009-06-30"},{"$f":"+Daten!AW20","v":14},{"$f":"+Daten!AY20","v":7.62},17.399999999999999,{"$f":"+Daten!BK20","v":9.1},{"$f":"+Daten!CV28","v":6},null,{"$f":"+Daten!AZ20","v":"2009-06-30"},{"$f":"+Daten!BA20","v":8},{"$f":"+Daten!BC20","v":9.6},{"$f":"+Daten!BG20","v":8.3000000000000007},{"$f":"+Daten!BQ20","v":10.6},null,{"$f":"+Daten!BT20","v":"2009-06-30"},{"$f":"+Daten!BU20","v":-12.4},{"$f":"+Daten!BW20","v":-18.2},{"$f":"+Daten!CG20","v":-14.1},{"$f":"+Daten!CI20","v":-22.3},{"$f":"+Daten!CC10","v":-8.9},null,{"$f":"+Daten!BX20","v":"2009-06-30"},{"$f":"+Daten!BY20","v":-11.8},{"$f":"+Daten!CA20","v":-18.600000000000001},{"$f":"+Daten!CE20","v":-12},{"$f":"+Daten!CO20","v":-4.5}]
[null,null,null,null,null,null,null,null,null,null,null,null,null,{"$f":"+Daten!X21","v":"2009-07-31"},{"$f":"+Daten!Y21","v":1.2},{"$f":"+Daten!AA21","v":1.6},{"$f":"+Daten!AK21","v":8.5},{"$f":"+Daten!AM21","v":-0.6},{"$f":"+Daten!AG21","v":5.0599999999999996},null,{"$f":"+Daten!AB21","v":"2009-07-31"},{"$f":"+Daten!AC21","v":0.3},{"$f":"+Daten!AE21","v":5.0999999999999996},{"$f":"+Daten!AI21","v":12},{"$f":"+Daten!AS21","v":3.6},null,{"$f":"+Daten!AV21","v":"2009-07-31"},{"$f":"+Daten!AW21","v":14},{"$f":"+Daten!AY21","v":7.88},17.399999999999999,{"$f":"+Daten!BK21","v":9.4},{"$f":"+Daten!CV29","v":6.3},null,{"$f":"+Daten!AZ21","v":"2009-07-31"},{"$f":"+Daten!BA21","v":8.4},{"$f":"+Daten!BC21","v":9.6999999999999993},{"$f":"+Daten!BG21","v":8.5},{"$f":"+Daten!BQ21","v":10.7},null,{"$f":"+Daten!BT21","v":"2009-07-31"},{"$f":"+Daten!BU21","v":-9.1},{"$f":"+Daten!BW21","v":-18.7},{"$f":"+Daten!CG21","v":-15.4},{"$f":"+Daten!CI21","v":-20.399999999999999},{"$f":"+Daten!CC11","v":-6.9},null,{"$f":"+Daten!BX21","v":"2009-07-31"},{"$f":"+Daten!BY21","v":-18.2},{"$f":"+Daten!CA21","v":-19.399999999999999},{"$f":"+Daten!CE21","v":-9.8000000000000007},{"$f":"+Daten!CO21","v":-4.4000000000000004}]
[null,null,null,null,null,null,null,null,null,null,null,null,null,{"$f":"+Daten!X22","v":"2009-08-31"},{"$f":"+Daten!Y22","v":1.5},{"$f":"+Daten!AA22","v":1.3},{"$f":"+Daten!AK22","v":8},{"$f":"+Daten!AM22","v":0},{"$f":"+Daten!AG22","v":4.96},null,{"$f":"+Daten!AB22","v":"2009-08-31"},{"$f":"+Daten!AC22","v":0.2},{"$f":"+Daten!AE22","v":5},{"$f":"+Daten!AI22","v":11.6},{"$f":"+Daten!AS22","v":3.7},null,{"$f":"+Daten!AV22","v":"2009-08-31"},{"$f":"+Daten!AW22","v":14.2},{"$f":"+Daten!AY22","v":8.0299999999999994},17.399999999999999,{"$f":"+Daten!BK22","v":9.4},{"$f":"+Daten!CV30","v":6.6},null,{"$f":"+Daten!AZ22","v":"2009-08-31"},{"$f":"+Daten!BA22","v":8.5},{"$f":"+Daten!BC22","v":9.9},{"$f":"+Daten!BG22","v":7.8},{"$f":"+Daten!BQ22","v":10.8},null,{"$f":"+Daten!BT22","v":"2009-08-31"},{"$f":"+Daten!BU22","v":-9.6999999999999993},{"$f":"+Daten!BW22","v":-15.9},{"$f":"+Daten!CG22","v":-10},{"$f":"+Daten!CI22","v":-18.399999999999999},{"$f":"+Daten!CC12","v":-5.9},null,{"$f":"+Daten!BX22","v":"2009-08-31"},{"$f":"+Daten!BY22","v":-8.8000000000000007},{"$f":"+Daten!CA22","v":-19.7},{"$f":"+Daten!CE22","v":-10.7},{"$f":"+Daten!CO22","v":0.1}]
[null,null,null,null,null,null,null,null,null,null,null,null,null,{"$f":"+Daten!X23","v":"2009-09-30"},{"$f":"+Daten!Y23","v":1},{"$f":"+Daten!AA23","v":0.2},{"$f":"+Daten!AK23","v":7.3},{"$f":"+Daten!AM23","v":-0.1},{"$f":"+Daten!AG23","v":4.9399999999999995},null,{"$f":"+Daten!AB23","v":"2009-09-30"},{"$f":"+Daten!AC23","v":0},{"$f":"+Daten!AE23","v":4.9000000000000004},{"$f":"+Daten!AI23","v":10.7},{"$f":"+Daten!AS23","v":3.4},null,{"$f":"+Daten!AV23","v":"2009-09-30"},{"$f":"+Daten!AW23","v":14.7},{"$f":"+Daten!AY23","v":8.23},17.399999999999999,{"$f":"+Daten!BK23","v":9.4},{"$f":"+Daten!CV31","v":6.8},null,{"$f":"+Daten!AZ23","v":"2009-09-30"},{"$f":"+Daten!BA23","v":8.6},{"$f":"+Daten!BC23","v":10.3},{"$f":"+Daten!BG23","v":7.6},{"$f":"+Daten!BQ23","v":10.9},null,{"$f":"+Daten!BT23","v":"2009-09-30"},{"$f":"+Daten!BU23","v":-9.5},{"$f":"+Daten!BW23","v":-21.1},{"$f":"+Daten!CG23","v":-6.3},{"$f":"+Daten!CI23","v":-16.3},{"$f":"+Daten!CC13","v":-4},null,{"$f":"+Daten!BX23","v":"2009-09-30"},{"$f":"+Daten!BY23","v":-11.5},{"$f":"+Daten!CA23","v":-14.7},{"$f":"+Daten!CE23","v":-8.4},{"$f":"+Daten!CO23","v":-1.3}]
[null,null,null,null,null,null,null,null,null,null,null,null,null,{"$f":"+Daten!X24","v":"2009-10-31"},{"$f":"+Daten!Y24","v":1.3},{"$f":"+Daten!AA24","v":-0.3},{"$f":"+Daten!AK24","v":5.2},{"$f":"+Daten!AM24","v":0},{"$f":"+Daten!AG24","v":4.3},null,{"$f":"+Daten!AB24","v":"2009-10-31"},{"$f":"+Daten!AC24","v":-0.2},{"$f":"+Daten!AE24","v":4.7},{"$f":"+Daten!AI24","v":9.6999999999999993},{"$f":"+Daten!AS24","v":3.1},null,{"$f":"+Daten!AV24","v":"2009-10-31"},{"$f":"+Daten!AW24","v":15.5},{"$f":"+Daten!AY24","v":8.66},{"$f":"VLOOKUP(AA23,Daten!CX:CY,2,1)","v":17.399999999999999},{"$f":"+Daten!BK24","v":10},{"$f":"+Daten!CV32","v":7.1},null,{"$f":"+Daten!AZ24","v":"2009-10-31"},{"$f":"+Daten!BA24","v":8.5},{"$f":"+Daten!BC24","v":10.4},{"$f":"+Daten!BG24","v":7.7},{"$f":"+Daten!BQ24","v":11.1},null,{"$f":"+Daten!BT24","v":"2009-10-31"},{"$f":"+Daten!BU24","v":-7.2},{"$f":"+Daten!BW24","v":-16.100000000000001},{"$f":"+Daten!CG24","v":-5.8},{"$f":"+Daten!CI24","v":-18.3},{"$f":"+Daten!CC14","v":-1.5},null,{"$f":"+Daten!BX24","v":"2009-10-31"},{"$f":"+Daten!BY24","v":-7.2},{"$f":"+Daten!CA24","v":-11.1},{"$f":"+Daten!CE24","v":-5.6},{"$f":"+Daten!CO24","v":-1.3}]
[null,null,null,null,null,null,null,null,null,null,null,null,null,{"$f":"+Daten!X25","v":"2009-11-30"},{"$f":"+Daten!Y25","v":1.8},{"$f":"+Daten!AA25","v":-0.1},{"$f":"+Daten!AK25","v":5.9},{"$f":"+Daten!AM25","v":1.6},{"$f":"+Daten!AG25","v":4.7},null,{"$f":"+Daten!AB25","v":"2009-11-30"},{"$f":"+Daten!AC25","v":0.5},{"$f":"+Daten!AE25","v":5.2},{"$f":"+Daten!AI25","v":9.1},{"$f":"+Daten!AS25","v":3.3},null,{"$f":"+Daten!AV25","v":"2009-11-30"},{"$f":"+Daten!AW25","v":16.100000000000001},{"$f":"+Daten!AY25","v":9.1300000000000008},{"$f":"VLOOKUP(AA24,Daten!CX:CY,2,1)","v":17.399999999999999},{"$f":"+Daten!BK25","v":10.1},{"$f":"+Daten!CV33","v":7.5},null,{"$f":"+Daten!AZ25","v":"2009-11-30"},{"$f":"+Daten!BA25","v":8.6},{"$f":"+Daten!BC25","v":10.5},{"$f":"+Daten!BG25","v":8.1999999999999993},{"$f":"+Daten!BQ25","v":11.4},null,{"$f":"+Daten!BT25","v":"2009-11-30"},{"$f":"+Daten!BU25","v":-9.8000000000000007},{"$f":"+Daten!BW25","v":-10.8},{"$f":"+Daten!CG25","v":-4.2},{"$f":"+Daten!CI25","v":-2.2999999999999998},{"$f":"+Daten!CC15","v":3},null,{"$f":"+Daten!BX25","v":"2009-11-30"},{"$f":"+Daten!BY25","v":-0.2},{"$f":"+Daten!CA25","v":-9},{"$f":"+Daten!CE25","v":4.9000000000000004},{"$f":"+Daten!CO25","v":9.9}]
[null,null,null,null,null,null,null,null,null,null,null,null,null,{"$f":"+Daten!X26","v":"2009-12-31"},{"$f":"+Daten!Y26","v":1.9},{"$f":"+Daten!AA26","v":0.6},{"$f":"+Daten!AK26","v":6.6},{"$f":"+Daten!AM26","v":1.8},{"$f":"+Daten!AG26","v":4.74},null,{"$f":"+Daten!AB26","v":"2009-12-31"},{"$f":"+Daten!AC26","v":1},{"$f":"+Daten!AE26","v":5.6},{"$f":"+Daten!AI26","v":8.8000000000000007},{"$f":"+Daten!AS26","v":3.5},null,{"$f":"+Daten!AV26","v":"2009-12-31"},{"$f":"+Daten!AW26","v":16.7},{"$f":"+Daten!AY26","v":9.9},{"$f":"VLOOKUP(AA25,Daten!CX:CY,2,1)","v":17.399999999999999},{"$f":"+Daten!BK26","v":10.3},{"$f":"+Daten!CV34","v":7.8},null,{"$f":"+Daten!AZ26","v":"2009-12-31"},{"$f":"+Daten!BA26","v":9.1999999999999993},{"$f":"+Daten!BC26","v":10.5},{"$f":"+Daten!BG26","v":8.1999999999999993},{"$f":"+Daten!BQ26","v":12.1},null,{"$f":"+Daten!BT26","v":"2009-12-31"},{"$f":"+Daten!BU26","v":-7.2},{"$f":"+Daten!BW26","v":-12.1},{"$f":"+Daten!CG26","v":-1.3},{"$f":"+Daten!CI26","v":2.7},{"$f":"+Daten!CC16","v":8.3000000000000007},null,{"$f":"+Daten!BX26","v":"2009-12-31"},{"$f":"+Daten!BY26","v":1.8},{"$f":"+Daten!CA26","v":-0.8},{"$f":"+Daten!CE26","v":6.9},{"$f":"+Daten!CO26","v":7.4}]
[null,null,null,null,null,null,null,null,null,null,null,null,null,{"$f":"+Daten!X27","v":"2010-01-31"},{"$f":"+Daten!Y27","v":1.1000000000000001},{"$f":"+Daten!AA27","v":0.5},{"$f":"+Daten!AK27","v":4.8},{"$f":"+Daten!AM27","v":1.5},{"$f":"+Daten!AG27","v":5.2},null,{"$f":"+Daten!AB27","v":"2010-01-31"},{"$f":"+Daten!AC27","v":0.7},{"$f":"+Daten!AE27","v":6.4},{"$f":"+Daten!AI27","v":8},{"$f":"+Daten!AS27","v":3.5},null,{"$f":"+Daten!AV27","v":"2010-01-31"},{"$f":"+Daten!AW27","v":17.8},{"$f":"+Daten!AY27","v":10.26},{"$f":"VLOOKUP(AA26,Daten!CX:CY,2,1)","v":17.399999999999999},{"$f":"+Daten!BK27","v":10.6},{"$f":"+Daten!CV35","v":8.1},null,{"$f":"+Daten!AZ27","v":"2010-01-31"},{"$f":"+Daten!BA27","v":9.8000000000000007},{"$f":"+Daten!BC27","v":10.8},{"$f":"+Daten!BG27","v":9.1999999999999993},{"$f":"+Daten!BQ27","v":12.9},null,{"$f":"+Daten!BT27","v":"2010-01-31"},{"$f":"+Daten!BU27","v":1.5},{"$f":"+Daten!BW27","v":-0.9},{"$f":"+Daten!CG27","v":3.7},{"$f":"+Daten!CI27","v":-7.9},{"$f":"+Daten!CC17","v":7.1},null,{"$f":"+Daten!BX27","v":"2010-01-31"},{"$f":"+Daten!BY27","v":4.9000000000000004},{"$f":"+Daten!CA27","v":6},{"$f":"+Daten!CE27","v":10.199999999999999},{"$f":"+Daten!CO27","v":8.5}]
[null,null,null,null,null,null,null,null,null,null,null,null,null,{"$f":"+Daten!X28","v":"2010-02-28"},{"$f":"+Daten!Y28","v":0.7},{"$f":"+Daten!AA28","v":0.9},{"$f":"+Daten!AK28","v":3.9},{"$f":"+Daten!AM28","v":1.3},{"$f":"+Daten!AG28","v":4.49},null,{"$f":"+Daten!AB28","v":"2010-02-28"},{"$f":"+Daten!AC28","v":0.6},{"$f":"+Daten!AE28","v":5.7},{"$f":"+Daten!AI28","v":7.2},{"$f":"+Daten!AS28","v":2.9},null,{"$f":"+Daten!AV28","v":"2010-02-28"},{"$f":"+Daten!AW28","v":18.3},{"$f":"+Daten!AY28","v":10.14},{"$f":"VLOOKUP(AA27,Daten!CX:CY,2,1)","v":17.399999999999999},{"$f":"+Daten!BK28","v":10.7},{"$f":"+Daten!CV36","v":8.4},null,{"$f":"+Daten!AZ28","v":"2010-02-28"},{"$f":"+Daten!BA28","v":9.9},{"$f":"+Daten!BC28","v":11.4},{"$f":"+Daten!BG28","v":8.6},{"$f":"+Daten!BQ28","v":13.2},null,{"$f":"+Daten!BT28","v":"2010-02-28"},{"$f":"+Daten!BU28","v":0.1},{"$f":"+Daten!BW28","v":-9.1},{"$f":"+Daten!CG28","v":2.8},{"$f":"+Daten!CI28","v":1.5},{"$f":"+Daten!CC18","v":1.4},null,{"$f":"+Daten!BX28","v":"2010-02-28"},{"$f":"+Daten!BY28","v":6.9},{"$f":"+Daten!CA28","v":8.1999999999999993},{"$f":"+Daten!CE28","v":8.4},{"$f":"+Daten!CO28","v":9.1999999999999993}]
[null,null,null,null,null,null,null,null,null,null,null,null,null,{"$f":"+Daten!X29","v":"2010-03-31"},{"$f":"+Daten!Y29","v":0.9},{"$f":"+Daten!AA29","v":1.3},{"$f":"+Daten!AK29","v":4.7},{"$f":"+Daten!AM29","v":1.4},{"$f":"+Daten!AG29","v":4.2},null,{"$f":"+Daten!AB29","v":"2010-03-31"},{"$f":"+Daten!AC29","v":0.7},{"$f":"+Daten!AE29","v":5.9},{"$f":"+Daten!AI29","v":6.5},{"$f":"+Daten!AS29","v":2.6},null,{"$f":"+Daten!AV29","v":"2010-03-31"},{"$f":"+Daten!AW29","v":17.899999999999999},{"$f":"+Daten!AY29","v":9.9499999999999993},{"$f":"VLOOKUP(AA28,Daten!CX:CY,2,1)","v":17.399999999999999},{"$f":"+Daten!BK29","v":10.6},{"$f":"+Daten!CV37","v":8.4},null,{"$f":"+Daten!AZ29","v":"2010-03-31"},{"$f":"+Daten!BA29","v":9.6999999999999993},{"$f":"+Daten!BC29","v":11.8},{"$f":"+Daten!BG29","v":8.6},{"$f":"+Daten!BQ29","v":13},null,{"$f":"+Daten!BT29","v":"2010-03-31"},{"$f":"+Daten!BU29","v":-0.6},{"$f":"+Daten!BW29","v":1.7},{"$f":"+Daten!CG29","v":2.7},{"$f":"+Daten!CI29","v":6.5},{"$f":"+Daten!CC19","v":5.2},null,{"$f":"+Daten!BX29","v":"2010-03-31"},{"$f":"+Daten!BY29","v":10.199999999999999},{"$f":"+Daten!CA29","v":4.2},{"$f":"+Daten!CE29","v":9.8000000000000007},{"$f":"+Daten!CO29","v":12.5}]
[null,null,null,null,null,null,null,null,null,null,null,null,null,{"$f":"+Daten!X30","v":"2010-04-30"},{"$f":"+Daten!Y30","v":0.6},{"$f":"+Daten!AA30","v":1.8},{"$f":"+Daten!AK30","v":4.3},{"$f":"+Daten!AM30","v":2.2999999999999998},{"$f":"+Daten!AG30","v":4.28},null,{"$f":"+Daten!AB30","v":"2010-04-30"},{"$f":"+Daten!AC30","v":1.1000000000000001},{"$f":"+Daten!AE30","v":5.7},{"$f":"+Daten!AI30","v":6},{"$f":"+Daten!AS30","v":2.4},null,{"$f":"+Daten!AV30","v":"2010-04-30"},{"$f":"+Daten!AW30","v":17.899999999999999},{"$f":"+Daten!AY30","v":9.5299999999999994},{"$f":"VLOOKUP(AA29,Daten!CX:CY,2,1)","v":20.100000000000001},{"$f":"+Daten!BK30","v":10.6},{"$f":"+Daten!CV38","v":8.1},null,{"$f":"+Daten!AZ30","v":"2010-04-30"},{"$f":"+Daten!BA30","v":9.1999999999999993},{"$f":"+Daten!BC30","v":11.8},{"$f":"+Daten!BG30","v":8.1999999999999993},{"$f":"+Daten!BQ30","v":12.4},null,{"$f":"+Daten!BT30","v":"2010-04-30"},{"$f":"+Daten!BU30","v":-6.5},{"$f":"+Daten!BW30","v":0.2},{"$f":"+Daten!CG30","v":11.3},{"$f":"+Daten!CI30","v":9.6999999999999993},{"$f":"+Daten!CC20","v":3},null,{"$f":"+Daten!BX30","v":"2010-04-30"},{"$f":"+Daten!BY30","v":10.9},{"$f":"+Daten!CA30","v":10},{"$f":"+Daten!CE30","v":10.4},{"$f":"+Daten!CO30","v":9.6999999999999993}]
[null,null,null,null,null,null,null,null,null,null,null,null,null,{"$f":"+Daten!X31","v":"2010-05-31"},{"$f":"+Daten!Y31","v":0.8},{"$f":"+Daten!AA31","v":1.9},{"$f":"+Daten!AK31","v":3.7},{"$f":"+Daten!AM31","v":2.1},{"$f":"+Daten!AG31","v":4.42},null,{"$f":"+Daten!AB31","v":"2010-05-31"},{"$f":"+Daten!AC31","v":1.2},{"$f":"+Daten!AE31","v":5.0999999999999996},{"$f":"+Daten!AI31","v":6},{"$f":"+Daten!AS31","v":2.2000000000000002},null,{"$f":"+Daten!AV31","v":"2010-05-31"},{"$f":"+Daten!AW31","v":17.2},{"$f":"+Daten!AY31","v":9.26},{"$f":"VLOOKUP(AA30,Daten!CX:CY,2,1)","v":20.100000000000001},{"$f":"+Daten!BK31","v":10.5},{"$f":"+Daten!CV39","v":7.7},null,{"$f":"+Daten!AZ31","v":"2010-05-31"},{"$f":"+Daten!BA31","v":8.6999999999999993},{"$f":"+Daten!BC31","v":11.4},{"$f":"+Daten!BG31","v":7.3},{"$f":"+Daten!BQ31","v":12.1},null,{"$f":"+Daten!BT31","v":"2010-05-31"},{"$f":"+Daten!BU31","v":-3.4},{"$f":"+Daten!BW31","v":0.4},{"$f":"+Daten!CG31","v":7},{"$f":"+Daten!CI31","v":11.8},{"$f":"+Daten!CC21","v":4.0999999999999996},null,{"$f":"+Daten!BX31","v":"2010-05-31"},{"$f":"+Daten!BY31","v":16.2},{"$f":"+Daten!CA31","v":14.2},{"$f":"+Daten!CE31","v":12.6},{"$f":"+Daten!CO31","v":13.5}]
[null,null,null,null,null,null,null,null,null,null,null,null,null,{"$f":"+Daten!X32","v":"2010-06-30"},{"$f":"+Daten!Y32","v":0.7},{"$f":"+Daten!AA32","v":1.4},{"$f":"+Daten!AK32","v":4.2},{"$f":"+Daten!AM32","v":1.9},{"$f":"+Daten!AG32","v":4.4000000000000004},null,{"$f":"+Daten!AB32","v":"2010-06-30"},{"$f":"+Daten!AC32","v":1.2},{"$f":"+Daten!AE32","v":5.3},{"$f":"+Daten!AI32","v":5.8},{"$f":"+Daten!AS32","v":2.2999999999999998},null,{"$f":"+Daten!AV32","v":"2010-06-30"},{"$f":"+Daten!AW32","v":16.600000000000001},{"$f":"+Daten!AY32","v":9.23},{"$f":"VLOOKUP(AA31,Daten!CX:CY,2,1)","v":20.100000000000001},{"$f":"+Daten!BK32","v":10.5},{"$f":"+Daten!CV40","v":7.5},null,{"$f":"+Daten!AZ32","v":"2010-06-30"},{"$f":"+Daten!BA32","v":8.5},{"$f":"+Daten!BC32","v":11.1},{"$f":"+Daten!BG32","v":6.8},{"$f":"+Daten!BQ32","v":11.7},null,{"$f":"+Daten!BT32","v":"2010-06-30"},{"$f":"+Daten!BU32","v":-4},{"$f":"+Daten!BW32","v":3.6},{"$f":"+Daten!CG32","v":2.5},{"$f":"+Daten!CI32","v":10.4},{"$f":"+Daten!CC22","v":4.7},null,{"$f":"+Daten!BX32","v":"2010-06-30"},{"$f":"+Daten!BY32","v":9},{"$f":"+Daten!CA32","v":12.6},{"$f":"+Daten!CE32","v":9.6999999999999993},{"$f":"+Daten!CO32","v":14.3}]
[null,null,null,null,null,null,null,null,null,null,null,null,null,{"$f":"+Daten!X33","v":"2010-07-31"},{"$f":"+Daten!Y33","v":1},{"$f":"+Daten!AA33","v":2.4},{"$f":"+Daten!AK33","v":5.0999999999999996},{"$f":"+Daten!AM33","v":2.1},{"$f":"+Daten!AG33","v":7.14},null,{"$f":"+Daten!AB33","v":"2010-07-31"},{"$f":"+Daten!AC33","v":1.9},{"$f":"+Daten!AE33","v":4},{"$f":"+Daten!AI33","v":5.5},{"$f":"+Daten!AS33","v":2},null,{"$f":"+Daten!AV33","v":"2010-07-31"},{"$f":"+Daten!AW33","v":16.399999999999999},{"$f":"+Daten!AY33","v":9.14},{"$f":"VLOOKUP(AA32,Daten!CX:CY,2,1)","v":20.100000000000001},{"$f":"+Daten!BK33","v":10.5},{"$f":"+Daten!CV41","v":7.5},null,{"$f":"+Daten!AZ33","v":"2010-07-31"},{"$f":"+Daten!BA33","v":8.6999999999999993},{"$f":"+Daten!BC33","v":11},{"$f":"+Daten!BG33","v":7},{"$f":"+Daten!BQ33","v":11.5},null,{"$f":"+Daten!BT33","v":"2010-07-31"},{"$f":"+Daten!BU33","v":-1.8},{"$f":"+Daten!BW33","v":2.4},{"$f":"+Daten!CG33","v":5.0999999999999996},{"$f":"+Daten!CI33","v":9.5},{"$f":"+Daten!CC23","v":2.2999999999999998},null,{"$f":"+Daten!BX33","v":"2010-07-31"},{"$f":"+Daten!BY33","v":5.3},{"$f":"+Daten!CA33","v":12.1},{"$f":"+Daten!CE33","v":5.9},{"$f":"+Daten!CO33","v":10.5}]
[null,null,null,null,null,null,null,null,null,null,null,null,null,{"$f":"+Daten!X34","v":"2010-08-31"},{"$f":"+Daten!Y34","v":0.9},{"$f":"+Daten!AA34","v":2.7},{"$f":"+Daten!AK34","v":6.6},{"$f":"+Daten!AM34","v":2.2999999999999998},{"$f":"+Daten!AG34","v":7.58},null,{"$f":"+Daten!AB34","v":"2010-08-31"},{"$f":"+Daten!AC34","v":1.9},{"$f":"+Daten!AE34","v":3.7},{"$f":"+Daten!AI34","v":6.1},{"$f":"+Daten!AS34","v":2},null,{"$f":"+Daten!AV34","v":"2010-08-31"},{"$f":"+Daten!AW34","v":16.399999999999999},{"$f":"+Daten!AY34","v":9},{"$f":"VLOOKUP(AA33,Daten!CX:CY,2,1)","v":20.100000000000001},{"$f":"+Daten!BK34","v":10.6},{"$f":"+Daten!CV42","v":7.4},null,{"$f":"+Daten!AZ34","v":"2010-08-31"},{"$f":"+Daten!BA34","v":8.6},{"$f":"+Daten!BC34","v":11},{"$f":"+Daten!BG34","v":6.9},{"$f":"+Daten!BQ34","v":11.4},null,{"$f":"+Daten!BT34","v":"2010-08-31"},{"$f":"+Daten!BU34","v":-0.7},{"$f":"+Daten!BW34","v":4},{"$f":"+Daten!CG34","v":3.4},{"$f":"+Daten!CI34","v":11.5},{"$f":"+Daten!CC24","v":4.9000000000000004},null,{"$f":"+Daten!BX34","v":"2010-08-31"},{"$f":"+Daten!BY34","v":14.1},{"$f":"+Daten!CA34","v":15},{"$f":"+Daten!CE34","v":7},{"$f":"+Daten!CO34","v":13.6}]
[null,null,null,null,null,null,null,null,null,null,null,null,null,{"$f":"+Daten!X35","v":"2010-09-30"},{"$f":"+Daten!Y35","v":1.4},{"$f":"+Daten!AA35","v":3.5},{"$f":"+Daten!AK35","v":7.7},{"$f":"+Daten!AM35","v":2},{"$f":"+Daten!AG35","v":7.77},null,{"$f":"+Daten!AB35","v":"2010-09-30"},{"$f":"+Daten!AC35","v":2},{"$f":"+Daten!AE35","v":3.8},{"$f":"+Daten!AI35","v":7},{"$f":"+Daten!AS35","v":2.5},null,{"$f":"+Daten!AV35","v":"2010-09-30"},{"$f":"+Daten!AW35","v":16.899999999999999},{"$f":"+Daten!AY35","v":8.9},{"$f":"VLOOKUP(AA34,Daten!CX:CY,2,1)","v":20.100000000000001},{"$f":"+Daten!BK35","v":10.5},{"$f":"+Daten!CV43","v":7.3},null,{"$f":"+Daten!AZ35","v":"2010-09-30"},{"$f":"+Daten!BA35","v":8.5},{"$f":"+Daten!BC35","v":10.9},{"$f":"+Daten!BG35","v":6.6},{"$f":"+Daten!BQ35","v":11.5},null,{"$f":"+Daten!BT35","v":"2010-09-30"},{"$f":"+Daten!BU35","v":3.1},{"$f":"+Daten!BW35","v":9.3000000000000007},{"$f":"+Daten!CG35","v":2.6},{"$f":"+Daten!CI35","v":5.0999999999999996},{"$f":"+Daten!CC25","v":2.8},null,{"$f":"+Daten!BX35","v":"2010-09-30"},{"$f":"+Daten!BY35","v":12.4},{"$f":"+Daten!CA35","v":11.2},{"$f":"+Daten!CE35","v":6.2},{"$f":"+Daten!CO35","v":11.8}]
[null,null,null,null,null,null,null,null,null,null,null,null,null,{"$f":"+Daten!X36","v":"2010-10-31"},{"$f":"+Daten!Y36","v":1.4},{"$f":"+Daten!AA36","v":3.9},{"$f":"+Daten!AK36","v":8.9},{"$f":"+Daten!AM36","v":1.9},{"$f":"+Daten!AG36","v":7.88},null,{"$f":"+Daten!AB36","v":"2010-10-31"},{"$f":"+Daten!AC36","v":2},{"$f":"+Daten!AE36","v":4.2},{"$f":"+Daten!AI36","v":7.5},{"$f":"+Daten!AS36","v":2.8},null,{"$f":"+Daten!AV36","v":"2010-10-31"},{"$f":"+Daten!AW36","v":17.8},{"$f":"+Daten!AY36","v":9.1},{"$f":"VLOOKUP(AA35,Daten!CX:CY,2,1)","v":20},{"$f":"+Daten!BK36","v":10.9},{"$f":"+Daten!CV44","v":7.1},null,{"$f":"+Daten!AZ36","v":"2010-10-31"},{"$f":"+Daten!BA36","v":8.5},{"$f":"+Daten!BC36","v":10.9},{"$f":"+Daten!BG36","v":6.8},{"$f":"+Daten!BQ36","v":11.5},null,{"$f":"+Daten!BT36","v":"2010-10-31"},{"$f":"+Daten!BU36","v":-4.5},{"$f":"+Daten!BW36","v":4},{"$f":"+Daten!CG36","v":-2.9},{"$f":"+Daten!CI36","v":8.5},{"$f":"+Daten!CC26","v":2},null,{"$f":"+Daten!BX36","v":"2010-10-31"},{"$f":"+Daten!BY36","v":6.9},{"$f":"+Daten!CA36","v":8.5},{"$f":"+Daten!CE36","v":6.6},{"$f":"+Daten!CO36","v":8}]
[null,null,null,null,null,null,null,null,null,null,null,null,null,{"$f":"+Daten!X37","v":"2010-11-30"},{"$f":"+Daten!Y37","v":1.2},{"$f":"+Daten!AA37","v":4.5999999999999996},{"$f":"+Daten!AK37","v":9.6},{"$f":"+Daten!AM37","v":1.4},{"$f":"+Daten!AG37","v":7.73},null,{"$f":"+Daten!AB37","v":"2010-11-30"},{"$f":"+Daten!AC37","v":2},{"$f":"+Daten!AE37","v":4.2},{"$f":"+Daten!AI37","v":8.1},{"$f":"+Daten!AS37","v":2.7},null,{"$f":"+Daten!AV37","v":"2010-11-30"},{"$f":"+Daten!AW37","v":18.3},{"$f":"+Daten!AY37","v":9.1999999999999993},{"$f":"VLOOKUP(AA36,Daten!CX:CY,2,1)","v":20},{"$f":"+Daten!BK37","v":11.1},{"$f":"+Daten!CV45","v":6.9},null,{"$f":"+Daten!AZ37","v":"2010-11-30"},{"$f":"+Daten!BA37","v":8.6},{"$f":"+Daten!BC37","v":10.7},{"$f":"+Daten!BG37","v":6.7},{"$f":"+Daten!BQ37","v":11.7},null,{"$f":"+Daten!BT37","v":"2010-11-30"},{"$f":"+Daten!BU37","v":0.2},{"$f":"+Daten!BW37","v":5.8},{"$f":"+Daten!CG37","v":-0.5},{"$f":"+Daten!CI37","v":5.4},{"$f":"+Daten!CC27","v":4},null,{"$f":"+Daten!BX37","v":"2010-11-30"},{"$f":"+Daten!BY37","v":15.2},{"$f":"+Daten!CA37","v":14.7},{"$f":"+Daten!CE37","v":6.7},{"$f":"+Daten!CO37","v":10}]
[null,null,null,null,null,null,null,null,null,null,null,null,null,{"$f":"+Daten!X38","v":"2010-12-31"},{"$f":"+Daten!Y38","v":1.8},{"$f":"+Daten!AA38","v":4.5},{"$f":"+Daten!AK38","v":10.3},{"$f":"+Daten!AM38","v":1.9},{"$f":"+Daten!AG38","v":7.96},null,{"$f":"+Daten!AB38","v":"2010-12-31"},{"$f":"+Daten!AC38","v":2.2999999999999998},{"$f":"+Daten!AE38","v":4.7},{"$f":"+Daten!AI38","v":8.8000000000000007},{"$f":"+Daten!AS38","v":3.1},null,{"$f":"+Daten!AV38","v":"2010-12-31"},{"$f":"+Daten!AW38","v":18.8},{"$f":"+Daten!AY38","v":9.8000000000000007},{"$f":"VLOOKUP(AA37,Daten!CX:CY,2,1)","v":20},{"$f":"+Daten!BK38","v":11.8},{"$f":"+Daten!CV46","v":6.9},null,{"$f":"+Daten!AZ38","v":"2010-12-31"},{"$f":"+Daten!BA38","v":9.6},{"$f":"+Daten!BC38","v":10.8},{"$f":"+Daten!BG38","v":7.2},{"$f":"+Daten!BQ38","v":12.3},null,{"$f":"+Daten!BT38","v":"2010-12-31"},{"$f":"+Daten!BU38","v":-0.7},{"$f":"+Daten!BW38","v":5.2},{"$f":"+Daten!CG38","v":-0.8},{"$f":"+Daten!CI38","v":10.8},{"$f":"+Daten!CC28","v":6.5},null,{"$f":"+Daten!BX38","v":"2010-12-31"},{"$f":"+Daten!BY38","v":12},{"$f":"+Daten!CA38","v":5.9},{"$f":"+Daten!CE38","v":6.3},{"$f":"+Daten!CO38","v":11.4}]
[null,null,null,null,null,null,null,null,null,null,null,null,null,{"$f":"+Daten!X39","v":"2011-01-31"},{"$f":"+Daten!Y39","v":1.9},{"$f":"+Daten!AA39","v":4.5},{"$f":"+Daten!AK39","v":11.2},{"$f":"+Daten!AM39","v":1.8},{"$f":"+Daten!AG39","v":6.99},null,{"$f":"+Daten!AB39","v":"2011-01-31"},{"$f":"+Daten!AC39","v":1.7},{"$f":"+Daten!AE39","v":4},{"$f":"+Daten!AI39","v":9.6},{"$f":"+Daten!AS39","v":3.6},null,{"$f":"+Daten!AV39","v":"2011-01-31"},{"$f":"+Daten!AW39","v":19.600000000000001},{"$f":"+Daten!AY39","v":9.7799999999999994},{"$f":"VLOOKUP(AA38,Daten!CX:CY,2,1)","v":20},{"$f":"+Daten!BK39","v":12.3},{"$f":"+Daten!CV47","v":6.74},null,{"$f":"+Daten!AZ39","v":"2011-01-31"},{"$f":"+Daten!BA39","v":9.6999999999999993},{"$f":"+Daten!BC39","v":11.2},{"$f":"+Daten!BG39","v":7.8},{"$f":"+Daten!BQ39","v":13},null,{"$f":"+Daten!BT39","v":"2011-01-31"},{"$f":"+Daten!BU39","v":-6.7},{"$f":"+Daten!BW39","v":8.6},{"$f":"+Daten!CG39","v":3.8},{"$f":"+Daten!CI39","v":12.7},{"$f":"+Daten!CC29","v":10.6},null,{"$f":"+Daten!BX39","v":"2011-01-31"},{"$f":"+Daten!BY39","v":16.399999999999999},{"$f":"+Daten!CA39","v":10.7},{"$f":"+Daten!CE39","v":6.7},{"$f":"+Daten!CO39","v":10.3}]
[null,null,null,null,null,null,null,null,null,null,null,null,null,{"$f":"+Daten!X40","v":"2011-02-28"},{"$f":"+Daten!Y40","v":2.2000000000000002},{"$f":"+Daten!AA40","v":5.2},{"$f":"+Daten!AK40","v":12.6},{"$f":"+Daten!AM40","v":1.4},{"$f":"+Daten!AG40","v":7.6},null,{"$f":"+Daten!AB40","v":"2011-02-28"},{"$f":"+Daten!AC40","v":1.8},{"$f":"+Daten!AE40","v":4.0999999999999996},{"$f":"+Daten!AI40","v":9.5},{"$f":"+Daten!AS40","v":3.6},null,{"$f":"+Daten!AV40","v":"2011-02-28"},{"$f":"+Daten!AW40","v":19.600000000000001},null,{"$f":"VLOOKUP(AA39,Daten!CX:CY,2,1)","v":20},null,{"$f":"+Daten!CV48","v":6.58},null,{"$f":"+Daten!AZ40","v":"2011-02-28"},{"$f":"+Daten!BA40","v":9.6},{"$f":"+Daten!BC40","v":11.5},{"$f":"+Daten!BG40","v":7.6},{"$f":"+Daten!BQ40","v":13.2},null,{"$f":"+Daten!BT40","v":"2011-02-28"},{"$f":"+Daten!BU40","v":-4.0999999999999996},{"$f":"+Daten!BW40","v":15.2},{"$f":"+Daten!CG40","v":5.8},{"$f":"+Daten!CI40","v":7.7},{"$f":"+Daten!CC30","v":12.7},null,{"$f":"+Daten!BX40","v":"2011-02-28"},{"$f":"+Daten!BY40","v":13},{"$f":"+Daten!CA40","v":14.3},{"$f":"+Daten!CE40","v":5.8},{"$f":"+Daten!CO40","v":10.7}]

{"sheet":"chart","index":2,"n_rows":49,"n_cols":35,"rows_kept":49,"cut":false,"hidden":false,"merged":[]}
[null,null,null,null,null,null,null,null,null,false,true,true,true,true,null,null,true,true,true,true]
[null,null,null,null,null,null,null,"Inflation",null,null,null,null,null,null,null,null,null,null,null,null,null,{"$f":"H2&\" SEE\"","v":"Inflation SEE"},null,null,null,null,null,null,null,null,null,true,true,true,true]
[null,null,null,null,null,null,null,null,null,"Croatia","Bulgaria","Serbia","Slovenia","Romania",null,null,"Czech Republic","Hungary","Russia","Poland",null,{"$f":"H2 & \" CEE\"","v":"Inflation CEE"},null,null,{"$f":"IF(J$1,J3,\"\")","v":""},"Bulgaria","Serbia","Slovenia","Romania",null,null,{"$f":"IF(Q$1,Q3,\"\")","v":"Czech Republic"},{"$f":"IF(R$1,R3,\"\")","v":"Hungary"},{"$f":"IF(S$1,S3,\"\")","v":"Russia"},{"$f":"IF(T$1,T3,\"\")","v":"Poland"}]
[null,null,null,null,null,null,null,null,{"$f":"IF(ISNUMBER(IF($H$2=$V$5,OFFSET(Tabelle!A4,0,0),IF($H$2=$V$6,OFFSET(Tabelle!N4,0,0),IF($H$2=$V$7,OFFSET(Tabelle!AA4,0,0),IF($H$2=$V$8,OFFSET(Tabelle!AN4,0,0)))))),IF($H$2=$V$5,OFFSET(Tabelle!A4,0,0),IF($H$2=$V$6,OFFSET(Tabelle!N4,0,0),IF($H$2=$V$7,OFFSET(Tabelle!AA4,0,0),IF($H$2=$V$8,OFFSET(Tabelle!AN4,0,0))))),\"\")","v":"2008-03-31"},{"$f":"IF(ISERROR(IF($H$2=$V$5,VLOOKUP($I4,Tabelle!$A:$B,2,0),IF($H$2=$V$6,VLOOKUP($I4,Tabelle!$N:$O,2,0),IF($H$2=$V$7,VLOOKUP($I4,Tabelle!$AA:$AB,2,0),IF($H$2=$V$8,VLOOKUP($I4,Tabelle!$AN:$AO,2,0)))))),\"\",IF($H$2=$V$5,VLOOKUP($I4,Tabelle!$A:$B,2,0),IF($H$2=$V$6,VLOOKUP($I4,Tabelle!$N:$O,2,0),IF($H$2=$V$7,VLOOKUP($I4,Tabelle!$AA:$AB,2,0),IF($H$2=$V$8,VLOOKUP($I4,Tabelle!$AN:$AO,2,0))))))","v":5.7},{"$f":"IF(ISERROR(IF($H$2=$V$5,VLOOKUP($I4,Tabelle!$A:$C,3,0),IF($H$2=$V$6,VLOOKUP($I4,Tabelle!$N:$P,3,0),IF($H$2=$V$7,VLOOKUP($I4,Tabelle!$AA:$AC,3,0),IF($H$2=$V$8,VLOOKUP($I4,Tabelle!$AN:$AP,3,0)))))),\"\",IF($H$2=$V$5,VLOOKUP($I4,Tabelle!$A:$C,3,0),IF($H$2=$V$6,VLOOKUP($I4,Tabelle!$N:$P,3,0),IF($H$2=$V$7,VLOOKUP($I4,Tabelle!$AA:$AC,3,0),IF($H$2=$V$8,VLOOKUP($I4,Tabelle!$AN:$AP,3,0))))))","v":14.2},{"$f":"IF(ISERROR(IF($H$2=$V$5,VLOOKUP($I4,Tabelle!$A:$D,4,0),IF($H$2=$V$6,VLOOKUP($I4,Tabelle!$N:$Q,4,0),IF($H$2=$V$7,VLOOKUP($I4,Tabelle!$AA:$AD,4,0),IF($H$2=$V$8,VLOOKUP($I4,Tabelle!$AN:$AQ,4,0)))))),\"\",IF($H$2=$V$5,VLOOKUP($I4,Tabelle!$A:$D,4,0),IF($H$2=$V$6,VLOOKUP($I4,Tabelle!$N:$Q,4,0),IF($H$2=$V$7,VLOOKUP($I4,Tabelle!$AA:$AD,4,0),IF($H$2=$V$8,VLOOKUP($I4,Tabelle!$AN:$AQ,4,0))))))","v":13.6},{"$f":"IF(ISERROR(IF($H$2=$V$5,VLOOKUP($I4,Tabelle!$A:$E,5,0),IF($H$2=$V$6,VLOOKUP($I4,Tabelle!$N:$R,5,0),IF($H$2=$V$7,VLOOKUP($I4,Tabelle!$AA:$AE,5,0),IF($H$2=$V$8,VLOOKUP($I4,Tabelle!$AN:$AR,5,0)))))),\"\",IF($H$2=$V$5,VLOOKUP($I4,Tabelle!$A:$E,5,0),IF($H$2=$V$6,VLOOKUP($I4,Tabelle!$N:$R,5,0),IF($H$2=$V$7,VLOOKUP($I4,Tabelle!$AA:$AE,5,0),IF($H$2=$V$8,VLOOKUP($I4,Tabelle!$AN:$AR,5,0))))))","v":6.9},{"$f":"IF(ISERROR(IF($H$2=$V$5,VLOOKUP($I4,Tabelle!$A:$F,6,0),IF($H$2=$V$6,VLOOKUP($I4,Tabelle!$N:$S,6,0),IF($H$2=$V$7,VLOOKUP($I4,Tabelle!$AA:$AF,6,0),IF($H$2=$V$8,VLOOKUP($I4,Tabelle!$AN:$AS,6,0)))))),\"\",IF($H$2=$V$5,VLOOKUP($I4,Tabelle!$A:$F,6,0),IF($H$2=$V$6,VLOOKUP($I4,Tabelle!$N:$S,6,0),IF($H$2=$V$7,VLOOKUP($I4,Tabelle!$AA:$AF,6,0),IF($H$2=$V$8,VLOOKUP($I4,Tabelle!$AN:$AS,6,0))))))","v":8.6300000000000008},null,{"$f":"IF(ISNUMBER(IF($H$2=$V$5,OFFSET(Tabelle!H4,0,0),IF($H$2=$V$6,OFFSET(Tabelle!U4,0,0),IF($H$2=$V$7,OFFSET(Tabelle!AH4,0,0),IF($H$2=$V$8,OFFSET(Tabelle!AV4,0,0)))))),IF($H$2=$V$5,OFFSET(Tabelle!H4,0,0),IF($H$2=$V$6,OFFSET(Tabelle!U4,0,0),IF($H$2=$V$7,OFFSET(Tabelle!AH4,0,0),IF($H$2=$V$8,OFFSET(Tabelle!AU4,0,0))))),\"\")","v":"2008-03-31"},{"$f":"IF(ISERROR(IF($H$2=$V$5,VLOOKUP($P4,Tabelle!$H:$I,2,0),IF($H$2=$V$6,VLOOKUP($P4,Tabelle!$U:$V,2,0),IF($H$2=$V$7,VLOOKUP($P4,Tabelle!$AH:$AI,2,0),IF($H$2=$V$8,VLOOKUP($P4,Tabelle!$AU:$AV,2,0)))))),\"\",IF($H$2=$V$5,VLOOKUP($P4,Tabelle!$H:$I,2,0),IF($H$2=$V$6,VLOOKUP($P4,Tabelle!$U:$V,2,0),IF($H$2=$V$7,VLOOKUP($P4,Tabelle!$AH:$AI,2,0),IF($H$2=$V$8,VLOOKUP($P4,Tabelle!$AU:$AV,2,0))))))","v":7.1},{"$f":"IF(ISERROR(IF($H$2=$V$5,VLOOKUP($P4,Tabelle!$H:$J,3,0),IF($H$2=$V$6,VLOOKUP($P4,Tabelle!$U:$W,3,0),IF($H$2=$V$7,VLOOKUP($P4,Tabelle!$AH:$AJ,3,0),IF($H$2=$V$8,VLOOKUP($P4,Tabelle!$AU:$AW,3,0)))))),\"\",IF($H$2=$V$5,VLOOKUP($P4,Tabelle!$H:$J,3,0),IF($H$2=$V$6,VLOOKUP($P4,Tabelle!$U:$W,3,0),IF($H$2=$V$7,VLOOKUP($P4,Tabelle!$AH:$AJ,3,0),IF($H$2=$V$8,VLOOKUP($P4,Tabelle!$AU:$AW,3,0))))))","v":6.7},{"$f":"IF(ISERROR(IF($H$2=$V$5,VLOOKUP($P4,Tabelle!$H:$K,4,0),IF($H$2=$V$6,VLOOKUP($P4,Tabelle!$U:$X,4,0),IF($H$2=$V$7,VLOOKUP($P4,Tabelle!$AH:$AK,4,0),IF($H$2=$V$8,VLOOKUP($P4,Tabelle!$AU:$AX,4,0)))))),\"\",IF($H$2=$V$5,VLOOKUP($P4,Tabelle!$H:$K,4,0),IF($H$2=$V$6,VLOOKUP($P4,Tabelle!$U:$X,4,0),IF($H$2=$V$7,VLOOKUP($P4,Tabelle!$AH:$AK,4,0),IF($H$2=$V$8,VLOOKUP($P4,Tabelle!$AU:$AX,4,0))))))","v":13.3},{"$f":"IF(ISERROR(IF($H$2=$V$5,VLOOKUP($P4,Tabelle!$H:$L,5,0),IF($H$2=$V$6,VLOOKUP($P4,Tabelle!$U:$Y,5,0),IF($H$2=$V$7,VLOOKUP($P4,Tabelle!$AH:$AL,5,0),IF($H$2=$V$8,VLOOKUP($P4,Tabelle!$AU:$AY,5,0)))))),\"\",IF($H$2=$V$5,VLOOKUP($P4,Tabelle!$H:$L,5,0),IF($H$2=$V$6,VLOOKUP($P4,Tabelle!$U:$Y,5,0),IF($H$2=$V$7,VLOOKUP($P4,Tabelle!$AH:$AL,5,0),IF($H$2=$V$8,VLOOKUP($P4,Tabelle!$AU:$AY,5,0))))))","v":4.0999999999999996},null,null,null,null,"",14.2,13.6,6.9,8.6300000000000008,null,null,{"$f":"IF(Q$1,Q4,NA())","v":7.1},{"$f":"IF(R$1,R4,NA())","v":6.7},{"$f":"IF(S$1,S4,NA())","v":13.3},{"$f":"IF(T$1,T4,NA())","v":4.0999999999999996}]
[null,null,null,null,null,null,null,null,{"$f":"IF(ISNUMBER(IF($H$2=$V$5,OFFSET(Tabelle!A5,0,0),IF($H$2=$V$6,OFFSET(Tabelle!N5,0,0),IF($H$2=$V$7,OFFSET(Tabelle!AA5,0,0),IF($H$2=$V$8,OFFSET(Tabelle!AN5,0,0)))))),IF($H$2=$V$5,OFFSET(Tabelle!A5,0,0),IF($H$2=$V$6,OFFSET(Tabelle!N5,0,0),IF($H$2=$V$7,OFFSET(Tabelle!AA5,0,0),IF($H$2=$V$8,OFFSET(Tabelle!AN5,0,0))))),\"\")","v":"2008-04-30"},{"$f":"IF(ISERROR(IF($H$2=$V$5,VLOOKUP($I5,Tabelle!$A:$B,2,0),IF($H$2=$V$6,VLOOKUP($I5,Tabelle!$N:$O,2,0),IF($H$2=$V$7,VLOOKUP($I5,Tabelle!$AA:$AB,2,0),IF($H$2=$V$8,VLOOKUP($I5,Tabelle!$AN:$AO,2,0)))))),\"\",IF($H$2=$V$5,VLOOKUP($I5,Tabelle!$A:$B,2,0),IF($H$2=$V$6,VLOOKUP($I5,Tabelle!$N:$O,2,0),IF($H$2=$V$7,VLOOKUP($I5,Tabelle!$AA:$AB,2,0),IF($H$2=$V$8,VLOOKUP($I5,Tabelle!$AN:$AO,2,0))))))","v":5.7},{"$f":"IF(ISERROR(IF($H$2=$V$5,VLOOKUP($I5,Tabelle!$A:$C,3,0),IF($H$2=$V$6,VLOOKUP($I5,Tabelle!$N:$P,3,0),IF($H$2=$V$7,VLOOKUP($I5,Tabelle!$AA:$AC,3,0),IF($H$2=$V$8,VLOOKUP($I5,Tabelle!$AN:$AP,3,0)))))),\"\",IF($H$2=$V$5,VLOOKUP($I5,Tabelle!$A:$C,3,0),IF($H$2=$V$6,VLOOKUP($I5,Tabelle!$N:$P,3,0),IF($H$2=$V$7,VLOOKUP($I5,Tabelle!$AA:$AC,3,0),IF($H$2=$V$8,VLOOKUP($I5,Tabelle!$AN:$AP,3,0))))))","v":14.6},{"$f":"IF(ISERROR(IF($H$2=$V$5,VLOOKUP($I5,Tabelle!$A:$D,4,0),IF($H$2=$V$6,VLOOKUP($I5,Tabelle!$N:$Q,4,0),IF($H$2=$V$7,VLOOKUP($I5,Tabelle!$AA:$AD,4,0),IF($H$2=$V$8,VLOOKUP($I5,Tabelle!$AN:$AQ,4,0)))))),\"\",IF($H$2=$V$5,VLOOKUP($I5,Tabelle!$A:$D,4,0),IF($H$2=$V$6,VLOOKUP($I5,Tabelle!$N:$Q,4,0),IF($H$2=$V$7,VLOOKUP($I5,Tabelle!$AA:$AD,4,0),IF($H$2=$V$8,VLOOKUP($I5,Tabelle!$AN:$AQ,4,0))))))","v":14.6},{"$f":"IF(ISERROR(IF($H$2=$V$5,VLOOKUP($I5,Tabelle!$A:$E,5,0),IF($H$2=$V$6,VLOOKUP($I5,Tabelle!$N:$R,5,0),IF($H$2=$V$7,VLOOKUP($I5,Tabelle!$AA:$AE,5,0),IF($H$2=$V$8,VLOOKUP($I5,Tabelle!$AN:$AR,5,0)))))),\"\",IF($H$2=$V$5,VLOOKUP($I5,Tabelle!$A:$E,5,0),IF($H$2=$V$6,VLOOKUP($I5,Tabelle!$N:$R,5,0),IF($H$2=$V$7,VLOOKUP($I5,Tabelle!$AA:$AE,5,0),IF($H$2=$V$8,VLOOKUP($I5,Tabelle!$AN:$AR,5,0))))))","v":6.5},{"$f":"IF(ISERROR(IF($H$2=$V$5,VLOOKUP($I5,Tabelle!$A:$F,6,0),IF($H$2=$V$6,VLOOKUP($I5,Tabelle!$N:$S,6,0),IF($H$2=$V$7,VLOOKUP($I5,Tabelle!$AA:$AF,6,0),IF($H$2=$V$8,VLOOKUP($I5,Tabelle!$AN:$AS,6,0)))))),\"\",IF($H$2=$V$5,VLOOKUP($I5,Tabelle!$A:$F,6,0),IF($H$2=$V$6,VLOOKUP($I5,Tabelle!$N:$S,6,0),IF($H$2=$V$7,VLOOKUP($I5,Tabelle!$AA:$AF,6,0),IF($H$2=$V$8,VLOOKUP($I5,Tabelle!$AN:$AS,6,0))))))","v":8.6199999999999992},null,{"$f":"IF(ISNUMBER(IF($H$2=$V$5,OFFSET(Tabelle!H5,0,0),IF($H$2=$V$6,OFFSET(Tabelle!U5,0,0),IF($H$2=$V$7,OFFSET(Tabelle!AH5,0,0),IF($H$2=$V$8,OFFSET(Tabelle!AV5,0,0)))))),IF($H$2=$V$5,OFFSET(Tabelle!H5,0,0),IF($H$2=$V$6,OFFSET(Tabelle!U5,0,0),IF($H$2=$V$7,OFFSET(Tabelle!AH5,0,0),IF($H$2=$V$8,OFFSET(Tabelle!AU5,0,0))))),\"\")","v":"2008-04-30"},{"$f":"IF(ISERROR(IF($H$2=$V$5,VLOOKUP($P5,Tabelle!$H:$I,2,0),IF($H$2=$V$6,VLOOKUP($P5,Tabelle!$U:$V,2,0),IF($H$2=$V$7,VLOOKUP($P5,Tabelle!$AH:$AI,2,0),IF($H$2=$V$8,VLOOKUP($P5,Tabelle!$AU:$AV,2,0)))))),\"\",IF($H$2=$V$5,VLOOKUP($P5,Tabelle!$H:$I,2,0),IF($H$2=$V$6,VLOOKUP($P5,Tabelle!$U:$V,2,0),IF($H$2=$V$7,VLOOKUP($P5,Tabelle!$AH:$AI,2,0),IF($H$2=$V$8,VLOOKUP($P5,Tabelle!$AU:$AV,2,0))))))","v":6.8},{"$f":"IF(ISERROR(IF($H$2=$V$5,VLOOKUP($P5,Tabelle!$H:$J,3,0),IF($H$2=$V$6,VLOOKUP($P5,Tabelle!$U:$W,3,0),IF($H$2=$V$7,VLOOKUP($P5,Tabelle!$AH:$AJ,3,0),IF($H$2=$V$8,VLOOKUP($P5,Tabelle!$AU:$AW,3,0)))))),\"\",IF($H$2=$V$5,VLOOKUP($P5,Tabelle!$H:$J,3,0),IF($H$2=$V$6,VLOOKUP($P5,Tabelle!$U:$W,3,0),IF($H$2=$V$7,VLOOKUP($P5,Tabelle!$AH:$AJ,3,0),IF($H$2=$V$8,VLOOKUP($P5,Tabelle!$AU:$AW,3,0))))))","v":6.6},{"$f":"IF(ISERROR(IF($H$2=$V$5,VLOOKUP($P5,Tabelle!$H:$K,4,0),IF($H$2=$V$6,VLOOKUP($P5,Tabelle!$U:$X,4,0),IF($H$2=$V$7,VLOOKUP($P5,Tabelle!$AH:$AK,4,0),IF($H$2=$V$8,VLOOKUP($P5,Tabelle!$AU:$AX,4,0)))))),\"\",IF($H$2=$V$5,VLOOKUP($P5,Tabelle!$H:$K,4,0),IF($H$2=$V$6,VLOOKUP($P5,Tabelle!$U:$X,4,0),IF($H$2=$V$7,VLOOKUP($P5,Tabelle!$AH:$AK,4,0),IF($H$2=$V$8,VLOOKUP($P5,Tabelle!$AU:$AX,4,0))))))","v":14.3},{"$f":"IF(ISERROR(IF($H$2=$V$5,VLOOKUP($P5,Tabelle!$H:$L,5,0),IF($H$2=$V$6,VLOOKUP($P5,Tabelle!$U:$Y,5,0),IF($H$2=$V$7,VLOOKUP($P5,Tabelle!$AH:$AL,5,0),IF($H$2=$V$8,VLOOKUP($P5,Tabelle!$AU:$AY,5,0)))))),\"\",IF($H$2=$V$5,VLOOKUP($P5,Tabelle!$H:$L,5,0),IF($H$2=$V$6,VLOOKUP($P5,Tabelle!$U:$Y,5,0),IF($H$2=$V$7,VLOOKUP($P5,Tabelle!$AH:$AL,5,0),IF($H$2=$V$8,VLOOKUP($P5,Tabelle!$AU:$AY,5,0))))))","v":4},null,"Gross Domestic Product",null,null,{"$f":"IF(J$1,J5,\"\")","v":""},{"$f":"IF(K$1,K5,\"\")","v":14.6},{"$f":"IF(L$1,L5,\"\")","v":14.6},{"$f":"IF(M$1,M5,\"\")","v":6.5},{"$f":"IF(N$1,N5,\"\")","v":8.6199999999999992},null,null,{"$f":"IF(Q$1,Q5,NA())","v":6.8},{"$f":"IF(R$1,R5,NA())","v":6.6},{"$f":"IF(S$1,S5,NA())","v":14.3},{"$f":"IF(T$1,T5,NA())","v":4}]
[null,null,null,null,null,null,null,null,{"$f":"IF(ISNUMBER(IF($H$2=$V$5,OFFSET(Tabelle!A6,0,0),IF($H$2=$V$6,OFFSET(Tabelle!N6,0,0),IF($H$2=$V$7,OFFSET(Tabelle!AA6,0,0),IF($H$2=$V$8,OFFSET(Tabelle!AN6,0,0)))))),IF($H$2=$V$5,OFFSET(Tabelle!A6,0,0),IF($H$2=$V$6,OFFSET(Tabelle!N6,0,0),IF($H$2=$V$7,OFFSET(Tabelle!AA6,0,0),IF($H$2=$V$8,OFFSET(Tabelle!AN6,0,0))))),\"\")","v":"2008-05-31"},{"$f":"IF(ISERROR(IF($H$2=$V$5,VLOOKUP($I6,Tabelle!$A:$B,2,0),IF($H$2=$V$6,VLOOKUP($I6,Tabelle!$N:$O,2,0),IF($H$2=$V$7,VLOOKUP($I6,Tabelle!$AA:$AB,2,0),IF($H$2=$V$8,VLOOKUP($I6,Tabelle!$AN:$AO,2,0)))))),\"\",IF($H$2=$V$5,VLOOKUP($I6,Tabelle!$A:$B,2,0),IF($H$2=$V$6,VLOOKUP($I6,Tabelle!$N:$O,2,0),IF($H$2=$V$7,VLOOKUP($I6,Tabelle!$AA:$AB,2,0),IF($H$2=$V$8,VLOOKUP($I6,Tabelle!$AN:$AO,2,0))))))","v":6.4},{"$f":"IF(ISERROR(IF($H$2=$V$5,VLOOKUP($I6,Tabelle!$A:$C,3,0),IF($H$2=$V$6,VLOOKUP($I6,Tabelle!$N:$P,3,0),IF($H$2=$V$7,VLOOKUP($I6,Tabelle!$AA:$AC,3,0),IF($H$2=$V$8,VLOOKUP($I6,Tabelle!$AN:$AP,3,0)))))),\"\",IF($H$2=$V$5,VLOOKUP($I6,Tabelle!$A:$C,3,0),IF($H$2=$V$6,VLOOKUP($I6,Tabelle!$N:$P,3,0),IF($H$2=$V$7,VLOOKUP($I6,Tabelle!$AA:$AC,3,0),IF($H$2=$V$8,VLOOKUP($I6,Tabelle!$AN:$AP,3,0))))))","v":15},{"$f":"IF(ISERROR(IF($H$2=$V$5,VLOOKUP($I6,Tabelle!$A:$D,4,0),IF($H$2=$V$6,VLOOKUP($I6,Tabelle!$N:$Q,4,0),IF($H$2=$V$7,VLOOKUP($I6,Tabelle!$AA:$AD,4,0),IF($H$2=$V$8,VLOOKUP($I6,Tabelle!$AN:$AQ,4,0)))))),\"\",IF($H$2=$V$5,VLOOKUP($I6,Tabelle!$A:$D,4,0),IF($H$2=$V$6,VLOOKUP($I6,Tabelle!$N:$Q,4,0),IF($H$2=$V$7,VLOOKUP($I6,Tabelle!$AA:$AD,4,0),IF($H$2=$V$8,VLOOKUP($I6,Tabelle!$AN:$AQ,4,0))))))","v":14.5},{"$f":"IF(ISERROR(IF($H$2=$V$5,VLOOKUP($I6,Tabelle!$A:$E,5,0),IF($H$2=$V$6,VLOOKUP($I6,Tabelle!$N:$R,5,0),IF($H$2=$V$7,VLOOKUP($I6,Tabelle!$AA:$AE,5,0),IF($H$2=$V$8,VLOOKUP($I6,Tabelle!$AN:$AR,5,0)))))),\"\",IF($H$2=$V$5,VLOOKUP($I6,Tabelle!$A:$E,5,0),IF($H$2=$V$6,VLOOKUP($I6,Tabelle!$N:$R,5,0),IF($H$2=$V$7,VLOOKUP($I6,Tabelle!$AA:$AE,5,0),IF($H$2=$V$8,VLOOKUP($I6,Tabelle!$AN:$AR,5,0))))))","v":6.4},{"$f":"IF(ISERROR(IF($H$2=$V$5,VLOOKUP($I6,Tabelle!$A:$F,6,0),IF($H$2=$V$6,VLOOKUP($I6,Tabelle!$N:$S,6,0),IF($H$2=$V$7,VLOOKUP($I6,Tabelle!$AA:$AF,6,0),IF($H$2=$V$8,VLOOKUP($I6,Tabelle!$AN:$AS,6,0)))))),\"\",IF($H$2=$V$5,VLOOKUP($I6,Tabelle!$A:$F,6,0),IF($H$2=$V$6,VLOOKUP($I6,Tabelle!$N:$S,6,0),IF($H$2=$V$7,VLOOKUP($I6,Tabelle!$AA:$AF,6,0),IF($H$2=$V$8,VLOOKUP($I6,Tabelle!$AN:$AS,6,0))))))","v":8.4600000000000009},null,{"$f":"IF(ISNUMBER(IF($H$2=$V$5,OFFSET(Tabelle!H6,0,0),IF($H$2=$V$6,OFFSET(Tabelle!U6,0,0),IF($H$2=$V$7,OFFSET(Tabelle!AH6,0,0),IF($H$2=$V$8,OFFSET(Tabelle!AV6,0,0)))))),IF($H$2=$V$5,OFFSET(Tabelle!H6,0,0),IF($H$2=$V$6,OFFSET(Tabelle!U6,0,0),IF($H$2=$V$7,OFFSET(Tabelle!AH6,0,0),IF($H$2=$V$8,OFFSET(Tabelle!AU6,0,0))))),\"\")","v":"2008-05-31"},{"$f":"IF(ISERROR(IF($H$2=$V$5,VLOOKUP($P6,Tabelle!$H:$I,2,0),IF($H$2=$V$6,VLOOKUP($P6,Tabelle!$U:$V,2,0),IF($H$2=$V$7,VLOOKUP($P6,Tabelle!$AH:$AI,2,0),IF($H$2=$V$8,VLOOKUP($P6,Tabelle!$AU:$AV,2,0)))))),\"\",IF($H$2=$V$5,VLOOKUP($P6,Tabelle!$H:$I,2,0),IF($H$2=$V$6,VLOOKUP($P6,Tabelle!$U:$V,2,0),IF($H$2=$V$7,VLOOKUP($P6,Tabelle!$AH:$AI,2,0),IF($H$2=$V$8,VLOOKUP($P6,Tabelle!$AU:$AV,2,0))))))","v":6.8},{"$f":"IF(ISERROR(IF($H$2=$V$5,VLOOKUP($P6,Tabelle!$H:$J,3,0),IF($H$2=$V$6,VLOOKUP($P6,Tabelle!$U:$W,3,0),IF($H$2=$V$7,VLOOKUP($P6,Tabelle!$AH:$AJ,3,0),IF($H$2=$V$8,VLOOKUP($P6,Tabelle!$AU:$AW,3,0)))))),\"\",IF($H$2=$V$5,VLOOKUP($P6,Tabelle!$H:$J,3,0),IF($H$2=$V$6,VLOOKUP($P6,Tabelle!$U:$W,3,0),IF($H$2=$V$7,VLOOKUP($P6,Tabelle!$AH:$AJ,3,0),IF($H$2=$V$8,VLOOKUP($P6,Tabelle!$AU:$AW,3,0))))))","v":7},{"$f":"IF(ISERROR(IF($H$2=$V$5,VLOOKUP($P6,Tabelle!$H:$K,4,0),IF($H$2=$V$6,VLOOKUP($P6,Tabelle!$U:$X,4,0),IF($H$2=$V$7,VLOOKUP($P6,Tabelle!$AH:$AK,4,0),IF($H$2=$V$8,VLOOKUP($P6,Tabelle!$AU:$AX,4,0)))))),\"\",IF($H$2=$V$5,VLOOKUP($P6,Tabelle!$H:$K,4,0),IF($H$2=$V$6,VLOOKUP($P6,Tabelle!$U:$X,4,0),IF($H$2=$V$7,VLOOKUP($P6,Tabelle!$AH:$AK,4,0),IF($H$2=$V$8,VLOOKUP($P6,Tabelle!$AU:$AX,4,0))))))","v":15.1},{"$f":"IF(ISERROR(IF($H$2=$V$5,VLOOKUP($P6,Tabelle!$H:$L,5,0),IF($H$2=$V$6,VLOOKUP($P6,Tabelle!$U:$Y,5,0),IF($H$2=$V$7,VLOOKUP($P6,Tabelle!$AH:$AL,5,0),IF($H$2=$V$8,VLOOKUP($P6,Tabelle!$AU:$AY,5,0)))))),\"\",IF($H$2=$V$5,VLOOKUP($P6,Tabelle!$H:$L,5,0),IF($H$2=$V$6,VLOOKUP($P6,Tabelle!$U:$Y,5,0),IF($H$2=$V$7,VLOOKUP($P6,Tabelle!$AH:$AL,5,0),IF($H$2=$V$8,VLOOKUP($P6,Tabelle!$AU:$AY,5,0))))))","v":4.4000000000000004},null,"Inflation",null,null,"",15,14.5,6.4,8.4600000000000009,null,null,6.8,7,15.1,4.4000000000000004]
[null,null,null,null,null,null,null,null,{"$f":"IF(ISNUMBER(IF($H$2=$V$5,OFFSET(Tabelle!A7,0,0),IF($H$2=$V$6,OFFSET(Tabelle!N7,0,0),IF($H$2=$V$7,OFFSET(Tabelle!AA7,0,0),IF($H$2=$V$8,OFFSET(Tabelle!AN7,0,0)))))),IF($H$2=$V$5,OFFSET(Tabelle!A7,0,0),IF($H$2=$V$6,OFFSET(Tabelle!N7,0,0),IF($H$2=$V$7,OFFSET(Tabelle!AA7,0,0),IF($H$2=$V$8,OFFSET(Tabelle!AN7,0,0))))),\"\")","v":"2008-06-30"},{"$f":"IF(ISERROR(IF($H$2=$V$5,VLOOKUP($I7,Tabelle!$A:$B,2,0),IF($H$2=$V$6,VLOOKUP($I7,Tabelle!$N:$O,2,0),IF($H$2=$V$7,VLOOKUP($I7,Tabelle!$AA:$AB,2,0),IF($H$2=$V$8,VLOOKUP($I7,Tabelle!$AN:$AO,2,0)))))),\"\",IF($H$2=$V$5,VLOOKUP($I7,Tabelle!$A:$B,2,0),IF($H$2=$V$6,VLOOKUP($I7,Tabelle!$N:$O,2,0),IF($H$2=$V$7,VLOOKUP($I7,Tabelle!$AA:$AB,2,0),IF($H$2=$V$8,VLOOKUP($I7,Tabelle!$AN:$AO,2,0))))))","v":7.6},{"$f":"IF(ISERROR(IF($H$2=$V$5,VLOOKUP($I7,Tabelle!$A:$C,3,0),IF($H$2=$V$6,VLOOKUP($I7,Tabelle!$N:$P,3,0),IF($H$2=$V$7,VLOOKUP($I7,Tabelle!$AA:$AC,3,0),IF($H$2=$V$8,VLOOKUP($I7,Tabelle!$AN:$AP,3,0)))))),\"\",IF($H$2=$V$5,VLOOKUP($I7,Tabelle!$A:$C,3,0),IF($H$2=$V$6,VLOOKUP($I7,Tabelle!$N:$P,3,0),IF($H$2=$V$7,VLOOKUP($I7,Tabelle!$AA:$AC,3,0),IF($H$2=$V$8,VLOOKUP($I7,Tabelle!$AN:$AP,3,0))))))","v":15.3},{"$f":"IF(ISERROR(IF($H$2=$V$5,VLOOKUP($I7,Tabelle!$A:$D,4,0),IF($H$2=$V$6,VLOOKUP($I7,Tabelle!$N:$Q,4,0),IF($H$2=$V$7,VLOOKUP($I7,Tabelle!$AA:$AD,4,0),IF($H$2=$V$8,VLOOKUP($I7,Tabelle!$AN:$AQ,4,0)))))),\"\",IF($H$2=$V$5,VLOOKUP($I7,Tabelle!$A:$D,4,0),IF($H$2=$V$6,VLOOKUP($I7,Tabelle!$N:$Q,4,0),IF($H$2=$V$7,VLOOKUP($I7,Tabelle!$AA:$AD,4,0),IF($H$2=$V$8,VLOOKUP($I7,Tabelle!$AN:$AQ,4,0))))))","v":14.9},{"$f":"IF(ISERROR(IF($H$2=$V$5,VLOOKUP($I7,Tabelle!$A:$E,5,0),IF($H$2=$V$6,VLOOKUP($I7,Tabelle!$N:$R,5,0),IF($H$2=$V$7,VLOOKUP($I7,Tabelle!$AA:$AE,5,0),IF($H$2=$V$8,VLOOKUP($I7,Tabelle!$AN:$AR,5,0)))))),\"\",IF($H$2=$V$5,VLOOKUP($I7,Tabelle!$A:$E,5,0),IF($H$2=$V$6,VLOOKUP($I7,Tabelle!$N:$R,5,0),IF($H$2=$V$7,VLOOKUP($I7,Tabelle!$AA:$AE,5,0),IF($H$2=$V$8,VLOOKUP($I7,Tabelle!$AN:$AR,5,0))))))","v":7},{"$f":"IF(ISERROR(IF($H$2=$V$5,VLOOKUP($I7,Tabelle!$A:$F,6,0),IF($H$2=$V$6,VLOOKUP($I7,Tabelle!$N:$S,6,0),IF($H$2=$V$7,VLOOKUP($I7,Tabelle!$AA:$AF,6,0),IF($H$2=$V$8,VLOOKUP($I7,Tabelle!$AN:$AS,6,0)))))),\"\",IF($H$2=$V$5,VLOOKUP($I7,Tabelle!$A:$F,6,0),IF($H$2=$V$6,VLOOKUP($I7,Tabelle!$N:$S,6,0),IF($H$2=$V$7,VLOOKUP($I7,Tabelle!$AA:$AF,6,0),IF($H$2=$V$8,VLOOKUP($I7,Tabelle!$AN:$AS,6,0))))))","v":8.61},null,{"$f":"IF(ISNUMBER(IF($H$2=$V$5,OFFSET(Tabelle!H7,0,0),IF($H$2=$V$6,OFFSET(Tabelle!U7,0,0),IF($H$2=$V$7,OFFSET(Tabelle!AH7,0,0),IF($H$2=$V$8,OFFSET(Tabelle!AV7,0,0)))))),IF($H$2=$V$5,OFFSET(Tabelle!H7,0,0),IF($H$2=$V$6,OFFSET(Tabelle!U7,0,0),IF($H$2=$V$7,OFFSET(Tabelle!AH7,0,0),IF($H$2=$V$8,OFFSET(Tabelle!AU7,0,0))))),\"\")","v":"2008-06-30"},{"$f":"IF(ISERROR(IF($H$2=$V$5,VLOOKUP($P7,Tabelle!$H:$I,2,0),IF($H$2=$V$6,VLOOKUP($P7,Tabelle!$U:$V,2,0),IF($H$2=$V$7,VLOOKUP($P7,Tabelle!$AH:$AI,2,0),IF($H$2=$V$8,VLOOKUP($P7,Tabelle!$AU:$AV,2,0)))))),\"\",IF($H$2=$V$5,VLOOKUP($P7,Tabelle!$H:$I,2,0),IF($H$2=$V$6,VLOOKUP($P7,Tabelle!$U:$V,2,0),IF($H$2=$V$7,VLOOKUP($P7,Tabelle!$AH:$AI,2,0),IF($H$2=$V$8,VLOOKUP($P7,Tabelle!$AU:$AV,2,0))))))","v":6.7},{"$f":"IF(ISERROR(IF($H$2=$V$5,VLOOKUP($P7,Tabelle!$H:$J,3,0),IF($H$2=$V$6,VLOOKUP($P7,Tabelle!$U:$W,3,0),IF($H$2=$V$7,VLOOKUP($P7,Tabelle!$AH:$AJ,3,0),IF($H$2=$V$8,VLOOKUP($P7,Tabelle!$AU:$AW,3,0)))))),\"\",IF($H$2=$V$5,VLOOKUP($P7,Tabelle!$H:$J,3,0),IF($H$2=$V$6,VLOOKUP($P7,Tabelle!$U:$W,3,0),IF($H$2=$V$7,VLOOKUP($P7,Tabelle!$AH:$AJ,3,0),IF($H$2=$V$8,VLOOKUP($P7,Tabelle!$AU:$AW,3,0))))))","v":6.7},{"$f":"IF(ISERROR(IF($H$2=$V$5,VLOOKUP($P7,Tabelle!$H:$K,4,0),IF($H$2=$V$6,VLOOKUP($P7,Tabelle!$U:$X,4,0),IF($H$2=$V$7,VLOOKUP($P7,Tabelle!$AH:$AK,4,0),IF($H$2=$V$8,VLOOKUP($P7,Tabelle!$AU:$AX,4,0)))))),\"\",IF($H$2=$V$5,VLOOKUP($P7,Tabelle!$H:$K,4,0),IF($H$2=$V$6,VLOOKUP($P7,Tabelle!$U:$X,4,0),IF($H$2=$V$7,VLOOKUP($P7,Tabelle!$AH:$AK,4,0),IF($H$2=$V$8,VLOOKUP($P7,Tabelle!$AU:$AX,4,0))))))","v":15.1},{"$f":"IF(ISERROR(IF($H$2=$V$5,VLOOKUP($P7,Tabelle!$H:$L,5,0),IF($H$2=$V$6,VLOOKUP($P7,Tabelle!$U:$Y,5,0),IF($H$2=$V$7,VLOOKUP($P7,Tabelle!$AH:$AL,5,0),IF($H$2=$V$8,VLOOKUP($P7,Tabelle!$AU:$AY,5,0)))))),\"\",IF($H$2=$V$5,VLOOKUP($P7,Tabelle!$H:$L,5,0),IF($H$2=$V$6,VLOOKUP($P7,Tabelle!$U:$Y,5,0),IF($H$2=$V$7,VLOOKUP($P7,Tabelle!$AH:$AL,5,0),IF($H$2=$V$8,VLOOKUP($P7,Tabelle!$AU:$AY,5,0))))))","v":4.5999999999999996},null,"Unemployment  Rate",null,null,"",15.3,14.9,7,8.61,null,null,6.7,6.7,15.1,4.5999999999999996]
[null,null,null,null,null,null,null,null,{"$f":"IF(ISNUMBER(IF($H$2=$V$5,OFFSET(Tabelle!A8,0,0),IF($H$2=$V$6,OFFSET(Tabelle!N8,0,0),IF($H$2=$V$7,OFFSET(Tabelle!AA8,0,0),IF($H$2=$V$8,OFFSET(Tabelle!AN8,0,0)))))),IF($H$2=$V$5,OFFSET(Tabelle!A8,0,0),IF($H$2=$V$6,OFFSET(Tabelle!N8,0,0),IF($H$2=$V$7,OFFSET(Tabelle!AA8,0,0),IF($H$2=$V$8,OFFSET(Tabelle!AN8,0,0))))),\"\")","v":"2008-07-31"},{"$f":"IF(ISERROR(IF($H$2=$V$5,VLOOKUP($I8,Tabelle!$A:$B,2,0),IF($H$2=$V$6,VLOOKUP($I8,Tabelle!$N:$O,2,0),IF($H$2=$V$7,VLOOKUP($I8,Tabelle!$AA:$AB,2,0),IF($H$2=$V$8,VLOOKUP($I8,Tabelle!$AN:$AO,2,0)))))),\"\",IF($H$2=$V$5,VLOOKUP($I8,Tabelle!$A:$B,2,0),IF($H$2=$V$6,VLOOKUP($I8,Tabelle!$N:$O,2,0),IF($H$2=$V$7,VLOOKUP($I8,Tabelle!$AA:$AB,2,0),IF($H$2=$V$8,VLOOKUP($I8,Tabelle!$AN:$AO,2,0))))))","v":8.4},{"$f":"IF(ISERROR(IF($H$2=$V$5,VLOOKUP($I8,Tabelle!$A:$C,3,0),IF($H$2=$V$6,VLOOKUP($I8,Tabelle!$N:$P,3,0),IF($H$2=$V$7,VLOOKUP($I8,Tabelle!$AA:$AC,3,0),IF($H$2=$V$8,VLOOKUP($I8,Tabelle!$AN:$AP,3,0)))))),\"\",IF($H$2=$V$5,VLOOKUP($I8,Tabelle!$A:$C,3,0),IF($H$2=$V$6,VLOOKUP($I8,Tabelle!$N:$P,3,0),IF($H$2=$V$7,VLOOKUP($I8,Tabelle!$AA:$AC,3,0),IF($H$2=$V$8,VLOOKUP($I8,Tabelle!$AN:$AP,3,0))))))","v":14.5},{"$f":"IF(ISERROR(IF($H$2=$V$5,VLOOKUP($I8,Tabelle!$A:$D,4,0),IF($H$2=$V$6,VLOOKUP($I8,Tabelle!$N:$Q,4,0),IF($H$2=$V$7,VLOOKUP($I8,Tabelle!$AA:$AD,4,0),IF($H$2=$V$8,VLOOKUP($I8,Tabelle!$AN:$AQ,4,0)))))),\"\",IF($H$2=$V$5,VLOOKUP($I8,Tabelle!$A:$D,4,0),IF($H$2=$V$6,VLOOKUP($I8,Tabelle!$N:$Q,4,0),IF($H$2=$V$7,VLOOKUP($I8,Tabelle!$AA:$AD,4,0),IF($H$2=$V$8,VLOOKUP($I8,Tabelle!$AN:$AQ,4,0))))))","v":13.9},{"$f":"IF(ISERROR(IF($H$2=$V$5,VLOOKUP($I8,Tabelle!$A:$E,5,0),IF($H$2=$V$6,VLOOKUP($I8,Tabelle!$N:$R,5,0),IF($H$2=$V$7,VLOOKUP($I8,Tabelle!$AA:$AE,5,0),IF($H$2=$V$8,VLOOKUP($I8,Tabelle!$AN:$AR,5,0)))))),\"\",IF($H$2=$V$5,VLOOKUP($I8,Tabelle!$A:$E,5,0),IF($H$2=$V$6,VLOOKUP($I8,Tabelle!$N:$R,5,0),IF($H$2=$V$7,VLOOKUP($I8,Tabelle!$AA:$AE,5,0),IF($H$2=$V$8,VLOOKUP($I8,Tabelle!$AN:$AR,5,0))))))","v":6.9},{"$f":"IF(ISERROR(IF($H$2=$V$5,VLOOKUP($I8,Tabelle!$A:$F,6,0),IF($H$2=$V$6,VLOOKUP($I8,Tabelle!$N:$S,6,0),IF($H$2=$V$7,VLOOKUP($I8,Tabelle!$AA:$AF,6,0),IF($H$2=$V$8,VLOOKUP($I8,Tabelle!$AN:$AS,6,0)))))),\"\",IF($H$2=$V$5,VLOOKUP($I8,Tabelle!$A:$F,6,0),IF($H$2=$V$6,VLOOKUP($I8,Tabelle!$N:$S,6,0),IF($H$2=$V$7,VLOOKUP($I8,Tabelle!$AA:$AF,6,0),IF($H$2=$V$8,VLOOKUP($I8,Tabelle!$AN:$AS,6,0))))))","v":9.0399999999999991},null,{"$f":"IF(ISNUMBER(IF($H$2=$V$5,OFFSET(Tabelle!H8,0,0),IF($H$2=$V$6,OFFSET(Tabelle!U8,0,0),IF($H$2=$V$7,OFFSET(Tabelle!AH8,0,0),IF($H$2=$V$8,OFFSET(Tabelle!AV8,0,0)))))),IF($H$2=$V$5,OFFSET(Tabelle!H8,0,0),IF($H$2=$V$6,OFFSET(Tabelle!U8,0,0),IF($H$2=$V$7,OFFSET(Tabelle!AH8,0,0),IF($H$2=$V$8,OFFSET(Tabelle!AU8,0,0))))),\"\")","v":"2008-07-31"},{"$f":"IF(ISERROR(IF($H$2=$V$5,VLOOKUP($P8,Tabelle!$H:$I,2,0),IF($H$2=$V$6,VLOOKUP($P8,Tabelle!$U:$V,2,0),IF($H$2=$V$7,VLOOKUP($P8,Tabelle!$AH:$AI,2,0),IF($H$2=$V$8,VLOOKUP($P8,Tabelle!$AU:$AV,2,0)))))),\"\",IF($H$2=$V$5,VLOOKUP($P8,Tabelle!$H:$I,2,0),IF($H$2=$V$6,VLOOKUP($P8,Tabelle!$U:$V,2,0),IF($H$2=$V$7,VLOOKUP($P8,Tabelle!$AH:$AI,2,0),IF($H$2=$V$8,VLOOKUP($P8,Tabelle!$AU:$AV,2,0))))))","v":6.9},{"$f":"IF(ISERROR(IF($H$2=$V$5,VLOOKUP($P8,Tabelle!$H:$J,3,0),IF($H$2=$V$6,VLOOKUP($P8,Tabelle!$U:$W,3,0),IF($H$2=$V$7,VLOOKUP($P8,Tabelle!$AH:$AJ,3,0),IF($H$2=$V$8,VLOOKUP($P8,Tabelle!$AU:$AW,3,0)))))),\"\",IF($H$2=$V$5,VLOOKUP($P8,Tabelle!$H:$J,3,0),IF($H$2=$V$6,VLOOKUP($P8,Tabelle!$U:$W,3,0),IF($H$2=$V$7,VLOOKUP($P8,Tabelle!$AH:$AJ,3,0),IF($H$2=$V$8,VLOOKUP($P8,Tabelle!$AU:$AW,3,0))))))","v":6.7},{"$f":"IF(ISERROR(IF($H$2=$V$5,VLOOKUP($P8,Tabelle!$H:$K,4,0),IF($H$2=$V$6,VLOOKUP($P8,Tabelle!$U:$X,4,0),IF($H$2=$V$7,VLOOKUP($P8,Tabelle!$AH:$AK,4,0),IF($H$2=$V$8,VLOOKUP($P8,Tabelle!$AU:$AX,4,0)))))),\"\",IF($H$2=$V$5,VLOOKUP($P8,Tabelle!$H:$K,4,0),IF($H$2=$V$6,VLOOKUP($P8,Tabelle!$U:$X,4,0),IF($H$2=$V$7,VLOOKUP($P8,Tabelle!$AH:$AK,4,0),IF($H$2=$V$8,VLOOKUP($P8,Tabelle!$AU:$AX,4,0))))))","v":14.7},{"$f":"IF(ISERROR(IF($H$2=$V$5,VLOOKUP($P8,Tabelle!$H:$L,5,0),IF($H$2=$V$6,VLOOKUP($P8,Tabelle!$U:$Y,5,0),IF($H$2=$V$7,VLOOKUP($P8,Tabelle!$AH:$AL,5,0),IF($H$2=$V$8,VLOOKUP($P8,Tabelle!$AU:$AY,5,0)))))),\"\",IF($H$2=$V$5,VLOOKUP($P8,Tabelle!$H:$L,5,0),IF($H$2=$V$6,VLOOKUP($P8,Tabelle!$U:$Y,5,0),IF($H$2=$V$7,VLOOKUP($P8,Tabelle!$AH:$AL,5,0),IF($H$2=$V$8,VLOOKUP($P8,Tabelle!$AU:$AY,5,0))))))","v":4.8},null,"Industrial Production",null,null,"",14.5,13.9,6.9,9.0399999999999991,null,null,6.9,6.7,14.7,4.8]
[null,null,null,null,null,null,null,null,{"$f":"IF(ISNUMBER(IF($H$2=$V$5,OFFSET(Tabelle!A9,0,0),IF($H$2=$V$6,OFFSET(Tabelle!N9,0,0),IF($H$2=$V$7,OFFSET(Tabelle!AA9,0,0),IF($H$2=$V$8,OFFSET(Tabelle!AN9,0,0)))))),IF($H$2=$V$5,OFFSET(Tabelle!A9,0,0),IF($H$2=$V$6,OFFSET(Tabelle!N9,0,0),IF($H$2=$V$7,OFFSET(Tabelle!AA9,0,0),IF($H$2=$V$8,OFFSET(Tabelle!AN9,0,0))))),\"\")","v":"2008-08-31"},{"$f":"IF(ISERROR(IF($H$2=$V$5,VLOOKUP($I9,Tabelle!$A:$B,2,0),IF($H$2=$V$6,VLOOKUP($I9,Tabelle!$N:$O,2,0),IF($H$2=$V$7,VLOOKUP($I9,Tabelle!$AA:$AB,2,0),IF($H$2=$V$8,VLOOKUP($I9,Tabelle!$AN:$AO,2,0)))))),\"\",IF($H$2=$V$5,VLOOKUP($I9,Tabelle!$A:$B,2,0),IF($H$2=$V$6,VLOOKUP($I9,Tabelle!$N:$O,2,0),IF($H$2=$V$7,VLOOKUP($I9,Tabelle!$AA:$AB,2,0),IF($H$2=$V$8,VLOOKUP($I9,Tabelle!$AN:$AO,2,0))))))","v":7.4},{"$f":"IF(ISERROR(IF($H$2=$V$5,VLOOKUP($I9,Tabelle!$A:$C,3,0),IF($H$2=$V$6,VLOOKUP($I9,Tabelle!$N:$P,3,0),IF($H$2=$V$7,VLOOKUP($I9,Tabelle!$AA:$AC,3,0),IF($H$2=$V$8,VLOOKUP($I9,Tabelle!$AN:$AP,3,0)))))),\"\",IF($H$2=$V$5,VLOOKUP($I9,Tabelle!$A:$C,3,0),IF($H$2=$V$6,VLOOKUP($I9,Tabelle!$N:$P,3,0),IF($H$2=$V$7,VLOOKUP($I9,Tabelle!$AA:$AC,3,0),IF($H$2=$V$8,VLOOKUP($I9,Tabelle!$AN:$AP,3,0))))))","v":11.2},{"$f":"IF(ISERROR(IF($H$2=$V$5,VLOOKUP($I9,Tabelle!$A:$D,4,0),IF($H$2=$V$6,VLOOKUP($I9,Tabelle!$N:$Q,4,0),IF($H$2=$V$7,VLOOKUP($I9,Tabelle!$AA:$AD,4,0),IF($H$2=$V$8,VLOOKUP($I9,Tabelle!$AN:$AQ,4,0)))))),\"\",IF($H$2=$V$5,VLOOKUP($I9,Tabelle!$A:$D,4,0),IF($H$2=$V$6,VLOOKUP($I9,Tabelle!$N:$Q,4,0),IF($H$2=$V$7,VLOOKUP($I9,Tabelle!$AA:$AD,4,0),IF($H$2=$V$8,VLOOKUP($I9,Tabelle!$AN:$AQ,4,0))))))","v":11.5},{"$f":"IF(ISERROR(IF($H$2=$V$5,VLOOKUP($I9,Tabelle!$A:$E,5,0),IF($H$2=$V$6,VLOOKUP($I9,Tabelle!$N:$R,5,0),IF($H$2=$V$7,VLOOKUP($I9,Tabelle!$AA:$AE,5,0),IF($H$2=$V$8,VLOOKUP($I9,Tabelle!$AN:$AR,5,0)))))),\"\",IF($H$2=$V$5,VLOOKUP($I9,Tabelle!$A:$E,5,0),IF($H$2=$V$6,VLOOKUP($I9,Tabelle!$N:$R,5,0),IF($H$2=$V$7,VLOOKUP($I9,Tabelle!$AA:$AE,5,0),IF($H$2=$V$8,VLOOKUP($I9,Tabelle!$AN:$AR,5,0))))))","v":6},{"$f":"IF(ISERROR(IF($H$2=$V$5,VLOOKUP($I9,Tabelle!$A:$F,6,0),IF($H$2=$V$6,VLOOKUP($I9,Tabelle!$N:$S,6,0),IF($H$2=$V$7,VLOOKUP($I9,Tabelle!$AA:$AF,6,0),IF($H$2=$V$8,VLOOKUP($I9,Tabelle!$AN:$AS,6,0)))))),\"\",IF($H$2=$V$5,VLOOKUP($I9,Tabelle!$A:$F,6,0),IF($H$2=$V$6,VLOOKUP($I9,Tabelle!$N:$S,6,0),IF($H$2=$V$7,VLOOKUP($I9,Tabelle!$AA:$AF,6,0),IF($H$2=$V$8,VLOOKUP($I9,Tabelle!$AN:$AS,6,0))))))","v":8.02},null,{"$f":"IF(ISNUMBER(IF($H$2=$V$5,OFFSET(Tabelle!H9,0,0),IF($H$2=$V$6,OFFSET(Tabelle!U9,0,0),IF($H$2=$V$7,OFFSET(Tabelle!AH9,0,0),IF($H$2=$V$8,OFFSET(Tabelle!AV9,0,0)))))),IF($H$2=$V$5,OFFSET(Tabelle!H9,0,0),IF($H$2=$V$6,OFFSET(Tabelle!U9,0,0),IF($H$2=$V$7,OFFSET(Tabelle!AH9,0,0),IF($H$2=$V$8,OFFSET(Tabelle!AU9,0,0))))),\"\")","v":"2008-08-31"},{"$f":"IF(ISERROR(IF($H$2=$V$5,VLOOKUP($P9,Tabelle!$H:$I,2,0),IF($H$2=$V$6,VLOOKUP($P9,Tabelle!$U:$V,2,0),IF($H$2=$V$7,VLOOKUP($P9,Tabelle!$AH:$AI,2,0),IF($H$2=$V$8,VLOOKUP($P9,Tabelle!$AU:$AV,2,0)))))),\"\",IF($H$2=$V$5,VLOOKUP($P9,Tabelle!$H:$I,2,0),IF($H$2=$V$6,VLOOKUP($P9,Tabelle!$U:$V,2,0),IF($H$2=$V$7,VLOOKUP($P9,Tabelle!$AH:$AI,2,0),IF($H$2=$V$8,VLOOKUP($P9,Tabelle!$AU:$AV,2,0))))))","v":6.5},{"$f":"IF(ISERROR(IF($H$2=$V$5,VLOOKUP($P9,Tabelle!$H:$J,3,0),IF($H$2=$V$6,VLOOKUP($P9,Tabelle!$U:$W,3,0),IF($H$2=$V$7,VLOOKUP($P9,Tabelle!$AH:$AJ,3,0),IF($H$2=$V$8,VLOOKUP($P9,Tabelle!$AU:$AW,3,0)))))),\"\",IF($H$2=$V$5,VLOOKUP($P9,Tabelle!$H:$J,3,0),IF($H$2=$V$6,VLOOKUP($P9,Tabelle!$U:$W,3,0),IF($H$2=$V$7,VLOOKUP($P9,Tabelle!$AH:$AJ,3,0),IF($H$2=$V$8,VLOOKUP($P9,Tabelle!$AU:$AW,3,0))))))","v":6.5},{"$f":"IF(ISERROR(IF($H$2=$V$5,VLOOKUP($P9,Tabelle!$H:$K,4,0),IF($H$2=$V$6,VLOOKUP($P9,Tabelle!$U:$X,4,0),IF($H$2=$V$7,VLOOKUP($P9,Tabelle!$AH:$AK,4,0),IF($H$2=$V$8,VLOOKUP($P9,Tabelle!$AU:$AX,4,0)))))),\"\",IF($H$2=$V$5,VLOOKUP($P9,Tabelle!$H:$K,4,0),IF($H$2=$V$6,VLOOKUP($P9,Tabelle!$U:$X,4,0),IF($H$2=$V$7,VLOOKUP($P9,Tabelle!$AH:$AK,4,0),IF($H$2=$V$8,VLOOKUP($P9,Tabelle!$AU:$AX,4,0))))))","v":15},{"$f":"IF(ISERROR(IF($H$2=$V$5,VLOOKUP($P9,Tabelle!$H:$L,5,0),IF($H$2=$V$6,VLOOKUP($P9,Tabelle!$U:$Y,5,0),IF($H$2=$V$7,VLOOKUP($P9,Tabelle!$AH:$AL,5,0),IF($H$2=$V$8,VLOOKUP($P9,Tabelle!$AU:$AY,5,0)))))),\"\",IF($H$2=$V$5,VLOOKUP($P9,Tabelle!$H:$L,5,0),IF($H$2=$V$6,VLOOKUP($P9,Tabelle!$U:$Y,5,0),IF($H$2=$V$7,VLOOKUP($P9,Tabelle!$AH:$AL,5,0),IF($H$2=$V$8,VLOOKUP($P9,Tabelle!$AU:$AY,5,0))))))","v":4.8},null,null,null,null,"",11.2,11.5,6,8.02,null,null,6.5,6.5,15,4.8]
[null,null,null,null,null,null,null,null,{"$f":"IF(ISNUMBER(IF($H$2=$V$5,OFFSET(Tabelle!A10,0,0),IF($H$2=$V$6,OFFSET(Tabelle!N10,0,0),IF($H$2=$V$7,OFFSET(Tabelle!AA10,0,0),IF($H$2=$V$8,OFFSET(Tabelle!AN10,0,0)))))),IF($H$2=$V$5,OFFSET(Tabelle!A10,0,0),IF($H$2=$V$6,OFFSET(Tabelle!N10,0,0),IF($H$2=$V$7,OFFSET(Tabelle!AA10,0,0),IF($H$2=$V$8,OFFSET(Tabelle!AN10,0,0))))),\"\")","v":"2008-09-30"},{"$f":"IF(ISERROR(IF($H$2=$V$5,VLOOKUP($I10,Tabelle!$A:$B,2,0),IF($H$2=$V$6,VLOOKUP($I10,Tabelle!$N:$O,2,0),IF($H$2=$V$7,VLOOKUP($I10,Tabelle!$AA:$AB,2,0),IF($H$2=$V$8,VLOOKUP($I10,Tabelle!$AN:$AO,2,0)))))),\"\",IF($H$2=$V$5,VLOOKUP($I10,Tabelle!$A:$B,2,0),IF($H$2=$V$6,VLOOKUP($I10,Tabelle!$N:$O,2,0),IF($H$2=$V$7,VLOOKUP($I10,Tabelle!$AA:$AB,2,0),IF($H$2=$V$8,VLOOKUP($I10,Tabelle!$AN:$AO,2,0))))))","v":6.4},{"$f":"IF(ISERROR(IF($H$2=$V$5,VLOOKUP($I10,Tabelle!$A:$C,3,0),IF($H$2=$V$6,VLOOKUP($I10,Tabelle!$N:$P,3,0),IF($H$2=$V$7,VLOOKUP($I10,Tabelle!$AA:$AC,3,0),IF($H$2=$V$8,VLOOKUP($I10,Tabelle!$AN:$AP,3,0)))))),\"\",IF($H$2=$V$5,VLOOKUP($I10,Tabelle!$A:$C,3,0),IF($H$2=$V$6,VLOOKUP($I10,Tabelle!$N:$P,3,0),IF($H$2=$V$7,VLOOKUP($I10,Tabelle!$AA:$AC,3,0),IF($H$2=$V$8,VLOOKUP($I10,Tabelle!$AN:$AP,3,0))))))","v":11},{"$f":"IF(ISERROR(IF($H$2=$V$5,VLOOKUP($I10,Tabelle!$A:$D,4,0),IF($H$2=$V$6,VLOOKUP($I10,Tabelle!$N:$Q,4,0),IF($H$2=$V$7,VLOOKUP($I10,Tabelle!$AA:$AD,4,0),IF($H$2=$V$8,VLOOKUP($I10,Tabelle!$AN:$AQ,4,0)))))),\"\",IF($H$2=$V$5,VLOOKUP($I10,Tabelle!$A:$D,4,0),IF($H$2=$V$6,VLOOKUP($I10,Tabelle!$N:$Q,4,0),IF($H$2=$V$7,VLOOKUP($I10,Tabelle!$AA:$AD,4,0),IF($H$2=$V$8,VLOOKUP($I10,Tabelle!$AN:$AQ,4,0))))))","v":10.9},{"$f":"IF(ISERROR(IF($H$2=$V$5,VLOOKUP($I10,Tabelle!$A:$E,5,0),IF($H$2=$V$6,VLOOKUP($I10,Tabelle!$N:$R,5,0),IF($H$2=$V$7,VLOOKUP($I10,Tabelle!$AA:$AE,5,0),IF($H$2=$V$8,VLOOKUP($I10,Tabelle!$AN:$AR,5,0)))))),\"\",IF($H$2=$V$5,VLOOKUP($I10,Tabelle!$A:$E,5,0),IF($H$2=$V$6,VLOOKUP($I10,Tabelle!$N:$R,5,0),IF($H$2=$V$7,VLOOKUP($I10,Tabelle!$AA:$AE,5,0),IF($H$2=$V$8,VLOOKUP($I10,Tabelle!$AN:$AR,5,0))))))","v":5.5},{"$f":"IF(ISERROR(IF($H$2=$V$5,VLOOKUP($I10,Tabelle!$A:$F,6,0),IF($H$2=$V$6,VLOOKUP($I10,Tabelle!$N:$S,6,0),IF($H$2=$V$7,VLOOKUP($I10,Tabelle!$AA:$AF,6,0),IF($H$2=$V$8,VLOOKUP($I10,Tabelle!$AN:$AS,6,0)))))),\"\",IF($H$2=$V$5,VLOOKUP($I10,Tabelle!$A:$F,6,0),IF($H$2=$V$6,VLOOKUP($I10,Tabelle!$N:$S,6,0),IF($H$2=$V$7,VLOOKUP($I10,Tabelle!$AA:$AF,6,0),IF($H$2=$V$8,VLOOKUP($I10,Tabelle!$AN:$AS,6,0))))))","v":7.3},null,{"$f":"IF(ISNUMBER(IF($H$2=$V$5,OFFSET(Tabelle!H10,0,0),IF($H$2=$V$6,OFFSET(Tabelle!U10,0,0),IF($H$2=$V$7,OFFSET(Tabelle!AH10,0,0),IF($H$2=$V$8,OFFSET(Tabelle!AV10,0,0)))))),IF($H$2=$V$5,OFFSET(Tabelle!H10,0,0),IF($H$2=$V$6,OFFSET(Tabelle!U10,0,0),IF($H$2=$V$7,OFFSET(Tabelle!AH10,0,0),IF($H$2=$V$8,OFFSET(Tabelle!AU10,0,0))))),\"\")","v":"2008-09-30"},{"$f":"IF(ISERROR(IF($H$2=$V$5,VLOOKUP($P10,Tabelle!$H:$I,2,0),IF($H$2=$V$6,VLOOKUP($P10,Tabelle!$U:$V,2,0),IF($H$2=$V$7,VLOOKUP($P10,Tabelle!$AH:$AI,2,0),IF($H$2=$V$8,VLOOKUP($P10,Tabelle!$AU:$AV,2,0)))))),\"\",IF($H$2=$V$5,VLOOKUP($P10,Tabelle!$H:$I,2,0),IF($H$2=$V$6,VLOOKUP($P10,Tabelle!$U:$V,2,0),IF($H$2=$V$7,VLOOKUP($P10,Tabelle!$AH:$AI,2,0),IF($H$2=$V$8,VLOOKUP($P10,Tabelle!$AU:$AV,2,0))))))","v":6.6},{"$f":"IF(ISERROR(IF($H$2=$V$5,VLOOKUP($P10,Tabelle!$H:$J,3,0),IF($H$2=$V$6,VLOOKUP($P10,Tabelle!$U:$W,3,0),IF($H$2=$V$7,VLOOKUP($P10,Tabelle!$AH:$AJ,3,0),IF($H$2=$V$8,VLOOKUP($P10,Tabelle!$AU:$AW,3,0)))))),\"\",IF($H$2=$V$5,VLOOKUP($P10,Tabelle!$H:$J,3,0),IF($H$2=$V$6,VLOOKUP($P10,Tabelle!$U:$W,3,0),IF($H$2=$V$7,VLOOKUP($P10,Tabelle!$AH:$AJ,3,0),IF($H$2=$V$8,VLOOKUP($P10,Tabelle!$AU:$AW,3,0))))))","v":5.7},{"$f":"IF(ISERROR(IF($H$2=$V$5,VLOOKUP($P10,Tabelle!$H:$K,4,0),IF($H$2=$V$6,VLOOKUP($P10,Tabelle!$U:$X,4,0),IF($H$2=$V$7,VLOOKUP($P10,Tabelle!$AH:$AK,4,0),IF($H$2=$V$8,VLOOKUP($P10,Tabelle!$AU:$AX,4,0)))))),\"\",IF($H$2=$V$5,VLOOKUP($P10,Tabelle!$H:$K,4,0),IF($H$2=$V$6,VLOOKUP($P10,Tabelle!$U:$X,4,0),IF($H$2=$V$7,VLOOKUP($P10,Tabelle!$AH:$AK,4,0),IF($H$2=$V$8,VLOOKUP($P10,Tabelle!$AU:$AX,4,0))))))","v":15},{"$f":"IF(ISERROR(IF($H$2=$V$5,VLOOKUP($P10,Tabelle!$H:$L,5,0),IF($H$2=$V$6,VLOOKUP($P10,Tabelle!$U:$Y,5,0),IF($H$2=$V$7,VLOOKUP($P10,Tabelle!$AH:$AL,5,0),IF($H$2=$V$8,VLOOKUP($P10,Tabelle!$AU:$AY,5,0)))))),\"\",IF($H$2=$V$5,VLOOKUP($P10,Tabelle!$H:$L,5,0),IF($H$2=$V$6,VLOOKUP($P10,Tabelle!$U:$Y,5,0),IF($H$2=$V$7,VLOOKUP($P10,Tabelle!$AH:$AL,5,0),IF($H$2=$V$8,VLOOKUP($P10,Tabelle!$AU:$AY,5,0))))))","v":4.5},null,"DatesSEE",null,null,"",11,10.9,5.5,7.3,null,null,6.6,5.7,15,4.5]
[null,null,null,null,null,null,null,null,{"$f":"IF(ISNUMBER(IF($H$2=$V$5,OFFSET(Tabelle!A11,0,0),IF($H$2=$V$6,OFFSET(Tabelle!N11,0,0),IF($H$2=$V$7,OFFSET(Tabelle!AA11,0,0),IF($H$2=$V$8,OFFSET(Tabelle!AN11,0,0)))))),IF($H$2=$V$5,OFFSET(Tabelle!A11,0,0),IF($H$2=$V$6,OFFSET(Tabelle!N11,0,0),IF($H$2=$V$7,OFFSET(Tabelle!AA11,0,0),IF($H$2=$V$8,OFFSET(Tabelle!AN11,0,0))))),\"\")","v":"2008-10-31"},{"$f":"IF(ISERROR(IF($H$2=$V$5,VLOOKUP($I11,Tabelle!$A:$B,2,0),IF($H$2=$V$6,VLOOKUP($I11,Tabelle!$N:$O,2,0),IF($H$2=$V$7,VLOOKUP($I11,Tabelle!$AA:$AB,2,0),IF($H$2=$V$8,VLOOKUP($I11,Tabelle!$AN:$AO,2,0)))))),\"\",IF($H$2=$V$5,VLOOKUP($I11,Tabelle!$A:$B,2,0),IF($H$2=$V$6,VLOOKUP($I11,Tabelle!$N:$O,2,0),IF($H$2=$V$7,VLOOKUP($I11,Tabelle!$AA:$AB,2,0),IF($H$2=$V$8,VLOOKUP($I11,Tabelle!$AN:$AO,2,0))))))","v":5.9},{"$f":"IF(ISERROR(IF($H$2=$V$5,VLOOKUP($I11,Tabelle!$A:$C,3,0),IF($H$2=$V$6,VLOOKUP($I11,Tabelle!$N:$P,3,0),IF($H$2=$V$7,VLOOKUP($I11,Tabelle!$AA:$AC,3,0),IF($H$2=$V$8,VLOOKUP($I11,Tabelle!$AN:$AP,3,0)))))),\"\",IF($H$2=$V$5,VLOOKUP($I11,Tabelle!$A:$C,3,0),IF($H$2=$V$6,VLOOKUP($I11,Tabelle!$N:$P,3,0),IF($H$2=$V$7,VLOOKUP($I11,Tabelle!$AA:$AC,3,0),IF($H$2=$V$8,VLOOKUP($I11,Tabelle!$AN:$AP,3,0))))))","v":10.9},{"$f":"IF(ISERROR(IF($H$2=$V$5,VLOOKUP($I11,Tabelle!$A:$D,4,0),IF($H$2=$V$6,VLOOKUP($I11,Tabelle!$N:$Q,4,0),IF($H$2=$V$7,VLOOKUP($I11,Tabelle!$AA:$AD,4,0),IF($H$2=$V$8,VLOOKUP($I11,Tabelle!$AN:$AQ,4,0)))))),\"\",IF($H$2=$V$5,VLOOKUP($I11,Tabelle!$A:$D,4,0),IF($H$2=$V$6,VLOOKUP($I11,Tabelle!$N:$Q,4,0),IF($H$2=$V$7,VLOOKUP($I11,Tabelle!$AA:$AD,4,0),IF($H$2=$V$8,VLOOKUP($I11,Tabelle!$AN:$AQ,4,0))))))","v":12.3},{"$f":"IF(ISERROR(IF($H$2=$V$5,VLOOKUP($I11,Tabelle!$A:$E,5,0),IF($H$2=$V$6,VLOOKUP($I11,Tabelle!$N:$R,5,0),IF($H$2=$V$7,VLOOKUP($I11,Tabelle!$AA:$AE,5,0),IF($H$2=$V$8,VLOOKUP($I11,Tabelle!$AN:$AR,5,0)))))),\"\",IF($H$2=$V$5,VLOOKUP($I11,Tabelle!$A:$E,5,0),IF($H$2=$V$6,VLOOKUP($I11,Tabelle!$N:$R,5,0),IF($H$2=$V$7,VLOOKUP($I11,Tabelle!$AA:$AE,5,0),IF($H$2=$V$8,VLOOKUP($I11,Tabelle!$AN:$AR,5,0))))))","v":4.9000000000000004},{"$f":"IF(ISERROR(IF($H$2=$V$5,VLOOKUP($I11,Tabelle!$A:$F,6,0),IF($H$2=$V$6,VLOOKUP($I11,Tabelle!$N:$S,6,0),IF($H$2=$V$7,VLOOKUP($I11,Tabelle!$AA:$AF,6,0),IF($H$2=$V$8,VLOOKUP($I11,Tabelle!$AN:$AS,6,0)))))),\"\",IF($H$2=$V$5,VLOOKUP($I11,Tabelle!$A:$F,6,0),IF($H$2=$V$6,VLOOKUP($I11,Tabelle!$N:$S,6,0),IF($H$2=$V$7,VLOOKUP($I11,Tabelle!$AA:$AF,6,0),IF($H$2=$V$8,VLOOKUP($I11,Tabelle!$AN:$AS,6,0))))))","v":7.39},null,{"$f":"IF(ISNUMBER(IF($H$2=$V$5,OFFSET(Tabelle!H11,0,0),IF($H$2=$V$6,OFFSET(Tabelle!U11,0,0),IF($H$2=$V$7,OFFSET(Tabelle!AH11,0,0),IF($H$2=$V$8,OFFSET(Tabelle!AV11,0,0)))))),IF($H$2=$V$5,OFFSET(Tabelle!H11,0,0),IF($H$2=$V$6,OFFSET(Tabelle!U11,0,0),IF($H$2=$V$7,OFFSET(Tabelle!AH11,0,0),IF($H$2=$V$8,OFFSET(Tabelle!AU11,0,0))))),\"\")","v":"2008-10-31"},{"$f":"IF(ISERROR(IF($H$2=$V$5,VLOOKUP($P11,Tabelle!$H:$I,2,0),IF($H$2=$V$6,VLOOKUP($P11,Tabelle!$U:$V,2,0),IF($H$2=$V$7,VLOOKUP($P11,Tabelle!$AH:$AI,2,0),IF($H$2=$V$8,VLOOKUP($P11,Tabelle!$AU:$AV,2,0)))))),\"\",IF($H$2=$V$5,VLOOKUP($P11,Tabelle!$H:$I,2,0),IF($H$2=$V$6,VLOOKUP($P11,Tabelle!$U:$V,2,0),IF($H$2=$V$7,VLOOKUP($P11,Tabelle!$AH:$AI,2,0),IF($H$2=$V$8,VLOOKUP($P11,Tabelle!$AU:$AV,2,0))))))","v":6},{"$f":"IF(ISERROR(IF($H$2=$V$5,VLOOKUP($P11,Tabelle!$H:$J,3,0),IF($H$2=$V$6,VLOOKUP($P11,Tabelle!$U:$W,3,0),IF($H$2=$V$7,VLOOKUP($P11,Tabelle!$AH:$AJ,3,0),IF($H$2=$V$8,VLOOKUP($P11,Tabelle!$AU:$AW,3,0)))))),\"\",IF($H$2=$V$5,VLOOKUP($P11,Tabelle!$H:$J,3,0),IF($H$2=$V$6,VLOOKUP($P11,Tabelle!$U:$W,3,0),IF($H$2=$V$7,VLOOKUP($P11,Tabelle!$AH:$AJ,3,0),IF($H$2=$V$8,VLOOKUP($P11,Tabelle!$AU:$AW,3,0))))))","v":5.0999999999999996},{"$f":"IF(ISERROR(IF($H$2=$V$5,VLOOKUP($P11,Tabelle!$H:$K,4,0),IF($H$2=$V$6,VLOOKUP($P11,Tabelle!$U:$X,4,0),IF($H$2=$V$7,VLOOKUP($P11,Tabelle!$AH:$AK,4,0),IF($H$2=$V$8,VLOOKUP($P11,Tabelle!$AU:$AX,4,0)))))),\"\",IF($H$2=$V$5,VLOOKUP($P11,Tabelle!$H:$K,4,0),IF($H$2=$V$6,VLOOKUP($P11,Tabelle!$U:$X,4,0),IF($H$2=$V$7,VLOOKUP($P11,Tabelle!$AH:$AK,4,0),IF($H$2=$V$8,VLOOKUP($P11,Tabelle!$AU:$AX,4,0))))))","v":14.2},{"$f":"IF(ISERROR(IF($H$2=$V$5,VLOOKUP($P11,Tabelle!$H:$L,5,0),IF($H$2=$V$6,VLOOKUP($P11,Tabelle!$U:$Y,5,0),IF($H$2=$V$7,VLOOKUP($P11,Tabelle!$AH:$AL,5,0),IF($H$2=$V$8,VLOOKUP($P11,Tabelle!$AU:$AY,5,0)))))),\"\",IF($H$2=$V$5,VLOOKUP($P11,Tabelle!$H:$L,5,0),IF($H$2=$V$6,VLOOKUP($P11,Tabelle!$U:$Y,5,0),IF($H$2=$V$7,VLOOKUP($P11,Tabelle!$AH:$AL,5,0),IF($H$2=$V$8,VLOOKUP($P11,Tabelle!$AU:$AY,5,0))))))","v":4.2},null,"ChartCroatia",null,null,"",10.9,12.3,4.9000000000000004,7.39,null,null,6,5.0999999999999996,14.2,4.2]
[null,null,null,null,null,null,null,null,{"$f":"IF(ISNUMBER(IF($H$2=$V$5,OFFSET(Tabelle!A12,0,0),IF($H$2=$V$6,OFFSET(Tabelle!N12,0,0),IF($H$2=$V$7,OFFSET(Tabelle!AA12,0,0),IF($H$2=$V$8,OFFSET(Tabelle!AN12,0,0)))))),IF($H$2=$V$5,OFFSET(Tabelle!A12,0,0),IF($H$2=$V$6,OFFSET(Tabelle!N12,0,0),IF($H$2=$V$7,OFFSET(Tabelle!AA12,0,0),IF($H$2=$V$8,OFFSET(Tabelle!AN12,0,0))))),\"\")","v":"2008-11-30"},{"$f":"IF(ISERROR(IF($H$2=$V$5,VLOOKUP($I12,Tabelle!$A:$B,2,0),IF($H$2=$V$6,VLOOKUP($I12,Tabelle!$N:$O,2,0),IF($H$2=$V$7,VLOOKUP($I12,Tabelle!$AA:$AB,2,0),IF($H$2=$V$8,VLOOKUP($I12,Tabelle!$AN:$AO,2,0)))))),\"\",IF($H$2=$V$5,VLOOKUP($I12,Tabelle!$A:$B,2,0),IF($H$2=$V$6,VLOOKUP($I12,Tabelle!$N:$O,2,0),IF($H$2=$V$7,VLOOKUP($I12,Tabelle!$AA:$AB,2,0),IF($H$2=$V$8,VLOOKUP($I12,Tabelle!$AN:$AO,2,0))))))","v":4.7},{"$f":"IF(ISERROR(IF($H$2=$V$5,VLOOKUP($I12,Tabelle!$A:$C,3,0),IF($H$2=$V$6,VLOOKUP($I12,Tabelle!$N:$P,3,0),IF($H$2=$V$7,VLOOKUP($I12,Tabelle!$AA:$AC,3,0),IF($H$2=$V$8,VLOOKUP($I12,Tabelle!$AN:$AP,3,0)))))),\"\",IF($H$2=$V$5,VLOOKUP($I12,Tabelle!$A:$C,3,0),IF($H$2=$V$6,VLOOKUP($I12,Tabelle!$N:$P,3,0),IF($H$2=$V$7,VLOOKUP($I12,Tabelle!$AA:$AC,3,0),IF($H$2=$V$8,VLOOKUP($I12,Tabelle!$AN:$AP,3,0))))))","v":9.1},{"$f":"IF(ISERROR(IF($H$2=$V$5,VLOOKUP($I12,Tabelle!$A:$D,4,0),IF($H$2=$V$6,VLOOKUP($I12,Tabelle!$N:$Q,4,0),IF($H$2=$V$7,VLOOKUP($I12,Tabelle!$AA:$AD,4,0),IF($H$2=$V$8,VLOOKUP($I12,Tabelle!$AN:$AQ,4,0)))))),\"\",IF($H$2=$V$5,VLOOKUP($I12,Tabelle!$A:$D,4,0),IF($H$2=$V$6,VLOOKUP($I12,Tabelle!$N:$Q,4,0),IF($H$2=$V$7,VLOOKUP($I12,Tabelle!$AA:$AD,4,0),IF($H$2=$V$8,VLOOKUP($I12,Tabelle!$AN:$AQ,4,0))))))","v":10.9},{"$f":"IF(ISERROR(IF($H$2=$V$5,VLOOKUP($I12,Tabelle!$A:$E,5,0),IF($H$2=$V$6,VLOOKUP($I12,Tabelle!$N:$R,5,0),IF($H$2=$V$7,VLOOKUP($I12,Tabelle!$AA:$AE,5,0),IF($H$2=$V$8,VLOOKUP($I12,Tabelle!$AN:$AR,5,0)))))),\"\",IF($H$2=$V$5,VLOOKUP($I12,Tabelle!$A:$E,5,0),IF($H$2=$V$6,VLOOKUP($I12,Tabelle!$N:$R,5,0),IF($H$2=$V$7,VLOOKUP($I12,Tabelle!$AA:$AE,5,0),IF($H$2=$V$8,VLOOKUP($I12,Tabelle!$AN:$AR,5,0))))))","v":3.1},{"$f":"IF(ISERROR(IF($H$2=$V$5,VLOOKUP($I12,Tabelle!$A:$F,6,0),IF($H$2=$V$6,VLOOKUP($I12,Tabelle!$N:$S,6,0),IF($H$2=$V$7,VLOOKUP($I12,Tabelle!$AA:$AF,6,0),IF($H$2=$V$8,VLOOKUP($I12,Tabelle!$AN:$AS,6,0)))))),\"\",IF($H$2=$V$5,VLOOKUP($I12,Tabelle!$A:$F,6,0),IF($H$2=$V$6,VLOOKUP($I12,Tabelle!$N:$S,6,0),IF($H$2=$V$7,VLOOKUP($I12,Tabelle!$AA:$AF,6,0),IF($H$2=$V$8,VLOOKUP($I12,Tabelle!$AN:$AS,6,0))))))","v":6.74},null,{"$f":"IF(ISNUMBER(IF($H$2=$V$5,OFFSET(Tabelle!H12,0,0),IF($H$2=$V$6,OFFSET(Tabelle!U12,0,0),IF($H$2=$V$7,OFFSET(Tabelle!AH12,0,0),IF($H$2=$V$8,OFFSET(Tabelle!AV12,0,0)))))),IF($H$2=$V$5,OFFSET(Tabelle!H12,0,0),IF($H$2=$V$6,OFFSET(Tabelle!U12,0,0),IF($H$2=$V$7,OFFSET(Tabelle!AH12,0,0),IF($H$2=$V$8,OFFSET(Tabelle!AU12,0,0))))),\"\")","v":"2008-11-30"},{"$f":"IF(ISERROR(IF($H$2=$V$5,VLOOKUP($P12,Tabelle!$H:$I,2,0),IF($H$2=$V$6,VLOOKUP($P12,Tabelle!$U:$V,2,0),IF($H$2=$V$7,VLOOKUP($P12,Tabelle!$AH:$AI,2,0),IF($H$2=$V$8,VLOOKUP($P12,Tabelle!$AU:$AV,2,0)))))),\"\",IF($H$2=$V$5,VLOOKUP($P12,Tabelle!$H:$I,2,0),IF($H$2=$V$6,VLOOKUP($P12,Tabelle!$U:$V,2,0),IF($H$2=$V$7,VLOOKUP($P12,Tabelle!$AH:$AI,2,0),IF($H$2=$V$8,VLOOKUP($P12,Tabelle!$AU:$AV,2,0))))))","v":4.4000000000000004},{"$f":"IF(ISERROR(IF($H$2=$V$5,VLOOKUP($P12,Tabelle!$H:$J,3,0),IF($H$2=$V$6,VLOOKUP($P12,Tabelle!$U:$W,3,0),IF($H$2=$V$7,VLOOKUP($P12,Tabelle!$AH:$AJ,3,0),IF($H$2=$V$8,VLOOKUP($P12,Tabelle!$AU:$AW,3,0)))))),\"\",IF($H$2=$V$5,VLOOKUP($P12,Tabelle!$H:$J,3,0),IF($H$2=$V$6,VLOOKUP($P12,Tabelle!$U:$W,3,0),IF($H$2=$V$7,VLOOKUP($P12,Tabelle!$AH:$AJ,3,0),IF($H$2=$V$8,VLOOKUP($P12,Tabelle!$AU:$AW,3,0))))))","v":4.2},{"$f":"IF(ISERROR(IF($H$2=$V$5,VLOOKUP($P12,Tabelle!$H:$K,4,0),IF($H$2=$V$6,VLOOKUP($P12,Tabelle!$U:$X,4,0),IF($H$2=$V$7,VLOOKUP($P12,Tabelle!$AH:$AK,4,0),IF($H$2=$V$8,VLOOKUP($P12,Tabelle!$AU:$AX,4,0)))))),\"\",IF($H$2=$V$5,VLOOKUP($P12,Tabelle!$H:$K,4,0),IF($H$2=$V$6,VLOOKUP($P12,Tabelle!$U:$X,4,0),IF($H$2=$V$7,VLOOKUP($P12,Tabelle!$AH:$AK,4,0),IF($H$2=$V$8,VLOOKUP($P12,Tabelle!$AU:$AX,4,0))))))","v":13.8},{"$f":"IF(ISERROR(IF($H$2=$V$5,VLOOKUP($P12,Tabelle!$H:$L,5,0),IF($H$2=$V$6,VLOOKUP($P12,Tabelle!$U:$Y,5,0),IF($H$2=$V$7,VLOOKUP($P12,Tabelle!$AH:$AL,5,0),IF($H$2=$V$8,VLOOKUP($P12,Tabelle!$AU:$AY,5,0)))))),\"\",IF($H$2=$V$5,VLOOKUP($P12,Tabelle!$H:$L,5,0),IF($H$2=$V$6,VLOOKUP($P12,Tabelle!$U:$Y,5,0),IF($H$2=$V$7,VLOOKUP($P12,Tabelle!$AH:$AL,5,0),IF($H$2=$V$8,VLOOKUP($P12,Tabelle!$AU:$AY,5,0))))))","v":3.7},null,"ChartBulgaria",null,null,"",9.1,10.9,3.1,6.74,null,null,4.4000000000000004,4.2,13.8,3.7]
[null,null,null,null,null,null,null,null,{"$f":"IF(ISNUMBER(IF($H$2=$V$5,OFFSET(Tabelle!A13,0,0),IF($H$2=$V$6,OFFSET(Tabelle!N13,0,0),IF($H$2=$V$7,OFFSET(Tabelle!AA13,0,0),IF($H$2=$V$8,OFFSET(Tabelle!AN13,0,0)))))),IF($H$2=$V$5,OFFSET(Tabelle!A13,0,0),IF($H$2=$V$6,OFFSET(Tabelle!N13,0,0),IF($H$2=$V$7,OFFSET(Tabelle!AA13,0,0),IF($H$2=$V$8,OFFSET(Tabelle!AN13,0,0))))),\"\")","v":"2008-12-31"},{"$f":"IF(ISERROR(IF($H$2=$V$5,VLOOKUP($I13,Tabelle!$A:$B,2,0),IF($H$2=$V$6,VLOOKUP($I13,Tabelle!$N:$O,2,0),IF($H$2=$V$7,VLOOKUP($I13,Tabelle!$AA:$AB,2,0),IF($H$2=$V$8,VLOOKUP($I13,Tabelle!$AN:$AO,2,0)))))),\"\",IF($H$2=$V$5,VLOOKUP($I13,Tabelle!$A:$B,2,0),IF($H$2=$V$6,VLOOKUP($I13,Tabelle!$N:$O,2,0),IF($H$2=$V$7,VLOOKUP($I13,Tabelle!$AA:$AB,2,0),IF($H$2=$V$8,VLOOKUP($I13,Tabelle!$AN:$AO,2,0))))))","v":2.9},{"$f":"IF(ISERROR(IF($H$2=$V$5,VLOOKUP($I13,Tabelle!$A:$C,3,0),IF($H$2=$V$6,VLOOKUP($I13,Tabelle!$N:$P,3,0),IF($H$2=$V$7,VLOOKUP($I13,Tabelle!$AA:$AC,3,0),IF($H$2=$V$8,VLOOKUP($I13,Tabelle!$AN:$AP,3,0)))))),\"\",IF($H$2=$V$5,VLOOKUP($I13,Tabelle!$A:$C,3,0),IF($H$2=$V$6,VLOOKUP($I13,Tabelle!$N:$P,3,0),IF($H$2=$V$7,VLOOKUP($I13,Tabelle!$AA:$AC,3,0),IF($H$2=$V$8,VLOOKUP($I13,Tabelle!$AN:$AP,3,0))))))","v":7.8},{"$f":"IF(ISERROR(IF($H$2=$V$5,VLOOKUP($I13,Tabelle!$A:$D,4,0),IF($H$2=$V$6,VLOOKUP($I13,Tabelle!$N:$Q,4,0),IF($H$2=$V$7,VLOOKUP($I13,Tabelle!$AA:$AD,4,0),IF($H$2=$V$8,VLOOKUP($I13,Tabelle!$AN:$AQ,4,0)))))),\"\",IF($H$2=$V$5,VLOOKUP($I13,Tabelle!$A:$D,4,0),IF($H$2=$V$6,VLOOKUP($I13,Tabelle!$N:$Q,4,0),IF($H$2=$V$7,VLOOKUP($I13,Tabelle!$AA:$AD,4,0),IF($H$2=$V$8,VLOOKUP($I13,Tabelle!$AN:$AQ,4,0))))))","v":8.6},{"$f":"IF(ISERROR(IF($H$2=$V$5,VLOOKUP($I13,Tabelle!$A:$E,5,0),IF($H$2=$V$6,VLOOKUP($I13,Tabelle!$N:$R,5,0),IF($H$2=$V$7,VLOOKUP($I13,Tabelle!$AA:$AE,5,0),IF($H$2=$V$8,VLOOKUP($I13,Tabelle!$AN:$AR,5,0)))))),\"\",IF($H$2=$V$5,VLOOKUP($I13,Tabelle!$A:$E,5,0),IF($H$2=$V$6,VLOOKUP($I13,Tabelle!$N:$R,5,0),IF($H$2=$V$7,VLOOKUP($I13,Tabelle!$AA:$AE,5,0),IF($H$2=$V$8,VLOOKUP($I13,Tabelle!$AN:$AR,5,0))))))","v":2.1},{"$f":"IF(ISERROR(IF($H$2=$V$5,VLOOKUP($I13,Tabelle!$A:$F,6,0),IF($H$2=$V$6,VLOOKUP($I13,Tabelle!$N:$S,6,0),IF($H$2=$V$7,VLOOKUP($I13,Tabelle!$AA:$AF,6,0),IF($H$2=$V$8,VLOOKUP($I13,Tabelle!$AN:$AS,6,0)))))),\"\",IF($H$2=$V$5,VLOOKUP($I13,Tabelle!$A:$F,6,0),IF($H$2=$V$6,VLOOKUP($I13,Tabelle!$N:$S,6,0),IF($H$2=$V$7,VLOOKUP($I13,Tabelle!$AA:$AF,6,0),IF($H$2=$V$8,VLOOKUP($I13,Tabelle!$AN:$AS,6,0))))))","v":6.3},null,{"$f":"IF(ISNUMBER(IF($H$2=$V$5,OFFSET(Tabelle!H13,0,0),IF($H$2=$V$6,OFFSET(Tabelle!U13,0,0),IF($H$2=$V$7,OFFSET(Tabelle!AH13,0,0),IF($H$2=$V$8,OFFSET(Tabelle!AV13,0,0)))))),IF($H$2=$V$5,OFFSET(Tabelle!H13,0,0),IF($H$2=$V$6,OFFSET(Tabelle!U13,0,0),IF($H$2=$V$7,OFFSET(Tabelle!AH13,0,0),IF($H$2=$V$8,OFFSET(Tabelle!AU13,0,0))))),\"\")","v":"2008-12-31"},{"$f":"IF(ISERROR(IF($H$2=$V$5,VLOOKUP($P13,Tabelle!$H:$I,2,0),IF($H$2=$V$6,VLOOKUP($P13,Tabelle!$U:$V,2,0),IF($H$2=$V$7,VLOOKUP($P13,Tabelle!$AH:$AI,2,0),IF($H$2=$V$8,VLOOKUP($P13,Tabelle!$AU:$AV,2,0)))))),\"\",IF($H$2=$V$5,VLOOKUP($P13,Tabelle!$H:$I,2,0),IF($H$2=$V$6,VLOOKUP($P13,Tabelle!$U:$V,2,0),IF($H$2=$V$7,VLOOKUP($P13,Tabelle!$AH:$AI,2,0),IF($H$2=$V$8,VLOOKUP($P13,Tabelle!$AU:$AV,2,0))))))","v":3.6},{"$f":"IF(ISERROR(IF($H$2=$V$5,VLOOKUP($P13,Tabelle!$H:$J,3,0),IF($H$2=$V$6,VLOOKUP($P13,Tabelle!$U:$W,3,0),IF($H$2=$V$7,VLOOKUP($P13,Tabelle!$AH:$AJ,3,0),IF($H$2=$V$8,VLOOKUP($P13,Tabelle!$AU:$AW,3,0)))))),\"\",IF($H$2=$V$5,VLOOKUP($P13,Tabelle!$H:$J,3,0),IF($H$2=$V$6,VLOOKUP($P13,Tabelle!$U:$W,3,0),IF($H$2=$V$7,VLOOKUP($P13,Tabelle!$AH:$AJ,3,0),IF($H$2=$V$8,VLOOKUP($P13,Tabelle!$AU:$AW,3,0))))))","v":3.5},{"$f":"IF(ISERROR(IF($H$2=$V$5,VLOOKUP($P13,Tabelle!$H:$K,4,0),IF($H$2=$V$6,VLOOKUP($P13,Tabelle!$U:$X,4,0),IF($H$2=$V$7,VLOOKUP($P13,Tabelle!$AH:$AK,4,0),IF($H$2=$V$8,VLOOKUP($P13,Tabelle!$AU:$AX,4,0)))))),\"\",IF($H$2=$V$5,VLOOKUP($P13,Tabelle!$H:$K,4,0),IF($H$2=$V$6,VLOOKUP($P13,Tabelle!$U:$X,4,0),IF($H$2=$V$7,VLOOKUP($P13,Tabelle!$AH:$AK,4,0),IF($H$2=$V$8,VLOOKUP($P13,Tabelle!$AU:$AX,4,0))))))","v":13.3},{"$f":"IF(ISERROR(IF($H$2=$V$5,VLOOKUP($P13,Tabelle!$H:$L,5,0),IF($H$2=$V$6,VLOOKUP($P13,Tabelle!$U:$Y,5,0),IF($H$2=$V$7,VLOOKUP($P13,Tabelle!$AH:$AL,5,0),IF($H$2=$V$8,VLOOKUP($P13,Tabelle!$AU:$AY,5,0)))))),\"\",IF($H$2=$V$5,VLOOKUP($P13,Tabelle!$H:$L,5,0),IF($H$2=$V$6,VLOOKUP($P13,Tabelle!$U:$Y,5,0),IF($H$2=$V$7,VLOOKUP($P13,Tabelle!$AH:$AL,5,0),IF($H$2=$V$8,VLOOKUP($P13,Tabelle!$AU:$AY,5,0))))))","v":3.3},null,"ChartSerbia",null,null,"",7.8,8.6,2.1,6.3,null,null,3.6,3.5,13.3,3.3]
[null,null,null,null,null,null,null,null,{"$f":"IF(ISNUMBER(IF($H$2=$V$5,OFFSET(Tabelle!A14,0,0),IF($H$2=$V$6,OFFSET(Tabelle!N14,0,0),IF($H$2=$V$7,OFFSET(Tabelle!AA14,0,0),IF($H$2=$V$8,OFFSET(Tabelle!AN14,0,0)))))),IF($H$2=$V$5,OFFSET(Tabelle!A14,0,0),IF($H$2=$V$6,OFFSET(Tabelle!N14,0,0),IF($H$2=$V$7,OFFSET(Tabelle!AA14,0,0),IF($H$2=$V$8,OFFSET(Tabelle!AN14,0,0))))),\"\")","v":"2009-01-31"},{"$f":"IF(ISERROR(IF($H$2=$V$5,VLOOKUP($I14,Tabelle!$A:$B,2,0),IF($H$2=$V$6,VLOOKUP($I14,Tabelle!$N:$O,2,0),IF($H$2=$V$7,VLOOKUP($I14,Tabelle!$AA:$AB,2,0),IF($H$2=$V$8,VLOOKUP($I14,Tabelle!$AN:$AO,2,0)))))),\"\",IF($H$2=$V$5,VLOOKUP($I14,Tabelle!$A:$B,2,0),IF($H$2=$V$6,VLOOKUP($I14,Tabelle!$N:$O,2,0),IF($H$2=$V$7,VLOOKUP($I14,Tabelle!$AA:$AB,2,0),IF($H$2=$V$8,VLOOKUP($I14,Tabelle!$AN:$AO,2,0))))))","v":3.4},{"$f":"IF(ISERROR(IF($H$2=$V$5,VLOOKUP($I14,Tabelle!$A:$C,3,0),IF($H$2=$V$6,VLOOKUP($I14,Tabelle!$N:$P,3,0),IF($H$2=$V$7,VLOOKUP($I14,Tabelle!$AA:$AC,3,0),IF($H$2=$V$8,VLOOKUP($I14,Tabelle!$AN:$AP,3,0)))))),\"\",IF($H$2=$V$5,VLOOKUP($I14,Tabelle!$A:$C,3,0),IF($H$2=$V$6,VLOOKUP($I14,Tabelle!$N:$P,3,0),IF($H$2=$V$7,VLOOKUP($I14,Tabelle!$AA:$AC,3,0),IF($H$2=$V$8,VLOOKUP($I14,Tabelle!$AN:$AP,3,0))))))","v":7.1},{"$f":"IF(ISERROR(IF($H$2=$V$5,VLOOKUP($I14,Tabelle!$A:$D,4,0),IF($H$2=$V$6,VLOOKUP($I14,Tabelle!$N:$Q,4,0),IF($H$2=$V$7,VLOOKUP($I14,Tabelle!$AA:$AD,4,0),IF($H$2=$V$8,VLOOKUP($I14,Tabelle!$AN:$AQ,4,0)))))),\"\",IF($H$2=$V$5,VLOOKUP($I14,Tabelle!$A:$D,4,0),IF($H$2=$V$6,VLOOKUP($I14,Tabelle!$N:$Q,4,0),IF($H$2=$V$7,VLOOKUP($I14,Tabelle!$AA:$AD,4,0),IF($H$2=$V$8,VLOOKUP($I14,Tabelle!$AN:$AQ,4,0))))))","v":10},{"$f":"IF(ISERROR(IF($H$2=$V$5,VLOOKUP($I14,Tabelle!$A:$E,5,0),IF($H$2=$V$6,VLOOKUP($I14,Tabelle!$N:$R,5,0),IF($H$2=$V$7,VLOOKUP($I14,Tabelle!$AA:$AE,5,0),IF($H$2=$V$8,VLOOKUP($I14,Tabelle!$AN:$AR,5,0)))))),\"\",IF($H$2=$V$5,VLOOKUP($I14,Tabelle!$A:$E,5,0),IF($H$2=$V$6,VLOOKUP($I14,Tabelle!$N:$R,5,0),IF($H$2=$V$7,VLOOKUP($I14,Tabelle!$AA:$AE,5,0),IF($H$2=$V$8,VLOOKUP($I14,Tabelle!$AN:$AR,5,0))))))","v":1.6},{"$f":"IF(ISERROR(IF($H$2=$V$5,VLOOKUP($I14,Tabelle!$A:$F,6,0),IF($H$2=$V$6,VLOOKUP($I14,Tabelle!$N:$S,6,0),IF($H$2=$V$7,VLOOKUP($I14,Tabelle!$AA:$AF,6,0),IF($H$2=$V$8,VLOOKUP($I14,Tabelle!$AN:$AS,6,0)))))),\"\",IF($H$2=$V$5,VLOOKUP($I14,Tabelle!$A:$F,6,0),IF($H$2=$V$6,VLOOKUP($I14,Tabelle!$N:$S,6,0),IF($H$2=$V$7,VLOOKUP($I14,Tabelle!$AA:$AF,6,0),IF($H$2=$V$8,VLOOKUP($I14,Tabelle!$AN:$AS,6,0))))))","v":6.71},null,{"$f":"IF(ISNUMBER(IF($H$2=$V$5,OFFSET(Tabelle!H14,0,0),IF($H$2=$V$6,OFFSET(Tabelle!U14,0,0),IF($H$2=$V$7,OFFSET(Tabelle!AH14,0,0),IF($H$2=$V$8,OFFSET(Tabelle!AV14,0,0)))))),IF($H$2=$V$5,OFFSET(Tabelle!H14,0,0),IF($H$2=$V$6,OFFSET(Tabelle!U14,0,0),IF($H$2=$V$7,OFFSET(Tabelle!AH14,0,0),IF($H$2=$V$8,OFFSET(Tabelle!AU14,0,0))))),\"\")","v":"2009-01-31"},{"$f":"IF(ISERROR(IF($H$2=$V$5,VLOOKUP($P14,Tabelle!$H:$I,2,0),IF($H$2=$V$6,VLOOKUP($P14,Tabelle!$U:$V,2,0),IF($H$2=$V$7,VLOOKUP($P14,Tabelle!$AH:$AI,2,0),IF($H$2=$V$8,VLOOKUP($P14,Tabelle!$AU:$AV,2,0)))))),\"\",IF($H$2=$V$5,VLOOKUP($P14,Tabelle!$H:$I,2,0),IF($H$2=$V$6,VLOOKUP($P14,Tabelle!$U:$V,2,0),IF($H$2=$V$7,VLOOKUP($P14,Tabelle!$AH:$AI,2,0),IF($H$2=$V$8,VLOOKUP($P14,Tabelle!$AU:$AV,2,0))))))","v":2.2000000000000002},{"$f":"IF(ISERROR(IF($H$2=$V$5,VLOOKUP($P14,Tabelle!$H:$J,3,0),IF($H$2=$V$6,VLOOKUP($P14,Tabelle!$U:$W,3,0),IF($H$2=$V$7,VLOOKUP($P14,Tabelle!$AH:$AJ,3,0),IF($H$2=$V$8,VLOOKUP($P14,Tabelle!$AU:$AW,3,0)))))),\"\",IF($H$2=$V$5,VLOOKUP($P14,Tabelle!$H:$J,3,0),IF($H$2=$V$6,VLOOKUP($P14,Tabelle!$U:$W,3,0),IF($H$2=$V$7,VLOOKUP($P14,Tabelle!$AH:$AJ,3,0),IF($H$2=$V$8,VLOOKUP($P14,Tabelle!$AU:$AW,3,0))))))","v":3.1},{"$f":"IF(ISERROR(IF($H$2=$V$5,VLOOKUP($P14,Tabelle!$H:$K,4,0),IF($H$2=$V$6,VLOOKUP($P14,Tabelle!$U:$X,4,0),IF($H$2=$V$7,VLOOKUP($P14,Tabelle!$AH:$AK,4,0),IF($H$2=$V$8,VLOOKUP($P14,Tabelle!$AU:$AX,4,0)))))),\"\",IF($H$2=$V$5,VLOOKUP($P14,Tabelle!$H:$K,4,0),IF($H$2=$V$6,VLOOKUP($P14,Tabelle!$U:$X,4,0),IF($H$2=$V$7,VLOOKUP($P14,Tabelle!$AH:$AK,4,0),IF($H$2=$V$8,VLOOKUP($P14,Tabelle!$AU:$AX,4,0))))))","v":13.4},{"$f":"IF(ISERROR(IF($H$2=$V$5,VLOOKUP($P14,Tabelle!$H:$L,5,0),IF($H$2=$V$6,VLOOKUP($P14,Tabelle!$U:$Y,5,0),IF($H$2=$V$7,VLOOKUP($P14,Tabelle!$AH:$AL,5,0),IF($H$2=$V$8,VLOOKUP($P14,Tabelle!$AU:$AY,5,0)))))),\"\",IF($H$2=$V$5,VLOOKUP($P14,Tabelle!$H:$L,5,0),IF($H$2=$V$6,VLOOKUP($P14,Tabelle!$U:$Y,5,0),IF($H$2=$V$7,VLOOKUP($P14,Tabelle!$AH:$AL,5,0),IF($H$2=$V$8,VLOOKUP($P14,Tabelle!$AU:$AY,5,0))))))","v":2.8},null,"ChartSlovenia",null,null,"",7.1,10,1.6,6.71,null,null,2.2000000000000002,3.1,13.4,2.8]
[null,null,null,null,null,null,null,null,{"$f":"IF(ISNUMBER(IF($H$2=$V$5,OFFSET(Tabelle!A15,0,0),IF($H$2=$V$6,OFFSET(Tabelle!N15,0,0),IF($H$2=$V$7,OFFSET(Tabelle!AA15,0,0),IF($H$2=$V$8,OFFSET(Tabelle!AN15,0,0)))))),IF($H$2=$V$5,OFFSET(Tabelle!A15,0,0),IF($H$2=$V$6,OFFSET(Tabelle!N15,0,0),IF($H$2=$V$7,OFFSET(Tabelle!AA15,0,0),IF($H$2=$V$8,OFFSET(Tabelle!AN15,0,0))))),\"\")","v":"2009-02-28"},{"$f":"IF(ISERROR(IF($H$2=$V$5,VLOOKUP($I15,Tabelle!$A:$B,2,0),IF($H$2=$V$6,VLOOKUP($I15,Tabelle!$N:$O,2,0),IF($H$2=$V$7,VLOOKUP($I15,Tabelle!$AA:$AB,2,0),IF($H$2=$V$8,VLOOKUP($I15,Tabelle!$AN:$AO,2,0)))))),\"\",IF($H$2=$V$5,VLOOKUP($I15,Tabelle!$A:$B,2,0),IF($H$2=$V$6,VLOOKUP($I15,Tabelle!$N:$O,2,0),IF($H$2=$V$7,VLOOKUP($I15,Tabelle!$AA:$AB,2,0),IF($H$2=$V$8,VLOOKUP($I15,Tabelle!$AN:$AO,2,0))))))","v":4.2},{"$f":"IF(ISERROR(IF($H$2=$V$5,VLOOKUP($I15,Tabelle!$A:$C,3,0),IF($H$2=$V$6,VLOOKUP($I15,Tabelle!$N:$P,3,0),IF($H$2=$V$7,VLOOKUP($I15,Tabelle!$AA:$AC,3,0),IF($H$2=$V$8,VLOOKUP($I15,Tabelle!$AN:$AP,3,0)))))),\"\",IF($H$2=$V$5,VLOOKUP($I15,Tabelle!$A:$C,3,0),IF($H$2=$V$6,VLOOKUP($I15,Tabelle!$N:$P,3,0),IF($H$2=$V$7,VLOOKUP($I15,Tabelle!$AA:$AC,3,0),IF($H$2=$V$8,VLOOKUP($I15,Tabelle!$AN:$AP,3,0))))))","v":6},{"$f":"IF(ISERROR(IF($H$2=$V$5,VLOOKUP($I15,Tabelle!$A:$D,4,0),IF($H$2=$V$6,VLOOKUP($I15,Tabelle!$N:$Q,4,0),IF($H$2=$V$7,VLOOKUP($I15,Tabelle!$AA:$AD,4,0),IF($H$2=$V$8,VLOOKUP($I15,Tabelle!$AN:$AQ,4,0)))))),\"\",IF($H$2=$V$5,VLOOKUP($I15,Tabelle!$A:$D,4,0),IF($H$2=$V$6,VLOOKUP($I15,Tabelle!$N:$Q,4,0),IF($H$2=$V$7,VLOOKUP($I15,Tabelle!$AA:$AD,4,0),IF($H$2=$V$8,VLOOKUP($I15,Tabelle!$AN:$AQ,4,0))))))","v":10.7},{"$f":"IF(ISERROR(IF($H$2=$V$5,VLOOKUP($I15,Tabelle!$A:$E,5,0),IF($H$2=$V$6,VLOOKUP($I15,Tabelle!$N:$R,5,0),IF($H$2=$V$7,VLOOKUP($I15,Tabelle!$AA:$AE,5,0),IF($H$2=$V$8,VLOOKUP($I15,Tabelle!$AN:$AR,5,0)))))),\"\",IF($H$2=$V$5,VLOOKUP($I15,Tabelle!$A:$E,5,0),IF($H$2=$V$6,VLOOKUP($I15,Tabelle!$N:$R,5,0),IF($H$2=$V$7,VLOOKUP($I15,Tabelle!$AA:$AE,5,0),IF($H$2=$V$8,VLOOKUP($I15,Tabelle!$AN:$AR,5,0))))))","v":2.1},{"$f":"IF(ISERROR(IF($H$2=$V$5,VLOOKUP($I15,Tabelle!$A:$F,6,0),IF($H$2=$V$6,VLOOKUP($I15,Tabelle!$N:$S,6,0),IF($H$2=$V$7,VLOOKUP($I15,Tabelle!$AA:$AF,6,0),IF($H$2=$V$8,VLOOKUP($I15,Tabelle!$AN:$AS,6,0)))))),\"\",IF($H$2=$V$5,VLOOKUP($I15,Tabelle!$A:$F,6,0),IF($H$2=$V$6,VLOOKUP($I15,Tabelle!$N:$S,6,0),IF($H$2=$V$7,VLOOKUP($I15,Tabelle!$AA:$AF,6,0),IF($H$2=$V$8,VLOOKUP($I15,Tabelle!$AN:$AS,6,0))))))","v":6.89},null,{"$f":"IF(ISNUMBER(IF($H$2=$V$5,OFFSET(Tabelle!H15,0,0),IF($H$2=$V$6,OFFSET(Tabelle!U15,0,0),IF($H$2=$V$7,OFFSET(Tabelle!AH15,0,0),IF($H$2=$V$8,OFFSET(Tabelle!AV15,0,0)))))),IF($H$2=$V$5,OFFSET(Tabelle!H15,0,0),IF($H$2=$V$6,OFFSET(Tabelle!U15,0,0),IF($H$2=$V$7,OFFSET(Tabelle!AH15,0,0),IF($H$2=$V$8,OFFSET(Tabelle!AU15,0,0))))),\"\")","v":"2009-02-28"},{"$f":"IF(ISERROR(IF($H$2=$V$5,VLOOKUP($P15,Tabelle!$H:$I,2,0),IF($H$2=$V$6,VLOOKUP($P15,Tabelle!$U:$V,2,0),IF($H$2=$V$7,VLOOKUP($P15,Tabelle!$AH:$AI,2,0),IF($H$2=$V$8,VLOOKUP($P15,Tabelle!$AU:$AV,2,0)))))),\"\",IF($H$2=$V$5,VLOOKUP($P15,Tabelle!$H:$I,2,0),IF($H$2=$V$6,VLOOKUP($P15,Tabelle!$U:$V,2,0),IF($H$2=$V$7,VLOOKUP($P15,Tabelle!$AH:$AI,2,0),IF($H$2=$V$8,VLOOKUP($P15,Tabelle!$AU:$AV,2,0))))))","v":2},{"$f":"IF(ISERROR(IF($H$2=$V$5,VLOOKUP($P15,Tabelle!$H:$J,3,0),IF($H$2=$V$6,VLOOKUP($P15,Tabelle!$U:$W,3,0),IF($H$2=$V$7,VLOOKUP($P15,Tabelle!$AH:$AJ,3,0),IF($H$2=$V$8,VLOOKUP($P15,Tabelle!$AU:$AW,3,0)))))),\"\",IF($H$2=$V$5,VLOOKUP($P15,Tabelle!$H:$J,3,0),IF($H$2=$V$6,VLOOKUP($P15,Tabelle!$U:$W,3,0),IF($H$2=$V$7,VLOOKUP($P15,Tabelle!$AH:$AJ,3,0),IF($H$2=$V$8,VLOOKUP($P15,Tabelle!$AU:$AW,3,0))))))","v":3},{"$f":"IF(ISERROR(IF($H$2=$V$5,VLOOKUP($P15,Tabelle!$H:$K,4,0),IF($H$2=$V$6,VLOOKUP($P15,Tabelle!$U:$X,4,0),IF($H$2=$V$7,VLOOKUP($P15,Tabelle!$AH:$AK,4,0),IF($H$2=$V$8,VLOOKUP($P15,Tabelle!$AU:$AX,4,0)))))),\"\",IF($H$2=$V$5,VLOOKUP($P15,Tabelle!$H:$K,4,0),IF($H$2=$V$6,VLOOKUP($P15,Tabelle!$U:$X,4,0),IF($H$2=$V$7,VLOOKUP($P15,Tabelle!$AH:$AK,4,0),IF($H$2=$V$8,VLOOKUP($P15,Tabelle!$AU:$AX,4,0))))))","v":13.9},{"$f":"IF(ISERROR(IF($H$2=$V$5,VLOOKUP($P15,Tabelle!$H:$L,5,0),IF($H$2=$V$6,VLOOKUP($P15,Tabelle!$U:$Y,5,0),IF($H$2=$V$7,VLOOKUP($P15,Tabelle!$AH:$AL,5,0),IF($H$2=$V$8,VLOOKUP($P15,Tabelle!$AU:$AY,5,0)))))),\"\",IF($H$2=$V$5,VLOOKUP($P15,Tabelle!$H:$L,5,0),IF($H$2=$V$6,VLOOKUP($P15,Tabelle!$U:$Y,5,0),IF($H$2=$V$7,VLOOKUP($P15,Tabelle!$AH:$AL,5,0),IF($H$2=$V$8,VLOOKUP($P15,Tabelle!$AU:$AY,5,0))))))","v":3.3},null,"ChartRomania",null,null,"",6,10.7,2.1,6.89,null,null,2,3,13.9,3.3]
[null,null,null,null,null,null,null,null,{"$f":"IF(ISNUMBER(IF($H$2=$V$5,OFFSET(Tabelle!A16,0,0),IF($H$2=$V$6,OFFSET(Tabelle!N16,0,0),IF($H$2=$V$7,OFFSET(Tabelle!AA16,0,0),IF($H$2=$V$8,OFFSET(Tabelle!AN16,0,0)))))),IF($H$2=$V$5,OFFSET(Tabelle!A16,0,0),IF($H$2=$V$6,OFFSET(Tabelle!N16,0,0),IF($H$2=$V$7,OFFSET(Tabelle!AA16,0,0),IF($H$2=$V$8,OFFSET(Tabelle!AN16,0,0))))),\"\")","v":"2009-03-31"},{"$f":"IF(ISERROR(IF($H$2=$V$5,VLOOKUP($I16,Tabelle!$A:$B,2,0),IF($H$2=$V$6,VLOOKUP($I16,Tabelle!$N:$O,2,0),IF($H$2=$V$7,VLOOKUP($I16,Tabelle!$AA:$AB,2,0),IF($H$2=$V$8,VLOOKUP($I16,Tabelle!$AN:$AO,2,0)))))),\"\",IF($H$2=$V$5,VLOOKUP($I16,Tabelle!$A:$B,2,0),IF($H$2=$V$6,VLOOKUP($I16,Tabelle!$N:$O,2,0),IF($H$2=$V$7,VLOOKUP($I16,Tabelle!$AA:$AB,2,0),IF($H$2=$V$8,VLOOKUP($I16,Tabelle!$AN:$AO,2,0))))))","v":3.8},{"$f":"IF(ISERROR(IF($H$2=$V$5,VLOOKUP($I16,Tabelle!$A:$C,3,0),IF($H$2=$V$6,VLOOKUP($I16,Tabelle!$N:$P,3,0),IF($H$2=$V$7,VLOOKUP($I16,Tabelle!$AA:$AC,3,0),IF($H$2=$V$8,VLOOKUP($I16,Tabelle!$AN:$AP,3,0)))))),\"\",IF($H$2=$V$5,VLOOKUP($I16,Tabelle!$A:$C,3,0),IF($H$2=$V$6,VLOOKUP($I16,Tabelle!$N:$P,3,0),IF($H$2=$V$7,VLOOKUP($I16,Tabelle!$AA:$AC,3,0),IF($H$2=$V$8,VLOOKUP($I16,Tabelle!$AN:$AP,3,0))))))","v":4.9000000000000004},{"$f":"IF(ISERROR(IF($H$2=$V$5,VLOOKUP($I16,Tabelle!$A:$D,4,0),IF($H$2=$V$6,VLOOKUP($I16,Tabelle!$N:$Q,4,0),IF($H$2=$V$7,VLOOKUP($I16,Tabelle!$AA:$AD,4,0),IF($H$2=$V$8,VLOOKUP($I16,Tabelle!$AN:$AQ,4,0)))))),\"\",IF($H$2=$V$5,VLOOKUP($I16,Tabelle!$A:$D,4,0),IF($H$2=$V$6,VLOOKUP($I16,Tabelle!$N:$Q,4,0),IF($H$2=$V$7,VLOOKUP($I16,Tabelle!$AA:$AD,4,0),IF($H$2=$V$8,VLOOKUP($I16,Tabelle!$AN:$AQ,4,0))))))","v":9.4},{"$f":"IF(ISERROR(IF($H$2=$V$5,VLOOKUP($I16,Tabelle!$A:$E,5,0),IF($H$2=$V$6,VLOOKUP($I16,Tabelle!$N:$R,5,0),IF($H$2=$V$7,VLOOKUP($I16,Tabelle!$AA:$AE,5,0),IF($H$2=$V$8,VLOOKUP($I16,Tabelle!$AN:$AR,5,0)))))),\"\",IF($H$2=$V$5,VLOOKUP($I16,Tabelle!$A:$E,5,0),IF($H$2=$V$6,VLOOKUP($I16,Tabelle!$N:$R,5,0),IF($H$2=$V$7,VLOOKUP($I16,Tabelle!$AA:$AE,5,0),IF($H$2=$V$8,VLOOKUP($I16,Tabelle!$AN:$AR,5,0))))))","v":1.8},{"$f":"IF(ISERROR(IF($H$2=$V$5,VLOOKUP($I16,Tabelle!$A:$F,6,0),IF($H$2=$V$6,VLOOKUP($I16,Tabelle!$N:$S,6,0),IF($H$2=$V$7,VLOOKUP($I16,Tabelle!$AA:$AF,6,0),IF($H$2=$V$8,VLOOKUP($I16,Tabelle!$AN:$AS,6,0)))))),\"\",IF($H$2=$V$5,VLOOKUP($I16,Tabelle!$A:$F,6,0),IF($H$2=$V$6,VLOOKUP($I16,Tabelle!$N:$S,6,0),IF($H$2=$V$7,VLOOKUP($I16,Tabelle!$AA:$AF,6,0),IF($H$2=$V$8,VLOOKUP($I16,Tabelle!$AN:$AS,6,0))))))","v":6.71},null,{"$f":"IF(ISNUMBER(IF($H$2=$V$5,OFFSET(Tabelle!H16,0,0),IF($H$2=$V$6,OFFSET(Tabelle!U16,0,0),IF($H$2=$V$7,OFFSET(Tabelle!AH16,0,0),IF($H$2=$V$8,OFFSET(Tabelle!AV16,0,0)))))),IF($H$2=$V$5,OFFSET(Tabelle!H16,0,0),IF($H$2=$V$6,OFFSET(Tabelle!U16,0,0),IF($H$2=$V$7,OFFSET(Tabelle!AH16,0,0),IF($H$2=$V$8,OFFSET(Tabelle!AU16,0,0))))),\"\")","v":"2009-03-31"},{"$f":"IF(ISERROR(IF($H$2=$V$5,VLOOKUP($P16,Tabelle!$H:$I,2,0),IF($H$2=$V$6,VLOOKUP($P16,Tabelle!$U:$V,2,0),IF($H$2=$V$7,VLOOKUP($P16,Tabelle!$AH:$AI,2,0),IF($H$2=$V$8,VLOOKUP($P16,Tabelle!$AU:$AV,2,0)))))),\"\",IF($H$2=$V$5,VLOOKUP($P16,Tabelle!$H:$I,2,0),IF($H$2=$V$6,VLOOKUP($P16,Tabelle!$U:$V,2,0),IF($H$2=$V$7,VLOOKUP($P16,Tabelle!$AH:$AI,2,0),IF($H$2=$V$8,VLOOKUP($P16,Tabelle!$AU:$AV,2,0))))))","v":2.2999999999999998},{"$f":"IF(ISERROR(IF($H$2=$V$5,VLOOKUP($P16,Tabelle!$H:$J,3,0),IF($H$2=$V$6,VLOOKUP($P16,Tabelle!$U:$W,3,0),IF($H$2=$V$7,VLOOKUP($P16,Tabelle!$AH:$AJ,3,0),IF($H$2=$V$8,VLOOKUP($P16,Tabelle!$AU:$AW,3,0)))))),\"\",IF($H$2=$V$5,VLOOKUP($P16,Tabelle!$H:$J,3,0),IF($H$2=$V$6,VLOOKUP($P16,Tabelle!$U:$W,3,0),IF($H$2=$V$7,VLOOKUP($P16,Tabelle!$AH:$AJ,3,0),IF($H$2=$V$8,VLOOKUP($P16,Tabelle!$AU:$AW,3,0))))))","v":2.9},{"$f":"IF(ISERROR(IF($H$2=$V$5,VLOOKUP($P16,Tabelle!$H:$K,4,0),IF($H$2=$V$6,VLOOKUP($P16,Tabelle!$U:$X,4,0),IF($H$2=$V$7,VLOOKUP($P16,Tabelle!$AH:$AK,4,0),IF($H$2=$V$8,VLOOKUP($P16,Tabelle!$AU:$AX,4,0)))))),\"\",IF($H$2=$V$5,VLOOKUP($P16,Tabelle!$H:$K,4,0),IF($H$2=$V$6,VLOOKUP($P16,Tabelle!$U:$X,4,0),IF($H$2=$V$7,VLOOKUP($P16,Tabelle!$AH:$AK,4,0),IF($H$2=$V$8,VLOOKUP($P16,Tabelle!$AU:$AX,4,0))))))","v":14},{"$f":"IF(ISERROR(IF($H$2=$V$5,VLOOKUP($P16,Tabelle!$H:$L,5,0),IF($H$2=$V$6,VLOOKUP($P16,Tabelle!$U:$Y,5,0),IF($H$2=$V$7,VLOOKUP($P16,Tabelle!$AH:$AL,5,0),IF($H$2=$V$8,VLOOKUP($P16,Tabelle!$AU:$AY,5,0)))))),\"\",IF($H$2=$V$5,VLOOKUP($P16,Tabelle!$H:$L,5,0),IF($H$2=$V$6,VLOOKUP($P16,Tabelle!$U:$Y,5,0),IF($H$2=$V$7,VLOOKUP($P16,Tabelle!$AH:$AL,5,0),IF($H$2=$V$8,VLOOKUP($P16,Tabelle!$AU:$AY,5,0))))))","v":3.6},null,null,null,null,"",4.9000000000000004,9.4,1.8,6.71,null,null,2.2999999999999998,2.9,14,3.6]
[null,null,null,null,null,null,null,null,{"$f":"IF(ISNUMBER(IF($H$2=$V$5,OFFSET(Tabelle!A17,0,0),IF($H$2=$V$6,OFFSET(Tabelle!N17,0,0),IF($H$2=$V$7,OFFSET(Tabelle!AA17,0,0),IF($H$2=$V$8,OFFSET(Tabelle!AN17,0,0)))))),IF($H$2=$V$5,OFFSET(Tabelle!A17,0,0),IF($H$2=$V$6,OFFSET(Tabelle!N17,0,0),IF($H$2=$V$7,OFFSET(Tabelle!AA17,0,0),IF($H$2=$V$8,OFFSET(Tabelle!AN17,0,0))))),\"\")","v":"2009-04-30"},{"$f":"IF(ISERROR(IF($H$2=$V$5,VLOOKUP($I17,Tabelle!$A:$B,2,0),IF($H$2=$V$6,VLOOKUP($I17,Tabelle!$N:$O,2,0),IF($H$2=$V$7,VLOOKUP($I17,Tabelle!$AA:$AB,2,0),IF($H$2=$V$8,VLOOKUP($I17,Tabelle!$AN:$AO,2,0)))))),\"\",IF($H$2=$V$5,VLOOKUP($I17,Tabelle!$A:$B,2,0),IF($H$2=$V$6,VLOOKUP($I17,Tabelle!$N:$O,2,0),IF($H$2=$V$7,VLOOKUP($I17,Tabelle!$AA:$AB,2,0),IF($H$2=$V$8,VLOOKUP($I17,Tabelle!$AN:$AO,2,0))))))","v":3.9},{"$f":"IF(ISERROR(IF($H$2=$V$5,VLOOKUP($I17,Tabelle!$A:$C,3,0),IF($H$2=$V$6,VLOOKUP($I17,Tabelle!$N:$P,3,0),IF($H$2=$V$7,VLOOKUP($I17,Tabelle!$AA:$AC,3,0),IF($H$2=$V$8,VLOOKUP($I17,Tabelle!$AN:$AP,3,0)))))),\"\",IF($H$2=$V$5,VLOOKUP($I17,Tabelle!$A:$C,3,0),IF($H$2=$V$6,VLOOKUP($I17,Tabelle!$N:$P,3,0),IF($H$2=$V$7,VLOOKUP($I17,Tabelle!$AA:$AC,3,0),IF($H$2=$V$8,VLOOKUP($I17,Tabelle!$AN:$AP,3,0))))))","v":4.8},{"$f":"IF(ISERROR(IF($H$2=$V$5,VLOOKUP($I17,Tabelle!$A:$D,4,0),IF($H$2=$V$6,VLOOKUP($I17,Tabelle!$N:$Q,4,0),IF($H$2=$V$7,VLOOKUP($I17,Tabelle!$AA:$AD,4,0),IF($H$2=$V$8,VLOOKUP($I17,Tabelle!$AN:$AQ,4,0)))))),\"\",IF($H$2=$V$5,VLOOKUP($I17,Tabelle!$A:$D,4,0),IF($H$2=$V$6,VLOOKUP($I17,Tabelle!$N:$Q,4,0),IF($H$2=$V$7,VLOOKUP($I17,Tabelle!$AA:$AD,4,0),IF($H$2=$V$8,VLOOKUP($I17,Tabelle!$AN:$AQ,4,0))))))","v":8.8000000000000007},{"$f":"IF(ISERROR(IF($H$2=$V$5,VLOOKUP($I17,Tabelle!$A:$E,5,0),IF($H$2=$V$6,VLOOKUP($I17,Tabelle!$N:$R,5,0),IF($H$2=$V$7,VLOOKUP($I17,Tabelle!$AA:$AE,5,0),IF($H$2=$V$8,VLOOKUP($I17,Tabelle!$AN:$AR,5,0)))))),\"\",IF($H$2=$V$5,VLOOKUP($I17,Tabelle!$A:$E,5,0),IF($H$2=$V$6,VLOOKUP($I17,Tabelle!$N:$R,5,0),IF($H$2=$V$7,VLOOKUP($I17,Tabelle!$AA:$AE,5,0),IF($H$2=$V$8,VLOOKUP($I17,Tabelle!$AN:$AR,5,0))))))","v":1.1000000000000001},{"$f":"IF(ISERROR(IF($H$2=$V$5,VLOOKUP($I17,Tabelle!$A:$F,6,0),IF($H$2=$V$6,VLOOKUP($I17,Tabelle!$N:$S,6,0),IF($H$2=$V$7,VLOOKUP($I17,Tabelle!$AA:$AF,6,0),IF($H$2=$V$8,VLOOKUP($I17,Tabelle!$AN:$AS,6,0)))))),\"\",IF($H$2=$V$5,VLOOKUP($I17,Tabelle!$A:$F,6,0),IF($H$2=$V$6,VLOOKUP($I17,Tabelle!$N:$S,6,0),IF($H$2=$V$7,VLOOKUP($I17,Tabelle!$AA:$AF,6,0),IF($H$2=$V$8,VLOOKUP($I17,Tabelle!$AN:$AS,6,0))))))","v":6.45},null,{"$f":"IF(ISNUMBER(IF($H$2=$V$5,OFFSET(Tabelle!H17,0,0),IF($H$2=$V$6,OFFSET(Tabelle!U17,0,0),IF($H$2=$V$7,OFFSET(Tabelle!AH17,0,0),IF($H$2=$V$8,OFFSET(Tabelle!AV17,0,0)))))),IF($H$2=$V$5,OFFSET(Tabelle!H17,0,0),IF($H$2=$V$6,OFFSET(Tabelle!U17,0,0),IF($H$2=$V$7,OFFSET(Tabelle!AH17,0,0),IF($H$2=$V$8,OFFSET(Tabelle!AU17,0,0))))),\"\")","v":"2009-04-30"},{"$f":"IF(ISERROR(IF($H$2=$V$5,VLOOKUP($P17,Tabelle!$H:$I,2,0),IF($H$2=$V$6,VLOOKUP($P17,Tabelle!$U:$V,2,0),IF($H$2=$V$7,VLOOKUP($P17,Tabelle!$AH:$AI,2,0),IF($H$2=$V$8,VLOOKUP($P17,Tabelle!$AU:$AV,2,0)))))),\"\",IF($H$2=$V$5,VLOOKUP($P17,Tabelle!$H:$I,2,0),IF($H$2=$V$6,VLOOKUP($P17,Tabelle!$U:$V,2,0),IF($H$2=$V$7,VLOOKUP($P17,Tabelle!$AH:$AI,2,0),IF($H$2=$V$8,VLOOKUP($P17,Tabelle!$AU:$AV,2,0))))))","v":1.8},{"$f":"IF(ISERROR(IF($H$2=$V$5,VLOOKUP($P17,Tabelle!$H:$J,3,0),IF($H$2=$V$6,VLOOKUP($P17,Tabelle!$U:$W,3,0),IF($H$2=$V$7,VLOOKUP($P17,Tabelle!$AH:$AJ,3,0),IF($H$2=$V$8,VLOOKUP($P17,Tabelle!$AU:$AW,3,0)))))),\"\",IF($H$2=$V$5,VLOOKUP($P17,Tabelle!$H:$J,3,0),IF($H$2=$V$6,VLOOKUP($P17,Tabelle!$U:$W,3,0),IF($H$2=$V$7,VLOOKUP($P17,Tabelle!$AH:$AJ,3,0),IF($H$2=$V$8,VLOOKUP($P17,Tabelle!$AU:$AW,3,0))))))","v":3.4},{"$f":"IF(ISERROR(IF($H$2=$V$5,VLOOKUP($P17,Tabelle!$H:$K,4,0),IF($H$2=$V$6,VLOOKUP($P17,Tabelle!$U:$X,4,0),IF($H$2=$V$7,VLOOKUP($P17,Tabelle!$AH:$AK,4,0),IF($H$2=$V$8,VLOOKUP($P17,Tabelle!$AU:$AX,4,0)))))),\"\",IF($H$2=$V$5,VLOOKUP($P17,Tabelle!$H:$K,4,0),IF($H$2=$V$6,VLOOKUP($P17,Tabelle!$U:$X,4,0),IF($H$2=$V$7,VLOOKUP($P17,Tabelle!$AH:$AK,4,0),IF($H$2=$V$8,VLOOKUP($P17,Tabelle!$AU:$AX,4,0))))))","v":13.2},{"$f":"IF(ISERROR(IF($H$2=$V$5,VLOOKUP($P17,Tabelle!$H:$L,5,0),IF($H$2=$V$6,VLOOKUP($P17,Tabelle!$U:$Y,5,0),IF($H$2=$V$7,VLOOKUP($P17,Tabelle!$AH:$AL,5,0),IF($H$2=$V$8,VLOOKUP($P17,Tabelle!$AU:$AY,5,0)))))),\"\",IF($H$2=$V$5,VLOOKUP($P17,Tabelle!$H:$L,5,0),IF($H$2=$V$6,VLOOKUP($P17,Tabelle!$U:$Y,5,0),IF($H$2=$V$7,VLOOKUP($P17,Tabelle!$AH:$AL,5,0),IF($H$2=$V$8,VLOOKUP($P17,Tabelle!$AU:$AY,5,0))))))","v":4},null,"DatesCEE",null,null,"",4.8,8.8000000000000007,1.1000000000000001,6.45,null,null,1.8,3.4,13.2,4]
[null,null,null,null,null,null,null,null,{"$f":"IF(ISNUMBER(IF($H$2=$V$5,OFFSET(Tabelle!A18,0,0),IF($H$2=$V$6,OFFSET(Tabelle!N18,0,0),IF($H$2=$V$7,OFFSET(Tabelle!AA18,0,0),IF($H$2=$V$8,OFFSET(Tabelle!AN18,0,0)))))),IF($H$2=$V$5,OFFSET(Tabelle!A18,0,0),IF($H$2=$V$6,OFFSET(Tabelle!N18,0,0),IF($H$2=$V$7,OFFSET(Tabelle!AA18,0,0),IF($H$2=$V$8,OFFSET(Tabelle!AN18,0,0))))),\"\")","v":"2009-05-31"},{"$f":"IF(ISERROR(IF($H$2=$V$5,VLOOKUP($I18,Tabelle!$A:$B,2,0),IF($H$2=$V$6,VLOOKUP($I18,Tabelle!$N:$O,2,0),IF($H$2=$V$7,VLOOKUP($I18,Tabelle!$AA:$AB,2,0),IF($H$2=$V$8,VLOOKUP($I18,Tabelle!$AN:$AO,2,0)))))),\"\",IF($H$2=$V$5,VLOOKUP($I18,Tabelle!$A:$B,2,0),IF($H$2=$V$6,VLOOKUP($I18,Tabelle!$N:$O,2,0),IF($H$2=$V$7,VLOOKUP($I18,Tabelle!$AA:$AB,2,0),IF($H$2=$V$8,VLOOKUP($I18,Tabelle!$AN:$AO,2,0))))))","v":2.7},{"$f":"IF(ISERROR(IF($H$2=$V$5,VLOOKUP($I18,Tabelle!$A:$C,3,0),IF($H$2=$V$6,VLOOKUP($I18,Tabelle!$N:$P,3,0),IF($H$2=$V$7,VLOOKUP($I18,Tabelle!$AA:$AC,3,0),IF($H$2=$V$8,VLOOKUP($I18,Tabelle!$AN:$AP,3,0)))))),\"\",IF($H$2=$V$5,VLOOKUP($I18,Tabelle!$A:$C,3,0),IF($H$2=$V$6,VLOOKUP($I18,Tabelle!$N:$P,3,0),IF($H$2=$V$7,VLOOKUP($I18,Tabelle!$AA:$AC,3,0),IF($H$2=$V$8,VLOOKUP($I18,Tabelle!$AN:$AP,3,0))))))","v":3.9},{"$f":"IF(ISERROR(IF($H$2=$V$5,VLOOKUP($I18,Tabelle!$A:$D,4,0),IF($H$2=$V$6,VLOOKUP($I18,Tabelle!$N:$Q,4,0),IF($H$2=$V$7,VLOOKUP($I18,Tabelle!$AA:$AD,4,0),IF($H$2=$V$8,VLOOKUP($I18,Tabelle!$AN:$AQ,4,0)))))),\"\",IF($H$2=$V$5,VLOOKUP($I18,Tabelle!$A:$D,4,0),IF($H$2=$V$6,VLOOKUP($I18,Tabelle!$N:$Q,4,0),IF($H$2=$V$7,VLOOKUP($I18,Tabelle!$AA:$AD,4,0),IF($H$2=$V$8,VLOOKUP($I18,Tabelle!$AN:$AQ,4,0))))))","v":9.1},{"$f":"IF(ISERROR(IF($H$2=$V$5,VLOOKUP($I18,Tabelle!$A:$E,5,0),IF($H$2=$V$6,VLOOKUP($I18,Tabelle!$N:$R,5,0),IF($H$2=$V$7,VLOOKUP($I18,Tabelle!$AA:$AE,5,0),IF($H$2=$V$8,VLOOKUP($I18,Tabelle!$AN:$AR,5,0)))))),\"\",IF($H$2=$V$5,VLOOKUP($I18,Tabelle!$A:$E,5,0),IF($H$2=$V$6,VLOOKUP($I18,Tabelle!$N:$R,5,0),IF($H$2=$V$7,VLOOKUP($I18,Tabelle!$AA:$AE,5,0),IF($H$2=$V$8,VLOOKUP($I18,Tabelle!$AN:$AR,5,0))))))","v":0.7},{"$f":"IF(ISERROR(IF($H$2=$V$5,VLOOKUP($I18,Tabelle!$A:$F,6,0),IF($H$2=$V$6,VLOOKUP($I18,Tabelle!$N:$S,6,0),IF($H$2=$V$7,VLOOKUP($I18,Tabelle!$AA:$AF,6,0),IF($H$2=$V$8,VLOOKUP($I18,Tabelle!$AN:$AS,6,0)))))),\"\",IF($H$2=$V$5,VLOOKUP($I18,Tabelle!$A:$F,6,0),IF($H$2=$V$6,VLOOKUP($I18,Tabelle!$N:$S,6,0),IF($H$2=$V$7,VLOOKUP($I18,Tabelle!$AA:$AF,6,0),IF($H$2=$V$8,VLOOKUP($I18,Tabelle!$AN:$AS,6,0))))))","v":5.95},null,{"$f":"IF(ISNUMBER(IF($H$2=$V$5,OFFSET(Tabelle!H18,0,0),IF($H$2=$V$6,OFFSET(Tabelle!U18,0,0),IF($H$2=$V$7,OFFSET(Tabelle!AH18,0,0),IF($H$2=$V$8,OFFSET(Tabelle!AV18,0,0)))))),IF($H$2=$V$5,OFFSET(Tabelle!H18,0,0),IF($H$2=$V$6,OFFSET(Tabelle!U18,0,0),IF($H$2=$V$7,OFFSET(Tabelle!AH18,0,0),IF($H$2=$V$8,OFFSET(Tabelle!AU18,0,0))))),\"\")","v":"2009-05-31"},{"$f":"IF(ISERROR(IF($H$2=$V$5,VLOOKUP($P18,Tabelle!$H:$I,2,0),IF($H$2=$V$6,VLOOKUP($P18,Tabelle!$U:$V,2,0),IF($H$2=$V$7,VLOOKUP($P18,Tabelle!$AH:$AI,2,0),IF($H$2=$V$8,VLOOKUP($P18,Tabelle!$AU:$AV,2,0)))))),\"\",IF($H$2=$V$5,VLOOKUP($P18,Tabelle!$H:$I,2,0),IF($H$2=$V$6,VLOOKUP($P18,Tabelle!$U:$V,2,0),IF($H$2=$V$7,VLOOKUP($P18,Tabelle!$AH:$AI,2,0),IF($H$2=$V$8,VLOOKUP($P18,Tabelle!$AU:$AV,2,0))))))","v":1.3},{"$f":"IF(ISERROR(IF($H$2=$V$5,VLOOKUP($P18,Tabelle!$H:$J,3,0),IF($H$2=$V$6,VLOOKUP($P18,Tabelle!$U:$W,3,0),IF($H$2=$V$7,VLOOKUP($P18,Tabelle!$AH:$AJ,3,0),IF($H$2=$V$8,VLOOKUP($P18,Tabelle!$AU:$AW,3,0)))))),\"\",IF($H$2=$V$5,VLOOKUP($P18,Tabelle!$H:$J,3,0),IF($H$2=$V$6,VLOOKUP($P18,Tabelle!$U:$W,3,0),IF($H$2=$V$7,VLOOKUP($P18,Tabelle!$AH:$AJ,3,0),IF($H$2=$V$8,VLOOKUP($P18,Tabelle!$AU:$AW,3,0))))))","v":3.8},{"$f":"IF(ISERROR(IF($H$2=$V$5,VLOOKUP($P18,Tabelle!$H:$K,4,0),IF($H$2=$V$6,VLOOKUP($P18,Tabelle!$U:$X,4,0),IF($H$2=$V$7,VLOOKUP($P18,Tabelle!$AH:$AK,4,0),IF($H$2=$V$8,VLOOKUP($P18,Tabelle!$AU:$AX,4,0)))))),\"\",IF($H$2=$V$5,VLOOKUP($P18,Tabelle!$H:$K,4,0),IF($H$2=$V$6,VLOOKUP($P18,Tabelle!$U:$X,4,0),IF($H$2=$V$7,VLOOKUP($P18,Tabelle!$AH:$AK,4,0),IF($H$2=$V$8,VLOOKUP($P18,Tabelle!$AU:$AX,4,0))))))","v":12.3},{"$f":"IF(ISERROR(IF($H$2=$V$5,VLOOKUP($P18,Tabelle!$H:$L,5,0),IF($H$2=$V$6,VLOOKUP($P18,Tabelle!$U:$Y,5,0),IF($H$2=$V$7,VLOOKUP($P18,Tabelle!$AH:$AL,5,0),IF($H$2=$V$8,VLOOKUP($P18,Tabelle!$AU:$AY,5,0)))))),\"\",IF($H$2=$V$5,VLOOKUP($P18,Tabelle!$H:$L,5,0),IF($H$2=$V$6,VLOOKUP($P18,Tabelle!$U:$Y,5,0),IF($H$2=$V$7,VLOOKUP($P18,Tabelle!$AH:$AL,5,0),IF($H$2=$V$8,VLOOKUP($P18,Tabelle!$AU:$AY,5,0))))))","v":3.6},null,"ChartCzechRepublic",null,null,"",3.9,9.1,0.7,5.95,null,null,1.3,3.8,12.3,3.6]
[null,null,null,null,null,null,null,null,{"$f":"IF(ISNUMBER(IF($H$2=$V$5,OFFSET(Tabelle!A19,0,0),IF($H$2=$V$6,OFFSET(Tabelle!N19,0,0),IF($H$2=$V$7,OFFSET(Tabelle!AA19,0,0),IF($H$2=$V$8,OFFSET(Tabelle!AN19,0,0)))))),IF($H$2=$V$5,OFFSET(Tabelle!A19,0,0),IF($H$2=$V$6,OFFSET(Tabelle!N19,0,0),IF($H$2=$V$7,OFFSET(Tabelle!AA19,0,0),IF($H$2=$V$8,OFFSET(Tabelle!AN19,0,0))))),\"\")","v":"2009-06-30"},{"$f":"IF(ISERROR(IF($H$2=$V$5,VLOOKUP($I19,Tabelle!$A:$B,2,0),IF($H$2=$V$6,VLOOKUP($I19,Tabelle!$N:$O,2,0),IF($H$2=$V$7,VLOOKUP($I19,Tabelle!$AA:$AB,2,0),IF($H$2=$V$8,VLOOKUP($I19,Tabelle!$AN:$AO,2,0)))))),\"\",IF($H$2=$V$5,VLOOKUP($I19,Tabelle!$A:$B,2,0),IF($H$2=$V$6,VLOOKUP($I19,Tabelle!$N:$O,2,0),IF($H$2=$V$7,VLOOKUP($I19,Tabelle!$AA:$AB,2,0),IF($H$2=$V$8,VLOOKUP($I19,Tabelle!$AN:$AO,2,0))))))","v":2.1},{"$f":"IF(ISERROR(IF($H$2=$V$5,VLOOKUP($I19,Tabelle!$A:$C,3,0),IF($H$2=$V$6,VLOOKUP($I19,Tabelle!$N:$P,3,0),IF($H$2=$V$7,VLOOKUP($I19,Tabelle!$AA:$AC,3,0),IF($H$2=$V$8,VLOOKUP($I19,Tabelle!$AN:$AP,3,0)))))),\"\",IF($H$2=$V$5,VLOOKUP($I19,Tabelle!$A:$C,3,0),IF($H$2=$V$6,VLOOKUP($I19,Tabelle!$N:$P,3,0),IF($H$2=$V$7,VLOOKUP($I19,Tabelle!$AA:$AC,3,0),IF($H$2=$V$8,VLOOKUP($I19,Tabelle!$AN:$AP,3,0))))))","v":3.7},{"$f":"IF(ISERROR(IF($H$2=$V$5,VLOOKUP($I19,Tabelle!$A:$D,4,0),IF($H$2=$V$6,VLOOKUP($I19,Tabelle!$N:$Q,4,0),IF($H$2=$V$7,VLOOKUP($I19,Tabelle!$AA:$AD,4,0),IF($H$2=$V$8,VLOOKUP($I19,Tabelle!$AN:$AQ,4,0)))))),\"\",IF($H$2=$V$5,VLOOKUP($I19,Tabelle!$A:$D,4,0),IF($H$2=$V$6,VLOOKUP($I19,Tabelle!$N:$Q,4,0),IF($H$2=$V$7,VLOOKUP($I19,Tabelle!$AA:$AD,4,0),IF($H$2=$V$8,VLOOKUP($I19,Tabelle!$AN:$AQ,4,0))))))","v":8.3000000000000007},{"$f":"IF(ISERROR(IF($H$2=$V$5,VLOOKUP($I19,Tabelle!$A:$E,5,0),IF($H$2=$V$6,VLOOKUP($I19,Tabelle!$N:$R,5,0),IF($H$2=$V$7,VLOOKUP($I19,Tabelle!$AA:$AE,5,0),IF($H$2=$V$8,VLOOKUP($I19,Tabelle!$AN:$AR,5,0)))))),\"\",IF($H$2=$V$5,VLOOKUP($I19,Tabelle!$A:$E,5,0),IF($H$2=$V$6,VLOOKUP($I19,Tabelle!$N:$R,5,0),IF($H$2=$V$7,VLOOKUP($I19,Tabelle!$AA:$AE,5,0),IF($H$2=$V$8,VLOOKUP($I19,Tabelle!$AN:$AR,5,0))))))","v":0.3},{"$f":"IF(ISERROR(IF($H$2=$V$5,VLOOKUP($I19,Tabelle!$A:$F,6,0),IF($H$2=$V$6,VLOOKUP($I19,Tabelle!$N:$S,6,0),IF($H$2=$V$7,VLOOKUP($I19,Tabelle!$AA:$AF,6,0),IF($H$2=$V$8,VLOOKUP($I19,Tabelle!$AN:$AS,6,0)))))),\"\",IF($H$2=$V$5,VLOOKUP($I19,Tabelle!$A:$F,6,0),IF($H$2=$V$6,VLOOKUP($I19,Tabelle!$N:$S,6,0),IF($H$2=$V$7,VLOOKUP($I19,Tabelle!$AA:$AF,6,0),IF($H$2=$V$8,VLOOKUP($I19,Tabelle!$AN:$AS,6,0))))))","v":5.86},null,{"$f":"IF(ISNUMBER(IF($H$2=$V$5,OFFSET(Tabelle!H19,0,0),IF($H$2=$V$6,OFFSET(Tabelle!U19,0,0),IF($H$2=$V$7,OFFSET(Tabelle!AH19,0,0),IF($H$2=$V$8,OFFSET(Tabelle!AV19,0,0)))))),IF($H$2=$V$5,OFFSET(Tabelle!H19,0,0),IF($H$2=$V$6,OFFSET(Tabelle!U19,0,0),IF($H$2=$V$7,OFFSET(Tabelle!AH19,0,0),IF($H$2=$V$8,OFFSET(Tabelle!AU19,0,0))))),\"\")","v":"2009-06-30"},{"$f":"IF(ISERROR(IF($H$2=$V$5,VLOOKUP($P19,Tabelle!$H:$I,2,0),IF($H$2=$V$6,VLOOKUP($P19,Tabelle!$U:$V,2,0),IF($H$2=$V$7,VLOOKUP($P19,Tabelle!$AH:$AI,2,0),IF($H$2=$V$8,VLOOKUP($P19,Tabelle!$AU:$AV,2,0)))))),\"\",IF($H$2=$V$5,VLOOKUP($P19,Tabelle!$H:$I,2,0),IF($H$2=$V$6,VLOOKUP($P19,Tabelle!$U:$V,2,0),IF($H$2=$V$7,VLOOKUP($P19,Tabelle!$AH:$AI,2,0),IF($H$2=$V$8,VLOOKUP($P19,Tabelle!$AU:$AV,2,0))))))","v":1.2},{"$f":"IF(ISERROR(IF($H$2=$V$5,VLOOKUP($P19,Tabelle!$H:$J,3,0),IF($H$2=$V$6,VLOOKUP($P19,Tabelle!$U:$W,3,0),IF($H$2=$V$7,VLOOKUP($P19,Tabelle!$AH:$AJ,3,0),IF($H$2=$V$8,VLOOKUP($P19,Tabelle!$AU:$AW,3,0)))))),\"\",IF($H$2=$V$5,VLOOKUP($P19,Tabelle!$H:$J,3,0),IF($H$2=$V$6,VLOOKUP($P19,Tabelle!$U:$W,3,0),IF($H$2=$V$7,VLOOKUP($P19,Tabelle!$AH:$AJ,3,0),IF($H$2=$V$8,VLOOKUP($P19,Tabelle!$AU:$AW,3,0))))))","v":3.7},{"$f":"IF(ISERROR(IF($H$2=$V$5,VLOOKUP($P19,Tabelle!$H:$K,4,0),IF($H$2=$V$6,VLOOKUP($P19,Tabelle!$U:$X,4,0),IF($H$2=$V$7,VLOOKUP($P19,Tabelle!$AH:$AK,4,0),IF($H$2=$V$8,VLOOKUP($P19,Tabelle!$AU:$AX,4,0)))))),\"\",IF($H$2=$V$5,VLOOKUP($P19,Tabelle!$H:$K,4,0),IF($H$2=$V$6,VLOOKUP($P19,Tabelle!$U:$X,4,0),IF($H$2=$V$7,VLOOKUP($P19,Tabelle!$AH:$AK,4,0),IF($H$2=$V$8,VLOOKUP($P19,Tabelle!$AU:$AX,4,0))))))","v":11.9},{"$f":"IF(ISERROR(IF($H$2=$V$5,VLOOKUP($P19,Tabelle!$H:$L,5,0),IF($H$2=$V$6,VLOOKUP($P19,Tabelle!$U:$Y,5,0),IF($H$2=$V$7,VLOOKUP($P19,Tabelle!$AH:$AL,5,0),IF($H$2=$V$8,VLOOKUP($P19,Tabelle!$AU:$AY,5,0)))))),\"\",IF($H$2=$V$5,VLOOKUP($P19,Tabelle!$H:$L,5,0),IF($H$2=$V$6,VLOOKUP($P19,Tabelle!$U:$Y,5,0),IF($H$2=$V$7,VLOOKUP($P19,Tabelle!$AH:$AL,5,0),IF($H$2=$V$8,VLOOKUP($P19,Tabelle!$AU:$AY,5,0))))))","v":3.5},null,"ChartHungary",null,null,"",3.7,8.3000000000000007,0.3,5.86,null,null,1.2,3.7,11.9,3.5]
[null,null,null,null,null,null,null,null,{"$f":"IF(ISNUMBER(IF($H$2=$V$5,OFFSET(Tabelle!A20,0,0),IF($H$2=$V$6,OFFSET(Tabelle!N20,0,0),IF($H$2=$V$7,OFFSET(Tabelle!AA20,0,0),IF($H$2=$V$8,OFFSET(Tabelle!AN20,0,0)))))),IF($H$2=$V$5,OFFSET(Tabelle!A20,0,0),IF($H$2=$V$6,OFFSET(Tabelle!N20,0,0),IF($H$2=$V$7,OFFSET(Tabelle!AA20,0,0),IF($H$2=$V$8,OFFSET(Tabelle!AN20,0,0))))),\"\")","v":"2009-07-31"},{"$f":"IF(ISERROR(IF($H$2=$V$5,VLOOKUP($I20,Tabelle!$A:$B,2,0),IF($H$2=$V$6,VLOOKUP($I20,Tabelle!$N:$O,2,0),IF($H$2=$V$7,VLOOKUP($I20,Tabelle!$AA:$AB,2,0),IF($H$2=$V$8,VLOOKUP($I20,Tabelle!$AN:$AO,2,0)))))),\"\",IF($H$2=$V$5,VLOOKUP($I20,Tabelle!$A:$B,2,0),IF($H$2=$V$6,VLOOKUP($I20,Tabelle!$N:$O,2,0),IF($H$2=$V$7,VLOOKUP($I20,Tabelle!$AA:$AB,2,0),IF($H$2=$V$8,VLOOKUP($I20,Tabelle!$AN:$AO,2,0))))))","v":1.2},{"$f":"IF(ISERROR(IF($H$2=$V$5,VLOOKUP($I20,Tabelle!$A:$C,3,0),IF($H$2=$V$6,VLOOKUP($I20,Tabelle!$N:$P,3,0),IF($H$2=$V$7,VLOOKUP($I20,Tabelle!$AA:$AC,3,0),IF($H$2=$V$8,VLOOKUP($I20,Tabelle!$AN:$AP,3,0)))))),\"\",IF($H$2=$V$5,VLOOKUP($I20,Tabelle!$A:$C,3,0),IF($H$2=$V$6,VLOOKUP($I20,Tabelle!$N:$P,3,0),IF($H$2=$V$7,VLOOKUP($I20,Tabelle!$AA:$AC,3,0),IF($H$2=$V$8,VLOOKUP($I20,Tabelle!$AN:$AP,3,0))))))","v":1.6},{"$f":"IF(ISERROR(IF($H$2=$V$5,VLOOKUP($I20,Tabelle!$A:$D,4,0),IF($H$2=$V$6,VLOOKUP($I20,Tabelle!$N:$Q,4,0),IF($H$2=$V$7,VLOOKUP($I20,Tabelle!$AA:$AD,4,0),IF($H$2=$V$8,VLOOKUP($I20,Tabelle!$AN:$AQ,4,0)))))),\"\",IF($H$2=$V$5,VLOOKUP($I20,Tabelle!$A:$D,4,0),IF($H$2=$V$6,VLOOKUP($I20,Tabelle!$N:$Q,4,0),IF($H$2=$V$7,VLOOKUP($I20,Tabelle!$AA:$AD,4,0),IF($H$2=$V$8,VLOOKUP($I20,Tabelle!$AN:$AQ,4,0))))))","v":8.5},{"$f":"IF(ISERROR(IF($H$2=$V$5,VLOOKUP($I20,Tabelle!$A:$E,5,0),IF($H$2=$V$6,VLOOKUP($I20,Tabelle!$N:$R,5,0),IF($H$2=$V$7,VLOOKUP($I20,Tabelle!$AA:$AE,5,0),IF($H$2=$V$8,VLOOKUP($I20,Tabelle!$AN:$AR,5,0)))))),\"\",IF($H$2=$V$5,VLOOKUP($I20,Tabelle!$A:$E,5,0),IF($H$2=$V$6,VLOOKUP($I20,Tabelle!$N:$R,5,0),IF($H$2=$V$7,VLOOKUP($I20,Tabelle!$AA:$AE,5,0),IF($H$2=$V$8,VLOOKUP($I20,Tabelle!$AN:$AR,5,0))))))","v":-0.6},{"$f":"IF(ISERROR(IF($H$2=$V$5,VLOOKUP($I20,Tabelle!$A:$F,6,0),IF($H$2=$V$6,VLOOKUP($I20,Tabelle!$N:$S,6,0),IF($H$2=$V$7,VLOOKUP($I20,Tabelle!$AA:$AF,6,0),IF($H$2=$V$8,VLOOKUP($I20,Tabelle!$AN:$AS,6,0)))))),\"\",IF($H$2=$V$5,VLOOKUP($I20,Tabelle!$A:$F,6,0),IF($H$2=$V$6,VLOOKUP($I20,Tabelle!$N:$S,6,0),IF($H$2=$V$7,VLOOKUP($I20,Tabelle!$AA:$AF,6,0),IF($H$2=$V$8,VLOOKUP($I20,Tabelle!$AN:$AS,6,0))))))","v":5.0599999999999996},null,{"$f":"IF(ISNUMBER(IF($H$2=$V$5,OFFSET(Tabelle!H20,0,0),IF($H$2=$V$6,OFFSET(Tabelle!U20,0,0),IF($H$2=$V$7,OFFSET(Tabelle!AH20,0,0),IF($H$2=$V$8,OFFSET(Tabelle!AV20,0,0)))))),IF($H$2=$V$5,OFFSET(Tabelle!H20,0,0),IF($H$2=$V$6,OFFSET(Tabelle!U20,0,0),IF($H$2=$V$7,OFFSET(Tabelle!AH20,0,0),IF($H$2=$V$8,OFFSET(Tabelle!AU20,0,0))))),\"\")","v":"2009-07-31"},{"$f":"IF(ISERROR(IF($H$2=$V$5,VLOOKUP($P20,Tabelle!$H:$I,2,0),IF($H$2=$V$6,VLOOKUP($P20,Tabelle!$U:$V,2,0),IF($H$2=$V$7,VLOOKUP($P20,Tabelle!$AH:$AI,2,0),IF($H$2=$V$8,VLOOKUP($P20,Tabelle!$AU:$AV,2,0)))))),\"\",IF($H$2=$V$5,VLOOKUP($P20,Tabelle!$H:$I,2,0),IF($H$2=$V$6,VLOOKUP($P20,Tabelle!$U:$V,2,0),IF($H$2=$V$7,VLOOKUP($P20,Tabelle!$AH:$AI,2,0),IF($H$2=$V$8,VLOOKUP($P20,Tabelle!$AU:$AV,2,0))))))","v":0.3},{"$f":"IF(ISERROR(IF($H$2=$V$5,VLOOKUP($P20,Tabelle!$H:$J,3,0),IF($H$2=$V$6,VLOOKUP($P20,Tabelle!$U:$W,3,0),IF($H$2=$V$7,VLOOKUP($P20,Tabelle!$AH:$AJ,3,0),IF($H$2=$V$8,VLOOKUP($P20,Tabelle!$AU:$AW,3,0)))))),\"\",IF($H$2=$V$5,VLOOKUP($P20,Tabelle!$H:$J,3,0),IF($H$2=$V$6,VLOOKUP($P20,Tabelle!$U:$W,3,0),IF($H$2=$V$7,VLOOKUP($P20,Tabelle!$AH:$AJ,3,0),IF($H$2=$V$8,VLOOKUP($P20,Tabelle!$AU:$AW,3,0))))))","v":5.0999999999999996},{"$f":"IF(ISERROR(IF($H$2=$V$5,VLOOKUP($P20,Tabelle!$H:$K,4,0),IF($H$2=$V$6,VLOOKUP($P20,Tabelle!$U:$X,4,0),IF($H$2=$V$7,VLOOKUP($P20,Tabelle!$AH:$AK,4,0),IF($H$2=$V$8,VLOOKUP($P20,Tabelle!$AU:$AX,4,0)))))),\"\",IF($H$2=$V$5,VLOOKUP($P20,Tabelle!$H:$K,4,0),IF($H$2=$V$6,VLOOKUP($P20,Tabelle!$U:$X,4,0),IF($H$2=$V$7,VLOOKUP($P20,Tabelle!$AH:$AK,4,0),IF($H$2=$V$8,VLOOKUP($P20,Tabelle!$AU:$AX,4,0))))))","v":12},{"$f":"IF(ISERROR(IF($H$2=$V$5,VLOOKUP($P20,Tabelle!$H:$L,5,0),IF($H$2=$V$6,VLOOKUP($P20,Tabelle!$U:$Y,5,0),IF($H$2=$V$7,VLOOKUP($P20,Tabelle!$AH:$AL,5,0),IF($H$2=$V$8,VLOOKUP($P20,Tabelle!$AU:$AY,5,0)))))),\"\",IF($H$2=$V$5,VLOOKUP($P20,Tabelle!$H:$L,5,0),IF($H$2=$V$6,VLOOKUP($P20,Tabelle!$U:$Y,5,0),IF($H$2=$V$7,VLOOKUP($P20,Tabelle!$AH:$AL,5,0),IF($H$2=$V$8,VLOOKUP($P20,Tabelle!$AU:$AY,5,0))))))","v":3.6},null,"ChartRussia",null,null,"",1.6,8.5,-0.6,5.0599999999999996,null,null,0.3,5.0999999999999996,12,3.6]
[null,null,null,null,null,null,null,null,{"$f":"IF(ISNUMBER(IF($H$2=$V$5,OFFSET(Tabelle!A21,0,0),IF($H$2=$V$6,OFFSET(Tabelle!N21,0,0),IF($H$2=$V$7,OFFSET(Tabelle!AA21,0,0),IF($H$2=$V$8,OFFSET(Tabelle!AN21,0,0)))))),IF($H$2=$V$5,OFFSET(Tabelle!A21,0,0),IF($H$2=$V$6,OFFSET(Tabelle!N21,0,0),IF($H$2=$V$7,OFFSET(Tabelle!AA21,0,0),IF($H$2=$V$8,OFFSET(Tabelle!AN21,0,0))))),\"\")","v":"2009-08-31"},{"$f":"IF(ISERROR(IF($H$2=$V$5,VLOOKUP($I21,Tabelle!$A:$B,2,0),IF($H$2=$V$6,VLOOKUP($I21,Tabelle!$N:$O,2,0),IF($H$2=$V$7,VLOOKUP($I21,Tabelle!$AA:$AB,2,0),IF($H$2=$V$8,VLOOKUP($I21,Tabelle!$AN:$AO,2,0)))))),\"\",IF($H$2=$V$5,VLOOKUP($I21,Tabelle!$A:$B,2,0),IF($H$2=$V$6,VLOOKUP($I21,Tabelle!$N:$O,2,0),IF($H$2=$V$7,VLOOKUP($I21,Tabelle!$AA:$AB,2,0),IF($H$2=$V$8,VLOOKUP($I21,Tabelle!$AN:$AO,2,0))))))","v":1.5},{"$f":"IF(ISERROR(IF($H$2=$V$5,VLOOKUP($I21,Tabelle!$A:$C,3,0),IF($H$2=$V$6,VLOOKUP($I21,Tabelle!$N:$P,3,0),IF($H$2=$V$7,VLOOKUP($I21,Tabelle!$AA:$AC,3,0),IF($H$2=$V$8,VLOOKUP($I21,Tabelle!$AN:$AP,3,0)))))),\"\",IF($H$2=$V$5,VLOOKUP($I21,Tabelle!$A:$C,3,0),IF($H$2=$V$6,VLOOKUP($I21,Tabelle!$N:$P,3,0),IF($H$2=$V$7,VLOOKUP($I21,Tabelle!$AA:$AC,3,0),IF($H$2=$V$8,VLOOKUP($I21,Tabelle!$AN:$AP,3,0))))))","v":1.3},{"$f":"IF(ISERROR(IF($H$2=$V$5,VLOOKUP($I21,Tabelle!$A:$D,4,0),IF($H$2=$V$6,VLOOKUP($I21,Tabelle!$N:$Q,4,0),IF($H$2=$V$7,VLOOKUP($I21,Tabelle!$AA:$AD,4,0),IF($H$2=$V$8,VLOOKUP($I21,Tabelle!$AN:$AQ,4,0)))))),\"\",IF($H$2=$V$5,VLOOKUP($I21,Tabelle!$A:$D,4,0),IF($H$2=$V$6,VLOOKUP($I21,Tabelle!$N:$Q,4,0),IF($H$2=$V$7,VLOOKUP($I21,Tabelle!$AA:$AD,4,0),IF($H$2=$V$8,VLOOKUP($I21,Tabelle!$AN:$AQ,4,0))))))","v":8},{"$f":"IF(ISERROR(IF($H$2=$V$5,VLOOKUP($I21,Tabelle!$A:$E,5,0),IF($H$2=$V$6,VLOOKUP($I21,Tabelle!$N:$R,5,0),IF($H$2=$V$7,VLOOKUP($I21,Tabelle!$AA:$AE,5,0),IF($H$2=$V$8,VLOOKUP($I21,Tabelle!$AN:$AR,5,0)))))),\"\",IF($H$2=$V$5,VLOOKUP($I21,Tabelle!$A:$E,5,0),IF($H$2=$V$6,VLOOKUP($I21,Tabelle!$N:$R,5,0),IF($H$2=$V$7,VLOOKUP($I21,Tabelle!$AA:$AE,5,0),IF($H$2=$V$8,VLOOKUP($I21,Tabelle!$AN:$AR,5,0))))))","v":0},{"$f":"IF(ISERROR(IF($H$2=$V$5,VLOOKUP($I21,Tabelle!$A:$F,6,0),IF($H$2=$V$6,VLOOKUP($I21,Tabelle!$N:$S,6,0),IF($H$2=$V$7,VLOOKUP($I21,Tabelle!$AA:$AF,6,0),IF($H$2=$V$8,VLOOKUP($I21,Tabelle!$AN:$AS,6,0)))))),\"\",IF($H$2=$V$5,VLOOKUP($I21,Tabelle!$A:$F,6,0),IF($H$2=$V$6,VLOOKUP($I21,Tabelle!$N:$S,6,0),IF($H$2=$V$7,VLOOKUP($I21,Tabelle!$AA:$AF,6,0),IF($H$2=$V$8,VLOOKUP($I21,Tabelle!$AN:$AS,6,0))))))","v":4.96},null,{"$f":"IF(ISNUMBER(IF($H$2=$V$5,OFFSET(Tabelle!H21,0,0),IF($H$2=$V$6,OFFSET(Tabelle!U21,0,0),IF($H$2=$V$7,OFFSET(Tabelle!AH21,0,0),IF($H$2=$V$8,OFFSET(Tabelle!AV21,0,0)))))),IF($H$2=$V$5,OFFSET(Tabelle!H21,0,0),IF($H$2=$V$6,OFFSET(Tabelle!U21,0,0),IF($H$2=$V$7,OFFSET(Tabelle!AH21,0,0),IF($H$2=$V$8,OFFSET(Tabelle!AU21,0,0))))),\"\")","v":"2009-08-31"},{"$f":"IF(ISERROR(IF($H$2=$V$5,VLOOKUP($P21,Tabelle!$H:$I,2,0),IF($H$2=$V$6,VLOOKUP($P21,Tabelle!$U:$V,2,0),IF($H$2=$V$7,VLOOKUP($P21,Tabelle!$AH:$AI,2,0),IF($H$2=$V$8,VLOOKUP($P21,Tabelle!$AU:$AV,2,0)))))),\"\",IF($H$2=$V$5,VLOOKUP($P21,Tabelle!$H:$I,2,0),IF($H$2=$V$6,VLOOKUP($P21,Tabelle!$U:$V,2,0),IF($H$2=$V$7,VLOOKUP($P21,Tabelle!$AH:$AI,2,0),IF($H$2=$V$8,VLOOKUP($P21,Tabelle!$AU:$AV,2,0))))))","v":0.2},{"$f":"IF(ISERROR(IF($H$2=$V$5,VLOOKUP($P21,Tabelle!$H:$J,3,0),IF($H$2=$V$6,VLOOKUP($P21,Tabelle!$U:$W,3,0),IF($H$2=$V$7,VLOOKUP($P21,Tabelle!$AH:$AJ,3,0),IF($H$2=$V$8,VLOOKUP($P21,Tabelle!$AU:$AW,3,0)))))),\"\",IF($H$2=$V$5,VLOOKUP($P21,Tabelle!$H:$J,3,0),IF($H$2=$V$6,VLOOKUP($P21,Tabelle!$U:$W,3,0),IF($H$2=$V$7,VLOOKUP($P21,Tabelle!$AH:$AJ,3,0),IF($H$2=$V$8,VLOOKUP($P21,Tabelle!$AU:$AW,3,0))))))","v":5},{"$f":"IF(ISERROR(IF($H$2=$V$5,VLOOKUP($P21,Tabelle!$H:$K,4,0),IF($H$2=$V$6,VLOOKUP($P21,Tabelle!$U:$X,4,0),IF($H$2=$V$7,VLOOKUP($P21,Tabelle!$AH:$AK,4,0),IF($H$2=$V$8,VLOOKUP($P21,Tabelle!$AU:$AX,4,0)))))),\"\",IF($H$2=$V$5,VLOOKUP($P21,Tabelle!$H:$K,4,0),IF($H$2=$V$6,VLOOKUP($P21,Tabelle!$U:$X,4,0),IF($H$2=$V$7,VLOOKUP($P21,Tabelle!$AH:$AK,4,0),IF($H$2=$V$8,VLOOKUP($P21,Tabelle!$AU:$AX,4,0))))))","v":11.6},{"$f":"IF(ISERROR(IF($H$2=$V$5,VLOOKUP($P21,Tabelle!$H:$L,5,0),IF($H$2=$V$6,VLOOKUP($P21,Tabelle!$U:$Y,5,0),IF($H$2=$V$7,VLOOKUP($P21,Tabelle!$AH:$AL,5,0),IF($H$2=$V$8,VLOOKUP($P21,Tabelle!$AU:$AY,5,0)))))),\"\",IF($H$2=$V$5,VLOOKUP($P21,Tabelle!$H:$L,5,0),IF($H$2=$V$6,VLOOKUP($P21,Tabelle!$U:$Y,5,0),IF($H$2=$V$7,VLOOKUP($P21,Tabelle!$AH:$AL,5,0),IF($H$2=$V$8,VLOOKUP($P21,Tabelle!$AU:$AY,5,0))))))","v":3.7},null,"ChartPoland",null,null,"",1.3,8,0,4.96,null,null,0.2,5,11.6,3.7]
[null,null,null,null,null,null,null,null,{"$f":"IF(ISNUMBER(IF($H$2=$V$5,OFFSET(Tabelle!A22,0,0),IF($H$2=$V$6,OFFSET(Tabelle!N22,0,0),IF($H$2=$V$7,OFFSET(Tabelle!AA22,0,0),IF($H$2=$V$8,OFFSET(Tabelle!AN22,0,0)))))),IF($H$2=$V$5,OFFSET(Tabelle!A22,0,0),IF($H$2=$V$6,OFFSET(Tabelle!N22,0,0),IF($H$2=$V$7,OFFSET(Tabelle!AA22,0,0),IF($H$2=$V$8,OFFSET(Tabelle!AN22,0,0))))),\"\")","v":"2009-09-30"},{"$f":"IF(ISERROR(IF($H$2=$V$5,VLOOKUP($I22,Tabelle!$A:$B,2,0),IF($H$2=$V$6,VLOOKUP($I22,Tabelle!$N:$O,2,0),IF($H$2=$V$7,VLOOKUP($I22,Tabelle!$AA:$AB,2,0),IF($H$2=$V$8,VLOOKUP($I22,Tabelle!$AN:$AO,2,0)))))),\"\",IF($H$2=$V$5,VLOOKUP($I22,Tabelle!$A:$B,2,0),IF($H$2=$V$6,VLOOKUP($I22,Tabelle!$N:$O,2,0),IF($H$2=$V$7,VLOOKUP($I22,Tabelle!$AA:$AB,2,0),IF($H$2=$V$8,VLOOKUP($I22,Tabelle!$AN:$AO,2,0))))))","v":1},{"$f":"IF(ISERROR(IF($H$2=$V$5,VLOOKUP($I22,Tabelle!$A:$C,3,0),IF($H$2=$V$6,VLOOKUP($I22,Tabelle!$N:$P,3,0),IF($H$2=$V$7,VLOOKUP($I22,Tabelle!$AA:$AC,3,0),IF($H$2=$V$8,VLOOKUP($I22,Tabelle!$AN:$AP,3,0)))))),\"\",IF($H$2=$V$5,VLOOKUP($I22,Tabelle!$A:$C,3,0),IF($H$2=$V$6,VLOOKUP($I22,Tabelle!$N:$P,3,0),IF($H$2=$V$7,VLOOKUP($I22,Tabelle!$AA:$AC,3,0),IF($H$2=$V$8,VLOOKUP($I22,Tabelle!$AN:$AP,3,0))))))","v":0.2},{"$f":"IF(ISERROR(IF($H$2=$V$5,VLOOKUP($I22,Tabelle!$A:$D,4,0),IF($H$2=$V$6,VLOOKUP($I22,Tabelle!$N:$Q,4,0),IF($H$2=$V$7,VLOOKUP($I22,Tabelle!$AA:$AD,4,0),IF($H$2=$V$8,VLOOKUP($I22,Tabelle!$AN:$AQ,4,0)))))),\"\",IF($H$2=$V$5,VLOOKUP($I22,Tabelle!$A:$D,4,0),IF($H$2=$V$6,VLOOKUP($I22,Tabelle!$N:$Q,4,0),IF($H$2=$V$7,VLOOKUP($I22,Tabelle!$AA:$AD,4,0),IF($H$2=$V$8,VLOOKUP($I22,Tabelle!$AN:$AQ,4,0))))))","v":7.3},{"$f":"IF(ISERROR(IF($H$2=$V$5,VLOOKUP($I22,Tabelle!$A:$E,5,0),IF($H$2=$V$6,VLOOKUP($I22,Tabelle!$N:$R,5,0),IF($H$2=$V$7,VLOOKUP($I22,Tabelle!$AA:$AE,5,0),IF($H$2=$V$8,VLOOKUP($I22,Tabelle!$AN:$AR,5,0)))))),\"\",IF($H$2=$V$5,VLOOKUP($I22,Tabelle!$A:$E,5,0),IF($H$2=$V$6,VLOOKUP($I22,Tabelle!$N:$R,5,0),IF($H$2=$V$7,VLOOKUP($I22,Tabelle!$AA:$AE,5,0),IF($H$2=$V$8,VLOOKUP($I22,Tabelle!$AN:$AR,5,0))))))","v":-0.1},{"$f":"IF(ISERROR(IF($H$2=$V$5,VLOOKUP($I22,Tabelle!$A:$F,6,0),IF($H$2=$V$6,VLOOKUP($I22,Tabelle!$N:$S,6,0),IF($H$2=$V$7,VLOOKUP($I22,Tabelle!$AA:$AF,6,0),IF($H$2=$V$8,VLOOKUP($I22,Tabelle!$AN:$AS,6,0)))))),\"\",IF($H$2=$V$5,VLOOKUP($I22,Tabelle!$A:$F,6,0),IF($H$2=$V$6,VLOOKUP($I22,Tabelle!$N:$S,6,0),IF($H$2=$V$7,VLOOKUP($I22,Tabelle!$AA:$AF,6,0),IF($H$2=$V$8,VLOOKUP($I22,Tabelle!$AN:$AS,6,0))))))","v":4.9399999999999995},null,{"$f":"IF(ISNUMBER(IF($H$2=$V$5,OFFSET(Tabelle!H22,0,0),IF($H$2=$V$6,OFFSET(Tabelle!U22,0,0),IF($H$2=$V$7,OFFSET(Tabelle!AH22,0,0),IF($H$2=$V$8,OFFSET(Tabelle!AV22,0,0)))))),IF($H$2=$V$5,OFFSET(Tabelle!H22,0,0),IF($H$2=$V$6,OFFSET(Tabelle!U22,0,0),IF($H$2=$V$7,OFFSET(Tabelle!AH22,0,0),IF($H$2=$V$8,OFFSET(Tabelle!AU22,0,0))))),\"\")","v":"2009-09-30"},{"$f":"IF(ISERROR(IF($H$2=$V$5,VLOOKUP($P22,Tabelle!$H:$I,2,0),IF($H$2=$V$6,VLOOKUP($P22,Tabelle!$U:$V,2,0),IF($H$2=$V$7,VLOOKUP($P22,Tabelle!$AH:$AI,2,0),IF($H$2=$V$8,VLOOKUP($P22,Tabelle!$AU:$AV,2,0)))))),\"\",IF($H$2=$V$5,VLOOKUP($P22,Tabelle!$H:$I,2,0),IF($H$2=$V$6,VLOOKUP($P22,Tabelle!$U:$V,2,0),IF($H$2=$V$7,VLOOKUP($P22,Tabelle!$AH:$AI,2,0),IF($H$2=$V$8,VLOOKUP($P22,Tabelle!$AU:$AV,2,0))))))","v":0},{"$f":"IF(ISERROR(IF($H$2=$V$5,VLOOKUP($P22,Tabelle!$H:$J,3,0),IF($H$2=$V$6,VLOOKUP($P22,Tabelle!$U:$W,3,0),IF($H$2=$V$7,VLOOKUP($P22,Tabelle!$AH:$AJ,3,0),IF($H$2=$V$8,VLOOKUP($P22,Tabelle!$AU:$AW,3,0)))))),\"\",IF($H$2=$V$5,VLOOKUP($P22,Tabelle!$H:$J,3,0),IF($H$2=$V$6,VLOOKUP($P22,Tabelle!$U:$W,3,0),IF($H$2=$V$7,VLOOKUP($P22,Tabelle!$AH:$AJ,3,0),IF($H$2=$V$8,VLOOKUP($P22,Tabelle!$AU:$AW,3,0))))))","v":4.9000000000000004},{"$f":"IF(ISERROR(IF($H$2=$V$5,VLOOKUP($P22,Tabelle!$H:$K,4,0),IF($H$2=$V$6,VLOOKUP($P22,Tabelle!$U:$X,4,0),IF($H$2=$V$7,VLOOKUP($P22,Tabelle!$AH:$AK,4,0),IF($H$2=$V$8,VLOOKUP($P22,Tabelle!$AU:$AX,4,0)))))),\"\",IF($H$2=$V$5,VLOOKUP($P22,Tabelle!$H:$K,4,0),IF($H$2=$V$6,VLOOKUP($P22,Tabelle!$U:$X,4,0),IF($H$2=$V$7,VLOOKUP($P22,Tabelle!$AH:$AK,4,0),IF($H$2=$V$8,VLOOKUP($P22,Tabelle!$AU:$AX,4,0))))))","v":10.7},{"$f":"IF(ISERROR(IF($H$2=$V$5,VLOOKUP($P22,Tabelle!$H:$L,5,0),IF($H$2=$V$6,VLOOKUP($P22,Tabelle!$U:$Y,5,0),IF($H$2=$V$7,VLOOKUP($P22,Tabelle!$AH:$AL,5,0),IF($H$2=$V$8,VLOOKUP($P22,Tabelle!$AU:$AY,5,0)))))),\"\",IF($H$2=$V$5,VLOOKUP($P22,Tabelle!$H:$L,5,0),IF($H$2=$V$6,VLOOKUP($P22,Tabelle!$U:$Y,5,0),IF($H$2=$V$7,VLOOKUP($P22,Tabelle!$AH:$AL,5,0),IF($H$2=$V$8,VLOOKUP($P22,Tabelle!$AU:$AY,5,0))))))","v":3.4},null,null,null,null,"",0.2,7.3,-0.1,4.9399999999999995,null,null,0,4.9000000000000004,10.7,3.4]
[null,null,null,null,null,null,null,null,{"$f":"IF(ISNUMBER(IF($H$2=$V$5,OFFSET(Tabelle!A23,0,0),IF($H$2=$V$6,OFFSET(Tabelle!N23,0,0),IF($H$2=$V$7,OFFSET(Tabelle!AA23,0,0),IF($H$2=$V$8,OFFSET(Tabelle!AN23,0,0)))))),IF($H$2=$V$5,OFFSET(Tabelle!A23,0,0),IF($H$2=$V$6,OFFSET(Tabelle!N23,0,0),IF($H$2=$V$7,OFFSET(Tabelle!AA23,0,0),IF($H$2=$V$8,OFFSET(Tabelle!AN23,0,0))))),\"\")","v":"2009-10-31"},{"$f":"IF(ISERROR(IF($H$2=$V$5,VLOOKUP($I23,Tabelle!$A:$B,2,0),IF($H$2=$V$6,VLOOKUP($I23,Tabelle!$N:$O,2,0),IF($H$2=$V$7,VLOOKUP($I23,Tabelle!$AA:$AB,2,0),IF($H$2=$V$8,VLOOKUP($I23,Tabelle!$AN:$AO,2,0)))))),\"\",IF($H$2=$V$5,VLOOKUP($I23,Tabelle!$A:$B,2,0),IF($H$2=$V$6,VLOOKUP($I23,Tabelle!$N:$O,2,0),IF($H$2=$V$7,VLOOKUP($I23,Tabelle!$AA:$AB,2,0),IF($H$2=$V$8,VLOOKUP($I23,Tabelle!$AN:$AO,2,0))))))","v":1.3},{"$f":"IF(ISERROR(IF($H$2=$V$5,VLOOKUP($I23,Tabelle!$A:$C,3,0),IF($H$2=$V$6,VLOOKUP($I23,Tabelle!$N:$P,3,0),IF($H$2=$V$7,VLOOKUP($I23,Tabelle!$AA:$AC,3,0),IF($H$2=$V$8,VLOOKUP($I23,Tabelle!$AN:$AP,3,0)))))),\"\",IF($H$2=$V$5,VLOOKUP($I23,Tabelle!$A:$C,3,0),IF($H$2=$V$6,VLOOKUP($I23,Tabelle!$N:$P,3,0),IF($H$2=$V$7,VLOOKUP($I23,Tabelle!$AA:$AC,3,0),IF($H$2=$V$8,VLOOKUP($I23,Tabelle!$AN:$AP,3,0))))))","v":-0.3},{"$f":"IF(ISERROR(IF($H$2=$V$5,VLOOKUP($I23,Tabelle!$A:$D,4,0),IF($H$2=$V$6,VLOOKUP($I23,Tabelle!$N:$Q,4,0),IF($H$2=$V$7,VLOOKUP($I23,Tabelle!$AA:$AD,4,0),IF($H$2=$V$8,VLOOKUP($I23,Tabelle!$AN:$AQ,4,0)))))),\"\",IF($H$2=$V$5,VLOOKUP($I23,Tabelle!$A:$D,4,0),IF($H$2=$V$6,VLOOKUP($I23,Tabelle!$N:$Q,4,0),IF($H$2=$V$7,VLOOKUP($I23,Tabelle!$AA:$AD,4,0),IF($H$2=$V$8,VLOOKUP($I23,Tabelle!$AN:$AQ,4,0))))))","v":5.2},{"$f":"IF(ISERROR(IF($H$2=$V$5,VLOOKUP($I23,Tabelle!$A:$E,5,0),IF($H$2=$V$6,VLOOKUP($I23,Tabelle!$N:$R,5,0),IF($H$2=$V$7,VLOOKUP($I23,Tabelle!$AA:$AE,5,0),IF($H$2=$V$8,VLOOKUP($I23,Tabelle!$AN:$AR,5,0)))))),\"\",IF($H$2=$V$5,VLOOKUP($I23,Tabelle!$A:$E,5,0),IF($H$2=$V$6,VLOOKUP($I23,Tabelle!$N:$R,5,0),IF($H$2=$V$7,VLOOKUP($I23,Tabelle!$AA:$AE,5,0),IF($H$2=$V$8,VLOOKUP($I23,Tabelle!$AN:$AR,5,0))))))","v":0},{"$f":"IF(ISERROR(IF($H$2=$V$5,VLOOKUP($I23,Tabelle!$A:$F,6,0),IF($H$2=$V$6,VLOOKUP($I23,Tabelle!$N:$S,6,0),IF($H$2=$V$7,VLOOKUP($I23,Tabelle!$AA:$AF,6,0),IF($H$2=$V$8,VLOOKUP($I23,Tabelle!$AN:$AS,6,0)))))),\"\",IF($H$2=$V$5,VLOOKUP($I23,Tabelle!$A:$F,6,0),IF($H$2=$V$6,VLOOKUP($I23,Tabelle!$N:$S,6,0),IF($H$2=$V$7,VLOOKUP($I23,Tabelle!$AA:$AF,6,0),IF($H$2=$V$8,VLOOKUP($I23,Tabelle!$AN:$AS,6,0))))))","v":4.3},null,{"$f":"IF(ISNUMBER(IF($H$2=$V$5,OFFSET(Tabelle!H23,0,0),IF($H$2=$V$6,OFFSET(Tabelle!U23,0,0),IF($H$2=$V$7,OFFSET(Tabelle!AH23,0,0),IF($H$2=$V$8,OFFSET(Tabelle!AV23,0,0)))))),IF($H$2=$V$5,OFFSET(Tabelle!H23,0,0),IF($H$2=$V$6,OFFSET(Tabelle!U23,0,0),IF($H$2=$V$7,OFFSET(Tabelle!AH23,0,0),IF($H$2=$V$8,OFFSET(Tabelle!AU23,0,0))))),\"\")","v":"2009-10-31"},{"$f":"IF(ISERROR(IF($H$2=$V$5,VLOOKUP($P23,Tabelle!$H:$I,2,0),IF($H$2=$V$6,VLOOKUP($P23,Tabelle!$U:$V,2,0),IF($H$2=$V$7,VLOOKUP($P23,Tabelle!$AH:$AI,2,0),IF($H$2=$V$8,VLOOKUP($P23,Tabelle!$AU:$AV,2,0)))))),\"\",IF($H$2=$V$5,VLOOKUP($P23,Tabelle!$H:$I,2,0),IF($H$2=$V$6,VLOOKUP($P23,Tabelle!$U:$V,2,0),IF($H$2=$V$7,VLOOKUP($P23,Tabelle!$AH:$AI,2,0),IF($H$2=$V$8,VLOOKUP($P23,Tabelle!$AU:$AV,2,0))))))","v":-0.2},{"$f":"IF(ISERROR(IF($H$2=$V$5,VLOOKUP($P23,Tabelle!$H:$J,3,0),IF($H$2=$V$6,VLOOKUP($P23,Tabelle!$U:$W,3,0),IF($H$2=$V$7,VLOOKUP($P23,Tabelle!$AH:$AJ,3,0),IF($H$2=$V$8,VLOOKUP($P23,Tabelle!$AU:$AW,3,0)))))),\"\",IF($H$2=$V$5,VLOOKUP($P23,Tabelle!$H:$J,3,0),IF($H$2=$V$6,VLOOKUP($P23,Tabelle!$U:$W,3,0),IF($H$2=$V$7,VLOOKUP($P23,Tabelle!$AH:$AJ,3,0),IF($H$2=$V$8,VLOOKUP($P23,Tabelle!$AU:$AW,3,0))))))","v":4.7},{"$f":"IF(ISERROR(IF($H$2=$V$5,VLOOKUP($P23,Tabelle!$H:$K,4,0),IF($H$2=$V$6,VLOOKUP($P23,Tabelle!$U:$X,4,0),IF($H$2=$V$7,VLOOKUP($P23,Tabelle!$AH:$AK,4,0),IF($H$2=$V$8,VLOOKUP($P23,Tabelle!$AU:$AX,4,0)))))),\"\",IF($H$2=$V$5,VLOOKUP($P23,Tabelle!$H:$K,4,0),IF($H$2=$V$6,VLOOKUP($P23,Tabelle!$U:$X,4,0),IF($H$2=$V$7,VLOOKUP($P23,Tabelle!$AH:$AK,4,0),IF($H$2=$V$8,VLOOKUP($P23,Tabelle!$AU:$AX,4,0))))))","v":9.6999999999999993},{"$f":"IF(ISERROR(IF($H$2=$V$5,VLOOKUP($P23,Tabelle!$H:$L,5,0),IF($H$2=$V$6,VLOOKUP($P23,Tabelle!$U:$Y,5,0),IF($H$2=$V$7,VLOOKUP($P23,Tabelle!$AH:$AL,5,0),IF($H$2=$V$8,VLOOKUP($P23,Tabelle!$AU:$AY,5,0)))))),\"\",IF($H$2=$V$5,VLOOKUP($P23,Tabelle!$H:$L,5,0),IF($H$2=$V$6,VLOOKUP($P23,Tabelle!$U:$Y,5,0),IF($H$2=$V$7,VLOOKUP($P23,Tabelle!$AH:$AL,5,0),IF($H$2=$V$8,VLOOKUP($P23,Tabelle!$AU:$AY,5,0))))))","v":3.1},null,null,null,null,"",-0.3,5.2,0,4.3,null,null,-0.2,4.7,9.6999999999999993,3.1]
[null,null,null,null,null,null,null,null,{"$f":"IF(ISNUMBER(IF($H$2=$V$5,OFFSET(Tabelle!A24,0,0),IF($H$2=$V$6,OFFSET(Tabelle!N24,0,0),IF($H$2=$V$7,OFFSET(Tabelle!AA24,0,0),IF($H$2=$V$8,OFFSET(Tabelle!AN24,0,0)))))),IF($H$2=$V$5,OFFSET(Tabelle!A24,0,0),IF($H$2=$V$6,OFFSET(Tabelle!N24,0,0),IF($H$2=$V$7,OFFSET(Tabelle!AA24,0,0),IF($H$2=$V$8,OFFSET(Tabelle!AN24,0,0))))),\"\")","v":"2009-11-30"},{"$f":"IF(ISERROR(IF($H$2=$V$5,VLOOKUP($I24,Tabelle!$A:$B,2,0),IF($H$2=$V$6,VLOOKUP($I24,Tabelle!$N:$O,2,0),IF($H$2=$V$7,VLOOKUP($I24,Tabelle!$AA:$AB,2,0),IF($H$2=$V$8,VLOOKUP($I24,Tabelle!$AN:$AO,2,0)))))),\"\",IF($H$2=$V$5,VLOOKUP($I24,Tabelle!$A:$B,2,0),IF($H$2=$V$6,VLOOKUP($I24,Tabelle!$N:$O,2,0),IF($H$2=$V$7,VLOOKUP($I24,Tabelle!$AA:$AB,2,0),IF($H$2=$V$8,VLOOKUP($I24,Tabelle!$AN:$AO,2,0))))))","v":1.8},{"$f":"IF(ISERROR(IF($H$2=$V$5,VLOOKUP($I24,Tabelle!$A:$C,3,0),IF($H$2=$V$6,VLOOKUP($I24,Tabelle!$N:$P,3,0),IF($H$2=$V$7,VLOOKUP($I24,Tabelle!$AA:$AC,3,0),IF($H$2=$V$8,VLOOKUP($I24,Tabelle!$AN:$AP,3,0)))))),\"\",IF($H$2=$V$5,VLOOKUP($I24,Tabelle!$A:$C,3,0),IF($H$2=$V$6,VLOOKUP($I24,Tabelle!$N:$P,3,0),IF($H$2=$V$7,VLOOKUP($I24,Tabelle!$AA:$AC,3,0),IF($H$2=$V$8,VLOOKUP($I24,Tabelle!$AN:$AP,3,0))))))","v":-0.1},{"$f":"IF(ISERROR(IF($H$2=$V$5,VLOOKUP($I24,Tabelle!$A:$D,4,0),IF($H$2=$V$6,VLOOKUP($I24,Tabelle!$N:$Q,4,0),IF($H$2=$V$7,VLOOKUP($I24,Tabelle!$AA:$AD,4,0),IF($H$2=$V$8,VLOOKUP($I24,Tabelle!$AN:$AQ,4,0)))))),\"\",IF($H$2=$V$5,VLOOKUP($I24,Tabelle!$A:$D,4,0),IF($H$2=$V$6,VLOOKUP($I24,Tabelle!$N:$Q,4,0),IF($H$2=$V$7,VLOOKUP($I24,Tabelle!$AA:$AD,4,0),IF($H$2=$V$8,VLOOKUP($I24,Tabelle!$AN:$AQ,4,0))))))","v":5.9},{"$f":"IF(ISERROR(IF($H$2=$V$5,VLOOKUP($I24,Tabelle!$A:$E,5,0),IF($H$2=$V$6,VLOOKUP($I24,Tabelle!$N:$R,5,0),IF($H$2=$V$7,VLOOKUP($I24,Tabelle!$AA:$AE,5,0),IF($H$2=$V$8,VLOOKUP($I24,Tabelle!$AN:$AR,5,0)))))),\"\",IF($H$2=$V$5,VLOOKUP($I24,Tabelle!$A:$E,5,0),IF($H$2=$V$6,VLOOKUP($I24,Tabelle!$N:$R,5,0),IF($H$2=$V$7,VLOOKUP($I24,Tabelle!$AA:$AE,5,0),IF($H$2=$V$8,VLOOKUP($I24,Tabelle!$AN:$AR,5,0))))))","v":1.6},{"$f":"IF(ISERROR(IF($H$2=$V$5,VLOOKUP($I24,Tabelle!$A:$F,6,0),IF($H$2=$V$6,VLOOKUP($I24,Tabelle!$N:$S,6,0),IF($H$2=$V$7,VLOOKUP($I24,Tabelle!$AA:$AF,6,0),IF($H$2=$V$8,VLOOKUP($I24,Tabelle!$AN:$AS,6,0)))))),\"\",IF($H$2=$V$5,VLOOKUP($I24,Tabelle!$A:$F,6,0),IF($H$2=$V$6,VLOOKUP($I24,Tabelle!$N:$S,6,0),IF($H$2=$V$7,VLOOKUP($I24,Tabelle!$AA:$AF,6,0),IF($H$2=$V$8,VLOOKUP($I24,Tabelle!$AN:$AS,6,0))))))","v":4.7},null,{"$f":"IF(ISNUMBER(IF($H$2=$V$5,OFFSET(Tabelle!H24,0,0),IF($H$2=$V$6,OFFSET(Tabelle!U24,0,0),IF($H$2=$V$7,OFFSET(Tabelle!AH24,0,0),IF($H$2=$V$8,OFFSET(Tabelle!AV24,0,0)))))),IF($H$2=$V$5,OFFSET(Tabelle!H24,0,0),IF($H$2=$V$6,OFFSET(Tabelle!U24,0,0),IF($H$2=$V$7,OFFSET(Tabelle!AH24,0,0),IF($H$2=$V$8,OFFSET(Tabelle!AU24,0,0))))),\"\")","v":"2009-11-30"},{"$f":"IF(ISERROR(IF($H$2=$V$5,VLOOKUP($P24,Tabelle!$H:$I,2,0),IF($H$2=$V$6,VLOOKUP($P24,Tabelle!$U:$V,2,0),IF($H$2=$V$7,VLOOKUP($P24,Tabelle!$AH:$AI,2,0),IF($H$2=$V$8,VLOOKUP($P24,Tabelle!$AU:$AV,2,0)))))),\"\",IF($H$2=$V$5,VLOOKUP($P24,Tabelle!$H:$I,2,0),IF($H$2=$V$6,VLOOKUP($P24,Tabelle!$U:$V,2,0),IF($H$2=$V$7,VLOOKUP($P24,Tabelle!$AH:$AI,2,0),IF($H$2=$V$8,VLOOKUP($P24,Tabelle!$AU:$AV,2,0))))))","v":0.5},{"$f":"IF(ISERROR(IF($H$2=$V$5,VLOOKUP($P24,Tabelle!$H:$J,3,0),IF($H$2=$V$6,VLOOKUP($P24,Tabelle!$U:$W,3,0),IF($H$2=$V$7,VLOOKUP($P24,Tabelle!$AH:$AJ,3,0),IF($H$2=$V$8,VLOOKUP($P24,Tabelle!$AU:$AW,3,0)))))),\"\",IF($H$2=$V$5,VLOOKUP($P24,Tabelle!$H:$J,3,0),IF($H$2=$V$6,VLOOKUP($P24,Tabelle!$U:$W,3,0),IF($H$2=$V$7,VLOOKUP($P24,Tabelle!$AH:$AJ,3,0),IF($H$2=$V$8,VLOOKUP($P24,Tabelle!$AU:$AW,3,0))))))","v":5.2},{"$f":"IF(ISERROR(IF($H$2=$V$5,VLOOKUP($P24,Tabelle!$H:$K,4,0),IF($H$2=$V$6,VLOOKUP($P24,Tabelle!$U:$X,4,0),IF($H$2=$V$7,VLOOKUP($P24,Tabelle!$AH:$AK,4,0),IF($H$2=$V$8,VLOOKUP($P24,Tabelle!$AU:$AX,4,0)))))),\"\",IF($H$2=$V$5,VLOOKUP($P24,Tabelle!$H:$K,4,0),IF($H$2=$V$6,VLOOKUP($P24,Tabelle!$U:$X,4,0),IF($H$2=$V$7,VLOOKUP($P24,Tabelle!$AH:$AK,4,0),IF($H$2=$V$8,VLOOKUP($P24,Tabelle!$AU:$AX,4,0))))))","v":9.1},{"$f":"IF(ISERROR(IF($H$2=$V$5,VLOOKUP($P24,Tabelle!$H:$L,5,0),IF($H$2=$V$6,VLOOKUP($P24,Tabelle!$U:$Y,5,0),IF($H$2=$V$7,VLOOKUP($P24,Tabelle!$AH:$AL,5,0),IF($H$2=$V$8,VLOOKUP($P24,Tabelle!$AU:$AY,5,0)))))),\"\",IF($H$2=$V$5,VLOOKUP($P24,Tabelle!$H:$L,5,0),IF($H$2=$V$6,VLOOKUP($P24,Tabelle!$U:$Y,5,0),IF($H$2=$V$7,VLOOKUP($P24,Tabelle!$AH:$AL,5,0),IF($H$2=$V$8,VLOOKUP($P24,Tabelle!$AU:$AY,5,0))))))","v":3.3},null,null,null,null,"",-0.1,5.9,1.6,4.7,null,null,0.5,5.2,9.1,3.3]
["Source: Bloomberg, Ecowin Reuters, RZS Serbia",null,null,null,null,null,null,null,{"$f":"IF(ISNUMBER(IF($H$2=$V$5,OFFSET(Tabelle!A25,0,0),IF($H$2=$V$6,OFFSET(Tabelle!N25,0,0),IF($H$2=$V$7,OFFSET(Tabelle!AA25,0,0),IF($H$2=$V$8,OFFSET(Tabelle!AN25,0,0)))))),IF($H$2=$V$5,OFFSET(Tabelle!A25,0,0),IF($H$2=$V$6,OFFSET(Tabelle!N25,0,0),IF($H$2=$V$7,OFFSET(Tabelle!AA25,0,0),IF($H$2=$V$8,OFFSET(Tabelle!AN25,0,0))))),\"\")","v":"2009-12-31"},{"$f":"IF(ISERROR(IF($H$2=$V$5,VLOOKUP($I25,Tabelle!$A:$B,2,0),IF($H$2=$V$6,VLOOKUP($I25,Tabelle!$N:$O,2,0),IF($H$2=$V$7,VLOOKUP($I25,Tabelle!$AA:$AB,2,0),IF($H$2=$V$8,VLOOKUP($I25,Tabelle!$AN:$AO,2,0)))))),\"\",IF($H$2=$V$5,VLOOKUP($I25,Tabelle!$A:$B,2,0),IF($H$2=$V$6,VLOOKUP($I25,Tabelle!$N:$O,2,0),IF($H$2=$V$7,VLOOKUP($I25,Tabelle!$AA:$AB,2,0),IF($H$2=$V$8,VLOOKUP($I25,Tabelle!$AN:$AO,2,0))))))","v":1.9},{"$f":"IF(ISERROR(IF($H$2=$V$5,VLOOKUP($I25,Tabelle!$A:$C,3,0),IF($H$2=$V$6,VLOOKUP($I25,Tabelle!$N:$P,3,0),IF($H$2=$V$7,VLOOKUP($I25,Tabelle!$AA:$AC,3,0),IF($H$2=$V$8,VLOOKUP($I25,Tabelle!$AN:$AP,3,0)))))),\"\",IF($H$2=$V$5,VLOOKUP($I25,Tabelle!$A:$C,3,0),IF($H$2=$V$6,VLOOKUP($I25,Tabelle!$N:$P,3,0),IF($H$2=$V$7,VLOOKUP($I25,Tabelle!$AA:$AC,3,0),IF($H$2=$V$8,VLOOKUP($I25,Tabelle!$AN:$AP,3,0))))))","v":0.6},{"$f":"IF(ISERROR(IF($H$2=$V$5,VLOOKUP($I25,Tabelle!$A:$D,4,0),IF($H$2=$V$6,VLOOKUP($I25,Tabelle!$N:$Q,4,0),IF($H$2=$V$7,VLOOKUP($I25,Tabelle!$AA:$AD,4,0),IF($H$2=$V$8,VLOOKUP($I25,Tabelle!$AN:$AQ,4,0)))))),\"\",IF($H$2=$V$5,VLOOKUP($I25,Tabelle!$A:$D,4,0),IF($H$2=$V$6,VLOOKUP($I25,Tabelle!$N:$Q,4,0),IF($H$2=$V$7,VLOOKUP($I25,Tabelle!$AA:$AD,4,0),IF($H$2=$V$8,VLOOKUP($I25,Tabelle!$AN:$AQ,4,0))))))","v":6.6},{"$f":"IF(ISERROR(IF($H$2=$V$5,VLOOKUP($I25,Tabelle!$A:$E,5,0),IF($H$2=$V$6,VLOOKUP($I25,Tabelle!$N:$R,5,0),IF($H$2=$V$7,VLOOKUP($I25,Tabelle!$AA:$AE,5,0),IF($H$2=$V$8,VLOOKUP($I25,Tabelle!$AN:$AR,5,0)))))),\"\",IF($H$2=$V$5,VLOOKUP($I25,Tabelle!$A:$E,5,0),IF($H$2=$V$6,VLOOKUP($I25,Tabelle!$N:$R,5,0),IF($H$2=$V$7,VLOOKUP($I25,Tabelle!$AA:$AE,5,0),IF($H$2=$V$8,VLOOKUP($I25,Tabelle!$AN:$AR,5,0))))))","v":1.8},{"$f":"IF(ISERROR(IF($H$2=$V$5,VLOOKUP($I25,Tabelle!$A:$F,6,0),IF($H$2=$V$6,VLOOKUP($I25,Tabelle!$N:$S,6,0),IF($H$2=$V$7,VLOOKUP($I25,Tabelle!$AA:$AF,6,0),IF($H$2=$V$8,VLOOKUP($I25,Tabelle!$AN:$AS,6,0)))))),\"\",IF($H$2=$V$5,VLOOKUP($I25,Tabelle!$A:$F,6,0),IF($H$2=$V$6,VLOOKUP($I25,Tabelle!$N:$S,6,0),IF($H$2=$V$7,VLOOKUP($I25,Tabelle!$AA:$AF,6,0),IF($H$2=$V$8,VLOOKUP($I25,Tabelle!$AN:$AS,6,0))))))","v":4.74},null,{"$f":"IF(ISNUMBER(IF($H$2=$V$5,OFFSET(Tabelle!H25,0,0),IF($H$2=$V$6,OFFSET(Tabelle!U25,0,0),IF($H$2=$V$7,OFFSET(Tabelle!AH25,0,0),IF($H$2=$V$8,OFFSET(Tabelle!AV25,0,0)))))),IF($H$2=$V$5,OFFSET(Tabelle!H25,0,0),IF($H$2=$V$6,OFFSET(Tabelle!U25,0,0),IF($H$2=$V$7,OFFSET(Tabelle!AH25,0,0),IF($H$2=$V$8,OFFSET(Tabelle!AU25,0,0))))),\"\")","v":"2009-12-31"},{"$f":"IF(ISERROR(IF($H$2=$V$5,VLOOKUP($P25,Tabelle!$H:$I,2,0),IF($H$2=$V$6,VLOOKUP($P25,Tabelle!$U:$V,2,0),IF($H$2=$V$7,VLOOKUP($P25,Tabelle!$AH:$AI,2,0),IF($H$2=$V$8,VLOOKUP($P25,Tabelle!$AU:$AV,2,0)))))),\"\",IF($H$2=$V$5,VLOOKUP($P25,Tabelle!$H:$I,2,0),IF($H$2=$V$6,VLOOKUP($P25,Tabelle!$U:$V,2,0),IF($H$2=$V$7,VLOOKUP($P25,Tabelle!$AH:$AI,2,0),IF($H$2=$V$8,VLOOKUP($P25,Tabelle!$AU:$AV,2,0))))))","v":1},{"$f":"IF(ISERROR(IF($H$2=$V$5,VLOOKUP($P25,Tabelle!$H:$J,3,0),IF($H$2=$V$6,VLOOKUP($P25,Tabelle!$U:$W,3,0),IF($H$2=$V$7,VLOOKUP($P25,Tabelle!$AH:$AJ,3,0),IF($H$2=$V$8,VLOOKUP($P25,Tabelle!$AU:$AW,3,0)))))),\"\",IF($H$2=$V$5,VLOOKUP($P25,Tabelle!$H:$J,3,0),IF($H$2=$V$6,VLOOKUP($P25,Tabelle!$U:$W,3,0),IF($H$2=$V$7,VLOOKUP($P25,Tabelle!$AH:$AJ,3,0),IF($H$2=$V$8,VLOOKUP($P25,Tabelle!$AU:$AW,3,0))))))","v":5.6},{"$f":"IF(ISERROR(IF($H$2=$V$5,VLOOKUP($P25,Tabelle!$H:$K,4,0),IF($H$2=$V$6,VLOOKUP($P25,Tabelle!$U:$X,4,0),IF($H$2=$V$7,VLOOKUP($P25,Tabelle!$AH:$AK,4,0),IF($H$2=$V$8,VLOOKUP($P25,Tabelle!$AU:$AX,4,0)))))),\"\",IF($H$2=$V$5,VLOOKUP($P25,Tabelle!$H:$K,4,0),IF($H$2=$V$6,VLOOKUP($P25,Tabelle!$U:$X,4,0),IF($H$2=$V$7,VLOOKUP($P25,Tabelle!$AH:$AK,4,0),IF($H$2=$V$8,VLOOKUP($P25,Tabelle!$AU:$AX,4,0))))))","v":8.8000000000000007},{"$f":"IF(ISERROR(IF($H$2=$V$5,VLOOKUP($P25,Tabelle!$H:$L,5,0),IF($H$2=$V$6,VLOOKUP($P25,Tabelle!$U:$Y,5,0),IF($H$2=$V$7,VLOOKUP($P25,Tabelle!$AH:$AL,5,0),IF($H$2=$V$8,VLOOKUP($P25,Tabelle!$AU:$AY,5,0)))))),\"\",IF($H$2=$V$5,VLOOKUP($P25,Tabelle!$H:$L,5,0),IF($H$2=$V$6,VLOOKUP($P25,Tabelle!$U:$Y,5,0),IF($H$2=$V$7,VLOOKUP($P25,Tabelle!$AH:$AL,5,0),IF($H$2=$V$8,VLOOKUP($P25,Tabelle!$AU:$AY,5,0))))))","v":3.5},null,null,null,null,"",0.6,6.6,1.8,4.74,null,null,1,5.6,8.8000000000000007,3.5]
[null,null,null,null,null,null,null,null,{"$f":"IF(ISNUMBER(IF($H$2=$V$5,OFFSET(Tabelle!A26,0,0),IF($H$2=$V$6,OFFSET(Tabelle!N26,0,0),IF($H$2=$V$7,OFFSET(Tabelle!AA26,0,0),IF($H$2=$V$8,OFFSET(Tabelle!AN26,0,0)))))),IF($H$2=$V$5,OFFSET(Tabelle!A26,0,0),IF($H$2=$V$6,OFFSET(Tabelle!N26,0,0),IF($H$2=$V$7,OFFSET(Tabelle!AA26,0,0),IF($H$2=$V$8,OFFSET(Tabelle!AN26,0,0))))),\"\")","v":"2010-01-31"},{"$f":"IF(ISERROR(IF($H$2=$V$5,VLOOKUP($I26,Tabelle!$A:$B,2,0),IF($H$2=$V$6,VLOOKUP($I26,Tabelle!$N:$O,2,0),IF($H$2=$V$7,VLOOKUP($I26,Tabelle!$AA:$AB,2,0),IF($H$2=$V$8,VLOOKUP($I26,Tabelle!$AN:$AO,2,0)))))),\"\",IF($H$2=$V$5,VLOOKUP($I26,Tabelle!$A:$B,2,0),IF($H$2=$V$6,VLOOKUP($I26,Tabelle!$N:$O,2,0),IF($H$2=$V$7,VLOOKUP($I26,Tabelle!$AA:$AB,2,0),IF($H$2=$V$8,VLOOKUP($I26,Tabelle!$AN:$AO,2,0))))))","v":1.1000000000000001},{"$f":"IF(ISERROR(IF($H$2=$V$5,VLOOKUP($I26,Tabelle!$A:$C,3,0),IF($H$2=$V$6,VLOOKUP($I26,Tabelle!$N:$P,3,0),IF($H$2=$V$7,VLOOKUP($I26,Tabelle!$AA:$AC,3,0),IF($H$2=$V$8,VLOOKUP($I26,Tabelle!$AN:$AP,3,0)))))),\"\",IF($H$2=$V$5,VLOOKUP($I26,Tabelle!$A:$C,3,0),IF($H$2=$V$6,VLOOKUP($I26,Tabelle!$N:$P,3,0),IF($H$2=$V$7,VLOOKUP($I26,Tabelle!$AA:$AC,3,0),IF($H$2=$V$8,VLOOKUP($I26,Tabelle!$AN:$AP,3,0))))))","v":0.5},{"$f":"IF(ISERROR(IF($H$2=$V$5,VLOOKUP($I26,Tabelle!$A:$D,4,0),IF($H$2=$V$6,VLOOKUP($I26,Tabelle!$N:$Q,4,0),IF($H$2=$V$7,VLOOKUP($I26,Tabelle!$AA:$AD,4,0),IF($H$2=$V$8,VLOOKUP($I26,Tabelle!$AN:$AQ,4,0)))))),\"\",IF($H$2=$V$5,VLOOKUP($I26,Tabelle!$A:$D,4,0),IF($H$2=$V$6,VLOOKUP($I26,Tabelle!$N:$Q,4,0),IF($H$2=$V$7,VLOOKUP($I26,Tabelle!$AA:$AD,4,0),IF($H$2=$V$8,VLOOKUP($I26,Tabelle!$AN:$AQ,4,0))))))","v":4.8},{"$f":"IF(ISERROR(IF($H$2=$V$5,VLOOKUP($I26,Tabelle!$A:$E,5,0),IF($H$2=$V$6,VLOOKUP($I26,Tabelle!$N:$R,5,0),IF($H$2=$V$7,VLOOKUP($I26,Tabelle!$AA:$AE,5,0),IF($H$2=$V$8,VLOOKUP($I26,Tabelle!$AN:$AR,5,0)))))),\"\",IF($H$2=$V$5,VLOOKUP($I26,Tabelle!$A:$E,5,0),IF($H$2=$V$6,VLOOKUP($I26,Tabelle!$N:$R,5,0),IF($H$2=$V$7,VLOOKUP($I26,Tabelle!$AA:$AE,5,0),IF($H$2=$V$8,VLOOKUP($I26,Tabelle!$AN:$AR,5,0))))))","v":1.5},{"$f":"IF(ISERROR(IF($H$2=$V$5,VLOOKUP($I26,Tabelle!$A:$F,6,0),IF($H$2=$V$6,VLOOKUP($I26,Tabelle!$N:$S,6,0),IF($H$2=$V$7,VLOOKUP($I26,Tabelle!$AA:$AF,6,0),IF($H$2=$V$8,VLOOKUP($I26,Tabelle!$AN:$AS,6,0)))))),\"\",IF($H$2=$V$5,VLOOKUP($I26,Tabelle!$A:$F,6,0),IF($H$2=$V$6,VLOOKUP($I26,Tabelle!$N:$S,6,0),IF($H$2=$V$7,VLOOKUP($I26,Tabelle!$AA:$AF,6,0),IF($H$2=$V$8,VLOOKUP($I26,Tabelle!$AN:$AS,6,0))))))","v":5.2},null,{"$f":"IF(ISNUMBER(IF($H$2=$V$5,OFFSET(Tabelle!H26,0,0),IF($H$2=$V$6,OFFSET(Tabelle!U26,0,0),IF($H$2=$V$7,OFFSET(Tabelle!AH26,0,0),IF($H$2=$V$8,OFFSET(Tabelle!AV26,0,0)))))),IF($H$2=$V$5,OFFSET(Tabelle!H26,0,0),IF($H$2=$V$6,OFFSET(Tabelle!U26,0,0),IF($H$2=$V$7,OFFSET(Tabelle!AH26,0,0),IF($H$2=$V$8,OFFSET(Tabelle!AU26,0,0))))),\"\")","v":"2010-01-31"},{"$f":"IF(ISERROR(IF($H$2=$V$5,VLOOKUP($P26,Tabelle!$H:$I,2,0),IF($H$2=$V$6,VLOOKUP($P26,Tabelle!$U:$V,2,0),IF($H$2=$V$7,VLOOKUP($P26,Tabelle!$AH:$AI,2,0),IF($H$2=$V$8,VLOOKUP($P26,Tabelle!$AU:$AV,2,0)))))),\"\",IF($H$2=$V$5,VLOOKUP($P26,Tabelle!$H:$I,2,0),IF($H$2=$V$6,VLOOKUP($P26,Tabelle!$U:$V,2,0),IF($H$2=$V$7,VLOOKUP($P26,Tabelle!$AH:$AI,2,0),IF($H$2=$V$8,VLOOKUP($P26,Tabelle!$AU:$AV,2,0))))))","v":0.7},{"$f":"IF(ISERROR(IF($H$2=$V$5,VLOOKUP($P26,Tabelle!$H:$J,3,0),IF($H$2=$V$6,VLOOKUP($P26,Tabelle!$U:$W,3,0),IF($H$2=$V$7,VLOOKUP($P26,Tabelle!$AH:$AJ,3,0),IF($H$2=$V$8,VLOOKUP($P26,Tabelle!$AU:$AW,3,0)))))),\"\",IF($H$2=$V$5,VLOOKUP($P26,Tabelle!$H:$J,3,0),IF($H$2=$V$6,VLOOKUP($P26,Tabelle!$U:$W,3,0),IF($H$2=$V$7,VLOOKUP($P26,Tabelle!$AH:$AJ,3,0),IF($H$2=$V$8,VLOOKUP($P26,Tabelle!$AU:$AW,3,0))))))","v":6.4},{"$f":"IF(ISERROR(IF($H$2=$V$5,VLOOKUP($P26,Tabelle!$H:$K,4,0),IF($H$2=$V$6,VLOOKUP($P26,Tabelle!$U:$X,4,0),IF($H$2=$V$7,VLOOKUP($P26,Tabelle!$AH:$AK,4,0),IF($H$2=$V$8,VLOOKUP($P26,Tabelle!$AU:$AX,4,0)))))),\"\",IF($H$2=$V$5,VLOOKUP($P26,Tabelle!$H:$K,4,0),IF($H$2=$V$6,VLOOKUP($P26,Tabelle!$U:$X,4,0),IF($H$2=$V$7,VLOOKUP($P26,Tabelle!$AH:$AK,4,0),IF($H$2=$V$8,VLOOKUP($P26,Tabelle!$AU:$AX,4,0))))))","v":8},{"$f":"IF(ISERROR(IF($H$2=$V$5,VLOOKUP($P26,Tabelle!$H:$L,5,0),IF($H$2=$V$6,VLOOKUP($P26,Tabelle!$U:$Y,5,0),IF($H$2=$V$7,VLOOKUP($P26,Tabelle!$AH:$AL,5,0),IF($H$2=$V$8,VLOOKUP($P26,Tabelle!$AU:$AY,5,0)))))),\"\",IF($H$2=$V$5,VLOOKUP($P26,Tabelle!$H:$L,5,0),IF($H$2=$V$6,VLOOKUP($P26,Tabelle!$U:$Y,5,0),IF($H$2=$V$7,VLOOKUP($P26,Tabelle!$AH:$AL,5,0),IF($H$2=$V$8,VLOOKUP($P26,Tabelle!$AU:$AY,5,0))))))","v":3.5},null,null,null,null,"",0.5,4.8,1.5,5.2,null,null,0.7,6.4,8,3.5]
[null,null,null,null,null,null,null,null,{"$f":"IF(ISNUMBER(IF($H$2=$V$5,OFFSET(Tabelle!A27,0,0),IF($H$2=$V$6,OFFSET(Tabelle!N27,0,0),IF($H$2=$V$7,OFFSET(Tabelle!AA27,0,0),IF($H$2=$V$8,OFFSET(Tabelle!AN27,0,0)))))),IF($H$2=$V$5,OFFSET(Tabelle!A27,0,0),IF($H$2=$V$6,OFFSET(Tabelle!N27,0,0),IF($H$2=$V$7,OFFSET(Tabelle!AA27,0,0),IF($H$2=$V$8,OFFSET(Tabelle!AN27,0,0))))),\"\")","v":"2010-02-28"},{"$f":"IF(ISERROR(IF($H$2=$V$5,VLOOKUP($I27,Tabelle!$A:$B,2,0),IF($H$2=$V$6,VLOOKUP($I27,Tabelle!$N:$O,2,0),IF($H$2=$V$7,VLOOKUP($I27,Tabelle!$AA:$AB,2,0),IF($H$2=$V$8,VLOOKUP($I27,Tabelle!$AN:$AO,2,0)))))),\"\",IF($H$2=$V$5,VLOOKUP($I27,Tabelle!$A:$B,2,0),IF($H$2=$V$6,VLOOKUP($I27,Tabelle!$N:$O,2,0),IF($H$2=$V$7,VLOOKUP($I27,Tabelle!$AA:$AB,2,0),IF($H$2=$V$8,VLOOKUP($I27,Tabelle!$AN:$AO,2,0))))))","v":0.7},{"$f":"IF(ISERROR(IF($H$2=$V$5,VLOOKUP($I27,Tabelle!$A:$C,3,0),IF($H$2=$V$6,VLOOKUP($I27,Tabelle!$N:$P,3,0),IF($H$2=$V$7,VLOOKUP($I27,Tabelle!$AA:$AC,3,0),IF($H$2=$V$8,VLOOKUP($I27,Tabelle!$AN:$AP,3,0)))))),\"\",IF($H$2=$V$5,VLOOKUP($I27,Tabelle!$A:$C,3,0),IF($H$2=$V$6,VLOOKUP($I27,Tabelle!$N:$P,3,0),IF($H$2=$V$7,VLOOKUP($I27,Tabelle!$AA:$AC,3,0),IF($H$2=$V$8,VLOOKUP($I27,Tabelle!$AN:$AP,3,0))))))","v":0.9},{"$f":"IF(ISERROR(IF($H$2=$V$5,VLOOKUP($I27,Tabelle!$A:$D,4,0),IF($H$2=$V$6,VLOOKUP($I27,Tabelle!$N:$Q,4,0),IF($H$2=$V$7,VLOOKUP($I27,Tabelle!$AA:$AD,4,0),IF($H$2=$V$8,VLOOKUP($I27,Tabelle!$AN:$AQ,4,0)))))),\"\",IF($H$2=$V$5,VLOOKUP($I27,Tabelle!$A:$D,4,0),IF($H$2=$V$6,VLOOKUP($I27,Tabelle!$N:$Q,4,0),IF($H$2=$V$7,VLOOKUP($I27,Tabelle!$AA:$AD,4,0),IF($H$2=$V$8,VLOOKUP($I27,Tabelle!$AN:$AQ,4,0))))))","v":3.9},{"$f":"IF(ISERROR(IF($H$2=$V$5,VLOOKUP($I27,Tabelle!$A:$E,5,0),IF($H$2=$V$6,VLOOKUP($I27,Tabelle!$N:$R,5,0),IF($H$2=$V$7,VLOOKUP($I27,Tabelle!$AA:$AE,5,0),IF($H$2=$V$8,VLOOKUP($I27,Tabelle!$AN:$AR,5,0)))))),\"\",IF($H$2=$V$5,VLOOKUP($I27,Tabelle!$A:$E,5,0),IF($H$2=$V$6,VLOOKUP($I27,Tabelle!$N:$R,5,0),IF($H$2=$V$7,VLOOKUP($I27,Tabelle!$AA:$AE,5,0),IF($H$2=$V$8,VLOOKUP($I27,Tabelle!$AN:$AR,5,0))))))","v":1.3},{"$f":"IF(ISERROR(IF($H$2=$V$5,VLOOKUP($I27,Tabelle!$A:$F,6,0),IF($H$2=$V$6,VLOOKUP($I27,Tabelle!$N:$S,6,0),IF($H$2=$V$7,VLOOKUP($I27,Tabelle!$AA:$AF,6,0),IF($H$2=$V$8,VLOOKUP($I27,Tabelle!$AN:$AS,6,0)))))),\"\",IF($H$2=$V$5,VLOOKUP($I27,Tabelle!$A:$F,6,0),IF($H$2=$V$6,VLOOKUP($I27,Tabelle!$N:$S,6,0),IF($H$2=$V$7,VLOOKUP($I27,Tabelle!$AA:$AF,6,0),IF($H$2=$V$8,VLOOKUP($I27,Tabelle!$AN:$AS,6,0))))))","v":4.49},null,{"$f":"IF(ISNUMBER(IF($H$2=$V$5,OFFSET(Tabelle!H27,0,0),IF($H$2=$V$6,OFFSET(Tabelle!U27,0,0),IF($H$2=$V$7,OFFSET(Tabelle!AH27,0,0),IF($H$2=$V$8,OFFSET(Tabelle!AV27,0,0)))))),IF($H$2=$V$5,OFFSET(Tabelle!H27,0,0),IF($H$2=$V$6,OFFSET(Tabelle!U27,0,0),IF($H$2=$V$7,OFFSET(Tabelle!AH27,0,0),IF($H$2=$V$8,OFFSET(Tabelle!AU27,0,0))))),\"\")","v":"2010-02-28"},{"$f":"IF(ISERROR(IF($H$2=$V$5,VLOOKUP($P27,Tabelle!$H:$I,2,0),IF($H$2=$V$6,VLOOKUP($P27,Tabelle!$U:$V,2,0),IF($H$2=$V$7,VLOOKUP($P27,Tabelle!$AH:$AI,2,0),IF($H$2=$V$8,VLOOKUP($P27,Tabelle!$AU:$AV,2,0)))))),\"\",IF($H$2=$V$5,VLOOKUP($P27,Tabelle!$H:$I,2,0),IF($H$2=$V$6,VLOOKUP($P27,Tabelle!$U:$V,2,0),IF($H$2=$V$7,VLOOKUP($P27,Tabelle!$AH:$AI,2,0),IF($H$2=$V$8,VLOOKUP($P27,Tabelle!$AU:$AV,2,0))))))","v":0.6},{"$f":"IF(ISERROR(IF($H$2=$V$5,VLOOKUP($P27,Tabelle!$H:$J,3,0),IF($H$2=$V$6,VLOOKUP($P27,Tabelle!$U:$W,3,0),IF($H$2=$V$7,VLOOKUP($P27,Tabelle!$AH:$AJ,3,0),IF($H$2=$V$8,VLOOKUP($P27,Tabelle!$AU:$AW,3,0)))))),\"\",IF($H$2=$V$5,VLOOKUP($P27,Tabelle!$H:$J,3,0),IF($H$2=$V$6,VLOOKUP($P27,Tabelle!$U:$W,3,0),IF($H$2=$V$7,VLOOKUP($P27,Tabelle!$AH:$AJ,3,0),IF($H$2=$V$8,VLOOKUP($P27,Tabelle!$AU:$AW,3,0))))))","v":5.7},{"$f":"IF(ISERROR(IF($H$2=$V$5,VLOOKUP($P27,Tabelle!$H:$K,4,0),IF($H$2=$V$6,VLOOKUP($P27,Tabelle!$U:$X,4,0),IF($H$2=$V$7,VLOOKUP($P27,Tabelle!$AH:$AK,4,0),IF($H$2=$V$8,VLOOKUP($P27,Tabelle!$AU:$AX,4,0)))))),\"\",IF($H$2=$V$5,VLOOKUP($P27,Tabelle!$H:$K,4,0),IF($H$2=$V$6,VLOOKUP($P27,Tabelle!$U:$X,4,0),IF($H$2=$V$7,VLOOKUP($P27,Tabelle!$AH:$AK,4,0),IF($H$2=$V$8,VLOOKUP($P27,Tabelle!$AU:$AX,4,0))))))","v":7.2},{"$f":"IF(ISERROR(IF($H$2=$V$5,VLOOKUP($P27,Tabelle!$H:$L,5,0),IF($H$2=$V$6,VLOOKUP($P27,Tabelle!$U:$Y,5,0),IF($H$2=$V$7,VLOOKUP($P27,Tabelle!$AH:$AL,5,0),IF($H$2=$V$8,VLOOKUP($P27,Tabelle!$AU:$AY,5,0)))))),\"\",IF($H$2=$V$5,VLOOKUP($P27,Tabelle!$H:$L,5,0),IF($H$2=$V$6,VLOOKUP($P27,Tabelle!$U:$Y,5,0),IF($H$2=$V$7,VLOOKUP($P27,Tabelle!$AH:$AL,5,0),IF($H$2=$V$8,VLOOKUP($P27,Tabelle!$AU:$AY,5,0))))))","v":2.9},null,null,null,null,"",0.9,3.9,1.3,4.49,null,null,0.6,5.7,7.2,2.9]
[null,null,null,null,null,null,null,null,{"$f":"IF(ISNUMBER(IF($H$2=$V$5,OFFSET(Tabelle!A28,0,0),IF($H$2=$V$6,OFFSET(Tabelle!N28,0,0),IF($H$2=$V$7,OFFSET(Tabelle!AA28,0,0),IF($H$2=$V$8,OFFSET(Tabelle!AN28,0,0)))))),IF($H$2=$V$5,OFFSET(Tabelle!A28,0,0),IF($H$2=$V$6,OFFSET(Tabelle!N28,0,0),IF($H$2=$V$7,OFFSET(Tabelle!AA28,0,0),IF($H$2=$V$8,OFFSET(Tabelle!AN28,0,0))))),\"\")","v":"2010-03-31"},{"$f":"IF(ISERROR(IF($H$2=$V$5,VLOOKUP($I28,Tabelle!$A:$B,2,0),IF($H$2=$V$6,VLOOKUP($I28,Tabelle!$N:$O,2,0),IF($H$2=$V$7,VLOOKUP($I28,Tabelle!$AA:$AB,2,0),IF($H$2=$V$8,VLOOKUP($I28,Tabelle!$AN:$AO,2,0)))))),\"\",IF($H$2=$V$5,VLOOKUP($I28,Tabelle!$A:$B,2,0),IF($H$2=$V$6,VLOOKUP($I28,Tabelle!$N:$O,2,0),IF($H$2=$V$7,VLOOKUP($I28,Tabelle!$AA:$AB,2,0),IF($H$2=$V$8,VLOOKUP($I28,Tabelle!$AN:$AO,2,0))))))","v":0.9},{"$f":"IF(ISERROR(IF($H$2=$V$5,VLOOKUP($I28,Tabelle!$A:$C,3,0),IF($H$2=$V$6,VLOOKUP($I28,Tabelle!$N:$P,3,0),IF($H$2=$V$7,VLOOKUP($I28,Tabelle!$AA:$AC,3,0),IF($H$2=$V$8,VLOOKUP($I28,Tabelle!$AN:$AP,3,0)))))),\"\",IF($H$2=$V$5,VLOOKUP($I28,Tabelle!$A:$C,3,0),IF($H$2=$V$6,VLOOKUP($I28,Tabelle!$N:$P,3,0),IF($H$2=$V$7,VLOOKUP($I28,Tabelle!$AA:$AC,3,0),IF($H$2=$V$8,VLOOKUP($I28,Tabelle!$AN:$AP,3,0))))))","v":1.3},{"$f":"IF(ISERROR(IF($H$2=$V$5,VLOOKUP($I28,Tabelle!$A:$D,4,0),IF($H$2=$V$6,VLOOKUP($I28,Tabelle!$N:$Q,4,0),IF($H$2=$V$7,VLOOKUP($I28,Tabelle!$AA:$AD,4,0),IF($H$2=$V$8,VLOOKUP($I28,Tabelle!$AN:$AQ,4,0)))))),\"\",IF($H$2=$V$5,VLOOKUP($I28,Tabelle!$A:$D,4,0),IF($H$2=$V$6,VLOOKUP($I28,Tabelle!$N:$Q,4,0),IF($H$2=$V$7,VLOOKUP($I28,Tabelle!$AA:$AD,4,0),IF($H$2=$V$8,VLOOKUP($I28,Tabelle!$AN:$AQ,4,0))))))","v":4.7},{"$f":"IF(ISERROR(IF($H$2=$V$5,VLOOKUP($I28,Tabelle!$A:$E,5,0),IF($H$2=$V$6,VLOOKUP($I28,Tabelle!$N:$R,5,0),IF($H$2=$V$7,VLOOKUP($I28,Tabelle!$AA:$AE,5,0),IF($H$2=$V$8,VLOOKUP($I28,Tabelle!$AN:$AR,5,0)))))),\"\",IF($H$2=$V$5,VLOOKUP($I28,Tabelle!$A:$E,5,0),IF($H$2=$V$6,VLOOKUP($I28,Tabelle!$N:$R,5,0),IF($H$2=$V$7,VLOOKUP($I28,Tabelle!$AA:$AE,5,0),IF($H$2=$V$8,VLOOKUP($I28,Tabelle!$AN:$AR,5,0))))))","v":1.4},{"$f":"IF(ISERROR(IF($H$2=$V$5,VLOOKUP($I28,Tabelle!$A:$F,6,0),IF($H$2=$V$6,VLOOKUP($I28,Tabelle!$N:$S,6,0),IF($H$2=$V$7,VLOOKUP($I28,Tabelle!$AA:$AF,6,0),IF($H$2=$V$8,VLOOKUP($I28,Tabelle!$AN:$AS,6,0)))))),\"\",IF($H$2=$V$5,VLOOKUP($I28,Tabelle!$A:$F,6,0),IF($H$2=$V$6,VLOOKUP($I28,Tabelle!$N:$S,6,0),IF($H$2=$V$7,VLOOKUP($I28,Tabelle!$AA:$AF,6,0),IF($H$2=$V$8,VLOOKUP($I28,Tabelle!$AN:$AS,6,0))))))","v":4.2},null,{"$f":"IF(ISNUMBER(IF($H$2=$V$5,OFFSET(Tabelle!H28,0,0),IF($H$2=$V$6,OFFSET(Tabelle!U28,0,0),IF($H$2=$V$7,OFFSET(Tabelle!AH28,0,0),IF($H$2=$V$8,OFFSET(Tabelle!AV28,0,0)))))),IF($H$2=$V$5,OFFSET(Tabelle!H28,0,0),IF($H$2=$V$6,OFFSET(Tabelle!U28,0,0),IF($H$2=$V$7,OFFSET(Tabelle!AH28,0,0),IF($H$2=$V$8,OFFSET(Tabelle!AU28,0,0))))),\"\")","v":"2010-03-31"},{"$f":"IF(ISERROR(IF($H$2=$V$5,VLOOKUP($P28,Tabelle!$H:$I,2,0),IF($H$2=$V$6,VLOOKUP($P28,Tabelle!$U:$V,2,0),IF($H$2=$V$7,VLOOKUP($P28,Tabelle!$AH:$AI,2,0),IF($H$2=$V$8,VLOOKUP($P28,Tabelle!$AU:$AV,2,0)))))),\"\",IF($H$2=$V$5,VLOOKUP($P28,Tabelle!$H:$I,2,0),IF($H$2=$V$6,VLOOKUP($P28,Tabelle!$U:$V,2,0),IF($H$2=$V$7,VLOOKUP($P28,Tabelle!$AH:$AI,2,0),IF($H$2=$V$8,VLOOKUP($P28,Tabelle!$AU:$AV,2,0))))))","v":0.7},{"$f":"IF(ISERROR(IF($H$2=$V$5,VLOOKUP($P28,Tabelle!$H:$J,3,0),IF($H$2=$V$6,VLOOKUP($P28,Tabelle!$U:$W,3,0),IF($H$2=$V$7,VLOOKUP($P28,Tabelle!$AH:$AJ,3,0),IF($H$2=$V$8,VLOOKUP($P28,Tabelle!$AU:$AW,3,0)))))),\"\",IF($H$2=$V$5,VLOOKUP($P28,Tabelle!$H:$J,3,0),IF($H$2=$V$6,VLOOKUP($P28,Tabelle!$U:$W,3,0),IF($H$2=$V$7,VLOOKUP($P28,Tabelle!$AH:$AJ,3,0),IF($H$2=$V$8,VLOOKUP($P28,Tabelle!$AU:$AW,3,0))))))","v":5.9},{"$f":"IF(ISERROR(IF($H$2=$V$5,VLOOKUP($P28,Tabelle!$H:$K,4,0),IF($H$2=$V$6,VLOOKUP($P28,Tabelle!$U:$X,4,0),IF($H$2=$V$7,VLOOKUP($P28,Tabelle!$AH:$AK,4,0),IF($H$2=$V$8,VLOOKUP($P28,Tabelle!$AU:$AX,4,0)))))),\"\",IF($H$2=$V$5,VLOOKUP($P28,Tabelle!$H:$K,4,0),IF($H$2=$V$6,VLOOKUP($P28,Tabelle!$U:$X,4,0),IF($H$2=$V$7,VLOOKUP($P28,Tabelle!$AH:$AK,4,0),IF($H$2=$V$8,VLOOKUP($P28,Tabelle!$AU:$AX,4,0))))))","v":6.5},{"$f":"IF(ISERROR(IF($H$2=$V$5,VLOOKUP($P28,Tabelle!$H:$L,5,0),IF($H$2=$V$6,VLOOKUP($P28,Tabelle!$U:$Y,5,0),IF($H$2=$V$7,VLOOKUP($P28,Tabelle!$AH:$AL,5,0),IF($H$2=$V$8,VLOOKUP($P28,Tabelle!$AU:$AY,5,0)))))),\"\",IF($H$2=$V$5,VLOOKUP($P28,Tabelle!$H:$L,5,0),IF($H$2=$V$6,VLOOKUP($P28,Tabelle!$U:$Y,5,0),IF($H$2=$V$7,VLOOKUP($P28,Tabelle!$AH:$AL,5,0),IF($H$2=$V$8,VLOOKUP($P28,Tabelle!$AU:$AY,5,0))))))","v":2.6},null,null,null,null,"",1.3,4.7,1.4,4.2,null,null,0.7,5.9,6.5,2.6]
[null,null,null,null,null,null,null,null,{"$f":"IF(ISNUMBER(IF($H$2=$V$5,OFFSET(Tabelle!A29,0,0),IF($H$2=$V$6,OFFSET(Tabelle!N29,0,0),IF($H$2=$V$7,OFFSET(Tabelle!AA29,0,0),IF($H$2=$V$8,OFFSET(Tabelle!AN29,0,0)))))),IF($H$2=$V$5,OFFSET(Tabelle!A29,0,0),IF($H$2=$V$6,OFFSET(Tabelle!N29,0,0),IF($H$2=$V$7,OFFSET(Tabelle!AA29,0,0),IF($H$2=$V$8,OFFSET(Tabelle!AN29,0,0))))),\"\")","v":"2010-04-30"},{"$f":"IF(ISERROR(IF($H$2=$V$5,VLOOKUP($I29,Tabelle!$A:$B,2,0),IF($H$2=$V$6,VLOOKUP($I29,Tabelle!$N:$O,2,0),IF($H$2=$V$7,VLOOKUP($I29,Tabelle!$AA:$AB,2,0),IF($H$2=$V$8,VLOOKUP($I29,Tabelle!$AN:$AO,2,0)))))),\"\",IF($H$2=$V$5,VLOOKUP($I29,Tabelle!$A:$B,2,0),IF($H$2=$V$6,VLOOKUP($I29,Tabelle!$N:$O,2,0),IF($H$2=$V$7,VLOOKUP($I29,Tabelle!$AA:$AB,2,0),IF($H$2=$V$8,VLOOKUP($I29,Tabelle!$AN:$AO,2,0))))))","v":0.6},{"$f":"IF(ISERROR(IF($H$2=$V$5,VLOOKUP($I29,Tabelle!$A:$C,3,0),IF($H$2=$V$6,VLOOKUP($I29,Tabelle!$N:$P,3,0),IF($H$2=$V$7,VLOOKUP($I29,Tabelle!$AA:$AC,3,0),IF($H$2=$V$8,VLOOKUP($I29,Tabelle!$AN:$AP,3,0)))))),\"\",IF($H$2=$V$5,VLOOKUP($I29,Tabelle!$A:$C,3,0),IF($H$2=$V$6,VLOOKUP($I29,Tabelle!$N:$P,3,0),IF($H$2=$V$7,VLOOKUP($I29,Tabelle!$AA:$AC,3,0),IF($H$2=$V$8,VLOOKUP($I29,Tabelle!$AN:$AP,3,0))))))","v":1.8},{"$f":"IF(ISERROR(IF($H$2=$V$5,VLOOKUP($I29,Tabelle!$A:$D,4,0),IF($H$2=$V$6,VLOOKUP($I29,Tabelle!$N:$Q,4,0),IF($H$2=$V$7,VLOOKUP($I29,Tabelle!$AA:$AD,4,0),IF($H$2=$V$8,VLOOKUP($I29,Tabelle!$AN:$AQ,4,0)))))),\"\",IF($H$2=$V$5,VLOOKUP($I29,Tabelle!$A:$D,4,0),IF($H$2=$V$6,VLOOKUP($I29,Tabelle!$N:$Q,4,0),IF($H$2=$V$7,VLOOKUP($I29,Tabelle!$AA:$AD,4,0),IF($H$2=$V$8,VLOOKUP($I29,Tabelle!$AN:$AQ,4,0))))))","v":4.3},{"$f":"IF(ISERROR(IF($H$2=$V$5,VLOOKUP($I29,Tabelle!$A:$E,5,0),IF($H$2=$V$6,VLOOKUP($I29,Tabelle!$N:$R,5,0),IF($H$2=$V$7,VLOOKUP($I29,Tabelle!$AA:$AE,5,0),IF($H$2=$V$8,VLOOKUP($I29,Tabelle!$AN:$AR,5,0)))))),\"\",IF($H$2=$V$5,VLOOKUP($I29,Tabelle!$A:$E,5,0),IF($H$2=$V$6,VLOOKUP($I29,Tabelle!$N:$R,5,0),IF($H$2=$V$7,VLOOKUP($I29,Tabelle!$AA:$AE,5,0),IF($H$2=$V$8,VLOOKUP($I29,Tabelle!$AN:$AR,5,0))))))","v":2.2999999999999998},{"$f":"IF(ISERROR(IF($H$2=$V$5,VLOOKUP($I29,Tabelle!$A:$F,6,0),IF($H$2=$V$6,VLOOKUP($I29,Tabelle!$N:$S,6,0),IF($H$2=$V$7,VLOOKUP($I29,Tabelle!$AA:$AF,6,0),IF($H$2=$V$8,VLOOKUP($I29,Tabelle!$AN:$AS,6,0)))))),\"\",IF($H$2=$V$5,VLOOKUP($I29,Tabelle!$A:$F,6,0),IF($H$2=$V$6,VLOOKUP($I29,Tabelle!$N:$S,6,0),IF($H$2=$V$7,VLOOKUP($I29,Tabelle!$AA:$AF,6,0),IF($H$2=$V$8,VLOOKUP($I29,Tabelle!$AN:$AS,6,0))))))","v":4.28},null,{"$f":"IF(ISNUMBER(IF($H$2=$V$5,OFFSET(Tabelle!H29,0,0),IF($H$2=$V$6,OFFSET(Tabelle!U29,0,0),IF($H$2=$V$7,OFFSET(Tabelle!AH29,0,0),IF($H$2=$V$8,OFFSET(Tabelle!AV29,0,0)))))),IF($H$2=$V$5,OFFSET(Tabelle!H29,0,0),IF($H$2=$V$6,OFFSET(Tabelle!U29,0,0),IF($H$2=$V$7,OFFSET(Tabelle!AH29,0,0),IF($H$2=$V$8,OFFSET(Tabelle!AU29,0,0))))),\"\")","v":"2010-04-30"},{"$f":"IF(ISERROR(IF($H$2=$V$5,VLOOKUP($P29,Tabelle!$H:$I,2,0),IF($H$2=$V$6,VLOOKUP($P29,Tabelle!$U:$V,2,0),IF($H$2=$V$7,VLOOKUP($P29,Tabelle!$AH:$AI,2,0),IF($H$2=$V$8,VLOOKUP($P29,Tabelle!$AU:$AV,2,0)))))),\"\",IF($H$2=$V$5,VLOOKUP($P29,Tabelle!$H:$I,2,0),IF($H$2=$V$6,VLOOKUP($P29,Tabelle!$U:$V,2,0),IF($H$2=$V$7,VLOOKUP($P29,Tabelle!$AH:$AI,2,0),IF($H$2=$V$8,VLOOKUP($P29,Tabelle!$AU:$AV,2,0))))))","v":1.1000000000000001},{"$f":"IF(ISERROR(IF($H$2=$V$5,VLOOKUP($P29,Tabelle!$H:$J,3,0),IF($H$2=$V$6,VLOOKUP($P29,Tabelle!$U:$W,3,0),IF($H$2=$V$7,VLOOKUP($P29,Tabelle!$AH:$AJ,3,0),IF($H$2=$V$8,VLOOKUP($P29,Tabelle!$AU:$AW,3,0)))))),\"\",IF($H$2=$V$5,VLOOKUP($P29,Tabelle!$H:$J,3,0),IF($H$2=$V$6,VLOOKUP($P29,Tabelle!$U:$W,3,0),IF($H$2=$V$7,VLOOKUP($P29,Tabelle!$AH:$AJ,3,0),IF($H$2=$V$8,VLOOKUP($P29,Tabelle!$AU:$AW,3,0))))))","v":5.7},{"$f":"IF(ISERROR(IF($H$2=$V$5,VLOOKUP($P29,Tabelle!$H:$K,4,0),IF($H$2=$V$6,VLOOKUP($P29,Tabelle!$U:$X,4,0),IF($H$2=$V$7,VLOOKUP($P29,Tabelle!$AH:$AK,4,0),IF($H$2=$V$8,VLOOKUP($P29,Tabelle!$AU:$AX,4,0)))))),\"\",IF($H$2=$V$5,VLOOKUP($P29,Tabelle!$H:$K,4,0),IF($H$2=$V$6,VLOOKUP($P29,Tabelle!$U:$X,4,0),IF($H$2=$V$7,VLOOKUP($P29,Tabelle!$AH:$AK,4,0),IF($H$2=$V$8,VLOOKUP($P29,Tabelle!$AU:$AX,4,0))))))","v":6},{"$f":"IF(ISERROR(IF($H$2=$V$5,VLOOKUP($P29,Tabelle!$H:$L,5,0),IF($H$2=$V$6,VLOOKUP($P29,Tabelle!$U:$Y,5,0),IF($H$2=$V$7,VLOOKUP($P29,Tabelle!$AH:$AL,5,0),IF($H$2=$V$8,VLOOKUP($P29,Tabelle!$AU:$AY,5,0)))))),\"\",IF($H$2=$V$5,VLOOKUP($P29,Tabelle!$H:$L,5,0),IF($H$2=$V$6,VLOOKUP($P29,Tabelle!$U:$Y,5,0),IF($H$2=$V$7,VLOOKUP($P29,Tabelle!$AH:$AL,5,0),IF($H$2=$V$8,VLOOKUP($P29,Tabelle!$AU:$AY,5,0))))))","v":2.4},null,null,null,null,"",1.8,4.3,2.2999999999999998,4.28,null,null,1.1000000000000001,5.7,6,2.4]
[null,null,null,null,null,null,null,null,{"$f":"IF(ISNUMBER(IF($H$2=$V$5,OFFSET(Tabelle!A30,0,0),IF($H$2=$V$6,OFFSET(Tabelle!N30,0,0),IF($H$2=$V$7,OFFSET(Tabelle!AA30,0,0),IF($H$2=$V$8,OFFSET(Tabelle!AN30,0,0)))))),IF($H$2=$V$5,OFFSET(Tabelle!A30,0,0),IF($H$2=$V$6,OFFSET(Tabelle!N30,0,0),IF($H$2=$V$7,OFFSET(Tabelle!AA30,0,0),IF($H$2=$V$8,OFFSET(Tabelle!AN30,0,0))))),\"\")","v":"2010-05-31"},{"$f":"IF(ISERROR(IF($H$2=$V$5,VLOOKUP($I30,Tabelle!$A:$B,2,0),IF($H$2=$V$6,VLOOKUP($I30,Tabelle!$N:$O,2,0),IF($H$2=$V$7,VLOOKUP($I30,Tabelle!$AA:$AB,2,0),IF($H$2=$V$8,VLOOKUP($I30,Tabelle!$AN:$AO,2,0)))))),\"\",IF($H$2=$V$5,VLOOKUP($I30,Tabelle!$A:$B,2,0),IF($H$2=$V$6,VLOOKUP($I30,Tabelle!$N:$O,2,0),IF($H$2=$V$7,VLOOKUP($I30,Tabelle!$AA:$AB,2,0),IF($H$2=$V$8,VLOOKUP($I30,Tabelle!$AN:$AO,2,0))))))","v":0.8},{"$f":"IF(ISERROR(IF($H$2=$V$5,VLOOKUP($I30,Tabelle!$A:$C,3,0),IF($H$2=$V$6,VLOOKUP($I30,Tabelle!$N:$P,3,0),IF($H$2=$V$7,VLOOKUP($I30,Tabelle!$AA:$AC,3,0),IF($H$2=$V$8,VLOOKUP($I30,Tabelle!$AN:$AP,3,0)))))),\"\",IF($H$2=$V$5,VLOOKUP($I30,Tabelle!$A:$C,3,0),IF($H$2=$V$6,VLOOKUP($I30,Tabelle!$N:$P,3,0),IF($H$2=$V$7,VLOOKUP($I30,Tabelle!$AA:$AC,3,0),IF($H$2=$V$8,VLOOKUP($I30,Tabelle!$AN:$AP,3,0))))))","v":1.9},{"$f":"IF(ISERROR(IF($H$2=$V$5,VLOOKUP($I30,Tabelle!$A:$D,4,0),IF($H$2=$V$6,VLOOKUP($I30,Tabelle!$N:$Q,4,0),IF($H$2=$V$7,VLOOKUP($I30,Tabelle!$AA:$AD,4,0),IF($H$2=$V$8,VLOOKUP($I30,Tabelle!$AN:$AQ,4,0)))))),\"\",IF($H$2=$V$5,VLOOKUP($I30,Tabelle!$A:$D,4,0),IF($H$2=$V$6,VLOOKUP($I30,Tabelle!$N:$Q,4,0),IF($H$2=$V$7,VLOOKUP($I30,Tabelle!$AA:$AD,4,0),IF($H$2=$V$8,VLOOKUP($I30,Tabelle!$AN:$AQ,4,0))))))","v":3.7},{"$f":"IF(ISERROR(IF($H$2=$V$5,VLOOKUP($I30,Tabelle!$A:$E,5,0),IF($H$2=$V$6,VLOOKUP($I30,Tabelle!$N:$R,5,0),IF($H$2=$V$7,VLOOKUP($I30,Tabelle!$AA:$AE,5,0),IF($H$2=$V$8,VLOOKUP($I30,Tabelle!$AN:$AR,5,0)))))),\"\",IF($H$2=$V$5,VLOOKUP($I30,Tabelle!$A:$E,5,0),IF($H$2=$V$6,VLOOKUP($I30,Tabelle!$N:$R,5,0),IF($H$2=$V$7,VLOOKUP($I30,Tabelle!$AA:$AE,5,0),IF($H$2=$V$8,VLOOKUP($I30,Tabelle!$AN:$AR,5,0))))))","v":2.1},{"$f":"IF(ISERROR(IF($H$2=$V$5,VLOOKUP($I30,Tabelle!$A:$F,6,0),IF($H$2=$V$6,VLOOKUP($I30,Tabelle!$N:$S,6,0),IF($H$2=$V$7,VLOOKUP($I30,Tabelle!$AA:$AF,6,0),IF($H$2=$V$8,VLOOKUP($I30,Tabelle!$AN:$AS,6,0)))))),\"\",IF($H$2=$V$5,VLOOKUP($I30,Tabelle!$A:$F,6,0),IF($H$2=$V$6,VLOOKUP($I30,Tabelle!$N:$S,6,0),IF($H$2=$V$7,VLOOKUP($I30,Tabelle!$AA:$AF,6,0),IF($H$2=$V$8,VLOOKUP($I30,Tabelle!$AN:$AS,6,0))))))","v":4.42},null,{"$f":"IF(ISNUMBER(IF($H$2=$V$5,OFFSET(Tabelle!H30,0,0),IF($H$2=$V$6,OFFSET(Tabelle!U30,0,0),IF($H$2=$V$7,OFFSET(Tabelle!AH30,0,0),IF($H$2=$V$8,OFFSET(Tabelle!AV30,0,0)))))),IF($H$2=$V$5,OFFSET(Tabelle!H30,0,0),IF($H$2=$V$6,OFFSET(Tabelle!U30,0,0),IF($H$2=$V$7,OFFSET(Tabelle!AH30,0,0),IF($H$2=$V$8,OFFSET(Tabelle!AU30,0,0))))),\"\")","v":"2010-05-31"},{"$f":"IF(ISERROR(IF($H$2=$V$5,VLOOKUP($P30,Tabelle!$H:$I,2,0),IF($H$2=$V$6,VLOOKUP($P30,Tabelle!$U:$V,2,0),IF($H$2=$V$7,VLOOKUP($P30,Tabelle!$AH:$AI,2,0),IF($H$2=$V$8,VLOOKUP($P30,Tabelle!$AU:$AV,2,0)))))),\"\",IF($H$2=$V$5,VLOOKUP($P30,Tabelle!$H:$I,2,0),IF($H$2=$V$6,VLOOKUP($P30,Tabelle!$U:$V,2,0),IF($H$2=$V$7,VLOOKUP($P30,Tabelle!$AH:$AI,2,0),IF($H$2=$V$8,VLOOKUP($P30,Tabelle!$AU:$AV,2,0))))))","v":1.2},{"$f":"IF(ISERROR(IF($H$2=$V$5,VLOOKUP($P30,Tabelle!$H:$J,3,0),IF($H$2=$V$6,VLOOKUP($P30,Tabelle!$U:$W,3,0),IF($H$2=$V$7,VLOOKUP($P30,Tabelle!$AH:$AJ,3,0),IF($H$2=$V$8,VLOOKUP($P30,Tabelle!$AU:$AW,3,0)))))),\"\",IF($H$2=$V$5,VLOOKUP($P30,Tabelle!$H:$J,3,0),IF($H$2=$V$6,VLOOKUP($P30,Tabelle!$U:$W,3,0),IF($H$2=$V$7,VLOOKUP($P30,Tabelle!$AH:$AJ,3,0),IF($H$2=$V$8,VLOOKUP($P30,Tabelle!$AU:$AW,3,0))))))","v":5.0999999999999996},{"$f":"IF(ISERROR(IF($H$2=$V$5,VLOOKUP($P30,Tabelle!$H:$K,4,0),IF($H$2=$V$6,VLOOKUP($P30,Tabelle!$U:$X,4,0),IF($H$2=$V$7,VLOOKUP($P30,Tabelle!$AH:$AK,4,0),IF($H$2=$V$8,VLOOKUP($P30,Tabelle!$AU:$AX,4,0)))))),\"\",IF($H$2=$V$5,VLOOKUP($P30,Tabelle!$H:$K,4,0),IF($H$2=$V$6,VLOOKUP($P30,Tabelle!$U:$X,4,0),IF($H$2=$V$7,VLOOKUP($P30,Tabelle!$AH:$AK,4,0),IF($H$2=$V$8,VLOOKUP($P30,Tabelle!$AU:$AX,4,0))))))","v":6},{"$f":"IF(ISERROR(IF($H$2=$V$5,VLOOKUP($P30,Tabelle!$H:$L,5,0),IF($H$2=$V$6,VLOOKUP($P30,Tabelle!$U:$Y,5,0),IF($H$2=$V$7,VLOOKUP($P30,Tabelle!$AH:$AL,5,0),IF($H$2=$V$8,VLOOKUP($P30,Tabelle!$AU:$AY,5,0)))))),\"\",IF($H$2=$V$5,VLOOKUP($P30,Tabelle!$H:$L,5,0),IF($H$2=$V$6,VLOOKUP($P30,Tabelle!$U:$Y,5,0),IF($H$2=$V$7,VLOOKUP($P30,Tabelle!$AH:$AL,5,0),IF($H$2=$V$8,VLOOKUP($P30,Tabelle!$AU:$AY,5,0))))))","v":2.2000000000000002},null,null,null,null,"",1.9,3.7,2.1,4.42,null,null,1.2,5.0999999999999996,6,2.2000000000000002]
[null,null,null,null,null,null,null,null,{"$f":"IF(ISNUMBER(IF($H$2=$V$5,OFFSET(Tabelle!A31,0,0),IF($H$2=$V$6,OFFSET(Tabelle!N31,0,0),IF($H$2=$V$7,OFFSET(Tabelle!AA31,0,0),IF($H$2=$V$8,OFFSET(Tabelle!AN31,0,0)))))),IF($H$2=$V$5,OFFSET(Tabelle!A31,0,0),IF($H$2=$V$6,OFFSET(Tabelle!N31,0,0),IF($H$2=$V$7,OFFSET(Tabelle!AA31,0,0),IF($H$2=$V$8,OFFSET(Tabelle!AN31,0,0))))),\"\")","v":"2010-06-30"},{"$f":"IF(ISERROR(IF($H$2=$V$5,VLOOKUP($I31,Tabelle!$A:$B,2,0),IF($H$2=$V$6,VLOOKUP($I31,Tabelle!$N:$O,2,0),IF($H$2=$V$7,VLOOKUP($I31,Tabelle!$AA:$AB,2,0),IF($H$2=$V$8,VLOOKUP($I31,Tabelle!$AN:$AO,2,0)))))),\"\",IF($H$2=$V$5,VLOOKUP($I31,Tabelle!$A:$B,2,0),IF($H$2=$V$6,VLOOKUP($I31,Tabelle!$N:$O,2,0),IF($H$2=$V$7,VLOOKUP($I31,Tabelle!$AA:$AB,2,0),IF($H$2=$V$8,VLOOKUP($I31,Tabelle!$AN:$AO,2,0))))))","v":0.7},{"$f":"IF(ISERROR(IF($H$2=$V$5,VLOOKUP($I31,Tabelle!$A:$C,3,0),IF($H$2=$V$6,VLOOKUP($I31,Tabelle!$N:$P,3,0),IF($H$2=$V$7,VLOOKUP($I31,Tabelle!$AA:$AC,3,0),IF($H$2=$V$8,VLOOKUP($I31,Tabelle!$AN:$AP,3,0)))))),\"\",IF($H$2=$V$5,VLOOKUP($I31,Tabelle!$A:$C,3,0),IF($H$2=$V$6,VLOOKUP($I31,Tabelle!$N:$P,3,0),IF($H$2=$V$7,VLOOKUP($I31,Tabelle!$AA:$AC,3,0),IF($H$2=$V$8,VLOOKUP($I31,Tabelle!$AN:$AP,3,0))))))","v":1.4},{"$f":"IF(ISERROR(IF($H$2=$V$5,VLOOKUP($I31,Tabelle!$A:$D,4,0),IF($H$2=$V$6,VLOOKUP($I31,Tabelle!$N:$Q,4,0),IF($H$2=$V$7,VLOOKUP($I31,Tabelle!$AA:$AD,4,0),IF($H$2=$V$8,VLOOKUP($I31,Tabelle!$AN:$AQ,4,0)))))),\"\",IF($H$2=$V$5,VLOOKUP($I31,Tabelle!$A:$D,4,0),IF($H$2=$V$6,VLOOKUP($I31,Tabelle!$N:$Q,4,0),IF($H$2=$V$7,VLOOKUP($I31,Tabelle!$AA:$AD,4,0),IF($H$2=$V$8,VLOOKUP($I31,Tabelle!$AN:$AQ,4,0))))))","v":4.2},{"$f":"IF(ISERROR(IF($H$2=$V$5,VLOOKUP($I31,Tabelle!$A:$E,5,0),IF($H$2=$V$6,VLOOKUP($I31,Tabelle!$N:$R,5,0),IF($H$2=$V$7,VLOOKUP($I31,Tabelle!$AA:$AE,5,0),IF($H$2=$V$8,VLOOKUP($I31,Tabelle!$AN:$AR,5,0)))))),\"\",IF($H$2=$V$5,VLOOKUP($I31,Tabelle!$A:$E,5,0),IF($H$2=$V$6,VLOOKUP($I31,Tabelle!$N:$R,5,0),IF($H$2=$V$7,VLOOKUP($I31,Tabelle!$AA:$AE,5,0),IF($H$2=$V$8,VLOOKUP($I31,Tabelle!$AN:$AR,5,0))))))","v":1.9},{"$f":"IF(ISERROR(IF($H$2=$V$5,VLOOKUP($I31,Tabelle!$A:$F,6,0),IF($H$2=$V$6,VLOOKUP($I31,Tabelle!$N:$S,6,0),IF($H$2=$V$7,VLOOKUP($I31,Tabelle!$AA:$AF,6,0),IF($H$2=$V$8,VLOOKUP($I31,Tabelle!$AN:$AS,6,0)))))),\"\",IF($H$2=$V$5,VLOOKUP($I31,Tabelle!$A:$F,6,0),IF($H$2=$V$6,VLOOKUP($I31,Tabelle!$N:$S,6,0),IF($H$2=$V$7,VLOOKUP($I31,Tabelle!$AA:$AF,6,0),IF($H$2=$V$8,VLOOKUP($I31,Tabelle!$AN:$AS,6,0))))))","v":4.4000000000000004},null,{"$f":"IF(ISNUMBER(IF($H$2=$V$5,OFFSET(Tabelle!H31,0,0),IF($H$2=$V$6,OFFSET(Tabelle!U31,0,0),IF($H$2=$V$7,OFFSET(Tabelle!AH31,0,0),IF($H$2=$V$8,OFFSET(Tabelle!AV31,0,0)))))),IF($H$2=$V$5,OFFSET(Tabelle!H31,0,0),IF($H$2=$V$6,OFFSET(Tabelle!U31,0,0),IF($H$2=$V$7,OFFSET(Tabelle!AH31,0,0),IF($H$2=$V$8,OFFSET(Tabelle!AU31,0,0))))),\"\")","v":"2010-06-30"},{"$f":"IF(ISERROR(IF($H$2=$V$5,VLOOKUP($P31,Tabelle!$H:$I,2,0),IF($H$2=$V$6,VLOOKUP($P31,Tabelle!$U:$V,2,0),IF($H$2=$V$7,VLOOKUP($P31,Tabelle!$AH:$AI,2,0),IF($H$2=$V$8,VLOOKUP($P31,Tabelle!$AU:$AV,2,0)))))),\"\",IF($H$2=$V$5,VLOOKUP($P31,Tabelle!$H:$I,2,0),IF($H$2=$V$6,VLOOKUP($P31,Tabelle!$U:$V,2,0),IF($H$2=$V$7,VLOOKUP($P31,Tabelle!$AH:$AI,2,0),IF($H$2=$V$8,VLOOKUP($P31,Tabelle!$AU:$AV,2,0))))))","v":1.2},{"$f":"IF(ISERROR(IF($H$2=$V$5,VLOOKUP($P31,Tabelle!$H:$J,3,0),IF($H$2=$V$6,VLOOKUP($P31,Tabelle!$U:$W,3,0),IF($H$2=$V$7,VLOOKUP($P31,Tabelle!$AH:$AJ,3,0),IF($H$2=$V$8,VLOOKUP($P31,Tabelle!$AU:$AW,3,0)))))),\"\",IF($H$2=$V$5,VLOOKUP($P31,Tabelle!$H:$J,3,0),IF($H$2=$V$6,VLOOKUP($P31,Tabelle!$U:$W,3,0),IF($H$2=$V$7,VLOOKUP($P31,Tabelle!$AH:$AJ,3,0),IF($H$2=$V$8,VLOOKUP($P31,Tabelle!$AU:$AW,3,0))))))","v":5.3},{"$f":"IF(ISERROR(IF($H$2=$V$5,VLOOKUP($P31,Tabelle!$H:$K,4,0),IF($H$2=$V$6,VLOOKUP($P31,Tabelle!$U:$X,4,0),IF($H$2=$V$7,VLOOKUP($P31,Tabelle!$AH:$AK,4,0),IF($H$2=$V$8,VLOOKUP($P31,Tabelle!$AU:$AX,4,0)))))),\"\",IF($H$2=$V$5,VLOOKUP($P31,Tabelle!$H:$K,4,0),IF($H$2=$V$6,VLOOKUP($P31,Tabelle!$U:$X,4,0),IF($H$2=$V$7,VLOOKUP($P31,Tabelle!$AH:$AK,4,0),IF($H$2=$V$8,VLOOKUP($P31,Tabelle!$AU:$AX,4,0))))))","v":5.8},{"$f":"IF(ISERROR(IF($H$2=$V$5,VLOOKUP($P31,Tabelle!$H:$L,5,0),IF($H$2=$V$6,VLOOKUP($P31,Tabelle!$U:$Y,5,0),IF($H$2=$V$7,VLOOKUP($P31,Tabelle!$AH:$AL,5,0),IF($H$2=$V$8,VLOOKUP($P31,Tabelle!$AU:$AY,5,0)))))),\"\",IF($H$2=$V$5,VLOOKUP($P31,Tabelle!$H:$L,5,0),IF($H$2=$V$6,VLOOKUP($P31,Tabelle!$U:$Y,5,0),IF($H$2=$V$7,VLOOKUP($P31,Tabelle!$AH:$AL,5,0),IF($H$2=$V$8,VLOOKUP($P31,Tabelle!$AU:$AY,5,0))))))","v":2.2999999999999998},null,null,null,null,"",1.4,4.2,1.9,4.4000000000000004,null,null,1.2,5.3,5.8,2.2999999999999998]
[null,null,null,null,null,null,null,null,{"$f":"IF(ISNUMBER(IF($H$2=$V$5,OFFSET(Tabelle!A32,0,0),IF($H$2=$V$6,OFFSET(Tabelle!N32,0,0),IF($H$2=$V$7,OFFSET(Tabelle!AA32,0,0),IF($H$2=$V$8,OFFSET(Tabelle!AN32,0,0)))))),IF($H$2=$V$5,OFFSET(Tabelle!A32,0,0),IF($H$2=$V$6,OFFSET(Tabelle!N32,0,0),IF($H$2=$V$7,OFFSET(Tabelle!AA32,0,0),IF($H$2=$V$8,OFFSET(Tabelle!AN32,0,0))))),\"\")","v":"2010-07-31"},{"$f":"IF(ISERROR(IF($H$2=$V$5,VLOOKUP($I32,Tabelle!$A:$B,2,0),IF($H$2=$V$6,VLOOKUP($I32,Tabelle!$N:$O,2,0),IF($H$2=$V$7,VLOOKUP($I32,Tabelle!$AA:$AB,2,0),IF($H$2=$V$8,VLOOKUP($I32,Tabelle!$AN:$AO,2,0)))))),\"\",IF($H$2=$V$5,VLOOKUP($I32,Tabelle!$A:$B,2,0),IF($H$2=$V$6,VLOOKUP($I32,Tabelle!$N:$O,2,0),IF($H$2=$V$7,VLOOKUP($I32,Tabelle!$AA:$AB,2,0),IF($H$2=$V$8,VLOOKUP($I32,Tabelle!$AN:$AO,2,0))))))","v":1},{"$f":"IF(ISERROR(IF($H$2=$V$5,VLOOKUP($I32,Tabelle!$A:$C,3,0),IF($H$2=$V$6,VLOOKUP($I32,Tabelle!$N:$P,3,0),IF($H$2=$V$7,VLOOKUP($I32,Tabelle!$AA:$AC,3,0),IF($H$2=$V$8,VLOOKUP($I32,Tabelle!$AN:$AP,3,0)))))),\"\",IF($H$2=$V$5,VLOOKUP($I32,Tabelle!$A:$C,3,0),IF($H$2=$V$6,VLOOKUP($I32,Tabelle!$N:$P,3,0),IF($H$2=$V$7,VLOOKUP($I32,Tabelle!$AA:$AC,3,0),IF($H$2=$V$8,VLOOKUP($I32,Tabelle!$AN:$AP,3,0))))))","v":2.4},{"$f":"IF(ISERROR(IF($H$2=$V$5,VLOOKUP($I32,Tabelle!$A:$D,4,0),IF($H$2=$V$6,VLOOKUP($I32,Tabelle!$N:$Q,4,0),IF($H$2=$V$7,VLOOKUP($I32,Tabelle!$AA:$AD,4,0),IF($H$2=$V$8,VLOOKUP($I32,Tabelle!$AN:$AQ,4,0)))))),\"\",IF($H$2=$V$5,VLOOKUP($I32,Tabelle!$A:$D,4,0),IF($H$2=$V$6,VLOOKUP($I32,Tabelle!$N:$Q,4,0),IF($H$2=$V$7,VLOOKUP($I32,Tabelle!$AA:$AD,4,0),IF($H$2=$V$8,VLOOKUP($I32,Tabelle!$AN:$AQ,4,0))))))","v":5.0999999999999996},{"$f":"IF(ISERROR(IF($H$2=$V$5,VLOOKUP($I32,Tabelle!$A:$E,5,0),IF($H$2=$V$6,VLOOKUP($I32,Tabelle!$N:$R,5,0),IF($H$2=$V$7,VLOOKUP($I32,Tabelle!$AA:$AE,5,0),IF($H$2=$V$8,VLOOKUP($I32,Tabelle!$AN:$AR,5,0)))))),\"\",IF($H$2=$V$5,VLOOKUP($I32,Tabelle!$A:$E,5,0),IF($H$2=$V$6,VLOOKUP($I32,Tabelle!$N:$R,5,0),IF($H$2=$V$7,VLOOKUP($I32,Tabelle!$AA:$AE,5,0),IF($H$2=$V$8,VLOOKUP($I32,Tabelle!$AN:$AR,5,0))))))","v":2.1},{"$f":"IF(ISERROR(IF($H$2=$V$5,VLOOKUP($I32,Tabelle!$A:$F,6,0),IF($H$2=$V$6,VLOOKUP($I32,Tabelle!$N:$S,6,0),IF($H$2=$V$7,VLOOKUP($I32,Tabelle!$AA:$AF,6,0),IF($H$2=$V$8,VLOOKUP($I32,Tabelle!$AN:$AS,6,0)))))),\"\",IF($H$2=$V$5,VLOOKUP($I32,Tabelle!$A:$F,6,0),IF($H$2=$V$6,VLOOKUP($I32,Tabelle!$N:$S,6,0),IF($H$2=$V$7,VLOOKUP($I32,Tabelle!$AA:$AF,6,0),IF($H$2=$V$8,VLOOKUP($I32,Tabelle!$AN:$AS,6,0))))))","v":7.14},null,{"$f":"IF(ISNUMBER(IF($H$2=$V$5,OFFSET(Tabelle!H32,0,0),IF($H$2=$V$6,OFFSET(Tabelle!U32,0,0),IF($H$2=$V$7,OFFSET(Tabelle!AH32,0,0),IF($H$2=$V$8,OFFSET(Tabelle!AV32,0,0)))))),IF($H$2=$V$5,OFFSET(Tabelle!H32,0,0),IF($H$2=$V$6,OFFSET(Tabelle!U32,0,0),IF($H$2=$V$7,OFFSET(Tabelle!AH32,0,0),IF($H$2=$V$8,OFFSET(Tabelle!AU32,0,0))))),\"\")","v":"2010-07-31"},{"$f":"IF(ISERROR(IF($H$2=$V$5,VLOOKUP($P32,Tabelle!$H:$I,2,0),IF($H$2=$V$6,VLOOKUP($P32,Tabelle!$U:$V,2,0),IF($H$2=$V$7,VLOOKUP($P32,Tabelle!$AH:$AI,2,0),IF($H$2=$V$8,VLOOKUP($P32,Tabelle!$AU:$AV,2,0)))))),\"\",IF($H$2=$V$5,VLOOKUP($P32,Tabelle!$H:$I,2,0),IF($H$2=$V$6,VLOOKUP($P32,Tabelle!$U:$V,2,0),IF($H$2=$V$7,VLOOKUP($P32,Tabelle!$AH:$AI,2,0),IF($H$2=$V$8,VLOOKUP($P32,Tabelle!$AU:$AV,2,0))))))","v":1.9},{"$f":"IF(ISERROR(IF($H$2=$V$5,VLOOKUP($P32,Tabelle!$H:$J,3,0),IF($H$2=$V$6,VLOOKUP($P32,Tabelle!$U:$W,3,0),IF($H$2=$V$7,VLOOKUP($P32,Tabelle!$AH:$AJ,3,0),IF($H$2=$V$8,VLOOKUP($P32,Tabelle!$AU:$AW,3,0)))))),\"\",IF($H$2=$V$5,VLOOKUP($P32,Tabelle!$H:$J,3,0),IF($H$2=$V$6,VLOOKUP($P32,Tabelle!$U:$W,3,0),IF($H$2=$V$7,VLOOKUP($P32,Tabelle!$AH:$AJ,3,0),IF($H$2=$V$8,VLOOKUP($P32,Tabelle!$AU:$AW,3,0))))))","v":4},{"$f":"IF(ISERROR(IF($H$2=$V$5,VLOOKUP($P32,Tabelle!$H:$K,4,0),IF($H$2=$V$6,VLOOKUP($P32,Tabelle!$U:$X,4,0),IF($H$2=$V$7,VLOOKUP($P32,Tabelle!$AH:$AK,4,0),IF($H$2=$V$8,VLOOKUP($P32,Tabelle!$AU:$AX,4,0)))))),\"\",IF($H$2=$V$5,VLOOKUP($P32,Tabelle!$H:$K,4,0),IF($H$2=$V$6,VLOOKUP($P32,Tabelle!$U:$X,4,0),IF($H$2=$V$7,VLOOKUP($P32,Tabelle!$AH:$AK,4,0),IF($H$2=$V$8,VLOOKUP($P32,Tabelle!$AU:$AX,4,0))))))","v":5.5},{"$f":"IF(ISERROR(IF($H$2=$V$5,VLOOKUP($P32,Tabelle!$H:$L,5,0),IF($H$2=$V$6,VLOOKUP($P32,Tabelle!$U:$Y,5,0),IF($H$2=$V$7,VLOOKUP($P32,Tabelle!$AH:$AL,5,0),IF($H$2=$V$8,VLOOKUP($P32,Tabelle!$AU:$AY,5,0)))))),\"\",IF($H$2=$V$5,VLOOKUP($P32,Tabelle!$H:$L,5,0),IF($H$2=$V$6,VLOOKUP($P32,Tabelle!$U:$Y,5,0),IF($H$2=$V$7,VLOOKUP($P32,Tabelle!$AH:$AL,5,0),IF($H$2=$V$8,VLOOKUP($P32,Tabelle!$AU:$AY,5,0))))))","v":2},null,null,null,null,"",2.4,5.0999999999999996,2.1,7.14,null,null,1.9,4,5.5,2]
[null,null,null,null,null,null,null,null,{"$f":"IF(ISNUMBER(IF($H$2=$V$5,OFFSET(Tabelle!A33,0,0),IF($H$2=$V$6,OFFSET(Tabelle!N33,0,0),IF($H$2=$V$7,OFFSET(Tabelle!AA33,0,0),IF($H$2=$V$8,OFFSET(Tabelle!AN33,0,0)))))),IF($H$2=$V$5,OFFSET(Tabelle!A33,0,0),IF($H$2=$V$6,OFFSET(Tabelle!N33,0,0),IF($H$2=$V$7,OFFSET(Tabelle!AA33,0,0),IF($H$2=$V$8,OFFSET(Tabelle!AN33,0,0))))),\"\")","v":"2010-08-31"},{"$f":"IF(ISERROR(IF($H$2=$V$5,VLOOKUP($I33,Tabelle!$A:$B,2,0),IF($H$2=$V$6,VLOOKUP($I33,Tabelle!$N:$O,2,0),IF($H$2=$V$7,VLOOKUP($I33,Tabelle!$AA:$AB,2,0),IF($H$2=$V$8,VLOOKUP($I33,Tabelle!$AN:$AO,2,0)))))),\"\",IF($H$2=$V$5,VLOOKUP($I33,Tabelle!$A:$B,2,0),IF($H$2=$V$6,VLOOKUP($I33,Tabelle!$N:$O,2,0),IF($H$2=$V$7,VLOOKUP($I33,Tabelle!$AA:$AB,2,0),IF($H$2=$V$8,VLOOKUP($I33,Tabelle!$AN:$AO,2,0))))))","v":0.9},{"$f":"IF(ISERROR(IF($H$2=$V$5,VLOOKUP($I33,Tabelle!$A:$C,3,0),IF($H$2=$V$6,VLOOKUP($I33,Tabelle!$N:$P,3,0),IF($H$2=$V$7,VLOOKUP($I33,Tabelle!$AA:$AC,3,0),IF($H$2=$V$8,VLOOKUP($I33,Tabelle!$AN:$AP,3,0)))))),\"\",IF($H$2=$V$5,VLOOKUP($I33,Tabelle!$A:$C,3,0),IF($H$2=$V$6,VLOOKUP($I33,Tabelle!$N:$P,3,0),IF($H$2=$V$7,VLOOKUP($I33,Tabelle!$AA:$AC,3,0),IF($H$2=$V$8,VLOOKUP($I33,Tabelle!$AN:$AP,3,0))))))","v":2.7},{"$f":"IF(ISERROR(IF($H$2=$V$5,VLOOKUP($I33,Tabelle!$A:$D,4,0),IF($H$2=$V$6,VLOOKUP($I33,Tabelle!$N:$Q,4,0),IF($H$2=$V$7,VLOOKUP($I33,Tabelle!$AA:$AD,4,0),IF($H$2=$V$8,VLOOKUP($I33,Tabelle!$AN:$AQ,4,0)))))),\"\",IF($H$2=$V$5,VLOOKUP($I33,Tabelle!$A:$D,4,0),IF($H$2=$V$6,VLOOKUP($I33,Tabelle!$N:$Q,4,0),IF($H$2=$V$7,VLOOKUP($I33,Tabelle!$AA:$AD,4,0),IF($H$2=$V$8,VLOOKUP($I33,Tabelle!$AN:$AQ,4,0))))))","v":6.6},{"$f":"IF(ISERROR(IF($H$2=$V$5,VLOOKUP($I33,Tabelle!$A:$E,5,0),IF($H$2=$V$6,VLOOKUP($I33,Tabelle!$N:$R,5,0),IF($H$2=$V$7,VLOOKUP($I33,Tabelle!$AA:$AE,5,0),IF($H$2=$V$8,VLOOKUP($I33,Tabelle!$AN:$AR,5,0)))))),\"\",IF($H$2=$V$5,VLOOKUP($I33,Tabelle!$A:$E,5,0),IF($H$2=$V$6,VLOOKUP($I33,Tabelle!$N:$R,5,0),IF($H$2=$V$7,VLOOKUP($I33,Tabelle!$AA:$AE,5,0),IF($H$2=$V$8,VLOOKUP($I33,Tabelle!$AN:$AR,5,0))))))","v":2.2999999999999998},{"$f":"IF(ISERROR(IF($H$2=$V$5,VLOOKUP($I33,Tabelle!$A:$F,6,0),IF($H$2=$V$6,VLOOKUP($I33,Tabelle!$N:$S,6,0),IF($H$2=$V$7,VLOOKUP($I33,Tabelle!$AA:$AF,6,0),IF($H$2=$V$8,VLOOKUP($I33,Tabelle!$AN:$AS,6,0)))))),\"\",IF($H$2=$V$5,VLOOKUP($I33,Tabelle!$A:$F,6,0),IF($H$2=$V$6,VLOOKUP($I33,Tabelle!$N:$S,6,0),IF($H$2=$V$7,VLOOKUP($I33,Tabelle!$AA:$AF,6,0),IF($H$2=$V$8,VLOOKUP($I33,Tabelle!$AN:$AS,6,0))))))","v":7.58},null,{"$f":"IF(ISNUMBER(IF($H$2=$V$5,OFFSET(Tabelle!H33,0,0),IF($H$2=$V$6,OFFSET(Tabelle!U33,0,0),IF($H$2=$V$7,OFFSET(Tabelle!AH33,0,0),IF($H$2=$V$8,OFFSET(Tabelle!AV33,0,0)))))),IF($H$2=$V$5,OFFSET(Tabelle!H33,0,0),IF($H$2=$V$6,OFFSET(Tabelle!U33,0,0),IF($H$2=$V$7,OFFSET(Tabelle!AH33,0,0),IF($H$2=$V$8,OFFSET(Tabelle!AU33,0,0))))),\"\")","v":"2010-08-31"},{"$f":"IF(ISERROR(IF($H$2=$V$5,VLOOKUP($P33,Tabelle!$H:$I,2,0),IF($H$2=$V$6,VLOOKUP($P33,Tabelle!$U:$V,2,0),IF($H$2=$V$7,VLOOKUP($P33,Tabelle!$AH:$AI,2,0),IF($H$2=$V$8,VLOOKUP($P33,Tabelle!$AU:$AV,2,0)))))),\"\",IF($H$2=$V$5,VLOOKUP($P33,Tabelle!$H:$I,2,0),IF($H$2=$V$6,VLOOKUP($P33,Tabelle!$U:$V,2,0),IF($H$2=$V$7,VLOOKUP($P33,Tabelle!$AH:$AI,2,0),IF($H$2=$V$8,VLOOKUP($P33,Tabelle!$AU:$AV,2,0))))))","v":1.9},{"$f":"IF(ISERROR(IF($H$2=$V$5,VLOOKUP($P33,Tabelle!$H:$J,3,0),IF($H$2=$V$6,VLOOKUP($P33,Tabelle!$U:$W,3,0),IF($H$2=$V$7,VLOOKUP($P33,Tabelle!$AH:$AJ,3,0),IF($H$2=$V$8,VLOOKUP($P33,Tabelle!$AU:$AW,3,0)))))),\"\",IF($H$2=$V$5,VLOOKUP($P33,Tabelle!$H:$J,3,0),IF($H$2=$V$6,VLOOKUP($P33,Tabelle!$U:$W,3,0),IF($H$2=$V$7,VLOOKUP($P33,Tabelle!$AH:$AJ,3,0),IF($H$2=$V$8,VLOOKUP($P33,Tabelle!$AU:$AW,3,0))))))","v":3.7},{"$f":"IF(ISERROR(IF($H$2=$V$5,VLOOKUP($P33,Tabelle!$H:$K,4,0),IF($H$2=$V$6,VLOOKUP($P33,Tabelle!$U:$X,4,0),IF($H$2=$V$7,VLOOKUP($P33,Tabelle!$AH:$AK,4,0),IF($H$2=$V$8,VLOOKUP($P33,Tabelle!$AU:$AX,4,0)))))),\"\",IF($H$2=$V$5,VLOOKUP($P33,Tabelle!$H:$K,4,0),IF($H$2=$V$6,VLOOKUP($P33,Tabelle!$U:$X,4,0),IF($H$2=$V$7,VLOOKUP($P33,Tabelle!$AH:$AK,4,0),IF($H$2=$V$8,VLOOKUP($P33,Tabelle!$AU:$AX,4,0))))))","v":6.1},{"$f":"IF(ISERROR(IF($H$2=$V$5,VLOOKUP($P33,Tabelle!$H:$L,5,0),IF($H$2=$V$6,VLOOKUP($P33,Tabelle!$U:$Y,5,0),IF($H$2=$V$7,VLOOKUP($P33,Tabelle!$AH:$AL,5,0),IF($H$2=$V$8,VLOOKUP($P33,Tabelle!$AU:$AY,5,0)))))),\"\",IF($H$2=$V$5,VLOOKUP($P33,Tabelle!$H:$L,5,0),IF($H$2=$V$6,VLOOKUP($P33,Tabelle!$U:$Y,5,0),IF($H$2=$V$7,VLOOKUP($P33,Tabelle!$AH:$AL,5,0),IF($H$2=$V$8,VLOOKUP($P33,Tabelle!$AU:$AY,5,0))))))","v":2},null,null,null,null,"",2.7,6.6,2.2999999999999998,7.58,null,null,1.9,3.7,6.1,2]
[null,null,null,null,null,null,null,null,{"$f":"IF(ISNUMBER(IF($H$2=$V$5,OFFSET(Tabelle!A34,0,0),IF($H$2=$V$6,OFFSET(Tabelle!N34,0,0),IF($H$2=$V$7,OFFSET(Tabelle!AA34,0,0),IF($H$2=$V$8,OFFSET(Tabelle!AN34,0,0)))))),IF($H$2=$V$5,OFFSET(Tabelle!A34,0,0),IF($H$2=$V$6,OFFSET(Tabelle!N34,0,0),IF($H$2=$V$7,OFFSET(Tabelle!AA34,0,0),IF($H$2=$V$8,OFFSET(Tabelle!AN34,0,0))))),\"\")","v":"2010-09-30"},{"$f":"IF(ISERROR(IF($H$2=$V$5,VLOOKUP($I34,Tabelle!$A:$B,2,0),IF($H$2=$V$6,VLOOKUP($I34,Tabelle!$N:$O,2,0),IF($H$2=$V$7,VLOOKUP($I34,Tabelle!$AA:$AB,2,0),IF($H$2=$V$8,VLOOKUP($I34,Tabelle!$AN:$AO,2,0)))))),\"\",IF($H$2=$V$5,VLOOKUP($I34,Tabelle!$A:$B,2,0),IF($H$2=$V$6,VLOOKUP($I34,Tabelle!$N:$O,2,0),IF($H$2=$V$7,VLOOKUP($I34,Tabelle!$AA:$AB,2,0),IF($H$2=$V$8,VLOOKUP($I34,Tabelle!$AN:$AO,2,0))))))","v":1.4},{"$f":"IF(ISERROR(IF($H$2=$V$5,VLOOKUP($I34,Tabelle!$A:$C,3,0),IF($H$2=$V$6,VLOOKUP($I34,Tabelle!$N:$P,3,0),IF($H$2=$V$7,VLOOKUP($I34,Tabelle!$AA:$AC,3,0),IF($H$2=$V$8,VLOOKUP($I34,Tabelle!$AN:$AP,3,0)))))),\"\",IF($H$2=$V$5,VLOOKUP($I34,Tabelle!$A:$C,3,0),IF($H$2=$V$6,VLOOKUP($I34,Tabelle!$N:$P,3,0),IF($H$2=$V$7,VLOOKUP($I34,Tabelle!$AA:$AC,3,0),IF($H$2=$V$8,VLOOKUP($I34,Tabelle!$AN:$AP,3,0))))))","v":3.5},{"$f":"IF(ISERROR(IF($H$2=$V$5,VLOOKUP($I34,Tabelle!$A:$D,4,0),IF($H$2=$V$6,VLOOKUP($I34,Tabelle!$N:$Q,4,0),IF($H$2=$V$7,VLOOKUP($I34,Tabelle!$AA:$AD,4,0),IF($H$2=$V$8,VLOOKUP($I34,Tabelle!$AN:$AQ,4,0)))))),\"\",IF($H$2=$V$5,VLOOKUP($I34,Tabelle!$A:$D,4,0),IF($H$2=$V$6,VLOOKUP($I34,Tabelle!$N:$Q,4,0),IF($H$2=$V$7,VLOOKUP($I34,Tabelle!$AA:$AD,4,0),IF($H$2=$V$8,VLOOKUP($I34,Tabelle!$AN:$AQ,4,0))))))","v":7.7},{"$f":"IF(ISERROR(IF($H$2=$V$5,VLOOKUP($I34,Tabelle!$A:$E,5,0),IF($H$2=$V$6,VLOOKUP($I34,Tabelle!$N:$R,5,0),IF($H$2=$V$7,VLOOKUP($I34,Tabelle!$AA:$AE,5,0),IF($H$2=$V$8,VLOOKUP($I34,Tabelle!$AN:$AR,5,0)))))),\"\",IF($H$2=$V$5,VLOOKUP($I34,Tabelle!$A:$E,5,0),IF($H$2=$V$6,VLOOKUP($I34,Tabelle!$N:$R,5,0),IF($H$2=$V$7,VLOOKUP($I34,Tabelle!$AA:$AE,5,0),IF($H$2=$V$8,VLOOKUP($I34,Tabelle!$AN:$AR,5,0))))))","v":2},{"$f":"IF(ISERROR(IF($H$2=$V$5,VLOOKUP($I34,Tabelle!$A:$F,6,0),IF($H$2=$V$6,VLOOKUP($I34,Tabelle!$N:$S,6,0),IF($H$2=$V$7,VLOOKUP($I34,Tabelle!$AA:$AF,6,0),IF($H$2=$V$8,VLOOKUP($I34,Tabelle!$AN:$AS,6,0)))))),\"\",IF($H$2=$V$5,VLOOKUP($I34,Tabelle!$A:$F,6,0),IF($H$2=$V$6,VLOOKUP($I34,Tabelle!$N:$S,6,0),IF($H$2=$V$7,VLOOKUP($I34,Tabelle!$AA:$AF,6,0),IF($H$2=$V$8,VLOOKUP($I34,Tabelle!$AN:$AS,6,0))))))","v":7.77},null,{"$f":"IF(ISNUMBER(IF($H$2=$V$5,OFFSET(Tabelle!H34,0,0),IF($H$2=$V$6,OFFSET(Tabelle!U34,0,0),IF($H$2=$V$7,OFFSET(Tabelle!AH34,0,0),IF($H$2=$V$8,OFFSET(Tabelle!AV34,0,0)))))),IF($H$2=$V$5,OFFSET(Tabelle!H34,0,0),IF($H$2=$V$6,OFFSET(Tabelle!U34,0,0),IF($H$2=$V$7,OFFSET(Tabelle!AH34,0,0),IF($H$2=$V$8,OFFSET(Tabelle!AU34,0,0))))),\"\")","v":"2010-09-30"},{"$f":"IF(ISERROR(IF($H$2=$V$5,VLOOKUP($P34,Tabelle!$H:$I,2,0),IF($H$2=$V$6,VLOOKUP($P34,Tabelle!$U:$V,2,0),IF($H$2=$V$7,VLOOKUP($P34,Tabelle!$AH:$AI,2,0),IF($H$2=$V$8,VLOOKUP($P34,Tabelle!$AU:$AV,2,0)))))),\"\",IF($H$2=$V$5,VLOOKUP($P34,Tabelle!$H:$I,2,0),IF($H$2=$V$6,VLOOKUP($P34,Tabelle!$U:$V,2,0),IF($H$2=$V$7,VLOOKUP($P34,Tabelle!$AH:$AI,2,0),IF($H$2=$V$8,VLOOKUP($P34,Tabelle!$AU:$AV,2,0))))))","v":2},{"$f":"IF(ISERROR(IF($H$2=$V$5,VLOOKUP($P34,Tabelle!$H:$J,3,0),IF($H$2=$V$6,VLOOKUP($P34,Tabelle!$U:$W,3,0),IF($H$2=$V$7,VLOOKUP($P34,Tabelle!$AH:$AJ,3,0),IF($H$2=$V$8,VLOOKUP($P34,Tabelle!$AU:$AW,3,0)))))),\"\",IF($H$2=$V$5,VLOOKUP($P34,Tabelle!$H:$J,3,0),IF($H$2=$V$6,VLOOKUP($P34,Tabelle!$U:$W,3,0),IF($H$2=$V$7,VLOOKUP($P34,Tabelle!$AH:$AJ,3,0),IF($H$2=$V$8,VLOOKUP($P34,Tabelle!$AU:$AW,3,0))))))","v":3.8},{"$f":"IF(ISERROR(IF($H$2=$V$5,VLOOKUP($P34,Tabelle!$H:$K,4,0),IF($H$2=$V$6,VLOOKUP($P34,Tabelle!$U:$X,4,0),IF($H$2=$V$7,VLOOKUP($P34,Tabelle!$AH:$AK,4,0),IF($H$2=$V$8,VLOOKUP($P34,Tabelle!$AU:$AX,4,0)))))),\"\",IF($H$2=$V$5,VLOOKUP($P34,Tabelle!$H:$K,4,0),IF($H$2=$V$6,VLOOKUP($P34,Tabelle!$U:$X,4,0),IF($H$2=$V$7,VLOOKUP($P34,Tabelle!$AH:$AK,4,0),IF($H$2=$V$8,VLOOKUP($P34,Tabelle!$AU:$AX,4,0))))))","v":7},{"$f":"IF(ISERROR(IF($H$2=$V$5,VLOOKUP($P34,Tabelle!$H:$L,5,0),IF($H$2=$V$6,VLOOKUP($P34,Tabelle!$U:$Y,5,0),IF($H$2=$V$7,VLOOKUP($P34,Tabelle!$AH:$AL,5,0),IF($H$2=$V$8,VLOOKUP($P34,Tabelle!$AU:$AY,5,0)))))),\"\",IF($H$2=$V$5,VLOOKUP($P34,Tabelle!$H:$L,5,0),IF($H$2=$V$6,VLOOKUP($P34,Tabelle!$U:$Y,5,0),IF($H$2=$V$7,VLOOKUP($P34,Tabelle!$AH:$AL,5,0),IF($H$2=$V$8,VLOOKUP($P34,Tabelle!$AU:$AY,5,0))))))","v":2.5},null,null,null,null,"",3.5,7.7,2,7.77,null,null,2,3.8,7,2.5]
[null,null,null,null,null,null,null,null,{"$f":"IF(ISNUMBER(IF($H$2=$V$5,OFFSET(Tabelle!A35,0,0),IF($H$2=$V$6,OFFSET(Tabelle!N35,0,0),IF($H$2=$V$7,OFFSET(Tabelle!AA35,0,0),IF($H$2=$V$8,OFFSET(Tabelle!AN35,0,0)))))),IF($H$2=$V$5,OFFSET(Tabelle!A35,0,0),IF($H$2=$V$6,OFFSET(Tabelle!N35,0,0),IF($H$2=$V$7,OFFSET(Tabelle!AA35,0,0),IF($H$2=$V$8,OFFSET(Tabelle!AN35,0,0))))),\"\")","v":"2010-10-31"},{"$f":"IF(ISERROR(IF($H$2=$V$5,VLOOKUP($I35,Tabelle!$A:$B,2,0),IF($H$2=$V$6,VLOOKUP($I35,Tabelle!$N:$O,2,0),IF($H$2=$V$7,VLOOKUP($I35,Tabelle!$AA:$AB,2,0),IF($H$2=$V$8,VLOOKUP($I35,Tabelle!$AN:$AO,2,0)))))),\"\",IF($H$2=$V$5,VLOOKUP($I35,Tabelle!$A:$B,2,0),IF($H$2=$V$6,VLOOKUP($I35,Tabelle!$N:$O,2,0),IF($H$2=$V$7,VLOOKUP($I35,Tabelle!$AA:$AB,2,0),IF($H$2=$V$8,VLOOKUP($I35,Tabelle!$AN:$AO,2,0))))))","v":1.4},{"$f":"IF(ISERROR(IF($H$2=$V$5,VLOOKUP($I35,Tabelle!$A:$C,3,0),IF($H$2=$V$6,VLOOKUP($I35,Tabelle!$N:$P,3,0),IF($H$2=$V$7,VLOOKUP($I35,Tabelle!$AA:$AC,3,0),IF($H$2=$V$8,VLOOKUP($I35,Tabelle!$AN:$AP,3,0)))))),\"\",IF($H$2=$V$5,VLOOKUP($I35,Tabelle!$A:$C,3,0),IF($H$2=$V$6,VLOOKUP($I35,Tabelle!$N:$P,3,0),IF($H$2=$V$7,VLOOKUP($I35,Tabelle!$AA:$AC,3,0),IF($H$2=$V$8,VLOOKUP($I35,Tabelle!$AN:$AP,3,0))))))","v":3.9},{"$f":"IF(ISERROR(IF($H$2=$V$5,VLOOKUP($I35,Tabelle!$A:$D,4,0),IF($H$2=$V$6,VLOOKUP($I35,Tabelle!$N:$Q,4,0),IF($H$2=$V$7,VLOOKUP($I35,Tabelle!$AA:$AD,4,0),IF($H$2=$V$8,VLOOKUP($I35,Tabelle!$AN:$AQ,4,0)))))),\"\",IF($H$2=$V$5,VLOOKUP($I35,Tabelle!$A:$D,4,0),IF($H$2=$V$6,VLOOKUP($I35,Tabelle!$N:$Q,4,0),IF($H$2=$V$7,VLOOKUP($I35,Tabelle!$AA:$AD,4,0),IF($H$2=$V$8,VLOOKUP($I35,Tabelle!$AN:$AQ,4,0))))))","v":8.9},{"$f":"IF(ISERROR(IF($H$2=$V$5,VLOOKUP($I35,Tabelle!$A:$E,5,0),IF($H$2=$V$6,VLOOKUP($I35,Tabelle!$N:$R,5,0),IF($H$2=$V$7,VLOOKUP($I35,Tabelle!$AA:$AE,5,0),IF($H$2=$V$8,VLOOKUP($I35,Tabelle!$AN:$AR,5,0)))))),\"\",IF($H$2=$V$5,VLOOKUP($I35,Tabelle!$A:$E,5,0),IF($H$2=$V$6,VLOOKUP($I35,Tabelle!$N:$R,5,0),IF($H$2=$V$7,VLOOKUP($I35,Tabelle!$AA:$AE,5,0),IF($H$2=$V$8,VLOOKUP($I35,Tabelle!$AN:$AR,5,0))))))","v":1.9},{"$f":"IF(ISERROR(IF($H$2=$V$5,VLOOKUP($I35,Tabelle!$A:$F,6,0),IF($H$2=$V$6,VLOOKUP($I35,Tabelle!$N:$S,6,0),IF($H$2=$V$7,VLOOKUP($I35,Tabelle!$AA:$AF,6,0),IF($H$2=$V$8,VLOOKUP($I35,Tabelle!$AN:$AS,6,0)))))),\"\",IF($H$2=$V$5,VLOOKUP($I35,Tabelle!$A:$F,6,0),IF($H$2=$V$6,VLOOKUP($I35,Tabelle!$N:$S,6,0),IF($H$2=$V$7,VLOOKUP($I35,Tabelle!$AA:$AF,6,0),IF($H$2=$V$8,VLOOKUP($I35,Tabelle!$AN:$AS,6,0))))))","v":7.88},null,{"$f":"IF(ISNUMBER(IF($H$2=$V$5,OFFSET(Tabelle!H35,0,0),IF($H$2=$V$6,OFFSET(Tabelle!U35,0,0),IF($H$2=$V$7,OFFSET(Tabelle!AH35,0,0),IF($H$2=$V$8,OFFSET(Tabelle!AV35,0,0)))))),IF($H$2=$V$5,OFFSET(Tabelle!H35,0,0),IF($H$2=$V$6,OFFSET(Tabelle!U35,0,0),IF($H$2=$V$7,OFFSET(Tabelle!AH35,0,0),IF($H$2=$V$8,OFFSET(Tabelle!AU35,0,0))))),\"\")","v":"2010-10-31"},{"$f":"IF(ISERROR(IF($H$2=$V$5,VLOOKUP($P35,Tabelle!$H:$I,2,0),IF($H$2=$V$6,VLOOKUP($P35,Tabelle!$U:$V,2,0),IF($H$2=$V$7,VLOOKUP($P35,Tabelle!$AH:$AI,2,0),IF($H$2=$V$8,VLOOKUP($P35,Tabelle!$AU:$AV,2,0)))))),\"\",IF($H$2=$V$5,VLOOKUP($P35,Tabelle!$H:$I,2,0),IF($H$2=$V$6,VLOOKUP($P35,Tabelle!$U:$V,2,0),IF($H$2=$V$7,VLOOKUP($P35,Tabelle!$AH:$AI,2,0),IF($H$2=$V$8,VLOOKUP($P35,Tabelle!$AU:$AV,2,0))))))","v":2},{"$f":"IF(ISERROR(IF($H$2=$V$5,VLOOKUP($P35,Tabelle!$H:$J,3,0),IF($H$2=$V$6,VLOOKUP($P35,Tabelle!$U:$W,3,0),IF($H$2=$V$7,VLOOKUP($P35,Tabelle!$AH:$AJ,3,0),IF($H$2=$V$8,VLOOKUP($P35,Tabelle!$AU:$AW,3,0)))))),\"\",IF($H$2=$V$5,VLOOKUP($P35,Tabelle!$H:$J,3,0),IF($H$2=$V$6,VLOOKUP($P35,Tabelle!$U:$W,3,0),IF($H$2=$V$7,VLOOKUP($P35,Tabelle!$AH:$AJ,3,0),IF($H$2=$V$8,VLOOKUP($P35,Tabelle!$AU:$AW,3,0))))))","v":4.2},{"$f":"IF(ISERROR(IF($H$2=$V$5,VLOOKUP($P35,Tabelle!$H:$K,4,0),IF($H$2=$V$6,VLOOKUP($P35,Tabelle!$U:$X,4,0),IF($H$2=$V$7,VLOOKUP($P35,Tabelle!$AH:$AK,4,0),IF($H$2=$V$8,VLOOKUP($P35,Tabelle!$AU:$AX,4,0)))))),\"\",IF($H$2=$V$5,VLOOKUP($P35,Tabelle!$H:$K,4,0),IF($H$2=$V$6,VLOOKUP($P35,Tabelle!$U:$X,4,0),IF($H$2=$V$7,VLOOKUP($P35,Tabelle!$AH:$AK,4,0),IF($H$2=$V$8,VLOOKUP($P35,Tabelle!$AU:$AX,4,0))))))","v":7.5},{"$f":"IF(ISERROR(IF($H$2=$V$5,VLOOKUP($P35,Tabelle!$H:$L,5,0),IF($H$2=$V$6,VLOOKUP($P35,Tabelle!$U:$Y,5,0),IF($H$2=$V$7,VLOOKUP($P35,Tabelle!$AH:$AL,5,0),IF($H$2=$V$8,VLOOKUP($P35,Tabelle!$AU:$AY,5,0)))))),\"\",IF($H$2=$V$5,VLOOKUP($P35,Tabelle!$H:$L,5,0),IF($H$2=$V$6,VLOOKUP($P35,Tabelle!$U:$Y,5,0),IF($H$2=$V$7,VLOOKUP($P35,Tabelle!$AH:$AL,5,0),IF($H$2=$V$8,VLOOKUP($P35,Tabelle!$AU:$AY,5,0))))))","v":2.8},null,null,null,null,"",3.9,8.9,1.9,7.88,null,null,2,4.2,7.5,2.8]
[null,null,null,null,null,null,null,null,{"$f":"IF(ISNUMBER(IF($H$2=$V$5,OFFSET(Tabelle!A36,0,0),IF($H$2=$V$6,OFFSET(Tabelle!N36,0,0),IF($H$2=$V$7,OFFSET(Tabelle!AA36,0,0),IF($H$2=$V$8,OFFSET(Tabelle!AN36,0,0)))))),IF($H$2=$V$5,OFFSET(Tabelle!A36,0,0),IF($H$2=$V$6,OFFSET(Tabelle!N36,0,0),IF($H$2=$V$7,OFFSET(Tabelle!AA36,0,0),IF($H$2=$V$8,OFFSET(Tabelle!AN36,0,0))))),\"\")","v":"2010-11-30"},{"$f":"IF(ISERROR(IF($H$2=$V$5,VLOOKUP($I36,Tabelle!$A:$B,2,0),IF($H$2=$V$6,VLOOKUP($I36,Tabelle!$N:$O,2,0),IF($H$2=$V$7,VLOOKUP($I36,Tabelle!$AA:$AB,2,0),IF($H$2=$V$8,VLOOKUP($I36,Tabelle!$AN:$AO,2,0)))))),\"\",IF($H$2=$V$5,VLOOKUP($I36,Tabelle!$A:$B,2,0),IF($H$2=$V$6,VLOOKUP($I36,Tabelle!$N:$O,2,0),IF($H$2=$V$7,VLOOKUP($I36,Tabelle!$AA:$AB,2,0),IF($H$2=$V$8,VLOOKUP($I36,Tabelle!$AN:$AO,2,0))))))","v":1.2},{"$f":"IF(ISERROR(IF($H$2=$V$5,VLOOKUP($I36,Tabelle!$A:$C,3,0),IF($H$2=$V$6,VLOOKUP($I36,Tabelle!$N:$P,3,0),IF($H$2=$V$7,VLOOKUP($I36,Tabelle!$AA:$AC,3,0),IF($H$2=$V$8,VLOOKUP($I36,Tabelle!$AN:$AP,3,0)))))),\"\",IF($H$2=$V$5,VLOOKUP($I36,Tabelle!$A:$C,3,0),IF($H$2=$V$6,VLOOKUP($I36,Tabelle!$N:$P,3,0),IF($H$2=$V$7,VLOOKUP($I36,Tabelle!$AA:$AC,3,0),IF($H$2=$V$8,VLOOKUP($I36,Tabelle!$AN:$AP,3,0))))))","v":4.5999999999999996},{"$f":"IF(ISERROR(IF($H$2=$V$5,VLOOKUP($I36,Tabelle!$A:$D,4,0),IF($H$2=$V$6,VLOOKUP($I36,Tabelle!$N:$Q,4,0),IF($H$2=$V$7,VLOOKUP($I36,Tabelle!$AA:$AD,4,0),IF($H$2=$V$8,VLOOKUP($I36,Tabelle!$AN:$AQ,4,0)))))),\"\",IF($H$2=$V$5,VLOOKUP($I36,Tabelle!$A:$D,4,0),IF($H$2=$V$6,VLOOKUP($I36,Tabelle!$N:$Q,4,0),IF($H$2=$V$7,VLOOKUP($I36,Tabelle!$AA:$AD,4,0),IF($H$2=$V$8,VLOOKUP($I36,Tabelle!$AN:$AQ,4,0))))))","v":9.6},{"$f":"IF(ISERROR(IF($H$2=$V$5,VLOOKUP($I36,Tabelle!$A:$E,5,0),IF($H$2=$V$6,VLOOKUP($I36,Tabelle!$N:$R,5,0),IF($H$2=$V$7,VLOOKUP($I36,Tabelle!$AA:$AE,5,0),IF($H$2=$V$8,VLOOKUP($I36,Tabelle!$AN:$AR,5,0)))))),\"\",IF($H$2=$V$5,VLOOKUP($I36,Tabelle!$A:$E,5,0),IF($H$2=$V$6,VLOOKUP($I36,Tabelle!$N:$R,5,0),IF($H$2=$V$7,VLOOKUP($I36,Tabelle!$AA:$AE,5,0),IF($H$2=$V$8,VLOOKUP($I36,Tabelle!$AN:$AR,5,0))))))","v":1.4},{"$f":"IF(ISERROR(IF($H$2=$V$5,VLOOKUP($I36,Tabelle!$A:$F,6,0),IF($H$2=$V$6,VLOOKUP($I36,Tabelle!$N:$S,6,0),IF($H$2=$V$7,VLOOKUP($I36,Tabelle!$AA:$AF,6,0),IF($H$2=$V$8,VLOOKUP($I36,Tabelle!$AN:$AS,6,0)))))),\"\",IF($H$2=$V$5,VLOOKUP($I36,Tabelle!$A:$F,6,0),IF($H$2=$V$6,VLOOKUP($I36,Tabelle!$N:$S,6,0),IF($H$2=$V$7,VLOOKUP($I36,Tabelle!$AA:$AF,6,0),IF($H$2=$V$8,VLOOKUP($I36,Tabelle!$AN:$AS,6,0))))))","v":7.73},null,{"$f":"IF(ISNUMBER(IF($H$2=$V$5,OFFSET(Tabelle!H36,0,0),IF($H$2=$V$6,OFFSET(Tabelle!U36,0,0),IF($H$2=$V$7,OFFSET(Tabelle!AH36,0,0),IF($H$2=$V$8,OFFSET(Tabelle!AV36,0,0)))))),IF($H$2=$V$5,OFFSET(Tabelle!H36,0,0),IF($H$2=$V$6,OFFSET(Tabelle!U36,0,0),IF($H$2=$V$7,OFFSET(Tabelle!AH36,0,0),IF($H$2=$V$8,OFFSET(Tabelle!AU36,0,0))))),\"\")","v":"2010-11-30"},{"$f":"IF(ISERROR(IF($H$2=$V$5,VLOOKUP($P36,Tabelle!$H:$I,2,0),IF($H$2=$V$6,VLOOKUP($P36,Tabelle!$U:$V,2,0),IF($H$2=$V$7,VLOOKUP($P36,Tabelle!$AH:$AI,2,0),IF($H$2=$V$8,VLOOKUP($P36,Tabelle!$AU:$AV,2,0)))))),\"\",IF($H$2=$V$5,VLOOKUP($P36,Tabelle!$H:$I,2,0),IF($H$2=$V$6,VLOOKUP($P36,Tabelle!$U:$V,2,0),IF($H$2=$V$7,VLOOKUP($P36,Tabelle!$AH:$AI,2,0),IF($H$2=$V$8,VLOOKUP($P36,Tabelle!$AU:$AV,2,0))))))","v":2},{"$f":"IF(ISERROR(IF($H$2=$V$5,VLOOKUP($P36,Tabelle!$H:$J,3,0),IF($H$2=$V$6,VLOOKUP($P36,Tabelle!$U:$W,3,0),IF($H$2=$V$7,VLOOKUP($P36,Tabelle!$AH:$AJ,3,0),IF($H$2=$V$8,VLOOKUP($P36,Tabelle!$AU:$AW,3,0)))))),\"\",IF($H$2=$V$5,VLOOKUP($P36,Tabelle!$H:$J,3,0),IF($H$2=$V$6,VLOOKUP($P36,Tabelle!$U:$W,3,0),IF($H$2=$V$7,VLOOKUP($P36,Tabelle!$AH:$AJ,3,0),IF($H$2=$V$8,VLOOKUP($P36,Tabelle!$AU:$AW,3,0))))))","v":4.2},{"$f":"IF(ISERROR(IF($H$2=$V$5,VLOOKUP($P36,Tabelle!$H:$K,4,0),IF($H$2=$V$6,VLOOKUP($P36,Tabelle!$U:$X,4,0),IF($H$2=$V$7,VLOOKUP($P36,Tabelle!$AH:$AK,4,0),IF($H$2=$V$8,VLOOKUP($P36,Tabelle!$AU:$AX,4,0)))))),\"\",IF($H$2=$V$5,VLOOKUP($P36,Tabelle!$H:$K,4,0),IF($H$2=$V$6,VLOOKUP($P36,Tabelle!$U:$X,4,0),IF($H$2=$V$7,VLOOKUP($P36,Tabelle!$AH:$AK,4,0),IF($H$2=$V$8,VLOOKUP($P36,Tabelle!$AU:$AX,4,0))))))","v":8.1},{"$f":"IF(ISERROR(IF($H$2=$V$5,VLOOKUP($P36,Tabelle!$H:$L,5,0),IF($H$2=$V$6,VLOOKUP($P36,Tabelle!$U:$Y,5,0),IF($H$2=$V$7,VLOOKUP($P36,Tabelle!$AH:$AL,5,0),IF($H$2=$V$8,VLOOKUP($P36,Tabelle!$AU:$AY,5,0)))))),\"\",IF($H$2=$V$5,VLOOKUP($P36,Tabelle!$H:$L,5,0),IF($H$2=$V$6,VLOOKUP($P36,Tabelle!$U:$Y,5,0),IF($H$2=$V$7,VLOOKUP($P36,Tabelle!$AH:$AL,5,0),IF($H$2=$V$8,VLOOKUP($P36,Tabelle!$AU:$AY,5,0))))))","v":2.7},null,null,null,null,"",4.5999999999999996,9.6,1.4,7.73,null,null,2,4.2,8.1,2.7]
[null,null,null,null,null,null,null,null,{"$f":"IF(ISNUMBER(IF($H$2=$V$5,OFFSET(Tabelle!A37,0,0),IF($H$2=$V$6,OFFSET(Tabelle!N37,0,0),IF($H$2=$V$7,OFFSET(Tabelle!AA37,0,0),IF($H$2=$V$8,OFFSET(Tabelle!AN37,0,0)))))),IF($H$2=$V$5,OFFSET(Tabelle!A37,0,0),IF($H$2=$V$6,OFFSET(Tabelle!N37,0,0),IF($H$2=$V$7,OFFSET(Tabelle!AA37,0,0),IF($H$2=$V$8,OFFSET(Tabelle!AN37,0,0))))),\"\")","v":"2010-12-31"},{"$f":"IF(ISERROR(IF($H$2=$V$5,VLOOKUP($I37,Tabelle!$A:$B,2,0),IF($H$2=$V$6,VLOOKUP($I37,Tabelle!$N:$O,2,0),IF($H$2=$V$7,VLOOKUP($I37,Tabelle!$AA:$AB,2,0),IF($H$2=$V$8,VLOOKUP($I37,Tabelle!$AN:$AO,2,0)))))),\"\",IF($H$2=$V$5,VLOOKUP($I37,Tabelle!$A:$B,2,0),IF($H$2=$V$6,VLOOKUP($I37,Tabelle!$N:$O,2,0),IF($H$2=$V$7,VLOOKUP($I37,Tabelle!$AA:$AB,2,0),IF($H$2=$V$8,VLOOKUP($I37,Tabelle!$AN:$AO,2,0))))))","v":1.8},{"$f":"IF(ISERROR(IF($H$2=$V$5,VLOOKUP($I37,Tabelle!$A:$C,3,0),IF($H$2=$V$6,VLOOKUP($I37,Tabelle!$N:$P,3,0),IF($H$2=$V$7,VLOOKUP($I37,Tabelle!$AA:$AC,3,0),IF($H$2=$V$8,VLOOKUP($I37,Tabelle!$AN:$AP,3,0)))))),\"\",IF($H$2=$V$5,VLOOKUP($I37,Tabelle!$A:$C,3,0),IF($H$2=$V$6,VLOOKUP($I37,Tabelle!$N:$P,3,0),IF($H$2=$V$7,VLOOKUP($I37,Tabelle!$AA:$AC,3,0),IF($H$2=$V$8,VLOOKUP($I37,Tabelle!$AN:$AP,3,0))))))","v":4.5},{"$f":"IF(ISERROR(IF($H$2=$V$5,VLOOKUP($I37,Tabelle!$A:$D,4,0),IF($H$2=$V$6,VLOOKUP($I37,Tabelle!$N:$Q,4,0),IF($H$2=$V$7,VLOOKUP($I37,Tabelle!$AA:$AD,4,0),IF($H$2=$V$8,VLOOKUP($I37,Tabelle!$AN:$AQ,4,0)))))),\"\",IF($H$2=$V$5,VLOOKUP($I37,Tabelle!$A:$D,4,0),IF($H$2=$V$6,VLOOKUP($I37,Tabelle!$N:$Q,4,0),IF($H$2=$V$7,VLOOKUP($I37,Tabelle!$AA:$AD,4,0),IF($H$2=$V$8,VLOOKUP($I37,Tabelle!$AN:$AQ,4,0))))))","v":10.3},{"$f":"IF(ISERROR(IF($H$2=$V$5,VLOOKUP($I37,Tabelle!$A:$E,5,0),IF($H$2=$V$6,VLOOKUP($I37,Tabelle!$N:$R,5,0),IF($H$2=$V$7,VLOOKUP($I37,Tabelle!$AA:$AE,5,0),IF($H$2=$V$8,VLOOKUP($I37,Tabelle!$AN:$AR,5,0)))))),\"\",IF($H$2=$V$5,VLOOKUP($I37,Tabelle!$A:$E,5,0),IF($H$2=$V$6,VLOOKUP($I37,Tabelle!$N:$R,5,0),IF($H$2=$V$7,VLOOKUP($I37,Tabelle!$AA:$AE,5,0),IF($H$2=$V$8,VLOOKUP($I37,Tabelle!$AN:$AR,5,0))))))","v":1.9},{"$f":"IF(ISERROR(IF($H$2=$V$5,VLOOKUP($I37,Tabelle!$A:$F,6,0),IF($H$2=$V$6,VLOOKUP($I37,Tabelle!$N:$S,6,0),IF($H$2=$V$7,VLOOKUP($I37,Tabelle!$AA:$AF,6,0),IF($H$2=$V$8,VLOOKUP($I37,Tabelle!$AN:$AS,6,0)))))),\"\",IF($H$2=$V$5,VLOOKUP($I37,Tabelle!$A:$F,6,0),IF($H$2=$V$6,VLOOKUP($I37,Tabelle!$N:$S,6,0),IF($H$2=$V$7,VLOOKUP($I37,Tabelle!$AA:$AF,6,0),IF($H$2=$V$8,VLOOKUP($I37,Tabelle!$AN:$AS,6,0))))))","v":7.96},null,{"$f":"IF(ISNUMBER(IF($H$2=$V$5,OFFSET(Tabelle!H37,0,0),IF($H$2=$V$6,OFFSET(Tabelle!U37,0,0),IF($H$2=$V$7,OFFSET(Tabelle!AH37,0,0),IF($H$2=$V$8,OFFSET(Tabelle!AV37,0,0)))))),IF($H$2=$V$5,OFFSET(Tabelle!H37,0,0),IF($H$2=$V$6,OFFSET(Tabelle!U37,0,0),IF($H$2=$V$7,OFFSET(Tabelle!AH37,0,0),IF($H$2=$V$8,OFFSET(Tabelle!AU37,0,0))))),\"\")","v":"2010-12-31"},{"$f":"IF(ISERROR(IF($H$2=$V$5,VLOOKUP($P37,Tabelle!$H:$I,2,0),IF($H$2=$V$6,VLOOKUP($P37,Tabelle!$U:$V,2,0),IF($H$2=$V$7,VLOOKUP($P37,Tabelle!$AH:$AI,2,0),IF($H$2=$V$8,VLOOKUP($P37,Tabelle!$AU:$AV,2,0)))))),\"\",IF($H$2=$V$5,VLOOKUP($P37,Tabelle!$H:$I,2,0),IF($H$2=$V$6,VLOOKUP($P37,Tabelle!$U:$V,2,0),IF($H$2=$V$7,VLOOKUP($P37,Tabelle!$AH:$AI,2,0),IF($H$2=$V$8,VLOOKUP($P37,Tabelle!$AU:$AV,2,0))))))","v":2.2999999999999998},{"$f":"IF(ISERROR(IF($H$2=$V$5,VLOOKUP($P37,Tabelle!$H:$J,3,0),IF($H$2=$V$6,VLOOKUP($P37,Tabelle!$U:$W,3,0),IF($H$2=$V$7,VLOOKUP($P37,Tabelle!$AH:$AJ,3,0),IF($H$2=$V$8,VLOOKUP($P37,Tabelle!$AU:$AW,3,0)))))),\"\",IF($H$2=$V$5,VLOOKUP($P37,Tabelle!$H:$J,3,0),IF($H$2=$V$6,VLOOKUP($P37,Tabelle!$U:$W,3,0),IF($H$2=$V$7,VLOOKUP($P37,Tabelle!$AH:$AJ,3,0),IF($H$2=$V$8,VLOOKUP($P37,Tabelle!$AU:$AW,3,0))))))","v":4.7},{"$f":"IF(ISERROR(IF($H$2=$V$5,VLOOKUP($P37,Tabelle!$H:$K,4,0),IF($H$2=$V$6,VLOOKUP($P37,Tabelle!$U:$X,4,0),IF($H$2=$V$7,VLOOKUP($P37,Tabelle!$AH:$AK,4,0),IF($H$2=$V$8,VLOOKUP($P37,Tabelle!$AU:$AX,4,0)))))),\"\",IF($H$2=$V$5,VLOOKUP($P37,Tabelle!$H:$K,4,0),IF($H$2=$V$6,VLOOKUP($P37,Tabelle!$U:$X,4,0),IF($H$2=$V$7,VLOOKUP($P37,Tabelle!$AH:$AK,4,0),IF($H$2=$V$8,VLOOKUP($P37,Tabelle!$AU:$AX,4,0))))))","v":8.8000000000000007},{"$f":"IF(ISERROR(IF($H$2=$V$5,VLOOKUP($P37,Tabelle!$H:$L,5,0),IF($H$2=$V$6,VLOOKUP($P37,Tabelle!$U:$Y,5,0),IF($H$2=$V$7,VLOOKUP($P37,Tabelle!$AH:$AL,5,0),IF($H$2=$V$8,VLOOKUP($P37,Tabelle!$AU:$AY,5,0)))))),\"\",IF($H$2=$V$5,VLOOKUP($P37,Tabelle!$H:$L,5,0),IF($H$2=$V$6,VLOOKUP($P37,Tabelle!$U:$Y,5,0),IF($H$2=$V$7,VLOOKUP($P37,Tabelle!$AH:$AL,5,0),IF($H$2=$V$8,VLOOKUP($P37,Tabelle!$AU:$AY,5,0))))))","v":3.1},null,null,null,null,"",4.5,10.3,1.9,7.96,null,null,2.2999999999999998,4.7,8.8000000000000007,3.1]
[null,null,null,null,null,null,null,null,{"$f":"IF(ISNUMBER(IF($H$2=$V$5,OFFSET(Tabelle!A38,0,0),IF($H$2=$V$6,OFFSET(Tabelle!N38,0,0),IF($H$2=$V$7,OFFSET(Tabelle!AA38,0,0),IF($H$2=$V$8,OFFSET(Tabelle!AN38,0,0)))))),IF($H$2=$V$5,OFFSET(Tabelle!A38,0,0),IF($H$2=$V$6,OFFSET(Tabelle!N38,0,0),IF($H$2=$V$7,OFFSET(Tabelle!AA38,0,0),IF($H$2=$V$8,OFFSET(Tabelle!AN38,0,0))))),\"\")","v":"2011-01-31"},{"$f":"IF(ISERROR(IF($H$2=$V$5,VLOOKUP($I38,Tabelle!$A:$B,2,0),IF($H$2=$V$6,VLOOKUP($I38,Tabelle!$N:$O,2,0),IF($H$2=$V$7,VLOOKUP($I38,Tabelle!$AA:$AB,2,0),IF($H$2=$V$8,VLOOKUP($I38,Tabelle!$AN:$AO,2,0)))))),\"\",IF($H$2=$V$5,VLOOKUP($I38,Tabelle!$A:$B,2,0),IF($H$2=$V$6,VLOOKUP($I38,Tabelle!$N:$O,2,0),IF($H$2=$V$7,VLOOKUP($I38,Tabelle!$AA:$AB,2,0),IF($H$2=$V$8,VLOOKUP($I38,Tabelle!$AN:$AO,2,0))))))","v":1.9},{"$f":"IF(ISERROR(IF($H$2=$V$5,VLOOKUP($I38,Tabelle!$A:$C,3,0),IF($H$2=$V$6,VLOOKUP($I38,Tabelle!$N:$P,3,0),IF($H$2=$V$7,VLOOKUP($I38,Tabelle!$AA:$AC,3,0),IF($H$2=$V$8,VLOOKUP($I38,Tabelle!$AN:$AP,3,0)))))),\"\",IF($H$2=$V$5,VLOOKUP($I38,Tabelle!$A:$C,3,0),IF($H$2=$V$6,VLOOKUP($I38,Tabelle!$N:$P,3,0),IF($H$2=$V$7,VLOOKUP($I38,Tabelle!$AA:$AC,3,0),IF($H$2=$V$8,VLOOKUP($I38,Tabelle!$AN:$AP,3,0))))))","v":4.5},{"$f":"IF(ISERROR(IF($H$2=$V$5,VLOOKUP($I38,Tabelle!$A:$D,4,0),IF($H$2=$V$6,VLOOKUP($I38,Tabelle!$N:$Q,4,0),IF($H$2=$V$7,VLOOKUP($I38,Tabelle!$AA:$AD,4,0),IF($H$2=$V$8,VLOOKUP($I38,Tabelle!$AN:$AQ,4,0)))))),\"\",IF($H$2=$V$5,VLOOKUP($I38,Tabelle!$A:$D,4,0),IF($H$2=$V$6,VLOOKUP($I38,Tabelle!$N:$Q,4,0),IF($H$2=$V$7,VLOOKUP($I38,Tabelle!$AA:$AD,4,0),IF($H$2=$V$8,VLOOKUP($I38,Tabelle!$AN:$AQ,4,0))))))","v":11.2},{"$f":"IF(ISERROR(IF($H$2=$V$5,VLOOKUP($I38,Tabelle!$A:$E,5,0),IF($H$2=$V$6,VLOOKUP($I38,Tabelle!$N:$R,5,0),IF($H$2=$V$7,VLOOKUP($I38,Tabelle!$AA:$AE,5,0),IF($H$2=$V$8,VLOOKUP($I38,Tabelle!$AN:$AR,5,0)))))),\"\",IF($H$2=$V$5,VLOOKUP($I38,Tabelle!$A:$E,5,0),IF($H$2=$V$6,VLOOKUP($I38,Tabelle!$N:$R,5,0),IF($H$2=$V$7,VLOOKUP($I38,Tabelle!$AA:$AE,5,0),IF($H$2=$V$8,VLOOKUP($I38,Tabelle!$AN:$AR,5,0))))))","v":1.8},{"$f":"IF(ISERROR(IF($H$2=$V$5,VLOOKUP($I38,Tabelle!$A:$F,6,0),IF($H$2=$V$6,VLOOKUP($I38,Tabelle!$N:$S,6,0),IF($H$2=$V$7,VLOOKUP($I38,Tabelle!$AA:$AF,6,0),IF($H$2=$V$8,VLOOKUP($I38,Tabelle!$AN:$AS,6,0)))))),\"\",IF($H$2=$V$5,VLOOKUP($I38,Tabelle!$A:$F,6,0),IF($H$2=$V$6,VLOOKUP($I38,Tabelle!$N:$S,6,0),IF($H$2=$V$7,VLOOKUP($I38,Tabelle!$AA:$AF,6,0),IF($H$2=$V$8,VLOOKUP($I38,Tabelle!$AN:$AS,6,0))))))","v":6.99},null,{"$f":"IF(ISNUMBER(IF($H$2=$V$5,OFFSET(Tabelle!H38,0,0),IF($H$2=$V$6,OFFSET(Tabelle!U38,0,0),IF($H$2=$V$7,OFFSET(Tabelle!AH38,0,0),IF($H$2=$V$8,OFFSET(Tabelle!AV38,0,0)))))),IF($H$2=$V$5,OFFSET(Tabelle!H38,0,0),IF($H$2=$V$6,OFFSET(Tabelle!U38,0,0),IF($H$2=$V$7,OFFSET(Tabelle!AH38,0,0),IF($H$2=$V$8,OFFSET(Tabelle!AU38,0,0))))),\"\")","v":"2011-01-31"},{"$f":"IF(ISERROR(IF($H$2=$V$5,VLOOKUP($P38,Tabelle!$H:$I,2,0),IF($H$2=$V$6,VLOOKUP($P38,Tabelle!$U:$V,2,0),IF($H$2=$V$7,VLOOKUP($P38,Tabelle!$AH:$AI,2,0),IF($H$2=$V$8,VLOOKUP($P38,Tabelle!$AU:$AV,2,0)))))),\"\",IF($H$2=$V$5,VLOOKUP($P38,Tabelle!$H:$I,2,0),IF($H$2=$V$6,VLOOKUP($P38,Tabelle!$U:$V,2,0),IF($H$2=$V$7,VLOOKUP($P38,Tabelle!$AH:$AI,2,0),IF($H$2=$V$8,VLOOKUP($P38,Tabelle!$AU:$AV,2,0))))))","v":1.7},{"$f":"IF(ISERROR(IF($H$2=$V$5,VLOOKUP($P38,Tabelle!$H:$J,3,0),IF($H$2=$V$6,VLOOKUP($P38,Tabelle!$U:$W,3,0),IF($H$2=$V$7,VLOOKUP($P38,Tabelle!$AH:$AJ,3,0),IF($H$2=$V$8,VLOOKUP($P38,Tabelle!$AU:$AW,3,0)))))),\"\",IF($H$2=$V$5,VLOOKUP($P38,Tabelle!$H:$J,3,0),IF($H$2=$V$6,VLOOKUP($P38,Tabelle!$U:$W,3,0),IF($H$2=$V$7,VLOOKUP($P38,Tabelle!$AH:$AJ,3,0),IF($H$2=$V$8,VLOOKUP($P38,Tabelle!$AU:$AW,3,0))))))","v":4},{"$f":"IF(ISERROR(IF($H$2=$V$5,VLOOKUP($P38,Tabelle!$H:$K,4,0),IF($H$2=$V$6,VLOOKUP($P38,Tabelle!$U:$X,4,0),IF($H$2=$V$7,VLOOKUP($P38,Tabelle!$AH:$AK,4,0),IF($H$2=$V$8,VLOOKUP($P38,Tabelle!$AU:$AX,4,0)))))),\"\",IF($H$2=$V$5,VLOOKUP($P38,Tabelle!$H:$K,4,0),IF($H$2=$V$6,VLOOKUP($P38,Tabelle!$U:$X,4,0),IF($H$2=$V$7,VLOOKUP($P38,Tabelle!$AH:$AK,4,0),IF($H$2=$V$8,VLOOKUP($P38,Tabelle!$AU:$AX,4,0))))))","v":9.6},{"$f":"IF(ISERROR(IF($H$2=$V$5,VLOOKUP($P38,Tabelle!$H:$L,5,0),IF($H$2=$V$6,VLOOKUP($P38,Tabelle!$U:$Y,5,0),IF($H$2=$V$7,VLOOKUP($P38,Tabelle!$AH:$AL,5,0),IF($H$2=$V$8,VLOOKUP($P38,Tabelle!$AU:$AY,5,0)))))),\"\",IF($H$2=$V$5,VLOOKUP($P38,Tabelle!$H:$L,5,0),IF($H$2=$V$6,VLOOKUP($P38,Tabelle!$U:$Y,5,0),IF($H$2=$V$7,VLOOKUP($P38,Tabelle!$AH:$AL,5,0),IF($H$2=$V$8,VLOOKUP($P38,Tabelle!$AU:$AY,5,0))))))","v":3.6},null,null,null,null,"",4.5,11.2,1.8,6.99,null,null,1.7,4,9.6,3.6]
[null,null,null,null,null,null,null,null,{"$f":"IF(ISNUMBER(IF($H$2=$V$5,OFFSET(Tabelle!A39,0,0),IF($H$2=$V$6,OFFSET(Tabelle!N39,0,0),IF($H$2=$V$7,OFFSET(Tabelle!AA39,0,0),IF($H$2=$V$8,OFFSET(Tabelle!AN39,0,0)))))),IF($H$2=$V$5,OFFSET(Tabelle!A39,0,0),IF($H$2=$V$6,OFFSET(Tabelle!N39,0,0),IF($H$2=$V$7,OFFSET(Tabelle!AA39,0,0),IF($H$2=$V$8,OFFSET(Tabelle!AN39,0,0))))),\"\")","v":"2011-02-28"},{"$f":"IF(ISERROR(IF($H$2=$V$5,VLOOKUP($I39,Tabelle!$A:$B,2,0),IF($H$2=$V$6,VLOOKUP($I39,Tabelle!$N:$O,2,0),IF($H$2=$V$7,VLOOKUP($I39,Tabelle!$AA:$AB,2,0),IF($H$2=$V$8,VLOOKUP($I39,Tabelle!$AN:$AO,2,0)))))),\"\",IF($H$2=$V$5,VLOOKUP($I39,Tabelle!$A:$B,2,0),IF($H$2=$V$6,VLOOKUP($I39,Tabelle!$N:$O,2,0),IF($H$2=$V$7,VLOOKUP($I39,Tabelle!$AA:$AB,2,0),IF($H$2=$V$8,VLOOKUP($I39,Tabelle!$AN:$AO,2,0))))))","v":2.2000000000000002},{"$f":"IF(ISERROR(IF($H$2=$V$5,VLOOKUP($I39,Tabelle!$A:$C,3,0),IF($H$2=$V$6,VLOOKUP($I39,Tabelle!$N:$P,3,0),IF($H$2=$V$7,VLOOKUP($I39,Tabelle!$AA:$AC,3,0),IF($H$2=$V$8,VLOOKUP($I39,Tabelle!$AN:$AP,3,0)))))),\"\",IF($H$2=$V$5,VLOOKUP($I39,Tabelle!$A:$C,3,0),IF($H$2=$V$6,VLOOKUP($I39,Tabelle!$N:$P,3,0),IF($H$2=$V$7,VLOOKUP($I39,Tabelle!$AA:$AC,3,0),IF($H$2=$V$8,VLOOKUP($I39,Tabelle!$AN:$AP,3,0))))))","v":5.2},{"$f":"IF(ISERROR(IF($H$2=$V$5,VLOOKUP($I39,Tabelle!$A:$D,4,0),IF($H$2=$V$6,VLOOKUP($I39,Tabelle!$N:$Q,4,0),IF($H$2=$V$7,VLOOKUP($I39,Tabelle!$AA:$AD,4,0),IF($H$2=$V$8,VLOOKUP($I39,Tabelle!$AN:$AQ,4,0)))))),\"\",IF($H$2=$V$5,VLOOKUP($I39,Tabelle!$A:$D,4,0),IF($H$2=$V$6,VLOOKUP($I39,Tabelle!$N:$Q,4,0),IF($H$2=$V$7,VLOOKUP($I39,Tabelle!$AA:$AD,4,0),IF($H$2=$V$8,VLOOKUP($I39,Tabelle!$AN:$AQ,4,0))))))","v":12.6},{"$f":"IF(ISERROR(IF($H$2=$V$5,VLOOKUP($I39,Tabelle!$A:$E,5,0),IF($H$2=$V$6,VLOOKUP($I39,Tabelle!$N:$R,5,0),IF($H$2=$V$7,VLOOKUP($I39,Tabelle!$AA:$AE,5,0),IF($H$2=$V$8,VLOOKUP($I39,Tabelle!$AN:$AR,5,0)))))),\"\",IF($H$2=$V$5,VLOOKUP($I39,Tabelle!$A:$E,5,0),IF($H$2=$V$6,VLOOKUP($I39,Tabelle!$N:$R,5,0),IF($H$2=$V$7,VLOOKUP($I39,Tabelle!$AA:$AE,5,0),IF($H$2=$V$8,VLOOKUP($I39,Tabelle!$AN:$AR,5,0))))))","v":1.4},{"$f":"IF(ISERROR(IF($H$2=$V$5,VLOOKUP($I39,Tabelle!$A:$F,6,0),IF($H$2=$V$6,VLOOKUP($I39,Tabelle!$N:$S,6,0),IF($H$2=$V$7,VLOOKUP($I39,Tabelle!$AA:$AF,6,0),IF($H$2=$V$8,VLOOKUP($I39,Tabelle!$AN:$AS,6,0)))))),\"\",IF($H$2=$V$5,VLOOKUP($I39,Tabelle!$A:$F,6,0),IF($H$2=$V$6,VLOOKUP($I39,Tabelle!$N:$S,6,0),IF($H$2=$V$7,VLOOKUP($I39,Tabelle!$AA:$AF,6,0),IF($H$2=$V$8,VLOOKUP($I39,Tabelle!$AN:$AS,6,0))))))","v":7.6},null,{"$f":"IF(ISNUMBER(IF($H$2=$V$5,OFFSET(Tabelle!H39,0,0),IF($H$2=$V$6,OFFSET(Tabelle!U39,0,0),IF($H$2=$V$7,OFFSET(Tabelle!AH39,0,0),IF($H$2=$V$8,OFFSET(Tabelle!AV39,0,0)))))),IF($H$2=$V$5,OFFSET(Tabelle!H39,0,0),IF($H$2=$V$6,OFFSET(Tabelle!U39,0,0),IF($H$2=$V$7,OFFSET(Tabelle!AH39,0,0),IF($H$2=$V$8,OFFSET(Tabelle!AU39,0,0))))),\"\")","v":"2011-02-28"},{"$f":"IF(ISERROR(IF($H$2=$V$5,VLOOKUP($P39,Tabelle!$H:$I,2,0),IF($H$2=$V$6,VLOOKUP($P39,Tabelle!$U:$V,2,0),IF($H$2=$V$7,VLOOKUP($P39,Tabelle!$AH:$AI,2,0),IF($H$2=$V$8,VLOOKUP($P39,Tabelle!$AU:$AV,2,0)))))),\"\",IF($H$2=$V$5,VLOOKUP($P39,Tabelle!$H:$I,2,0),IF($H$2=$V$6,VLOOKUP($P39,Tabelle!$U:$V,2,0),IF($H$2=$V$7,VLOOKUP($P39,Tabelle!$AH:$AI,2,0),IF($H$2=$V$8,VLOOKUP($P39,Tabelle!$AU:$AV,2,0))))))","v":1.8},{"$f":"IF(ISERROR(IF($H$2=$V$5,VLOOKUP($P39,Tabelle!$H:$J,3,0),IF($H$2=$V$6,VLOOKUP($P39,Tabelle!$U:$W,3,0),IF($H$2=$V$7,VLOOKUP($P39,Tabelle!$AH:$AJ,3,0),IF($H$2=$V$8,VLOOKUP($P39,Tabelle!$AU:$AW,3,0)))))),\"\",IF($H$2=$V$5,VLOOKUP($P39,Tabelle!$H:$J,3,0),IF($H$2=$V$6,VLOOKUP($P39,Tabelle!$U:$W,3,0),IF($H$2=$V$7,VLOOKUP($P39,Tabelle!$AH:$AJ,3,0),IF($H$2=$V$8,VLOOKUP($P39,Tabelle!$AU:$AW,3,0))))))","v":4.0999999999999996},{"$f":"IF(ISERROR(IF($H$2=$V$5,VLOOKUP($P39,Tabelle!$H:$K,4,0),IF($H$2=$V$6,VLOOKUP($P39,Tabelle!$U:$X,4,0),IF($H$2=$V$7,VLOOKUP($P39,Tabelle!$AH:$AK,4,0),IF($H$2=$V$8,VLOOKUP($P39,Tabelle!$AU:$AX,4,0)))))),\"\",IF($H$2=$V$5,VLOOKUP($P39,Tabelle!$H:$K,4,0),IF($H$2=$V$6,VLOOKUP($P39,Tabelle!$U:$X,4,0),IF($H$2=$V$7,VLOOKUP($P39,Tabelle!$AH:$AK,4,0),IF($H$2=$V$8,VLOOKUP($P39,Tabelle!$AU:$AX,4,0))))))","v":9.5},{"$f":"IF(ISERROR(IF($H$2=$V$5,VLOOKUP($P39,Tabelle!$H:$L,5,0),IF($H$2=$V$6,VLOOKUP($P39,Tabelle!$U:$Y,5,0),IF($H$2=$V$7,VLOOKUP($P39,Tabelle!$AH:$AL,5,0),IF($H$2=$V$8,VLOOKUP($P39,Tabelle!$AU:$AY,5,0)))))),\"\",IF($H$2=$V$5,VLOOKUP($P39,Tabelle!$H:$L,5,0),IF($H$2=$V$6,VLOOKUP($P39,Tabelle!$U:$Y,5,0),IF($H$2=$V$7,VLOOKUP($P39,Tabelle!$AH:$AL,5,0),IF($H$2=$V$8,VLOOKUP($P39,Tabelle!$AU:$AY,5,0))))))","v":3.6},null,null,null,null,"",5.2,12.6,1.4,7.6,null,null,1.8,4.0999999999999996,9.5,3.6]
[null,null,null,null,null,null,null,null,{"$f":"IF(ISNUMBER(IF($H$2=$V$5,OFFSET(Tabelle!A40,0,0),IF($H$2=$V$6,OFFSET(Tabelle!N40,0,0),IF($H$2=$V$7,OFFSET(Tabelle!AA40,0,0),IF($H$2=$V$8,OFFSET(Tabelle!AN40,0,0)))))),IF($H$2=$V$5,OFFSET(Tabelle!A40,0,0),IF($H$2=$V$6,OFFSET(Tabelle!N40,0,0),IF($H$2=$V$7,OFFSET(Tabelle!AA40,0,0),IF($H$2=$V$8,OFFSET(Tabelle!AN40,0,0))))),\"\")","v":""},{"$f":"IF(ISERROR(IF($H$2=$V$5,VLOOKUP($I40,Tabelle!$A:$B,2,0),IF($H$2=$V$6,VLOOKUP($I40,Tabelle!$N:$O,2,0),IF($H$2=$V$7,VLOOKUP($I40,Tabelle!$AA:$AB,2,0),IF($H$2=$V$8,VLOOKUP($I40,Tabelle!$AN:$AO,2,0)))))),\"\",IF($H$2=$V$5,VLOOKUP($I40,Tabelle!$A:$B,2,0),IF($H$2=$V$6,VLOOKUP($I40,Tabelle!$N:$O,2,0),IF($H$2=$V$7,VLOOKUP($I40,Tabelle!$AA:$AB,2,0),IF($H$2=$V$8,VLOOKUP($I40,Tabelle!$AN:$AO,2,0))))))","v":""},{"$f":"IF(ISERROR(IF($H$2=$V$5,VLOOKUP($I40,Tabelle!$A:$C,3,0),IF($H$2=$V$6,VLOOKUP($I40,Tabelle!$N:$P,3,0),IF($H$2=$V$7,VLOOKUP($I40,Tabelle!$AA:$AC,3,0),IF($H$2=$V$8,VLOOKUP($I40,Tabelle!$AN:$AP,3,0)))))),\"\",IF($H$2=$V$5,VLOOKUP($I40,Tabelle!$A:$C,3,0),IF($H$2=$V$6,VLOOKUP($I40,Tabelle!$N:$P,3,0),IF($H$2=$V$7,VLOOKUP($I40,Tabelle!$AA:$AC,3,0),IF($H$2=$V$8,VLOOKUP($I40,Tabelle!$AN:$AP,3,0))))))","v":""},{"$f":"IF(ISERROR(IF($H$2=$V$5,VLOOKUP($I40,Tabelle!$A:$D,4,0),IF($H$2=$V$6,VLOOKUP($I40,Tabelle!$N:$Q,4,0),IF($H$2=$V$7,VLOOKUP($I40,Tabelle!$AA:$AD,4,0),IF($H$2=$V$8,VLOOKUP($I40,Tabelle!$AN:$AQ,4,0)))))),\"\",IF($H$2=$V$5,VLOOKUP($I40,Tabelle!$A:$D,4,0),IF($H$2=$V$6,VLOOKUP($I40,Tabelle!$N:$Q,4,0),IF($H$2=$V$7,VLOOKUP($I40,Tabelle!$AA:$AD,4,0),IF($H$2=$V$8,VLOOKUP($I40,Tabelle!$AN:$AQ,4,0))))))","v":""},{"$f":"IF(ISERROR(IF($H$2=$V$5,VLOOKUP($I40,Tabelle!$A:$E,5,0),IF($H$2=$V$6,VLOOKUP($I40,Tabelle!$N:$R,5,0),IF($H$2=$V$7,VLOOKUP($I40,Tabelle!$AA:$AE,5,0),IF($H$2=$V$8,VLOOKUP($I40,Tabelle!$AN:$AR,5,0)))))),\"\",IF($H$2=$V$5,VLOOKUP($I40,Tabelle!$A:$E,5,0),IF($H$2=$V$6,VLOOKUP($I40,Tabelle!$N:$R,5,0),IF($H$2=$V$7,VLOOKUP($I40,Tabelle!$AA:$AE,5,0),IF($H$2=$V$8,VLOOKUP($I40,Tabelle!$AN:$AR,5,0))))))","v":""},{"$f":"IF(ISERROR(IF($H$2=$V$5,VLOOKUP($I40,Tabelle!$A:$F,6,0),IF($H$2=$V$6,VLOOKUP($I40,Tabelle!$N:$S,6,0),IF($H$2=$V$7,VLOOKUP($I40,Tabelle!$AA:$AF,6,0),IF($H$2=$V$8,VLOOKUP($I40,Tabelle!$AN:$AS,6,0)))))),\"\",IF($H$2=$V$5,VLOOKUP($I40,Tabelle!$A:$F,6,0),IF($H$2=$V$6,VLOOKUP($I40,Tabelle!$N:$S,6,0),IF($H$2=$V$7,VLOOKUP($I40,Tabelle!$AA:$AF,6,0),IF($H$2=$V$8,VLOOKUP($I40,Tabelle!$AN:$AS,6,0))))))","v":""},null,{"$f":"IF(ISNUMBER(IF($H$2=$V$5,OFFSET(Tabelle!H40,0,0),IF($H$2=$V$6,OFFSET(Tabelle!U40,0,0),IF($H$2=$V$7,OFFSET(Tabelle!AH40,0,0),IF($H$2=$V$8,OFFSET(Tabelle!AV40,0,0)))))),IF($H$2=$V$5,OFFSET(Tabelle!H40,0,0),IF($H$2=$V$6,OFFSET(Tabelle!U40,0,0),IF($H$2=$V$7,OFFSET(Tabelle!AH40,0,0),IF($H$2=$V$8,OFFSET(Tabelle!AU40,0,0))))),\"\")","v":""},{"$f":"IF(ISERROR(IF($H$2=$V$5,VLOOKUP($P40,Tabelle!$H:$I,2,0),IF($H$2=$V$6,VLOOKUP($P40,Tabelle!$U:$V,2,0),IF($H$2=$V$7,VLOOKUP($P40,Tabelle!$AH:$AI,2,0),IF($H$2=$V$8,VLOOKUP($P40,Tabelle!$AU:$AV,2,0)))))),\"\",IF($H$2=$V$5,VLOOKUP($P40,Tabelle!$H:$I,2,0),IF($H$2=$V$6,VLOOKUP($P40,Tabelle!$U:$V,2,0),IF($H$2=$V$7,VLOOKUP($P40,Tabelle!$AH:$AI,2,0),IF($H$2=$V$8,VLOOKUP($P40,Tabelle!$AU:$AV,2,0))))))","v":""},{"$f":"IF(ISERROR(IF($H$2=$V$5,VLOOKUP($P40,Tabelle!$H:$J,3,0),IF($H$2=$V$6,VLOOKUP($P40,Tabelle!$U:$W,3,0),IF($H$2=$V$7,VLOOKUP($P40,Tabelle!$AH:$AJ,3,0),IF($H$2=$V$8,VLOOKUP($P40,Tabelle!$AU:$AW,3,0)))))),\"\",IF($H$2=$V$5,VLOOKUP($P40,Tabelle!$H:$J,3,0),IF($H$2=$V$6,VLOOKUP($P40,Tabelle!$U:$W,3,0),IF($H$2=$V$7,VLOOKUP($P40,Tabelle!$AH:$AJ,3,0),IF($H$2=$V$8,VLOOKUP($P40,Tabelle!$AU:$AW,3,0))))))","v":""},{"$f":"IF(ISERROR(IF($H$2=$V$5,VLOOKUP($P40,Tabelle!$H:$K,4,0),IF($H$2=$V$6,VLOOKUP($P40,Tabelle!$U:$X,4,0),IF($H$2=$V$7,VLOOKUP($P40,Tabelle!$AH:$AK,4,0),IF($H$2=$V$8,VLOOKUP($P40,Tabelle!$AU:$AX,4,0)))))),\"\",IF($H$2=$V$5,VLOOKUP($P40,Tabelle!$H:$K,4,0),IF($H$2=$V$6,VLOOKUP($P40,Tabelle!$U:$X,4,0),IF($H$2=$V$7,VLOOKUP($P40,Tabelle!$AH:$AK,4,0),IF($H$2=$V$8,VLOOKUP($P40,Tabelle!$AU:$AX,4,0))))))","v":""},{"$f":"IF(ISERROR(IF($H$2=$V$5,VLOOKUP($P40,Tabelle!$H:$L,5,0),IF($H$2=$V$6,VLOOKUP($P40,Tabelle!$U:$Y,5,0),IF($H$2=$V$7,VLOOKUP($P40,Tabelle!$AH:$AL,5,0),IF($H$2=$V$8,VLOOKUP($P40,Tabelle!$AU:$AY,5,0)))))),\"\",IF($H$2=$V$5,VLOOKUP($P40,Tabelle!$H:$L,5,0),IF($H$2=$V$6,VLOOKUP($P40,Tabelle!$U:$Y,5,0),IF($H$2=$V$7,VLOOKUP($P40,Tabelle!$AH:$AL,5,0),IF($H$2=$V$8,VLOOKUP($P40,Tabelle!$AU:$AY,5,0))))))","v":""},null,null,null,null,"","","","","",null,null,"","","",""]
[null,null,null,null,null,null,null,null,{"$f":"IF(ISNUMBER(IF($H$2=$V$5,OFFSET(Tabelle!A41,0,0),IF($H$2=$V$6,OFFSET(Tabelle!N41,0,0),IF($H$2=$V$7,OFFSET(Tabelle!AA41,0,0),IF($H$2=$V$8,OFFSET(Tabelle!AN41,0,0)))))),IF($H$2=$V$5,OFFSET(Tabelle!A41,0,0),IF($H$2=$V$6,OFFSET(Tabelle!N41,0,0),IF($H$2=$V$7,OFFSET(Tabelle!AA41,0,0),IF($H$2=$V$8,OFFSET(Tabelle!AN41,0,0))))),\"\")","v":""},{"$f":"IF(ISERROR(IF($H$2=$V$5,VLOOKUP($I41,Tabelle!$A:$B,2,0),IF($H$2=$V$6,VLOOKUP($I41,Tabelle!$N:$O,2,0),IF($H$2=$V$7,VLOOKUP($I41,Tabelle!$AA:$AB,2,0),IF($H$2=$V$8,VLOOKUP($I41,Tabelle!$AN:$AO,2,0)))))),\"\",IF($H$2=$V$5,VLOOKUP($I41,Tabelle!$A:$B,2,0),IF($H$2=$V$6,VLOOKUP($I41,Tabelle!$N:$O,2,0),IF($H$2=$V$7,VLOOKUP($I41,Tabelle!$AA:$AB,2,0),IF($H$2=$V$8,VLOOKUP($I41,Tabelle!$AN:$AO,2,0))))))","v":""},{"$f":"IF(ISERROR(IF($H$2=$V$5,VLOOKUP($I41,Tabelle!$A:$C,3,0),IF($H$2=$V$6,VLOOKUP($I41,Tabelle!$N:$P,3,0),IF($H$2=$V$7,VLOOKUP($I41,Tabelle!$AA:$AC,3,0),IF($H$2=$V$8,VLOOKUP($I41,Tabelle!$AN:$AP,3,0)))))),\"\",IF($H$2=$V$5,VLOOKUP($I41,Tabelle!$A:$C,3,0),IF($H$2=$V$6,VLOOKUP($I41,Tabelle!$N:$P,3,0),IF($H$2=$V$7,VLOOKUP($I41,Tabelle!$AA:$AC,3,0),IF($H$2=$V$8,VLOOKUP($I41,Tabelle!$AN:$AP,3,0))))))","v":""},{"$f":"IF(ISERROR(IF($H$2=$V$5,VLOOKUP($I41,Tabelle!$A:$D,4,0),IF($H$2=$V$6,VLOOKUP($I41,Tabelle!$N:$Q,4,0),IF($H$2=$V$7,VLOOKUP($I41,Tabelle!$AA:$AD,4,0),IF($H$2=$V$8,VLOOKUP($I41,Tabelle!$AN:$AQ,4,0)))))),\"\",IF($H$2=$V$5,VLOOKUP($I41,Tabelle!$A:$D,4,0),IF($H$2=$V$6,VLOOKUP($I41,Tabelle!$N:$Q,4,0),IF($H$2=$V$7,VLOOKUP($I41,Tabelle!$AA:$AD,4,0),IF($H$2=$V$8,VLOOKUP($I41,Tabelle!$AN:$AQ,4,0))))))","v":""},{"$f":"IF(ISERROR(IF($H$2=$V$5,VLOOKUP($I41,Tabelle!$A:$E,5,0),IF($H$2=$V$6,VLOOKUP($I41,Tabelle!$N:$R,5,0),IF($H$2=$V$7,VLOOKUP($I41,Tabelle!$AA:$AE,5,0),IF($H$2=$V$8,VLOOKUP($I41,Tabelle!$AN:$AR,5,0)))))),\"\",IF($H$2=$V$5,VLOOKUP($I41,Tabelle!$A:$E,5,0),IF($H$2=$V$6,VLOOKUP($I41,Tabelle!$N:$R,5,0),IF($H$2=$V$7,VLOOKUP($I41,Tabelle!$AA:$AE,5,0),IF($H$2=$V$8,VLOOKUP($I41,Tabelle!$AN:$AR,5,0))))))","v":""},{"$f":"IF(ISERROR(IF($H$2=$V$5,VLOOKUP($I41,Tabelle!$A:$F,6,0),IF($H$2=$V$6,VLOOKUP($I41,Tabelle!$N:$S,6,0),IF($H$2=$V$7,VLOOKUP($I41,Tabelle!$AA:$AF,6,0),IF($H$2=$V$8,VLOOKUP($I41,Tabelle!$AN:$AS,6,0)))))),\"\",IF($H$2=$V$5,VLOOKUP($I41,Tabelle!$A:$F,6,0),IF($H$2=$V$6,VLOOKUP($I41,Tabelle!$N:$S,6,0),IF($H$2=$V$7,VLOOKUP($I41,Tabelle!$AA:$AF,6,0),IF($H$2=$V$8,VLOOKUP($I41,Tabelle!$AN:$AS,6,0))))))","v":""},null,{"$f":"IF(ISNUMBER(IF($H$2=$V$5,OFFSET(Tabelle!H41,0,0),IF($H$2=$V$6,OFFSET(Tabelle!U41,0,0),IF($H$2=$V$7,OFFSET(Tabelle!AH41,0,0),IF($H$2=$V$8,OFFSET(Tabelle!AV41,0,0)))))),IF($H$2=$V$5,OFFSET(Tabelle!H41,0,0),IF($H$2=$V$6,OFFSET(Tabelle!U41,0,0),IF($H$2=$V$7,OFFSET(Tabelle!AH41,0,0),IF($H$2=$V$8,OFFSET(Tabelle!AU41,0,0))))),\"\")","v":""},{"$f":"IF(ISERROR(IF($H$2=$V$5,VLOOKUP($P41,Tabelle!$H:$I,2,0),IF($H$2=$V$6,VLOOKUP($P41,Tabelle!$U:$V,2,0),IF($H$2=$V$7,VLOOKUP($P41,Tabelle!$AH:$AI,2,0),IF($H$2=$V$8,VLOOKUP($P41,Tabelle!$AU:$AV,2,0)))))),\"\",IF($H$2=$V$5,VLOOKUP($P41,Tabelle!$H:$I,2,0),IF($H$2=$V$6,VLOOKUP($P41,Tabelle!$U:$V,2,0),IF($H$2=$V$7,VLOOKUP($P41,Tabelle!$AH:$AI,2,0),IF($H$2=$V$8,VLOOKUP($P41,Tabelle!$AU:$AV,2,0))))))","v":""},{"$f":"IF(ISERROR(IF($H$2=$V$5,VLOOKUP($P41,Tabelle!$H:$J,3,0),IF($H$2=$V$6,VLOOKUP($P41,Tabelle!$U:$W,3,0),IF($H$2=$V$7,VLOOKUP($P41,Tabelle!$AH:$AJ,3,0),IF($H$2=$V$8,VLOOKUP($P41,Tabelle!$AU:$AW,3,0)))))),\"\",IF($H$2=$V$5,VLOOKUP($P41,Tabelle!$H:$J,3,0),IF($H$2=$V$6,VLOOKUP($P41,Tabelle!$U:$W,3,0),IF($H$2=$V$7,VLOOKUP($P41,Tabelle!$AH:$AJ,3,0),IF($H$2=$V$8,VLOOKUP($P41,Tabelle!$AU:$AW,3,0))))))","v":""},{"$f":"IF(ISERROR(IF($H$2=$V$5,VLOOKUP($P41,Tabelle!$H:$K,4,0),IF($H$2=$V$6,VLOOKUP($P41,Tabelle!$U:$X,4,0),IF($H$2=$V$7,VLOOKUP($P41,Tabelle!$AH:$AK,4,0),IF($H$2=$V$8,VLOOKUP($P41,Tabelle!$AU:$AX,4,0)))))),\"\",IF($H$2=$V$5,VLOOKUP($P41,Tabelle!$H:$K,4,0),IF($H$2=$V$6,VLOOKUP($P41,Tabelle!$U:$X,4,0),IF($H$2=$V$7,VLOOKUP($P41,Tabelle!$AH:$AK,4,0),IF($H$2=$V$8,VLOOKUP($P41,Tabelle!$AU:$AX,4,0))))))","v":""},{"$f":"IF(ISERROR(IF($H$2=$V$5,VLOOKUP($P41,Tabelle!$H:$L,5,0),IF($H$2=$V$6,VLOOKUP($P41,Tabelle!$U:$Y,5,0),IF($H$2=$V$7,VLOOKUP($P41,Tabelle!$AH:$AL,5,0),IF($H$2=$V$8,VLOOKUP($P41,Tabelle!$AU:$AY,5,0)))))),\"\",IF($H$2=$V$5,VLOOKUP($P41,Tabelle!$H:$L,5,0),IF($H$2=$V$6,VLOOKUP($P41,Tabelle!$U:$Y,5,0),IF($H$2=$V$7,VLOOKUP($P41,Tabelle!$AH:$AL,5,0),IF($H$2=$V$8,VLOOKUP($P41,Tabelle!$AU:$AY,5,0))))))","v":""},null,null,null,null,"","","","","",null,null,"","","",""]
[null,null,null,null,null,null,null,null,{"$f":"IF(ISNUMBER(IF($H$2=$V$5,OFFSET(Tabelle!A42,0,0),IF($H$2=$V$6,OFFSET(Tabelle!N42,0,0),IF($H$2=$V$7,OFFSET(Tabelle!AA42,0,0),IF($H$2=$V$8,OFFSET(Tabelle!AN42,0,0)))))),IF($H$2=$V$5,OFFSET(Tabelle!A42,0,0),IF($H$2=$V$6,OFFSET(Tabelle!N42,0,0),IF($H$2=$V$7,OFFSET(Tabelle!AA42,0,0),IF($H$2=$V$8,OFFSET(Tabelle!AN42,0,0))))),\"\")","v":""},{"$f":"IF(ISERROR(IF($H$2=$V$5,VLOOKUP($I42,Tabelle!$A:$B,2,0),IF($H$2=$V$6,VLOOKUP($I42,Tabelle!$N:$O,2,0),IF($H$2=$V$7,VLOOKUP($I42,Tabelle!$AA:$AB,2,0),IF($H$2=$V$8,VLOOKUP($I42,Tabelle!$AN:$AO,2,0)))))),\"\",IF($H$2=$V$5,VLOOKUP($I42,Tabelle!$A:$B,2,0),IF($H$2=$V$6,VLOOKUP($I42,Tabelle!$N:$O,2,0),IF($H$2=$V$7,VLOOKUP($I42,Tabelle!$AA:$AB,2,0),IF($H$2=$V$8,VLOOKUP($I42,Tabelle!$AN:$AO,2,0))))))","v":""},{"$f":"IF(ISERROR(IF($H$2=$V$5,VLOOKUP($I42,Tabelle!$A:$C,3,0),IF($H$2=$V$6,VLOOKUP($I42,Tabelle!$N:$P,3,0),IF($H$2=$V$7,VLOOKUP($I42,Tabelle!$AA:$AC,3,0),IF($H$2=$V$8,VLOOKUP($I42,Tabelle!$AN:$AP,3,0)))))),\"\",IF($H$2=$V$5,VLOOKUP($I42,Tabelle!$A:$C,3,0),IF($H$2=$V$6,VLOOKUP($I42,Tabelle!$N:$P,3,0),IF($H$2=$V$7,VLOOKUP($I42,Tabelle!$AA:$AC,3,0),IF($H$2=$V$8,VLOOKUP($I42,Tabelle!$AN:$AP,3,0))))))","v":""},{"$f":"IF(ISERROR(IF($H$2=$V$5,VLOOKUP($I42,Tabelle!$A:$D,4,0),IF($H$2=$V$6,VLOOKUP($I42,Tabelle!$N:$Q,4,0),IF($H$2=$V$7,VLOOKUP($I42,Tabelle!$AA:$AD,4,0),IF($H$2=$V$8,VLOOKUP($I42,Tabelle!$AN:$AQ,4,0)))))),\"\",IF($H$2=$V$5,VLOOKUP($I42,Tabelle!$A:$D,4,0),IF($H$2=$V$6,VLOOKUP($I42,Tabelle!$N:$Q,4,0),IF($H$2=$V$7,VLOOKUP($I42,Tabelle!$AA:$AD,4,0),IF($H$2=$V$8,VLOOKUP($I42,Tabelle!$AN:$AQ,4,0))))))","v":""},{"$f":"IF(ISERROR(IF($H$2=$V$5,VLOOKUP($I42,Tabelle!$A:$E,5,0),IF($H$2=$V$6,VLOOKUP($I42,Tabelle!$N:$R,5,0),IF($H$2=$V$7,VLOOKUP($I42,Tabelle!$AA:$AE,5,0),IF($H$2=$V$8,VLOOKUP($I42,Tabelle!$AN:$AR,5,0)))))),\"\",IF($H$2=$V$5,VLOOKUP($I42,Tabelle!$A:$E,5,0),IF($H$2=$V$6,VLOOKUP($I42,Tabelle!$N:$R,5,0),IF($H$2=$V$7,VLOOKUP($I42,Tabelle!$AA:$AE,5,0),IF($H$2=$V$8,VLOOKUP($I42,Tabelle!$AN:$AR,5,0))))))","v":""},{"$f":"IF(ISERROR(IF($H$2=$V$5,VLOOKUP($I42,Tabelle!$A:$F,6,0),IF($H$2=$V$6,VLOOKUP($I42,Tabelle!$N:$S,6,0),IF($H$2=$V$7,VLOOKUP($I42,Tabelle!$AA:$AF,6,0),IF($H$2=$V$8,VLOOKUP($I42,Tabelle!$AN:$AS,6,0)))))),\"\",IF($H$2=$V$5,VLOOKUP($I42,Tabelle!$A:$F,6,0),IF($H$2=$V$6,VLOOKUP($I42,Tabelle!$N:$S,6,0),IF($H$2=$V$7,VLOOKUP($I42,Tabelle!$AA:$AF,6,0),IF($H$2=$V$8,VLOOKUP($I42,Tabelle!$AN:$AS,6,0))))))","v":""},null,{"$f":"IF(ISNUMBER(IF($H$2=$V$5,OFFSET(Tabelle!H42,0,0),IF($H$2=$V$6,OFFSET(Tabelle!U42,0,0),IF($H$2=$V$7,OFFSET(Tabelle!AH42,0,0),IF($H$2=$V$8,OFFSET(Tabelle!AV42,0,0)))))),IF($H$2=$V$5,OFFSET(Tabelle!H42,0,0),IF($H$2=$V$6,OFFSET(Tabelle!U42,0,0),IF($H$2=$V$7,OFFSET(Tabelle!AH42,0,0),IF($H$2=$V$8,OFFSET(Tabelle!AU42,0,0))))),\"\")","v":""},{"$f":"IF(ISERROR(IF($H$2=$V$5,VLOOKUP($P42,Tabelle!$H:$I,2,0),IF($H$2=$V$6,VLOOKUP($P42,Tabelle!$U:$V,2,0),IF($H$2=$V$7,VLOOKUP($P42,Tabelle!$AH:$AI,2,0),IF($H$2=$V$8,VLOOKUP($P42,Tabelle!$AU:$AV,2,0)))))),\"\",IF($H$2=$V$5,VLOOKUP($P42,Tabelle!$H:$I,2,0),IF($H$2=$V$6,VLOOKUP($P42,Tabelle!$U:$V,2,0),IF($H$2=$V$7,VLOOKUP($P42,Tabelle!$AH:$AI,2,0),IF($H$2=$V$8,VLOOKUP($P42,Tabelle!$AU:$AV,2,0))))))","v":""},{"$f":"IF(ISERROR(IF($H$2=$V$5,VLOOKUP($P42,Tabelle!$H:$J,3,0),IF($H$2=$V$6,VLOOKUP($P42,Tabelle!$U:$W,3,0),IF($H$2=$V$7,VLOOKUP($P42,Tabelle!$AH:$AJ,3,0),IF($H$2=$V$8,VLOOKUP($P42,Tabelle!$AU:$AW,3,0)))))),\"\",IF($H$2=$V$5,VLOOKUP($P42,Tabelle!$H:$J,3,0),IF($H$2=$V$6,VLOOKUP($P42,Tabelle!$U:$W,3,0),IF($H$2=$V$7,VLOOKUP($P42,Tabelle!$AH:$AJ,3,0),IF($H$2=$V$8,VLOOKUP($P42,Tabelle!$AU:$AW,3,0))))))","v":""},{"$f":"IF(ISERROR(IF($H$2=$V$5,VLOOKUP($P42,Tabelle!$H:$K,4,0),IF($H$2=$V$6,VLOOKUP($P42,Tabelle!$U:$X,4,0),IF($H$2=$V$7,VLOOKUP($P42,Tabelle!$AH:$AK,4,0),IF($H$2=$V$8,VLOOKUP($P42,Tabelle!$AU:$AX,4,0)))))),\"\",IF($H$2=$V$5,VLOOKUP($P42,Tabelle!$H:$K,4,0),IF($H$2=$V$6,VLOOKUP($P42,Tabelle!$U:$X,4,0),IF($H$2=$V$7,VLOOKUP($P42,Tabelle!$AH:$AK,4,0),IF($H$2=$V$8,VLOOKUP($P42,Tabelle!$AU:$AX,4,0))))))","v":""},{"$f":"IF(ISERROR(IF($H$2=$V$5,VLOOKUP($P42,Tabelle!$H:$L,5,0),IF($H$2=$V$6,VLOOKUP($P42,Tabelle!$U:$Y,5,0),IF($H$2=$V$7,VLOOKUP($P42,Tabelle!$AH:$AL,5,0),IF($H$2=$V$8,VLOOKUP($P42,Tabelle!$AU:$AY,5,0)))))),\"\",IF($H$2=$V$5,VLOOKUP($P42,Tabelle!$H:$L,5,0),IF($H$2=$V$6,VLOOKUP($P42,Tabelle!$U:$Y,5,0),IF($H$2=$V$7,VLOOKUP($P42,Tabelle!$AH:$AL,5,0),IF($H$2=$V$8,VLOOKUP($P42,Tabelle!$AU:$AY,5,0))))))","v":""},null,null,null,null,"","","","","",null,null,"","","",""]
[null,null,null,null,null,null,null,null,{"$f":"IF(ISNUMBER(IF($H$2=$V$5,OFFSET(Tabelle!A43,0,0),IF($H$2=$V$6,OFFSET(Tabelle!N43,0,0),IF($H$2=$V$7,OFFSET(Tabelle!AA43,0,0),IF($H$2=$V$8,OFFSET(Tabelle!AN43,0,0)))))),IF($H$2=$V$5,OFFSET(Tabelle!A43,0,0),IF($H$2=$V$6,OFFSET(Tabelle!N43,0,0),IF($H$2=$V$7,OFFSET(Tabelle!AA43,0,0),IF($H$2=$V$8,OFFSET(Tabelle!AN43,0,0))))),\"\")","v":""},{"$f":"IF(ISERROR(IF($H$2=$V$5,VLOOKUP($I43,Tabelle!$A:$B,2,0),IF($H$2=$V$6,VLOOKUP($I43,Tabelle!$N:$O,2,0),IF($H$2=$V$7,VLOOKUP($I43,Tabelle!$AA:$AB,2,0),IF($H$2=$V$8,VLOOKUP($I43,Tabelle!$AN:$AO,2,0)))))),\"\",IF($H$2=$V$5,VLOOKUP($I43,Tabelle!$A:$B,2,0),IF($H$2=$V$6,VLOOKUP($I43,Tabelle!$N:$O,2,0),IF($H$2=$V$7,VLOOKUP($I43,Tabelle!$AA:$AB,2,0),IF($H$2=$V$8,VLOOKUP($I43,Tabelle!$AN:$AO,2,0))))))","v":""},{"$f":"IF(ISERROR(IF($H$2=$V$5,VLOOKUP($I43,Tabelle!$A:$C,3,0),IF($H$2=$V$6,VLOOKUP($I43,Tabelle!$N:$P,3,0),IF($H$2=$V$7,VLOOKUP($I43,Tabelle!$AA:$AC,3,0),IF($H$2=$V$8,VLOOKUP($I43,Tabelle!$AN:$AP,3,0)))))),\"\",IF($H$2=$V$5,VLOOKUP($I43,Tabelle!$A:$C,3,0),IF($H$2=$V$6,VLOOKUP($I43,Tabelle!$N:$P,3,0),IF($H$2=$V$7,VLOOKUP($I43,Tabelle!$AA:$AC,3,0),IF($H$2=$V$8,VLOOKUP($I43,Tabelle!$AN:$AP,3,0))))))","v":""},{"$f":"IF(ISERROR(IF($H$2=$V$5,VLOOKUP($I43,Tabelle!$A:$D,4,0),IF($H$2=$V$6,VLOOKUP($I43,Tabelle!$N:$Q,4,0),IF($H$2=$V$7,VLOOKUP($I43,Tabelle!$AA:$AD,4,0),IF($H$2=$V$8,VLOOKUP($I43,Tabelle!$AN:$AQ,4,0)))))),\"\",IF($H$2=$V$5,VLOOKUP($I43,Tabelle!$A:$D,4,0),IF($H$2=$V$6,VLOOKUP($I43,Tabelle!$N:$Q,4,0),IF($H$2=$V$7,VLOOKUP($I43,Tabelle!$AA:$AD,4,0),IF($H$2=$V$8,VLOOKUP($I43,Tabelle!$AN:$AQ,4,0))))))","v":""},{"$f":"IF(ISERROR(IF($H$2=$V$5,VLOOKUP($I43,Tabelle!$A:$E,5,0),IF($H$2=$V$6,VLOOKUP($I43,Tabelle!$N:$R,5,0),IF($H$2=$V$7,VLOOKUP($I43,Tabelle!$AA:$AE,5,0),IF($H$2=$V$8,VLOOKUP($I43,Tabelle!$AN:$AR,5,0)))))),\"\",IF($H$2=$V$5,VLOOKUP($I43,Tabelle!$A:$E,5,0),IF($H$2=$V$6,VLOOKUP($I43,Tabelle!$N:$R,5,0),IF($H$2=$V$7,VLOOKUP($I43,Tabelle!$AA:$AE,5,0),IF($H$2=$V$8,VLOOKUP($I43,Tabelle!$AN:$AR,5,0))))))","v":""},{"$f":"IF(ISERROR(IF($H$2=$V$5,VLOOKUP($I43,Tabelle!$A:$F,6,0),IF($H$2=$V$6,VLOOKUP($I43,Tabelle!$N:$S,6,0),IF($H$2=$V$7,VLOOKUP($I43,Tabelle!$AA:$AF,6,0),IF($H$2=$V$8,VLOOKUP($I43,Tabelle!$AN:$AS,6,0)))))),\"\",IF($H$2=$V$5,VLOOKUP($I43,Tabelle!$A:$F,6,0),IF($H$2=$V$6,VLOOKUP($I43,Tabelle!$N:$S,6,0),IF($H$2=$V$7,VLOOKUP($I43,Tabelle!$AA:$AF,6,0),IF($H$2=$V$8,VLOOKUP($I43,Tabelle!$AN:$AS,6,0))))))","v":""},null,{"$f":"IF(ISNUMBER(IF($H$2=$V$5,OFFSET(Tabelle!H43,0,0),IF($H$2=$V$6,OFFSET(Tabelle!U43,0,0),IF($H$2=$V$7,OFFSET(Tabelle!AH43,0,0),IF($H$2=$V$8,OFFSET(Tabelle!AV43,0,0)))))),IF($H$2=$V$5,OFFSET(Tabelle!H43,0,0),IF($H$2=$V$6,OFFSET(Tabelle!U43,0,0),IF($H$2=$V$7,OFFSET(Tabelle!AH43,0,0),IF($H$2=$V$8,OFFSET(Tabelle!AU43,0,0))))),\"\")","v":""},{"$f":"IF(ISERROR(IF($H$2=$V$5,VLOOKUP($P43,Tabelle!$H:$I,2,0),IF($H$2=$V$6,VLOOKUP($P43,Tabelle!$U:$V,2,0),IF($H$2=$V$7,VLOOKUP($P43,Tabelle!$AH:$AI,2,0),IF($H$2=$V$8,VLOOKUP($P43,Tabelle!$AU:$AV,2,0)))))),\"\",IF($H$2=$V$5,VLOOKUP($P43,Tabelle!$H:$I,2,0),IF($H$2=$V$6,VLOOKUP($P43,Tabelle!$U:$V,2,0),IF($H$2=$V$7,VLOOKUP($P43,Tabelle!$AH:$AI,2,0),IF($H$2=$V$8,VLOOKUP($P43,Tabelle!$AU:$AV,2,0))))))","v":""},{"$f":"IF(ISERROR(IF($H$2=$V$5,VLOOKUP($P43,Tabelle!$H:$J,3,0),IF($H$2=$V$6,VLOOKUP($P43,Tabelle!$U:$W,3,0),IF($H$2=$V$7,VLOOKUP($P43,Tabelle!$AH:$AJ,3,0),IF($H$2=$V$8,VLOOKUP($P43,Tabelle!$AU:$AW,3,0)))))),\"\",IF($H$2=$V$5,VLOOKUP($P43,Tabelle!$H:$J,3,0),IF($H$2=$V$6,VLOOKUP($P43,Tabelle!$U:$W,3,0),IF($H$2=$V$7,VLOOKUP($P43,Tabelle!$AH:$AJ,3,0),IF($H$2=$V$8,VLOOKUP($P43,Tabelle!$AU:$AW,3,0))))))","v":""},{"$f":"IF(ISERROR(IF($H$2=$V$5,VLOOKUP($P43,Tabelle!$H:$K,4,0),IF($H$2=$V$6,VLOOKUP($P43,Tabelle!$U:$X,4,0),IF($H$2=$V$7,VLOOKUP($P43,Tabelle!$AH:$AK,4,0),IF($H$2=$V$8,VLOOKUP($P43,Tabelle!$AU:$AX,4,0)))))),\"\",IF($H$2=$V$5,VLOOKUP($P43,Tabelle!$H:$K,4,0),IF($H$2=$V$6,VLOOKUP($P43,Tabelle!$U:$X,4,0),IF($H$2=$V$7,VLOOKUP($P43,Tabelle!$AH:$AK,4,0),IF($H$2=$V$8,VLOOKUP($P43,Tabelle!$AU:$AX,4,0))))))","v":""},{"$f":"IF(ISERROR(IF($H$2=$V$5,VLOOKUP($P43,Tabelle!$H:$L,5,0),IF($H$2=$V$6,VLOOKUP($P43,Tabelle!$U:$Y,5,0),IF($H$2=$V$7,VLOOKUP($P43,Tabelle!$AH:$AL,5,0),IF($H$2=$V$8,VLOOKUP($P43,Tabelle!$AU:$AY,5,0)))))),\"\",IF($H$2=$V$5,VLOOKUP($P43,Tabelle!$H:$L,5,0),IF($H$2=$V$6,VLOOKUP($P43,Tabelle!$U:$Y,5,0),IF($H$2=$V$7,VLOOKUP($P43,Tabelle!$AH:$AL,5,0),IF($H$2=$V$8,VLOOKUP($P43,Tabelle!$AU:$AY,5,0))))))","v":""},null,null,null,null,"","","","","",null,null,"","","",""]
[null,null,null,null,null,null,null,null,null,null,null,null,null,null,null,{"$f":"IF(ISNUMBER(IF($H$2=$V$5,OFFSET(Tabelle!H44,0,0),IF($H$2=$V$6,OFFSET(Tabelle!U44,0,0),IF($H$2=$V$7,OFFSET(Tabelle!AH44,0,0),IF($H$2=$V$8,OFFSET(Tabelle!AV44,0,0)))))),IF($H$2=$V$5,OFFSET(Tabelle!H44,0,0),IF($H$2=$V$6,OFFSET(Tabelle!U44,0,0),IF($H$2=$V$7,OFFSET(Tabelle!AH44,0,0),IF($H$2=$V$8,OFFSET(Tabelle!AU44,0,0))))),\"\")","v":""},{"$f":"IF(ISERROR(IF($H$2=$V$5,VLOOKUP($P44,Tabelle!$H:$I,2,0),IF($H$2=$V$6,VLOOKUP($P44,Tabelle!$U:$V,2,0),IF($H$2=$V$7,VLOOKUP($P44,Tabelle!$AH:$AI,2,0),IF($H$2=$V$8,VLOOKUP($P44,Tabelle!$AU:$AV,2,0)))))),\"\",IF($H$2=$V$5,VLOOKUP($P44,Tabelle!$H:$I,2,0),IF($H$2=$V$6,VLOOKUP($P44,Tabelle!$U:$V,2,0),IF($H$2=$V$7,VLOOKUP($P44,Tabelle!$AH:$AI,2,0),IF($H$2=$V$8,VLOOKUP($P44,Tabelle!$AU:$AV,2,0))))))","v":""},{"$f":"IF(ISERROR(IF($H$2=$V$5,VLOOKUP($P44,Tabelle!$H:$J,3,0),IF($H$2=$V$6,VLOOKUP($P44,Tabelle!$U:$W,3,0),IF($H$2=$V$7,VLOOKUP($P44,Tabelle!$AH:$AJ,3,0),IF($H$2=$V$8,VLOOKUP($P44,Tabelle!$AU:$AW,3,0)))))),\"\",IF($H$2=$V$5,VLOOKUP($P44,Tabelle!$H:$J,3,0),IF($H$2=$V$6,VLOOKUP($P44,Tabelle!$U:$W,3,0),IF($H$2=$V$7,VLOOKUP($P44,Tabelle!$AH:$AJ,3,0),IF($H$2=$V$8,VLOOKUP($P44,Tabelle!$AU:$AW,3,0))))))","v":""},{"$f":"IF(ISERROR(IF($H$2=$V$5,VLOOKUP($P44,Tabelle!$H:$K,4,0),IF($H$2=$V$6,VLOOKUP($P44,Tabelle!$U:$X,4,0),IF($H$2=$V$7,VLOOKUP($P44,Tabelle!$AH:$AK,4,0),IF($H$2=$V$8,VLOOKUP($P44,Tabelle!$AU:$AX,4,0)))))),\"\",IF($H$2=$V$5,VLOOKUP($P44,Tabelle!$H:$K,4,0),IF($H$2=$V$6,VLOOKUP($P44,Tabelle!$U:$X,4,0),IF($H$2=$V$7,VLOOKUP($P44,Tabelle!$AH:$AK,4,0),IF($H$2=$V$8,VLOOKUP($P44,Tabelle!$AU:$AX,4,0))))))","v":""},{"$f":"IF(ISERROR(IF($H$2=$V$5,VLOOKUP($P44,Tabelle!$H:$L,5,0),IF($H$2=$V$6,VLOOKUP($P44,Tabelle!$U:$Y,5,0),IF($H$2=$V$7,VLOOKUP($P44,Tabelle!$AH:$AL,5,0),IF($H$2=$V$8,VLOOKUP($P44,Tabelle!$AU:$AY,5,0)))))),\"\",IF($H$2=$V$5,VLOOKUP($P44,Tabelle!$H:$L,5,0),IF($H$2=$V$6,VLOOKUP($P44,Tabelle!$U:$Y,5,0),IF($H$2=$V$7,VLOOKUP($P44,Tabelle!$AH:$AL,5,0),IF($H$2=$V$8,VLOOKUP($P44,Tabelle!$AU:$AY,5,0))))))","v":""},null,null,null,null,null,null,null,null,null,null,null,"","","",""]
[null,null,null,null,null,null,null,null,null,null,null,null,null,null,null,{"$f":"IF(ISNUMBER(IF($H$2=$V$5,OFFSET(Tabelle!H45,0,0),IF($H$2=$V$6,OFFSET(Tabelle!U45,0,0),IF($H$2=$V$7,OFFSET(Tabelle!AH45,0,0),IF($H$2=$V$8,OFFSET(Tabelle!AV45,0,0)))))),IF($H$2=$V$5,OFFSET(Tabelle!H45,0,0),IF($H$2=$V$6,OFFSET(Tabelle!U45,0,0),IF($H$2=$V$7,OFFSET(Tabelle!AH45,0,0),IF($H$2=$V$8,OFFSET(Tabelle!AU45,0,0))))),\"\")","v":""},{"$f":"IF(ISERROR(IF($H$2=$V$5,VLOOKUP($P45,Tabelle!$H:$I,2,0),IF($H$2=$V$6,VLOOKUP($P45,Tabelle!$U:$V,2,0),IF($H$2=$V$7,VLOOKUP($P45,Tabelle!$AH:$AI,2,0),IF($H$2=$V$8,VLOOKUP($P45,Tabelle!$AU:$AV,2,0)))))),\"\",IF($H$2=$V$5,VLOOKUP($P45,Tabelle!$H:$I,2,0),IF($H$2=$V$6,VLOOKUP($P45,Tabelle!$U:$V,2,0),IF($H$2=$V$7,VLOOKUP($P45,Tabelle!$AH:$AI,2,0),IF($H$2=$V$8,VLOOKUP($P45,Tabelle!$AU:$AV,2,0))))))","v":""},{"$f":"IF(ISERROR(IF($H$2=$V$5,VLOOKUP($P45,Tabelle!$H:$J,3,0),IF($H$2=$V$6,VLOOKUP($P45,Tabelle!$U:$W,3,0),IF($H$2=$V$7,VLOOKUP($P45,Tabelle!$AH:$AJ,3,0),IF($H$2=$V$8,VLOOKUP($P45,Tabelle!$AU:$AW,3,0)))))),\"\",IF($H$2=$V$5,VLOOKUP($P45,Tabelle!$H:$J,3,0),IF($H$2=$V$6,VLOOKUP($P45,Tabelle!$U:$W,3,0),IF($H$2=$V$7,VLOOKUP($P45,Tabelle!$AH:$AJ,3,0),IF($H$2=$V$8,VLOOKUP($P45,Tabelle!$AU:$AW,3,0))))))","v":""},{"$f":"IF(ISERROR(IF($H$2=$V$5,VLOOKUP($P45,Tabelle!$H:$K,4,0),IF($H$2=$V$6,VLOOKUP($P45,Tabelle!$U:$X,4,0),IF($H$2=$V$7,VLOOKUP($P45,Tabelle!$AH:$AK,4,0),IF($H$2=$V$8,VLOOKUP($P45,Tabelle!$AU:$AX,4,0)))))),\"\",IF($H$2=$V$5,VLOOKUP($P45,Tabelle!$H:$K,4,0),IF($H$2=$V$6,VLOOKUP($P45,Tabelle!$U:$X,4,0),IF($H$2=$V$7,VLOOKUP($P45,Tabelle!$AH:$AK,4,0),IF($H$2=$V$8,VLOOKUP($P45,Tabelle!$AU:$AX,4,0))))))","v":""},{"$f":"IF(ISERROR(IF($H$2=$V$5,VLOOKUP($P45,Tabelle!$H:$L,5,0),IF($H$2=$V$6,VLOOKUP($P45,Tabelle!$U:$Y,5,0),IF($H$2=$V$7,VLOOKUP($P45,Tabelle!$AH:$AL,5,0),IF($H$2=$V$8,VLOOKUP($P45,Tabelle!$AU:$AY,5,0)))))),\"\",IF($H$2=$V$5,VLOOKUP($P45,Tabelle!$H:$L,5,0),IF($H$2=$V$6,VLOOKUP($P45,Tabelle!$U:$Y,5,0),IF($H$2=$V$7,VLOOKUP($P45,Tabelle!$AH:$AL,5,0),IF($H$2=$V$8,VLOOKUP($P45,Tabelle!$AU:$AY,5,0))))))","v":""},null,null,null,null,null,null,null,null,null,null,null,"","","",""]
[null,null,null,null,null,null,null,null,null,null,null,null,null,null,null,{"$f":"IF(ISNUMBER(IF($H$2=$V$5,OFFSET(Tabelle!H46,0,0),IF($H$2=$V$6,OFFSET(Tabelle!U46,0,0),IF($H$2=$V$7,OFFSET(Tabelle!AH46,0,0),IF($H$2=$V$8,OFFSET(Tabelle!AV46,0,0)))))),IF($H$2=$V$5,OFFSET(Tabelle!H46,0,0),IF($H$2=$V$6,OFFSET(Tabelle!U46,0,0),IF($H$2=$V$7,OFFSET(Tabelle!AH46,0,0),IF($H$2=$V$8,OFFSET(Tabelle!AU46,0,0))))),\"\")","v":""},{"$f":"IF(ISERROR(IF($H$2=$V$5,VLOOKUP($P46,Tabelle!$H:$I,2,0),IF($H$2=$V$6,VLOOKUP($P46,Tabelle!$U:$V,2,0),IF($H$2=$V$7,VLOOKUP($P46,Tabelle!$AH:$AI,2,0),IF($H$2=$V$8,VLOOKUP($P46,Tabelle!$AU:$AV,2,0)))))),\"\",IF($H$2=$V$5,VLOOKUP($P46,Tabelle!$H:$I,2,0),IF($H$2=$V$6,VLOOKUP($P46,Tabelle!$U:$V,2,0),IF($H$2=$V$7,VLOOKUP($P46,Tabelle!$AH:$AI,2,0),IF($H$2=$V$8,VLOOKUP($P46,Tabelle!$AU:$AV,2,0))))))","v":""},{"$f":"IF(ISERROR(IF($H$2=$V$5,VLOOKUP($P46,Tabelle!$H:$J,3,0),IF($H$2=$V$6,VLOOKUP($P46,Tabelle!$U:$W,3,0),IF($H$2=$V$7,VLOOKUP($P46,Tabelle!$AH:$AJ,3,0),IF($H$2=$V$8,VLOOKUP($P46,Tabelle!$AU:$AW,3,0)))))),\"\",IF($H$2=$V$5,VLOOKUP($P46,Tabelle!$H:$J,3,0),IF($H$2=$V$6,VLOOKUP($P46,Tabelle!$U:$W,3,0),IF($H$2=$V$7,VLOOKUP($P46,Tabelle!$AH:$AJ,3,0),IF($H$2=$V$8,VLOOKUP($P46,Tabelle!$AU:$AW,3,0))))))","v":""},{"$f":"IF(ISERROR(IF($H$2=$V$5,VLOOKUP($P46,Tabelle!$H:$K,4,0),IF($H$2=$V$6,VLOOKUP($P46,Tabelle!$U:$X,4,0),IF($H$2=$V$7,VLOOKUP($P46,Tabelle!$AH:$AK,4,0),IF($H$2=$V$8,VLOOKUP($P46,Tabelle!$AU:$AX,4,0)))))),\"\",IF($H$2=$V$5,VLOOKUP($P46,Tabelle!$H:$K,4,0),IF($H$2=$V$6,VLOOKUP($P46,Tabelle!$U:$X,4,0),IF($H$2=$V$7,VLOOKUP($P46,Tabelle!$AH:$AK,4,0),IF($H$2=$V$8,VLOOKUP($P46,Tabelle!$AU:$AX,4,0))))))","v":""},{"$f":"IF(ISERROR(IF($H$2=$V$5,VLOOKUP($P46,Tabelle!$H:$L,5,0),IF($H$2=$V$6,VLOOKUP($P46,Tabelle!$U:$Y,5,0),IF($H$2=$V$7,VLOOKUP($P46,Tabelle!$AH:$AL,5,0),IF($H$2=$V$8,VLOOKUP($P46,Tabelle!$AU:$AY,5,0)))))),\"\",IF($H$2=$V$5,VLOOKUP($P46,Tabelle!$H:$L,5,0),IF($H$2=$V$6,VLOOKUP($P46,Tabelle!$U:$Y,5,0),IF($H$2=$V$7,VLOOKUP($P46,Tabelle!$AH:$AL,5,0),IF($H$2=$V$8,VLOOKUP($P46,Tabelle!$AU:$AY,5,0))))))","v":""}]
[null,null,null,null,null,null,null,null,null,null,null,null,null,null,null,{"$f":"IF(ISNUMBER(IF($H$2=$V$5,OFFSET(Tabelle!H47,0,0),IF($H$2=$V$6,OFFSET(Tabelle!U47,0,0),IF($H$2=$V$7,OFFSET(Tabelle!AH47,0,0),IF($H$2=$V$8,OFFSET(Tabelle!AV47,0,0)))))),IF($H$2=$V$5,OFFSET(Tabelle!H47,0,0),IF($H$2=$V$6,OFFSET(Tabelle!U47,0,0),IF($H$2=$V$7,OFFSET(Tabelle!AH47,0,0),IF($H$2=$V$8,OFFSET(Tabelle!AU47,0,0))))),\"\")","v":""},{"$f":"IF(ISERROR(IF($H$2=$V$5,VLOOKUP($P47,Tabelle!$H:$I,2,0),IF($H$2=$V$6,VLOOKUP($P47,Tabelle!$U:$V,2,0),IF($H$2=$V$7,VLOOKUP($P47,Tabelle!$AH:$AI,2,0),IF($H$2=$V$8,VLOOKUP($P47,Tabelle!$AU:$AV,2,0)))))),\"\",IF($H$2=$V$5,VLOOKUP($P47,Tabelle!$H:$I,2,0),IF($H$2=$V$6,VLOOKUP($P47,Tabelle!$U:$V,2,0),IF($H$2=$V$7,VLOOKUP($P47,Tabelle!$AH:$AI,2,0),IF($H$2=$V$8,VLOOKUP($P47,Tabelle!$AU:$AV,2,0))))))","v":""},{"$f":"IF(ISERROR(IF($H$2=$V$5,VLOOKUP($P47,Tabelle!$H:$J,3,0),IF($H$2=$V$6,VLOOKUP($P47,Tabelle!$U:$W,3,0),IF($H$2=$V$7,VLOOKUP($P47,Tabelle!$AH:$AJ,3,0),IF($H$2=$V$8,VLOOKUP($P47,Tabelle!$AU:$AW,3,0)))))),\"\",IF($H$2=$V$5,VLOOKUP($P47,Tabelle!$H:$J,3,0),IF($H$2=$V$6,VLOOKUP($P47,Tabelle!$U:$W,3,0),IF($H$2=$V$7,VLOOKUP($P47,Tabelle!$AH:$AJ,3,0),IF($H$2=$V$8,VLOOKUP($P47,Tabelle!$AU:$AW,3,0))))))","v":""},{"$f":"IF(ISERROR(IF($H$2=$V$5,VLOOKUP($P47,Tabelle!$H:$K,4,0),IF($H$2=$V$6,VLOOKUP($P47,Tabelle!$U:$X,4,0),IF($H$2=$V$7,VLOOKUP($P47,Tabelle!$AH:$AK,4,0),IF($H$2=$V$8,VLOOKUP($P47,Tabelle!$AU:$AX,4,0)))))),\"\",IF($H$2=$V$5,VLOOKUP($P47,Tabelle!$H:$K,4,0),IF($H$2=$V$6,VLOOKUP($P47,Tabelle!$U:$X,4,0),IF($H$2=$V$7,VLOOKUP($P47,Tabelle!$AH:$AK,4,0),IF($H$2=$V$8,VLOOKUP($P47,Tabelle!$AU:$AX,4,0))))))","v":""},{"$f":"IF(ISERROR(IF($H$2=$V$5,VLOOKUP($P47,Tabelle!$H:$L,5,0),IF($H$2=$V$6,VLOOKUP($P47,Tabelle!$U:$Y,5,0),IF($H$2=$V$7,VLOOKUP($P47,Tabelle!$AH:$AL,5,0),IF($H$2=$V$8,VLOOKUP($P47,Tabelle!$AU:$AY,5,0)))))),\"\",IF($H$2=$V$5,VLOOKUP($P47,Tabelle!$H:$L,5,0),IF($H$2=$V$6,VLOOKUP($P47,Tabelle!$U:$Y,5,0),IF($H$2=$V$7,VLOOKUP($P47,Tabelle!$AH:$AL,5,0),IF($H$2=$V$8,VLOOKUP($P47,Tabelle!$AU:$AY,5,0))))))","v":""}]
[null,null,null,null,null,null,null,null,null,null,null,null,null,null,null,{"$f":"IF(ISNUMBER(IF($H$2=$V$5,OFFSET(Tabelle!H48,0,0),IF($H$2=$V$6,OFFSET(Tabelle!U48,0,0),IF($H$2=$V$7,OFFSET(Tabelle!AH48,0,0),IF($H$2=$V$8,OFFSET(Tabelle!AV48,0,0)))))),IF($H$2=$V$5,OFFSET(Tabelle!H48,0,0),IF($H$2=$V$6,OFFSET(Tabelle!U48,0,0),IF($H$2=$V$7,OFFSET(Tabelle!AH48,0,0),IF($H$2=$V$8,OFFSET(Tabelle!AU48,0,0))))),\"\")","v":""},{"$f":"IF(ISERROR(IF($H$2=$V$5,VLOOKUP($P48,Tabelle!$H:$I,2,0),IF($H$2=$V$6,VLOOKUP($P48,Tabelle!$U:$V,2,0),IF($H$2=$V$7,VLOOKUP($P48,Tabelle!$AH:$AI,2,0),IF($H$2=$V$8,VLOOKUP($P48,Tabelle!$AU:$AV,2,0)))))),\"\",IF($H$2=$V$5,VLOOKUP($P48,Tabelle!$H:$I,2,0),IF($H$2=$V$6,VLOOKUP($P48,Tabelle!$U:$V,2,0),IF($H$2=$V$7,VLOOKUP($P48,Tabelle!$AH:$AI,2,0),IF($H$2=$V$8,VLOOKUP($P48,Tabelle!$AU:$AV,2,0))))))","v":""},{"$f":"IF(ISERROR(IF($H$2=$V$5,VLOOKUP($P48,Tabelle!$H:$J,3,0),IF($H$2=$V$6,VLOOKUP($P48,Tabelle!$U:$W,3,0),IF($H$2=$V$7,VLOOKUP($P48,Tabelle!$AH:$AJ,3,0),IF($H$2=$V$8,VLOOKUP($P48,Tabelle!$AU:$AW,3,0)))))),\"\",IF($H$2=$V$5,VLOOKUP($P48,Tabelle!$H:$J,3,0),IF($H$2=$V$6,VLOOKUP($P48,Tabelle!$U:$W,3,0),IF($H$2=$V$7,VLOOKUP($P48,Tabelle!$AH:$AJ,3,0),IF($H$2=$V$8,VLOOKUP($P48,Tabelle!$AU:$AW,3,0))))))","v":""},{"$f":"IF(ISERROR(IF($H$2=$V$5,VLOOKUP($P48,Tabelle!$H:$K,4,0),IF($H$2=$V$6,VLOOKUP($P48,Tabelle!$U:$X,4,0),IF($H$2=$V$7,VLOOKUP($P48,Tabelle!$AH:$AK,4,0),IF($H$2=$V$8,VLOOKUP($P48,Tabelle!$AU:$AX,4,0)))))),\"\",IF($H$2=$V$5,VLOOKUP($P48,Tabelle!$H:$K,4,0),IF($H$2=$V$6,VLOOKUP($P48,Tabelle!$U:$X,4,0),IF($H$2=$V$7,VLOOKUP($P48,Tabelle!$AH:$AK,4,0),IF($H$2=$V$8,VLOOKUP($P48,Tabelle!$AU:$AX,4,0))))))","v":""},{"$f":"IF(ISERROR(IF($H$2=$V$5,VLOOKUP($P48,Tabelle!$H:$L,5,0),IF($H$2=$V$6,VLOOKUP($P48,Tabelle!$U:$Y,5,0),IF($H$2=$V$7,VLOOKUP($P48,Tabelle!$AH:$AL,5,0),IF($H$2=$V$8,VLOOKUP($P48,Tabelle!$AU:$AY,5,0)))))),\"\",IF($H$2=$V$5,VLOOKUP($P48,Tabelle!$H:$L,5,0),IF($H$2=$V$6,VLOOKUP($P48,Tabelle!$U:$Y,5,0),IF($H$2=$V$7,VLOOKUP($P48,Tabelle!$AH:$AL,5,0),IF($H$2=$V$8,VLOOKUP($P48,Tabelle!$AU:$AY,5,0))))))","v":""}]
["Source: Bloomberg, Ecowin Reuters, RZS Serbia"]