{"text_format":"1","workbook":"xlsx","n_sheets":7,"sheets":["Račun","rekapitulacija","A","bonta","care","jagi","Z"],"not_rendered":{"charts":0,"images":0,"macros":1,"external_links":1,"defined_names":2,"comments":0,"pivot_tables":0},"unopened":[],"bounds":{"document_bytes":16777216,"sheet_cells":100000,"rows_first":2000,"rows_last":500,"rows_between":2000,"halvings":0,"cell_chars":16384,"cell_head_chars":4096},"cells_cut":0,"cells_raw":0,"read":"whole","date_system":"1900"}

{"sheet":"Račun","index":0,"n_rows":8,"n_cols":41,"rows_kept":8,"cut":false,"hidden":false,"merged":[[2,8,2,9],[2,12,2,13],[2,10,2,11]]}
["masa",1000]
["osnova",100]
[null,null,null,null,null,null,null,null,"Lista",null,"2010-04-01",null,"Na dan",null,"2010-05-08"]
[]
["Vrsta","faktura","cijana","porez","Koeficijent ","iznos dev","šećer","ukupno","dio","sveukupno","celuloza","ukupno","dio","sveukupno","Vitamini","ukupno","dio","sveukupno","Minerali","ukupno","dio","sveukupno","soli","ukupno","dio","sveukupno","bjelančevine","ukupno","dio","sveukupno","Masnoće","ukupno","dio","sveukupno","Proteini","ukupno","dio","sveukupno","Suma I","Suma II","Suma III"]
["bonta",52,11,21,{"$f":"C6/600","v":1.8333333333333333E-2},{"$f":"D6/600/0.5%/E6","v":381.81818181818187},{"$f":"osnova-K6-O6-S6","v":88},{"$f":"masa*$E6/osnova*G6","v":16.133333333333333},{"$f":"Dio(masa,$E6,osnova,$F6,H6)","v":70.080666666666673},{"$f":"H6+I6","v":86.213999999999999},3,{"$f":"masa*$E6/osnova*K6","v":0.54999999999999993},{"$f":"Dio(masa,$E6,osnova,$F6,L6)","v":70.002750000000006},{"$f":"L6+M6","v":70.552750000000003},8,{"$f":"masa*$E6/osnova*O6","v":1.4666666666666666},{"$f":"Dio(masa,$E6,osnova,N6,P6)","v":12.942004166666667},{"$f":"P6+Q6","v":14.408670833333334},1,{"$f":"masa*$E6/osnova*S6","v":0.18333333333333332},{"$f":"Dio(masa,$E6,osnova,R6,T6)","v":2.6425063194444443},{"$f":"T6+U6","v":2.8258396527777774},10,{"$f":"masa*$E6/osnova*W6","v":1.8333333333333333},{"$f":"Dio(masa,$E6,osnova,V6,X6)","v":0.52723726967592577},{"$f":"X6+Y6","v":2.360570603009259},3,{"$f":"masa*$E6/osnova*AA6","v":0.54999999999999993},{"$f":"Dio(masa,$E6,osnova,Z6,AB6)","v":0.43552127721836409},{"$f":"AB6+AC6","v":0.98552127721836402},40,{"$f":"masa*$E6/osnova*AE6","v":7.333333333333333},{"$f":"Dio(masa,$E6,osnova,AD6,AF6)","v":0.21734556749003336},{"$f":"AF6+AG6","v":7.5506789008233666},null,{"$f":"masa*$E6/osnova*AI6","v":0},{"$f":"Dio(masa,$E6,osnova,AH6,AJ6)","v":1.3842911318176172},{"$f":"AJ6+AK6","v":1.3842911318176172},{"$f":"L6+P6+T6+X6+AB6+AF6+AJ6+H6","v":28.049999999999997},{"$f":"M6+Q6+U6+Y6+AC6+AG6+AK6+I6","v":158.23232239897973},186.28232239897972]
["jagi",68,15,25,2.5000000000000001E-2,333.33333333333326,{"$f":"osnova-K7-O7-S7","v":92},{"$f":"masa*$E7/osnova*G7","v":23},{"$f":"Dio(masa,$E7,osnova,F7,H7)","v":83.448333333333309},{"$f":"H7+I7","v":106.44833333333331},null,{"$f":"masa*$E7/osnova*K7","v":0},0,0,8,{"$f":"masa*$E7/osnova*O7","v":2},{"$f":"Dio(masa,$E7,osnova,N7,P7)","v":0.01},2.0099999999999998,null,{"$f":"masa*$E7/osnova*S7","v":0},0,0,null,{"$f":"masa*$E7/osnova*W7","v":0},{"$f":"Dio(masa,$E7,osnova,V7,X7)","v":0},0,null,{"$f":"masa*$E7/osnova*AA7","v":0},{"$f":"Dio(masa,$E7,osnova,Z7,AB7)","v":0},0,40,{"$f":"masa*$E7/osnova*AE7","v":10},{"$f":"Dio(masa,$E7,osnova,AD7,AF7)","v":0.05},10.050000000000001,1,{"$f":"masa*$E7/osnova*AI7","v":0.25},{"$f":"Dio(masa,$E7,osnova,AH7,AJ7)","v":2.5137500000000004},2.7637500000000004,{"$f":"L7+P7+T7+X7+AB7+AF7+AJ7+H7","v":35.25},86.022083333333313,121.27208333333331]
["care",30,20,24,3.3333333333333333E-2,240,{"$f":"osnova-K8-O8-S8","v":84},{"$f":"masa*$E8/osnova*G8","v":28.000000000000004},{"$f":"Dio(masa,$E8,osnova,F8,H8)","v":80.140000000000015},108.14000000000001,8,{"$f":"masa*$E8/osnova*K8","v":2.666666666666667},{"$f":"Dio(masa,$E8,osnova,J8,L8)","v":36.060000000000009},38.726666666666674,8,{"$f":"masa*$E8/osnova*O8","v":2.666666666666667},{"$f":"Dio(masa,$E8,osnova,N8,P8)","v":12.922222222222226},15.588888888888892,null,{"$f":"masa*$E8/osnova*S8","v":0},0,0,null,{"$f":"masa*$E8/osnova*W8","v":0},0,0,null,{"$f":"masa*$E8/osnova*AA8","v":0},{"$f":"Dio(masa,$E8,osnova,Z8,AB8)","v":0},0,null,{"$f":"masa*$E8/osnova*AE8","v":0},{"$f":"Dio(masa,$E8,osnova,AD8,AF8)","v":0},0,0.2,{"$f":"masa*$E8/osnova*AI8","v":6.666666666666668E-2},{"$f":"Dio(masa,$E8,osnova,AH8,AJ8)","v":3.3333333333333338E-4},6.7000000000000018E-2,33.400000000000006,129.12255555555558,162.52255555555558]

{"sheet":"rekapitulacija","index":1,"n_rows":35,"n_cols":7,"rows_kept":35,"cut":false,"hidden":false,"merged":[[5,0,5,1],[5,4,5,5],[34,0,34,6]]}
[]
[]
[{"$f":"Račun!B6","v":52},{"$f":"Račun!A6","v":"bonta"}]
[]
[]
[{"$f":"Račun!I3","v":"Lista"},null,{"$f":"Račun!K3","v":"2010-04-01"},null,{"$f":"Račun!M3","v":"Na dan"},null,{"$f":"Račun!O3","v":"2010-05-08"}]
[]
[]
[]
[]
[]
[]
[]
[]
[{"$f":"Račun!A5","v":"Vrsta"},null,null,null,null,"Količina",{"$f":"'[1]Rekapitulacija listića'!$G$14","v":"IZNOS"}]
[]
[{"$f":"Račun!G5","v":"šećer"},null,null,null,null,{"$f":"SUM(A:Z!F17)","v":264},{"$f":"SUM(A:Z!G17)","v":300.80233333333331}]
[{"$f":"Račun!K5","v":"celuloza"},null,null,null,null,{"$f":"SUM(A:Z!F18)","v":11},{"$f":"SUM(A:Z!G18)","v":109.27941666666668}]
[{"$f":"Račun!O5","v":"Vitamini"},null,null,null,null,{"$f":"SUM(A:Z!F19)","v":24},{"$f":"SUM(A:Z!G19)","v":32.007559722222226}]
[{"$f":"Račun!S5","v":"Minerali"},null,null,null,null,{"$f":"SUM(A:Z!F20)","v":2.6425063194444443},{"$f":"SUM(A:Z!G20)","v":2.8258396527777774}]
[{"$f":"Račun!W5","v":"soli"},null,null,null,null,{"$f":"SUM(A:Z!F21)","v":10},{"$f":"SUM(A:Z!G21)","v":2.360570603009259}]
[{"$f":"Račun!AA5","v":"bjelančevine"},null,null,null,null,{"$f":"SUM(A:Z!F22)","v":3},{"$f":"SUM(A:Z!G22)","v":0.98552127721836402}]
[{"$f":"Račun!AE5","v":"Masnoće"},null,null,null,null,{"$f":"SUM(A:Z!F23)","v":80},{"$f":"SUM(A:Z!G23)","v":17.600678900823368}]
[{"$f":"Račun!AI5","v":"Proteini"},null,null,null,null,{"$f":"SUM(A:Z!F24)","v":1.2},{"$f":"SUM(A:Z!G24)","v":0.31666666666666665}]
["Ostalo",null,null,null,null,{"$f":"SUM(A:Z!F25)","v":264},{"$f":"SUM(A:Z!G25)","v":0}]
["Masa",null,null,null,null,{"$f":"SUM(A:Z!F26)","v":264},{"$f":"SUM(A:Z!G26)","v":67.13333333333334}]
["Osnova"]
["Stimulansi"]
[{"$f":"'[1]Bruto s bolovanjem'!$AY$30","v":"Dodatak"}]
[]
["Ukupni bruto iznos",null,null,null,null,{"$f":"SUM(F26,F24,F23,F20,F19,F18,F17)","v":646.84250631944451},{"$f":"SUM(G26,G24,G23,G20,G17)","v":388.67885188693447}]
[]
[]
[]
[{"$f":"'[1]Rekapitulacija listića'!A34","v":"Poštovani,\n"}]

{"sheet":"A","index":2,"n_rows":0,"n_cols":0,"rows_kept":0,"cut":false,"hidden":false,"merged":[]}

{"sheet":"bonta","index":3,"n_rows":35,"n_cols":7,"rows_kept":35,"cut":false,"hidden":false,"merged":[[5,0,5,1],[5,4,5,5],[34,0,34,6]]}
[]
[]
[{"$f":"Račun!B6","v":52},{"$f":"Račun!A6","v":"bonta"}]
[]
[]
[{"$f":"Račun!I3","v":"Lista"},null,{"$f":"Račun!K3","v":"2010-04-01"},null,{"$f":"Račun!M3","v":"Na dan"},null,{"$f":"Račun!O3","v":"2010-05-08"}]
[]
[]
[]
[]
[]
[]
[]
[]
[{"$f":"Račun!A5","v":"Vrsta"},null,null,null,null,"Količina",{"$f":"'[1]Rekapitulacija listića'!$G$14","v":"IZNOS"}]
[]
[{"$f":"Račun!G5","v":"šećer"},null,null,null,null,{"$f":"Račun!G$6","v":88},{"$f":"Račun!J$6","v":86.213999999999999}]
[{"$f":"Račun!K5","v":"celuloza"},null,null,null,null,{"$f":"Račun!K$6","v":3},{"$f":"Račun!N$6","v":70.552750000000003}]
[{"$f":"Račun!O5","v":"Vitamini"},null,null,null,null,{"$f":"Račun!O$6","v":8},{"$f":"Račun!R$6","v":14.408670833333334}]
[{"$f":"Račun!S5","v":"Minerali"},null,null,null,null,{"$f":"Račun!U$6","v":2.6425063194444443},{"$f":"Račun!V$6","v":2.8258396527777774}]
[{"$f":"Račun!W5","v":"soli"},null,null,null,null,{"$f":"Račun!W$6","v":10},{"$f":"Račun!Z$6","v":2.360570603009259}]
[{"$f":"Račun!AA5","v":"bjelančevine"},null,null,null,null,{"$f":"Račun!AA$6","v":3},{"$f":"Račun!AD$6","v":0.98552127721836402}]
[{"$f":"Račun!AE5","v":"Masnoće"},null,null,null,null,{"$f":"Račun!AE$6","v":40},{"$f":"Račun!AH$6","v":7.5506789008233666}]
[{"$f":"Račun!AI5","v":"Proteini"},null,null,null,null,{"$f":"Račun!AI$6","v":0},{"$f":"Račun!AJ$6","v":0}]
["Ostalo",null,null,null,null,{"$f":"Račun!G$6","v":88},0]
["Masa",null,null,null,null,{"$f":"Račun!G$6","v":88},{"$f":"Račun!H$6","v":16.133333333333333}]
["Osnova"]
["Stimulansi"]
[{"$f":"'[1]Bruto s bolovanjem'!$AY$30","v":"Dodatak"}]
[]
["Ukupni bruto iznos",null,null,null,null,{"$f":"SUM(F26,F24,F23,F20,F19,F18,F17)","v":229.64250631944444},{"$f":"SUM(G26,G24,G23,G20,G17)","v":112.72385188693448}]
[]
[]
[]
[{"$f":"'[1]Rekapitulacija listića'!A34","v":"Poštovani,\n"}]

{"sheet":"care","index":4,"n_rows":35,"n_cols":7,"rows_kept":35,"cut":false,"hidden":false,"merged":[[5,0,5,1],[5,4,5,5],[34,0,34,6]]}
[]
[]
[{"$f":"Račun!B$8","v":30},{"$f":"Račun!A$8","v":"care"}]
[]
[]
[{"$f":"Račun!I3","v":"Lista"},null,{"$f":"Račun!K3","v":"2010-04-01"},null,{"$f":"Račun!M3","v":"Na dan"},null,{"$f":"Račun!O3","v":"2010-05-08"}]
[]
[]
[]
[]
[]
[]
[]
[]
[{"$f":"Račun!A5","v":"Vrsta"},null,null,null,null,"Količina",{"$f":"'[1]Rekapitulacija listića'!$G$14","v":"IZNOS"}]
[]
[{"$f":"Račun!G5","v":"šećer"},null,null,null,null,{"$f":"Račun!G$8","v":84},{"$f":"Račun!J$8","v":108.14000000000001}]
[{"$f":"Račun!K5","v":"celuloza"},null,null,null,null,{"$f":"Račun!K$8","v":8},{"$f":"Račun!N$8","v":38.726666666666674}]
[{"$f":"Račun!O5","v":"Vitamini"},null,null,null,null,{"$f":"Račun!O$8","v":8},{"$f":"Račun!R$8","v":15.588888888888892}]
[{"$f":"Račun!S5","v":"Minerali"},null,null,null,null,{"$f":"Račun!U$8","v":0},{"$f":"Račun!V$8","v":0}]
[{"$f":"Račun!W5","v":"soli"},null,null,null,null,{"$f":"Račun!W$8","v":0},{"$f":"Račun!Z$8","v":0}]
[{"$f":"Račun!AA5","v":"bjelančevine"},null,null,null,null,{"$f":"Račun!AA$8","v":0},{"$f":"Račun!AD$8","v":0}]
[{"$f":"Račun!AE5","v":"Masnoće"},null,null,null,null,{"$f":"Račun!AE$8","v":0},{"$f":"Račun!AH$8","v":0}]
[{"$f":"Račun!AI5","v":"Proteini"},null,null,null,null,{"$f":"Račun!AI$8","v":0.2},{"$f":"Račun!AJ$8","v":6.666666666666668E-2}]
["Ostalo",null,null,null,null,{"$f":"Račun!G$8","v":84},0]
["Masa",null,null,null,null,{"$f":"Račun!G$8","v":84},{"$f":"Račun!H$8","v":28.000000000000004}]
["Osnova"]
["Stimulansi"]
[{"$f":"'[1]Bruto s bolovanjem'!$AY$30","v":"Dodatak"}]
[]
["Ukupni bruto iznos",null,null,null,null,{"$f":"SUM(F26,F24,F23,F20,F19,F18,F17)","v":184.2},{"$f":"SUM(G26,G24,G23,G20,G17)","v":136.20666666666668}]
[]
[]
[]
[{"$f":"'[1]Rekapitulacija listića'!A34","v":"Poštovani,\n"}]

{"sheet":"jagi","index":5,"n_rows":35,"n_cols":7,"rows_kept":35,"cut":false,"hidden":false,"merged":[[5,0,5,1],[5,4,5,5],[34,0,34,6]]}
[]
[]
[{"$f":"Račun!B$7","v":68},{"$f":"Račun!A$7","v":"jagi"}]
[]
[]
[{"$f":"Račun!I3","v":"Lista"},null,{"$f":"Račun!K3","v":"2010-04-01"},null,{"$f":"Račun!M3","v":"Na dan"},null,{"$f":"Račun!O3","v":"2010-05-08"}]
[]
[]
[]
[]
[]
[]
[]
[]
[{"$f":"Račun!A5","v":"Vrsta"},null,null,null,null,"Količina",{"$f":"'[1]Rekapitulacija listića'!$G$14","v":"IZNOS"}]
[]
[{"$f":"Račun!G5","v":"šećer"},null,null,null,null,{"$f":"Račun!G$7","v":92},{"$f":"Račun!J$7","v":106.44833333333331}]
[{"$f":"Račun!K5","v":"celuloza"},null,null,null,null,{"$f":"Račun!K$7","v":0},{"$f":"Račun!N$7","v":0}]
[{"$f":"Račun!O5","v":"Vitamini"},null,null,null,null,{"$f":"Račun!O$7","v":8},{"$f":"Račun!R$7","v":2.0099999999999998}]
[{"$f":"Račun!S5","v":"Minerali"},null,null,null,null,{"$f":"Račun!U$7","v":0},{"$f":"Račun!V$7","v":0}]
[{"$f":"Račun!W5","v":"soli"},null,null,null,null,{"$f":"Račun!W$7","v":0},{"$f":"Račun!Z$7","v":0}]
[{"$f":"Račun!AA5","v":"bjelančevine"},null,null,null,null,{"$f":"Račun!AA$7","v":0},{"$f":"Račun!AD$7","v":0}]
[{"$f":"Račun!AE5","v":"Masnoće"},null,null,null,null,{"$f":"Račun!AE$7","v":40},{"$f":"Račun!AH$7","v":10.050000000000001}]
[{"$f":"Račun!AI5","v":"Proteini"},null,null,null,null,{"$f":"Račun!AI$7","v":1},{"$f":"Račun!AJ$7","v":0.25}]
["Ostalo",null,null,null,null,{"$f":"Račun!G$7","v":92},0]
["Masa",null,null,null,null,{"$f":"Račun!G$7","v":92},{"$f":"Račun!H$7","v":23}]
["Osnova"]
["Stimulansi"]
[{"$f":"'[1]Bruto s bolovanjem'!$AY$30","v":"Dodatak"}]
[]
["Ukupni bruto iznos",null,null,null,null,{"$f":"SUM(F26,F24,F23,F20,F19,F18,F17)","v":233},{"$f":"SUM(G26,G24,G23,G20,G17)","v":139.74833333333331}]
[]
[]
[]
[{"$f":"'[1]Rekapitulacija listića'!A34","v":"Poštovani,\n"}]

{"sheet":"Z","index":6,"n_rows":0,"n_cols":0,"rows_kept":0,"cut":false,"hidden":false,"merged":[]}