{"text_format":"1","workbook":"xlsx","n_sheets":1,"sheets":["Racun-FAKTURA"],"not_rendered":{"charts":0,"images":0,"macros":0,"external_links":0,"defined_names":0,"comments":0,"pivot_tables":0},"unopened":[],"bounds":{"document_bytes":16777216,"sheet_cells":100000,"rows_first":2000,"rows_last":500,"rows_between":2000,"halvings":0,"cell_chars":16384,"cell_head_chars":4096},"cells_cut":0,"cells_raw":0,"read":"whole","date_system":"1900"}

{"sheet":"Racun-FAKTURA","index":0,"n_rows":50,"n_cols":11,"rows_kept":50,"cut":false,"hidden":false,"merged":[[38,2,38,4],[39,2,39,4],[40,2,40,4],[26,2,26,4],[31,2,31,4],[32,2,32,4],[33,2,33,4],[34,2,34,4],[21,2,21,4],[22,2,22,4],[23,2,23,4],[24,2,24,4],[25,2,25,4],[56,0,56,3],[27,2,27,4],[28,2,28,4],[29,2,29,4],[47,4,47,10],[53,0,53,3],[53,7,53,10],[52,7,52,10],[41,2,41,4],[30,2,30,4],[35,2,35,4],[42,2,42,4],[43,2,43,4],[44,2,44,4],[36,2,36,4],[37,2,37,4],[16,2,16,3],[15,2,15,3],[14,2,14,6],[13,2,13,6],[5,7,5,8]]}
[]
[]
[null,"Adresa: "]
[null,"Tel: ",null,null,null,null,null,null,"Datum:",{"$f":"TODAY()","v":"2009-08-10"}]
[null,"PIB: ",null,null,"Matični broj: "]
[null,"Žiro račun: ",null,null,null,null,null,"            Rok isporuke:"]
[null,"e-mail: "]
[]
[]
[]
[null,null,"FAKTURA  01/09"]
[]
[null,"KUPAC"]
[null,"Naziv firme:",{"$f":"IF(C16<>\"\",VLOOKUP(C16,#REF!,2,FALSE),\"\")","v":""}]
[null,"Adresa:",{"$f":"IF(C16<>\"\",VLOOKUP(C16,#REF!,3,FALSE),\"\")","v":""}]
[null,"PIB:"]
[null,"Tel.",{"$f":"VLOOKUP(C16,#REF!,4,FALSE)","v":{"$error":"#REF!"}}]
[]
[]
["R.Br.","Sifra","Naziv artikla",null,null,"Kolicina","JM","Cena bez ","Poreska","PDV","Vrednost sa"]
[null,null,null,null,null,null,null,"poreza","stopa","iznos","porezom"]
[1,"PK-32cm",{"$f":"IF(B22<>\"\",VLOOKUP(B22,#REF!,2,FALSE),\"\")","v":{"$error":"#REF!"}},null,null,100,{"$f":"VLOOKUP(B22,#REF!,4,FALSE)","v":{"$error":"#REF!"}},{"$f":"IF(B22<>\"\",VLOOKUP(B22,#REF!,5,FALSE),\"\")","v":{"$error":"#REF!"}},{"$f":"IF(B22<>\"\",VLOOKUP(B22,#REF!,7,FALSE),\"\")","v":{"$error":"#REF!"}},{"$f":"IF(B22<>\"\",F22*H22*I22,\"\")","v":{"$error":"#REF!"}},{"$f":"IF(B22<>\"\",(F22*H22)+(F22*H22*I22),\"\")","v":{"$error":"#REF!"}}]
[{"$f":"IF(B23<>\"\",A22+1,\"\")","v":2},"PVC FOL",{"$f":"IF(B23<>\"\",VLOOKUP(B23,#REF!,2,FALSE),\"\")","v":{"$error":"#REF!"}},null,null,1,{"$f":"IF(B23<>\"\",VLOOKUP(B23,#REF!,4,FALSE),\"\")","v":{"$error":"#REF!"}},{"$f":"IF(B23<>\"\",VLOOKUP(B23,#REF!,5,FALSE),\"\")","v":{"$error":"#REF!"}},{"$f":"IF(B23<>\"\",VLOOKUP(B23,#REF!,7,FALSE),\"\")","v":{"$error":"#REF!"}},{"$f":"IF(B23<>\"\",F23*H23*I23,\"\")","v":{"$error":"#REF!"}},{"$f":"IF(B23<>\"\",(F23*H23)+(F23*H23*I23),\"\")","v":{"$error":"#REF!"}}]
[{"$f":"IF(B24<>\"\",A23+1,\"\")","v":3},"PZP",{"$f":"IF(B24<>\"\",VLOOKUP(B24,#REF!,2,FALSE),\"\")","v":{"$error":"#REF!"}},null,null,500,{"$f":"IF(B24<>\"\",VLOOKUP(B24,#REF!,4,FALSE),\"\")","v":{"$error":"#REF!"}},{"$f":"IF(B24<>\"\",VLOOKUP(B24,#REF!,5,FALSE),\"\")","v":{"$error":"#REF!"}},{"$f":"IF(B24<>\"\",VLOOKUP(B24,#REF!,7,FALSE),\"\")","v":{"$error":"#REF!"}},{"$error":"#REF!"},{"$error":"#REF!"}]
[4,"VZS-120L",{"$f":"IF(B25<>\"\",VLOOKUP(B25,#REF!,2,FALSE),\"\")","v":{"$error":"#REF!"}},null,null,10,{"$f":"IF(B25<>\"\",VLOOKUP(B25,#REF!,4,FALSE),\"\")","v":{"$error":"#REF!"}},{"$f":"IF(B25<>\"\",VLOOKUP(B25,#REF!,5,FALSE),\"\")","v":{"$error":"#REF!"}},{"$f":"IF(B25<>\"\",VLOOKUP(B25,#REF!,7,FALSE),\"\")","v":{"$error":"#REF!"}},{"$error":"#REF!"},{"$error":"#REF!"}]
["",null,{"$f":"IF(B26<>\"\",VLOOKUP(B26,#REF!,2,FALSE),\"\")","v":""},null,null,null,{"$f":"IF(B26<>\"\",VLOOKUP(B26,#REF!,4,FALSE),\"\")","v":""},{"$f":"IF(B26<>\"\",VLOOKUP(B26,#REF!,5,FALSE),\"\")","v":""},{"$f":"IF(B26<>\"\",VLOOKUP(B26,#REF!,7,FALSE),\"\")","v":""},"",""]
["",null,{"$f":"IF(B27<>\"\",VLOOKUP(B27,#REF!,2,FALSE),\"\")","v":""},null,null,null,{"$f":"IF(B27<>\"\",VLOOKUP(B27,#REF!,4,FALSE),\"\")","v":""},{"$f":"IF(B27<>\"\",VLOOKUP(B27,#REF!,5,FALSE),\"\")","v":""},{"$f":"IF(B27<>\"\",VLOOKUP(B27,#REF!,7,FALSE),\"\")","v":""},"",""]
["",null,{"$f":"IF(B28<>\"\",VLOOKUP(B28,#REF!,2,FALSE),\"\")","v":""},null,null,null,{"$f":"IF(B28<>\"\",VLOOKUP(B28,#REF!,4,FALSE),\"\")","v":""},{"$f":"IF(B28<>\"\",VLOOKUP(B28,#REF!,5,FALSE),\"\")","v":""},{"$f":"IF(B28<>\"\",VLOOKUP(B28,#REF!,7,FALSE),\"\")","v":""},"",""]
["",null,{"$f":"IF(B29<>\"\",VLOOKUP(B29,#REF!,2,FALSE),\"\")","v":""},null,null,null,{"$f":"IF(B29<>\"\",VLOOKUP(B29,#REF!,4,FALSE),\"\")","v":""},{"$f":"IF(B29<>\"\",VLOOKUP(B29,#REF!,5,FALSE),\"\")","v":""},{"$f":"IF(B29<>\"\",VLOOKUP(B29,#REF!,7,FALSE),\"\")","v":""},"",""]
["",null,{"$f":"IF(B30<>\"\",VLOOKUP(B30,#REF!,2,FALSE),\"\")","v":""},null,null,null,{"$f":"IF(B30<>\"\",VLOOKUP(B30,#REF!,4,FALSE),\"\")","v":""},{"$f":"IF(B30<>\"\",VLOOKUP(B30,#REF!,5,FALSE),\"\")","v":""},{"$f":"IF(B30<>\"\",VLOOKUP(B30,#REF!,7,FALSE),\"\")","v":""},"",""]
["",null,{"$f":"IF(B31<>\"\",VLOOKUP(B31,#REF!,2,FALSE),\"\")","v":""},null,null,null,{"$f":"IF(B31<>\"\",VLOOKUP(B31,#REF!,4,FALSE),\"\")","v":""},{"$f":"IF(B31<>\"\",VLOOKUP(B31,#REF!,5,FALSE),\"\")","v":""},{"$f":"IF(B31<>\"\",VLOOKUP(B31,#REF!,7,FALSE),\"\")","v":""},"",""]
["",null,{"$f":"IF(B32<>\"\",VLOOKUP(B32,#REF!,2,FALSE),\"\")","v":""},null,null,null,{"$f":"IF(B32<>\"\",VLOOKUP(B32,#REF!,4,FALSE),\"\")","v":""},{"$f":"IF(B32<>\"\",VLOOKUP(B32,#REF!,5,FALSE),\"\")","v":""},{"$f":"IF(B32<>\"\",VLOOKUP(B32,#REF!,7,FALSE),\"\")","v":""},"",""]
["",null,{"$f":"IF(B33<>\"\",VLOOKUP(B33,#REF!,2,FALSE),\"\")","v":""},null,null,null,{"$f":"IF(B33<>\"\",VLOOKUP(B33,#REF!,4,FALSE),\"\")","v":""},{"$f":"IF(B33<>\"\",VLOOKUP(B33,#REF!,5,FALSE),\"\")","v":""},{"$f":"IF(B33<>\"\",VLOOKUP(B33,#REF!,7,FALSE),\"\")","v":""},"",""]
["",null,{"$f":"IF(B34<>\"\",VLOOKUP(B34,#REF!,2,FALSE),\"\")","v":""},null,null,null,{"$f":"IF(B34<>\"\",VLOOKUP(B34,#REF!,4,FALSE),\"\")","v":""},{"$f":"IF(B34<>\"\",VLOOKUP(B34,#REF!,5,FALSE),\"\")","v":""},{"$f":"IF(B34<>\"\",VLOOKUP(B34,#REF!,7,FALSE),\"\")","v":""},"",""]
["",null,{"$f":"IF(B35<>\"\",VLOOKUP(B35,#REF!,2,FALSE),\"\")","v":""},null,null,null,{"$f":"IF(B35<>\"\",VLOOKUP(B35,#REF!,4,FALSE),\"\")","v":""},{"$f":"IF(B35<>\"\",VLOOKUP(B35,#REF!,5,FALSE),\"\")","v":""},{"$f":"IF(B35<>\"\",VLOOKUP(B35,#REF!,7,FALSE),\"\")","v":""},"",""]
["",null,{"$f":"IF(B36<>\"\",VLOOKUP(B36,#REF!,2,FALSE),\"\")","v":""},null,null,null,{"$f":"IF(B36<>\"\",VLOOKUP(B36,#REF!,4,FALSE),\"\")","v":""},{"$f":"IF(B36<>\"\",VLOOKUP(B36,#REF!,5,FALSE),\"\")","v":""},{"$f":"IF(B36<>\"\",VLOOKUP(B36,#REF!,7,FALSE),\"\")","v":""},"",""]
["",null,{"$f":"IF(B37<>\"\",VLOOKUP(B37,#REF!,2,FALSE),\"\")","v":""},null,null,null,{"$f":"IF(B37<>\"\",VLOOKUP(B37,#REF!,4,FALSE),\"\")","v":""},{"$f":"IF(B37<>\"\",VLOOKUP(B37,#REF!,5,FALSE),\"\")","v":""},{"$f":"IF(B37<>\"\",VLOOKUP(B37,#REF!,7,FALSE),\"\")","v":""},"",""]
["",null,{"$f":"IF(B38<>\"\",VLOOKUP(B38,#REF!,2,FALSE),\"\")","v":""},null,null,null,{"$f":"IF(B38<>\"\",VLOOKUP(B38,#REF!,4,FALSE),\"\")","v":""},{"$f":"IF(B38<>\"\",VLOOKUP(B38,#REF!,5,FALSE),\"\")","v":""},{"$f":"IF(B38<>\"\",VLOOKUP(B38,#REF!,7,FALSE),\"\")","v":""},"",""]
["",null,{"$f":"IF(B39<>\"\",VLOOKUP(B39,#REF!,2,FALSE),\"\")","v":""},null,null,null,{"$f":"IF(B39<>\"\",VLOOKUP(B39,#REF!,4,FALSE),\"\")","v":""},{"$f":"IF(B39<>\"\",VLOOKUP(B39,#REF!,5,FALSE),\"\")","v":""},{"$f":"IF(B39<>\"\",VLOOKUP(B39,#REF!,7,FALSE),\"\")","v":""},"",""]
["",null,{"$f":"IF(B40<>\"\",VLOOKUP(B40,#REF!,2,FALSE),\"\")","v":""},null,null,null,{"$f":"IF(B40<>\"\",VLOOKUP(B40,#REF!,4,FALSE),\"\")","v":""},{"$f":"IF(B40<>\"\",VLOOKUP(B40,#REF!,5,FALSE),\"\")","v":""},{"$f":"IF(B40<>\"\",VLOOKUP(B40,#REF!,7,FALSE),\"\")","v":""},"",""]
["",null,{"$f":"IF(B41<>\"\",VLOOKUP(B41,#REF!,2,FALSE),\"\")","v":""},null,null,null,{"$f":"IF(B41<>\"\",VLOOKUP(B41,#REF!,4,FALSE),\"\")","v":""},{"$f":"IF(B41<>\"\",VLOOKUP(B41,#REF!,5,FALSE),\"\")","v":""},{"$f":"IF(B41<>\"\",VLOOKUP(B41,#REF!,7,FALSE),\"\")","v":""},"",""]
["",null,{"$f":"IF(B42<>\"\",VLOOKUP(B42,#REF!,2,FALSE),\"\")","v":""},null,null,null,{"$f":"IF(B42<>\"\",VLOOKUP(B42,#REF!,4,FALSE),\"\")","v":""},{"$f":"IF(B42<>\"\",VLOOKUP(B42,#REF!,5,FALSE),\"\")","v":""},{"$f":"IF(B42<>\"\",VLOOKUP(B42,#REF!,7,FALSE),\"\")","v":""},"",""]
["",null,{"$f":"IF(B43<>\"\",VLOOKUP(B43,#REF!,2,FALSE),\"\")","v":""},null,null,null,{"$f":"IF(B43<>\"\",VLOOKUP(B43,#REF!,4,FALSE),\"\")","v":""},{"$f":"IF(B43<>\"\",VLOOKUP(B43,#REF!,5,FALSE),\"\")","v":""},{"$f":"IF(B43<>\"\",VLOOKUP(B43,#REF!,7,FALSE),\"\")","v":""},"",""]
["",null,{"$f":"IF(B44<>\"\",VLOOKUP(B44,#REF!,2,FALSE),\"\")","v":""},null,null,null,{"$f":"IF(B44<>\"\",VLOOKUP(B44,#REF!,4,FALSE),\"\")","v":""},{"$f":"IF(B44<>\"\",VLOOKUP(B44,#REF!,5,FALSE),\"\")","v":""},{"$f":"IF(B44<>\"\",VLOOKUP(B44,#REF!,7,FALSE),\"\")","v":""},"",""]
[{"$f":"IF(B45<>\"\",A44+14,\"\")","v":""},null,"UKUPNO:",null,null,null,null,{"$f":"SUM(H22:H44)","v":{"$error":"#REF!"}},{"$f":"IF(B45<>\"\",VLOOKUP(B45,#REF!,7,FALSE),\"\")","v":""},{"$f":"SUM(J22:J44)","v":{"$error":"#REF!"}},4589]
[""]
[""]
["",null,null,"Slovima:",{"$f":"slovima(K45)","v":{"$error":"#NAME?"}}]
[""]
[null,"Ja zelim da mi u K45 ispise gore navedeni broj! Kao sto se moze videti pozvao sam skinutu fukciju ali nece da radi!"]